Workbook

Sheet Inspectierapport
B2: OBJECTCODE + OBJECTNAAM
B3: Vers | D3: Versie 3.0
B4: Opgesteld door
B5: Versiebeheer
B6: Status
B8: Objectdeel | C8: Element | D8: Bouwdelen | E8: Locatie | F8: Bouwjaar | G8: beoogde restlevesnduur | H8: Voorstudie | I8: Bron | J8: Bevinding | K8: Gebrek | L8: Ernst | M8: Intensiteit | N8: Omvang | O8: Onderbouwing omvang | P8: Conditie | Q8: Tekeningnummer | R8: Fotonummer | S8: Schadenummer | T8: Risico | U8: Oorzaak | V8: Gevolg | X8: R | Y8: A | Z8: M | AA8: S | AC8: Maatregel | AD8: Maatregelnr. | AE8: Adviesjaar | AF8: Uiterst jaar | AG8: Kosten | AH8: Variabel/Vast | AI8: Theoretisch Restlevensduur | AJ8: Actuele restlevensduur voor onderhoud | AL8: R | AM8: A | AN8: M | AO8: S | AQ8: 2023 | AR8: =AQ8+1 -> 2024 | AS8: =AR8+1 -> 2025 | AT8: =AS8+1 -> 2026 | AU8: =AT8+1 -> 2027 | AV8: =AU8+1 -> 2028 | AW8: =AV8+1 -> 2029 | AX8: =AW8+1 -> 2030 | AY8: =AX8+1 -> 2031 | ... BA8: =AZ8+1 -> 2033 | BB8: Totaal
B9: Algemeen | F9: Inspectieresultaten | T9: Risico-analyse | AC9: Maatregelen | AQ9: Onderhoudsprogramma
B10: A | C10: A | D10: A | E10: A | F10: B | G10: B | H10: C | I10: C | J10: D | K10: E | L10: E | M10: E | N10: E | P10: F | Q10: G | R10: G | S10: G | X10: 0.5 | Y10: 1 | Z10: 1.5 | AA10: 1 | AB10: J | AC10: K | AD10: K | AE10: L | AF10: L | AG10: M | AH10: M | AI10: N | AL10: 0.5 | AM10: 1 | AN10: 1.5 | AO10: 1 | AP10: O | AQ10: =SUM(AQ11:AQ73) -> 0 | AR10: =SUM(AR11:AR73) -> 0 | AS10: =SUM(AS11:AS73) -> 0 | AT10: =SUM(AT11:AT73) -> 0 | AU10: =SUM(AU11:AU73) -> 0 | AV10: =SUM(AV11:AV73) -> 0 | AW10: =SUM(AW11:AW73) -> 0 | AX10: =SUM(AX11:AX73) -> 0 | ... BA10: =SUM(BA11:BA73) -> 0 | BB10: =SUM(AQ10:BA10) -> 0
A11: 1 | B11: 1 | P11: =IF(K11="",1,VLOOKUP(_xlfn.CONCAT(L11:M11),Invoervelden!$C$105:$H$114,IF(N11=Invoervelden!$D$105,2,IF(N11=Invoervelden!$E$105,3,IF(N11=Invoervelden!$F$105,4,IF(N11=Invoervelden!$G$105,5,6)))))) -> 1 | W11: 1 | X11: 1 | Y11: 1 | Z11: 1 | AA11: 1 | AB11: =W11*SUM(X11*X$10+ Y11*Y$10+Z11*Z$10+AA11*AA$10) -> 4 | AG11: =IF(AD11="","",VLOOKUP(AD11,#REF!,3,FALSE)) | AI11: =G11-(YEAR(TODAY())-F11) -> -2023 | AJ11: =IF(P11=1,G11*1,IF(P11=2,G11*0.5,IF(P11=3,G11*0.25,IF(P11=4,G11*0.125,IF(P11=5,G11*0.0625,IF(P11-6,0)))))) -> 0 | AK11: 1 | AL11: 1 | AM11: 1 | AN11: 1 | AO11: 1 | AP11: =AK11*SUM(AL11*AL$10+AM11*AM$10+AN11*AN$10+AO11*AO$10) -> 4 | AQ11: =IF($AE11=AQ$8,$AG11,"") | AR11: =IF($AE11=AR$8,$AG11,"") | AS11: =IF($AE11=AS$8,$AG11,"") | AT11: =IF($AE11=AT$8,$AG11,"") | AU11: =IF($AE11=AU$8,$AG11,"") | AV11: =IF($AE11=AV$8,$AG11,"") | AW11: =IF($AE11=AW$8,$AG11,"") | AX11: =IF($AE11=AX$8,$AG11,"") | ... BA11: =IF($AE11=BA$8,$AG11,"")
A12: =A11+1 -> 2 | B12: 1 | P12: =IF(K12="",1,VLOOKUP(_xlfn.CONCAT(L12:M12),Invoervelden!$C$105:$H$114,IF(N12=Invoervelden!$D$105,2,IF(N12=Invoervelden!$E$105,3,IF(N12=Invoervelden!$F$105,4,IF(N12=Invoervelden!$G$105,5,6)))))) -> 1 | W12: 1 | X12: 1 | Y12: 1 | Z12: 1 | AA12: 1 | AB12: =W12*SUM(X12*X$10+ Y12*Y$10+Z12*Z$10+AA12*AA$10) -> 4 | AG12: =IF(AD12="","",VLOOKUP(AD12,#REF!,3,FALSE)) | AI12: =G12-(YEAR(TODAY())-F12) -> -2023 | AJ12: =IF(P12=1,G12*1,IF(P12=2,G12*0.5,IF(P12=3,G12*0.25,IF(P12=4,G12*0.125,IF(P12=5,G12*0.0625,IF(P12-6,0)))))) -> 0 | AK12: 1 | AL12: 1 | AM12: 1 | AN12: 1 | AO12: 1 | AP12: =AK12*SUM(AL12*AL$10+AM12*AM$10+AN12*AN$10+AO12*AO$10) -> 4 | AQ12: =IF($AE12=AQ$8,$AG12,"") | AR12: =IF($AE12=AR$8,$AG12,"") | AS12: =IF($AE12=AS$8,$AG12,"") | AT12: =IF($AE12=AT$8,$AG12,"") | AU12: =IF($AE12=AU$8,$AG12,"") | AV12: =IF($AE12=AV$8,$AG12,"") | AW12: =IF($AE12=AW$8,$AG12,"") | AX12: =IF($AE12=AX$8,$AG12,"") | ... BA12: =IF($AE12=BA$8,$AG12,"")
A13: =A12+1 -> 3 | B13: 1 | P13: =IF(K13="",1,VLOOKUP(_xlfn.CONCAT(L13:M13),Invoervelden!$C$105:$H$114,IF(N13=Invoervelden!$D$105,2,IF(N13=Invoervelden!$E$105,3,IF(N13=Invoervelden!$F$105,4,IF(N13=Invoervelden!$G$105,5,6)))))) -> 1 | W13: 1 | X13: 1 | Y13: 1 | Z13: 1 | AA13: 1 | AB13: =W13*SUM(X13*X$10+ Y13*Y$10+Z13*Z$10+AA13*AA$10) -> 4 | AG13: =IF(AD13="","",VLOOKUP(AD13,#REF!,3,FALSE)) | AI13: =G13-(YEAR(TODAY())-F13) -> -2023 | AJ13: =IF(P13=1,G13*1,IF(P13=2,G13*0.5,IF(P13=3,G13*0.25,IF(P13=4,G13*0.125,IF(P13=5,G13*0.0625,IF(P13-6,0)))))) -> 0 | AK13: 1 | AL13: 1 | AM13: 1 | AN13: 1 | AO13: 1 | AP13: =AK13*SUM(AL13*AL$10+AM13*AM$10+AN13*AN$10+AO13*AO$10) -> 4 | AQ13: =IF($AE13=AQ$8,$AG13,"") | AR13: =IF($AE13=AR$8,$AG13,"") | AS13: =IF($AE13=AS$8,$AG13,"") | AT13: =IF($AE13=AT$8,$AG13,"") | AU13: =IF($AE13=AU$8,$AG13,"") | AV13: =IF($AE13=AV$8,$AG13,"") | AW13: =IF($AE13=AW$8,$AG13,"") | AX13: =IF($AE13=AX$8,$AG13,"") | ... BA13: =IF($AE13=BA$8,$AG13,"")
A14: =A13+1 -> 4 | B14: 1 | P14: =IF(K14="",1,VLOOKUP(_xlfn.CONCAT(L14:M14),Invoervelden!$C$105:$H$114,IF(N14=Invoervelden!$D$105,2,IF(N14=Invoervelden!$E$105,3,IF(N14=Invoervelden!$F$105,4,IF(N14=Invoervelden!$G$105,5,6)))))) -> 1 | W14: 1 | X14: 1 | Y14: 1 | Z14: 1 | AA14: 1 | AB14: =W14*SUM(X14*X$10+ Y14*Y$10+Z14*Z$10+AA14*AA$10) -> 4 | AG14: =IF(AD14="","",VLOOKUP(AD14,#REF!,3,FALSE)) | AI14: =G14-(YEAR(TODAY())-F14) -> -2023 | AJ14: =IF(P14=1,G14*1,IF(P14=2,G14*0.5,IF(P14=3,G14*0.25,IF(P14=4,G14*0.125,IF(P14=5,G14*0.0625,IF(P14-6,0)))))) -> 0 | AK14: 1 | AL14: 1 | AM14: 1 | AN14: 1 | AO14: 1 | AP14: =AK14*SUM(AL14*AL$10+AM14*AM$10+AN14*AN$10+AO14*AO$10) -> 4 | AQ14: =IF($AE14=AQ$8,$AG14,"") | AR14: =IF($AE14=AR$8,$AG14,"") | AS14: =IF($AE14=AS$8,$AG14,"") | AT14: =IF($AE14=AT$8,$AG14,"") | AU14: =IF($AE14=AU$8,$AG14,"") | AV14: =IF($AE14=AV$8,$AG14,"") | AW14: =IF($AE14=AW$8,$AG14,"") | AX14: =IF($AE14=AX$8,$AG14,"") | ... BA14: =IF($AE14=BA$8,$AG14,"")
A15: =A14+1 -> 5 | B15: 1 | P15: =IF(K15="",1,VLOOKUP(_xlfn.CONCAT(L15:M15),Invoervelden!$C$105:$H$114,IF(N15=Invoervelden!$D$105,2,IF(N15=Invoervelden!$E$105,3,IF(N15=Invoervelden!$F$105,4,IF(N15=Invoervelden!$G$105,5,6)))))) -> 1 | W15: 1 | X15: 1 | Y15: 1 | Z15: 1 | AA15: 1 | AB15: =W15*SUM(X15*X$10+ Y15*Y$10+Z15*Z$10+AA15*AA$10) -> 4 | AG15: =IF(AD15="","",VLOOKUP(AD15,#REF!,3,FALSE)) | AI15: =G15-(YEAR(TODAY())-F15) -> -2023 | AJ15: =IF(P15=1,G15*1,IF(P15=2,G15*0.5,IF(P15=3,G15*0.25,IF(P15=4,G15*0.125,IF(P15=5,G15*0.0625,IF(P15-6,0)))))) -> 0 | AK15: 1 | AL15: 1 | AM15: 1 | AN15: 1 | AO15: 1 | AP15: =AK15*SUM(AL15*AL$10+AM15*AM$10+AN15*AN$10+AO15*AO$10) -> 4 | AQ15: =IF($AE15=AQ$8,$AG15,"") | AR15: =IF($AE15=AR$8,$AG15,"") | AS15: =IF($AE15=AS$8,$AG15,"") | AT15: =IF($AE15=AT$8,$AG15,"") | AU15: =IF($AE15=AU$8,$AG15,"") | AV15: =IF($AE15=AV$8,$AG15,"") | AW15: =IF($AE15=AW$8,$AG15,"") | AX15: =IF($AE15=AX$8,$AG15,"") | ... BA15: =IF($AE15=BA$8,$AG15,"")
A16: =A15+1 -> 6 | B16: 1 | P16: =IF(K16="",1,VLOOKUP(_xlfn.CONCAT(L16:M16),Invoervelden!$C$105:$H$114,IF(N16=Invoervelden!$D$105,2,IF(N16=Invoervelden!$E$105,3,IF(N16=Invoervelden!$F$105,4,IF(N16=Invoervelden!$G$105,5,6)))))) -> 1 | W16: 1 | X16: 1 | Y16: 1 | Z16: 1 | AA16: 1 | AB16: =W16*SUM(X16*X$10+ Y16*Y$10+Z16*Z$10+AA16*AA$10) -> 4 | AG16: =IF(AD16="","",VLOOKUP(AD16,#REF!,3,FALSE)) | AI16: =G16-(YEAR(TODAY())-F16) -> -2023 | AJ16: =IF(P16=1,G16*1,IF(P16=2,G16*0.5,IF(P16=3,G16*0.25,IF(P16=4,G16*0.125,IF(P16=5,G16*0.0625,IF(P16-6,0)))))) -> 0 | AK16: 1 | AL16: 1 | AM16: 1 | AN16: 1 | AO16: 1 | AP16: =AK16*SUM(AL16*AL$10+AM16*AM$10+AN16*AN$10+AO16*AO$10) -> 4 | AQ16: =IF($AE16=AQ$8,$AG16,"") | AR16: =IF($AE16=AR$8,$AG16,"") | AS16: =IF($AE16=AS$8,$AG16,"") | AT16: =IF($AE16=AT$8,$AG16,"") | AU16: =IF($AE16=AU$8,$AG16,"") | AV16: =IF($AE16=AV$8,$AG16,"") | AW16: =IF($AE16=AW$8,$AG16,"") | AX16: =IF($AE16=AX$8,$AG16,"") | ... BA16: =IF($AE16=BA$8,$AG16,"")
A17: =A16+1 -> 7 | B17: 1 | P17: =IF(K17="",1,VLOOKUP(_xlfn.CONCAT(L17:M17),Invoervelden!$C$105:$H$114,IF(N17=Invoervelden!$D$105,2,IF(N17=Invoervelden!$E$105,3,IF(N17=Invoervelden!$F$105,4,IF(N17=Invoervelden!$G$105,5,6)))))) -> 1 | W17: 1 | X17: 1 | Y17: 1 | Z17: 1 | AA17: 1 | AB17: =W17*SUM(X17*X$10+ Y17*Y$10+Z17*Z$10+AA17*AA$10) -> 4 | AG17: =IF(AD17="","",VLOOKUP(AD17,#REF!,3,FALSE)) | AI17: =G17-(YEAR(TODAY())-F17) -> -2023 | AJ17: =IF(P17=1,G17*1,IF(P17=2,G17*0.5,IF(P17=3,G17*0.25,IF(P17=4,G17*0.125,IF(P17=5,G17*0.0625,IF(P17-6,0)))))) -> 0 | AK17: 1 | AL17: 1 | AM17: 1 | AN17: 1 | AO17: 1 | AP17: =AK17*SUM(AL17*AL$10+AM17*AM$10+AN17*AN$10+AO17*AO$10) -> 4 | AQ17: =IF($AE17=AQ$8,$AG17,"") | AR17: =IF($AE17=AR$8,$AG17,"") | AS17: =IF($AE17=AS$8,$AG17,"") | AT17: =IF($AE17=AT$8,$AG17,"") | AU17: =IF($AE17=AU$8,$AG17,"") | AV17: =IF($AE17=AV$8,$AG17,"") | AW17: =IF($AE17=AW$8,$AG17,"") | AX17: =IF($AE17=AX$8,$AG17,"") | ... BA17: =IF($AE17=BA$8,$AG17,"")
A18: =A17+1 -> 8 | B18: 1 | P18: =IF(K18="",1,VLOOKUP(_xlfn.CONCAT(L18:M18),Invoervelden!$C$105:$H$114,IF(N18=Invoervelden!$D$105,2,IF(N18=Invoervelden!$E$105,3,IF(N18=Invoervelden!$F$105,4,IF(N18=Invoervelden!$G$105,5,6)))))) -> 1 | W18: 1 | X18: 1 | Y18: 1 | Z18: 1 | AA18: 1 | AB18: =W18*SUM(X18*X$10+ Y18*Y$10+Z18*Z$10+AA18*AA$10) -> 4 | AG18: =IF(AD18="","",VLOOKUP(AD18,#REF!,3,FALSE)) | AI18: =G18-(YEAR(TODAY())-F18) -> -2023 | AJ18: =IF(P18=1,G18*1,IF(P18=2,G18*0.5,IF(P18=3,G18*0.25,IF(P18=4,G18*0.125,IF(P18=5,G18*0.0625,IF(P18-6,0)))))) -> 0 | AK18: 1 | AL18: 1 | AM18: 1 | AN18: 1 | AO18: 1 | AP18: =AK18*SUM(AL18*AL$10+AM18*AM$10+AN18*AN$10+AO18*AO$10) -> 4 | AQ18: =IF($AE18=AQ$8,$AG18,"") | AR18: =IF($AE18=AR$8,$AG18,"") | AS18: =IF($AE18=AS$8,$AG18,"") | AT18: =IF($AE18=AT$8,$AG18,"") | AU18: =IF($AE18=AU$8,$AG18,"") | AV18: =IF($AE18=AV$8,$AG18,"") | AW18: =IF($AE18=AW$8,$AG18,"") | AX18: =IF($AE18=AX$8,$AG18,"") | ... BA18: =IF($AE18=BA$8,$AG18,"")
A19: =A18+1 -> 9 | B19: 1 | P19: =IF(K19="",1,VLOOKUP(_xlfn.CONCAT(L19:M19),Invoervelden!$C$105:$H$114,IF(N19=Invoervelden!$D$105,2,IF(N19=Invoervelden!$E$105,3,IF(N19=Invoervelden!$F$105,4,IF(N19=Invoervelden!$G$105,5,6)))))) -> 1 | W19: 1 | X19: 1 | Y19: 1 | Z19: 1 | AA19: 1 | AB19: =W19*SUM(X19*X$10+ Y19*Y$10+Z19*Z$10+AA19*AA$10) -> 4 | AG19: =IF(AD19="","",VLOOKUP(AD19,#REF!,3,FALSE)) | AI19: =G19-(YEAR(TODAY())-F19) -> -2023 | AJ19: =IF(P19=1,G19*1,IF(P19=2,G19*0.5,IF(P19=3,G19*0.25,IF(P19=4,G19*0.125,IF(P19=5,G19*0.0625,IF(P19-6,0)))))) -> 0 | AK19: 1 | AL19: 1 | AM19: 1 | AN19: 1 | AO19: 1 | AP19: =AK19*SUM(AL19*AL$10+AM19*AM$10+AN19*AN$10+AO19*AO$10) -> 4 | AQ19: =IF($AE19=AQ$8,$AG19,"") | AR19: =IF($AE19=AR$8,$AG19,"") | AS19: =IF($AE19=AS$8,$AG19,"") | AT19: =IF($AE19=AT$8,$AG19,"") | AU19: =IF($AE19=AU$8,$AG19,"") | AV19: =IF($AE19=AV$8,$AG19,"") | AW19: =IF($AE19=AW$8,$AG19,"") | AX19: =IF($AE19=AX$8,$AG19,"") | ... BA19: =IF($AE19=BA$8,$AG19,"")
A20: =A19+1 -> 10 | B20: 1 | P20: =IF(K20="",1,VLOOKUP(_xlfn.CONCAT(L20:M20),Invoervelden!$C$105:$H$114,IF(N20=Invoervelden!$D$105,2,IF(N20=Invoervelden!$E$105,3,IF(N20=Invoervelden!$F$105,4,IF(N20=Invoervelden!$G$105,5,6)))))) -> 1 | W20: 1 | X20: 1 | Y20: 1 | Z20: 1 | AA20: 1 | AB20: =W20*SUM(X20*X$10+ Y20*Y$10+Z20*Z$10+AA20*AA$10) -> 4 | AG20: =IF(AD20="","",VLOOKUP(AD20,#REF!,3,FALSE)) | AI20: =G20-(YEAR(TODAY())-F20) -> -2023 | AJ20: =IF(P20=1,G20*1,IF(P20=2,G20*0.5,IF(P20=3,G20*0.25,IF(P20=4,G20*0.125,IF(P20=5,G20*0.0625,IF(P20-6,0)))))) -> 0 | AK20: 1 | AL20: 1 | AM20: 1 | AN20: 1 | AO20: 1 | AP20: =AK20*SUM(AL20*AL$10+AM20*AM$10+AN20*AN$10+AO20*AO$10) -> 4 | AQ20: =IF($AE20=AQ$8,$AG20,"") | AR20: =IF($AE20=AR$8,$AG20,"") | AS20: =IF($AE20=AS$8,$AG20,"") | AT20: =IF($AE20=AT$8,$AG20,"") | AU20: =IF($AE20=AU$8,$AG20,"") | AV20: =IF($AE20=AV$8,$AG20,"") | AW20: =IF($AE20=AW$8,$AG20,"") | AX20: =IF($AE20=AX$8,$AG20,"") | ... BA20: =IF($AE20=BA$8,$AG20,"")
A21: =A20+1 -> 11 | B21: 1 | P21: =IF(K21="",1,VLOOKUP(_xlfn.CONCAT(L21:M21),Invoervelden!$C$105:$H$114,IF(N21=Invoervelden!$D$105,2,IF(N21=Invoervelden!$E$105,3,IF(N21=Invoervelden!$F$105,4,IF(N21=Invoervelden!$G$105,5,6)))))) -> 1 | W21: 1 | X21: 1 | Y21: 1 | Z21: 1 | AA21: 1 | AB21: =W21*SUM(X21*X$10+ Y21*Y$10+Z21*Z$10+AA21*AA$10) -> 4 | AG21: =IF(AD21="","",VLOOKUP(AD21,#REF!,3,FALSE)) | AI21: =G21-(YEAR(TODAY())-F21) -> -2023 | AJ21: =IF(P21=1,G21*1,IF(P21=2,G21*0.5,IF(P21=3,G21*0.25,IF(P21=4,G21*0.125,IF(P21=5,G21*0.0625,IF(P21-6,0)))))) -> 0 | AK21: 1 | AL21: 1 | AM21: 1 | AN21: 1 | AO21: 1 | AP21: =AK21*SUM(AL21*AL$10+AM21*AM$10+AN21*AN$10+AO21*AO$10) -> 4 | AQ21: =IF($AE21=AQ$8,$AG21,"") | AR21: =IF($AE21=AR$8,$AG21,"") | AS21: =IF($AE21=AS$8,$AG21,"") | AT21: =IF($AE21=AT$8,$AG21,"") | AU21: =IF($AE21=AU$8,$AG21,"") | AV21: =IF($AE21=AV$8,$AG21,"") | AW21: =IF($AE21=AW$8,$AG21,"") | AX21: =IF($AE21=AX$8,$AG21,"") | ... BA21: =IF($AE21=BA$8,$AG21,"")
A22: =A21+1 -> 12 | B22: 1 | P22: =IF(K22="",1,VLOOKUP(_xlfn.CONCAT(L22:M22),Invoervelden!$C$105:$H$114,IF(N22=Invoervelden!$D$105,2,IF(N22=Invoervelden!$E$105,3,IF(N22=Invoervelden!$F$105,4,IF(N22=Invoervelden!$G$105,5,6)))))) -> 1 | W22: 1 | X22: 1 | Y22: 1 | Z22: 1 | AA22: 1 | AB22: =W22*SUM(X22*X$10+ Y22*Y$10+Z22*Z$10+AA22*AA$10) -> 4 | AG22: =IF(AD22="","",VLOOKUP(AD22,#REF!,3,FALSE)) | AI22: =G22-(YEAR(TODAY())-F22) -> -2023 | AJ22: =IF(P22=1,G22*1,IF(P22=2,G22*0.5,IF(P22=3,G22*0.25,IF(P22=4,G22*0.125,IF(P22=5,G22*0.0625,IF(P22-6,0)))))) -> 0 | AK22: 1 | AL22: 1 | AM22: 1 | AN22: 1 | AO22: 1 | AP22: =AK22*SUM(AL22*AL$10+AM22*AM$10+AN22*AN$10+AO22*AO$10) -> 4 | AQ22: =IF($AE22=AQ$8,$AG22,"") | AR22: =IF($AE22=AR$8,$AG22,"") | AS22: =IF($AE22=AS$8,$AG22,"") | AT22: =IF($AE22=AT$8,$AG22,"") | AU22: =IF($AE22=AU$8,$AG22,"") | AV22: =IF($AE22=AV$8,$AG22,"") | AW22: =IF($AE22=AW$8,$AG22,"") | AX22: =IF($AE22=AX$8,$AG22,"") | ... BA22: =IF($AE22=BA$8,$AG22,"")
A23: =A22+1 -> 13 | B23: 1 | P23: =IF(K23="",1,VLOOKUP(_xlfn.CONCAT(L23:M23),Invoervelden!$C$105:$H$114,IF(N23=Invoervelden!$D$105,2,IF(N23=Invoervelden!$E$105,3,IF(N23=Invoervelden!$F$105,4,IF(N23=Invoervelden!$G$105,5,6)))))) -> 1 | W23: 1 | X23: 1 | Y23: 1 | Z23: 1 | AA23: 1 | AB23: =W23*SUM(X23*X$10+ Y23*Y$10+Z23*Z$10+AA23*AA$10) -> 4 | AG23: =IF(AD23="","",VLOOKUP(AD23,#REF!,3,FALSE)) | AI23: =G23-(YEAR(TODAY())-F23) -> -2023 | AJ23: =IF(P23=1,G23*1,IF(P23=2,G23*0.5,IF(P23=3,G23*0.25,IF(P23=4,G23*0.125,IF(P23=5,G23*0.0625,IF(P23-6,0)))))) -> 0 | AK23: 1 | AL23: 1 | AM23: 1 | AN23: 1 | AO23: 1 | AP23: =AK23*SUM(AL23*AL$10+AM23*AM$10+AN23*AN$10+AO23*AO$10) -> 4 | AQ23: =IF($AE23=AQ$8,$AG23,"") | AR23: =IF($AE23=AR$8,$AG23,"") | AS23: =IF($AE23=AS$8,$AG23,"") | AT23: =IF($AE23=AT$8,$AG23,"") | AU23: =IF($AE23=AU$8,$AG23,"") | AV23: =IF($AE23=AV$8,$AG23,"") | AW23: =IF($AE23=AW$8,$AG23,"") | AX23: =IF($AE23=AX$8,$AG23,"") | ... BA23: =IF($AE23=BA$8,$AG23,"")
... A80: =A79+1 -> 70 | B80: 45 | P80: =IF(K80="",1,VLOOKUP(_xlfn.CONCAT(L80:M80),Invoervelden!$C$105:$H$114,IF(N80=Invoervelden!$D$105,2,IF(N80=Invoervelden!$E$105,3,IF(N80=Invoervelden!$F$105,4,IF(N80=Invoervelden!$G$105,5,6)))))) -> 1 | W80: 1 | X80: 1 | Y80: 1 | Z80: 1 | AA80: 1 | AB80: =W80*SUM(X80*X$10+ Y80*Y$10+Z80*Z$10+AA80*AA$10) -> 4 | AG80: =IF(AD80="","",VLOOKUP(AD80,#REF!,3,FALSE)) | AI80: =G80-(YEAR(TODAY())-F80) -> -2023 | AJ80: =IF(P80=1,G80*1,IF(P80=2,G80*0.5,IF(P80=3,G80*0.25,IF(P80=4,G80*0.125,IF(P80=5,G80*0.0625,IF(P80-6,0)))))) -> 0 | AK80: 1 | AL80: 1 | AM80: 1 | AN80: 1 | AO80: 1 | AP80: =AK80*SUM(AL80*AL$10+AM80*AM$10+AN80*AN$10+AO80*AO$10) -> 4 | AQ80: =IF($AE80=AQ$8,$AG80,"") | AR80: =IF($AE80=AR$8,$AG80,"") | AS80: =IF($AE80=AS$8,$AG80,"") | AT80: =IF($AE80=AT$8,$AG80,"") | AU80: =IF($AE80=AU$8,$AG80,"") | AV80: =IF($AE80=AV$8,$AG80,"") | AW80: =IF($AE80=AW$8,$AG80,"") | AX80: =IF($AE80=AX$8,$AG80,"") | ... BA80: =IF($AE80=BA$8,$AG80,"")

Sheet Invoervelden
A1: Risico element
A3: Hoog | B3: 4
A4: Verhoogd | B4: 3
A5: Beperkt | B5: 2
A6: Laag | B6: 1
A9: Risico inspectie
A11: Hoog
A12: Verhoogd
A13: Beperkt
A14: Laag
A16: Hoe inspecteren
A18: Verrichten metingen
A19: Onder handbereik
A20: Gedeeltelijk onder handbereik
A21: Op basis van metingen
A22: Op korte afstand
A23: Visueel
... A86: Element kan niet zonder hinder functioneren.
A88: Lijsten conditiemeting | D88: Oorzaak | E88: Gevolg
D89: Aanvaring | E89: Afsluiting
A90: Ernstig | D90: Bouwfout | E90: Hinder
A91: Serieus | D91: invloed milieu | E91: Instorten
A92: Gering | D92: Slijtage | E92: Kortsluiting
D93: Veroudering | E93: Lekkage
A94: < 2 % | D94: Verwaarlozing | E94: Ongeluk
A95: 2 - 10 % | D95: Afschrijving | E95: Onherstelbare schade
A96: 10 - 30 % | D96: Vandalisme | E96: Overstroming
A97: 30 - 70 % | D97: Montage fout | E97: Ernstige storing
A98: > 70 % | E98: Functie verlies
A100: Begin
A101: Gevorderd
A102: Eind
A104: Opzoektabel Conditiemeting
D105: < 2 % | E105: 2 - 10 % | F105: 10 - 30 % | G105: 30 - 70 % | H105: > 70 %
A106: Ernstig | B106: Begin | C106: =_xlfn.CONCAT(A106:B106) -> ErnstigBegin | D106: 1 | E106: 1 | F106: 2 | G106: 3 | H106: 4
A107: Ernstig | B107: Eind | C107: =_xlfn.CONCAT(A107:B107) -> ErnstigEind | D107: 2 | E107: 3 | F107: 4 | G107: 5 | H107: 6
A108: Ernstig | B108: Gevorderd | C108: =_xlfn.CONCAT(A108:B108) -> ErnstigGevorderd | D108: 1 | E108: 2 | F108: 3 | G108: 4 | H108: 5
A109: Gering | B109: Begin | C109: =_xlfn.CONCAT(A109:B109) -> GeringBegin | D109: 1 | E109: 1 | F109: 1 | G109: 1 | H109: 2
A110: Gering | B110: Eind | C110: =_xlfn.CONCAT(A110:B110) -> GeringEind | D110: 1 | E110: 1 | F110: 2 | G110: 3 | H110: 4
A111: Gering | B111: Gevorderd | C111: =_xlfn.CONCAT(A111:B111) -> GeringGevorderd | D111: 1 | E111: 1 | F111: 1 | G111: 2 | H111: 3
A112: Serieus | B112: Begin | C112: =_xlfn.CONCAT(A112:B112) -> SerieusBegin | D112: 1 | E112: 1 | F112: 1 | G112: 2 | H112: 3
A113: Serieus | B113: Eind | C113: =_xlfn.CONCAT(A113:B113) -> SerieusEind | D113: 1 | E113: 2 | F113: 3 | G113: 4 | H113: 5
A114: Serieus | B114: Gevorderd | C114: =_xlfn.CONCAT(A114:B114) -> SerieusGevorderd | D114: 1 | E114: 1 | F114: 2 | G114: 3 | H114: 4
A117: Kans | I117: Cond. | J117: restlvns
I118: 1 | J118: 1
A119: 1 | B119: < 2 % | C119: Gering | I119: 2 | J119: 0.5
A120: 2 | B120: 2 - 10 % | C120: beperkt | I120: 3 | J120: 0.25
A121: 3 | B121: 10 - 50 % | C121: verhoogd | I121: 4 | J121: 0.125
A122: 4 | B122: > 50 % | C122: hoog | I122: 5 | J122: 0.0625
I123: 6 | J123: 0
A124: Gevolg
B125: R | C125: A | D125: M | E125: S | F125: I
B126: Processtoring | C126: niet beschikbaar | D126: kosten | E126: ongeval | F126: nieuws
A127: 1 | B127: 1x per maand | C127: < 1 uur | D127: < 1 000 | E127: incident | F127: geen
A128: 2 | B128: 1x per week | C128: 1 uur - dagdeel | D128: 1 000 - 25 000 | E128: klein medisch | F128: intern
A129: 3 | B129: 1x per dag | C129: dagdeel - 24 uur | D129: 25 000 - 100 000 | E129: opname | F129: lokaal
A130: 4 | B130: > 1x per dag | C130: > 24 uur | D130: > 100 000 | E130: blijvend letsel | F130: nationaal
A132: Prioriteit
A133: 5 | B133: 15 | C133: binnen 1 jaar | D133: 0 | E133: 1
A134: 16 | B134: 30 | C134: binnen 2 jaar | D134: 1 | E134: 2
A135: 31 | B135: 45 | C135: binnen 5 jaar | D135: 2 | E135: 5
A136: 46 | B136: 64 | C136: binnen 10 jaar | D136: 5 | E136: 10
A137: 65 | B137: 80 | C137: buiten 10 jaar | D137: 10 | E137: 25
A139: Gebrekenlijst
A140: Gebrek naam | B140: code | C140: Belang
A141: Aangroei | B141: G-181 | C141: gering
A142: Aansluiting onvoldoende | B142: G-230 | C142: Serieus
A143: Aansluiting, defect | B143: G-198 | C143: serieus
A144: Aansluiting, onjuist | B144: G-136 | C144: serieus
A145: Aantasting | B145: G-120 | C145: ernstig
A146: Afbrokkelen | B146: G-028 | C146: ernstig
A147: Afdekking ongewenst | B147: G-224 | C147: entsig
A148: Afdichting, defect | B148: G-001 | C148: ernstig
A149: Afschot, foutief | B149: G-029 | C149: ernstig
A150: Afschuiving | B150: G-002 | C150: ernstig
A151: Afsterving | B151: G-003 | C151: ernstig
... A276: Zetting | B276: G-086 | C276: gering
A279: Vast/variabel
A280: vast
A281: variabel
A282: eenmalig
