Workbook

Sheet Coderingen
A1: Tabellen voor risico-inschatting
A3: Kans
A4: We onderscheiden twee soorten kansen: een kans op verbetering van de kwaliteit. Dit kan méér of
A5: minder kosten met zich meebrengen. De tweede soort kans betreft een besparing op de kosten.
F6: waterkering
A7: Score | B7: Omschrijving kans | F7: Kans (%)
A8: 0 | B8: 0 % (kan niet optreden) | C8: 0 | F8: 0
A9: 1 | B9: 1 - 20 % (komt zelden of nooit voor) | C9: 0.1 | F9: 0.025
A10: 2 | B10: 20 - 40 % (onwaarschijnlijk) | C10: 0.3 | F10: 0.075
A11: 3 | B11: 40 - 60 % (kans bestaat, niet groot) | C11: 0.5 | F11: 0.175
A12: 4 | B12: 60 - 80% (er is een reële kans) | C12: 0.7 | F12: 0.375
A13: 5 | B13: > 80% (grote kans) | C13: 0.9 | F13: 0.75
A16: Tijd
A17: Het effect op de tijd wordt enerzijds uitgedrukt in 'maanden' vertraging en in extra kosten (vertragings-
A18: kosten)
A20: Score | B20: Toelichting Tijd; aantal maanden uitloop | C20: Tijd in maanden
A21: 0 | B21: geen tijdseffect | C21: 0
A22: 1 | B22: 0 -1 maand | C22: 0.5
A23: 2 | B23: 1 - 2 mnd | C23: 1.5
A24: 3 | B24: 2 - 4 mnd | C24: 3
A25: 4 | B25: 4 - 6 mnd | C25: 5
A26: 5 | B26: > 6 mnd | C26: 8
A29: Geld
A30: Score | B30: Toelichting Geld | C30: G
A31: 0 | B31: geen budget gevolg | C31: 0
A32: 1 | B32: 0 - 10.000 € | C32: =10000/2 -> 5000
A33: 2 | B33: 10.000 - 20.000 € | C33: 15000
A34: 3 | B34: 20.000 - 40.000 € | C34: 30000
A35: 4 | B35: 40.000 - 80.000 € | C35: 60000
A36: 5 | B36: > 80.000 € | C36: 80000
A39: Kwaliteit
A40: Score | B40: Toelichting ; aantal % kwaliteitsverlies
A41: 0 | B41: geen kwaliteit gevolg
A42: 1 | B42: 0-10%
A43: 2 | B43: 10-20%
A44: 3 | B44: 20-30%
A45: 4 | B45: 30-40%
A46: 5 | B46: > 40%

Sheet Risico's
C1: Bijlage 5 Risicodossier
C2: Behorende bij de Europese aanbesteding volgens de openbare procedure voor uitvoering van diensten inzake Conditiemetingen NEN2767
C3: ten behoeve van Waterschap Limburg met zaaknummer 2022-Z8974
C5: WITTE CELLEN KUNNEN INGEVULD WORDEN
C6: GEKLEURDE CELLEN BEVATTEN FORMULES, NIET WIJZIGEN
C10: Risicodossier | D10: Kwantificering | G10: Beheersing
E11: Kans
B12: Nr. | C12: Risico | D12: Gevolg / consequentie | E12: kans van optreden (1-5) | F12: Omschrijving kans van optreden | G12: Omschrijving van de beheersmaatregel
B13: 1 | E13: 0 | F13: =+VLOOKUP(E13,Coderingen!$A$8:$B$13,2,FALSE) -> 0 % (kan niet optreden)
B14: =+B13+1 -> 2 | E14: 0 | F14: =+VLOOKUP(E14,Coderingen!$A$8:$B$13,2,FALSE) -> 0 % (kan niet optreden)
B15: =+B14+1 -> 3 | E15: 0 | F15: =+VLOOKUP(E15,Coderingen!$A$8:$B$13,2,FALSE) -> 0 % (kan niet optreden)
B16: =+B15+1 -> 4 | E16: 0 | F16: =+VLOOKUP(E16,Coderingen!$A$8:$B$13,2,FALSE) -> 0 % (kan niet optreden)
B17: =+B16+1 -> 5 | E17: 0 | F17: =+VLOOKUP(E17,Coderingen!$A$8:$B$13,2,FALSE) -> 0 % (kan niet optreden)

Sheet RK-LOOBEEK leeg
B1: Risico's en kansen Projecten Watersysteem | K1: Per Tijd en Geld
K2: score 0
B3: Deze lijst bevat risico's en kansen, waarvan het gewogen gemiddelde (kolom Z) is opgenomen in de prognose. | K3: score 1 - 8
K4: score 9 - 15
E5: risico = tijd, geld of kwaliteit komt in gevaar | K5: score 16 - 25
E6: kans kwaliteit = kans op verbetering, los van of dit geld kost of niet
E7: kans geld = kans op besparing
K8: Kwantificering | V8: Beheersing | Y8: =SUM(Y11:Y23) -> 0 | Z8: =SUM(Z11:Z23) -> 0 | AA8: =SUM(AA11:AA23) -> 0 | AC8: =SUM(AC11:AC23) -> 0 | AD8: =SUM(AD11:AD23) -> 0
K9: Kans | L9: Tijd | P9: Geld | S9: Kwaliteit
B10: Nr. | C10: Project | D10: Project omschrijving | E10: Risico | F10: Kans kwaliteit | G10: Kans geld | H10: Gebeurtenis | I10: Oorzaak | J10: Gevolg / consequentie | K10: kans van optreden (1-5) | L10: Gevolg Tijd | O10: omvang risico (GXH) | P10: Gevolg Geld | R10: omvang risico (GXH) | S10: Gevolg kwaliteit | U10: omvang risico | V10: Beheersmaatregel | W10: Actie-houder | Y10: Risico in € max | Z10: Risico in € gewogen | AA10: Kans | AC10: Risico in € gewogen - tijd | AD10: Risico in € gewogen - geld
B11: 1 | C11: 720350 | D11: Loobeek | K11: 1 | L11: 0 | M11: =+VLOOKUP(L11,Coderingen!$A$21:$B$26,2,FALSE) -> geen tijdseffect | N11: =+VLOOKUP(L11,Coderingen!$A$21:$D$26,4,FALSE) -> 0 | O11: =+K11*L11 -> 0 | P11: 0 | Q11: =+VLOOKUP(P11,Coderingen!$A$31:$C$36,3,FALSE) -> 0 | R11: =+IF(G11="K",G11,K11*P11) -> 0 | S11: 0 | T11: =+VLOOKUP(S11,Coderingen!$A$41:$C$46,2,FALSE) -> geen kwaliteit gevolg | U11: =+IF(F11="K",F11,K11*S11) -> 0 | Y11: =+IF(G11="K",N11,N11+Q11) -> 0 | Z11: =+AC11+AD11 -> 0 | AA11: =+IF(G11="K",Q11,0) -> 0 | AC11: =+IF(O11<9,N11*0.1,IF(O11<16,N11*0.2,N11)) -> 0 | AD11: =+IF(G11="K",0,IF(R11<9,Q11*0.1,IF(R11<16,Q11*0.2,Q11))) -> 0
B12: =+B11+1 -> 2 | K12: 1 | L12: 0 | M12: =+VLOOKUP(L12,Coderingen!$A$21:$B$26,2,FALSE) -> geen tijdseffect | N12: =+VLOOKUP(L12,Coderingen!$A$21:$D$26,4,FALSE) -> 0 | O12: =+K12*L12 -> 0 | P12: 0 | Q12: =+VLOOKUP(P12,Coderingen!$A$31:$C$36,3,FALSE) -> 0 | R12: =+IF(G12="K",G12,K12*P12) -> 0 | S12: 0 | T12: =+VLOOKUP(S12,Coderingen!$A$41:$C$46,2,FALSE) -> geen kwaliteit gevolg | U12: =+IF(F12="K",F12,K12*S12) -> 0 | Y12: =+IF(G12="K",N12,N12+Q12) -> 0 | Z12: =+AC12+AD12 -> 0 | AA12: =+IF(G12="K",Q12,0) -> 0
B13: =+B12+1 -> 3 | C13: 720351 | D13: Loobeek tr. De Haag | K13: 1 | L13: 0 | M13: =+VLOOKUP(L13,Coderingen!$A$21:$B$26,2,FALSE) -> geen tijdseffect | N13: =+VLOOKUP(L13,Coderingen!$A$21:$D$26,4,FALSE) -> 0 | O13: =+K13*L13 -> 0 | P13: 0 | Q13: =+VLOOKUP(P13,Coderingen!$A$31:$C$36,3,FALSE) -> 0 | R13: =+IF(G13="K",G13,K13*P13) -> 0 | S13: 0 | T13: =+VLOOKUP(S13,Coderingen!$A$41:$C$46,2,FALSE) -> geen kwaliteit gevolg | U13: =+IF(F13="K",F13,K13*S13) -> 0 | Y13: =+IF(G13="K",N13,N13+Q13) -> 0 | Z13: =+AC13+AD13 -> 0 | AA13: =+IF(G13="K",Q13,0) -> 0 | AC13: =+IF(O13<9,N13*0.1,IF(O13<16,N13*0.2,N13)) -> 0 | AD13: =+IF(G13="K",0,IF(R13<9,Q13*0.1,IF(R13<16,Q13*0.2,Q13))) -> 0
B14: =+B13+1 -> 4 | K14: 1 | L14: 0 | M14: =+VLOOKUP(L14,Coderingen!$A$21:$B$26,2,FALSE) -> geen tijdseffect | N14: =+VLOOKUP(L14,Coderingen!$A$21:$D$26,4,FALSE) -> 0 | O14: =+K14*L14 -> 0 | P14: 0 | Q14: =+VLOOKUP(P14,Coderingen!$A$31:$C$36,3,FALSE) -> 0 | R14: =+IF(G14="K",G14,K14*P14) -> 0 | S14: 0 | T14: =+VLOOKUP(S14,Coderingen!$A$41:$C$46,2,FALSE) -> geen kwaliteit gevolg | U14: =+IF(F14="K",F14,K14*S14) -> 0 | Y14: =+IF(G14="K",N14,N14+Q14) -> 0 | Z14: =+AC14+AD14 -> 0 | AA14: =+IF(G14="K",Q14,0) -> 0 | AC14: =+IF(O14<9,N14*0.1,IF(O14<16,N14*0.2,N14)) -> 0 | AD14: =+IF(G14="K",0,IF(R14<9,Q14*0.1,IF(R14<16,Q14*0.2,Q14))) -> 0
B15: =+B17+1 -> 7 | K15: 1 | L15: 0 | M15: =+VLOOKUP(L15,Coderingen!$A$21:$B$26,2,FALSE) -> geen tijdseffect | N15: =+VLOOKUP(L15,Coderingen!$A$21:$D$26,4,FALSE) -> 0 | O15: =+K15*L15 -> 0 | P15: 0 | Q15: =+VLOOKUP(P15,Coderingen!$A$31:$C$36,3,FALSE) -> 0 | R15: =+IF(G15="K",G15,K15*P15) -> 0 | S15: 0 | T15: =+VLOOKUP(S15,Coderingen!$A$41:$C$46,2,FALSE) -> geen kwaliteit gevolg | U15: =+IF(F15="K",F15,K15*S15) -> 0 | Y15: =+IF(G15="K",N15,N15+Q15) -> 0 | Z15: =+AC15+AD15 -> 0 | AA15: =+IF(G15="K",Q15,0) -> 0 | AC15: =+IF(O15<9,N15*0.1,IF(O15<16,N15*0.2,N15)) -> 0 | AD15: =+IF(G15="K",0,IF(R15<9,Q15*0.1,IF(R15<16,Q15*0.2,Q15))) -> 0
B16: =+B14+1 -> 5 | K16: 1 | L16: 0 | M16: =+VLOOKUP(L16,Coderingen!$A$21:$B$26,2,FALSE) -> geen tijdseffect | N16: =+VLOOKUP(L16,Coderingen!$A$21:$D$26,4,FALSE) -> 0 | O16: =+K16*L16 -> 0 | P16: 0 | Q16: =+VLOOKUP(P16,Coderingen!$A$31:$C$36,3,FALSE) -> 0 | R16: =+IF(G16="K",G16,K16*P16) -> 0 | S16: 0 | T16: =+VLOOKUP(S16,Coderingen!$A$41:$C$46,2,FALSE) -> geen kwaliteit gevolg | U16: =+IF(F16="K",F16,K16*S16) -> 0 | Y16: =+IF(G16="K",N16,N16+Q16) -> 0 | Z16: =+AC16+AD16 -> 0 | AA16: =+IF(G16="K",Q16,0) -> 0 | AC16: =+IF(O16<9,N16*0.1,IF(O16<16,N16*0.2,N16)) -> 0 | AD16: =+IF(G16="K",0,IF(R16<9,Q16*0.1,IF(R16<16,Q16*0.2,Q16))) -> 0
B17: =+B16+1 -> 6 | C17: 720352 | D17: Loobeek tr. Venraysch Broek | K17: 1 | L17: 0 | M17: =+VLOOKUP(L17,Coderingen!$A$21:$B$26,2,FALSE) -> geen tijdseffect | N17: =+VLOOKUP(L17,Coderingen!$A$21:$D$26,4,FALSE) -> 0 | O17: =+K17*L17 -> 0 | P17: 0 | Q17: =+VLOOKUP(P17,Coderingen!$A$31:$C$36,3,FALSE) -> 0 | R17: =+IF(G17="K",G17,K17*P17) -> 0 | S17: 0 | T17: =+VLOOKUP(S17,Coderingen!$A$41:$C$46,2,FALSE) -> geen kwaliteit gevolg | U17: =+IF(F17="K",F17,K17*S17) -> 0 | Y17: =+IF(G17="K",N17,N17+Q17) -> 0 | Z17: =+AC17+AD17 -> 0 | AA17: =+IF(G17="K",Q17,0) -> 0 | AC17: =+IF(O17<9,N17*0.1,IF(O17<16,N17*0.2,N17)) -> 0 | AD17: =+IF(G17="K",0,IF(R17<9,Q17*0.1,IF(R17<16,Q17*0.2,Q17))) -> 0
B18: =+B17+1 -> 7 | K18: 1 | L18: 0 | M18: =+VLOOKUP(L18,Coderingen!$A$21:$B$26,2,FALSE) -> geen tijdseffect | N18: =+VLOOKUP(L18,Coderingen!$A$21:$D$26,4,FALSE) -> 0 | O18: =+K18*L18 -> 0 | P18: 0 | Q18: =+VLOOKUP(P18,Coderingen!$A$31:$C$36,3,FALSE) -> 0 | R18: =+IF(G18="K",G18,K18*P18) -> 0 | S18: 0 | T18: =+VLOOKUP(S18,Coderingen!$A$41:$C$46,2,FALSE) -> geen kwaliteit gevolg | U18: =+IF(F18="K",F18,K18*S18) -> 0 | Y18: =+IF(G18="K",N18,N18+Q18) -> 0 | Z18: =+AC18+AD18 -> 0 | AA18: =+IF(G18="K",Q18,0) -> 0 | AC18: =+IF(O18<9,N18*0.1,IF(O18<16,N18*0.2,N18)) -> 0 | AD18: =+IF(G18="K",0,IF(R18<9,Q18*0.1,IF(R18<16,Q18*0.2,Q18))) -> 0
B19: =+B18+1 -> 8 | K19: 1 | L19: 0 | M19: =+VLOOKUP(L19,Coderingen!$A$21:$B$26,2,FALSE) -> geen tijdseffect | N19: =+VLOOKUP(L19,Coderingen!$A$21:$D$26,4,FALSE) -> 0 | O19: =+K19*L19 -> 0 | P19: 0 | Q19: =+VLOOKUP(P19,Coderingen!$A$31:$C$36,3,FALSE) -> 0 | R19: =+IF(G19="K",G19,K19*P19) -> 0 | S19: 0 | T19: =+VLOOKUP(S19,Coderingen!$A$41:$C$46,2,FALSE) -> geen kwaliteit gevolg | U19: =+IF(F19="K",F19,K19*S19) -> 0 | Y19: =+IF(G19="K",N19,N19+Q19) -> 0 | Z19: =+AC19+AD19 -> 0 | AA19: =+IF(G19="K",Q19,0) -> 0 | AC19: =+IF(O19<9,N19*0.1,IF(O19<16,N19*0.2,N19)) -> 0 | AD19: =+IF(G19="K",0,IF(R19<9,Q19*0.1,IF(R19<16,Q19*0.2,Q19))) -> 0
B20: =+B19+1 -> 9 | C20: 720353 | D20: Loobeek tr. De Spurkt | K20: 1 | L20: 0 | M20: =+VLOOKUP(L20,Coderingen!$A$21:$B$26,2,FALSE) -> geen tijdseffect | N20: =+VLOOKUP(L20,Coderingen!$A$21:$D$26,4,FALSE) -> 0 | O20: =+K20*L20 -> 0 | P20: 0 | Q20: =+VLOOKUP(P20,Coderingen!$A$31:$C$36,3,FALSE) -> 0 | R20: =+IF(G20="K",G20,K20*P20) -> 0 | S20: 0 | T20: =+VLOOKUP(S20,Coderingen!$A$41:$C$46,2,FALSE) -> geen kwaliteit gevolg | U20: =+IF(F20="K",F20,K20*S20) -> 0 | Y20: =+IF(G20="K",N20,N20+Q20) -> 0 | Z20: =+AC20+AD20 -> 0 | AA20: =+IF(G20="K",Q20,0) -> 0 | AC20: =+IF(O20<9,N20*0.1,IF(O20<16,N20*0.2,N20)) -> 0 | AD20: =+IF(G20="K",0,IF(R20<9,Q20*0.1,IF(R20<16,Q20*0.2,Q20))) -> 0
B21: =+B20+1 -> 10 | K21: 1 | L21: 0 | M21: =+VLOOKUP(L21,Coderingen!$A$21:$B$26,2,FALSE) -> geen tijdseffect | N21: =+VLOOKUP(L21,Coderingen!$A$21:$D$26,4,FALSE) -> 0 | O21: =+K21*L21 -> 0 | P21: 0 | Q21: =+VLOOKUP(P21,Coderingen!$A$31:$C$36,3,FALSE) -> 0 | R21: =+IF(G21="K",G21,K21*P21) -> 0 | S21: 0 | T21: =+VLOOKUP(S21,Coderingen!$A$41:$C$46,2,FALSE) -> geen kwaliteit gevolg | U21: =+IF(F21="K",F21,K21*S21) -> 0 | Y21: =+IF(G21="K",N21,N21+Q21) -> 0 | Z21: =+AC21+AD21 -> 0 | AA21: =+IF(G21="K",Q21,0) -> 0 | AC21: =+IF(O21<9,N21*0.1,IF(O21<16,N21*0.2,N21)) -> 0 | AD21: =+IF(G21="K",0,IF(R21<9,Q21*0.1,IF(R21<16,Q21*0.2,Q21))) -> 0
B22: =+B21+1 -> 11 | K22: 1 | L22: 0 | M22: =+VLOOKUP(L22,Coderingen!$A$21:$B$26,2,FALSE) -> geen tijdseffect | N22: =+VLOOKUP(L22,Coderingen!$A$21:$D$26,4,FALSE) -> 0 | O22: =+K22*L22 -> 0 | P22: 0 | Q22: =+VLOOKUP(P22,Coderingen!$A$31:$C$36,3,FALSE) -> 0 | R22: =+IF(G22="K",G22,K22*P22) -> 0 | S22: 0 | T22: =+VLOOKUP(S22,Coderingen!$A$41:$C$46,2,FALSE) -> geen kwaliteit gevolg | U22: =+IF(F22="K",F22,K22*S22) -> 0 | Y22: =+IF(G22="K",N22,N22+Q22) -> 0 | Z22: =+AC22+AD22 -> 0 | AA22: =+IF(G22="K",Q22,0) -> 0 | AC22: =+IF(O22<9,N22*0.1,IF(O22<16,N22*0.2,N22)) -> 0 | AD22: =+IF(G22="K",0,IF(R22<9,Q22*0.1,IF(R22<16,Q22*0.2,Q22))) -> 0
B23: =+B22+1 -> 12 | K23: 1 | L23: 0 | M23: =+VLOOKUP(L23,Coderingen!$A$21:$B$26,2,FALSE) -> geen tijdseffect | N23: =+VLOOKUP(L23,Coderingen!$A$21:$D$26,4,FALSE) -> 0 | O23: =+K23*L23 -> 0 | P23: 0 | Q23: =+VLOOKUP(P23,Coderingen!$A$31:$C$36,3,FALSE) -> 0 | R23: =+IF(G23="K",G23,K23*P23) -> 0 | S23: 0 | T23: =+VLOOKUP(S23,Coderingen!$A$41:$C$46,2,FALSE) -> geen kwaliteit gevolg | U23: =+IF(F23="K",F23,K23*S23) -> 0 | Y23: =+IF(G23="K",N23,N23+Q23) -> 0 | Z23: =+AC23+AD23 -> 0 | AA23: =+IF(G23="K",Q23,0) -> 0

Sheet RK-LOOBEEK
B1: Risico's en kansen Projecten Watersysteem | K1: Per Tijd en Geld
K2: score 0
B3: Deze lijst bevat risico's en kansen, waarvan het gewogen gemiddelde (kolom Z) is opgenomen in de prognose. | K3: score 1 - 8
K4: score 9 - 15
E5: risico = tijd, geld of kwaliteit komt in gevaar | K5: score 16 - 25
E6: kans kwaliteit = kans op verbetering, los van of dit geld kost of niet
E7: kans geld = kans op besparing
K8: Kwantificering | V8: Beheersing | Y8: =SUM(Y11:Y23) -> 495000 | Z8: =SUM(Z11:Z23) -> 51500 | AA8: =SUM(AA11:AA23) -> 160000 | AC8: =SUM(AC11:AC23) -> 0 | AD8: =SUM(AD11:AD23) -> 51500
K9: Kans | L9: Tijd | P9: Geld | S9: Kwaliteit
B10: Nr. | C10: Project | D10: Project omschrijving | E10: Risico | F10: Kans kwaliteit | G10: Kans geld | H10: Gebeurtenis | I10: Oorzaak | J10: Gevolg / consequentie | K10: kans van optreden (1-5) | L10: Gevolg Tijd | O10: omvang risico (GXH) | P10: Gevolg Geld | R10: omvang risico (GXH) | S10: Gevolg kwaliteit | U10: omvang risico | V10: Beheersmaatregel | W10: Actie-houder | Y10: Risico in € max | Z10: Risico in € gewogen | AA10: Kans | AC10: Risico in € gewogen - tijd | AD10: Risico in € gewogen - geld
B11: 1 | C11: 720350 | D11: Loobeek | E11: R | H11: Grondoverdracht Loobeekdal (2,6 mln) van Provincie naar WPM lukt niet | J11: Project loopt vertraging op | K11: 1 | L11: 2 | M11: =+VLOOKUP(L11,Coderingen!$A$21:$B$26,2,FALSE) -> 1 - 2 mnd | N11: =+VLOOKUP(L11,Coderingen!$A$21:$D$26,4,FALSE) -> 0 | O11: =+K11*L11 -> 2 | P11: 0 | Q11: =+VLOOKUP(P11,Coderingen!$A$31:$C$36,3,FALSE) -> 0 | R11: =+IF(G11="K",G11,K11*P11) -> 0 | S11: 0 | T11: =+VLOOKUP(S11,Coderingen!$A$41:$C$46,2,FALSE) -> geen kwaliteit gevolg | U11: =+IF(F11="K",F11,K11*S11) -> 0 | V11: Overleg Jan Jacobs met Jo van Wersch | W11: Jan | Y11: =+IF(G11="K",N11,N11+Q11) -> 0 | Z11: =+AC11+AD11 -> 0 | AA11: =+IF(G11="K",Q11,0) -> 0 | AC11: =+IF(O11<9,N11*0.1,IF(O11<16,N11*0.2,N11)) -> 0 | AD11: =+IF(G11="K",0,IF(R11<9,Q11*0.1,IF(R11<16,Q11*0.2,Q11))) -> 0
B12: =+B11+1 -> 2 | E12: R | H12: Overschotgronden worden niet verkocht | J12: Project wordt duurder | K12: 1 | L12: 0 | M12: =+VLOOKUP(L12,Coderingen!$A$21:$B$26,2,FALSE) -> geen tijdseffect | N12: =+VLOOKUP(L12,Coderingen!$A$21:$D$26,4,FALSE) -> 0 | O12: =+K12*L12 -> 0 | P12: 4 | Q12: =+VLOOKUP(P12,Coderingen!$A$31:$C$36,3,FALSE) -> 60000 | R12: =+IF(G12="K",G12,K12*P12) -> 4 | S12: 0 | T12: =+VLOOKUP(S12,Coderingen!$A$41:$C$46,2,FALSE) -> geen kwaliteit gevolg | U12: =+IF(F12="K",F12,K12*S12) -> 0 | V12: Voortgang monitoren in projectgroep | W12: Wim N. | Y12: =+IF(G12="K",N12,N12+Q12) -> 60000 | Z12: =+AC12+AD12 -> 0 | AA12: =+IF(G12="K",Q12,0) -> 0
B13: =+B12+1 -> 3 | C13: 720351 | D13: Loobeek tr. De Haag | G13: K | H13: Zwart water (€ 100.000) | K13: 1 | L13: 0 | M13: =+VLOOKUP(L13,Coderingen!$A$21:$B$26,2,FALSE) -> geen tijdseffect | N13: =+VLOOKUP(L13,Coderingen!$A$21:$D$26,4,FALSE) -> 0 | O13: =+K13*L13 -> 0 | P13: 5 | Q13: =+VLOOKUP(P13,Coderingen!$A$31:$C$36,3,FALSE) -> 80000 | R13: =+IF(G13="K",G13,K13*P13) -> K | S13: 0 | T13: =+VLOOKUP(S13,Coderingen!$A$41:$C$46,2,FALSE) -> geen kwaliteit gevolg | U13: =+IF(F13="K",F13,K13*S13) -> 0 | V13: Punt komt januari 2016 in de Stuurgroep | Y13: =+IF(G13="K",N13,N13+Q13) -> 0 | Z13: =+AC13+AD13 -> 0 | AA13: =+IF(G13="K",Q13,0) -> 80000 | AC13: =+IF(O13<9,N13*0.1,IF(O13<16,N13*0.2,N13)) -> 0 | AD13: =+IF(G13="K",0,IF(R13<9,Q13*0.1,IF(R13<16,Q13*0.2,Q13))) -> 0
B14: =+B13+1 -> 4 | G14: K | H14: Meanderzone (€ 280.000) | K14: 1 | L14: 0 | M14: =+VLOOKUP(L14,Coderingen!$A$21:$B$26,2,FALSE) -> geen tijdseffect | N14: =+VLOOKUP(L14,Coderingen!$A$21:$D$26,4,FALSE) -> 0 | O14: =+K14*L14 -> 0 | P14: 5 | Q14: =+VLOOKUP(P14,Coderingen!$A$31:$C$36,3,FALSE) -> 80000 | R14: =+IF(G14="K",G14,K14*P14) -> K | S14: 0 | T14: =+VLOOKUP(S14,Coderingen!$A$41:$C$46,2,FALSE) -> geen kwaliteit gevolg | U14: =+IF(F14="K",F14,K14*S14) -> 0 | V14: Punt komt januari 2016 in de Stuurgroep | Y14: =+IF(G14="K",N14,N14+Q14) -> 0 | Z14: =+AC14+AD14 -> 0 | AA14: =+IF(G14="K",Q14,0) -> 80000 | AC14: =+IF(O14<9,N14*0.1,IF(O14<16,N14*0.2,N14)) -> 0 | AD14: =+IF(G14="K",0,IF(R14<9,Q14*0.1,IF(R14<16,Q14*0.2,Q14))) -> 0
B15: =+B17+1 -> 7 | E15: R | H15: WPM koopt grond voor meer dan € 0,75 / m2 | I15: SBB vraagt hoge prijs voor grond, die WPM wil kopen. Tot op heden is gesproken over 0,75 / m2. | J15: Project wordt duurder | K15: 1 | L15: 0 | M15: =+VLOOKUP(L15,Coderingen!$A$21:$B$26,2,FALSE) -> geen tijdseffect | N15: =+VLOOKUP(L15,Coderingen!$A$21:$D$26,4,FALSE) -> 0 | O15: =+K15*L15 -> 0 | P15: 3 | Q15: =+VLOOKUP(P15,Coderingen!$A$31:$C$36,3,FALSE) -> 30000 | R15: =+IF(G15="K",G15,K15*P15) -> 3 | S15: 0 | T15: =+VLOOKUP(S15,Coderingen!$A$41:$C$46,2,FALSE) -> geen kwaliteit gevolg | U15: =+IF(F15="K",F15,K15*S15) -> 0 | Y15: =+IF(G15="K",N15,N15+Q15) -> 30000 | Z15: =+AC15+AD15 -> 3000 | AA15: =+IF(G15="K",Q15,0) -> 0 | AC15: =+IF(O15<9,N15*0.1,IF(O15<16,N15*0.2,N15)) -> 0 | AD15: =+IF(G15="K",0,IF(R15<9,Q15*0.1,IF(R15<16,Q15*0.2,Q15))) -> 3000
B16: =+B14+1 -> 5 | E16: R | H16: WPM dient schade a.g.v. grondverplaatsing te vergoeden | I16: Claim mbt knolcyperus, ca € 200.000 | J16: Project wordt duurder | K16: 1 | L16: 2 | M16: =+VLOOKUP(L16,Coderingen!$A$21:$B$26,2,FALSE) -> 1 - 2 mnd | N16: =+VLOOKUP(L16,Coderingen!$A$21:$D$26,4,FALSE) -> 0 | O16: =+K16*L16 -> 2 | P16: 5 | Q16: 200000 | R16: =+IF(G16="K",G16,K16*P16) -> 5 | S16: 0 | T16: =+VLOOKUP(S16,Coderingen!$A$41:$C$46,2,FALSE) -> geen kwaliteit gevolg | U16: =+IF(F16="K",F16,K16*S16) -> 0 | V16: Overleg met advocaat WPM, daarna kijken hoe het zit met verzekering, daarna evt juridische procedure. 8-12-15: Verzekering is afgehaakt. Juridische procedure nog op te starten. | W16: Twan-Joke | Y16: =+IF(G16="K",N16,N16+Q16) -> 200000 | Z16: =+AC16+AD16 -> 20000 | AA16: =+IF(G16="K",Q16,0) -> 0 | AC16: =+IF(O16<9,N16*0.1,IF(O16<16,N16*0.2,N16)) -> 0 | AD16: =+IF(G16="K",0,IF(R16<9,Q16*0.1,IF(R16<16,Q16*0.2,Q16))) -> 20000
B17: =+B16+1 -> 6 | C17: 720352 | D17: Loobeek tr. Venraysch Broek | E17: R | H17: Provincie ondertekent de overeenkomst met Loonen en/of Loonen/Muysers niet. | I17: Provincie moet instemmen met privaatrechtelijke ovk m.b.t. natuurdoeltype (vochtig kruidenrijk grasland). Provincie moet mede ondertekenen. Wijzigingen als gevolg van publiekrechtelijk handelen van de provincie moeten voor rekening zijn van provincie, niet van Loonen of WPM. | J17: Juridisch vraagstuk in toekomst als gebruik grond wijzigt? | K17: 1 | L17: 0 | M17: =+VLOOKUP(L17,Coderingen!$A$21:$B$26,2,FALSE) -> geen tijdseffect | N17: =+VLOOKUP(L17,Coderingen!$A$21:$D$26,4,FALSE) -> 0 | O17: =+K17*L17 -> 0 | P17: 2 | Q17: =+VLOOKUP(P17,Coderingen!$A$31:$C$36,3,FALSE) -> 15000 | R17: =+IF(G17="K",G17,K17*P17) -> 2 | S17: 0 | T17: =+VLOOKUP(S17,Coderingen!$A$41:$C$46,2,FALSE) -> geen kwaliteit gevolg | U17: =+IF(F17="K",F17,K17*S17) -> 0 | V17: Wim zorgt dat Provincie ook tekent voor de ovk en stemt vóór ondertekening af met de projectleider. | W17: Wim N. | Y17: =+IF(G17="K",N17,N17+Q17) -> 15000 | Z17: =+AC17+AD17 -> 1500 | AA17: =+IF(G17="K",Q17,0) -> 0 | AC17: =+IF(O17<9,N17*0.1,IF(O17<16,N17*0.2,N17)) -> 0 | AD17: =+IF(G17="K",0,IF(R17<9,Q17*0.1,IF(R17<16,Q17*0.2,Q17))) -> 1500
B18: =+B17+1 -> 7 | F18: K | I18: Stuw AFK-1 nabij de autosnelweg A-73. | K18: 1 | L18: 0 | M18: =+VLOOKUP(L18,Coderingen!$A$21:$B$26,2,FALSE) -> geen tijdseffect | N18: =+VLOOKUP(L18,Coderingen!$A$21:$D$26,4,FALSE) -> 0 | O18: =+K18*L18 -> 0 | P18: 0 | Q18: =+VLOOKUP(P18,Coderingen!$A$31:$C$36,3,FALSE) -> 0 | R18: =+IF(G18="K",G18,K18*P18) -> 0 | S18: 0 | T18: =+VLOOKUP(S18,Coderingen!$A$41:$C$46,2,FALSE) -> geen kwaliteit gevolg | U18: =+IF(F18="K",F18,K18*S18) -> K | Y18: =+IF(G18="K",N18,N18+Q18) -> 0 | Z18: =+AC18+AD18 -> 0 | AA18: =+IF(G18="K",Q18,0) -> 0 | AC18: =+IF(O18<9,N18*0.1,IF(O18<16,N18*0.2,N18)) -> 0 | AD18: =+IF(G18="K",0,IF(R18<9,Q18*0.1,IF(R18<16,Q18*0.2,Q18))) -> 0
B19: =+B18+1 -> 8 | E19: R | I19: Provincie wijzigt status van goudgroen naar zilvergroen voor ca 30 ha. | J19: Beheervergoeding die aan de agrariers zijn beloofd worden niet opgehoest door de Provincie. | K19: 1 | L19: 2 | M19: =+VLOOKUP(L19,Coderingen!$A$21:$B$26,2,FALSE) -> 1 - 2 mnd | N19: =+VLOOKUP(L19,Coderingen!$A$21:$D$26,4,FALSE) -> 0 | O19: =+K19*L19 -> 2 | P19: 2 | Q19: =+VLOOKUP(P19,Coderingen!$A$31:$C$36,3,FALSE) -> 15000 | R19: =+IF(G19="K",G19,K19*P19) -> 2 | S19: 0 | T19: =+VLOOKUP(S19,Coderingen!$A$41:$C$46,2,FALSE) -> geen kwaliteit gevolg | U19: =+IF(F19="K",F19,K19*S19) -> 0 | V19: Probleem is aangekaart bij provincie. Provincie is aan zet (mr lejeune) | Y19: =+IF(G19="K",N19,N19+Q19) -> 15000 | Z19: =+AC19+AD19 -> 1500 | AA19: =+IF(G19="K",Q19,0) -> 0 | AC19: =+IF(O19<9,N19*0.1,IF(O19<16,N19*0.2,N19)) -> 0 | AD19: =+IF(G19="K",0,IF(R19<9,Q19*0.1,IF(R19<16,Q19*0.2,Q19))) -> 1500
B20: =+B19+1 -> 9 | C20: 720353 | D20: Loobeek tr. De Spurkt | E20: R | H20: Provincie ondertekent de overeenkomst met M. van Raaij en/of C. van Raaij niet. | I20: Provincie moet instemmen met privaatrechtelijke ovk m.b.t. natuurdoeltype (vochtig kruidenrijk grasland). Provincie moet mede ondertekenen. Wijzigingen als gevolg van publiekrechtelijk handelen van de provincie moeten voor rekening zijn van provincie, niet van Raaij of WPM. | J20: Juridisch vraagstuk in toekomst als gebruik grond wijzigt? | K20: 1 | L20: 0 | M20: =+VLOOKUP(L20,Coderingen!$A$21:$B$26,2,FALSE) -> geen tijdseffect | N20: =+VLOOKUP(L20,Coderingen!$A$21:$D$26,4,FALSE) -> 0 | O20: =+K20*L20 -> 0 | P20: 2 | Q20: =+VLOOKUP(P20,Coderingen!$A$31:$C$36,3,FALSE) -> 15000 | R20: =+IF(G20="K",G20,K20*P20) -> 2 | S20: 0 | T20: =+VLOOKUP(S20,Coderingen!$A$41:$C$46,2,FALSE) -> geen kwaliteit gevolg | U20: =+IF(F20="K",F20,K20*S20) -> 0 | V20: Wim zorgt dat Provincie ook tekent voor de ovk en stemt vóór ondertekening af met de projectleider. | W20: Wim N. | Y20: =+IF(G20="K",N20,N20+Q20) -> 15000 | Z20: =+AC20+AD20 -> 1500 | AA20: =+IF(G20="K",Q20,0) -> 0 | AC20: =+IF(O20<9,N20*0.1,IF(O20<16,N20*0.2,N20)) -> 0 | AD20: =+IF(G20="K",0,IF(R20<9,Q20*0.1,IF(R20<16,Q20*0.2,Q20))) -> 1500
B21: =+B20+1 -> 10 | E21: R | H21: Grond wordt voor € 4,75 gewaardeerd. Extra kostenpost 6ha x € 1,25 = ca € 80.000. | I21: C. van Raaij wil vervangende grond. Provincie Brabant wil grond verkopen voor € 6,. Van Raaij taxeert zelf op € 4,75 | J21: Project wordt duurder | K21: 2 | L21: 0 | M21: =+VLOOKUP(L21,Coderingen!$A$21:$B$26,2,FALSE) -> geen tijdseffect | N21: =+VLOOKUP(L21,Coderingen!$A$21:$D$26,4,FALSE) -> 0 | O21: =+K21*L21 -> 0 | P21: 5 | Q21: =+VLOOKUP(P21,Coderingen!$A$31:$C$36,3,FALSE) -> 80000 | R21: =+IF(G21="K",G21,K21*P21) -> 10 | S21: 0 | T21: =+VLOOKUP(S21,Coderingen!$A$41:$C$46,2,FALSE) -> geen kwaliteit gevolg | U21: =+IF(F21="K",F21,K21*S21) -> 0 | V21: Instellen onafhankelijk taxateur | W21: Wim N. | Y21: =+IF(G21="K",N21,N21+Q21) -> 80000 | Z21: =+AC21+AD21 -> 16000 | AA21: =+IF(G21="K",Q21,0) -> 0 | AC21: =+IF(O21<9,N21*0.1,IF(O21<16,N21*0.2,N21)) -> 0 | AD21: =+IF(G21="K",0,IF(R21<9,Q21*0.1,IF(R21<16,Q21*0.2,Q21))) -> 16000
B22: =+B21+1 -> 11 | E22: R | H22: Doorverkoop aan de gemeente komt niet tot stand | I22: WPM koopt voor € 2,6mln grond van Provincie. Twee percelen (U138 en ged.U139) worden doorverkocht aan de gemeente € 235K | J22: WPM blijft met de grond zitten. | K22: 1 | L22: 3 | M22: =+VLOOKUP(L22,Coderingen!$A$21:$B$26,2,FALSE) -> 2 - 4 mnd | N22: =+VLOOKUP(L22,Coderingen!$A$21:$D$26,4,FALSE) -> 0 | O22: =+K22*L22 -> 3 | P22: 5 | Q22: =+VLOOKUP(P22,Coderingen!$A$31:$C$36,3,FALSE) -> 80000 | R22: =+IF(G22="K",G22,K22*P22) -> 5 | S22: 0 | T22: =+VLOOKUP(S22,Coderingen!$A$41:$C$46,2,FALSE) -> geen kwaliteit gevolg | U22: =+IF(F22="K",F22,K22*S22) -> 0 | W22: Wim N. | Y22: =+IF(G22="K",N22,N22+Q22) -> 80000 | Z22: =+AC22+AD22 -> 8000 | AA22: =+IF(G22="K",Q22,0) -> 0 | AC22: =+IF(O22<9,N22*0.1,IF(O22<16,N22*0.2,N22)) -> 0 | AD22: =+IF(G22="K",0,IF(R22<9,Q22*0.1,IF(R22<16,Q22*0.2,Q22))) -> 8000
B23: =+B22+1 -> 12 | F23: K | H23: Er is budget om het perceel aan te kopen (kosten blijven binnen afspraken SOK) | I23: Aankoop perceel Van Dijk | K23: 1 | L23: 0 | M23: =+VLOOKUP(L23,Coderingen!$A$21:$B$26,2,FALSE) -> geen tijdseffect | N23: =+VLOOKUP(L23,Coderingen!$A$21:$D$26,4,FALSE) -> 0 | O23: =+K23*L23 -> 0 | P23: 0 | Q23: =+VLOOKUP(P23,Coderingen!$A$31:$C$36,3,FALSE) -> 0 | R23: =+IF(G23="K",G23,K23*P23) -> 0 | S23: 2 | T23: =+VLOOKUP(S23,Coderingen!$A$41:$C$46,2,FALSE) -> 10-20% | U23: =+IF(F23="K",F23,K23*S23) -> K | V23: Budget bewaken en afwegen of er financiele ruimte is om dit perceel aan te kopen. | W23: PL | Y23: =+IF(G23="K",N23,N23+Q23) -> 0 | Z23: =+AC23+AD23 -> 0 | AA23: =+IF(G23="K",Q23,0) -> 0

Sheet template
B1: Risico's en kansen Projecten Watersysteem | K1: Per Tijd en Geld
K2: score 0
B3: Deze lijst bevat risico's en kansen die niet zijn opgenomen in de prognoses. Alle bedragen zijn derhalve optelbaar bij de prognoses. | K3: score 1 - 8
K4: score 9 - 15
E5: risico = tijd, geld of kwaliteit komt in gevaar | K5: score 16 - 25
E6: kans kwaliteit = kans op verbetering, los van of dit geld kost of niet
E7: kans geld = kans op besparing
K8: Kwantificering | V8: Beheersing | Y8: =SUM(Y11:Y15) -> 140000 | Z8: =SUM(Z11:Z15) -> 26000 | AA8: =SUM(AA11:AA15) -> 80000 | AC8: =SUM(AC11:AC15) -> 0 | AD8: =SUM(AD11:AD15) -> 26000
K9: Kans | L9: Tijd | P9: Geld | S9: Kwaliteit
B10: Nr. | C10: Project | D10: Project omschrijving | E10: Risico | F10: Kans kwaliteit | G10: Kans geld | H10: Gebeurtenis | I10: Oorzaak | J10: Gevolg / consequentie | K10: kans van optreden (1-5) | L10: Gevolg Tijd | O10: omvang risico (GXH) | P10: Gevolg Geld | R10: omvang risico (GXH) | S10: Gevolg kwaliteit | U10: omvang risico | V10: Beheersmaatregel | W10: Actiehouder | Y10: Risico in € max | Z10: Risico in € gewogen | AA10: Kans | AC10: Risico in € gewogen - tijd | AD10: Risico in € gewogen - geld
B11: 1 | C11: 720540 | D11: Wylrebeek | E11: R | H11: Eigendomsoverdracht van perceel Egypte (ca 7ha) van RWS naar WPM komt niet tot stand. | I11: Er is een meningsverschil tussen WPM en RWS: € 1 voor het gehele perceel of €1/m2. | J11: Het project kan niet worden overgedragen aan Beheer en Onderhoud. Het projectnummer blijft "open" staan. | K11: 3 | L11: 3 | M11: =+VLOOKUP(L11,Coderingen!$A$21:$B$26,2,FALSE) -> 2 - 4 mnd | N11: =+VLOOKUP(L11,Coderingen!$A$21:$D$26,4,FALSE) -> 0 | O11: =+K11*L11 -> 9 | P11: 1 | Q11: =+VLOOKUP(P11,Coderingen!$A$31:$C$36,3,FALSE) -> 5000 | R11: =+IF(G11="K",G11,K11*P11) -> 3 | S11: 0 | T11: =+VLOOKUP(S11,Coderingen!$A$41:$C$46,2,FALSE) -> geen kwaliteit gevolg | U11: =+IF(F11="K",F11,K11*S11) -> 0 | W11: Ben | Y11: =+IF(G11="K",N11,N11+Q11) -> 5000 | Z11: =+AC11+AD11 -> 500 | AA11: =+IF(G11="K",Q11,0) -> 0 | AC11: =+IF(O11<9,N11*0.1,IF(O11<16,N11*0.2,N11)) -> 0 | AD11: =+IF(G11="K",0,IF(R11<9,Q11*0.1,IF(R11<16,Q11*0.2,Q11))) -> 500
B12: =+B11+1 -> 2 | C12: 721060 | D12: Everlose Beek Omleiding | E12: R | H12: Bestemmingsplan procedure neemt meer tijd in beslag. | I12: Het is nog niet duidelijk of de gemeente Venlo voor een bestemmingsplanwijziging of -herziening kiest. | J12: Uitvoering kan wél starten, maar de gedeeltes waar de bestemmingsplanwijziging - danwel herziening over gaat, kan niet worden uitgevoerd. | K12: 3 | L12: 3 | M12: =+VLOOKUP(L12,Coderingen!$A$21:$B$26,2,FALSE) -> 2 - 4 mnd | N12: =+VLOOKUP(L12,Coderingen!$A$21:$D$26,4,FALSE) -> 0 | O12: =+K12*L12 -> 9 | P12: 2 | Q12: =+VLOOKUP(P12,Coderingen!$A$31:$C$36,3,FALSE) -> 15000 | R12: =+IF(G12="K",G12,K12*P12) -> 6 | S12: 0 | T12: =+VLOOKUP(S12,Coderingen!$A$41:$C$46,2,FALSE) -> geen kwaliteit gevolg | U12: =+IF(F12="K",F12,K12*S12) -> 0 | V12: Gemeente actief benaderen | W12: Ben | Y12: =+IF(G12="K",N12,N12+Q12) -> 15000 | Z12: =+AC12+AD12 -> 1500 | AA12: =+IF(G12="K",Q12,0) -> 0 | AC12: =+IF(O12<9,N12*0.1,IF(O12<16,N12*0.2,N12)) -> 0 | AD12: =+IF(G12="K",0,IF(R12<9,Q12*0.1,IF(R12<16,Q12*0.2,Q12))) -> 1500
B13: =+B12+1 -> 3 | C13: 721240 | D13: Everlose Beek Maasmonding | E13: R | H13: Waterwetvergunning duurt langer dan gepland. | I13: Waterwetvergunning wordt slechts afgegeven door RWS als er een WAQUA-berekening wordt gemaakt. | J13: Project loopt uit. Extra kosten voor maken van WAQUA-berekeningen | K13: 3 | L13: 3 | M13: =+VLOOKUP(L13,Coderingen!$A$21:$B$26,2,FALSE) -> 2 - 4 mnd | N13: =+VLOOKUP(L13,Coderingen!$A$21:$D$26,4,FALSE) -> 0 | O13: =+K13*L13 -> 9 | P13: 4 | Q13: =+VLOOKUP(P13,Coderingen!$A$31:$C$36,3,FALSE) -> 60000 | R13: =+IF(G13="K",G13,K13*P13) -> 12 | S13: 0 | T13: =+VLOOKUP(S13,Coderingen!$A$41:$C$46,2,FALSE) -> geen kwaliteit gevolg | U13: =+IF(F13="K",F13,K13*S13) -> 0 | V13: Gezamenlijk overleg met TAUW+RWS+WPM over noodzaak WAQUA-berekeningen | W13: Hans S. | Y13: =+IF(G13="K",N13,N13+Q13) -> 60000 | Z13: =+AC13+AD13 -> 12000 | AA13: =+IF(G13="K",Q13,0) -> 0 | AC13: =+IF(O13<9,N13*0.1,IF(O13<16,N13*0.2,N13)) -> 0 | AD13: =+IF(G13="K",0,IF(R13<9,Q13*0.1,IF(R13<16,Q13*0.2,Q13))) -> 12000
B14: =+B13+1 -> 4 | D14: fictief | F14: K | H14: Perceel A kan worden gekocht | J14: Project kan meer beekdalbreed worden uitgevoerd | K14: 3 | L14: 0 | M14: =+VLOOKUP(L14,Coderingen!$A$21:$B$26,2,FALSE) -> geen tijdseffect | N14: =+VLOOKUP(L14,Coderingen!$A$21:$D$26,4,FALSE) -> 0 | O14: =+K14*L14 -> 0 | P14: 4 | Q14: =+VLOOKUP(P14,Coderingen!$A$31:$C$36,3,FALSE) -> 60000 | R14: =+IF(G14="K",G14,K14*P14) -> 12 | S14: 1 | T14: =+VLOOKUP(S14,Coderingen!$A$41:$C$46,2,FALSE) -> 0-10% | U14: =+IF(F14="K",F14,K14*S14) -> K | Y14: =+IF(G14="K",N14,N14+Q14) -> 60000 | Z14: =+AC14+AD14 -> 12000 | AA14: =+IF(G14="K",Q14,0) -> 0 | AC14: =+IF(O14<9,N14*0.1,IF(O14<16,N14*0.2,N14)) -> 0 | AD14: =+IF(G14="K",0,IF(R14<9,Q14*0.1,IF(R14<16,Q14*0.2,Q14))) -> 12000
B15: =+B14+1 -> 5 | D15: fictief | G15: K | H15: Perceel A kan om niet worden verkregen | I15: Mevrouw A is gestorven en heeft een nalatenschap aan Waterschap geregeld. | J15: Projectkosten gaan omlaag | K15: 4 | L15: 1 | M15: =+VLOOKUP(L15,Coderingen!$A$21:$B$26,2,FALSE) -> 0 -1 maand | N15: =+VLOOKUP(L15,Coderingen!$A$21:$D$26,4,FALSE) -> 0 | O15: =+K15*L15 -> 4 | P15: 5 | Q15: =+VLOOKUP(P15,Coderingen!$A$31:$C$36,3,FALSE) -> 80000 | R15: =+IF(G15="K",G15,K15*P15) -> K | S15: 0 | T15: =+VLOOKUP(S15,Coderingen!$A$41:$C$46,2,FALSE) -> geen kwaliteit gevolg | U15: =+IF(F15="K",F15,K15*S15) -> 0 | Y15: =+IF(G15="K",N15,N15+Q15) -> 0 | Z15: =+AC15+AD15 -> 0 | AA15: =+IF(G15="K",Q15,0) -> 80000 | AC15: =+IF(O15<9,N15*0.1,IF(O15<16,N15*0.2,N15)) -> 0 | AD15: =+IF(G15="K",0,IF(R15<9,Q15*0.1,IF(R15<16,Q15*0.2,Q15))) -> 0

Sheet Risico's en kansen (5-5-2015)
B1: Risico's en kansen Projecten Watersysteem
S2: Risico t.a.v. omvang van het bedrag | Y2: Kasritme
B3: Deze lijst bevat risico's en kansen die niet zijn opgenomen in de prognoses. Alle bedragen zijn derhalve optelbaar bij de prognoses. | S3: Risico 2015 | T3: Kans 2015 | U3: Risico 2016 | V3: Kans 2016 | Y3: Van 2015 naar 2016
B4: Risico = de kosten voor WPM worden hoger dan geprognosticeerd. | J4: score 0 - 8 | M4: deze kleuren zeggen iets over de € | P4: Meest positieve variant | T4: =SUM(T11:T101) -> 329000 | V4: =SUM(V11:V101) -> 0
B5: Kans = de kosten voor WPM worden lager dan geprognosticeerd. | J5: score 9 - 15 | M5: de kleur groen zegt iets over de kwaliteit | P5: Meest negatieve variant | S5: =SUM(S11:S101) -> 145000 | U5: =SUM(U11:U101) -> 0
J6: score 16 - 25 | P6: Bandbreedte | S6: =+T4+S5 -> 474000 | U6: =+V4+U5 -> 0 | Y6: =SUM(Y25:Y100) -> 1050000
J8: Kwantificering | M8: Beheersing | P8: Geld | W8: Tijd
P9: Absoluut bedrag | S9: Gewogen bedrag | W9: Aan te besteden bedrag Uitvoering | Y9: Gewogen bedrag
B10: Nr. | C10: Project | D10: Project omschrijving | E10: Effect op: Tijd - Geld - Kwaliteit | H10: Risico / Kans | I10: Gevolg / consequentie | J10: kans van optreden (1-5) | K10: gevolg (1-5) | L10: omvang risico (GXH) | M10: Beheersmaatregel | N10: Actiehouder | P10: Risico | Q10: Kans | R10: % waarschijn-lijkheid | S10: Risico 2015 | T10: Kans 2015 | U10: Risico 2016 | V10: Kans 2016 | X10: Kans op uitloop, dwz kosten in 2015 i.p.v. 2016 | Z10: PL
B11: 1 | E11: G | H11: De opgave voor beekherstel wordt groter dan 82 km. Bv doordat AEF-beken worden toegevoegd. | J11: 2 | K11: 5 | L11: =+J11*K11 -> 10 | P11: PM
B12: =+B11+1 -> 2 | E12: G | H12: De opgave voor beekherstel wordt kleiner (dan 82 km). Bv doordat beken die geen "KRW-waterlichaam" zijn (volgens definitie van het Rijk) worden geschrapt. | J12: 1 | K12: 5 | L12: =+J12*K12 -> 5 | Q12: PM
B13: =+B12+1 -> 3 | E13: G | H13: De to-do list (82km) is nu opgesteld o.b.v. € 400.000 per km. Recente inschattingen zijn hoger. | J13: 3 | K13: 5 | L13: =+J13*K13 -> 15 | M13: Meest recente inschatting op inhoud toetsen | Q13: PM
B14: =+B13+1 -> 4 | E14: G | H14: De to-do list van projecten "groot onderhoud" zijn niet bekend, maar komen (volgens afspraak) wel ten laste van het MIP / € 3 mln per jaar. | J14: 3 | K14: 4 | L14: =+J14*K14 -> 12 | M14: Inventariseren projecten "groot onderhoud" | P14: PM
B15: =+B14+1 -> 5 | E15: G | H15: De to-do list van beekherstelprojecten is niet in de tijd gepland, waardoor niet goed helder is of de opgave "te doen" is | J15: 2 | K15: 5 | L15: =+J15*K15 -> 10
B16: =+B15+1 -> 6 | E16: TG | H16: De resterende WB21 knelpunten komen niet vóór 2015 af | J16: 1 | K16: 3 | L16: =+J16*K16 -> 3
B17: =+B16+1 -> 7 | E17: G | H17: De kosteninschatting voor de WB21 toets 2015 ligt beduidend hoger dan € 1.000.000 die we in de meerjarenprognose hebben meegenomen. | J17: 1 | K17: 2 | L17: =+J17*K17 -> 2
B18: =+B17+1 -> 8 | E18: TG | H18: Personele capaciteit van afdeling PtW is niet voldoende om de to-do list af te krijgen | J18: 2 | K18: 4 | L18: =+J18*K18 -> 8
B19: =+B18+1 -> 9 | E19: T | H19: Individuele werkplannen van medewerkers zijn niet op elkaar afgestemd | J19: 2 | K19: 5 | L19: =+J19*K19 -> 10
B20: =+B19+1 -> 10
J22: Kwantificering | M22: Beheersing | P22: Geld
P23: Absoluut bedrag | S23: Gewogen bedrag | W23: Aan te besteden bedrag Uitvoering | Y23: Tijd
B24: Nr. | C24: Project | D24: Project omschrijving | E24: Effect op: Tijd - Geld - Kwaliteit | F24: Indien K: hogere of lagere K | G24: Gebeurtenis | H24: Oorzaak | I24: Gevolg / consequentie | J24: kans van optreden (1-5) | K24: gevolg (1-5) | L24: omvang risico (GXH) | M24: Beheersmaatregel | N24: Actiehouder | P24: Risico | Q24: Kans | R24: % waarschijn-lijkheid | S24: Risico 2015 | T24: Kans 2015 | U24: Risico 2016 | V24: Kans 2016 | X24: Kans | Y24: Van 2015 naar 2016
B25: 1 | C25: 721060 | D25: Everlose Beek Omleiding | E25: G | G25: Aanbesteding (openbaar / grondwerken) 20% goedkoper dan raming adviesbureau | I25: Project wordt goedkoper | J25: 3 | K25: 4 | L25: =+J25*K25 -> 12 | Q25: =ROUND(W25*0.2,-3) -> 307000 | R25: =IF(L25<9,10%,IF(L25<16,20%,100%)) -> 0.2 | S25: =IF(P25="PM",0,IF(R25=100%,"opnemen in prognose",ROUND(P25*R25,-3))) -> 0 | T25: =IF(Q25="PM",0,IF(R25=100%,"opnemen in prognose",ROUND(Q25*R25,-3))) -> 61000 | W25: 1537000 | X25: 0 | Y25: =+X25*W25 -> 0 | Z25: BeLo
B26: =+B25+1 -> 2 | E26: G | G26: Aanbesteding (meervoudig onderhands / kunstwerken) 10% goedkoper dan raming adviesbureau | I26: Project wordt goedkoper | J26: 1 | K26: 3 | L26: =+J26*K26 -> 3 | Q26: =ROUND(W26*0.1,-3) -> 0 | R26: =IF(L26<9,10%,IF(L26<16,20%,0)) -> 0.1 | S26: =IF(P26="PM",0,IF(R26=100%,"opnemen in prognose",ROUND(P26*R26,-3))) -> 0 | T26: =IF(Q26="PM",0,IF(R26=100%,"opnemen in prognose",ROUND(Q26*R26,-3))) -> 0 | Z26: BeLo
B27: =+B26+1 -> 3 | E27: T | G27: Waterwetvergunning en Omgevingsvergunning en bestemmingsplan | I27: Project loopt uit | J27: 3 | K27: 4 | L27: =+J27*K27 -> 12 | R27: =IF(L27<9,10%,IF(L27<16,20%,0)) -> 0.2 | S27: =IF(P27="PM",0,IF(R27=100%,"opnemen in prognose",ROUND(P27*R27,-3))) -> 0 | T27: =IF(Q27="PM",0,IF(R27=100%,"opnemen in prognose",ROUND(Q27*R27,-3))) -> 0 | Z27: BeLo
B28: =+B27+1 -> 4 | C28: 721240 | D28: Everlose Beek Maasmonding | E28: G | G28: Beschikbaarheid in de noodzakelijke ruimte omgeving Slottermolen | J28: 1 | K28: 5 | L28: =+J28*K28 -> 5 | P28: PM | R28: =IF(L28<9,10%,IF(L28<16,20%,0)) -> 0.1 | S28: =IF(P28="PM",0,IF(R28=100%,"opnemen in prognose",ROUND(P28*R28,-3))) -> 0 | T28: =IF(Q28="PM",0,IF(R28=100%,"opnemen in prognose",ROUND(Q28*R28,-3))) -> 0 | Z28: BeLo
B29: =+B28+1 -> 5 | E29: T | G29: Waterwetvergunning en Omgevingsvergunning | I29: Project loopt uit | J29: 3 | K29: 4 | L29: =+J29*K29 -> 12 | R29: =IF(L29<9,10%,IF(L29<16,20%,0)) -> 0.2 | S29: =IF(P29="PM",0,IF(R29=100%,"opnemen in prognose",ROUND(P29*R29,-3))) -> 0 | T29: =IF(Q29="PM",0,IF(R29=100%,"opnemen in prognose",ROUND(Q29*R29,-3))) -> 0 | Z29: BeLo
B30: =+B29+1 -> 6 | E30: G | G30: Aanbesteding (openbaar / grondwerken) 20% goedkoper dan raming adviesbureau | I30: Project wordt goedkoper | J30: 3 | K30: 4 | L30: =+J30*K30 -> 12 | Q30: =0.2*W30 -> 400000 | R30: =IF(L30<9,10%,IF(L30<16,20%,0)) -> 0.2 | S30: =IF(P30="PM",0,IF(R30=100%,"opnemen in prognose",ROUND(P30*R30,-3))) -> 0 | T30: =IF(Q30="PM",0,IF(R30=100%,"opnemen in prognose",ROUND(Q30*R30,-3))) -> 80000 | W30: 2000000 | X30: 0 | Y30: =+X30*W30 -> 0 | Z30: BeLo
B31: =+B30+1 -> 7 | E31: G | G31: Aanbesteding (meervoudig onderhands / kunstwerken) 10% goedkoper dan raming adviesbureau | I31: Project wordt goedkoper | J31: 1 | K31: 4 | L31: =+J31*K31 -> 4 | Q31: =ROUND(W31*0.1,-3) -> 0 | R31: =IF(L31<9,10%,IF(L31<16,20%,0)) -> 0.1 | S31: =IF(P31="PM",0,IF(R31=100%,"opnemen in prognose",ROUND(P31*R31,-3))) -> 0 | T31: =IF(Q31="PM",0,IF(R31=100%,"opnemen in prognose",ROUND(Q31*R31,-3))) -> 0 | Z31: BeLo
B32: =+B31+1 -> 8 | C32: 721510 | D32: Venlose Molenbeek Herinrichting | E32: GK | F32: lager | G32: Grondaankoop (2 percelen- Godshuizen+bovenstrooms) niet mogelijk | J32: 2 | K32: 4 | L32: =+J32*K32 -> 8 | Q32: 100000 | R32: =IF(L32<9,10%,IF(L32<16,20%,0)) -> 0.1 | S32: =IF(P32="PM",0,IF(R32=100%,"opnemen in prognose",ROUND(P32*R32,-3))) -> 0 | T32: =IF(Q32="PM",0,IF(R32=100%,"opnemen in prognose",ROUND(Q32*R32,-3))) -> 10000 | Z32: EdSt
B33: =+B32+1 -> 9 | E33: T | G33: Bestemmingsplanprocedure en medewerking gemeente leidt tot vertraging | J33: 4 | K33: 4 | L33: =+J33*K33 -> 16 | R33: =IF(L33<9,10%,IF(L33<16,20%,0)) -> 0 | S33: =IF(P33="PM",0,IF(R33=100%,"opnemen in prognose",ROUND(P33*R33,-3))) -> 0 | T33: =IF(Q33="PM",0,IF(R33=100%,"opnemen in prognose",ROUND(Q33*R33,-3))) -> 0 | W33: 500000 | X33: 0.7 | Y33: =+X33*W33 -> 350000 | Z33: EdSt
B34: =+B33+1 -> 10 | E34: KG | F34: hoger | G34: We gaan toch ontkluizen op terrein palletfabriek | J34: 3 | K34: 4 | L34: =+J34*K34 -> 12 | P34: 150000 | R34: =IF(L34<9,10%,IF(L34<16,20%,0)) -> 0.2 | S34: =IF(P34="PM",0,IF(R34=100%,"opnemen in prognose",ROUND(P34*R34,-3))) -> 30000 | T34: =IF(Q34="PM",0,IF(R34=100%,"opnemen in prognose",ROUND(Q34*R34,-3))) -> 0 | Z34: EdSt
B35: =+B34+1 -> 11 | E35: G | G35: Aanbestedingsresultaat | J35: 3 | K35: 3 | L35: =+J35*K35 -> 9 | P35: PM | R35: =IF(L35<9,10%,IF(L35<16,20%,0)) -> 0.2 | S35: =IF(P35="PM",0,IF(R35=100%,"opnemen in prognose",ROUND(P35*R35,-3))) -> 0 | T35: =IF(Q35="PM",0,IF(R35=100%,"opnemen in prognose",ROUND(Q35*R35,-3))) -> 0 | Z35: EdSt
B36: =+B35+1 -> 12 | C36: 721460 | D36: Tielebeek; herinrichting benedenloop | E36: G | G36: Aanbestedingsvoordeel | I36: Projectkosten worden lager | J36: 4 | K36: 5 | L36: =+J36*K36 -> 20 | Q36: 195000 | R36: =IF(L36<9,10%,IF(L36<16,20%,0)) -> 0 | S36: =IF(P36="PM",0,IF(R36=100%,"opnemen in prognose",ROUND(P36*R36,-3))) -> 0 | T36: =IF(Q36="PM",0,IF(R36=100%,"opnemen in prognose",ROUND(Q36*R36,-3))) -> 0 | Z36: GaHu
B37: =+B36+1 -> 13 | E37: G | G37: Grondkosten worden lager | I37: Projectkosten worden lager | J37: 1 | K37: 5 | L37: =+J37*K37 -> 5 | Q37: PM | R37: =IF(L37<9,10%,IF(L37<16,20%,0)) -> 0.1 | S37: =IF(P37="PM",0,IF(R37=100%,"opnemen in prognose",ROUND(P37*R37,-3))) -> 0 | T37: =IF(Q37="PM",0,IF(R37=100%,"opnemen in prognose",ROUND(Q37*R37,-3))) -> 0 | Z37: GaHu
B38: =+B37+1 -> 14 | E38: T | G38: Vergunningen later binnen | H38: Gemeente wijzigt interne doorlooptijd zonder overleg | I38: Project loopt vertraging op | J38: 2 | K38: 4 | L38: =+J38*K38 -> 8 | R38: =IF(L38<9,10%,IF(L38<16,20%,0)) -> 0.1
B39: =+B38+1 -> 15 | E39: TG | G39: Er worden explosieven gevonden tijdens de uitvoering | I39: Projectkosten worden hoger | J39: 2 | K39: 2 | L39: =+J39*K39 -> 4 | P39: PM | R39: =IF(L39<9,10%,IF(L39<16,20%,0)) -> 0.1
B40: =+B39+1 -> 16 | C40: 720610 | D40: Herinrichting Aalsbeek Holtmuhle | H40: geen risico's meer | L40: =+J40*K40 -> 0 | P40: PM | R40: =IF(L40<9,10%,IF(L40<16,20%,0)) -> 0.1 | S40: =IF(P40="PM",0,IF(R40=100%,"opnemen in prognose",ROUND(P40*R40,-3))) -> 0 | T40: =IF(Q40="PM",0,IF(R40=100%,"opnemen in prognose",ROUND(Q40*R40,-3))) -> 0 | Z40: HaHo
B41: =+B40+1 -> 17 | C41: 721310 | D41: Bovenloop Aalsbeek (belfeldse leigraaf+afkoppelen) | E41: T | G41: Vergunningstraject bij gemeente Venlo is niet duidelijk en kan leiden tot vertraging. | J41: 1 | K41: 1 | L41: =+J41*K41 -> 1 | R41: =IF(L41<9,10%,IF(L41<16,20%,0)) -> 0.1 | S41: =IF(P41="PM",0,IF(R41=100%,"opnemen in prognose",ROUND(P41*R41,-3))) -> 0 | T41: =IF(Q41="PM",0,IF(R41=100%,"opnemen in prognose",ROUND(Q41*R41,-3))) -> 0 | Z41: HaHo
B42: =+B41+1 -> 18 | E42: G | G42: Aanbestedingsresultaat | J42: 1 | K42: 1 | L42: =+J42*K42 -> 1 | P42: PM | R42: =IF(L42<9,10%,IF(L42<16,20%,0)) -> 0.1 | S42: =IF(P42="PM",0,IF(R42=100%,"opnemen in prognose",ROUND(P42*R42,-3))) -> 0 | T42: =IF(Q42="PM",0,IF(R42=100%,"opnemen in prognose",ROUND(Q42*R42,-3))) -> 0 | Z42: HaHo
...
