Workbook

Sheet Blad1
A1: Bijlage 5 Invulformulier
A5: Gegarandeerde RC waarde volledige buitenschil woning (incl. ramen deuren, beglazing etc.) | C5: Aantal units | D5: Uw score ongewogen
A8: Woonunit t.b.v. 4 personen | C8: 20 | D8: =((C8/35)*100%)*Blad2!B12 -> 0
A9: Woonunit t.b.v. 6 personen | C9: 10 | D9: =((C9/35)*100%)*Blad2!C12 -> 0
A10: Woonunit t.b.v. minder validen | C10: 5 | D10: =((C10/35)*100%)*Blad2!D12 -> 0
B11: Subtotaal G.3 (ongewogen) | D11: =SUM(D8:D10) -> 0
A18: Aan te bieden RC waarden
A19: RC-waarde | B19: Waardering ongewogen
A20: RC-waarde 3 | B20: 0
A21: RC- waarde 3,5 | B21: 20
A22: RC- waarde 4 | B22: 40
A23: RC- waarde 4,5 | B23: 55
A24: RC- waarde 5 | B24: 70
A25: RC- waarde 5,5 | B25: 80
A26: RC- waarde 6 | B26: 90
A27: RC- waarde 6,5 | B27: 100
A32: Verklaart bovenstaande naar waarheid te hebben ingevuld;
A33: Naam Inschrijver:
A34: Plaats:
A35: Datum:
A36: Naam:
A37: Functie:
A38: Handtekening:

Sheet Blad2
A3: RC- waarde | B3: Woonunit t.b.v. 4 personen | C3: Woonunit t.b.v. 6 personen | D3: Woonunit t.b.v. minder validen
A4: 3 | B4: =IF(Blad1!$B$8=Blad2!A4,Blad1!B20) -> FALSE | C4: =IF(Blad1!$B$9=Blad2!A4,Blad1!B20) -> FALSE | D4: =IF(Blad1!$B$10=Blad2!A4,Blad1!B20) -> FALSE
A5: =A4+0.5 -> 3.5 | B5: =IF(Blad1!$B$8=Blad2!A5,Blad1!B21) -> FALSE | C5: =IF(Blad1!$B$9=Blad2!A5,Blad1!B21) -> FALSE | D5: =IF(Blad1!$B$10=Blad2!A5,Blad1!B21) -> FALSE
A6: =A5+0.5 -> 4 | B6: =IF(Blad1!$B$8=Blad2!A6,Blad1!B22) -> FALSE | C6: =IF(Blad1!$B$9=Blad2!A6,Blad1!B22) -> FALSE | D6: =IF(Blad1!$B$10=Blad2!A6,Blad1!B22) -> FALSE
A7: =A6+0.5 -> 4.5 | B7: =IF(Blad1!$B$8=Blad2!A7,Blad1!B23) -> FALSE | C7: =IF(Blad1!$B$9=Blad2!A7,Blad1!B23) -> FALSE | D7: =IF(Blad1!$B$10=Blad2!A7,Blad1!B23) -> FALSE
A8: =A7+0.5 -> 5 | B8: =IF(Blad1!$B$8=Blad2!A8,Blad1!B24) -> FALSE | C8: =IF(Blad1!$B$9=Blad2!A8,Blad1!B24) -> FALSE | D8: =IF(Blad1!$B$10=Blad2!A8,Blad1!B24) -> FALSE
A9: =A8+0.5 -> 5.5 | B9: =IF(Blad1!$B$8=Blad2!A9,Blad1!B25) -> FALSE | C9: =IF(Blad1!$B$9=Blad2!A9,Blad1!B25) -> FALSE | D9: =IF(Blad1!$B$10=Blad2!A9,Blad1!B25) -> FALSE
A10: =A9+0.5 -> 6 | B10: =IF(Blad1!$B$8=Blad2!A10,Blad1!B26) -> FALSE | C10: =IF(Blad1!$B$9=Blad2!A10,Blad1!B26) -> FALSE | D10: =IF(Blad1!$B$10=Blad2!A10,Blad1!B26) -> FALSE
A11: =A10+0.5 -> 6.5 | B11: =IF(Blad1!$B$8=Blad2!A11,Blad1!B27) -> FALSE | C11: =IF(Blad1!$B$9=Blad2!A11,Blad1!B27) -> FALSE | D11: =IF(Blad1!$B$10=Blad2!A11,Blad1!B27) -> FALSE
B12: =SUM(B4:B11) -> 0 | C12: =SUM(C4:C11) -> 0 | D12: =SUM(D4:D11) -> 0
