Workbook
Name aantal: #REF!
Name code: #REF!
Name fte: #REF!
Name grootte: #REF!
Name nacht: #REF!
Name OLE_LINK1: 'Tariefvoorstel Inschrijver'!#REF!
Name pbudget: [1]Producten!$B$6:$E$10
Name pbudgetb: [1]Producten!$B$6:$B$10
Name producttabel: [1]Producten!$A$18:$G$22
Name producttabelb: [1]Producten!$B$18:$B$22
Name tarief: #REF!
Name woon: #REF!

Sheet Tariefvoorstel Inschrijver
A1: Naam aanbieder
A2: AGB-code aanbieder
A3: Dominante cao | D3: (indien meerdere: voor deze producten meest gebruikt)
A5: LET OP: alleen een tariefvoorstel indienen waarvoor u zich ook daadwerkelijk inschrijft!
G6: in te vullen
A7: Hulp bij het huishouden basis | G7: ingevuld
A8: Kostencomponent | B8: Normtarief | C8: Uw waarde | D8: Bedrag | E8: Cumulatief | G8: Grenswaarde overschreden
A9: Gewogen cao-salaris (bruto per fte per maand) | B9: ='Normtarief Hbh basis'!F35 -> 2147.3256 | D9: =C9 -> 0 | E9: =C9 -> 0 | G9: waarschuwing
A10: Cao jaarsalaris | B10: 12 | C10: 12 | D10: =C10*E9 -> 0 | E10: =D10 -> 0
A11: Onregelmatigheidstoeslag (%) | B11: ='Normtarief Hbh basis'!B37 -> 0.0025 | D11: =C11*E10 -> 0 | E11: =E10+D11 -> 0
A12: Vakantiegeld (%) | B12: 0.08 | C12: 0.08 | D12: =C12*E11 -> 0 | E12: =E11+D12 -> 0
A13: Eindejaarsuitkering (% | B13: 0.0833 | C13: 0.0833 | D13: =C13*E12 -> 0 | E13: =E12+D13 -> 0
A14: Sociale lasten (%) | B14: ='Normtarief Hbh basis'!B40 -> 0.25 | D14: =C14*E13 -> 0 | E14: =E13+D14 -> 0
A15: ="Opslag overhead (bij positieve korting maximaal "&TEXT(lijsten!$B$2,"€0.000")&")*" -> Opslag overhead (bij positieve korting maximaal €9.500)* | B15: ='Normtarief Hbh basis'!B41 -> 8500 | D15: =C15 -> 0 | E15: =E14+D15 -> 0
A16: Risico-opslag (bij positieve korting maximaal 3%) | B16: ='Normtarief Hbh basis'!B42 -> 0.03 | D16: =C16*E15 -> 0 | E16: =E15+D16 -> 0 | G16: Het tarief wordt in euro's geoffreerd. De producten en diensten van de Wmo 2015 zijn vrijgesteld van BTW. De geoffreerde tarieven zijn derhalve exclusief BTW.
A17: Totaal kosten per fte | E17: =E16 -> 0
A18: ="Declarabele uren (bij positieve korting minimaal "&TEXT(lijsten!B3,"0.000")&" per fte per jaar)" -> Declarabele uren (bij positieve korting minimaal 1.420 per fte per jaar) | B18: ='Normtarief Hbh basis'!B44 -> 1450 | D18: =C18 -> 0
A19: Uw kostprijs per uur 2023 | E19: =IF(COUNTA(C9:C16,C18)=9,E17/D18,"vul blauwe cellen") -> vul blauwe cellen
A20: Geldend normtarief (per uur) | E20: ='Normtarief Hbh basis'!F45 -> 32.873775 | G20: Er mogen geen wijzigingen worden aangebracht in de vorm en inhoud van het tarievenblad. Een gewijzigd tarievenblad kan als ongeldig worden verklaard.
A21: Normuren per maand | B21: 2.1 | E21: =C21 -> 0
A22: Maandtarief op basis van uw kostprijs per uur en uren per maand | E22: =IFERROR(ROUND(E19*E21*(365/12/7),0)," " )
A23: Normmaandtarief | E23: =ROUND(E20*B21*(365/12/7),0) -> 300
A24: Maximum uurtarief inclusief opslag (+10%) | E24: =ROUND(1.1*E20,2) -> 36.16
A25: Maximum maandtarief inclusief opslag (+10%) | E25: =ROUND(E24*E21*(365/12/7),0) -> 0
A26: Uw voorstel maandtarief
A27: Door u gehanteerd korting of opslag (van -40% tot +10%) | E27: =IF(AND(COUNTA(C9,C11,C14,C15,C16,C18)<6,E26>E23),"vul blauwe cellen",IF(AND((E26-E23)/E23>0,OR(C15>lijsten!$B$2,C16>3%,C18<lijsten!$B$3)),"overschrijding",IF(E26=E25,10%,IF(E26>0,TEXT((E26-E23)/E23,"0,0%")*1,)))) -> 0.1 | F27: =IF(G27<>"","------->","") -> -------> | G27: =IF(E27="overschrijding","U hanteert een opslag op het geldend normtarief ("&TEXT((E26-E23)/E23,"+0,0%")&"). U mag daardoor geen rode cellen hebben in uw tariefvoorstel. Vul bij de rode cel(len) waarde(n) in binnen de gestelde minima / maxima.",IF(E27="vul blauwe cellen","U hanteert een opslag op het normtarief. U moet alle blauwe cellen invullen",IF(E27>10%,"U hanteert een opslag van >10%. Uw inschrijving is zo niet geschikt voor gunning.",IF(E27=10%,"U hanteert de maximale opslag van 10% op het normtarief",IF(E27>0%,"Uw tarief is hoger dan het normtarief, u hanteert een opslag van "&TEXT(E27,"0,0%"),IF(E27<0,"(U geeft een korting van "&TEXT(-E27,"0,0%")&" op het normtarief)",IF(AND(E27=0%,E26<>""),"(U kiest ervoor geen korting of opslag te hanteren)",""))))))) -> U hanteert de maximale opslag van 10% op het normtarief
A28: ="Uw effectieve (winst)marge (inclusief de hierboven opgegeven "&TEXT(C16,"0,0%")&")" -> Uw effectieve (winst)marge (inclusief de hierboven opgegeven 0,0%) | E28: =IFERROR(IF(E26<>"",((E26-ROUND(E22,2))/ROUND(E22,2))+C16,""),"")
A29: * Zie tabblad 'Rekenhulp Overheadkosten' voor definties en rekentool
A31: Hulp bij het huishouden specialistisch
A32: Kostencomponent | B32: Normtarief | C32: Uw waarde | D32: Bedrag | E32: Cumulatief
A33: Gewogen cao-salaris (bruto per fte per maand) | B33: ='Normtarief Hbh specialistisch'!F34 -> 2146.774 | D33: =C33 -> 0 | E33: =D33 -> 0
A34: Cao jaarsalaris | C34: 12 | D34: =C34*E33 -> 0 | E34: =D34 -> 0
A35: Onregelmatigheidstoeslag (%) | B35: ='Normtarief Hbh specialistisch'!B37 -> 0.08 | D35: =C35*E34 -> 0 | E35: =E34+D35 -> 0
A36: Vakantiegeld (%) | C36: 0.08 | D36: =C36*E35 -> 0 | E36: =E35+D36 -> 0
A37: Eindejaarsuitkering (% | C37: 0.0833 | D37: =C37*E36 -> 0 | E37: =E36+D37 -> 0
A38: Sociale lasten (%) | B38: ='Normtarief Hbh specialistisch'!B39 -> 0.25 | D38: =C38*E37 -> 0 | E38: =E37+D38 -> 0
A39: ="Opslag overhead (bij positieve korting maximaal "&TEXT(lijsten!$C$2,"€0.000")&")*" -> Opslag overhead (bij positieve korting maximaal €10.500)* | B39: ='Normtarief Hbh specialistisch'!B40 -> 9000 | D39: =C39 -> 0 | E39: =E38+D39 -> 0
A40: Risico-opslag (bij positieve korting maximaal 3%) | B40: ='Normtarief Hbh specialistisch'!B41 -> 0.03 | D40: =C40*E39 -> 0 | E40: =E39+D40 -> 0
A41: Totaal kosten per fte | E41: =E40 -> 0
A42: ="Declarabele uren (bij positieve korting minimaal "&TEXT(lijsten!C3,"0.000")&" per fte per jaar)" -> Declarabele uren (bij positieve korting minimaal 1.410 per fte per jaar) | B42: ='Normtarief Hbh specialistisch'!B43 -> 1450 | D42: =C42 -> 0
...

Sheet Toelichting
A1: Toelichting Wmo Hulp bij het huishouden
B3: LET OP: Alleen een tarief indienen voor de producten waarvoor u zich ook daadwerkelijk inschrijft!
B4: U dient uw tariefvoorstel per product op tabblad tariefvoorstel in te dienen
B5: De normtarieven zijn tot stand gekomen op basis van een tarievenonderzoek onder de huidig gecontracteerde aanbieders aan de hand van de productomschrijvigen zoals opgenomen in deze aanbesteding.
B6: Het maandtarief is passend en kostendekkend als gemiddeld tarief voor alle cliënten. Het tarief is gebaseerd op een gemiddelde inzet van een aantal minuten per maand. Deze werkwijze biedt Opdrachtnemer de mogelijkheid om de Hulp bij het huishouden flexibel in te zetten, binnen de periode en binnen de eigen cliëntenpopulatie.

Sheet Normtarief Hbh basis
B2: Hulp bij het huishouden basis
B5: Prijsstijgingen | C5: Prijspeil | D5: Indexatie naar pp2023
B6: vvt | C6: 44621 | D6: 0.03
B7: loondeel overhead | C7: 44927 | D7: 0
B8: materiële kosten | C8: 44927 | D8: 0
B11: Opslag overhead | D11: 2023 | E11: pp2023
B12: loondeel overhead | C12: 0.85 | D12: 7225 | E12: 7225
B13: m-deel overhead | C13: 0.15 | D13: 1275 | E13: 1275
B14: Opslag overhead | C14: 1 | D14: 8500 | E14: 8500
B17: Disciplinemix | D17: mix | E17: Max periodiek | F17: Max pp2023 | G17: % max periodiek | H17: Salaris pp2023
B18: HV0 VVT | D18: 0.045714286 | E18: 1860.7 | F18: 1916.521 | G18: 0.91 | H18: 1744.0341
B19: HV1 VVT | D19: 0.0575 | E19: 1950.45 | F19: 2008.9635 | G19: 0.91 | H19: 1828.1568
B20: HV2 VVT | D20: 0.039642857 | E20: 2040.23 | F20: 2101.4369 | G20: 0.91 | H20: 1912.3076
B21: HV3 VVT | D21: 0.041071429 | E21: 2130.03 | F21: 2193.9309 | G21: 0.91 | H21: 1996.4771
B22: HV4 VVT | D22: 0.032142857 | E22: 2219.81 | F22: 2286.4043 | G22: 0.91 | H22: 2080.6279
B23: HV5 VVT | D23: 0.2125 | E23: 2311.94 | F23: 2381.2982 | G23: 0.91 | H23: 2166.9814
B24: FWG 15 VVT | D24: 0.47142857 | E24: 2345.78 | F24: 2416.1534 | G24: 0.91 | H24: 2198.6996
B25: FWG 20 VVT | D25: 0.048214286 | E25: 2493.78 | F25: 2568.5934 | G25: 0.91 | H25: 2337.42
B26: FWG 25 VVT | D26: 0.051785714 | E26: 2638.8 | F26: 2717.964 | G26: 0.91 | H26: 2473.3472
B27: Gewogen salaris | D27: 1 | E27: 2290.9693 | F27: 2359.6984 | H27: 2147.3256
B34: Rekenwaarde | C34: Kostencomponent | F34: Bedrag | G34: Cumulatief
C35: gewogen cao salaris pp2023 | F35: 2147.3256 | G35: 2147.3256
B36: 12 | C36: cao jaarsalaris | F36: 25767.907 | G36: 25767.907
B37: 0.0025 | C37: jaarloon inclusief ...en ort | F37: 64.419767 | G37: 25832.326
B38: 0.08 | C38: jaarloon inclusief vakantiegeld | F38: 2066.5861 | G38: 27898.913
B39: 0.083 | C39: jaarloon inclusief ... en eindejaarsuitkering | F39: 2323.9794 | G39: 30222.892
B40: 0.25 | C40: jaarloon inclusief...en sociale lasten | F40: 7555.723 | G40: 37778.615
B41: 8500 | C41: opslag overhead | F41: 8500 | G41: 46278.615
B42: 0.03 | C42: risico-opslag | F42: 1388.3584 | G42: 47666.973
C43: totaal kosten per fte | F43: 47666.973
B44: 1450 | C44: declarabele uren | F44: 1450
C45: uurtarief 2023 | F45: 32.873775

Sheet Normtarief Hbh specialistisch
B2: Hulp bij het huishouden specialistisch
B5: Prijsstijgingen | C5: Prijspeil | D5: Indexatie naar pp2023
B6: vvt | C6: 44621 | D6: 0.03
B7: loondeel overhead | C7: 44927 | D7: 0
B8: materiële kosten | C8: 44927 | D8: 0
B11: Opslag overhead | D11: 2023 | E11: pp2023
B12: loondeel overhead | C12: 0.85 | D12: 7650 | E12: 7650
B13: m-deel overhead | C13: 0.15 | D13: 1350 | E13: 1350
B14: Opslag overhead | C14: 1 | D14: 9000 | E14: 9000
B17: Disciplinemix | D17: mix | E17: Max periodiek | F17: Max pp2023 | G17: % max periodiek | H17: Salaris pp2023
B18: HV0 VVT | D18: 0.047857143 | E18: 1860.7 | F18: 1916.521 | G18: 0.91 | H18: 1744.0341
B19: HV1 VVT | D19: 0.05125 | E19: 1950.45 | F19: 2008.9635 | G19: 0.91 | H19: 1828.1568
B20: HV2 VVT | D20: 0.037321429 | E20: 2040.23 | F20: 2101.4369 | G20: 0.91 | H20: 1912.3076
B21: HV3 VVT | D21: 0.033035714 | E21: 2130.03 | F21: 2193.9309 | G21: 0.91 | H21: 1996.4771
B22: HV4 VVT | D22: 0.041071429 | E22: 2219.81 | F22: 2286.4043 | G22: 0.91 | H22: 2080.6279
B23: HV5 VVT | D23: 0.25375 | E23: 2311.94 | F23: 2381.2982 | G23: 0.91 | H23: 2166.9814
B24: FWG 15 VVT | D24: 0.43571429 | E24: 2345.78 | F24: 2416.1534 | G24: 0.91 | H24: 2198.6996
B25: FWG 20 VVT | D25: 0.061607143 | E25: 2493.78 | F25: 2568.5934 | G25: 0.91 | H25: 2337.42
B26: FWG 25 VVT | D26: 0.038392857 | E26: 2638.8 | F26: 2717.964 | G26: 0.91 | H26: 2473.3472
B27: Gewogen salaris | D27: 1 | E27: 2290.3808 | F27: 2359.0923 | H27: 2146.774
B33: Rekenwaarde | C33: Kostencomponent | F33: Bedrag | G33: Cumulatief
C34: gewogen cao salaris pp2023 | F34: 2146.774 | G34: 2146.774
B35: 12 | C35: cao jaarsalaris | F35: 25761.288 | G35: 25761.288
B36: 0.0025 | C36: jaarloon inclusief ...en ort | F36: 64.403219 | G36: 25825.691
B37: 0.08 | C37: jaarloon inclusief vakantiegeld | F37: 2066.0553 | G37: 27891.746
B38: 0.0833 | C38: jaarloon inclusief ... en eindejaarsuitkering | F38: 2323.3824 | G38: 30215.128
B39: 0.25 | C39: jaarloon inclusief...en sociale lasten | F39: 7553.7821 | G39: 37768.911
B40: 9000 | C40: opslag overhead | F40: 9000 | G40: 46768.911
B41: 0.03 | C41: risico-opslag | F41: 1403.0673 | G41: 48171.978
C42: totaal kosten per fte | F42: 48171.978
B43: 1450 | C43: declarabele uren | F43: 1450
C44: uurtarief 2023 | F44: 33.222054

Sheet Rekenhulp Overheadkosten
A1: Overhead
A3: Definitie overhead
A4: Overhead bestaat uit alle kosten anders dan de loonkosten van direct personeel, de cliëntgerelateerde huisvestingskosten en verzorgingskosten voor wonen/24-uurs verblijf en dagbesteding/-behandeling, de academische functie en de voorwacht / achterwacht en crisisfunctie, voor zover deze zorgvormen door uw zorginstelling worden geleverd.
A6: REKENTOOL OVERHEAD
A7: Totale kosten 2021 | C7: Conform jaarrekening
A8: minus alle loonkosten* ambulant hulpverleners | C8: Deze kosten beschouwen we als NIET-overheadkosten
A9: minus alle loonkosten* (woon)begeleiders (24-uurs verblijf/wonen of dagbesteding/-behandeling, vzo)
A10: minus alle kosten externe inhuur ambulant hulpverleners
A11: minus alle cliëntgebonden huisvestingskosten** verblijf/wonen of dagbesteding/-behandeling
A12: minus alle cliëntgebonden verzorgingskosten*** verblijf/wonen of dagbesteding/-behandeling
A13: minus kosten academische functie (waarschijnlijk op basis van een schatting)
A14: minus kosten van pleegzorg-specifieke overhead en pleegvergoedingen
A15: minus overheadkosten met specieke opbrengsten, zoals detacheringsopbrengsten
A16: minus de kosten van de voorwacht en achterwachtfunctie/crisisdienst
A17: Omvang overheadkosten (wordt automatisch gevuld) | B17: =B7-SUM(B8:B16) -> 0
A18: Fte ALLE ambulant hulpverleners EN (woon)begeleiders (verblijf/wonen of dagbesteding/-behandeling/vzo)
A19: Opslag overhead per directe fte (prijspeil 2021) | B19: =IFERROR(B17/B18,"") | D19: (typ deze berekende waarde over, of typ hieronder een waarde in die de werklijkheid beter weergeeft)
B21: euro per directe fte**
A22: Opslag overhead per directe fte
A24: * De loonkosten behandelaren en begeleiders zijn uitsluitend:
A25: Loonkosten begeleiders en behandelaren, inclusief:
A26: Salariskosten
A27: Vakantiegeld
A28: Eindejaarsuitkering
A29: Onregelmatigheidstoeslagen
A30: Sociale premies en pensioenen (werkgeversdeel)
A31: NIET: eenmalige uitkeringen/salarisbetalingen
A32: NIET: gratificaties, bonussen, opleidingskosten, personeelsuitjes
A33: NIET: vergoedingen of bijdragen aan (reis- of vervoers-)kosten
A35: ** Cliëntgebonden huisvestingskosten (wonen/verblijf en dagbesteding/dagbehandeling) bestaan uit:
... A61: NIET: schoonmaak gebouwen

Sheet lijsten
A1: Minima bij positieve korting | B1: Hbh basis | C1: Hbh specialistisch
A2: Overhead | B2: 9500 | C2: 10500
A3: declarabele uren | B3: 1420 | C3: 1410
