Workbook

Sheet Totalen
A1: Overzicht
B2: Werkplekken | C2: DVL PC's | D2: TRDL PC's | E2: PBH PC's | F2: KA/OCCR PC's | G2: Specials
A3: Geheugen | C3: 32 G | D3: 16 G | E3: 32 G | F3: 16 G
A4: Video Uitgangen | C4: 4 | D4: 8 | E4: 1 | F4: 1
A5: Netwerk | C5: 2 UTP | D5: 2 UTP | E5: 2 UTP | F5: 1 UTP
A9: Ontwikkel | B9: ='Ontwikkel '!B10 -> 2 | C9: ='Ontwikkel '!F10 -> 1 | D9: ='Ontwikkel '!L10 -> 1 | E9: ='Ontwikkel '!Q10 -> 0 | F9: ='Ontwikkel '!W10 -> 0
A10: Test en Acceptatie | B10: ='Test en Acceptatie'!B41 -> 31 | C10: ='Test en Acceptatie'!F41 -> 8 | D10: ='Test en Acceptatie'!L41 -> 22 | E10: ='Test en Acceptatie'!Q41 -> 1 | F10: ='Test en Acceptatie'!W41 -> 0
A11: Productie | B11: =Productie!B186 -> 144 | C11: =Productie!F186 -> 42 | D11: =Productie!L186 -> 118 | E11: =Productie!Q186 -> 13 | F11: =Productie!W186 -> 0
A12: Opleiding | B12: =Opleiding!B105 -> 74 | C12: =Opleiding!F105 -> 33 | D12: =Opleiding!L105 -> 61 | E12: =Opleiding!Q105 -> 0 | F12: =Opleiding!W105 -> 49
A14: Totaal | B14: =SUM(B9:B13) -> 251 | C14: =SUM(C9:C13) -> 84 | D14: =SUM(D9:D13) -> 202 | E14: =SUM(E9:E13) -> 14 | F14: =SUM(F9:F13) -> 49 | G14: =SUM(G9:G13) -> 0 | H14: =SUM(H9:H13) -> 0

Sheet Ontwikkel 
A1: Ontwikkel Omgeving
C2: Werkplek | F2: DVL | L2: TRDL | Q2: PBH | W2: KA
A3: Locatie | C3: WPK nummer | D3: Functie | F3: Aantal PC's | G3: Aantal Video uitgangen | H3: Scherm-grootte in inch | I3: Maximale resolutie | J3: Ingestelde resolutie | L3: Aantal PC's | M3: Aantal Video uitgangen | N3: Scherm-grootte in inch | O3: Resolutie | Q3: Aantal PC's | R3: Aantal Video uitgangen | S3: Scherm-grootte in inch | T3: Maximale resolutie | U3: Ingestelde resolutie | W3: Aantal PC's | X3: Aantal Video uitgangen | Y3: Scherm-grootte in inch | Z3: Resolutie
A5: AHL-OT
B6: 1 | D6: DVL Ontwikkel PC | F6: 1 | G6: 4 | H6: 32 | I6: 3840 x 2160 | J6: 2560 x 1440
B7: 1 | D7: TRDL Ontwikkel PC | L7: 1 | M7: 8 | N7: 21 | O7: 1600 x 1200
A10: Totaal: | B10: =SUM(B6:B9) -> 2 | F10: =SUM(F6:F9) -> 1 | G10: =SUM(G6:G9) -> 4 | L10: =SUM(L6:L9) -> 1 | M10: =SUM(M6:M9) -> 8 | Q10: =SUM(Q6:Q9) -> 0 | R10: =SUM(R6:R9) -> 0 | W10: =SUM(W6:W9) -> 0 | X10: =SUM(X6:X9) -> 0

Sheet Test en Acceptatie
A1: Test en Acceptatie Omgeving
C2: Werkplek | F2: DVL | L2: TRDL | Q2: PBH | W2: KA
A3: Locatie | C3: WPK nummer | D3: Functie | F3: Aantal PC's | G3: Aantal Video uitgangen | H3: Scherm-grootte in inch | I3: Maximale resolutie | J3: Ingestelde resolutie | L3: Aantal PC's | M3: Aantal Video uitgangen | N3: Scherm-grootte in inch | O3: Resolutie | Q3: Aantal PC's | R3: Aantal Video uitgangen | S3: Scherm-grootte in inch | T3: Maximale resolutie | U3: Ingestelde resolutie | W3: Aantal PC's | X3: Aantal Video uitgangen | Y3: Scherm-grootte in inch | Z3: Resolutie
A5: PTC
B6: 1 | C6: WPK1089 | D6: DVL | F6: 1 | G6: 4 | H6: 32 | I6: 3840 x 2160 | J6: 2560 x 1440
B7: 1 | C7: WPK1084 | D7: DVL - VOS3 | F7: 1 | G7: 4 | H7: 32 | I7: 3840 x 2160 | J7: 2560 x 1440
B8: 1 | C8: WPK1016 | D8: DVL - VOS1 | F8: 1 | G8: 4 | H8: 32 | I8: 3840 x 2160 | J8: 2560 x 1440
B9: 1 | C9: WPK1018 | D9: DVL - VOS4 / GPW2.1 Test en Acceptatie | F9: 1 | G9: 4 | H9: 32 | I9: 3840 x 2160 | J9: 2560 x 1440
B10: 1 | C10: WPK1019 | D10: DVL - VOS2 | F10: 1 | G10: 4 | H10: 32 | I10: 3840 x 2160 | J10: 2560 x 1440
B11: 1 | C11: WPK1019 | D11: DVL - VOS5 | F11: 1 | G11: 4 | H11: 32 | I11: 3840 x 2160 | J11: 2560 x 1440
B12: 1 | C12: WPK511 | D12: DVL - GPW2.1 Test en Acceptatie | F12: 1 | G12: 4 | H12: 32 | I12: 3840 x 2160 | J12: 2560 x 1440
B13: 1 | C13: WPK1012 | D13: DVL | F13: 1 | G13: 4 | H13: 32 | I13: 3840 x 2160 | J13: 2560 x 1440
B14: 1 | C14: WPK593 | D14: PBH PC / GPW2.1 Test en acceptatie | Q14: 1 | R14: 1 | S14: 32 | T14: 3840 x 2160 | U14: 2560 x 1440
B15: 1 | C15: WPK1005 | D15: TRDL1 TMC | L15: 1 | M15: 6 | N15: 21 | O15: 1600 x 1200
B16: 1 | C16: WPK1006 | D16: TRDL2 TMC | L16: 1 | M16: 6 | N16: 21 | O16: 1600 x 1200
B17: 1 | C17: WPK1008 | D17: TRDL1 TMB | L17: 1 | M17: 8 | N17: 21 | O17: 1600 x 1200
B18: 1 | C18: WPK1007 | D18: TRDL2 TMB | L18: 1 | M18: 6 | N18: 21 | O18: 1600 x 1200
B19: 1 | C19: WPK1080 | D19: TRDL4 TMC | L19: 1 | M19: 6 | N19: 21 | O19: 1600 x 1200
B20: 1 | C20: WPK1081 | D20: TRDL3 TMC | L20: 1 | M20: 6 | N20: 21 | O20: 1600 x 1200
B21: 1 | C21: WPK1083 | D21: TRDL1 TMC | L21: 1 | M21: 6 | N21: 21 | O21: 1600 x 1200
B22: 1 | C22: WPK1085 | D22: TRDL2 TMC | L22: 1 | M22: 6 | N22: 21 | O22: 1600 x 1200
B23: 1 | C23: WPK1001 | D23: TRDL1 VLV | L23: 1 | M23: 6 | N23: 21 | O23: 1600 x 1200
B24: 1 | C24: WPK1002 | D24: TRDL2 VLV | L24: 1 | M24: 6 | N24: 21 | O24: 1600 x 1200
B25: 1 | C25: WPK1011 | D25: TRDL1 TMC | L25: 1 | M25: 8 | N25: 21 | O25: 1600 x 1200
B26: 1 | C26: WPK1015 | D26: TRDL2 TMC | L26: 1 | M26: 6 | N26: 21 | O26: 1600 x 1200
... B36: 1 | C36: WPK4 | D36: TRDL2 PEIL | L36: 1 | M36: 6 | N36: 21 | O36: 1600 x 1200
A41: Totaal: | B41: =SUM(B5:B40) -> 31 | F41: =SUM(F5:F40) -> 8 | G41: =SUM(G5:G40) -> 32 | L41: =SUM(L5:L40) -> 22 | M41: =SUM(M5:M40) -> 134 | Q41: =SUM(Q5:Q40) -> 1 | R41: =SUM(R5:R40) -> 1 | V41: =SUM(V5:V40) -> 0 | W41: =SUM(W5:W40) -> 0 | X41: =SUM(X5:X40) -> 0

Sheet Productie
A1: Productie Omgeving
C2: Werkplek | F2: DVL | L2: TRDL | Q2: PBH | W2: KA
A3: Locatie | C3: WPK nummer | D3: Functie | F3: Aantal PC's | G3: Aantal Video uitgangen | H3: Scherm-grootte in inch | I3: Maximale resolutie | J3: Ingestelde resolutie | L3: Aantal PC's | M3: Aantal Video uitgangen | N3: Scherm-grootte in inch | O3: Resolutie | Q3: Aantal PC's | R3: Aantal Video uitgangen | S3: Scherm-grootte in inch | T3: Maximale resolutie | U3: Ingestelde resolutie | W3: Aantal PC's | X3: Aantal Video uitgangen | Y3: Scherm-grootte in inch | Z3: Resolutie
A5: Inktpot
B6: 2 | C6: WPK382 | D6: FuB Inktpot | F6: 2 | G6: 2 | H6: 32 | I6: 3840 x 2160 | J6: 2560 x 1440
A8: Duisburg
B9: 1 | C9: WPK418 | D9: Grensdisponent Duisburg | F9: 1 | G9: 3 | H9: 30 | I9: 2560 x 1600
A11: VL Arnhem
B12: 1 | C12: WPK017 | D12: DVL | F12: 1 | G12: 4 | H12: 32 | I12: 3840 x 2160 | J12: 2560 x 1440 | L12: 1 | M12: 2 | N12: 21 | O12: 1600 x 1200
B13: 1 | C13: WPK415 | D13: DVL | F13: 1 | G13: 4 | H13: 32 | I13: 3840 x 2160 | J13: 2560 x 1440 | L13: 1 | M13: 2 | N13: 21 | O13: 1600 x 1200
B14: 1 | C14: WPK011 | D14: Treindienstleider NM | L14: 1 | M14: 5 | N14: 21 | O14: 1600 x 1200
B15: 1 | C15: WPK012 | D15: Treindienstleider WOA | L15: 1 | M15: 8 | N15: 21 | O15: 1600 x 1200
B16: 1 | C16: WPK013 | D16: Treindienstleider Achterhoek | L16: 1 | M16: 2 | N16: 21 | O16: 1600 x 1200
B17: 1 | C17: WPK013 | D17: Treindienstleider Achterhoek | L17: 1 | M17: 5 | N17: 21 | O17: 1600 x 1200
B18: 1 | C18: WPK014 | D18: Treindienstleider NM1 | L18: 1 | M18: 5 | N18: 21 | O18: 1600 x 1200
B19: 1 | C19: WPK016 | D19: Treindienstleider ZP | L19: 1 | M19: 5 | N19: 21 | O19: 1600 x 1200
B20: 1 | C20: WPK008 | D20: Treindienstleider AH | L20: 1 | M20: 5 | N20: 21 | O20: 1600 x 1200
B21: 1 | C21: WPK018 | D21: Frontoffice / Calamiteiten | L21: 1 | M21: 6 | N21: 21 | O21: 1600 x 1200
B22: 1 | C22: WPK009 | D22: Treindienstleider VA | L22: 1 | M22: 6 | N22: 21 | O22: 1600 x 1200
B23: 1 | C23: WPK015 | D23: Planbeheer | Q23: 1 | R23: 1 | S23: 21 | T23: 1600 x 1200
A25: VL Amersfoort (UT)
B26: 1 | C26: WPK267 | D26: DVL | F26: 1 | G26: 4 | H26: 32 | I26: 3840 x 2160 | J26: 2560 x 1440
D27: View t.b.v. DVL | F27: 1 | G27: 4 | H27: 21 | I27: 1600 x 1200
B28: 1 | C28: WPK257 | D28: Amersfoort planner | L28: 1 | M28: 8 | N28: 21 | O28: 1600 x 1200
B29: 1 | C29: WPK229 | D29: Amersfoort | L29: 1 | M29: 8 | N29: 21 | O29: 1600 x 1200
B30: 1 | C30: WPK203 | D30: Amersfoort Stiluwe | L30: 1 | M30: 8 | N30: 21 | O30: 1600 x 1200
B31: 1 | C31: WPK202 | D31: Amersfoort Goollijn | L31: 1 | M31: 8 | N31: 21 | O31: 1600 x 1200
B32: 1 | C32: WPK256 | D32: Amersfoort calamiteiten | L32: 1 | M32: 8 | N32: 21 | O32: 1600 x 1200
B33: 1 | C33: WPK269 | D33: FuB AMF | L33: 1 | M33: 8 | N33: 21 | O33: 1600 x 1200 | Q33: 1 | R33: 1 | S33: 32 | T33: 3840 x 2160 | U33: 2560 x 1440
A35: VL Alkmaar
B36: 1 | C36: WPK430 | D36: DVL | F36: 1 | G36: 4 | H36: 32 | I36: 3840 x 2160 | J36: 2560 x 1440
D37: View t.b.v. DVL | F37: 1 | G37: 4 | H37: 21 | I37: 1600 x 1200
B38: 1 | C38: WPK030 | D38: Treindienstleider AMR | L38: 1 | M38: 6 | N38: 21 | O38: 1600 x 1200
B39: 1 | C39: WPK028 | D39: Treindienstleider HN | L39: 1 | M39: 6 | N39: 21 | O39: 1600 x 1200
B40: 1 | C40: WPK034 | D40: Calamiteiten | L40: 1 | M40: 6 | N40: 21 | O40: 1600 x 1200 | Q40: 1 | R40: 1 | S40: 21 | T40: 1600 x 1200
B41: 1 | C41: WPK033 | D41: Treindienstleider HLM | L41: 1 | M41: 6 | N41: 21 | O41: 1600 x 1200
B42: 1 | C42: WPK027 | D42: Treindienstleider UTG | L42: 1 | M42: 6 | N42: 21 | O42: 1600 x 1200
B43: 1 | C43: WPK031 | D43: WOA ASD | L43: 1 | M43: 8 | N43: 21 | O43: 1600 x 1200
A45: VL Amsterdam
B46: 1 | C46: WPK260 | D46: DVL | F46: 1 | G46: 4 | H46: 32 | I46: 3840 x 2160 | J46: 2560 x 1440
D47: View t.b.v. DVL | F47: 1 | G47: 4 | H47: 21 | I47: 1600 x 1200
B48: 1 | C48: WPK385 | D48: DVL | F48: 1 | G48: 4 | H48: 32 | I48: 3840 x 2160 | J48: 2560 x 1440 | L48: 1 | M48: 4 | N48: 21 | O48: 1600 x 1200
B49: 1 | C49: WPK498 | D49: DVL | F49: 1 | G49: 4 | H49: 32 | I49: 3840 x 2160 | J49: 2560 x 1440
D50: View t.b.v. DVL | F50: 1 | G50: 4 | H50: 21 | I50: 1600 x 1200
B51: 1 | C51: WPK045 | D51: ASD Calamiteiten A2 | L51: 1 | M51: 8 | N51: 21 | O51: 1600 x 1200
B52: 1 | C52: WPK036 | D52: Treindienstleider UT-lijn | L52: 1 | M52: 8 | N52: 21 | O52: 1600 x 1200
B53: 1 | C53: WPK037 | D53: Treindienstleider ASD Zuidtak | L53: 1 | M53: 8 | N53: 21 | O53: 1600 x 1200
B54: 1 | C54: WPK038 | D54: Treindienstleider SHL | L54: 1 | M54: 8 | N54: 21 | O54: 1600 x 1200
B55: 1 | C55: WPK039 | D55: Treindienstleider | L55: 1 | M55: 8 | N55: 21 | O55: 1600 x 1200
B56: 1 | C56: WPK046 | D56: TRDl Felvo planner hoofddorp | L56: 1 | M56: 8 | N56: 21 | O56: 1600 x 1200
B57: 1 | C57: WPK040 | D57: Treindienstleider | L57: 1 | M57: 8 | N57: 21 | O57: 1600 x 1200
B58: 1 | C58: WPK042 | D58: Treindienstleider singelgracht | L58: 1 | M58: 8 | N58: 21 | O58: 1600 x 1200
B59: 1 | C59: WPK043 | D59: Treindienstleider ASD oost | L59: 1 | M59: 8 | N59: 21 | O59: 1600 x 1200
B60: 1 | C60: WPK484 | D60: Postbeheer / Calamiteit | L60: 1 | M60: 8 | N60: 21 | O60: 1600 x 1200 | Q60: 1 | R60: 1 | S60: 21 | T60: 1600 x 1200
B61: 1 | C61: WPK497 | D61: Calamiteiten SAAL ASD | L61: 1 | M61: 8 | N61: 21 | O61: 1600 x 1200
B62: 1 | C62: WPK050 | D62: Treindienstleider ASD West | L62: 1 | M62: 8 | N62: 21 | O62: 1600 x 1200
B63: 1 | C63: WPK051 | D63: Treindienstleider HS/DT | L63: 1 | M63: 8 | N63: 21 | O63: 1600 x 1200
A65: VL Eindhoven
B66: 1 | C66: WPK675 | D66: DVL | F66: 1 | G66: 4 | H66: 32 | I66: 3840 x 2160 | J66: 2560 x 1440 | L66: 1 | M66: 5 | N66: 21 | O66: 1600 x 1200
B67: 1 | C67: WPK676 | D67: DVL | F67: 1 | G67: 4 | H67: 32 | I67: 3840 x 2160 | J67: 2560 x 1440 | L67: 1 | M67: 5 | N67: 21 | O67: 1600 x 1200
B68: 1 | C68: WPK427 | D68: PostBeheer | F68: 1 | G68: 4 | H68: 32 | I68: 3840 x 2160 | J68: 2560 x 1440 | L68: 1 | M68: 5 | N68: 21 | O68: 1600 x 1200 | Q68: 1 | R68: 1 | S68: 21 | T68: 1600 x 1200
B69: 1 | C69: WPK059 | D69: Planner EHV | L69: 1 | M69: 8 | N69: 21 | O69: 1600 x 1200
B70: 1 | C70: WPK060 | D70: Treindienstleider Calamiteiten | L70: 1 | M70: 6 | N70: 21 | O70: 1600 x 1200
B71: 1 | C71: WPK061 | D71: Treindienstleider VL & BVLO-er | F71: 1 | G71: 1 | H71: 21 | I71: 1600 x 1200 | L71: 1 | M71: 6 | N71: 21 | O71: 1600 x 1200
B72: 1 | C72: WPK055 | D72: Treindienstleider MSL | L72: 1 | M72: 6 | N72: 21 | O72: 1600 x 1200
B73: 1 | C73: WPK062 | D73: Treindienstleider EHV | L73: 1 | M73: 6 | N73: 21 | O73: 1600 x 1200
B74: 1 | C74: WPK063 | D74: Treindienstleider TB | L74: 1 | M74: 6 | N74: 21 | O74: 1600 x 1200
B75: 1 | C75: WPK426 | D75: Treindienstleider Calamiteiten EHV | L75: 1 | M75: 6 | N75: 21 | O75: 1600 x 1200
B76: 1 | C76: WPK057 | D76: Treindienstleider HT | L76: 1 | M76: 6 | N76: 21 | O76: 1600 x 1200
B77: 1 | C77: WPK684 | D77: Treindienstleider WOA | L77: 1 | M77: 6 | N77: 21 | O77: 1600 x 1200
A79: VL Groningen
B80: 1 | C80: WPK209 | D80: DVL | F80: 1 | G80: 4 | H80: 32 | I80: 3840 x 2160 | J80: 2560 x 1440 | L80: 1 | M80: 5 | N80: 21 | O80: 1600 x 1200
B81: 1 | C81: WPK071 | D81: Calamiteiten | L81: 1 | M81: 8 | N81: 21 | O81: 1600 x 1200
B82: 1 | C82: WPK067 | D82: Treindienstleider INTEGRO | L82: 1 | M82: 8 | N82: 21 | O82: 1600 x 1200
B83: 1 | C83: WPK068 | D83: Treindienstleider Lauwers | L83: 1 | M83: 8 | N83: 21 | O83: 1600 x 1200
B84: 1 | C84: WPK069 | D84: Treindienstleider NCBG | L84: 1 | M84: 8 | N84: 21 | O84: 1600 x 1200
B85: 1 | C85: WPK070 | D85: Treindienstleider GN | L85: 1 | M85: 8 | N85: 21 | O85: 1600 x 1200
B86: 1 | C86: WPK066 | D86: Treindienstleider LW | L86: 1 | M86: 8 | N86: 21 | O86: 1600 x 1200
B87: 1 | C87: WPK558 | D87: PBH++ | Q87: 1 | R87: 1 | S87: 21 | T87: 1600 x 1200
B88: 1 | C88: BRUG | D88: View brugwachter | F88: 1 | G88: 1 | H88: 21 | I88: 1600 x 1200
A90: VL Den Haag
B91: 1 | C91: WPK220 | D91: DVL | F91: 1 | G91: 4 | H91: 32 | I91: 3840 x 2160 | J91: 2560 x 1440
B92: 1 | C92: WPK075 | D92: DVL & Treindienstleider Planner | F92: 1 | G92: 2 | H92: 32 | I92: 3840 x 2160 | J92: 2560 x 1440 | L92: 1 | M92: 5 | N92: 21 | O92: 1600 x 1200
B93: 1 | C93: WPK074 | D93: Treindienstleider LEDN | L93: 1 | M93: 5 | N93: 21 | O93: 1600 x 1200
B94: 1 | C94: WPK076 | D94: Treindienstleider GV/DT | L94: 1 | M94: 5 | N94: 21 | O94: 1600 x 1200
B95: 1 | C95: WPK080 | D95: Treindienstleider GVC | L95: 1 | M95: 5 | N95: 21 | O95: 1600 x 1200
B96: 1 | C96: WPK077 | D96: Calamiteiten | L96: 1 | M96: 5 | N96: 21 | O96: 1600 x 1200
B97: 1 | C97: WPK081 | D97: Treindienstleider & PBH++ | L97: 1 | M97: 6 | N97: 21 | O97: 1600 x 1200 | Q97: 1 | R97: 1 | S97: 21 | T97: 1600 x 1200
B98: 1 | C98: WPK073 | D98: Treindienstleider WOA | L98: 1 | M98: 8 | N98: 21 | O98: 1600 x 1200
A100: VL Kijfhoek
B101: 1 | C101: WPK236 | D101: DVL | F101: 1 | G101: 4 | H101: 32 | I101: 3840 x 2160 | J101: 2560 x 1440
B102: 1 | C102: WPK237 | D102: DVL | F102: 1 | G102: 4 | H102: 32 | I102: 3840 x 2160 | J102: 2560 x 1440
B103: 1 | C103: WPK504 | D103: DVL | F103: 1 | G103: 4 | H103: 32 | I103: 3840 x 2160 | J103: 2560 x 1440
B104: 1 | C104: WPK453 | D104: Treindienstleider HEUVEL | L104: 1 | M104: 2 | N104: 21 | O104: 1600 x 1200
B105: 1 | C105: WPK455 | D105: Calamiteiten | L105: 1 | M105: 7 | N105: 21 | O105: 1600 x 1200
B106: 1 | C106: WPK456 | D106: Treindienstleider KFH | L106: 1 | M106: 7 | N106: 21 | O106: 1600 x 1200
B107: 1 | C107: WPK457 | D107: Treindienstleider A15 | L107: 1 | M107: 7 | N107: 21 | O107: 1600 x 1200
B108: 1 | C108: WPK475 | D108: TRDL Waalhaven zuid | L108: 1 | M108: 7 | N108: 21 | O108: 1600 x 1200
B109: 1 | C109: WPK476 | D109: Calamiteiten zevenaar a15 | L109: 1 | M109: 7 | N109: 21 | O109: 1600 x 1200
B110: 1 | C110: WPK451 | D110: Treindienstleider BOTLEK | L110: 1 | M110: 7 | N110: 21 | O110: 1600 x 1200
...

Sheet Opleiding
A1: Opleidingsomgeving
C2: Werkplek | F2: DVL | L2: TRDL | Q2: PBH | W2: KA / OCCR
A3: Locatie | C3: WPK nummer | D3: Functie | F3: Aantal PC's | G3: Aantal Video uitgangen | H3: Scherm-grootte in inch | I3: Maximale resolutie | J3: Ingestelde resolutie | L3: Aantal PC's | M3: Aantal Video uitgangen | N3: Scherm-grootte in inch | O3: Resolutie | Q3: Aantal PC's | R3: Aantal Video uitgangen | S3: Scherm-grootte in inch | T3: Maximale resolutie | U3: Ingestelde resolutie | W3: Aantal PC's | X3: Aantal Video uitgangen | Y3: Scherm-grootte in inch | Z3: Resolutie
A5: HF Opleidingen
A7: SET 1 AHL | B7: 1 | C7: WPK966 | D7: Opleider+ Opnamefunctie | F7: 1 | G7: 4 | H7: 32 | I7: 3840 x 2160 | J7: 2560 x 1440 | L7: 1 | M7: 6 | N7: 21 | O7: 1600 x 1200 | W7: 1 | X7: 1 | Y7: 21 | Z7: 1600 x 1200
B8: 1 | C8: WPK961 | D8: Cursist 1 (Tilburg) | L8: 1 | M8: 8 | N8: 21 | O8: 1600 x 1200 | W8: 1 | X8: 1 | Y8: 30 | Z8: 1600 x 2560
B9: 1 | C9: PWK962 | D9: Cursist 2 (Maaslijn) | L9: 1 | M9: 8 | N9: 21 | O9: 1600 x 1200 | W9: 1 | X9: 1 | Y9: 30 | Z9: 1600 x 2560
B10: 1 | C10: WPK963 | D10: Cursist 3 (den Bosch) | L10: 1 | M10: 8 | N10: 21 | O10: 1600 x 1200 | W10: 1 | X10: 1 | Y10: 30 | Z10: 1600 x 2560
B11: 1 | C11: PWK964 | D11: Cursist 4 (Eindhoven) | L11: 1 | M11: 8 | N11: 21 | O11: 1600 x 1200 | W11: 1 | X11: 1 | Y11: 30 | Z11: 1600 x 2560
B12: 1 | C12: WPK965 | D12: Cursist 5 (Venlo) | L12: 1 | M12: 8 | N12: 21 | O12: 1600 x 1200 | W12: 1 | X12: 1 | Y12: 30 | Z12: 1600 x 2560
A14: SET 2 AHL | B14: 1 | C14: WPK972 | D14: Opleider | F14: 1 | G14: 4 | H14: 32 | I14: 3840 x 2160 | J14: 2560 x 1440 | L14: 1 | M14: 6 | N14: 21 | O14: 1600 x 1200 | W14: 1 | X14: 1 | Y14: 21 | Z14: 1600 x 1200
B15: 1 | C15: WPK967 | D15: Cursist 1 (Tilburg) | L15: 1 | M15: 8 | N15: 21 | O15: 1600 x 1200 | W15: 1 | X15: 1 | Y15: 30 | Z15: 1600 x 2560
B16: 1 | C16: WPK968 | D16: Cursist 2 (Maaslijn) | L16: 1 | M16: 8 | N16: 21 | O16: 1600 x 1200 | W16: 1 | X16: 1 | Y16: 30 | Z16: 1600 x 2560
B17: 1 | C17: WPK969 | D17: Cursist 3 (den Bosch) | L17: 1 | M17: 8 | N17: 21 | O17: 1600 x 1200 | W17: 1 | X17: 1 | Y17: 30 | Z17: 1600 x 2560
B18: 1 | C18: WPK970 | D18: Cursist 4 (Eindhoven) | L18: 1 | M18: 8 | N18: 21 | O18: 1600 x 1200 | W18: 1 | X18: 1 | Y18: 30 | Z18: 1600 x 2560
B19: 1 | C19: WPK971 | D19: Cursist 5 (Venlo) | L19: 1 | M19: 8 | N19: 21 | O19: 1600 x 1200 | W19: 1 | X19: 1 | Y19: 30 | Z19: 1600 x 2560
A21: SET 3 AHL | B21: 1 | C21: WPK967 | D21: Opleider | F21: 1 | G21: 4 | H21: 32 | I21: 3840 x 2160 | J21: 2560 x 1440 | L21: 1 | M21: 6 | N21: 21 | O21: 1600 x 1200 | W21: 1 | X21: 1 | Y21: 21 | Z21: 1600 x 1200
B22: 1 | C22: WPK968 | D22: Cursist 1 (Tilburg) | L22: 1 | M22: 8 | N22: 21 | O22: 1600 x 1200 | W22: 1 | X22: 1 | Y22: 30 | Z22: 1600 x 2560
B23: 1 | C23: WPK969 | D23: Cursist 2 (Maaslijn) | L23: 1 | M23: 8 | N23: 21 | O23: 1600 x 1200 | W23: 1 | X23: 1 | Y23: 30 | Z23: 1600 x 2560
B24: 1 | C24: WPK970 | D24: Cursist 3 (den Bosch) | L24: 1 | M24: 8 | N24: 21 | O24: 1600 x 1200 | W24: 1 | X24: 1 | Y24: 30 | Z24: 1600 x 2560
B25: 1 | C25: WPK971 | D25: Cursist 4 (Eindhoven) | L25: 1 | M25: 8 | N25: 21 | O25: 1600 x 1200 | W25: 1 | X25: 1 | Y25: 30 | Z25: 1600 x 2560
B26: 1 | C26: WPK972 | D26: Cursist 5 (Venlo) | L26: 1 | M26: 8 | N26: 21 | O26: 1600 x 1200 | W26: 1 | X26: 1 | Y26: 30 | Z26: 1600 x 2560
A28: SET 4AHL | B28: 1 | C28: WPK978 | D28: Opleider | F28: 1 | G28: 4 | H28: 32 | I28: 3840 x 2160 | J28: 2560 x 1440 | L28: 1 | M28: 6 | N28: 21 | O28: 1600 x 1200 | W28: 1 | X28: 1 | Y28: 21 | Z28: 1600 x 1200
B29: 1 | C29: WPK973 | D29: Cursist 1 (Tilburg) | L29: 1 | M29: 8 | N29: 21 | O29: 1600 x 1200 | W29: 1 | X29: 1 | Y29: 30 | Z29: 1600 x 2560
B30: 1 | C30: WPK974 | D30: Cursist 2 (Maaslijn) | L30: 1 | M30: 8 | N30: 21 | O30: 1600 x 1200 | W30: 1 | X30: 1 | Y30: 30 | Z30: 1600 x 2560
B31: 1 | C31: WPK975 | D31: Cursist 3 (den Bosch) | L31: 1 | M31: 8 | N31: 21 | O31: 1600 x 1200 | W31: 1 | X31: 1 | Y31: 30 | Z31: 1600 x 2560
B32: 1 | C32: WPK976 | D32: Cursist 4 (Eindhoven) | L32: 1 | M32: 8 | N32: 21 | O32: 1600 x 1200 | W32: 1 | X32: 1 | Y32: 30 | Z32: 1600 x 2560
B33: 1 | C33: WPK977 | D33: Cursist 5 (Venlo) | L33: 1 | M33: 8 | N33: 21 | O33: 1600 x 1200 | W33: 1 | X33: 1 | Y33: 30 | Z33: 1600 x 2560
A37: Amsterdam | B37: 1 | C37: WPK371 | D37: Opleider | F37: 1 | G37: 4 | H37: 30 | I37: 2560 x 1600 | L37: 1 | M37: 6 | N37: 21 | O37: 1600 x 1200
B38: 1 | C38: WPK372 | D38: Cursist 1 | L38: 1 | M38: 5 | N38: 21 | O38: 1600 x 1200 | W38: 1 | X38: 1 | Y38: 24 | Z38: 1920 x 1080
B39: 1 | C39: WPK373 | D39: Cursist 2 | L39: 1 | M39: 5 | N39: 21 | O39: 1600 x 1200 | W39: 1 | X39: 1 | Y39: 24 | Z39: 1920 x 1080
B40: 1 | C40: WPK374 | D40: Cursist 3 | L40: 1 | M40: 5 | N40: 21 | O40: 1600 x 1200 | W40: 1 | X40: 1 | Y40: 24 | Z40: 1920 x 1080
B41: 1 | C41: WPK375 | D41: Cursist 4 | L41: 1 | M41: 5 | N41: 21 | O41: 1600 x 1200 | W41: 1 | X41: 1 | Y41: 24 | Z41: 1920 x 1080
A44: Amersfoort | B44: 1 | C44: WPK388 | D44: Opleider | F44: 1 | G44: 4 | H44: 30 | I44: 2560 x 1600 | L44: 1 | M44: 6 | N44: 21 | O44: 1600 x 1200
B45: 1 | C45: WPK020 | D45: Cursist 1 (Tilburg) | L45: 1 | M45: 5 | N45: 21 | O45: 1600 x 1200 | W45: 1 | X45: 1 | Y45: 30 | Z45: 1600 x 2560
B46: 1 | C46: WPK022 | D46: Cursist 2 (Maaslijn) | L46: 1 | M46: 5 | N46: 21 | O46: 1600 x 1200 | W46: 1 | X46: 1 | Y46: 30 | Z46: 1600 x 2560
B47: 1 | C47: WPK019 | D47: Cursist 3 (den Bosch) | L47: 1 | M47: 5 | N47: 21 | O47: 1600 x 1200 | W47: 1 | X47: 1 | Y47: 30 | Z47: 1600 x 2560
B48: 1 | C48: WPK023 | D48: Cursist 4 (Eindhoven) | L48: 1 | M48: 5 | N48: 21 | O48: 1600 x 1200 | W48: 1 | X48: 1 | Y48: 30 | Z48: 1600 x 2560
B49: 1 | C49: WPK025 | D49: Cursist 5 (Venlo) | M49: 5 | N49: 21 | O49: 1600 x 1200 | W49: 1 | X49: 1 | Y49: 30 | Z49: 1600 x 2560
A51: Arnhem | B51: 1 | C51: WPK494 | D51: Opleider | F51: 1 | G51: 4 | H51: 30 | I51: 2560 x 1600 | L51: 1 | M51: 6 | N51: 21 | O51: 1600 x 1200
B52: 1 | C52: WPK195 | D52: Cursist 1 (Tilburg) | L52: 1 | M52: 5 | N52: 21 | O52: 1600 x 1200 | W52: 1 | X52: 1 | Y52: 30 | Z52: 1600 x 2560
B53: 1 | C53: WPK201 | D53: Cursist 2 (Maaslijn) | L53: 1 | M53: 5 | N53: 21 | O53: 1600 x 1200 | W53: 1 | X53: 1 | Y53: 30 | Z53: 1600 x 2560
B54: 1 | C54: WPK270 | D54: Cursist 3 (den Bosch) | L54: 1 | M54: 5 | N54: 21 | O54: 1600 x 1200 | W54: 1 | X54: 1 | Y54: 30 | Z54: 1600 x 2560
B55: 1 | C55: WPK305 | D55: Cursist 4 (Eindhoven) | L55: 1 | M55: 5 | N55: 21 | O55: 1600 x 1200 | W55: 1 | X55: 1 | Y55: 30 | Z55: 1600 x 2560
B56: 1 | C56: WPK323 | D56: Cursist 5 (Venlo) | M56: 5 | N56: 21 | O56: 1600 x 1200 | W56: 1 | X56: 1 | Y56: 30 | Z56: 1600 x 2560
A58: Zwolle | B58: 1 | C58: WPK515 | D58: Opleider | F58: 1 | G58: 4 | H58: 30 | I58: 2560 x 1600 | L58: 1 | M58: 6 | N58: 21 | O58: 1600 x 1200
B59: 1 | C59: WPK516 | D59: Cursist 1 | F59: 1 | G59: 1 | H59: 30 | I59: 1600 x 2560 | L59: 1 | M59: 5 | N59: 21 | O59: 1600 x 1200
B60: 1 | C60: WPK517 | D60: Cursist 2 | F60: 1 | G60: 1 | H60: 30 | I60: 1600 x 2560 | L60: 1 | M60: 5 | N60: 21 | O60: 1600 x 1200
B61: 1 | C61: WPK518 | D61: Cursist 3 | F61: 1 | G61: 1 | H61: 30 | I61: 1600 x 2560 | L61: 1 | M61: 5 | N61: 21 | O61: 1600 x 1200
B62: 1 | C62: WPK519 | D62: Cursist 4 | F62: 1 | G62: 1 | H62: 30 | I62: 1600 x 2560 | L62: 1 | M62: 5 | N62: 21 | O62: 1600 x 1200
A65: NVLU | B65: 1 | C65: WPK392 | D65: Opleider | F65: 1 | G65: 4 | H65: 30 | I65: 2560 x 1600 | L65: 1 | M65: 6 | N65: 21 | O65: 1600 x 1200
B66: 1 | C66: WPK278 | D66: Cursist 1 (Tilburg) | F66: 1 | G66: 1 | H66: 30 | I66: 1600 x 2560 | L66: 1 | M66: 5 | N66: 21 | O66: 1600 x 1200
B67: 1 | C67: WPK279 | D67: Cursist 2 (Maaslijn) | F67: 1 | G67: 1 | H67: 30 | I67: 1600 x 2560 | L67: 1 | M67: 5 | N67: 21 | O67: 1600 x 1200
B68: 1 | C68: WPK280 | D68: Cursist 3 (den Bosch) | F68: 1 | G68: 1 | H68: 30 | I68: 1600 x 2560 | L68: 1 | M68: 5 | N68: 21 | O68: 1600 x 1200
B69: 1 | C69: WPK281 | D69: Cursist 4 (Eindhoven) | F69: 1 | G69: 1 | H69: 30 | I69: 1600 x 2560 | L69: 1 | M69: 5 | N69: 21 | O69: 1600 x 1200
B70: 1 | C70: WPK284 | D70: Cursist 5 (Venlo) | F70: 1 | G70: 1 | H70: 30 | I70: 1600 x 2560 | M70: 5 | N70: 21 | O70: 1600 x 1200
A72: Rotterdam | B72: 1 | C72: WPK490 | D72: Opleider | F72: 1 | G72: 4 | H72: 30 | I72: 2560 x 1600 | L72: 1 | M72: 6 | N72: 21 | O72: 1600 x 1200
B73: 1 | C73: WPK492 | D73: Cursist 1 (Tilburg) | F73: 1 | G73: 1 | H73: 30 | I73: 1600 x 2560 | L73: 1 | M73: 5 | N73: 21 | O73: 1600 x 1200
B74: 1 | C74: WPK493 | D74: Cursist 2 (Maaslijn) | F74: 1 | G74: 1 | H74: 30 | I74: 1600 x 2560 | L74: 1 | M74: 5 | N74: 21 | O74: 1600 x 1200
B75: 1 | C75: WPK495 | D75: Cursist 3 (den Bosch) | F75: 1 | G75: 1 | H75: 30 | I75: 1600 x 2560 | L75: 1 | M75: 5 | N75: 21 | O75: 1600 x 1200
B76: 1 | C76: WPK496 | D76: Cursist 4 (Eindhoven) | F76: 1 | G76: 1 | H76: 30 | I76: 1600 x 2560 | L76: 1 | M76: 5 | N76: 21 | O76: 1600 x 1200
B77: 1 | C77: WPK500 | D77: Cursist 5 (Venlo) | F77: 1 | G77: 1 | H77: 30 | I77: 1600 x 2560 | M77: 5 | N77: 21 | O77: 1600 x 1200
A79: Eindhoven | B79: 1 | C79: WPK560 | D79: Opleider | F79: 1 | G79: 4 | H79: 32 | I79: 3840 x 2160 | J79: 2560 x 1440 | L79: 1 | M79: 6 | N79: 21 | O79: 1600 x 1200
B80: 1 | C80: WPK561 | D80: Cursist 1 (Tilburg) | L80: 1 | M80: 5 | N80: 21 | O80: 1600 x 1200 | W80: 1 | X80: 1 | Y80: 32 | Z80: 3840 x 2160
B81: 1 | C81: WPK562 | D81: Cursist 2 (Maaslijn) | L81: 1 | M81: 5 | N81: 21 | O81: 1600 x 1200 | W81: 1 | X81: 1 | Y81: 32 | Z81: 3840 x 2160
B82: 1 | C82: WPK563 | D82: Cursist 3 (den Bosch) | L82: 1 | M82: 5 | N82: 21 | O82: 1600 x 1200 | W82: 1 | X82: 1 | Y82: 32 | Z82: 3840 x 2160
B83: 1 | C83: WPK564 | D83: Cursist 4 (Eindhoven) | L83: 1 | M83: 5 | N83: 21 | O83: 1600 x 1200 | W83: 1 | X83: 1 | Y83: 32 | Z83: 3840 x 2160
B84: 1 | C84: WPK565 | D84: Cursist 5 (Venlo)
A86: HF Lab | B86: 1 | C86: WPK501 | D86: DVL | F86: 1 | G86: 2 | H86: 21 | I86: 1600 x 1200
B87: 1 | C87: WPK510 | D87: DVL | F87: 1 | G87: 3 | H87: 32 | I87: 3840 x 2160 | J87: 2560 x 1440
B88: 1 | C88: WPK508 | D88: TRDL | L88: 1 | M88: 8 | N88: 21 | O88: 1600 x 1200
B89: 1 | C89: WPK509 | D89: TRDL | L89: 1 | M89: 8 | N89: 21 | O89: 1600 x 1200
A92: DVL opleidingen | B92: 1 | C92: WPK990 | D92: Opleider - OCCR | F92: 1 | G92: 4 | H92: 30 | I92: 2560 x 1600 | W92: 1 | X92: 4 | Y92: 30 | Z92: 2560 x 1600
D93: Opleider - KA | W93: 1 | X93: 1 | Y93: 22 | Z93: 1920x1080
B94: 1 | C94: WPK985 | D94: Cursist 1 - OCCR | F94: 1 | G94: 4 | H94: 30 | I94: 2560 x 1600 | W94: 1 | X94: 4 | Y94: 30 | Z94: 2560 x 1600
B95: 1 | C95: WPK986 | D95: Cursist 2 - OCCR | F95: 1 | G95: 4 | H95: 30 | I95: 2560 x 1600 | W95: 1 | X95: 4 | Y95: 30 | Z95: 2560 x 1600
B96: 1 | C96: WPK987 | D96: Cursist 3 - OCCR | F96: 1 | G96: 4 | H96: 30 | I96: 2560 x 1600 | W96: 1 | X96: 4 | Y96: 30 | Z96: 2560 x 1600
B97: 1 | C97: WPK988 | D97: Cursist 4 - OCCR | F97: 1 | G97: 4 | H97: 30 | I97: 2560 x 1600 | W97: 1 | X97: 4 | Y97: 30 | Z97: 2560 x 1600
B98: 1 | C98: WPK989 | D98: Cursist 5 - OCCR | F98: 1 | G98: 4 | H98: 30 | I98: 2560 x 1600 | W98: 1 | X98: 4 | Y98: 30 | Z98: 2560 x 1600
A105: Totaal: | B105: =SUM(B5:B104) -> 74 | F105: =SUM(F5:F104) -> 33 | G105: =SUM(G5:G104) -> 87 | L105: =SUM(L5:L104) -> 61 | M105: =SUM(M5:M104) -> 402 | Q105: =SUM(Q5:Q104) -> 0 | R105: =SUM(R5:R104) -> 0 | W105: =SUM(W5:W104) -> 49 | X105: =SUM(X5:X104) -> 67
