Workbook

Sheet Totalen
A1: Overzicht
B2: Werkplekken | C2: DVL PC's | D2: TRDL PC's | E2: PBH PC's | F2: KA/OCCR PC's | G2: Specials
A3: Geheugen | C3: 32 G | D3: 16 G | E3: 32 G | F3: 16 G
A4: Video Uitgangen | C4: 4 | D4: 8 | E4: 1 | F4: 1
A5: Netwerk | C5: 2 UTP | D5: 2 UTP | E5: 2 UTP | F5: 1 UTP
A9: Ontwikkel | B9: ='Ontwikkel '!B10 -> 2 | C9: ='Ontwikkel '!F10 -> 1 | D9: ='Ontwikkel '!L10 -> 1 | E9: ='Ontwikkel '!Q10 -> 0 | F9: ='Ontwikkel '!W10 -> 0
A10: Test en Acceptatie | B10: ='Test en Acceptatie'!B41 -> 31 | C10: ='Test en Acceptatie'!F41 -> 8 | D10: ='Test en Acceptatie'!L41 -> 22 | E10: ='Test en Acceptatie'!Q41 -> 1 | F10: ='Test en Acceptatie'!W41 -> 0
A11: Productie | B11: =Productie!B186 -> 144 | C11: =Productie!F186 -> 42 | D11: =Productie!L186 -> 118 | E11: =Productie!Q186 -> 13 | F11: =Productie!W186 -> 0
A12: Opleiding | B12: =Opleiding!B105 -> 74 | C12: =Opleiding!F105 -> 33 | D12: =Opleiding!L105 -> 61 | E12: =Opleiding!Q105 -> 0 | F12: =Opleiding!W105 -> 49
A14: Totaal | B14: =SUM(B9:B13) -> 251 | C14: =SUM(C9:C13) -> 84 | D14: =SUM(D9:D13) -> 202 | E14: =SUM(E9:E13) -> 14 | F14: =SUM(F9:F13) -> 49 | G14: =SUM(G9:G13) -> 0 | H14: =SUM(H9:H13) -> 0

Sheet Ontwikkel 
A1: Ontwikkel Omgeving
C2: Werkplek | F2: DVL | L2: TRDL | Q2: PBH | W2: KA
A3: Locatie | C3: WPK nummer | D3: Functie | F3: Aantal PC's | G3: Aantal Video uitgangen | H3: Scherm-grootte in inch | I3: Maximale resolutie | J3: Ingestelde resolutie | L3: Aantal PC's | M3: Aantal Video uitgangen | N3: Scherm-grootte in inch | O3: Resolutie | Q3: Aantal PC's | R3: Aantal Video uitgangen | S3: Scherm-grootte in inch | T3: Maximale resolutie | U3: Ingestelde resolutie | W3: Aantal PC's | X3: Aantal Video uitgangen | Y3: Scherm-grootte in inch | Z3: Resolutie
A5: AHL-OT
B6: 1 | D6: DVL Ontwikkel PC | F6: 1 | G6: 4 | H6: 32 | I6: 3840 x 2160 | J6: 2560 x 1440
B7: 1 | D7: TRDL Ontwikkel PC | L7: 1 | M7: 8 | N7: 21 | O7: 1600 x 1200
A10: Totaal: | B10: =SUM(B6:B9) -> 2 | F10: =SUM(F6:F9) -> 1 | G10: =SUM(G6:G9) -> 4 | L10: =SUM(L6:L9) -> 1 | M10: =SUM(M6:M9) -> 8 | Q10: =SUM(Q6:Q9) -> 0 | R10: =SUM(R6:R9) -> 0 | W10: =SUM(W6:W9) -> 0 | X10: =SUM(X6:X9) -> 0

Sheet Test en Acceptatie
A1: Test en Acceptatie Omgeving
C2: Werkplek | F2: DVL | L2: TRDL | Q2: PBH | W2: KA
A3: Locatie | C3: WPK nummer | D3: Functie | F3: Aantal PC's | G3: Aantal Video uitgangen | H3: Scherm-grootte in inch | I3: Maximale resolutie | J3: Ingestelde resolutie | L3: Aantal PC's | M3: Aantal Video uitgangen | N3: Scherm-grootte in inch | O3: Resolutie | Q3: Aantal PC's | R3: Aantal Video uitgangen | S3: Scherm-grootte in inch | T3: Maximale resolutie | U3: Ingestelde resolutie | W3: Aantal PC's | X3: Aantal Video uitgangen | Y3: Scherm-grootte in inch | Z3: Resolutie
A5: PTC
B6: 1 | C6: WPK1089 | D6: DVL | F6: 1 | G6: 4 | H6: 32 | I6: 3840 x 2160 | J6: 2560 x 1440
B7: 1 | C7: WPK1084 | D7: DVL - VOS3 | F7: 1 | G7: 4 | H7: 32 | I7: 3840 x 2160 | J7: 2560 x 1440
B8: 1 | C8: WPK1016 | D8: DVL - VOS1 | F8: 1 | G8: 4 | H8: 32 | I8: 3840 x 2160 | J8: 2560 x 1440
B9: 1 | C9: WPK1018 | D9: DVL - VOS4 / GPW2.1 Test en Acceptatie | F9: 1 | G9: 4 | H9: 32 | I9: 3840 x 2160 | J9: 2560 x 1440
B10: 1 | C10: WPK1019 | D10: DVL - VOS2 | F10: 1 | G10: 4 | H10: 32 | I10: 3840 x 2160 | J10: 2560 x 1440
B11: 1 | C11: WPK1019 | D11: DVL - VOS5 | F11: 1 | G11: 4 | H11: 32 | I11: 3840 x 2160 | J11: 2560 x 1440
B12: 1 | C12: WPK511 | D12: DVL - GPW2.1 Test en Acceptatie | F12: 1 | G12: 4 | H12: 32 | I12: 3840 x 2160 | J12: 2560 x 1440
B13: 1 | C13: WPK1012 | D13: DVL | F13: 1 | G13: 4 | H13: 32 | I13: 3840 x 2160 | J13: 2560 x 1440
B14: 1 | C14: WPK593 | D14: PBH PC / GPW2.1 Test en acceptatie | Q14: 1 | R14: 1 | S14: 32 | T14: 3840 x 2160 | U14: 2560 x 1440
B15: 1 | C15: WPK1005 | D15: TRDL1 TMC | L15: 1 | M15: 6 | N15: 21 | O15: 1600 x 1200
B16: 1 | C16: WPK1006 | D16: TRDL2 TMC | L16: 1 | M16: 6 | N16: 21 | O16: 1600 x 1200
B17: 1 | C17: WPK1008 | D17: TRDL1 TMB | L17: 1 | M17: 8 | N17: 21 | O17: 1600 x 1200
B18: 1 | C18: WPK1007 | D18: TRDL2 TMB | L18: 1 | M18: 6 | N18: 21 | O18: 1600 x 1200
B19: 1 | C19: WPK1080 | D19: TRDL4 TMC | L19: 1 | M19: 6 | N19: 21 | O19: 1600 x 1200
B20: 1 | C20: WPK1081 | D20: TRDL3 TMC | L20: 1 | M20: 6 | N20: 21 | O20: 1600 x 1200
B21: 1 | C21: WPK1083 | D21: TRDL1 TMC | L21: 1 | M21: 6 | N21: 21 | O21: 1600 x 1200
B22: 1 | C22: WPK1085 | D22: TRDL2 TMC | L22: 1 | M22: 6 | N22: 21 | O22: 1600 x 1200
B23: 1 | C23: WPK1001 | D23: TRDL1 VLV | L23: 1 | M23: 6 | N23: 21 | O23: 1600 x 1200
B24: 1 | C24: WPK1002 | D24: TRDL2 VLV | L24: 1 | M24: 6 | N24: 21 | O24: 1600 x 1200
B25: 1 | C25: WPK1011 | D25: TRDL1 TMC | L25: 1 | M25: 8 | N25: 21 | O25: 1600 x 1200
B26: 1 | C26: WPK1015 | D26: TRDL2 TMC | L26: 1 | M26: 6 | N26: 21 | O26: 1600 x 1200
... B36: 1 | C36: WPK4 | D36: TRDL2 PEIL | L36: 1 | M36: 6 | N36: 21 | O36: 1600 x 1200
A41: Totaal: | B41: =SUM(B5:B40) -> 31 | F41: =SUM(F5:F40) -> 8 | G41: =SUM(G5:G40) -> 32 | L41: =SUM(L5:L40) -> 22 | M41: =SUM(M5:M40) -> 134 | Q41: =SUM(Q5:Q40) -> 1 | R41: =SUM(R5:R40) -> 1 | V41: =SUM(V5:V40) -> 0 | W41: =SUM(W5:W40) -> 0 | X41: =SUM(X5:X40) -> 0

Sheet Productie
A1: Productie Omgeving
C2: Werkplek | F2: DVL | L2: TRDL | Q2: PBH | W2: KA
A3: Locatie | C3: WPK nummer | D3: Functie | F3: Aantal PC's | G3: Aantal Video uitgangen | H3: Scherm-grootte in inch | I3: Maximale resolutie | J3: Ingestelde resolutie | L3: Aantal PC's | M3: Aantal Video uitgangen | N3: Scherm-grootte in inch | O3: Resolutie | Q3: Aantal PC's | R3: Aantal Video uitgangen | S3: Scherm-grootte in inch | T3: Maximale resolutie | U3: Ingestelde resolutie | W3: Aantal PC's | X3: Aantal Video uitgangen | Y3: Scherm-grootte in inch | Z3: Resolutie
A5: Inktpot
B6: 2 | C6: WPK382 | D6: FuB Inktpot | F6: 2 | G6: 2 | H6: 32 | I6: 3840 x 2160 | J6: 2560 x 1440
A8: Duisburg
B9: 1 | C9: WPK418 | D9: Grensdisponent Duisburg | F9: 1 | G9: 3 | H9: 30 | I9: 2560 x 1600
A11: VL Arnhem
B12: 1 | C12: WPK017 | D12: DVL | F12: 1 | G12: 4 | H12: 32 | I12: 3840 x 2160 | J12: 2560 x 1440 | L12: 1 | M12: 2 | N12: 21 | O12: 1600 x 1200
B13: 1 | C13: WPK415 | D13: DVL | F13: 1 | G13: 4 | H13: 32 | I13: 3840 x 2160 | J13: 2560 x 1440 | L13: 1 | M13: 2 | N13: 21 | O13: 1600 x 1200
B14: 1 | C14: WPK011 | D14: Treindienstleider NM | L14: 1 | M14: 5 | N14: 21 | O14: 1600 x 1200
B15: 1 | C15: WPK012 | D15: Treindienstleider WOA | L15: 1 | M15: 8 | N15: 21 | O15: 1600 x 1200
B16: 1 | C16: WPK013 | D16: Treindienstleider Achterhoek | L16: 1 | M16: 2 | N16: 21 | O16: 1600 x 1200
B17: 1 | C17: WPK013 | D17: Treindienstleider Achterhoek | L17: 1 | M17: 5 | N17: 21 | O17: 1600 x 1200
B18: 1 | C18: WPK014 | D18: Treindienstleider NM1 | L18: 1 | M18: 5 | N18: 21 | O18: 1600 x 1200
B19: 1 | C19: WPK016 | D19: Treindienstleider ZP | L19: 1 | M19: 5 | N19: 21 | O19: 1600 x 1200
B20: 1 | C20: WPK008 | D20: Treindienstleider AH | L20: 1 | M20: 5 | N20: 21 | O20: 1600 x 1200
B21: 1 | C21: WPK018 | D21: Frontoffice / Calamiteiten | L21: 1 | M21: 6 | N21: 21 | O21: 1600 x 1200
B22: 1 | C22: WPK009 | D22: Treindienstleider VA | L22: 1 | M22: 6 | N22: 21 | O22: 1600 x 1200
B23: 1 | C23: WPK015 | D23: Planbeheer | Q23: 1 | R23: 1 | S23: 21 | T23: 1600 x 1200
A25: VL Amersfoort (UT)
B26: 1 | C26: WPK267 | D26: DVL | F26: 1 | G26: 4 | H26: 32 | I26: 3840 x 2160 | J26: 2560 x 1440
D27: View t.b.v. DVL | F27: 1 | G27: 4 | H27: 21 | I27: 1600 x 1200
B28: 1 | C28: WPK257 | D28: Amersfoort planner | L28: 1 | M28: 8 | N28: 21 | O28: 1600 x 1200
B29: 1 | C29: WPK229 | D29: Amersfoort | L29: 1 | M29: 8 | N29: 21 | O29: 1600 x 1200
B30: 1 | C30: WPK203 | D30: Amersfoort Stiluwe | L30: 1 | M30: 8 | N30: 21 | O30: 1600 x 1200
B31: 1 | C31: WPK202 | D31: Amersfoort Goollijn | L31: 1 | M31: 8 | N31: 21 | O31: 1600 x 1200
B32: 1 | C32: WPK256 | D32: Amersfoort calamiteiten | L32: 1 | M32: 8 | N32: 21 | O32: 1600 x 1200
B33: 1 | C33: WPK269 | D33: FuB AMF | L33: 1 | M33: 8 | N33: 21 | O33: 1600 x 1200 | Q33: 1 | R33: 1 | S33: 32 | T33: 3840 x 2160 | U33: 2560 x 1440
A35: VL Alkmaar
B36: 1 | C36: WPK430 | D36: DVL | F36: 1 | G36: 4 | H36: 32 | I36: 3840 x 2160 | J36: 2560 x 1440
D37: View t.b.v. DVL | F37: 1 | G37: 4 | H37: 21 | I37: 1600 x 1200
B38: 1 | C38: WPK030 | D38: Treindienstleider AMR | L38: 1 | M38: 6 | N38: 21 | O38: 1600 x 1200
B39: 1 | C39: WPK028 | D39: Treindienstleider HN | L39: 1 | M39: 6 | N39: 21 | O39: 1600 x 1200
B40: 1 | C40: WPK034 | D40: Calamiteiten | L40: 1 | M40: 6 | N40: 21 | O40: 1600 x 1200 | Q40: 1 | R40: 1 | S40: 21 | T40: 1600 x 1200
B41: 1 | C41: WPK033 | D41: Treindienstleider HLM | L41: 1 | M41: 6 | N41: 21 | O41: 1600 x 1200
B42: 1 | C42: WPK027 | D42: Treindienstleider UTG | L42: 1 | M42: 6 | N42: 21 | O42: 1600 x 1200
B43: 1 | C43: WPK031 | D43: WOA ASD | L43: 1 | M43: 8 | N43: 21 | O43: 1600 x 1200
A45: VL Amsterdam
B46: 1 | C46: WPK260 | D46: DVL | F46: 1 | G46: 4 | H46: 32 | I46: 3840 x 2160 | J46: 2560 x 1440
...

Sheet Opleiding
A1: Opleidingsomgeving
C2: Werkplek | F2: DVL | L2: TRDL | Q2: PBH | W2: KA / OCCR
A3: Locatie | C3: WPK nummer | D3: Functie | F3: Aantal PC's | G3: Aantal Video uitgangen | H3: Scherm-grootte in inch | I3: Maximale resolutie | J3: Ingestelde resolutie | L3: Aantal PC's | M3: Aantal Video uitgangen | N3: Scherm-grootte in inch | O3: Resolutie | Q3: Aantal PC's | R3: Aantal Video uitgangen | S3: Scherm-grootte in inch | T3: Maximale resolutie | U3: Ingestelde resolutie | W3: Aantal PC's | X3: Aantal Video uitgangen | Y3: Scherm-grootte in inch | Z3: Resolutie
A5: HF Opleidingen
A7: SET 1 AHL | B7: 1 | C7: WPK966 | D7: Opleider+ Opnamefunctie | F7: 1 | G7: 4 | H7: 32 | I7: 3840 x 2160 | J7: 2560 x 1440 | L7: 1 | M7: 6 | N7: 21 | O7: 1600 x 1200 | W7: 1 | X7: 1 | Y7: 21 | Z7: 1600 x 1200
B8: 1 | C8: WPK961 | D8: Cursist 1 (Tilburg) | L8: 1 | M8: 8 | N8: 21 | O8: 1600 x 1200 | W8: 1 | X8: 1 | Y8: 30 | Z8: 1600 x 2560
B9: 1 | C9: PWK962 | D9: Cursist 2 (Maaslijn) | L9: 1 | M9: 8 | N9: 21 | O9: 1600 x 1200 | W9: 1 | X9: 1 | Y9: 30 | Z9: 1600 x 2560
B10: 1 | C10: WPK963 | D10: Cursist 3 (den Bosch) | L10: 1 | M10: 8 | N10: 21 | O10: 1600 x 1200 | W10: 1 | X10: 1 | Y10: 30 | Z10: 1600 x 2560
B11: 1 | C11: PWK964 | D11: Cursist 4 (Eindhoven) | L11: 1 | M11: 8 | N11: 21 | O11: 1600 x 1200 | W11: 1 | X11: 1 | Y11: 30 | Z11: 1600 x 2560
B12: 1 | C12: WPK965 | D12: Cursist 5 (Venlo) | L12: 1 | M12: 8 | N12: 21 | O12: 1600 x 1200 | W12: 1 | X12: 1 | Y12: 30 | Z12: 1600 x 2560
A14: SET 2 AHL | B14: 1 | C14: WPK972 | D14: Opleider | F14: 1 | G14: 4 | H14: 32 | I14: 3840 x 2160 | J14: 2560 x 1440 | L14: 1 | M14: 6 | N14: 21 | O14: 1600 x 1200 | W14: 1 | X14: 1 | Y14: 21 | Z14: 1600 x 1200
B15: 1 | C15: WPK967 | D15: Cursist 1 (Tilburg) | L15: 1 | M15: 8 | N15: 21 | O15: 1600 x 1200 | W15: 1 | X15: 1 | Y15: 30 | Z15: 1600 x 2560
B16: 1 | C16: WPK968 | D16: Cursist 2 (Maaslijn) | L16: 1 | M16: 8 | N16: 21 | O16: 1600 x 1200 | W16: 1 | X16: 1 | Y16: 30 | Z16: 1600 x 2560
B17: 1 | C17: WPK969 | D17: Cursist 3 (den Bosch) | L17: 1 | M17: 8 | N17: 21 | O17: 1600 x 1200 | W17: 1 | X17: 1 | Y17: 30 | Z17: 1600 x 2560
B18: 1 | C18: WPK970 | D18: Cursist 4 (Eindhoven) | L18: 1 | M18: 8 | N18: 21 | O18: 1600 x 1200 | W18: 1 | X18: 1 | Y18: 30 | Z18: 1600 x 2560
B19: 1 | C19: WPK971 | D19: Cursist 5 (Venlo) | L19: 1 | M19: 8 | N19: 21 | O19: 1600 x 1200 | W19: 1 | X19: 1 | Y19: 30 | Z19: 1600 x 2560
A21: SET 3 AHL | B21: 1 | C21: WPK967 | D21: Opleider | F21: 1 | G21: 4 | H21: 32 | I21: 3840 x 2160 | J21: 2560 x 1440 | L21: 1 | M21: 6 | N21: 21 | O21: 1600 x 1200 | W21: 1 | X21: 1 | Y21: 21 | Z21: 1600 x 1200
B22: 1 | C22: WPK968 | D22: Cursist 1 (Tilburg) | L22: 1 | M22: 8 | N22: 21 | O22: 1600 x 1200 | W22: 1 | X22: 1 | Y22: 30 | Z22: 1600 x 2560
B23: 1 | C23: WPK969 | D23: Cursist 2 (Maaslijn) | L23: 1 | M23: 8 | N23: 21 | O23: 1600 x 1200 | W23: 1 | X23: 1 | Y23: 30 | Z23: 1600 x 2560
B24: 1 | C24: WPK970 | D24: Cursist 3 (den Bosch) | L24: 1 | M24: 8 | N24: 21 | O24: 1600 x 1200 | W24: 1 | X24: 1 | Y24: 30 | Z24: 1600 x 2560
B25: 1 | C25: WPK971 | D25: Cursist 4 (Eindhoven) | L25: 1 | M25: 8 | N25: 21 | O25: 1600 x 1200 | W25: 1 | X25: 1 | Y25: 30 | Z25: 1600 x 2560
B26: 1 | C26: WPK972 | D26: Cursist 5 (Venlo) | L26: 1 | M26: 8 | N26: 21 | O26: 1600 x 1200 | W26: 1 | X26: 1 | Y26: 30 | Z26: 1600 x 2560
A28: SET 4AHL | B28: 1 | C28: WPK978 | D28: Opleider | F28: 1 | G28: 4 | H28: 32 | I28: 3840 x 2160 | J28: 2560 x 1440 | L28: 1 | M28: 6 | N28: 21 | O28: 1600 x 1200 | W28: 1 | X28: 1 | Y28: 21 | Z28: 1600 x 1200
B29: 1 | C29: WPK973 | D29: Cursist 1 (Tilburg) | L29: 1 | M29: 8 | N29: 21 | O29: 1600 x 1200 | W29: 1 | X29: 1 | Y29: 30 | Z29: 1600 x 2560
B30: 1 | C30: WPK974 | D30: Cursist 2 (Maaslijn) | L30: 1 | M30: 8 | N30: 21 | O30: 1600 x 1200 | W30: 1 | X30: 1 | Y30: 30 | Z30: 1600 x 2560
B31: 1 | C31: WPK975 | D31: Cursist 3 (den Bosch) | L31: 1 | M31: 8 | N31: 21 | O31: 1600 x 1200 | W31: 1 | X31: 1 | Y31: 30 | Z31: 1600 x 2560
B32: 1 | C32: WPK976 | D32: Cursist 4 (Eindhoven) | L32: 1 | M32: 8 | N32: 21 | O32: 1600 x 1200 | W32: 1 | X32: 1 | Y32: 30 | Z32: 1600 x 2560
B33: 1 | C33: WPK977 | D33: Cursist 5 (Venlo) | L33: 1 | M33: 8 | N33: 21 | O33: 1600 x 1200 | W33: 1 | X33: 1 | Y33: 30 | Z33: 1600 x 2560
A37: Amsterdam | B37: 1 | C37: WPK371 | D37: Opleider | F37: 1 | G37: 4 | H37: 30 | I37: 2560 x 1600 | L37: 1 | M37: 6 | N37: 21 | O37: 1600 x 1200
B38: 1 | C38: WPK372 | D38: Cursist 1 | L38: 1 | M38: 5 | N38: 21 | O38: 1600 x 1200 | W38: 1 | X38: 1 | Y38: 24 | Z38: 1920 x 1080
B39: 1 | C39: WPK373 | D39: Cursist 2 | L39: 1 | M39: 5 | N39: 21 | O39: 1600 x 1200 | W39: 1 | X39: 1 | Y39: 24 | Z39: 1920 x 1080
B40: 1 | C40: WPK374 | D40: Cursist 3 | L40: 1 | M40: 5 | N40: 21 | O40: 1600 x 1200 | W40: 1 | X40: 1 | Y40: 24 | Z40: 1920 x 1080
B41: 1 | C41: WPK375 | D41: Cursist 4 | L41: 1 | M41: 5 | N41: 21 | O41: 1600 x 1200 | W41: 1 | X41: 1 | Y41: 24 | Z41: 1920 x 1080
A44: Amersfoort | B44: 1 | C44: WPK388 | D44: Opleider | F44: 1 | G44: 4 | H44: 30 | I44: 2560 x 1600 | L44: 1 | M44: 6 | N44: 21 | O44: 1600 x 1200
B45: 1 | C45: WPK020 | D45: Cursist 1 (Tilburg) | L45: 1 | M45: 5 | N45: 21 | O45: 1600 x 1200 | W45: 1 | X45: 1 | Y45: 30 | Z45: 1600 x 2560
B46: 1 | C46: WPK022 | D46: Cursist 2 (Maaslijn) | L46: 1 | M46: 5 | N46: 21 | O46: 1600 x 1200 | W46: 1 | X46: 1 | Y46: 30 | Z46: 1600 x 2560
B47: 1 | C47: WPK019 | D47: Cursist 3 (den Bosch) | L47: 1 | M47: 5 | N47: 21 | O47: 1600 x 1200 | W47: 1 | X47: 1 | Y47: 30 | Z47: 1600 x 2560
B48: 1 | C48: WPK023 | D48: Cursist 4 (Eindhoven) | L48: 1 | M48: 5 | N48: 21 | O48: 1600 x 1200 | W48: 1 | X48: 1 | Y48: 30 | Z48: 1600 x 2560
B49: 1 | C49: WPK025 | D49: Cursist 5 (Venlo) | M49: 5 | N49: 21 | O49: 1600 x 1200 | W49: 1 | X49: 1 | Y49: 30 | Z49: 1600 x 2560
A51: Arnhem | B51: 1 | C51: WPK494 | D51: Opleider | F51: 1 | G51: 4 | H51: 30 | I51: 2560 x 1600 | L51: 1 | M51: 6 | N51: 21 | O51: 1600 x 1200
...
