Workbook
Name bestekcontract: [1]verzamelblad!$A$2
Name bestekcontract: [2]verzamelblad!$A$2
Name bestekcontract: Verzamelblad!$A$2
Name besteknr: [1]verzamelblad!$A$3
Name besteknr: [2]verzamelblad!$A$3
Name besteknr: Verzamelblad!$A$3
Name directtoezicht: [1]uurtariefopbouw!$D$26
Name directtoezicht: [2]uurtariefopbouw!$E$24
Name directtoezicht: Uurtariefopbouw!$E$24
Name offertetarief: [1]uurtariefopbouw!$E$37
Name offertetarief: [2]uurtariefopbouw!$F$35
Name offertetarief: Uurtariefopbouw!$F$35
Name opdrachtgever: [1]basisgegevens!$B$4
Name opdrachtgever: 'Algemene gegevens'!$H$5
Name opdrachtgever: #REF!
Name opdrachtnemer: [1]basisgegevens!$B$20
Name opdrachtnemer: 'Algemene gegevens'!$H$20
Name opdrachtnemer: #REF!
Name opdrachtnemerplaats: 'Algemene gegevens'!$B$18
Name opdrachtnemerplaats: #REF!
Name plaatsopdrnmr: 'Algemene gegevens'!$B$18
Name plaatsopdrnmr: #REF!
Name regietarief: [1]uurtariefopbouw!$G$37
Name regietarief: [2]uurtariefopbouw!$H$35
Name regietarief: Uurtariefopbouw!$H$35
Name spectarief: [1]uurtariefopbouw!$I$37
Name spectarief: [2]uurtariefopbouw!$J$35
Name spectarief: Uurtariefopbouw!$J$35

Sheet Verzamelblad
A1: 1 | B1: 2 | C1: 3 | D1: 4 | E1: 5 | F1: 6 | G1: 7 | H1: 8 | I1: 9 | J1: 10 | K1: 11 | L1: 12 | M1: 13 | N1: 14 | O1: 15 | P1: 16 | Q1: 17 | R1: 18 | S1: 19 | T1: 20 | U1: 21 | V1: 22 | W1: 23 | X1: 24 | Y1: 25 | Z1: 26 | AA1: 27 | AB1: 28 | AC1: 29 | AD1: 30 | AE1: 31 | AF1: 32 | AG1: 33 | AH1: 34 | AI1: 35 | AJ1: 36 | AK1: 37 | AL1: 38 | AM1: 39 | AN1: 40 | AO1: 41 | AP1: 42 | AQ1: 43 | AR1: 44 | AS1: 45 | AT1: 46 | AU1: 47 | AV1: 48 | AW1: 49 | AX1: 50 | AY1: 51 | AZ1: 52 | BA1: 53 | BB1: 54 | BC1: 55 | BD1: 56 | BE1: 57 | BF1: 58 | BG1: 59 | BH1: 60 | BI1: 61 | BJ1: 62 | BK1: 63 | BL1: 64 | BM1: 65 | BN1: 66 | BO1: 67 | BP1: 68 | BQ1: 69 | BR1: 70 | BS1: 71 | BT1: 72 | BU1: 73 | BV1: 74 | BW1: 75 | BX1: 76 | BY1: 77 | BZ1: 78 | CA1: 79 | CB1: 80 | CC1: 81 | CD1: 82 | CE1: 83 | CF1: 84 | CG1: 85 | CH1: 86 | CI1: 87 | CJ1: 88 | CK1: 89 | CL1: 90 | CM1: 91 | CN1: 92 | CO1: 93 | CP1: 94 | CQ1: 95 | CR1: 96 | CS1: 97 | CT1: 98 | CU1: 99 | CV1: 100 | CW1: 101 | CX1: 102 | CY1: 103 | CZ1: 104 | DA1: 105 | DB1: 106 | DC1: 107 | DD1: 108 | DE1: 109
A2: Bestek | C2: Ingangsdatum | D2: Soort inspectie | E2: Inspectie betaald door | F2: Aantal inspecties | G2: Prijs per m² | H2: Minimale prijs
CT3: C
B4: inv | C4: Naam object | D4: Adres | E4: Plaats | G4: M² prijs inspectie | I4: Inspectieprijs | J4: Aantal inspecties | K4: … | L4: … | M4: … | N4: Gewenste aanvangstijd | O4: … | P4: Soort vloeronderhoud | Q4: Frequentie | R4: Soort vloeronderhoud | S4: Frequentie | T4: Soort vloeronderhoud | U4: Frequentie | V4: Soort vloeronderhoud | W4: Frequentie | X4: Soort vloeronderhoud | Y4: Frequentie | Z4: Soort vloeronderhoud | AA4: Frequentie | AB4: Soort vloeronderhoud | AC4: Frequentie | AD4: Soort vloeronderhoud | AE4: Frequentie | AF4: Extra werk-zaamheden | AG4: Prijs per | AH4: Aantal | AI4: Beurten per jaar | AJ4: Extra werk-zaamheden | AK4: Prijs per | AL4: Aantal | AM4: Beurten per jaar | AN4: Extra werk-zaamheden | AO4: Prijs per | AP4: Aantal | AQ4: Beurten per jaar | AR4: Extra werk-zaamheden | AS4: Prijs per | AT4: Aantal | AU4: Beurten per jaar | AV4: Extra werk-zaamheden | AW4: Prijs per | AX4: Aantal | AY4: Beurten per jaar | AZ4: Extra werk-zaamheden | BA4: Prijs per | BB4: Aantal | BC4: Beurten per jaar | BD4: Extra werk-zaamheden | BE4: Prijs per | BF4: Aantal | BG4: Beurten per jaar | BH4: Extra werk-zaamheden | BI4: Prijs per | BJ4: Aantal | BK4: Beurten per jaar | BL4: Extra werk-zaamheden | BM4: Prijs per | BN4: Aantal | BO4: Beurten per jaar | BP4: Extra werk-zaamheden | BQ4: Prijs per | BR4: Aantal | BS4: Beurten per jaar | BT4: Extra werk-zaamheden | BU4: Prijs per | BV4: Aantal | BW4: Beurten per jaar | BX4: Glas-bewassing | BY4: Frequentie | BZ4: Glas-bewassing | CA4: Frequentie | CB4: Glas-bewassing | CC4: Frequentie | CD4: Glas-bewassing | CE4: Frequentie | CF4: Glas-bewassing | CG4: Frequentie | CH4: Glas-bewassing | CI4: Frequentie | CJ4: Glas-bewassing | CK4: Frequentie | CL4: Glas-bewassing | CM4: Frequentie | CN4: Glas-bewassing | CO4: Frequentie | CP4: Glas-bewassing | CQ4: Frequentie | CR4: Levering sanitaire voorzieningen | CS4: Aantal gebruikers per locatie | CT4: M² dieptereiniging | CU4: M² glasbewassing binnen | CV4: M² glasbewassing buiten | CW4: M² glasbewassing separatie | CX4: M² glasbewassing koepel | CY4: M² glasbewassing boeidelen | CZ4: M² glasbewassing Gevelbeplating | DA4: M² recoaten | DB4: M² topstrippen en topcoaten | DC4: M² volsprayen | DD4: M² tapijtreinigen | DE4: M² schrobben | DF4: m2 PU coating
A5: 1 | B5: =CONCATENATE(A5,"a") -> 1a | C5: Bestuursbureau | I5: =IFERROR(IF(SUM(G5*H5<IF($H$3="","",$H$3)),IF($H$3="","",$H$3),SUM(G5*H5)),"") | J5: =IF($F$3="","",$F$3) | P5: Recoaten | Q5: op afroep | R5: Topstrippen en topcoaten | S5: 1 | T5: Volsprayen | U5: op afroep | V5: Tapijtreinigen | W5: op afroep | X5: Schrobben | Y5: op afroep | Z5: PU coating | AA5: 1 | AB5: Reinigen inloopzones | AC5: op afroep | CV5: =INDIRECT("'" & B5 & "'!$K$540") -> 0 | CW5: =INDIRECT("'" & B5 & "'!$K$541") -> 0 | CX5: =INDIRECT("'" & B5 & "'!$K$542") -> 0 | CY5: =INDIRECT("'" & B5 & "'!$K$543") -> 0 | CZ5: =INDIRECT("'" & B5 & "'!$K$544") -> 0 | DA5: =INDIRECT("'" & B5 & "'!$G$515") -> 0 | DB5: =DA5 -> 0 | DC5: =DA5 -> 0 | DD5: =INDIRECT("'" & B5 & "'!$F$515") -> 815.8 | DE5: ='1a'!J40+'1a'!J59 -> 0 | DF5: =DA5 -> 0
A6: 2 | B6: =CONCATENATE(A6,"a") -> 2a | C6: sws Adeborg | I6: =IFERROR(IF(SUM(G6*H6<IF($H$3="","",$H$3)),IF($H$3="","",$H$3),SUM(G6*H6)),"") | J6: =IF($F$3="","",$F$3) | P6: Recoaten | Q6: op afroep | R6: Topstrippen en topcoaten | S6: 1 | T6: Volsprayen | U6: op afroep | V6: Tapijtreinigen | W6: op afroep | X6: Schrobben | Y6: op afroep | Z6: PU coating | AA6: 1 | AB6: Reinigen inloopzones | AC6: op afroep | CV6: =INDIRECT("'" & B6 & "'!$K$540") -> 0 | CW6: =INDIRECT("'" & B6 & "'!$K$541") -> 0 | CX6: =INDIRECT("'" & B6 & "'!$K$542") -> 0 | CY6: =INDIRECT("'" & B6 & "'!$K$543") -> 0 | CZ6: =INDIRECT("'" & B6 & "'!$K$544") -> 0 | DA6: =INDIRECT("'" & B6 & "'!$G$516") -> 770.2 | DB6: =DA6 -> 770.2 | DC6: =DA6 -> 770.2 | DD6: =INDIRECT("'" & B6 & "'!$F$515") -> 0 | DE6: ='2a'!J105 -> 0 | DF6: =DA6 -> 770.2
A7: 3 | B7: =CONCATENATE(A7,"a") -> 3a | C7: CBS De Borgstee | I7: =IFERROR(IF(SUM(G7*H7<IF($H$3="","",$H$3)),IF($H$3="","",$H$3),SUM(G7*H7)),"") | J7: =IF($F$3="","",$F$3) | P7: Recoaten | Q7: op afroep | R7: Topstrippen en topcoaten | S7: 1 | T7: Volsprayen | U7: op afroep | V7: Tapijtreinigen | W7: op afroep | X7: Schrobben | Y7: op afroep | Z7: PU coating | AA7: 1 | AB7: Reinigen inloopzones | AC7: op afroep | CV7: =INDIRECT("'" & B7 & "'!$K$540") -> 0 | CW7: =INDIRECT("'" & B7 & "'!$K$541") -> 0 | CX7: =INDIRECT("'" & B7 & "'!$K$542") -> 0 | CY7: =INDIRECT("'" & B7 & "'!$K$543") -> 0 | CZ7: =INDIRECT("'" & B7 & "'!$K$544") -> 0 | DA7: =INDIRECT("'" & B7 & "'!$G$515") -> 1072.5 | DB7: =DA7 -> 1072.5 | DC7: =DA7 -> 1072.5 | DD7: =INDIRECT("'" & B7 & "'!$F$515") -> 106 | DE7: ='3a'!J39+'3a'!J71 -> 0 | DF7: =DA7 -> 1072.5
A8: 4 | B8: =CONCATENATE(A8,"a") -> 4a | C8: CBS De Bron (sluiting 15 juli) | I8: =IFERROR(IF(SUM(G8*H8<IF($H$3="","",$H$3)),IF($H$3="","",$H$3),SUM(G8*H8)),"") | J8: =IF($F$3="","",$F$3) | P8: Recoaten | Q8: op afroep | R8: Topstrippen en topcoaten | T8: Volsprayen | U8: op afroep | V8: Tapijtreinigen | W8: op afroep | X8: Schrobben | Y8: op afroep | Z8: PU coating | AA8: 1 | AB8: Reinigen inloopzones | AC8: op afroep | CV8: =INDIRECT("'" & B8 & "'!$K$540") -> #REF! | CW8: =INDIRECT("'" & B8 & "'!$K$541") -> #REF! | CX8: =INDIRECT("'" & B8 & "'!$K$542") -> #REF! | CY8: =INDIRECT("'" & B8 & "'!$K$543") -> #REF! | CZ8: =INDIRECT("'" & B8 & "'!$K$544") -> #REF! | DA8: =INDIRECT("'" & B8 & "'!$G$515") -> #REF! | DB8: =DA8 -> #REF! | DC8: =DA8 -> #REF! | DD8: =INDIRECT("'" & B8 & "'!$F$515") -> #REF! | DE8: =#REF! -> #REF! | DF8: =DA8 -> #REF!
A9: 5 | B9: =CONCATENATE(A9,"a") -> 5a | C9: CBS De Hoeksteen | I9: =IFERROR(IF(SUM(G9*H9<IF($H$3="","",$H$3)),IF($H$3="","",$H$3),SUM(G9*H9)),"") | J9: =IF($F$3="","",$F$3) | P9: Recoaten | Q9: op afroep | R9: Topstrippen en topcoaten | S9: 1 | T9: Volsprayen | U9: op afroep | V9: Tapijtreinigen | W9: op afroep | X9: Schrobben | Y9: op afroep | Z9: PU coating | AA9: 1 | AB9: Reinigen inloopzones | AC9: op afroep | CV9: =INDIRECT("'" & B9 & "'!$K$540") -> 0 | CW9: =INDIRECT("'" & B9 & "'!$K$541") -> 0 | CX9: =INDIRECT("'" & B9 & "'!$K$542") -> 0 | CY9: =INDIRECT("'" & B9 & "'!$K$543") -> 0 | CZ9: =INDIRECT("'" & B9 & "'!$K$544") -> 0 | DA9: =INDIRECT("'" & B9 & "'!$G$515") -> 1185.9 | DB9: =DA9 -> 1185.9 | DC9: =DA9 -> 1185.9 | DD9: =INDIRECT("'" & B9 & "'!$F$515") -> 150.1 | DE9: ='5a'!J65 -> 0 | DF9: =DA9 -> 1185.9
A10: 6 | B10: =CONCATENATE(A10,"a") -> 6a | C10: CBS De Regenboog Tolbert | I10: =IFERROR(IF(SUM(G10*H10<IF($H$3="","",$H$3)),IF($H$3="","",$H$3),SUM(G10*H10)),"") | J10: =IF($F$3="","",$F$3) | P10: Recoaten | Q10: op afroep | R10: Topstrippen en topcoaten | S10: 1 | T10: Volsprayen | U10: op afroep | V10: Tapijtreinigen | W10: op afroep | X10: Schrobben | Y10: op afroep | Z10: PU coating | AA10: 1 | AB10: Reinigen inloopzones | AC10: op afroep | CV10: =INDIRECT("'" & B10 & "'!$K$540") -> 0 | CW10: =INDIRECT("'" & B10 & "'!$K$541") -> 0 | CX10: =INDIRECT("'" & B10 & "'!$K$542") -> 0 | CY10: =INDIRECT("'" & B10 & "'!$K$543") -> 0 | CZ10: =INDIRECT("'" & B10 & "'!$K$544") -> 0 | DA10: =INDIRECT("'" & B10 & "'!$G$515") -> 727.3 | DB10: =DA10 -> 727.3 | DC10: =DA10 -> 727.3 | DD10: =INDIRECT("'" & B10 & "'!$F$515") -> 85.5 | DE10: ='6a'!J38+'6a'!J71 -> 0 | DF10: =DA10 -> 727.3
A11: 7 | B11: =CONCATENATE(A11,"a") -> 7a | C11: CBS De Rietstek | I11: =IFERROR(IF(SUM(G11*H11<IF($H$3="","",$H$3)),IF($H$3="","",$H$3),SUM(G11*H11)),"") | J11: =IF($F$3="","",$F$3) | P11: Recoaten | Q11: op afroep | R11: Topstrippen en topcoaten | S11: 1 | T11: Volsprayen | U11: op afroep | V11: Tapijtreinigen | W11: op afroep | X11: Schrobben | Y11: op afroep | Z11: PU coating | AA11: 1 | AB11: Reinigen inloopzones | AC11: op afroep | CV11: =INDIRECT("'" & B11 & "'!$K$540") -> 0 | CW11: =INDIRECT("'" & B11 & "'!$K$541") -> 0 | CX11: =INDIRECT("'" & B11 & "'!$K$542") -> 0 | CY11: =INDIRECT("'" & B11 & "'!$K$543") -> 0 | CZ11: =INDIRECT("'" & B11 & "'!$K$544") -> 0 | DA11: =INDIRECT("'" & B11 & "'!$G$515") -> 270.6 | DB11: =DA11 -> 270.6 | DC11: =DA11 -> 270.6 | DD11: =INDIRECT("'" & B11 & "'!$F$515") -> 87 | DE11: ='7a'!J37+'7a'!J60+'7a'!J64 -> 0 | DF11: =DA11 -> 270.6
A12: 8 | B12: =CONCATENATE(A12,"a") -> 8a | C12: CBS De Steltloper (voorheen de Wegwijzer) | I12: =IFERROR(IF(SUM(G12*H12<IF($H$3="","",$H$3)),IF($H$3="","",$H$3),SUM(G12*H12)),"") | J12: =IF($F$3="","",$F$3) | P12: Recoaten | Q12: op afroep | R12: Topstrippen en topcoaten | S12: 1 | T12: Volsprayen | U12: op afroep | V12: Tapijtreinigen | W12: op afroep | X12: Schrobben | Y12: op afroep | Z12: PU coating | AA12: 1 | AB12: Reinigen inloopzones | AC12: op afroep | CV12: =INDIRECT("'" & B12 & "'!$K$540") -> 0 | CW12: =INDIRECT("'" & B12 & "'!$K$541") -> 0 | CX12: =INDIRECT("'" & B12 & "'!$K$542") -> 0 | CY12: =INDIRECT("'" & B12 & "'!$K$543") -> 0 | CZ12: =INDIRECT("'" & B12 & "'!$K$544") -> 0 | DA12: =INDIRECT("'" & B12 & "'!$G$515") -> 697.82518 | DB12: =DA12 -> 697.82518 | DC12: =DA12 -> 697.82518 | DD12: =INDIRECT("'" & B12 & "'!$F$515") -> 248.4 | DE12: ='8a'!J82+'8a'!J106 -> 0 | DF12: =DA12 -> 697.82518
A13: 9 | B13: =CONCATENATE(A13,"a") -> 9a | C13: CBS De Windroos | I13: =IFERROR(IF(SUM(G13*H13<IF($H$3="","",$H$3)),IF($H$3="","",$H$3),SUM(G13*H13)),"") | J13: =IF($F$3="","",$F$3) | P13: Recoaten | Q13: op afroep | R13: Topstrippen en topcoaten | S13: 1 | T13: Volsprayen | U13: op afroep | V13: Tapijtreinigen | W13: op afroep | X13: Schrobben | Y13: op afroep | Z13: PU coating | AA13: 1 | AB13: Reinigen inloopzones | AC13: op afroep | CV13: =INDIRECT("'" & B13 & "'!$K$540") -> 0 | CW13: =INDIRECT("'" & B13 & "'!$K$541") -> 0 | CX13: =INDIRECT("'" & B13 & "'!$K$542") -> 0 | CY13: =INDIRECT("'" & B13 & "'!$K$543") -> 0 | CZ13: =INDIRECT("'" & B13 & "'!$K$544") -> 0 | DA13: =INDIRECT("'" & B13 & "'!$G$516") -> 315.5 | DB13: =DA13 -> 315.5 | DC13: =DA13 -> 315.5 | DD13: =INDIRECT("'" & B13 & "'!$F$515") -> 0 | DE13: ='9a'!J55 -> 0 | DF13: =DA13 -> 315.5
A14: 10 | B14: =CONCATENATE(A14,"a") -> 10a | C14: CBS De Humstee | I14: =IFERROR(IF(SUM(G14*H14<IF($H$3="","",$H$3)),IF($H$3="","",$H$3),SUM(G14*H14)),"") | J14: =IF($F$3="","",$F$3) | P14: Recoaten | Q14: op afroep | R14: Topstrippen en topcoaten | S14: 1 | T14: Volsprayen | U14: op afroep | V14: Tapijtreinigen | W14: op afroep | X14: Schrobben | Y14: op afroep | Z14: PU coating | AA14: 1 | AB14: Reinigen inloopzones | AC14: op afroep | CV14: =INDIRECT("'" & B14 & "'!$K$540") -> 0 | CW14: =INDIRECT("'" & B14 & "'!$K$541") -> 0 | CX14: =INDIRECT("'" & B14 & "'!$K$542") -> 0 | CY14: =INDIRECT("'" & B14 & "'!$K$543") -> 0 | CZ14: =INDIRECT("'" & B14 & "'!$K$544") -> 0 | DA14: =INDIRECT("'" & B14 & "'!$G$516") -> 422.5 | DB14: =DA14 -> 422.5 | DC14: =DA14 -> 422.5 | DD14: =INDIRECT("'" & B14 & "'!$F$515") -> 0 | DE14: ='10a'!J35 -> 163.9 | DF14: =DA14 -> 422.5
A15: 11 | B15: =CONCATENATE(A15,"a") -> 11a | C15: CBS Jan Kuipers | I15: =IFERROR(IF(SUM(G15*H15<IF($H$3="","",$H$3)),IF($H$3="","",$H$3),SUM(G15*H15)),"") | J15: =IF($F$3="","",$F$3) | P15: Recoaten | Q15: op afroep | R15: Topstrippen en topcoaten | S15: 1 | T15: Volsprayen | U15: op afroep | V15: Tapijtreinigen | W15: op afroep | X15: Schrobben | Y15: op afroep | Z15: PU coating | AA15: 1 | AB15: Reinigen inloopzones | AC15: op afroep | CV15: =INDIRECT("'" & B15 & "'!$K$540") -> 0 | CW15: =INDIRECT("'" & B15 & "'!$K$541") -> 0 | CX15: =INDIRECT("'" & B15 & "'!$K$542") -> 0 | CY15: =INDIRECT("'" & B15 & "'!$K$543") -> 0 | CZ15: =INDIRECT("'" & B15 & "'!$K$544") -> 0 | DA15: =INDIRECT("'" & B15 & "'!$G$515") -> 410.4 | DB15: =DA15 -> 410.4 | DC15: =DA15 -> 410.4 | DD15: =INDIRECT("'" & B15 & "'!$F$515") -> 248.6 | DE15: ='11a'!J40+'11a'!J25 -> 0 | DF15: =DA15 -> 410.4
A16: 12 | B16: =CONCATENATE(A16,"a") -> 12a | C16: SWS de Groene Borg | I16: =IFERROR(IF(SUM(G16*H16<IF($H$3="","",$H$3)),IF($H$3="","",$H$3),SUM(G16*H16)),"") | J16: =IF($F$3="","",$F$3) | P16: Recoaten | Q16: op afroep | R16: Topstrippen en topcoaten | S16: 1 | T16: Volsprayen | U16: op afroep | V16: Tapijtreinigen | W16: op afroep | X16: Schrobben | Y16: op afroep | Z16: PU coating | AA16: 1 | AB16: Reinigen inloopzones | AC16: op afroep | CV16: =INDIRECT("'" & B16 & "'!$K$540") -> 0 | CW16: =INDIRECT("'" & B16 & "'!$K$541") -> 0 | CX16: =INDIRECT("'" & B16 & "'!$K$542") -> 0 | CY16: =INDIRECT("'" & B16 & "'!$K$543") -> 0 | CZ16: =INDIRECT("'" & B16 & "'!$K$544") -> 0 | DA16: =INDIRECT("'" & B16 & "'!$G$516") -> 527.8 | DB16: =DA16 -> 527.8 | DC16: =DA16 -> 527.8 | DD16: =INDIRECT("'" & B16 & "'!$F$515") -> 0 | DE16: ='12a'!J98 -> 0 | DF16: =DA16 -> 527.8
A17: 13 | B17: =CONCATENATE(A17,"a") -> 13a | C17: CBS Remmelt Booy | I17: =IFERROR(IF(SUM(G17*H17<IF($H$3="","",$H$3)),IF($H$3="","",$H$3),SUM(G17*H17)),"") | J17: =IF($F$3="","",$F$3) | P17: Recoaten | Q17: op afroep | R17: Topstrippen en topcoaten | S17: 1 | T17: Volsprayen | U17: op afroep | V17: Tapijtreinigen | W17: op afroep | X17: Schrobben | Y17: op afroep | Z17: PU coating | AA17: 1 | AB17: Reinigen inloopzones | AC17: op afroep | CV17: =INDIRECT("'" & B17 & "'!$K$540") -> 0 | CW17: =INDIRECT("'" & B17 & "'!$K$541") -> 0 | CX17: =INDIRECT("'" & B17 & "'!$K$542") -> 0 | CY17: =INDIRECT("'" & B17 & "'!$K$543") -> 0 | CZ17: =INDIRECT("'" & B17 & "'!$K$544") -> 0 | DA17: =INDIRECT("'" & B17 & "'!$G$515") -> 97.4 | DB17: =DA17 -> 97.4 | DC17: =DA17 -> 97.4 | DD17: =INDIRECT("'" & B17 & "'!$F$515") -> 573.7 | DE17: ='13a'!J63+'13a'!J40 -> 0 | DF17: =DA17 -> 97.4
A18: 14 | B18: =CONCATENATE(A18,"a") -> 14a | C18: CBS 't Fundament Lutjegast | I18: =IFERROR(IF(SUM(G18*H18<IF($H$3="","",$H$3)),IF($H$3="","",$H$3),SUM(G18*H18)),"") | J18: =IF($F$3="","",$F$3) | P18: Recoaten | Q18: op afroep | R18: Topstrippen en topcoaten | S18: 1 | T18: Volsprayen | U18: op afroep | V18: Tapijtreinigen | W18: op afroep | X18: Schrobben | Y18: op afroep | Z18: PU coating | AA18: 1 | AB18: Reinigen inloopzones | AC18: op afroep | CV18: =INDIRECT("'" & B18 & "'!$K$540") -> 0 | CW18: =INDIRECT("'" & B18 & "'!$K$541") -> 0 | CX18: =INDIRECT("'" & B18 & "'!$K$542") -> 0 | CY18: =INDIRECT("'" & B18 & "'!$K$543") -> 0 | CZ18: =INDIRECT("'" & B18 & "'!$K$544") -> 0 | DA18: =INDIRECT("'" & B18 & "'!$G$515") -> 446.3 | DB18: =DA18 -> 446.3 | DC18: =DA18 -> 446.3 | DD18: =INDIRECT("'" & B18 & "'!$F$515") -> 192.6 | DE18: ='14a'!J56+'14a'!J35 -> 0 | DF18: =DA18 -> 446.3
A19: 15 | B19: =CONCATENATE(A19,"a") -> 15a | C19: CBS Rehoboth | I19: =IFERROR(IF(SUM(G19*H19<IF($H$3="","",$H$3)),IF($H$3="","",$H$3),SUM(G19*H19)),"") | J19: =IF($F$3="","",$F$3) | P19: Recoaten | Q19: op afroep | R19: Topstrippen en topcoaten | S19: 1 | T19: Volsprayen | U19: op afroep | V19: Tapijtreinigen | W19: op afroep | X19: Schrobben | Y19: op afroep | Z19: PU coating | AA19: 1 | AB19: Reinigen inloopzones | AC19: op afroep | CV19: =INDIRECT("'" & B19 & "'!$K$540") -> 0 | CW19: =INDIRECT("'" & B19 & "'!$K$541") -> 0 | CX19: =INDIRECT("'" & B19 & "'!$K$542") -> 0 | CY19: =INDIRECT("'" & B19 & "'!$K$543") -> 0 | CZ19: =INDIRECT("'" & B19 & "'!$K$544") -> 0 | DA19: =INDIRECT("'" & B19 & "'!$G$516") -> 0 | DB19: =DA19 -> 0 | DC19: =DA19 -> 0 | DD19: =INDIRECT("'" & B19 & "'!$F$515") -> 0 | DE19: ='15a'!J37 -> 0 | DF19: =DA19 -> 0
A20: 16 | B20: =CONCATENATE(A20,"a") -> 16a | C20: Sws de Vlieger | I20: =IFERROR(IF(SUM(G20*H20<IF($H$3="","",$H$3)),IF($H$3="","",$H$3),SUM(G20*H20)),"") | J20: =IF($F$3="","",$F$3) | P20: Recoaten | Q20: op afroep | R20: Topstrippen en topcoaten | S20: 1 | T20: Volsprayen | U20: op afroep | V20: Tapijtreinigen | W20: op afroep | X20: Schrobben | Y20: op afroep | Z20: PU coating | AA20: 1 | AB20: Reinigen inloopzones | AC20: op afroep | CV20: =INDIRECT("'" & B20 & "'!$K$540") -> 0 | CW20: =INDIRECT("'" & B20 & "'!$K$541") -> 0 | CX20: =INDIRECT("'" & B20 & "'!$K$542") -> 0 | CY20: =INDIRECT("'" & B20 & "'!$K$543") -> 0 | CZ20: =INDIRECT("'" & B20 & "'!$K$544") -> 0 | DA20: =INDIRECT("'" & B20 & "'!$G$515") -> 327.6 | DB20: =DA20 -> 327.6 | DC20: =DA20 -> 327.6 | DD20: =INDIRECT("'" & B20 & "'!$F$515") -> 72.7 | DE20: ='16a'!J64 -> 0 | DF20: =DA20 -> 327.6
A21: 17 | B21: =CONCATENATE(A21,"a") -> 17a | C21: Samenwerkingsschool de Stapsteen | I21: =IFERROR(IF(SUM(G21*H21<IF($H$3="","",$H$3)),IF($H$3="","",$H$3),SUM(G21*H21)),"") | J21: =IF($F$3="","",$F$3) | P21: Recoaten | Q21: op afroep | R21: Topstrippen en topcoaten | S21: 1 | T21: Volsprayen | U21: op afroep | V21: Tapijtreinigen | W21: op afroep | X21: Schrobben | Y21: op afroep | Z21: PU coating | AA21: 1 | AB21: Reinigen inloopzones | AC21: op afroep | CV21: =INDIRECT("'" & B21 & "'!$K$540") -> 0 | CW21: =INDIRECT("'" & B21 & "'!$K$541") -> 0 | CX21: =INDIRECT("'" & B21 & "'!$K$542") -> 0 | CY21: =INDIRECT("'" & B21 & "'!$K$543") -> 0 | CZ21: =INDIRECT("'" & B21 & "'!$K$544") -> 0 | DA21: =INDIRECT("'" & B21 & "'!$G$516") -> 417.3 | DB21: =DA21 -> 417.3 | DC21: =DA21 -> 417.3 | DD21: =INDIRECT("'" & B21 & "'!$F$515") -> 0 | DE21: ='16a'!J64+'16a'!J53 -> 0 | DF21: =DA21 -> 417.3
A22: 18 | B22: =CONCATENATE(A22,"a") -> 18a | I22: =IFERROR(IF(SUM(G22*H22<IF($H$3="","",$H$3)),IF($H$3="","",$H$3),SUM(G22*H22)),"") | J22: =IF($F$3="","",$F$3) | P22: Recoaten | Q22: op afroep | R22: Topstrippen en topcoaten | S22: 1 | T22: Volsprayen | U22: op afroep | V22: Tapijtreinigen | W22: op afroep | X22: Schrobben | Y22: op afroep | Z22: PU coating | AA22: 1 | AB22: Reinigen inloopzones | AC22: op afroep | CV22: =INDIRECT("'" & B22 & "'!$K$540") -> #REF! | CW22: =INDIRECT("'" & B22 & "'!$K$541") -> #REF! | CX22: =INDIRECT("'" & B22 & "'!$K$542") -> #REF! | CY22: =INDIRECT("'" & B22 & "'!$K$543") -> #REF! | CZ22: =INDIRECT("'" & B22 & "'!$K$544") -> #REF! | DA22: =INDIRECT("'" & B22 & "'!$G$515") -> #REF! | DB22: =DA22 -> #REF! | DC22: =DA22 -> #REF! | DD22: =INDIRECT("'" & B22 & "'!$F$515") -> #REF! | DE22: =#REF!+#REF! -> #REF! | DF22: =DA22 -> #REF!
A23: 19 | B23: =CONCATENATE(A23,"a") -> 19a | C23: sws De Klimboom | I23: =IFERROR(IF(SUM(G23*H23<IF($H$3="","",$H$3)),IF($H$3="","",$H$3),SUM(G23*H23)),"") | J23: =IF($F$3="","",$F$3) | P23: Recoaten | Q23: op afroep | R23: Topstrippen en topcoaten | S23: 1 | T23: Volsprayen | U23: op afroep | V23: Tapijtreinigen | W23: op afroep | X23: Schrobben | Y23: op afroep | Z23: PU coating | AA23: 1 | AB23: Reinigen inloopzones | AC23: op afroep | CV23: =INDIRECT("'" & B23 & "'!$K$540") -> 0 | CW23: =INDIRECT("'" & B23 & "'!$K$541") -> 0 | CX23: =INDIRECT("'" & B23 & "'!$K$542") -> 0 | CY23: =INDIRECT("'" & B23 & "'!$K$543") -> 0 | CZ23: =INDIRECT("'" & B23 & "'!$K$544") -> 0 | DA23: =INDIRECT("'" & B23 & "'!$G$516") -> 405.3 | DB23: =DA23 -> 405.3 | DC23: =DA23 -> 405.3 | DD23: =INDIRECT("'" & B23 & "'!$F$515") -> 0 | DE23: ='19a'!J35 -> 9.3 | DF23: =DA23 -> 405.3
A24: 20 | B24: =CONCATENATE(A24,"a") -> 20a | C24: IKC Marum (nieuw) | I24: =IFERROR(IF(SUM(G24*H24<IF($H$3="","",$H$3)),IF($H$3="","",$H$3),SUM(G24*H24)),"") | J24: =IF($F$3="","",$F$3) | P24: Recoaten | Q24: op afroep | R24: Topstrippen en topcoaten | S24: 1 | T24: Volsprayen | U24: op afroep | V24: Tapijtreinigen | W24: op afroep | X24: Schrobben | Y24: op afroep | Z24: PU coating | AA24: 1 | AB24: Reinigen inloopzones | AC24: op afroep | CV24: =INDIRECT("'" & B24 & "'!$K$540") -> 0 | CW24: =INDIRECT("'" & B24 & "'!$K$541") -> 0 | CX24: =INDIRECT("'" & B24 & "'!$K$542") -> 0 | CY24: =INDIRECT("'" & B24 & "'!$K$543") -> 0 | CZ24: =INDIRECT("'" & B24 & "'!$K$544") -> 0 | DA24: =INDIRECT("'" & B24 & "'!$G$515") -> 2915 | DB24: =DA24 -> 2915 | DC24: =DA24 -> 2915 | DD24: =INDIRECT("'" & B24 & "'!$F$515") -> 30 | DE24: ='20a'!J41 -> 0 | DF24: =DA24 -> 2915
A25: 21 | B25: =CONCATENATE(A25,"a") -> 21a | I25: =IFERROR(IF(SUM(G25*H25<IF($H$3="","",$H$3)),IF($H$3="","",$H$3),SUM(G25*H25)),"") | J25: =IF($F$3="","",$F$3) | P25: Recoaten | Q25: op afroep | R25: Topstrippen en topcoaten | S25: 1 | T25: Volsprayen | U25: op afroep | V25: Tapijtreinigen | W25: op afroep | X25: Schrobben | Y25: op afroep | Z25: PU coating | AA25: 1 | AB25: Reinigen inloopzones | AC25: op afroep | CU25: =INDIRECT("'" & B25 & "'!$K$539") -> #REF! | CV25: =INDIRECT("'" & B25 & "'!$K$540") -> #REF! | CW25: =INDIRECT("'" & B25 & "'!$K$541") -> #REF! | CX25: =INDIRECT("'" & B25 & "'!$K$542") -> #REF! | CY25: =INDIRECT("'" & B25 & "'!$K$543") -> #REF! | CZ25: =INDIRECT("'" & B25 & "'!$K$544") -> #REF! | DA25: =INDIRECT("'" & B25 & "'!$G$515") -> #REF! | DB25: =DA25 -> #REF! | DC25: =DA25 -> #REF! | DD25: =INDIRECT("'" & B25 & "'!$F$515") -> #REF! | DF25: =DA25 -> #REF!
A26: 22 | B26: =CONCATENATE(A26,"a") -> 22a | C26: OBS De Molenberg | I26: =IFERROR(IF(SUM(G26*H26<IF($H$3="","",$H$3)),IF($H$3="","",$H$3),SUM(G26*H26)),"") | J26: =IF($F$3="","",$F$3) | P26: Recoaten | Q26: op afroep | R26: Topstrippen en topcoaten | S26: 1 | T26: Volsprayen | U26: op afroep | V26: Tapijtreinigen | W26: op afroep | X26: Schrobben | Y26: op afroep | Z26: PU coating | AA26: 1 | AB26: Reinigen inloopzones | AC26: op afroep | CU26: =INDIRECT("'" & B26 & "'!$K$539") -> 0 | CV26: =INDIRECT("'" & B26 & "'!$K$540") -> 0 | CW26: =INDIRECT("'" & B26 & "'!$K$541") -> 0 | CX26: =INDIRECT("'" & B26 & "'!$K$542") -> 0 | CY26: =INDIRECT("'" & B26 & "'!$K$543") -> 0 | CZ26: =INDIRECT("'" & B26 & "'!$K$544") -> 0 | DA26: =INDIRECT("'" & B26 & "'!$G$515") -> 169.8 | DB26: =DA26 -> 169.8 | DC26: =DA26 -> 169.8 | DD26: =INDIRECT("'" & B26 & "'!$F$515") -> 515.8 | DE26: ='22a'!J37+'22a'!J71 -> 0 | DF26: =DA26 -> 169.8
A27: 23 | B27: =CONCATENATE(A27,"a") -> 23a | C27: OBS De Opstap | I27: =IFERROR(IF(SUM(G27*H27<IF($H$3="","",$H$3)),IF($H$3="","",$H$3),SUM(G27*H27)),"") | J27: =IF($F$3="","",$F$3) | P27: Recoaten | Q27: op afroep | R27: Topstrippen en topcoaten | S27: 1 | T27: Volsprayen | U27: op afroep | V27: Tapijtreinigen | W27: op afroep | X27: Schrobben | Y27: op afroep | Z27: PU coating | AA27: 1 | AB27: Reinigen inloopzones | AC27: op afroep | CU27: =INDIRECT("'" & B27 & "'!$K$539") -> 0 | CV27: =INDIRECT("'" & B27 & "'!$K$540") -> 0 | CW27: =INDIRECT("'" & B27 & "'!$K$541") -> 0 | CX27: =INDIRECT("'" & B27 & "'!$K$542") -> 0 | CY27: =INDIRECT("'" & B27 & "'!$K$543") -> 0 | CZ27: =INDIRECT("'" & B27 & "'!$K$544") -> 0 | DA27: =INDIRECT("'" & B27 & "'!$G$515") -> 581.7 | DB27: =DA27 -> 581.7 | DC27: =DA27 -> 581.7 | DD27: =INDIRECT("'" & B27 & "'!$F$515") -> 116.2 | DF27: =DA27 -> 581.7
A28: 24 | B28: =CONCATENATE(A28,"a") -> 24a | C28: OBS De Beelen | I28: =IFERROR(IF(SUM(G28*H28<IF($H$3="","",$H$3)),IF($H$3="","",$H$3),SUM(G28*H28)),"") | J28: =IF($F$3="","",$F$3) | P28: Recoaten | Q28: op afroep | R28: Topstrippen en topcoaten | S28: 1 | T28: Volsprayen | U28: op afroep | V28: Tapijtreinigen | W28: op afroep | X28: Schrobben | Y28: op afroep | Z28: PU coating | AA28: 1 | AB28: Reinigen inloopzones | AC28: op afroep | CT28: =SUMIF('24a'!$C$500:$C$514,"C",'24a'!$K$500:$K$514) -> 60.82 | CU28: =INDIRECT("'" & B28 & "'!$K$539") -> 0 | CV28: =INDIRECT("'" & B28 & "'!$K$540") -> 0 | CW28: =INDIRECT("'" & B28 & "'!$K$541") -> 0 | CX28: =INDIRECT("'" & B28 & "'!$K$542") -> 0 | CY28: =INDIRECT("'" & B28 & "'!$K$543") -> 0 | CZ28: =INDIRECT("'" & B28 & "'!$K$544") -> 0 | DA28: =INDIRECT("'" & B28 & "'!$G$515") -> 36.05 | DB28: =DA28 -> 36.05 | DC28: =DA28 -> 36.05 | DD28: =INDIRECT("'" & B28 & "'!$F$515") -> 856.13 | DF28: =DA28 -> 36.05
A29: 25 | B29: =CONCATENATE(A29,"a") -> 25a | C29: OBS De Hasselbraam en Van Panhuys | I29: =IFERROR(IF(SUM(G29*H29<IF($H$3="","",$H$3)),IF($H$3="","",$H$3),SUM(G29*H29)),"") | J29: =IF($F$3="","",$F$3) | P29: Recoaten | Q29: op afroep | R29: Topstrippen en topcoaten | S29: 1 | T29: Volsprayen | U29: op afroep | V29: Tapijtreinigen | W29: op afroep | X29: Schrobben | Y29: op afroep | Z29: PU coating | AA29: 1 | AB29: Reinigen inloopzones | AC29: op afroep | CT29: =SUMIF(#REF!,"C",#REF!) -> #REF! | CU29: =INDIRECT("'" & B29 & "'!$K$539") -> #REF! | CV29: =INDIRECT("'" & B29 & "'!$K$540") -> #REF! | CW29: =INDIRECT("'" & B29 & "'!$K$541") -> #REF! | CX29: =INDIRECT("'" & B29 & "'!$K$542") -> #REF! | CY29: =INDIRECT("'" & B29 & "'!$K$543") -> #REF! | CZ29: =INDIRECT("'" & B29 & "'!$K$544") -> #REF! | DA29: =INDIRECT("'" & B29 & "'!$G$515") -> #REF! | DB29: =DA29 -> #REF! | DC29: =DA29 -> #REF! | DD29: =INDIRECT("'" & B29 & "'!$F$515") -> #REF! | DF29: =DA29 -> #REF!
A30: 26 | B30: =CONCATENATE(A30,"a") -> 26a | C30: OBS De Nijenoert | I30: =IFERROR(IF(SUM(G30*H30<IF($H$3="","",$H$3)),IF($H$3="","",$H$3),SUM(G30*H30)),"") | J30: =IF($F$3="","",$F$3) | P30: Recoaten | Q30: op afroep | R30: Topstrippen en topcoaten | S30: 1 | T30: Volsprayen | U30: op afroep | V30: Tapijtreinigen | W30: op afroep | X30: Schrobben | Y30: op afroep | Z30: PU coating | AA30: 1 | AB30: Reinigen inloopzones | AC30: op afroep | CT30: =SUMIF('26a'!$C$500:$C$514,"C",'26a'!$K$500:$K$514) -> 31.86 | CU30: =INDIRECT("'" & B30 & "'!$K$539") -> 0 | CV30: =INDIRECT("'" & B30 & "'!$K$540") -> 0 | CW30: =INDIRECT("'" & B30 & "'!$K$541") -> 0 | CX30: =INDIRECT("'" & B30 & "'!$K$542") -> 0 | CY30: =INDIRECT("'" & B30 & "'!$K$543") -> 0 | CZ30: =INDIRECT("'" & B30 & "'!$K$544") -> 0 | DA30: =INDIRECT("'" & B30 & "'!$G$515") -> 641.64 | DB30: =DA30 -> 641.64 | DC30: =DA30 -> 641.64 | DD30: =INDIRECT("'" & B30 & "'!$F$515") -> 813.79 | DF30: =DA30 -> 641.64
A31: 27 | B31: =CONCATENATE(A31,"a") -> 27a | C31: OBS Zevenster | G31: =IF($G$3="","",$G$3) | H31: =INDIRECT("'" & B31 & "'!$K$515") -> 1100.33 | I31: =IFERROR(IF(SUM(G31*H31<IF($H$3="","",$H$3)),IF($H$3="","",$H$3),SUM(G31*H31)),"") | J31: =IF($F$3="","",$F$3) | P31: Recoaten | Q31: op afroep | R31: Topstrippen en topcoaten | S31: 1 | T31: Volsprayen | U31: op afroep | V31: Tapijtreinigen | W31: op afroep | X31: Schrobben | Y31: op afroep | Z31: PU coating | AA31: 1 | AB31: Reinigen inloopzones | AC31: op afroep | CT31: =SUMIF('27a'!$C$500:$C$514,"C",'27a'!$K$500:$K$514) -> 51.29 | CU31: =INDIRECT("'" & B31 & "'!$K$539") -> 0 | CV31: =INDIRECT("'" & B31 & "'!$K$540") -> 0 | CW31: =INDIRECT("'" & B31 & "'!$K$541") -> 0 | CX31: =INDIRECT("'" & B31 & "'!$K$542") -> 0 | CY31: =INDIRECT("'" & B31 & "'!$K$543") -> 0 | CZ31: =INDIRECT("'" & B31 & "'!$K$544") -> 0 | DA31: =INDIRECT("'" & B31 & "'!$G$515") -> 386.33 | DB31: =DA31 -> 386.33 | DC31: =DA31 -> 386.33 | DD31: =INDIRECT("'" & B31 & "'!$F$515") -> 551.65 | DF31: =DA31 -> 386.33
A32: 28 | B32: =CONCATENATE(A32,"a") -> 28a | C32: OBS De Nijenoert Gymzaal | G32: =IF($G$3="","",$G$3) | H32: =INDIRECT("'" & B32 & "'!$K$515") -> 646.26 | I32: =IFERROR(IF(SUM(G32*H32<IF($H$3="","",$H$3)),IF($H$3="","",$H$3),SUM(G32*H32)),"") | J32: =IF($F$3="","",$F$3) | P32: Recoaten | Q32: op afroep | R32: Topstrippen en topcoaten | S32: 1 | T32: Volsprayen | U32: op afroep | V32: Tapijtreinigen | W32: op afroep | X32: Schrobben | Y32: op afroep | Z32: PU coating | AA32: 1 | AB32: Reinigen inloopzones | AC32: op afroep | AF32: Dieptereiniging sanitair | AG32: m² | AH32: =CT32 -> 67.6 | CT32: =SUMIF('28a'!$C$500:$C$514,"C",'28a'!$K$500:$K$514) -> 67.6 | CU32: =INDIRECT("'" & B32 & "'!$K$539") -> 0 | CV32: =INDIRECT("'" & B32 & "'!$K$540") -> 0 | CW32: =INDIRECT("'" & B32 & "'!$K$541") -> 0 | CX32: =INDIRECT("'" & B32 & "'!$K$542") -> 0 | CY32: =INDIRECT("'" & B32 & "'!$K$543") -> 0 | CZ32: =INDIRECT("'" & B32 & "'!$K$544") -> 0 | DA32: =INDIRECT("'" & B32 & "'!$G$515") -> 125.02 | DB32: =DA32 -> 125.02 | DC32: =DA32 -> 125.02 | DD32: =INDIRECT("'" & B32 & "'!$F$515") -> 47.72 | DF32: =DA32 -> 125.02
A33: 29 | B33: =CONCATENATE(A33,"a") -> 29a | C33: IKC de Steltloper (Babbel) | G33: =IF($G$3="","",$G$3) | H33: =INDIRECT("'" & B33 & "'!$K$515") -> #REF! | I33: =IFERROR(IF(SUM(G33*H33<IF($H$3="","",$H$3)),IF($H$3="","",$H$3),SUM(G33*H33)),"") | J33: =IF($F$3="","",$F$3) | P33: Recoaten | Q33: op afroep | R33: Topstrippen en topcoaten | S33: 1 | T33: Volsprayen | U33: op afroep | V33: Tapijtreinigen | W33: op afroep | X33: Schrobben | Y33: op afroep | Z33: PU coating | AA33: 1 | AB33: Reinigen inloopzones | AC33: op afroep | AF33: Dieptereiniging sanitair | AG33: m² | AH33: =CT33 -> #REF! | CT33: =SUMIF(#REF!,"C",#REF!) -> #REF! | CU33: =INDIRECT("'" & B33 & "'!$K$539") -> #REF! | CV33: =INDIRECT("'" & B33 & "'!$K$540") -> #REF! | CW33: =INDIRECT("'" & B33 & "'!$K$541") -> #REF! | CX33: =INDIRECT("'" & B33 & "'!$K$542") -> #REF! | CY33: =INDIRECT("'" & B33 & "'!$K$543") -> #REF! | CZ33: =INDIRECT("'" & B33 & "'!$K$544") -> #REF! | DA33: =INDIRECT("'" & B33 & "'!$G$515") -> #REF! | DB33: =DA33 -> #REF! | DC33: =DA33 -> #REF! | DD33: =INDIRECT("'" & B33 & "'!$F$515") -> #REF! | DF33: =DA33 -> #REF!
A34: 30 | B34: =CONCATENATE(A34,"a") -> 30a | C34: OBS De Dorpel | G34: =IF($G$3="","",$G$3) | H34: =INDIRECT("'" & B34 & "'!$K$515") -> #REF! | I34: =IFERROR(IF(SUM(G34*H34<IF($H$3="","",$H$3)),IF($H$3="","",$H$3),SUM(G34*H34)),"") | J34: =IF($F$3="","",$F$3) | P34: Recoaten | Q34: op afroep | R34: Topstrippen en topcoaten | S34: 1 | T34: Volsprayen | U34: op afroep | V34: Tapijtreinigen | W34: op afroep | X34: Schrobben | Y34: op afroep | Z34: PU coating | AA34: 1 | AB34: Reinigen inloopzones | AC34: op afroep | AF34: Dieptereiniging sanitair | AG34: m² | AH34: =CT34 -> #REF! | CT34: =SUMIF(#REF!,"C",#REF!) -> #REF! | CU34: =INDIRECT("'" & B34 & "'!$K$539") -> #REF! | CV34: =INDIRECT("'" & B34 & "'!$K$540") -> #REF! | CW34: =INDIRECT("'" & B34 & "'!$K$541") -> #REF! | CX34: =INDIRECT("'" & B34 & "'!$K$542") -> #REF! | CY34: =INDIRECT("'" & B34 & "'!$K$543") -> #REF! | CZ34: =INDIRECT("'" & B34 & "'!$K$544") -> #REF! | DA34: =INDIRECT("'" & B34 & "'!$G$515") -> #REF! | DB34: =DA34 -> #REF! | DC34: =DA34 -> #REF! | DD34: =INDIRECT("'" & B34 & "'!$F$515") -> #REF! | DF34: =DA34 -> #REF!
A35: 31 | B35: =CONCATENATE(A35,"a") -> 31a | C35: OBS De Springplank (sluiting 15 juli) | G35: =IF($G$3="","",$G$3) | H35: =INDIRECT("'" & B35 & "'!$K$515") -> #REF! | I35: =IFERROR(IF(SUM(G35*H35<IF($H$3="","",$H$3)),IF($H$3="","",$H$3),SUM(G35*H35)),"") | J35: =IF($F$3="","",$F$3) | P35: Recoaten | Q35: op afroep | R35: Topstrippen en topcoaten | S35: 1 | T35: Volsprayen | U35: op afroep | V35: Tapijtreinigen | W35: op afroep | X35: Schrobben | Y35: op afroep | Z35: PU coating | AA35: 1 | AB35: Reinigen inloopzones | AC35: op afroep | AF35: Dieptereiniging sanitair | AG35: m² | AH35: =CT35 -> #REF! | CT35: =SUMIF(#REF!,"C",#REF!) -> #REF! | CU35: =INDIRECT("'" & B35 & "'!$K$539") -> #REF! | CV35: =INDIRECT("'" & B35 & "'!$K$540") -> #REF! | CW35: =INDIRECT("'" & B35 & "'!$K$541") -> #REF! | CX35: =INDIRECT("'" & B35 & "'!$K$542") -> #REF! | CY35: =INDIRECT("'" & B35 & "'!$K$543") -> #REF! | CZ35: =INDIRECT("'" & B35 & "'!$K$544") -> #REF! | DA35: =INDIRECT("'" & B35 & "'!$G$515") -> #REF! | DB35: =DA35 -> #REF! | DC35: =DA35 -> #REF! | DD35: =INDIRECT("'" & B35 & "'!$F$515") -> #REF! | DF35: =DA35 -> #REF!
A36: 32 | B36: =CONCATENATE(A36,"a") -> 32a | C36: OBS De Triangel | G36: =IF($G$3="","",$G$3) | H36: =INDIRECT("'" & B36 & "'!$K$515") -> 778.79 | I36: =IFERROR(IF(SUM(G36*H36<IF($H$3="","",$H$3)),IF($H$3="","",$H$3),SUM(G36*H36)),"") | J36: =IF($F$3="","",$F$3) | P36: Recoaten | Q36: op afroep | R36: Topstrippen en topcoaten | S36: 1 | T36: Volsprayen | U36: op afroep | V36: Tapijtreinigen | W36: op afroep | X36: Schrobben | Y36: op afroep | Z36: PU coating | AA36: 1 | AB36: Reinigen inloopzones | AC36: op afroep | AF36: Dieptereiniging sanitair | AG36: m² | AH36: =CT36 -> 28 | BX36: Gevelglas buitenzijde enkelvoudig gemeten | BZ36: Gevelglas binnenzijde enkelvoudig gemeten | CB36: Separatieglas dubbelvoudig gemeten | CD36: Koepelglas enkelvoudig gemeten | CF36: Boeidelen | CH36: Gevelbeplating | CT36: =SUMIF('32a'!$C$500:$C$514,"C",'32a'!$K$500:$K$514) -> 28 | CU36: =INDIRECT("'" & B36 & "'!$K$539") -> 0 | CV36: =INDIRECT("'" & B36 & "'!$K$540") -> 0 | CW36: =INDIRECT("'" & B36 & "'!$K$541") -> 0 | CX36: =INDIRECT("'" & B36 & "'!$K$542") -> 0 | CY36: =INDIRECT("'" & B36 & "'!$K$543") -> 0 | CZ36: =INDIRECT("'" & B36 & "'!$K$544") -> 0 | DA36: =INDIRECT("'" & B36 & "'!$G$515") -> 340.5 | DB36: =DA36 -> 340.5 | DC36: =DA36 -> 340.5 | DD36: =INDIRECT("'" & B36 & "'!$F$515") -> 78.59 | DF36: =DA36 -> 340.5
A37: 33 | B37: =CONCATENATE(A37,"a") -> 33a | C37: OBS De Nijenoert SKSG | G37: =IF($G$3="","",$G$3) | H37: =INDIRECT("'" & B37 & "'!$K$515") -> #REF! | I37: =IFERROR(IF(SUM(G37*H37<IF($H$3="","",$H$3)),IF($H$3="","",$H$3),SUM(G37*H37)),"") | J37: =IF($F$3="","",$F$3) | P37: Recoaten | Q37: op afroep | R37: Topstrippen en topcoaten | S37: 1 | T37: Volsprayen | U37: op afroep | V37: Tapijtreinigen | W37: op afroep | X37: Schrobben | Y37: op afroep | Z37: PU coating | AA37: 1 | AB37: Reinigen inloopzones | AC37: op afroep | AF37: Dieptereiniging sanitair | AG37: m² | AH37: =CT37 -> #REF! | BX37: Gevelglas buitenzijde enkelvoudig gemeten | BZ37: Gevelglas binnenzijde enkelvoudig gemeten | CB37: Separatieglas dubbelvoudig gemeten | CD37: Koepelglas enkelvoudig gemeten | CF37: Boeidelen | CH37: Gevelbeplating | CT37: =SUMIF(#REF!,"C",#REF!) -> #REF! | CU37: =INDIRECT("'" & B37 & "'!$K$539") -> #REF! | CV37: =INDIRECT("'" & B37 & "'!$K$540") -> #REF! | CW37: =INDIRECT("'" & B37 & "'!$K$541") -> #REF! | CX37: =INDIRECT("'" & B37 & "'!$K$542") -> #REF! | CY37: =INDIRECT("'" & B37 & "'!$K$543") -> #REF! | CZ37: =INDIRECT("'" & B37 & "'!$K$544") -> #REF! | DA37: =INDIRECT("'" & B37 & "'!$G$515") -> #REF! | DB37: =DA37 -> #REF! | DC37: =DA37 -> #REF! | DD37: =INDIRECT("'" & B37 & "'!$F$515") -> #REF! | DF37: =DA37 -> #REF!
A38: 34 | B38: =CONCATENATE(A38,"a") -> 34a | C38: CBS De Parel | G38: =IF($G$3="","",$G$3) | H38: =INDIRECT("'" & B38 & "'!$K$515") -> 1066.7 | I38: =IFERROR(IF(SUM(G38*H38<IF($H$3="","",$H$3)),IF($H$3="","",$H$3),SUM(G38*H38)),"") | J38: =IF($F$3="","",$F$3) | P38: Recoaten | Q38: op afroep | R38: Topstrippen en topcoaten | S38: 1 | T38: Volsprayen | U38: op afroep | V38: Tapijtreinigen | W38: op afroep | X38: Schrobben | Y38: op afroep | Z38: PU coating | AA38: 1 | AB38: Reinigen inloopzones | AC38: op afroep | AF38: Dieptereiniging sanitair | AG38: m² | AH38: =CT38 -> 36.7 | BX38: Gevelglas buitenzijde enkelvoudig gemeten | BZ38: Gevelglas binnenzijde enkelvoudig gemeten | CB38: Separatieglas dubbelvoudig gemeten | CD38: Koepelglas enkelvoudig gemeten | CF38: Boeidelen | CH38: Gevelbeplating | CT38: =SUMIF('34a'!$C$500:$C$514,"C",'34a'!$K$500:$K$514) -> 36.7 | CU38: =INDIRECT("'" & B38 & "'!$K$539") -> 0 | CV38: =INDIRECT("'" & B38 & "'!$K$540") -> 0 | CW38: =INDIRECT("'" & B38 & "'!$K$541") -> 0 | CX38: =INDIRECT("'" & B38 & "'!$K$542") -> 0 | CY38: =INDIRECT("'" & B38 & "'!$K$543") -> 0 | CZ38: =INDIRECT("'" & B38 & "'!$K$544") -> 0 | DA38: =INDIRECT("'" & B38 & "'!$G$515") -> 687.5 | DB38: =DA38 -> 687.5 | DC38: =DA38 -> 687.5 | DD38: =INDIRECT("'" & B38 & "'!$F$515") -> 252.3 | DF38: =DA38 -> 687.5
A39: 35 | B39: =CONCATENATE(A39,"a") -> 35a | C39: SLS de Verbinding | G39: =IF($G$3="","",$G$3) | H39: =INDIRECT("'" & B39 & "'!$K$515") -> 1435.6 | I39: =IFERROR(IF(SUM(G39*H39<IF($H$3="","",$H$3)),IF($H$3="","",$H$3),SUM(G39*H39)),"") | J39: =IF($F$3="","",$F$3) | P39: Recoaten | Q39: op afroep | R39: Topstrippen en topcoaten | S39: 1 | T39: Volsprayen | U39: op afroep | V39: Tapijtreinigen | W39: op afroep | X39: Schrobben | Y39: op afroep | Z39: PU coating | AA39: 1 | AB39: Reinigen inloopzones | AC39: op afroep | AF39: Dieptereiniging sanitair | AG39: m² | AH39: =CT39 -> 53.21 | BX39: Gevelglas buitenzijde enkelvoudig gemeten | BZ39: Gevelglas binnenzijde enkelvoudig gemeten | CB39: Separatieglas dubbelvoudig gemeten | CD39: Koepelglas enkelvoudig gemeten | CF39: Boeidelen | CH39: Gevelbeplating | CT39: =SUMIF('35a'!$C$500:$C$514,"C",'35a'!$K$500:$K$514) -> 53.21 | CU39: =INDIRECT("'" & B39 & "'!$K$539") -> 0 | CV39: =INDIRECT("'" & B39 & "'!$K$540") -> 0 | CW39: =INDIRECT("'" & B39 & "'!$K$541") -> 0 | CX39: =INDIRECT("'" & B39 & "'!$K$542") -> 0 | CY39: =INDIRECT("'" & B39 & "'!$K$543") -> 0 | CZ39: =INDIRECT("'" & B39 & "'!$K$544") -> 0 | DA39: =INDIRECT("'" & B39 & "'!$G$515") -> 1085.78 | DB39: =DA39 -> 1085.78 | DC39: =DA39 -> 1085.78 | DD39: =INDIRECT("'" & B39 & "'!$F$515") -> 152.63 | DF39: =DA39 -> 1085.78
A40: 36 | B40: =CONCATENATE(A40,"a") -> 36a | C40: Violier (Oostindie) School | G40: =IF($G$3="","",$G$3) | H40: =INDIRECT("'" & B40 & "'!$K$515") -> 2625.6 | I40: =IFERROR(IF(SUM(G40*H40<IF($H$3="","",$H$3)),IF($H$3="","",$H$3),SUM(G40*H40)),"") | J40: =IF($F$3="","",$F$3) | P40: Recoaten | Q40: op afroep | R40: Topstrippen en topcoaten | S40: 1 | T40: Volsprayen | U40: op afroep | V40: Tapijtreinigen | W40: op afroep | X40: Schrobben | Y40: op afroep | Z40: PU coating | AA40: 1 | AB40: Reinigen inloopzones | AC40: op afroep | AF40: Dieptereiniging sanitair | AG40: m² | AH40: =CT40 -> 77.2 | BX40: Gevelglas buitenzijde enkelvoudig gemeten | BZ40: Gevelglas binnenzijde enkelvoudig gemeten | CB40: Separatieglas dubbelvoudig gemeten | CD40: Koepelglas enkelvoudig gemeten | CF40: Boeidelen | CH40: Gevelbeplating | CT40: =SUMIF('36a'!$C$500:$C$514,"C",'36a'!$K$500:$K$514) -> 77.2 | CU40: =INDIRECT("'" & B40 & "'!$K$539") -> 0 | CV40: =INDIRECT("'" & B40 & "'!$K$540") -> 0 | CW40: =INDIRECT("'" & B40 & "'!$K$541") -> 0 | CX40: =INDIRECT("'" & B40 & "'!$K$542") -> 0 | CY40: =INDIRECT("'" & B40 & "'!$K$543") -> 0 | CZ40: =INDIRECT("'" & B40 & "'!$K$544") -> 0 | DA40: =INDIRECT("'" & B40 & "'!$G$515") -> 1939.5 | DB40: =DA40 -> 1939.5 | DC40: =DA40 -> 1939.5 | DD40: =INDIRECT("'" & B40 & "'!$F$515") -> 181.2 | DF40: =DA40 -> 1939.5
A41: 37 | B41: =CONCATENATE(A41,"a") -> 37a | C41: Violier (Oostindie) alleen KDV | G41: =IF($G$3="","",$G$3) | H41: =INDIRECT("'" & B41 & "'!$K$515") -> 444.4 | I41: =IFERROR(IF(SUM(G41*H41<IF($H$3="","",$H$3)),IF($H$3="","",$H$3),SUM(G41*H41)),"") | J41: =IF($F$3="","",$F$3) | P41: Recoaten | Q41: op afroep | R41: Topstrippen en topcoaten | S41: 1 | T41: Volsprayen | U41: op afroep | V41: Tapijtreinigen | W41: op afroep | X41: Schrobben | Y41: op afroep | Z41: PU coating | AA41: 1 | AB41: Reinigen inloopzones | AC41: op afroep | AF41: Dieptereiniging sanitair | AG41: m² | AH41: =CT41 -> 43.9 | BX41: Gevelglas buitenzijde enkelvoudig gemeten | BZ41: Gevelglas binnenzijde enkelvoudig gemeten | CB41: Separatieglas dubbelvoudig gemeten | CD41: Koepelglas enkelvoudig gemeten | CF41: Boeidelen | CH41: Gevelbeplating | CT41: =SUMIF('37a'!$C$500:$C$514,"C",'37a'!$K$500:$K$514) -> 43.9 | CU41: =INDIRECT("'" & B41 & "'!$K$539") -> 0 | CV41: =INDIRECT("'" & B41 & "'!$K$540") -> 0 | CW41: =INDIRECT("'" & B41 & "'!$K$541") -> 0 | CX41: =INDIRECT("'" & B41 & "'!$K$542") -> 0 | CY41: =INDIRECT("'" & B41 & "'!$K$543") -> 0 | CZ41: =INDIRECT("'" & B41 & "'!$K$544") -> 0 | DA41: =INDIRECT("'" & B41 & "'!$G$515") -> 393.3 | DB41: =DA41 -> 393.3 | DC41: =DA41 -> 393.3 | DD41: =INDIRECT("'" & B41 & "'!$F$515") -> 7.2 | DF41: =DA41 -> 393.3
A42: 38 | B42: =CONCATENATE(A42,"a") -> 38a | C42: Nautilus (het Anker) | G42: =IF($G$3="","",$G$3) | H42: =INDIRECT("'" & B42 & "'!$K$515") -> 769.8 | I42: =IFERROR(IF(SUM(G42*H42<IF($H$3="","",$H$3)),IF($H$3="","",$H$3),SUM(G42*H42)),"") | J42: =IF($F$3="","",$F$3) | P42: Recoaten | Q42: op afroep | R42: Topstrippen en topcoaten | S42: 1 | T42: Volsprayen | U42: op afroep | V42: Tapijtreinigen | W42: op afroep | X42: Schrobben | Y42: op afroep | Z42: PU coating | AA42: 1 | AB42: Reinigen inloopzones | AC42: op afroep | AF42: Dieptereiniging sanitair | AG42: m² | AH42: =CT42 -> 28 | BX42: Gevelglas buitenzijde enkelvoudig gemeten | BZ42: Gevelglas binnenzijde enkelvoudig gemeten | CB42: Separatieglas dubbelvoudig gemeten | CD42: Koepelglas enkelvoudig gemeten | CF42: Boeidelen | CH42: Gevelbeplating | CT42: =SUMIF('38a'!$C$500:$C$514,"C",'38a'!$K$500:$K$514) -> 28 | CU42: =INDIRECT("'" & B42 & "'!$K$539") -> 0 | CV42: =INDIRECT("'" & B42 & "'!$K$540") -> 0 | CW42: =INDIRECT("'" & B42 & "'!$K$541") -> 0 | CX42: =INDIRECT("'" & B42 & "'!$K$542") -> 0 | CY42: =INDIRECT("'" & B42 & "'!$K$543") -> 0 | CZ42: =INDIRECT("'" & B42 & "'!$K$544") -> 0 | DA42: =INDIRECT("'" & B42 & "'!$G$515") -> 689.2 | DB42: =DA42 -> 689.2 | DC42: =DA42 -> 689.2 | DD42: =INDIRECT("'" & B42 & "'!$F$515") -> 52.6 | DF42: =DA42 -> 689.2
A43: 39 | B43: =CONCATENATE(A43,"a") -> 39a | G43: =IF($G$3="","",$G$3) | H43: =INDIRECT("'" & B43 & "'!$K$515") -> 0 | I43: =IFERROR(IF(SUM(G43*H43<IF($H$3="","",$H$3)),IF($H$3="","",$H$3),SUM(G43*H43)),"") | J43: =IF($F$3="","",$F$3) | P43: Recoaten | R43: Topstrippen en topcoaten | S43: 1 | T43: Volsprayen | V43: Tapijtreinigen | X43: Schrobben | Z43: PU coating | AB43: Reinigen inloopzones | AF43: Dieptereiniging sanitair | AG43: m² | AH43: =CT43 -> 0 | BX43: Gevelglas buitenzijde enkelvoudig gemeten | BZ43: Gevelglas binnenzijde enkelvoudig gemeten | CB43: Separatieglas dubbelvoudig gemeten | CD43: Koepelglas enkelvoudig gemeten | CF43: Boeidelen | CH43: Gevelbeplating | CT43: =SUMIF('39a'!$C$500:$C$514,"C",'39a'!$K$500:$K$514) -> 0 | CU43: =INDIRECT("'" & B43 & "'!$K$539") -> 0 | CV43: =INDIRECT("'" & B43 & "'!$K$540") -> 0 | CW43: =INDIRECT("'" & B43 & "'!$K$541") -> 0 | CX43: =INDIRECT("'" & B43 & "'!$K$542") -> 0 | CY43: =INDIRECT("'" & B43 & "'!$K$543") -> 0 | CZ43: =INDIRECT("'" & B43 & "'!$K$544") -> 0 | DA43: =INDIRECT("'" & B43 & "'!$G$515") -> 0 | DB43: =DA43 -> 0 | DC43: =DA43 -> 0 | DD43: =INDIRECT("'" & B43 & "'!$F$515") -> 0 | DF43: =DA43 -> 0
A44: 40 | B44: =CONCATENATE(A44,"a") -> 40a | G44: =IF($G$3="","",$G$3) | H44: =INDIRECT("'" & B44 & "'!$K$515") -> 0 | I44: =IFERROR(IF(SUM(G44*H44<IF($H$3="","",$H$3)),IF($H$3="","",$H$3),SUM(G44*H44)),"") | J44: =IF($F$3="","",$F$3) | P44: Recoaten | R44: Topstrippen en topcoaten | T44: Volsprayen | V44: Tapijtreinigen | X44: Schrobben | Z44: PU coating | AB44: Reinigen inloopzones | AF44: Dieptereiniging sanitair | AG44: m² | AH44: =CT44 -> 0 | BX44: Gevelglas buitenzijde enkelvoudig gemeten | BZ44: Gevelglas binnenzijde enkelvoudig gemeten | CB44: Separatieglas dubbelvoudig gemeten | CD44: Koepelglas enkelvoudig gemeten | CF44: Boeidelen | CH44: Gevelbeplating | CT44: =SUMIF('40a'!$C$500:$C$514,"C",'40a'!$K$500:$K$514) -> 0 | CU44: =INDIRECT("'" & B44 & "'!$K$539") -> 0 | CV44: =INDIRECT("'" & B44 & "'!$K$540") -> 0 | CW44: =INDIRECT("'" & B44 & "'!$K$541") -> 0 | CX44: =INDIRECT("'" & B44 & "'!$K$542") -> 0 | CY44: =INDIRECT("'" & B44 & "'!$K$543") -> 0 | CZ44: =INDIRECT("'" & B44 & "'!$K$544") -> 0 | DA44: =INDIRECT("'" & B44 & "'!$G$515") -> 0 | DB44: =DA44 -> 0 | DC44: =DA44 -> 0 | DD44: =INDIRECT("'" & B44 & "'!$F$515") -> 0 | DF44: =DA44 -> 0
DF45: =DA45 -> 0
DF46: =DA46 -> 0
DF47: =DA47 -> 0
DF48: =DA48 -> 0
DF49: =DA49 -> 0
DF50: =DA50 -> 0
DF51: =DA51 -> 0
DF52: =DA52 -> 0
DF53: =DA53 -> 0
DF54: =DA54 -> 0
DF55: =DA55 -> 0
DF56: =DA56 -> 0
... DF102: =DA102 -> 0

Sheet Algemene gegevens
A1: Basisgegevens
A3: Algemene gegevens
A5: Volledige naam onderneming (handelsnaam KvK) | H5: Stichting Quadraten
A6: Vestigingsplaats onderneming (KvK) | H6: Grootegast
A7: KvK-nummer | H7: KVK-02090846
A8: Tekenbevoegde voor contract
A9: Functie
A10: Tekenbevoegde supplementen
A11: Functie
A13: Contactpersoon offerte | H13: Leonieke Westra
A14: Telefoonnummer kantoor | H14: 085-2003991
A15: Postadres kantoor | H15: Pieter Sneeuwplein 12
A16: Postcode en plaats postadres | H16: 9641 KA Veendam
A17: Mobiel nummer contactpersoon offerte | H17: Via Tenderned
A18: E-mailadres contactpersoon offerte | H18: Via Tenderned
A20: Volledige naam schoonmaakbedrijf (Handelsnaam KvK)
A21: Vestigingsplaats schoonmaakbedrijf (KvK)
A22: KvK-nummer
A23: Tekenbevoegde schoonmaakbedrijf voor contract
A24: Functie
A25: Tekenbevoegde schoonmaakbedrijf voor supplementen
A26: Functie
A28: Contactpersoon offerte
A29: Telefoonnummer kantoor
A30: Postadres kantoor
A31: Postcode en plaats kantoor
A32: Mobiel nummer contactpersoon offerte
A33: E-mailadres contactpersoon offerte

Sheet Uurtariefopbouw
B1: Tariefblad
E4: Offertetarief | G4: Regietarief divers | I4: Specialistisch tarief (op afroep)
B5: Opbouw uurtarieven | E5: % | F5: € | G5: % | H5: € | I5: % | J5: €
B6: Basis Cao-uurloon
B7: Evt. toeslag
B8: Subtotaal basis | F8: =SUM(F6:F7) -> 0 | H8: =SUM(H6:H7) -> 0 | J8: =SUM(J6:J7) -> 0
B9: Cao | F9: =IF(E9="","",E9*$F$8) | H9: =IF(G9="","",SUM(G9*$H$8)) | J9: =IF(I9="","",SUM(I9*$J$8))
B10: Vakantiedagen | F10: =IF(E10="","",E10*$F$8) | H10: =IF(G10="","",SUM(G10*$H$8)) | J10: =IF(I10="","",SUM(I10*$J$8))
B11: Kosten ziektedagen | F11: =IF(E11="","",E11*$F$8) | H11: =IF(G11="","",SUM(G11*$H$8)) | J11: =IF(I11="","",SUM(I11*$J$8))
F12: =IF(E12="","",E12*$F$8) | H12: =IF(G12="","",SUM(G12*$H$8)) | J12: =IF(I12="","",SUM(I12*$J$8))
B13: Subtotaal | F13: =SUM(F8:F12) -> 0 | H13: =SUM(H8:H12) -> 0 | J13: =SUM(J8:J12) -> 0
B14: Vakantietoeslag | F14: =IF(E14="","",SUM(E14*$F$13)) | H14: =IF(G14="","",SUM(G14*$H$13)) | J14: =IF(I14="","",SUM(I14*$J$13))
F15: =IF(E15="","",SUM(E15*$F$13)) | H15: =IF(G15="","",SUM(G15*$H$13)) | J15: =IF(I15="","",SUM(I15*$J$13))
B16: Subtotaal | F16: =SUM(F13:F15) -> 0 | H16: =SUM(H13:H15) -> 0 | J16: =SUM(J13:J15) -> 0
B17: Sociale lasten | F17: =IF(E17="","",SUM(E17*$F$16)) | H17: =IF(G17="","",SUM(G17*$H$16)) | J17: =IF(I17="","",SUM(I17*$J$16))
F18: =IF(E18="","",SUM(E18*$F$16)) | H18: =IF(G18="","",SUM(G18*$H$16)) | J18: =IF(I18="","",SUM(I18*$J$16))
F19: =IF(E19="","",SUM(E19*$F$16)) | H19: =IF(G19="","",SUM(G19*$H$16)) | J19: =IF(I19="","",SUM(I19*$J$16))
B20: Totale loonkosten | F20: =SUM(F16:F19) -> 0 | H20: =SUM(H16:H19) -> 0 | J20: =SUM(J16:J19) -> 0
B21: Middelen en materialen | F21: =IF(E21="","",SUM(E21*$F$20)) | H21: =IF(G21="","",SUM(G21*$H$20)) | J21: =IF(I21="","",SUM(I21*$J$20))
B22: Werkkleding | F22: =IF(E22="","",SUM(E22*$F$20)) | H22: =IF(G22="","",SUM(G22*$H$20)) | J22: =IF(I22="","",SUM(I22*$J$20))
B23: Machinekosten | F23: =IF(E23="","",SUM(E23*$F$20)) | H23: =IF(G23="","",SUM(G23*$H$20)) | J23: =IF(I23="","",SUM(I23*$J$20))
B24: Direct toezicht | F24: =IF(E24="","",SUM(E24*$F$20)) | H24: =IF(G24="","",SUM(G24*$H$20)) | J24: =IF(I24="","",SUM(I24*$J$20))
B25: Diversen | F25: =IF(E25="","",SUM(E25*$F$20)) | H25: =IF(G25="","",SUM(G25*$H$20)) | J25: =IF(I25="","",SUM(I25*$J$20))
F26: =IF(E26="","",SUM(E26*$F$20)) | H26: =IF(G26="","",SUM(G26*$H$20)) | J26: =IF(I26="","",SUM(I26*$J$20))
B27: Totaal directe kosten | F27: =SUM(F20:F26) -> 0 | H27: =SUM(H20:H26) -> 0 | J27: =SUM(J20:J26) -> 0
B28: Indirect toezicht | F28: =IF(E28="","",SUM(E28*$F$27)) | H28: =IF(G28="","",SUM(G28*$H$27)) | J28: =IF(I28="","",SUM(I28*$J$27))
B29: Overhead | F29: =IF(E29="","",SUM(E29*$F$27)) | H29: =IF(G29="","",SUM(G29*$H$27)) | J29: =IF(I29="","",SUM(I29*$J$27))
B30: Kosten adviesbureau | F30: =IF(E30="","",SUM(E30*$F$27))
F31: =IF(E31="","",SUM(E31*$F$27)) | H31: =IF(G31="","",SUM(G31*$H$27)) | J31: =IF(I31="","",SUM(I31*$J$27))
B32: Subtotaal | F32: =SUM(F27:F31) -> 0 | H32: =SUM(H27:H31) -> 0 | J32: =SUM(J27:J31) -> 0
B33: Risico en Winst | F33: =IF(E33="","",SUM(E33*$F$32)) | H33: =IF(G33="","",SUM(G33*$H$32)) | J33: =IF(I33="","",SUM(I33*$J$32))
F34: =IF(E34="","",SUM(E34*$F$32)) | H34: =IF(G34="","",SUM(G34*$H$32)) | J34: =IF(I34="","",SUM(I34*$J$32))
B35: Totaal tarief | F35: =IF(SUM(F32:F34)=0,"",SUM(F32:F34)) | H35: =IF(SUM(H32:H34)=0,"",SUM(H32:H34)) | J35: =IF(SUM(J32:J34)=0,"",SUM(J32:J34))
B38: Regietarief diverse werkzaamheden
C39: MA | D39: DI | E39: WO | F39: DO | G39: VR | H39: ZA | I39: ZO | J39: FE
B40: 00:00 tot 06:00 | C40: =IFERROR(SUM($H$20*1.5)+($H$35-$H$20),"") | D40: =IFERROR(SUM($H$20*1.3)+($H$35-$H$20),"") | E40: =IFERROR(SUM($H$20*1.3)+($H$35-$H$20),"") | F40: =IFERROR(SUM($H$20*1.3)+($H$35-$H$20),"") | G40: =IFERROR(SUM($H$20*1.3)+($H$35-$H$20),"") | H40: =IFERROR(SUM($H$20*1.5)+($H$35-$H$20),"") | I40: =IFERROR(SUM($H$20*1.5)+($H$35-$H$20),"") | J40: =IFERROR(SUM($H$20*2.5)+($H$35-$H$20),"")
B41: 06:00 tot 21:30 | C41: =IFERROR(SUM($H$20*1)+($H$35-$H$20),"") | D41: =IFERROR(SUM($H$20*1)+($H$35-$H$20),"") | E41: =IFERROR(SUM($H$20*1)+($H$35-$H$20),"") | F41: =IFERROR(SUM($H$20*1)+($H$35-$H$20),"") | G41: =IFERROR(SUM($H$20*1)+($H$35-$H$20),"") | H41: =IFERROR(SUM($H$20*1.5)+($H$35-$H$20),"") | I41: =IFERROR(SUM($H$20*1.5)+($H$35-$H$20),"") | J41: =IFERROR(SUM($H$20*2.5)+($H$35-$H$20),"")
B42: 21:30 tot 24:00 | C42: =IFERROR(SUM($H$20*1.3)+($H$35-$H$20),"") | D42: =IFERROR(SUM($H$20*1.3)+($H$35-$H$20),"") | E42: =IFERROR(SUM($H$20*1.3)+($H$35-$H$20),"") | F42: =IFERROR(SUM($H$20*1.3)+($H$35-$H$20),"") | G42: =IFERROR(SUM($H$20*1.5)+($H$35-$H$20),"") | H42: =IFERROR(SUM($H$20*1.5)+($H$35-$H$20),"") | I42: =IFERROR(SUM($H$20*1.5)+($H$35-$H$20),"") | J42: =IFERROR(SUM($H$20*2.5)+($H$35-$H$20),"")
B44: Regietarief specialistische werkzaamheden
C45: MA | D45: DI | E45: WO | F45: DO | G45: VR | H45: ZA | I45: ZO | J45: FE
B46: 00:00 tot 06:00 | C46: =IFERROR(SUM($J$20*1.5)+($J$35-$J$20),"") | D46: =IFERROR(SUM($J$20*1.3)+($J$35-$J$20),"") | E46: =IFERROR(SUM($J$20*1.3)+($J$35-$J$20),"") | F46: =IFERROR(SUM($J$20*1.3)+($J$35-$J$20),"") | G46: =IFERROR(SUM($J$20*1.3)+($J$35-$J$20),"") | H46: =IFERROR(SUM($J$20*1.5)+($J$35-$J$20),"") | I46: =IFERROR(SUM($J$20*1.5)+($J$35-$J$20),"") | J46: =IFERROR(SUM($J$20*2.5)+($J$35-$J$20),"")
B47: 06:00 tot 21:30 | C47: =IFERROR(SUM($J$20*1)+($J$35-$J$20),"") | D47: =IFERROR(SUM($J$20*1)+($J$35-$J$20),"") | E47: =IFERROR(SUM($J$20*1)+($J$35-$J$20),"") | F47: =IFERROR(SUM($J$20*1)+($J$35-$J$20),"") | G47: =IFERROR(SUM($J$20*1)+($J$35-$J$20),"") | H47: =IFERROR(SUM($J$20*1.5)+($J$35-$J$20),"") | I47: =IFERROR(SUM($J$20*1.5)+($J$35-$J$20),"") | J47: =IFERROR(SUM($J$20*2.5)+($J$35-$J$20),"")
B48: 21:30 tot 24:00 | C48: =IFERROR(SUM($J$20*1.3)+($J$35-$J$20),"") | D48: =IFERROR(SUM($J$20*1.3)+($J$35-$J$20),"") | E48: =IFERROR(SUM($J$20*1.3)+($J$35-$J$20),"") | F48: =IFERROR(SUM($J$20*1.3)+($J$35-$J$20),"") | G48: =IFERROR(SUM($J$20*1.5)+($J$35-$J$20),"") | H48: =IFERROR(SUM($J$20*1.5)+($J$35-$J$20),"") | I48: =IFERROR(SUM($J$20*1.5)+($J$35-$J$20),"") | J48: =IFERROR(SUM($J$20*2.5)+($J$35-$J$20),"")

Sheet Totaalblad
B1: Totaalblad
DK2: prijs /m2
V3: Totalen overzicht | AA3: extra 1 | AB3: extra 1 | AC3: extra 2 | AE3: extra 3 | AG3: extra 4 | AI3: extra 5 | AK3: extra 6 | AM3: extra 7 | AO3: extra 8 | AQ3: extra 9 | AS3: extra 10 | AU3: extra 11 | AW3: vloer 1 | AY3: vloer 2 | BA3: vloer 3 | BC3: vloer 4 | BE3: vloer 5 | BG3: vloer 6 | BI3: vloer 7 | BK3: glas 1 | BM3: glas 2 | BO3: glas 3 | BQ3: glas 4 | BS3: glas 5 | BU3: glas 6 | BW3: glas 7 | BY3: glas 8 | CA3: glas 9 | CC3: glas 10 | DK3: netto meters
B4: Locatie | C4: Maandfactuur* | D4: Maandprijs | E4: Maandprijs x12 | F4: Kwartaalbeurt | G4: Kwartaalbeurt x3 | H4: Jaarbeurt | I4: Extra werk-zaamheden | J4: Vloer-onderhoud | K4: Glasbewassing | L4: Sanitaire voorzieningen | M4: Uren maand schoonmaak x12 | N4: Uren kwartaal beurt x3 | O4: Uren uitvoerende medewerkers per jaar | P4: Uren direct toezicht per jaar | Q4: Totaalprijs per jaar | T4: Maanduren x12 | U4: Kwartaalbeurt uren x3 | V4: Offerte tarief | W4: Regie tarief | X4: Specialistisch tarief | Y4: Tot uren per jaar | Z4: Gemiddelde m2 prestatie | AB4: prijs per eenheid | AD4: prijs per eenheid | AE4: 0 | AF4: prijs per eenheid | AG4: 0 | AH4: prijs per eenheid | AI4: 0 | AJ4: prijs per eenheid | AK4: 0 | AL4: prijs per eenheid | AM4: 0 | AN4: prijs per eenheid | AO4: 0 | AP4: prijs per eenheid | AQ4: 0 | AR4: prijs per eenheid | AS4: 0 | AT4: prijs per eenheid | AU4: 0 | AV4: prijs per eenheid | AW4: sprayen | AX4: prijs per eenheid | AY4: conserveren | AZ4: prijs per eenheid | BA4: tapijtreinigen | BB4: prijs per eenheid | BC4: 0 | BD4: prijs per eenheid | BE4: 0 | BF4: prijs per eenheid | BG4: 0 | BH4: prijs per eenheid | BI4: 0 | BJ4: prijs per eenheid | BL4: prijs per eenheid | BN4: prijs per eenheid | BP4: prijs per eenheid | BR4: prijs per eenheid | BS4: 0 | BT4: prijs per eenheid | BU4: 0 | BV4: prijs per eenheid | BW4: 0 | BX4: prijs per eenheid | BY4: 0 | BZ4: prijs per eenheid | CA4: 0 | CB4: prijs per eenheid | CC4: 0 | CD4: prijs per eenheid | CE4: Totaalprijs per jaar | CF4: Totaal m2 uitbesteden/dag | CG4: Totaal m2 uitbesteden jr | CH4: categorie 1 | CI4: prestatie | CJ4: categorie 2 | CL4: categorie 3 | CN4: categorie 4 | CP4: categorie 5 | CR4: categorie 6 | CT4: categorie 7 | CV4: categorie 8 | CX4: categorie 9 | CZ4: categorie 10 | DB4: categorie 11 | DD4: categorie 12 | DF4: categorie 13 | DH4: categorie 14 | DJ4: categorie 15 | DK4: totaalprijs
A5: 1 | B5: =INDIRECT("'" & A5 & "'!$B$4") -> Bestuursbureau | C5: =IF(INDIRECT("'" & A5 & "'!$I$78")=0,"",INDIRECT("'" & A5 & "'!$I$78")) | D5: =IF(INDIRECT("'" & A5 & "'!$F$11")=0,"",INDIRECT("'" & A5 & "'!$F$11")) | E5: =IF(INDIRECT("'" & A5 & "'!$I$11")=0,"",INDIRECT("'" & A5 & "'!$I$11")) | F5: =IF(INDIRECT("'" & A5 & "'!$F$12")=0,"",INDIRECT("'" & A5 & "'!$F$12")) | G5: =IF(INDIRECT("'" & A5 & "'!$I$12")=0,"",INDIRECT("'" & A5 & "'!$I$12")) | H5: =IF(INDIRECT("'" & A5 & "'!$F$13")=0,"",INDIRECT("'" & A5 & "'!$F$13")) | I5: =IF(INDIRECT("'" & A5 & "'!$I$33")=0,"",INDIRECT("'" & A5 & "'!$I$33")) | J5: ='1'!$I$77 | K5: =IF(INDIRECT("'" & A5 & "'!$I$57")=0,"",INDIRECT("'" & A5 & "'!$I$57")) | L5: =IF(INDIRECT("'" & A5 & "'!$I$66")=0,"",INDIRECT("'" & A5 & "'!$I$66")) | M5: =IFERROR(INDIRECT("'" & A5 & "'!$J$11"),"") | N5: =IFERROR(INDIRECT("'" & A5 & "'!$J$12"),"") | O5: =IFERROR(INDIRECT("'" & A5 & "'!$J$13"),"") | P5: =IFERROR(INDIRECT("'" & A5 & "'!$F$16"),"") | Q5: =J5 | T5: =M5 | U5: =N5 | V5: =offertetarief | W5: =regietarief | X5: =spectarief | Y5: =INDIRECT("'" & A5 & "'!$I$14") | Z5: =INDIRECT("'" & A5 & "'!$I$19") | AA5: =INDIRECT("'" & A5 & "'!$I$22") | AB5: =INDIRECT("'" & A5 & "'!$F$22") -> 0 | AC5: =INDIRECT("'" & A5 & "'!$I$23") | AD5: =INDIRECT("'" & A5 & "'!$F$23") -> 0 | AE5: =INDIRECT("'" & A5 & "'!$I$24") | AF5: =INDIRECT("'" & A5 & "'!$F$24") -> 0 | AG5: =INDIRECT("'" & A5 & "'!$I$25") | AH5: =INDIRECT("'" & A5 & "'!$F$25") -> 0 | AI5: =INDIRECT("'" & A5 & "'!$I$26") | AJ5: =INDIRECT("'" & A5 & "'!$F$26") -> 0 | AK5: =INDIRECT("'" & A5 & "'!$I$27") | AL5: =INDIRECT("'" & A5 & "'!$F$27") -> 0 | AM5: =INDIRECT("'" & A5 & "'!$I$28") | AN5: =INDIRECT("'" & A5 & "'!$F$28") -> 0 | AO5: =INDIRECT("'" & A5 & "'!$I$29") | AP5: =INDIRECT("'" & A5 & "'!$F$29") -> 0 | AQ5: =INDIRECT("'" & A5 & "'!$I$30") | AR5: =INDIRECT("'" & A5 & "'!$F$30") -> 0 | AS5: =INDIRECT("'" & A5 & "'!$I$31") | AT5: =INDIRECT("'" & A5 & "'!$F$31") -> 0 | AU5: =INDIRECT("'" & A5 & "'!$I$32") | AV5: =INDIRECT("'" & A5 & "'!$F$32") -> 0 | AW5: =INDIRECT("'" & A5 & "'!$I$36") -> 0 | AX5: =INDIRECT("'" & A5 & "'!$F$36") -> 0 | AY5: =INDIRECT("'" & A5 & "'!$I$37") -> 0 | AZ5: =INDIRECT("'" & A5 & "'!$F$37") -> 0 | BA5: =INDIRECT("'" & A5 & "'!$I$38") -> 0 | BB5: =INDIRECT("'" & A5 & "'!$F$38") -> 0 | BC5: =INDIRECT("'" & A5 & "'!$I$39") -> 0 | BD5: =INDIRECT("'" & A5 & "'!$F$39") -> 0 | BE5: =INDIRECT("'" & A5 & "'!$I$40") -> 0 | BF5: =INDIRECT("'" & A5 & "'!$F$40") -> 0 | BG5: =INDIRECT("'" & A5 & "'!$I$41") -> 0 | BH5: =INDIRECT("'" & A5 & "'!$F$41") -> 0 | BI5: =INDIRECT("'" & A5 & "'!$I$42") -> 0 | BJ5: =INDIRECT("'" & A5 & "'!$F$42") -> 0 | BK5: =INDIRECT("'" & A5 & "'!$I$47") -> 0 | BL5: =INDIRECT("'" & A5 & "'!$F$47") -> Meer-/minderprijs per m2 | BM5: =INDIRECT("'" & A5 & "'!$I$48") -> 0 | BN5: =INDIRECT("'" & A5 & "'!$F$48") -> 0 | BO5: =INDIRECT("'" & A5 & "'!$I$49") -> 0 | BP5: =INDIRECT("'" & A5 & "'!$F$49") -> 0 | BQ5: =INDIRECT("'" & A5 & "'!$I$50") -> 0 | BR5: =INDIRECT("'" & A5 & "'!$F$50") -> 0 | BS5: =INDIRECT("'" & A5 & "'!$I$51") | BT5: =INDIRECT("'" & A5 & "'!$F$51") -> 0 | BU5: =INDIRECT("'" & A5 & "'!$I$52") | BV5: =INDIRECT("'" & A5 & "'!$F$52") -> 0 | BW5: =INDIRECT("'" & A5 & "'!$I$53") | BX5: =INDIRECT("'" & A5 & "'!$F$53") -> 0 | BY5: =INDIRECT("'" & A5 & "'!$I$54") | BZ5: =INDIRECT("'" & A5 & "'!$F$54") -> 0 | CA5: =INDIRECT("'" & A5 & "'!$I$55") | CB5: =INDIRECT("'" & A5 & "'!$F$55") -> 0 | CC5: =INDIRECT("'" & A5 & "'!$I$56") | CD5: =INDIRECT("'" & A5 & "'!$F$56") -> 0 | CE5: =INDIRECT("'" & A5 & "'!$I$76") -> 0 | CF5: =INDIRECT("'" & A5 & "'!$G$19") | CG5: =INDIRECT("'" & A5 & "'!$D$19") -> 22984 | CH5: =INDIRECT("'" & A5 & "'!$M$19") -> 0 | CI5: =INDIRECT("'" & A5 & "'!$N$19") -> 0 | CJ5: =INDIRECT("'" & A5 & "'!$M$20") -> 0 | CK5: =INDIRECT("'" & A5 & "'!$N$20") -> 0 | CL5: =INDIRECT("'" & A5 & "'!$M$21") -> 0 | CM5: =INDIRECT("'" & A5 & "'!$N$21") -> 0 | CN5: =INDIRECT("'" & A5 & "'!$M$22") -> 0 | CO5: =INDIRECT("'" & A5 & "'!$N$22") -> 0 | CP5: =INDIRECT("'" & A5 & "'!$M$23") -> 0 | CQ5: =INDIRECT("'" & A5 & "'!$N$23") -> 0 | CR5: =INDIRECT("'" & A5 & "'!$M$24") -> 0 | CS5: =INDIRECT("'" & A5 & "'!$N$24") -> 0 | CT5: =INDIRECT("'" & A5 & "'!$M$25") -> 0 | CU5: =INDIRECT("'" & A5 & "'!$N$25") -> 0 | CV5: =INDIRECT("'" & A5 & "'!$M$26") -> 0 | CW5: =INDIRECT("'" & A5 & "'!$N$26") -> 0 | CX5: =INDIRECT("'" & A5 & "'!$M$27") -> 0 | CY5: =INDIRECT("'" & A5 & "'!$N$27") -> 0 | CZ5: =INDIRECT("'" & A5 & "'!$M$28") -> 0 | DA5: =INDIRECT("'" & A5 & "'!$N$28") -> 0 | DB5: =INDIRECT("'" & A5 & "'!$M$29") -> 0 | DC5: =INDIRECT("'" & A5 & "'!$N$29") -> 0 | DD5: =INDIRECT("'" & A5 & "'!$M$30") -> 0 | DE5: =INDIRECT("'" & A5 & "'!$N$30") -> 0 | DF5: =INDIRECT("'" & A5 & "'!$M$31") -> 0 | DG5: =INDIRECT("'" & A5 & "'!$N$31") -> 0 | DH5: =INDIRECT("'" & A5 & "'!$M$32") -> 0 | DI5: =INDIRECT("'" & A5 & "'!$N$32") -> 0 | DJ5: =INDIRECT("'" & A5 & "'!$M$33") -> 0 | DK5: =INDIRECT("'" & A5 & "'!$N$33") -> 0 | DL5: =SUM(CE5/CF5) -> #VALUE!
A6: =Verzamelblad!A6 -> 2 | B6: =INDIRECT("'" & A6 & "'!$B$4") -> sws Adeborg | C6: =IF(INDIRECT("'" & A6 & "'!$I$78")=0,"",INDIRECT("'" & A6 & "'!$I$78")) | D6: =IF(INDIRECT("'" & A6 & "'!$F$11")=0,"",INDIRECT("'" & A6 & "'!$F$11")) | E6: =IF(INDIRECT("'" & A6 & "'!$I$11")=0,"",INDIRECT("'" & A6 & "'!$I$11")) | F6: =IF(INDIRECT("'" & A6 & "'!$F$12")=0,"",INDIRECT("'" & A6 & "'!$F$12")) | G6: =IF(INDIRECT("'" & A6 & "'!$I$12")=0,"",INDIRECT("'" & A6 & "'!$I$12")) | H6: =IF(INDIRECT("'" & A6 & "'!$F$13")=0,"",INDIRECT("'" & A6 & "'!$F$13")) | I6: =IF(INDIRECT("'" & A6 & "'!$I$33")=0,"",INDIRECT("'" & A6 & "'!$I$33")) | J6: ='2'!$I$77 | K6: =IF(INDIRECT("'" & A6 & "'!$I$57")=0,"",INDIRECT("'" & A6 & "'!$I$57")) | L6: =IF(INDIRECT("'" & A6 & "'!$I$66")=0,"",INDIRECT("'" & A6 & "'!$I$66")) | M6: =IFERROR(INDIRECT("'" & A6 & "'!$J$11"),"") | N6: =IFERROR(INDIRECT("'" & A6 & "'!$J$12"),"") | O6: =IFERROR(INDIRECT("'" & A6 & "'!$J$13"),"") | P6: =IFERROR(INDIRECT("'" & A6 & "'!$F$16"),"") | Q6: =J6 | T6: =M6 | U6: =N6 | V6: =offertetarief | W6: =regietarief | X6: =spectarief | Y6: =INDIRECT("'" & A6 & "'!$I$14") | Z6: =INDIRECT("'" & A6 & "'!$I$19") | AA6: =INDIRECT("'" & A6 & "'!$I$22") | AB6: =INDIRECT("'" & A6 & "'!$F$22") -> 0 | AC6: =INDIRECT("'" & A6 & "'!$I$23") | AD6: =INDIRECT("'" & A6 & "'!$F$23") -> 0 | AE6: =INDIRECT("'" & A6 & "'!$I$24") | AF6: =INDIRECT("'" & A6 & "'!$F$24") -> 0 | AG6: =INDIRECT("'" & A6 & "'!$I$25") | AH6: =INDIRECT("'" & A6 & "'!$F$25") -> 0 | AI6: =INDIRECT("'" & A6 & "'!$I$26") | AJ6: =INDIRECT("'" & A6 & "'!$F$26") -> 0 | AK6: =INDIRECT("'" & A6 & "'!$I$27") | AL6: =INDIRECT("'" & A6 & "'!$F$27") -> 0 | AM6: =INDIRECT("'" & A6 & "'!$I$28") | AN6: =INDIRECT("'" & A6 & "'!$F$28") -> 0 | AO6: =INDIRECT("'" & A6 & "'!$I$29") | AP6: =INDIRECT("'" & A6 & "'!$F$29") -> 0 | AQ6: =INDIRECT("'" & A6 & "'!$I$30") | AR6: =INDIRECT("'" & A6 & "'!$F$30") -> 0 | AS6: =INDIRECT("'" & A6 & "'!$I$31") | AT6: =INDIRECT("'" & A6 & "'!$F$31") -> 0 | AU6: =INDIRECT("'" & A6 & "'!$I$32") | AV6: =INDIRECT("'" & A6 & "'!$F$32") -> 0 | AW6: =INDIRECT("'" & A6 & "'!$I$36") -> 0 | AX6: =INDIRECT("'" & A6 & "'!$F$36") -> 0 | AY6: =INDIRECT("'" & A6 & "'!$I$37") | AZ6: =INDIRECT("'" & A6 & "'!$F$37") -> 0 | BA6: =INDIRECT("'" & A6 & "'!$I$38") -> 0 | BB6: =INDIRECT("'" & A6 & "'!$F$38") -> 0 | BC6: =INDIRECT("'" & A6 & "'!$I$39") -> 0 | BD6: =INDIRECT("'" & A6 & "'!$F$39") -> 0 | BE6: =INDIRECT("'" & A6 & "'!$I$40") -> 0 | BF6: =INDIRECT("'" & A6 & "'!$F$40") -> 0 | BG6: =INDIRECT("'" & A6 & "'!$I$41") -> 0 | BH6: =INDIRECT("'" & A6 & "'!$F$41") -> 0 | BI6: =INDIRECT("'" & A6 & "'!$I$42") | BJ6: =INDIRECT("'" & A6 & "'!$F$42") -> 0 | BK6: =INDIRECT("'" & A6 & "'!$I$47") -> 0 | BL6: =INDIRECT("'" & A6 & "'!$F$47") -> Meer-/minderprijs per m2 | BM6: =INDIRECT("'" & A6 & "'!$I$48") -> 0 | BN6: =INDIRECT("'" & A6 & "'!$F$48") -> 0 | BO6: =INDIRECT("'" & A6 & "'!$I$49") -> 0 | BP6: =INDIRECT("'" & A6 & "'!$F$49") -> 0 | BQ6: =INDIRECT("'" & A6 & "'!$I$50") -> 0 | BR6: =INDIRECT("'" & A6 & "'!$F$50") -> 0 | BS6: =INDIRECT("'" & A6 & "'!$I$51") | BT6: =INDIRECT("'" & A6 & "'!$F$51") -> 0 | BU6: =INDIRECT("'" & A6 & "'!$I$52") | BV6: =INDIRECT("'" & A6 & "'!$F$52") -> 0 | BW6: =INDIRECT("'" & A6 & "'!$I$53") | BX6: =INDIRECT("'" & A6 & "'!$F$53") -> 0 | BY6: =INDIRECT("'" & A6 & "'!$I$54") | BZ6: =INDIRECT("'" & A6 & "'!$F$54") -> 0 | CA6: =INDIRECT("'" & A6 & "'!$I$55") | CB6: =INDIRECT("'" & A6 & "'!$F$55") -> 0 | CC6: =INDIRECT("'" & A6 & "'!$I$56") | CD6: =INDIRECT("'" & A6 & "'!$F$56") -> 0 | CE6: =INDIRECT("'" & A6 & "'!$I$76") -> 0 | CF6: =INDIRECT("'" & A6 & "'!$G$19") | CG6: =INDIRECT("'" & A6 & "'!$D$19") -> #N/A | CH6: =INDIRECT("'" & A6 & "'!$M$19") -> 0 | CI6: =INDIRECT("'" & A6 & "'!$N$19") -> 0 | CJ6: =INDIRECT("'" & A6 & "'!$M$20") -> 0 | CK6: =INDIRECT("'" & A6 & "'!$N$20") -> 0 | CL6: =INDIRECT("'" & A6 & "'!$M$21") -> 0 | CM6: =INDIRECT("'" & A6 & "'!$N$21") -> 0 | CN6: =INDIRECT("'" & A6 & "'!$M$22") -> 0 | CO6: =INDIRECT("'" & A6 & "'!$N$22") -> 0 | CP6: =INDIRECT("'" & A6 & "'!$M$23") -> 0 | CQ6: =INDIRECT("'" & A6 & "'!$N$23") -> 0 | CR6: =INDIRECT("'" & A6 & "'!$M$24") -> 0 | CS6: =INDIRECT("'" & A6 & "'!$N$24") -> 0 | CT6: =INDIRECT("'" & A6 & "'!$M$25") -> 0 | CU6: =INDIRECT("'" & A6 & "'!$N$25") -> 0 | CV6: =INDIRECT("'" & A6 & "'!$M$26") -> 0 | CW6: =INDIRECT("'" & A6 & "'!$N$26") -> 0 | CX6: =INDIRECT("'" & A6 & "'!$M$27") -> 0 | CY6: =INDIRECT("'" & A6 & "'!$N$27") -> 0 | CZ6: =INDIRECT("'" & A6 & "'!$M$28") -> 0 | DA6: =INDIRECT("'" & A6 & "'!$N$28") -> 0 | DB6: =INDIRECT("'" & A6 & "'!$M$29") -> 0 | DC6: =INDIRECT("'" & A6 & "'!$N$29") -> 0 | DD6: =INDIRECT("'" & A6 & "'!$M$30") -> 0 | DE6: =INDIRECT("'" & A6 & "'!$N$30") -> 0 | DF6: =INDIRECT("'" & A6 & "'!$M$31") -> 0 | DG6: =INDIRECT("'" & A6 & "'!$N$31") -> 0 | DH6: =INDIRECT("'" & A6 & "'!$M$32") -> 0 | DI6: =INDIRECT("'" & A6 & "'!$N$32") -> 0 | DJ6: =INDIRECT("'" & A6 & "'!$M$33") -> 0 | DK6: =INDIRECT("'" & A6 & "'!$N$33") -> 0 | DL6: =SUM(CE6/CF6) -> #VALUE!
A7: =Verzamelblad!A7 -> 3 | B7: =INDIRECT("'" & A7 & "'!$B$4") -> CBS De Borgstee | C7: =IF(INDIRECT("'" & A7 & "'!$I$78")=0,"",INDIRECT("'" & A7 & "'!$I$78")) | D7: =IF(INDIRECT("'" & A7 & "'!$F$11")=0,"",INDIRECT("'" & A7 & "'!$F$11")) | E7: =IF(INDIRECT("'" & A7 & "'!$I$11")=0,"",INDIRECT("'" & A7 & "'!$I$11")) | F7: =IF(INDIRECT("'" & A7 & "'!$F$12")=0,"",INDIRECT("'" & A7 & "'!$F$12")) | G7: =IF(INDIRECT("'" & A7 & "'!$I$12")=0,"",INDIRECT("'" & A7 & "'!$I$12")) | H7: =IF(INDIRECT("'" & A7 & "'!$F$13")=0,"",INDIRECT("'" & A7 & "'!$F$13")) | I7: =IF(INDIRECT("'" & A7 & "'!$I$33")=0,"",INDIRECT("'" & A7 & "'!$I$33")) | J7: ='3'!I45 | K7: =IF(INDIRECT("'" & A7 & "'!$I$57")=0,"",INDIRECT("'" & A7 & "'!$I$57")) | L7: =IF(INDIRECT("'" & A7 & "'!$I$66")=0,"",INDIRECT("'" & A7 & "'!$I$66")) | M7: =IFERROR(INDIRECT("'" & A7 & "'!$J$11"),"") | N7: =IFERROR(INDIRECT("'" & A7 & "'!$J$12"),"") | O7: =IFERROR(INDIRECT("'" & A7 & "'!$J$13"),"") | P7: =IFERROR(INDIRECT("'" & A7 & "'!$F$16"),"") | Q7: =J7 | T7: =M7 | U7: =N7 | V7: =offertetarief | W7: =regietarief | X7: =spectarief | Y7: =INDIRECT("'" & A7 & "'!$I$14") | Z7: =INDIRECT("'" & A7 & "'!$I$19") | AA7: =INDIRECT("'" & A7 & "'!$I$22") | AB7: =INDIRECT("'" & A7 & "'!$F$22") -> 0 | AC7: =INDIRECT("'" & A7 & "'!$I$23") | AD7: =INDIRECT("'" & A7 & "'!$F$23") -> 0 | AE7: =INDIRECT("'" & A7 & "'!$I$24") | AF7: =INDIRECT("'" & A7 & "'!$F$24") -> 0 | AG7: =INDIRECT("'" & A7 & "'!$I$25") | AH7: =INDIRECT("'" & A7 & "'!$F$25") -> 0 | AI7: =INDIRECT("'" & A7 & "'!$I$26") | AJ7: =INDIRECT("'" & A7 & "'!$F$26") -> 0 | AK7: =INDIRECT("'" & A7 & "'!$I$27") | AL7: =INDIRECT("'" & A7 & "'!$F$27") -> 0 | AM7: =INDIRECT("'" & A7 & "'!$I$28") | AN7: =INDIRECT("'" & A7 & "'!$F$28") -> 0 | AO7: =INDIRECT("'" & A7 & "'!$I$29") | AP7: =INDIRECT("'" & A7 & "'!$F$29") -> 0 | AQ7: =INDIRECT("'" & A7 & "'!$I$30") | AR7: =INDIRECT("'" & A7 & "'!$F$30") -> 0 | AS7: =INDIRECT("'" & A7 & "'!$I$31") | AT7: =INDIRECT("'" & A7 & "'!$F$31") -> 0 | AU7: =INDIRECT("'" & A7 & "'!$I$32") | AV7: =INDIRECT("'" & A7 & "'!$F$32") -> 0 | AW7: =INDIRECT("'" & A7 & "'!$I$36") -> 0 | AX7: =INDIRECT("'" & A7 & "'!$F$36") -> 0 | AY7: =INDIRECT("'" & A7 & "'!$I$37") | AZ7: =INDIRECT("'" & A7 & "'!$F$37") -> 0 | BA7: =INDIRECT("'" & A7 & "'!$I$38") -> 0 | BB7: =INDIRECT("'" & A7 & "'!$F$38") -> 0 | BC7: =INDIRECT("'" & A7 & "'!$I$39") -> 0 | BD7: =INDIRECT("'" & A7 & "'!$F$39") -> 0 | BE7: =INDIRECT("'" & A7 & "'!$I$40") -> 0 | BF7: =INDIRECT("'" & A7 & "'!$F$40") -> 0 | BG7: =INDIRECT("'" & A7 & "'!$I$41") -> 0 | BH7: =INDIRECT("'" & A7 & "'!$F$41") -> 0 | BI7: =INDIRECT("'" & A7 & "'!$I$42") | BJ7: =INDIRECT("'" & A7 & "'!$F$42") -> 0 | BK7: =INDIRECT("'" & A7 & "'!$I$47") -> 0 | BL7: =INDIRECT("'" & A7 & "'!$F$47") -> Meer-/minderprijs per m2 | BM7: =INDIRECT("'" & A7 & "'!$I$48") -> 0 | BN7: =INDIRECT("'" & A7 & "'!$F$48") -> 0 | BO7: =INDIRECT("'" & A7 & "'!$I$49") -> 0 | BP7: =INDIRECT("'" & A7 & "'!$F$49") -> 0 | BQ7: =INDIRECT("'" & A7 & "'!$I$50") -> 0 | BR7: =INDIRECT("'" & A7 & "'!$F$50") -> 0 | BS7: =INDIRECT("'" & A7 & "'!$I$51") | BT7: =INDIRECT("'" & A7 & "'!$F$51") -> 0 | BU7: =INDIRECT("'" & A7 & "'!$I$52") | BV7: =INDIRECT("'" & A7 & "'!$F$52") -> 0 | BW7: =INDIRECT("'" & A7 & "'!$I$53") | BX7: =INDIRECT("'" & A7 & "'!$F$53") -> 0 | BY7: =INDIRECT("'" & A7 & "'!$I$54") | BZ7: =INDIRECT("'" & A7 & "'!$F$54") -> 0 | CA7: =INDIRECT("'" & A7 & "'!$I$55") | CB7: =INDIRECT("'" & A7 & "'!$F$55") -> 0 | CC7: =INDIRECT("'" & A7 & "'!$I$56") | CD7: =INDIRECT("'" & A7 & "'!$F$56") -> 0 | CE7: =INDIRECT("'" & A7 & "'!$I$76") -> 0 | CF7: =INDIRECT("'" & A7 & "'!$G$19") | CG7: =INDIRECT("'" & A7 & "'!$D$19") -> 27380 | CH7: =INDIRECT("'" & A7 & "'!$M$19") -> 0 | CI7: =INDIRECT("'" & A7 & "'!$N$19") -> 0 | CJ7: =INDIRECT("'" & A7 & "'!$M$20") -> 0 | CK7: =INDIRECT("'" & A7 & "'!$N$20") -> 0 | CL7: =INDIRECT("'" & A7 & "'!$M$21") -> 0 | CM7: =INDIRECT("'" & A7 & "'!$N$21") -> 0 | CN7: =INDIRECT("'" & A7 & "'!$M$22") -> 0 | CO7: =INDIRECT("'" & A7 & "'!$N$22") -> 0 | CP7: =INDIRECT("'" & A7 & "'!$M$23") -> 0 | CQ7: =INDIRECT("'" & A7 & "'!$N$23") -> 0 | CR7: =INDIRECT("'" & A7 & "'!$M$24") -> 0 | CS7: =INDIRECT("'" & A7 & "'!$N$24") -> 0 | CT7: =INDIRECT("'" & A7 & "'!$M$25") -> 0 | CU7: =INDIRECT("'" & A7 & "'!$N$25") -> 0 | CV7: =INDIRECT("'" & A7 & "'!$M$26") -> 0 | CW7: =INDIRECT("'" & A7 & "'!$N$26") -> 0 | CX7: =INDIRECT("'" & A7 & "'!$M$27") -> 0 | CY7: =INDIRECT("'" & A7 & "'!$N$27") -> 0 | CZ7: =INDIRECT("'" & A7 & "'!$M$28") -> 0 | DA7: =INDIRECT("'" & A7 & "'!$N$28") -> 0 | DB7: =INDIRECT("'" & A7 & "'!$M$29") -> 0 | DC7: =INDIRECT("'" & A7 & "'!$N$29") -> 0 | DD7: =INDIRECT("'" & A7 & "'!$M$30") -> 0 | DE7: =INDIRECT("'" & A7 & "'!$N$30") -> 0 | DF7: =INDIRECT("'" & A7 & "'!$M$31") -> 0 | DG7: =INDIRECT("'" & A7 & "'!$N$31") -> 0 | DH7: =INDIRECT("'" & A7 & "'!$M$32") -> 0 | DI7: =INDIRECT("'" & A7 & "'!$N$32") -> 0 | DJ7: =INDIRECT("'" & A7 & "'!$M$33") -> 0 | DK7: =INDIRECT("'" & A7 & "'!$N$33") -> 0 | DL7: =SUM(CE7/CF7) -> #VALUE!
A8: =Verzamelblad!A9 -> 5 | B8: =INDIRECT("'" & A8 & "'!$B$4") -> CBS De Hoeksteen | C8: =IF(INDIRECT("'" & A8 & "'!$I$78")=0,"",INDIRECT("'" & A8 & "'!$I$78")) | D8: =IF(INDIRECT("'" & A8 & "'!$F$11")=0,"",INDIRECT("'" & A8 & "'!$F$11")) | E8: =IF(INDIRECT("'" & A8 & "'!$I$11")=0,"",INDIRECT("'" & A8 & "'!$I$11")) | F8: =IF(INDIRECT("'" & A8 & "'!$F$12")=0,"",INDIRECT("'" & A8 & "'!$F$12")) | G8: =IF(INDIRECT("'" & A8 & "'!$I$12")=0,"",INDIRECT("'" & A8 & "'!$I$12")) | H8: =IF(INDIRECT("'" & A8 & "'!$F$13")=0,"",INDIRECT("'" & A8 & "'!$F$13")) | I8: =IF(INDIRECT("'" & A8 & "'!$I$33")=0,"",INDIRECT("'" & A8 & "'!$I$33")) | J8: ='5'!$I$77 | K8: =IF(INDIRECT("'" & A8 & "'!$I$57")=0,"",INDIRECT("'" & A8 & "'!$I$57")) | L8: =IF(INDIRECT("'" & A8 & "'!$I$66")=0,"",INDIRECT("'" & A8 & "'!$I$66")) | M8: =IFERROR(INDIRECT("'" & A8 & "'!$J$11"),"") | N8: =IFERROR(INDIRECT("'" & A8 & "'!$J$12"),"") | O8: =IFERROR(INDIRECT("'" & A8 & "'!$J$13"),"") | P8: =IFERROR(INDIRECT("'" & A8 & "'!$F$16"),"") | Q8: =J8 | T8: =M8 | U8: =N8 | V8: =offertetarief | W8: =regietarief | X8: =spectarief | Y8: =INDIRECT("'" & A8 & "'!$I$14") | Z8: =INDIRECT("'" & A8 & "'!$I$19") | AA8: =INDIRECT("'" & A8 & "'!$I$22") | AB8: =INDIRECT("'" & A8 & "'!$F$22") -> 0 | AC8: =INDIRECT("'" & A8 & "'!$I$23") | AD8: =INDIRECT("'" & A8 & "'!$F$23") -> 0 | AE8: =INDIRECT("'" & A8 & "'!$I$24") | AF8: =INDIRECT("'" & A8 & "'!$F$24") -> 0 | AG8: =INDIRECT("'" & A8 & "'!$I$25") | AH8: =INDIRECT("'" & A8 & "'!$F$25") -> 0 | AI8: =INDIRECT("'" & A8 & "'!$I$26") | AJ8: =INDIRECT("'" & A8 & "'!$F$26") -> 0 | AK8: =INDIRECT("'" & A8 & "'!$I$27") | AL8: =INDIRECT("'" & A8 & "'!$F$27") -> 0 | AM8: =INDIRECT("'" & A8 & "'!$I$28") | AN8: =INDIRECT("'" & A8 & "'!$F$28") -> 0 | AO8: =INDIRECT("'" & A8 & "'!$I$29") | AP8: =INDIRECT("'" & A8 & "'!$F$29") -> 0 | AQ8: =INDIRECT("'" & A8 & "'!$I$30") | AR8: =INDIRECT("'" & A8 & "'!$F$30") -> 0 | AS8: =INDIRECT("'" & A8 & "'!$I$31") | AT8: =INDIRECT("'" & A8 & "'!$F$31") -> 0 | AU8: =INDIRECT("'" & A8 & "'!$I$32") | AV8: =INDIRECT("'" & A8 & "'!$F$32") -> 0 | AW8: =INDIRECT("'" & A8 & "'!$I$36") -> 0 | AX8: =INDIRECT("'" & A8 & "'!$F$36") -> 0 | AY8: =INDIRECT("'" & A8 & "'!$I$37") | AZ8: =INDIRECT("'" & A8 & "'!$F$37") -> 0 | BA8: =INDIRECT("'" & A8 & "'!$I$38") -> 0 | BB8: =INDIRECT("'" & A8 & "'!$F$38") -> 0 | BC8: =INDIRECT("'" & A8 & "'!$I$39") -> 0 | BD8: =INDIRECT("'" & A8 & "'!$F$39") -> 0 | BE8: =INDIRECT("'" & A8 & "'!$I$40") -> 0 | BF8: =INDIRECT("'" & A8 & "'!$F$40") -> 0 | BG8: =INDIRECT("'" & A8 & "'!$I$41") -> 0 | BH8: =INDIRECT("'" & A8 & "'!$F$41") -> 0 | BI8: =INDIRECT("'" & A8 & "'!$I$42") | BJ8: =INDIRECT("'" & A8 & "'!$F$42") -> 0 | BK8: =INDIRECT("'" & A8 & "'!$I$47") -> 0 | BL8: =INDIRECT("'" & A8 & "'!$F$47") -> Meer-/minderprijs per m2 | BM8: =INDIRECT("'" & A8 & "'!$I$48") -> 0 | BN8: =INDIRECT("'" & A8 & "'!$F$48") -> 0 | BO8: =INDIRECT("'" & A8 & "'!$I$49") -> 0 | BP8: =INDIRECT("'" & A8 & "'!$F$49") -> 0 | BQ8: =INDIRECT("'" & A8 & "'!$I$50") -> 0 | BR8: =INDIRECT("'" & A8 & "'!$F$50") -> 0 | BS8: =INDIRECT("'" & A8 & "'!$I$51") | BT8: =INDIRECT("'" & A8 & "'!$F$51") -> 0 | BU8: =INDIRECT("'" & A8 & "'!$I$52") | BV8: =INDIRECT("'" & A8 & "'!$F$52") -> 0 | BW8: =INDIRECT("'" & A8 & "'!$I$53") | BX8: =INDIRECT("'" & A8 & "'!$F$53") -> 0 | BY8: =INDIRECT("'" & A8 & "'!$I$54") | BZ8: =INDIRECT("'" & A8 & "'!$F$54") -> 0 | CA8: =INDIRECT("'" & A8 & "'!$I$55") | CB8: =INDIRECT("'" & A8 & "'!$F$55") -> 0 | CC8: =INDIRECT("'" & A8 & "'!$I$56") | CD8: =INDIRECT("'" & A8 & "'!$F$56") -> 0 | CE8: =INDIRECT("'" & A8 & "'!$I$76") -> 0 | CF8: =INDIRECT("'" & A8 & "'!$G$19") | CG8: =INDIRECT("'" & A8 & "'!$D$19") -> 33460 | CH8: =INDIRECT("'" & A8 & "'!$M$19") -> 0 | CI8: =INDIRECT("'" & A8 & "'!$N$19") -> 0 | CJ8: =INDIRECT("'" & A8 & "'!$M$20") -> 0 | CK8: =INDIRECT("'" & A8 & "'!$N$20") -> 0 | CL8: =INDIRECT("'" & A8 & "'!$M$21") -> 0 | CM8: =INDIRECT("'" & A8 & "'!$N$21") -> 0 | CN8: =INDIRECT("'" & A8 & "'!$M$22") -> 0 | CO8: =INDIRECT("'" & A8 & "'!$N$22") -> 0 | CP8: =INDIRECT("'" & A8 & "'!$M$23") -> 0 | CQ8: =INDIRECT("'" & A8 & "'!$N$23") -> 0 | CR8: =INDIRECT("'" & A8 & "'!$M$24") -> 0 | CS8: =INDIRECT("'" & A8 & "'!$N$24") -> 0 | CT8: =INDIRECT("'" & A8 & "'!$M$25") -> 0 | CU8: =INDIRECT("'" & A8 & "'!$N$25") -> 0 | CV8: =INDIRECT("'" & A8 & "'!$M$26") -> 0 | CW8: =INDIRECT("'" & A8 & "'!$N$26") -> 0 | CX8: =INDIRECT("'" & A8 & "'!$M$27") -> 0 | CY8: =INDIRECT("'" & A8 & "'!$N$27") -> 0 | CZ8: =INDIRECT("'" & A8 & "'!$M$28") -> 0 | DA8: =INDIRECT("'" & A8 & "'!$N$28") -> 0 | DB8: =INDIRECT("'" & A8 & "'!$M$29") -> 0 | DC8: =INDIRECT("'" & A8 & "'!$N$29") -> 0 | DD8: =INDIRECT("'" & A8 & "'!$M$30") -> 0 | DE8: =INDIRECT("'" & A8 & "'!$N$30") -> 0 | DF8: =INDIRECT("'" & A8 & "'!$M$31") -> 0 | DG8: =INDIRECT("'" & A8 & "'!$N$31") -> 0 | DH8: =INDIRECT("'" & A8 & "'!$M$32") -> 0 | DI8: =INDIRECT("'" & A8 & "'!$N$32") -> 0 | DJ8: =INDIRECT("'" & A8 & "'!$M$33") -> 0 | DK8: =INDIRECT("'" & A8 & "'!$N$33") -> 0 | DL8: =SUM(CE8/CF8) -> #VALUE!
A9: =Verzamelblad!A10 -> 6 | B9: =INDIRECT("'" & A9 & "'!$B$4") -> CBS De Regenboog Tolbert | C9: =IF(INDIRECT("'" & A9 & "'!$I$78")=0,"",INDIRECT("'" & A9 & "'!$I$78")) | D9: =IF(INDIRECT("'" & A9 & "'!$F$11")=0,"",INDIRECT("'" & A9 & "'!$F$11")) | E9: =IF(INDIRECT("'" & A9 & "'!$I$11")=0,"",INDIRECT("'" & A9 & "'!$I$11")) | F9: =IF(INDIRECT("'" & A9 & "'!$F$12")=0,"",INDIRECT("'" & A9 & "'!$F$12")) | G9: =IF(INDIRECT("'" & A9 & "'!$I$12")=0,"",INDIRECT("'" & A9 & "'!$I$12")) | H9: =IF(INDIRECT("'" & A9 & "'!$F$13")=0,"",INDIRECT("'" & A9 & "'!$F$13")) | I9: =IF(INDIRECT("'" & A9 & "'!$I$33")=0,"",INDIRECT("'" & A9 & "'!$I$33")) | J9: ='6'!$I$77 | K9: =IF(INDIRECT("'" & A9 & "'!$I$57")=0,"",INDIRECT("'" & A9 & "'!$I$57")) | L9: =IF(INDIRECT("'" & A9 & "'!$I$66")=0,"",INDIRECT("'" & A9 & "'!$I$66")) | M9: =IFERROR(INDIRECT("'" & A9 & "'!$J$11"),"") | N9: =IFERROR(INDIRECT("'" & A9 & "'!$J$12"),"") | O9: =IFERROR(INDIRECT("'" & A9 & "'!$J$13"),"") | P9: =IFERROR(INDIRECT("'" & A9 & "'!$F$16"),"") | Q9: =J9 | T9: =M9 | U9: =N9 | V9: =offertetarief | W9: =regietarief | X9: =spectarief | Y9: =INDIRECT("'" & A9 & "'!$I$14") | Z9: =INDIRECT("'" & A9 & "'!$I$19") | AA9: =INDIRECT("'" & A9 & "'!$I$22") | AB9: =INDIRECT("'" & A9 & "'!$F$22") -> 0 | AC9: =INDIRECT("'" & A9 & "'!$I$23") | AD9: =INDIRECT("'" & A9 & "'!$F$23") -> 0 | AE9: =INDIRECT("'" & A9 & "'!$I$24") | AF9: =INDIRECT("'" & A9 & "'!$F$24") -> 0 | AG9: =INDIRECT("'" & A9 & "'!$I$25") | AH9: =INDIRECT("'" & A9 & "'!$F$25") -> 0 | AI9: =INDIRECT("'" & A9 & "'!$I$26") | AJ9: =INDIRECT("'" & A9 & "'!$F$26") -> 0 | AK9: =INDIRECT("'" & A9 & "'!$I$27") | AL9: =INDIRECT("'" & A9 & "'!$F$27") -> 0 | AM9: =INDIRECT("'" & A9 & "'!$I$28") | AN9: =INDIRECT("'" & A9 & "'!$F$28") -> 0 | AO9: =INDIRECT("'" & A9 & "'!$I$29") | AP9: =INDIRECT("'" & A9 & "'!$F$29") -> 0 | AQ9: =INDIRECT("'" & A9 & "'!$I$30") | AR9: =INDIRECT("'" & A9 & "'!$F$30") -> 0 | AS9: =INDIRECT("'" & A9 & "'!$I$31") | AT9: =INDIRECT("'" & A9 & "'!$F$31") -> 0 | AU9: =INDIRECT("'" & A9 & "'!$I$32") | AV9: =INDIRECT("'" & A9 & "'!$F$32") -> 0 | AW9: =INDIRECT("'" & A9 & "'!$I$36") -> 0 | AX9: =INDIRECT("'" & A9 & "'!$F$36") -> 0 | AY9: =INDIRECT("'" & A9 & "'!$I$37") | AZ9: =INDIRECT("'" & A9 & "'!$F$37") -> 0 | BA9: =INDIRECT("'" & A9 & "'!$I$38") -> 0 | BB9: =INDIRECT("'" & A9 & "'!$F$38") -> 0 | BC9: =INDIRECT("'" & A9 & "'!$I$39") -> 0 | BD9: =INDIRECT("'" & A9 & "'!$F$39") -> 0 | BE9: =INDIRECT("'" & A9 & "'!$I$40") -> 0 | BF9: =INDIRECT("'" & A9 & "'!$F$40") -> 0 | BG9: =INDIRECT("'" & A9 & "'!$I$41") -> 0 | BH9: =INDIRECT("'" & A9 & "'!$F$41") -> 0 | BI9: =INDIRECT("'" & A9 & "'!$I$42") | BJ9: =INDIRECT("'" & A9 & "'!$F$42") -> 0 | BK9: =INDIRECT("'" & A9 & "'!$I$47") -> 0 | BL9: =INDIRECT("'" & A9 & "'!$F$47") -> Meer-/minderprijs per m2 | BM9: =INDIRECT("'" & A9 & "'!$I$48") -> 0 | BN9: =INDIRECT("'" & A9 & "'!$F$48") -> 0 | BO9: =INDIRECT("'" & A9 & "'!$I$49") -> 0 | BP9: =INDIRECT("'" & A9 & "'!$F$49") -> 0 | BQ9: =INDIRECT("'" & A9 & "'!$I$50") -> 0 | BR9: =INDIRECT("'" & A9 & "'!$F$50") -> 0 | BS9: =INDIRECT("'" & A9 & "'!$I$51") | BT9: =INDIRECT("'" & A9 & "'!$F$51") -> 0 | BU9: =INDIRECT("'" & A9 & "'!$I$52") | BV9: =INDIRECT("'" & A9 & "'!$F$52") -> 0 | BW9: =INDIRECT("'" & A9 & "'!$I$53") | BX9: =INDIRECT("'" & A9 & "'!$F$53") -> 0 | BY9: =INDIRECT("'" & A9 & "'!$I$54") | BZ9: =INDIRECT("'" & A9 & "'!$F$54") -> 0 | CA9: =INDIRECT("'" & A9 & "'!$I$55") | CB9: =INDIRECT("'" & A9 & "'!$F$55") -> 0 | CC9: =INDIRECT("'" & A9 & "'!$I$56") | CD9: =INDIRECT("'" & A9 & "'!$F$56") -> 0 | CE9: =INDIRECT("'" & A9 & "'!$I$76") -> 0 | CF9: =INDIRECT("'" & A9 & "'!$G$19") | CG9: =INDIRECT("'" & A9 & "'!$D$19") -> 0 | CH9: =INDIRECT("'" & A9 & "'!$M$19") -> 0 | CI9: =INDIRECT("'" & A9 & "'!$N$19") -> 0 | CJ9: =INDIRECT("'" & A9 & "'!$M$20") -> 0 | CK9: =INDIRECT("'" & A9 & "'!$N$20") -> 0 | CL9: =INDIRECT("'" & A9 & "'!$M$21") -> 0 | CM9: =INDIRECT("'" & A9 & "'!$N$21") -> 0 | CN9: =INDIRECT("'" & A9 & "'!$M$22") -> 0 | CO9: =INDIRECT("'" & A9 & "'!$N$22") -> 0 | CP9: =INDIRECT("'" & A9 & "'!$M$23") -> 0 | CQ9: =INDIRECT("'" & A9 & "'!$N$23") -> 0 | CR9: =INDIRECT("'" & A9 & "'!$M$24") -> 0 | CS9: =INDIRECT("'" & A9 & "'!$N$24") -> 0 | CT9: =INDIRECT("'" & A9 & "'!$M$25") -> 0 | CU9: =INDIRECT("'" & A9 & "'!$N$25") -> 0 | CV9: =INDIRECT("'" & A9 & "'!$M$26") -> 0 | CW9: =INDIRECT("'" & A9 & "'!$N$26") -> 0 | CX9: =INDIRECT("'" & A9 & "'!$M$27") -> 0 | CY9: =INDIRECT("'" & A9 & "'!$N$27") -> 0 | CZ9: =INDIRECT("'" & A9 & "'!$M$28") -> 0 | DA9: =INDIRECT("'" & A9 & "'!$N$28") -> 0 | DB9: =INDIRECT("'" & A9 & "'!$M$29") -> 0 | DC9: =INDIRECT("'" & A9 & "'!$N$29") -> 0 | DD9: =INDIRECT("'" & A9 & "'!$M$30") -> 0 | DE9: =INDIRECT("'" & A9 & "'!$N$30") -> 0 | DF9: =INDIRECT("'" & A9 & "'!$M$31") -> 0 | DG9: =INDIRECT("'" & A9 & "'!$N$31") -> 0 | DH9: =INDIRECT("'" & A9 & "'!$M$32") -> 0 | DI9: =INDIRECT("'" & A9 & "'!$N$32") -> 0 | DJ9: =INDIRECT("'" & A9 & "'!$M$33") -> 0 | DK9: =INDIRECT("'" & A9 & "'!$N$33") -> 0 | DL9: =SUM(CE9/CF9) -> #VALUE!
A10: =Verzamelblad!A11 -> 7 | B10: =INDIRECT("'" & A10 & "'!$B$4") -> CBS De Rietstek | C10: =IF(INDIRECT("'" & A10 & "'!$I$78")=0,"",INDIRECT("'" & A10 & "'!$I$78")) | D10: =IF(INDIRECT("'" & A10 & "'!$F$11")=0,"",INDIRECT("'" & A10 & "'!$F$11")) | E10: =IF(INDIRECT("'" & A10 & "'!$I$11")=0,"",INDIRECT("'" & A10 & "'!$I$11")) | F10: =IF(INDIRECT("'" & A10 & "'!$F$12")=0,"",INDIRECT("'" & A10 & "'!$F$12")) | G10: =IF(INDIRECT("'" & A10 & "'!$I$12")=0,"",INDIRECT("'" & A10 & "'!$I$12")) | H10: =IF(INDIRECT("'" & A10 & "'!$F$13")=0,"",INDIRECT("'" & A10 & "'!$F$13")) | I10: =IF(INDIRECT("'" & A10 & "'!$I$33")=0,"",INDIRECT("'" & A10 & "'!$I$33")) | J10: ='7'!$I$77 | K10: =IF(INDIRECT("'" & A10 & "'!$I$57")=0,"",INDIRECT("'" & A10 & "'!$I$57")) | L10: =IF(INDIRECT("'" & A10 & "'!$I$66")=0,"",INDIRECT("'" & A10 & "'!$I$66")) | M10: =IFERROR(INDIRECT("'" & A10 & "'!$J$11"),"") | N10: =IFERROR(INDIRECT("'" & A10 & "'!$J$12"),"") | O10: =IFERROR(INDIRECT("'" & A10 & "'!$J$13"),"") | P10: =IFERROR(INDIRECT("'" & A10 & "'!$F$16"),"") | Q10: =J10 | T10: =M10 | U10: =N10 | V10: =offertetarief | W10: =regietarief | X10: =spectarief | Y10: =INDIRECT("'" & A10 & "'!$I$14") | Z10: =INDIRECT("'" & A10 & "'!$I$19") | AA10: =INDIRECT("'" & A10 & "'!$I$22") | AB10: =INDIRECT("'" & A10 & "'!$F$22") -> 0 | AC10: =INDIRECT("'" & A10 & "'!$I$23") | AD10: =INDIRECT("'" & A10 & "'!$F$23") -> 0 | AE10: =INDIRECT("'" & A10 & "'!$I$24") | AF10: =INDIRECT("'" & A10 & "'!$F$24") -> 0 | AG10: =INDIRECT("'" & A10 & "'!$I$25") | AH10: =INDIRECT("'" & A10 & "'!$F$25") -> 0 | AI10: =INDIRECT("'" & A10 & "'!$I$26") | AJ10: =INDIRECT("'" & A10 & "'!$F$26") -> 0 | AK10: =INDIRECT("'" & A10 & "'!$I$27") | AL10: =INDIRECT("'" & A10 & "'!$F$27") -> 0 | AM10: =INDIRECT("'" & A10 & "'!$I$28") | AN10: =INDIRECT("'" & A10 & "'!$F$28") -> 0 | AO10: =INDIRECT("'" & A10 & "'!$I$29") | AP10: =INDIRECT("'" & A10 & "'!$F$29") -> 0 | AQ10: =INDIRECT("'" & A10 & "'!$I$30") | AR10: =INDIRECT("'" & A10 & "'!$F$30") -> 0 | AS10: =INDIRECT("'" & A10 & "'!$I$31") | AT10: =INDIRECT("'" & A10 & "'!$F$31") -> 0 | AU10: =INDIRECT("'" & A10 & "'!$I$32") | AV10: =INDIRECT("'" & A10 & "'!$F$32") -> 0 | AW10: =INDIRECT("'" & A10 & "'!$I$36") -> 0 | AX10: =INDIRECT("'" & A10 & "'!$F$36") -> 0 | AY10: =INDIRECT("'" & A10 & "'!$I$37") | AZ10: =INDIRECT("'" & A10 & "'!$F$37") -> 0 | BA10: =INDIRECT("'" & A10 & "'!$I$38") -> 0 | BB10: =INDIRECT("'" & A10 & "'!$F$38") -> 0 | BC10: =INDIRECT("'" & A10 & "'!$I$39") -> 0 | BD10: =INDIRECT("'" & A10 & "'!$F$39") -> 0 | BE10: =INDIRECT("'" & A10 & "'!$I$40") -> 0 | BF10: =INDIRECT("'" & A10 & "'!$F$40") -> 0 | BG10: =INDIRECT("'" & A10 & "'!$I$41") -> 0 | BH10: =INDIRECT("'" & A10 & "'!$F$41") -> 0 | BI10: =INDIRECT("'" & A10 & "'!$I$42") | BJ10: =INDIRECT("'" & A10 & "'!$F$42") -> 0 | BK10: =INDIRECT("'" & A10 & "'!$I$47") -> 0 | BL10: =INDIRECT("'" & A10 & "'!$F$47") -> Meer-/minderprijs per m2 | BM10: =INDIRECT("'" & A10 & "'!$I$48") -> 0 | BN10: =INDIRECT("'" & A10 & "'!$F$48") -> 0 | BO10: =INDIRECT("'" & A10 & "'!$I$49") -> 0 | BP10: =INDIRECT("'" & A10 & "'!$F$49") -> 0 | BQ10: =INDIRECT("'" & A10 & "'!$I$50") -> 0 | BR10: =INDIRECT("'" & A10 & "'!$F$50") -> 0 | BS10: =INDIRECT("'" & A10 & "'!$I$51") | BT10: =INDIRECT("'" & A10 & "'!$F$51") -> 0 | BU10: =INDIRECT("'" & A10 & "'!$I$52") | BV10: =INDIRECT("'" & A10 & "'!$F$52") -> 0 | BW10: =INDIRECT("'" & A10 & "'!$I$53") | BX10: =INDIRECT("'" & A10 & "'!$F$53") -> 0 | BY10: =INDIRECT("'" & A10 & "'!$I$54") | BZ10: =INDIRECT("'" & A10 & "'!$F$54") -> 0 | CA10: =INDIRECT("'" & A10 & "'!$I$55") | CB10: =INDIRECT("'" & A10 & "'!$F$55") -> 0 | CC10: =INDIRECT("'" & A10 & "'!$I$56") | CD10: =INDIRECT("'" & A10 & "'!$F$56") -> 0 | CE10: =INDIRECT("'" & A10 & "'!$I$76") -> 0 | CF10: =INDIRECT("'" & A10 & "'!$G$19") | CG10: =INDIRECT("'" & A10 & "'!$D$19") -> 0 | CH10: =INDIRECT("'" & A10 & "'!$M$19") -> 0 | CI10: =INDIRECT("'" & A10 & "'!$N$19") -> 0 | CJ10: =INDIRECT("'" & A10 & "'!$M$20") -> 0 | CK10: =INDIRECT("'" & A10 & "'!$N$20") -> 0 | CL10: =INDIRECT("'" & A10 & "'!$M$21") -> 0 | CM10: =INDIRECT("'" & A10 & "'!$N$21") -> 0 | CN10: =INDIRECT("'" & A10 & "'!$M$22") -> 0 | CO10: =INDIRECT("'" & A10 & "'!$N$22") -> 0 | CP10: =INDIRECT("'" & A10 & "'!$M$23") -> 0 | CQ10: =INDIRECT("'" & A10 & "'!$N$23") -> 0 | CR10: =INDIRECT("'" & A10 & "'!$M$24") -> 0 | CS10: =INDIRECT("'" & A10 & "'!$N$24") -> 0 | CT10: =INDIRECT("'" & A10 & "'!$M$25") -> 0 | CU10: =INDIRECT("'" & A10 & "'!$N$25") -> 0 | CV10: =INDIRECT("'" & A10 & "'!$M$26") -> 0 | CW10: =INDIRECT("'" & A10 & "'!$N$26") -> 0 | CX10: =INDIRECT("'" & A10 & "'!$M$27") -> 0 | CY10: =INDIRECT("'" & A10 & "'!$N$27") -> 0 | CZ10: =INDIRECT("'" & A10 & "'!$M$28") -> 0 | DA10: =INDIRECT("'" & A10 & "'!$N$28") -> 0 | DB10: =INDIRECT("'" & A10 & "'!$M$29") -> 0 | DC10: =INDIRECT("'" & A10 & "'!$N$29") -> 0 | DD10: =INDIRECT("'" & A10 & "'!$M$30") -> 0 | DE10: =INDIRECT("'" & A10 & "'!$N$30") -> 0 | DF10: =INDIRECT("'" & A10 & "'!$M$31") -> 0 | DG10: =INDIRECT("'" & A10 & "'!$N$31") -> 0 | DH10: =INDIRECT("'" & A10 & "'!$M$32") -> 0 | DI10: =INDIRECT("'" & A10 & "'!$N$32") -> 0 | DJ10: =INDIRECT("'" & A10 & "'!$M$33") -> 0 | DK10: =INDIRECT("'" & A10 & "'!$N$33") -> 0 | DL10: =SUM(CE10/CF10) -> #VALUE!
A11: =Verzamelblad!A12 -> 8 | B11: =INDIRECT("'" & A11 & "'!$B$4") -> CBS De Steltloper (voorheen de Wegwijzer) | C11: =IF(INDIRECT("'" & A11 & "'!$I$78")=0,"",INDIRECT("'" & A11 & "'!$I$78")) | D11: =IF(INDIRECT("'" & A11 & "'!$F$11")=0,"",INDIRECT("'" & A11 & "'!$F$11")) | E11: =IF(INDIRECT("'" & A11 & "'!$I$11")=0,"",INDIRECT("'" & A11 & "'!$I$11")) | F11: =IF(INDIRECT("'" & A11 & "'!$F$12")=0,"",INDIRECT("'" & A11 & "'!$F$12")) | G11: =IF(INDIRECT("'" & A11 & "'!$I$12")=0,"",INDIRECT("'" & A11 & "'!$I$12")) | H11: =IF(INDIRECT("'" & A11 & "'!$F$13")=0,"",INDIRECT("'" & A11 & "'!$F$13")) | I11: =IF(INDIRECT("'" & A11 & "'!$I$33")=0,"",INDIRECT("'" & A11 & "'!$I$33")) | J11: ='8'!$I$77 | K11: =IF(INDIRECT("'" & A11 & "'!$I$57")=0,"",INDIRECT("'" & A11 & "'!$I$57")) | L11: =IF(INDIRECT("'" & A11 & "'!$I$66")=0,"",INDIRECT("'" & A11 & "'!$I$66")) | M11: =IFERROR(INDIRECT("'" & A11 & "'!$J$11"),"") | N11: =IFERROR(INDIRECT("'" & A11 & "'!$J$12"),"") | O11: =IFERROR(INDIRECT("'" & A11 & "'!$J$13"),"") | P11: =IFERROR(INDIRECT("'" & A11 & "'!$F$16"),"") | Q11: =J11 | T11: =M11 | U11: =N11 | V11: =offertetarief | W11: =regietarief | X11: =spectarief | Y11: =INDIRECT("'" & A11 & "'!$I$14") | Z11: =INDIRECT("'" & A11 & "'!$I$19") | AA11: =INDIRECT("'" & A11 & "'!$I$22") | AB11: =INDIRECT("'" & A11 & "'!$F$22") -> 0 | AC11: =INDIRECT("'" & A11 & "'!$I$23") | AD11: =INDIRECT("'" & A11 & "'!$F$23") -> 0 | AE11: =INDIRECT("'" & A11 & "'!$I$24") | AF11: =INDIRECT("'" & A11 & "'!$F$24") -> 0 | AG11: =INDIRECT("'" & A11 & "'!$I$25") | AH11: =INDIRECT("'" & A11 & "'!$F$25") -> 0 | AI11: =INDIRECT("'" & A11 & "'!$I$26") | AJ11: =INDIRECT("'" & A11 & "'!$F$26") -> 0 | AK11: =INDIRECT("'" & A11 & "'!$I$27") | AL11: =INDIRECT("'" & A11 & "'!$F$27") -> 0 | AM11: =INDIRECT("'" & A11 & "'!$I$28") | AN11: =INDIRECT("'" & A11 & "'!$F$28") -> 0 | AO11: =INDIRECT("'" & A11 & "'!$I$29") | AP11: =INDIRECT("'" & A11 & "'!$F$29") -> 0 | AQ11: =INDIRECT("'" & A11 & "'!$I$30") | AR11: =INDIRECT("'" & A11 & "'!$F$30") -> 0 | AS11: =INDIRECT("'" & A11 & "'!$I$31") | AT11: =INDIRECT("'" & A11 & "'!$F$31") -> 0 | AU11: =INDIRECT("'" & A11 & "'!$I$32") | AV11: =INDIRECT("'" & A11 & "'!$F$32") -> 0 | AW11: =INDIRECT("'" & A11 & "'!$I$36") -> 0 | AX11: =INDIRECT("'" & A11 & "'!$F$36") -> 0 | AY11: =INDIRECT("'" & A11 & "'!$I$37") | AZ11: =INDIRECT("'" & A11 & "'!$F$37") -> 0 | BA11: =INDIRECT("'" & A11 & "'!$I$38") -> 0 | BB11: =INDIRECT("'" & A11 & "'!$F$38") -> 0 | BC11: =INDIRECT("'" & A11 & "'!$I$39") -> 0 | BD11: =INDIRECT("'" & A11 & "'!$F$39") -> 0 | BE11: =INDIRECT("'" & A11 & "'!$I$40") -> 0 | BF11: =INDIRECT("'" & A11 & "'!$F$40") -> 0 | BG11: =INDIRECT("'" & A11 & "'!$I$41") -> 0 | BH11: =INDIRECT("'" & A11 & "'!$F$41") -> 0 | BI11: =INDIRECT("'" & A11 & "'!$I$42") | BJ11: =INDIRECT("'" & A11 & "'!$F$42") -> 0 | BK11: =INDIRECT("'" & A11 & "'!$I$47") -> 0 | BL11: =INDIRECT("'" & A11 & "'!$F$47") -> Meer-/minderprijs per m2 | BM11: =INDIRECT("'" & A11 & "'!$I$48") -> 0 | BN11: =INDIRECT("'" & A11 & "'!$F$48") -> 0 | BO11: =INDIRECT("'" & A11 & "'!$I$49") -> 0 | BP11: =INDIRECT("'" & A11 & "'!$F$49") -> 0 | BQ11: =INDIRECT("'" & A11 & "'!$I$50") -> 0 | BR11: =INDIRECT("'" & A11 & "'!$F$50") -> 0 | BS11: =INDIRECT("'" & A11 & "'!$I$51") | BT11: =INDIRECT("'" & A11 & "'!$F$51") -> 0 | BU11: =INDIRECT("'" & A11 & "'!$I$52") | BV11: =INDIRECT("'" & A11 & "'!$F$52") -> 0 | BW11: =INDIRECT("'" & A11 & "'!$I$53") | BX11: =INDIRECT("'" & A11 & "'!$F$53") -> 0 | BY11: =INDIRECT("'" & A11 & "'!$I$54") | BZ11: =INDIRECT("'" & A11 & "'!$F$54") -> 0 | CA11: =INDIRECT("'" & A11 & "'!$I$55") | CB11: =INDIRECT("'" & A11 & "'!$F$55") -> 0 | CC11: =INDIRECT("'" & A11 & "'!$I$56") | CD11: =INDIRECT("'" & A11 & "'!$F$56") -> 0 | CE11: =INDIRECT("'" & A11 & "'!$I$76") -> 0 | CF11: =INDIRECT("'" & A11 & "'!$G$19") | CG11: =INDIRECT("'" & A11 & "'!$D$19") -> 0 | CH11: =INDIRECT("'" & A11 & "'!$M$19") -> 0 | CI11: =INDIRECT("'" & A11 & "'!$N$19") -> 0 | CJ11: =INDIRECT("'" & A11 & "'!$M$20") -> 0 | CK11: =INDIRECT("'" & A11 & "'!$N$20") -> 0 | CL11: =INDIRECT("'" & A11 & "'!$M$21") -> 0 | CM11: =INDIRECT("'" & A11 & "'!$N$21") -> 0 | CN11: =INDIRECT("'" & A11 & "'!$M$22") -> 0 | CO11: =INDIRECT("'" & A11 & "'!$N$22") -> 0 | CP11: =INDIRECT("'" & A11 & "'!$M$23") -> 0 | CQ11: =INDIRECT("'" & A11 & "'!$N$23") -> 0 | CR11: =INDIRECT("'" & A11 & "'!$M$24") -> 0 | CS11: =INDIRECT("'" & A11 & "'!$N$24") -> 0 | CT11: =INDIRECT("'" & A11 & "'!$M$25") -> 0 | CU11: =INDIRECT("'" & A11 & "'!$N$25") -> 0 | CV11: =INDIRECT("'" & A11 & "'!$M$26") -> 0 | CW11: =INDIRECT("'" & A11 & "'!$N$26") -> 0 | CX11: =INDIRECT("'" & A11 & "'!$M$27") -> 0 | CY11: =INDIRECT("'" & A11 & "'!$N$27") -> 0 | CZ11: =INDIRECT("'" & A11 & "'!$M$28") -> 0 | DA11: =INDIRECT("'" & A11 & "'!$N$28") -> 0 | DB11: =INDIRECT("'" & A11 & "'!$M$29") -> 0 | DC11: =INDIRECT("'" & A11 & "'!$N$29") -> 0 | DD11: =INDIRECT("'" & A11 & "'!$M$30") -> 0 | DE11: =INDIRECT("'" & A11 & "'!$N$30") -> 0 | DF11: =INDIRECT("'" & A11 & "'!$M$31") -> 0 | DG11: =INDIRECT("'" & A11 & "'!$N$31") -> 0 | DH11: =INDIRECT("'" & A11 & "'!$M$32") -> 0 | DI11: =INDIRECT("'" & A11 & "'!$N$32") -> 0 | DJ11: =INDIRECT("'" & A11 & "'!$M$33") -> 0 | DK11: =INDIRECT("'" & A11 & "'!$N$33") -> 0 | DL11: =SUM(CE11/CF11) -> #VALUE!
A12: =Verzamelblad!A13 -> 9 | B12: =INDIRECT("'" & A12 & "'!$B$4") -> CBS De Windroos | C12: =IF(INDIRECT("'" & A12 & "'!$I$78")=0,"",INDIRECT("'" & A12 & "'!$I$78")) | D12: =IF(INDIRECT("'" & A12 & "'!$F$11")=0,"",INDIRECT("'" & A12 & "'!$F$11")) | E12: =IF(INDIRECT("'" & A12 & "'!$I$11")=0,"",INDIRECT("'" & A12 & "'!$I$11")) | F12: =IF(INDIRECT("'" & A12 & "'!$F$12")=0,"",INDIRECT("'" & A12 & "'!$F$12")) | G12: =IF(INDIRECT("'" & A12 & "'!$I$12")=0,"",INDIRECT("'" & A12 & "'!$I$12")) | H12: =IF(INDIRECT("'" & A12 & "'!$F$13")=0,"",INDIRECT("'" & A12 & "'!$F$13")) | I12: =IF(INDIRECT("'" & A12 & "'!$I$33")=0,"",INDIRECT("'" & A12 & "'!$I$33")) | J12: ='9'!$I$77 | K12: =IF(INDIRECT("'" & A12 & "'!$I$57")=0,"",INDIRECT("'" & A12 & "'!$I$57")) | L12: =IF(INDIRECT("'" & A12 & "'!$I$66")=0,"",INDIRECT("'" & A12 & "'!$I$66")) | M12: =IFERROR(INDIRECT("'" & A12 & "'!$J$11"),"") | N12: =IFERROR(INDIRECT("'" & A12 & "'!$J$12"),"") | O12: =IFERROR(INDIRECT("'" & A12 & "'!$J$13"),"") | P12: =IFERROR(INDIRECT("'" & A12 & "'!$F$16"),"") | Q12: =J12 | T12: =M12 | U12: =N12 | V12: =offertetarief | W12: =regietarief | X12: =spectarief | Y12: =INDIRECT("'" & A12 & "'!$I$14") | Z12: =INDIRECT("'" & A12 & "'!$I$19") | AA12: =INDIRECT("'" & A12 & "'!$I$22") | AB12: =INDIRECT("'" & A12 & "'!$F$22") -> 0 | AC12: =INDIRECT("'" & A12 & "'!$I$23") | AD12: =INDIRECT("'" & A12 & "'!$F$23") -> 0 | AE12: =INDIRECT("'" & A12 & "'!$I$24") | AF12: =INDIRECT("'" & A12 & "'!$F$24") -> 0 | AG12: =INDIRECT("'" & A12 & "'!$I$25") | AH12: =INDIRECT("'" & A12 & "'!$F$25") -> 0 | AI12: =INDIRECT("'" & A12 & "'!$I$26") | AJ12: =INDIRECT("'" & A12 & "'!$F$26") -> 0 | AK12: =INDIRECT("'" & A12 & "'!$I$27") | AL12: =INDIRECT("'" & A12 & "'!$F$27") -> 0 | AM12: =INDIRECT("'" & A12 & "'!$I$28") | AN12: =INDIRECT("'" & A12 & "'!$F$28") -> 0 | AO12: =INDIRECT("'" & A12 & "'!$I$29") | AP12: =INDIRECT("'" & A12 & "'!$F$29") -> 0 | AQ12: =INDIRECT("'" & A12 & "'!$I$30") | AR12: =INDIRECT("'" & A12 & "'!$F$30") -> 0 | AS12: =INDIRECT("'" & A12 & "'!$I$31") | AT12: =INDIRECT("'" & A12 & "'!$F$31") -> 0 | AU12: =INDIRECT("'" & A12 & "'!$I$32") | AV12: =INDIRECT("'" & A12 & "'!$F$32") -> 0 | AW12: =INDIRECT("'" & A12 & "'!$I$36") -> 0 | AX12: =INDIRECT("'" & A12 & "'!$F$36") -> 0 | AY12: =INDIRECT("'" & A12 & "'!$I$37") | AZ12: =INDIRECT("'" & A12 & "'!$F$37") -> 0 | BA12: =INDIRECT("'" & A12 & "'!$I$38") -> 0 | BB12: =INDIRECT("'" & A12 & "'!$F$38") -> 0 | BC12: =INDIRECT("'" & A12 & "'!$I$39") -> 0 | BD12: =INDIRECT("'" & A12 & "'!$F$39") -> 0 | BE12: =INDIRECT("'" & A12 & "'!$I$40") -> 0 | BF12: =INDIRECT("'" & A12 & "'!$F$40") -> 0 | BG12: =INDIRECT("'" & A12 & "'!$I$41") -> 0 | BH12: =INDIRECT("'" & A12 & "'!$F$41") -> 0 | BI12: =INDIRECT("'" & A12 & "'!$I$42") | BJ12: =INDIRECT("'" & A12 & "'!$F$42") -> 0 | BK12: =INDIRECT("'" & A12 & "'!$I$47") -> 0 | BL12: =INDIRECT("'" & A12 & "'!$F$47") -> Meer-/minderprijs per m2 | BM12: =INDIRECT("'" & A12 & "'!$I$48") -> 0 | BN12: =INDIRECT("'" & A12 & "'!$F$48") -> 0 | BO12: =INDIRECT("'" & A12 & "'!$I$49") -> 0 | BP12: =INDIRECT("'" & A12 & "'!$F$49") -> 0 | BQ12: =INDIRECT("'" & A12 & "'!$I$50") -> 0 | BR12: =INDIRECT("'" & A12 & "'!$F$50") -> 0 | BS12: =INDIRECT("'" & A12 & "'!$I$51") | BT12: =INDIRECT("'" & A12 & "'!$F$51") -> 0 | BU12: =INDIRECT("'" & A12 & "'!$I$52") | BV12: =INDIRECT("'" & A12 & "'!$F$52") -> 0 | BW12: =INDIRECT("'" & A12 & "'!$I$53") | BX12: =INDIRECT("'" & A12 & "'!$F$53") -> 0 | BY12: =INDIRECT("'" & A12 & "'!$I$54") | BZ12: =INDIRECT("'" & A12 & "'!$F$54") -> 0 | CA12: =INDIRECT("'" & A12 & "'!$I$55") | CB12: =INDIRECT("'" & A12 & "'!$F$55") -> 0 | CC12: =INDIRECT("'" & A12 & "'!$I$56") | CD12: =INDIRECT("'" & A12 & "'!$F$56") -> 0 | CE12: =INDIRECT("'" & A12 & "'!$I$76") -> 0 | CF12: =INDIRECT("'" & A12 & "'!$G$19") | CG12: =INDIRECT("'" & A12 & "'!$D$19") -> #N/A | CH12: =INDIRECT("'" & A12 & "'!$M$19") -> 0 | CI12: =INDIRECT("'" & A12 & "'!$N$19") -> 0 | CJ12: =INDIRECT("'" & A12 & "'!$M$20") -> 0 | CK12: =INDIRECT("'" & A12 & "'!$N$20") -> 0 | CL12: =INDIRECT("'" & A12 & "'!$M$21") -> 0 | CM12: =INDIRECT("'" & A12 & "'!$N$21") -> 0 | CN12: =INDIRECT("'" & A12 & "'!$M$22") -> 0 | CO12: =INDIRECT("'" & A12 & "'!$N$22") -> 0 | CP12: =INDIRECT("'" & A12 & "'!$M$23") -> 0 | CQ12: =INDIRECT("'" & A12 & "'!$N$23") -> 0 | CR12: =INDIRECT("'" & A12 & "'!$M$24") -> 0 | CS12: =INDIRECT("'" & A12 & "'!$N$24") -> 0 | CT12: =INDIRECT("'" & A12 & "'!$M$25") -> 0 | CU12: =INDIRECT("'" & A12 & "'!$N$25") -> 0 | CV12: =INDIRECT("'" & A12 & "'!$M$26") -> 0 | CW12: =INDIRECT("'" & A12 & "'!$N$26") -> 0 | CX12: =INDIRECT("'" & A12 & "'!$M$27") -> 0 | CY12: =INDIRECT("'" & A12 & "'!$N$27") -> 0 | CZ12: =INDIRECT("'" & A12 & "'!$M$28") -> 0 | DA12: =INDIRECT("'" & A12 & "'!$N$28") -> 0 | DB12: =INDIRECT("'" & A12 & "'!$M$29") -> 0 | DC12: =INDIRECT("'" & A12 & "'!$N$29") -> 0 | DD12: =INDIRECT("'" & A12 & "'!$M$30") -> 0 | DE12: =INDIRECT("'" & A12 & "'!$N$30") -> 0 | DF12: =INDIRECT("'" & A12 & "'!$M$31") -> 0 | DG12: =INDIRECT("'" & A12 & "'!$N$31") -> 0 | DH12: =INDIRECT("'" & A12 & "'!$M$32") -> 0 | DI12: =INDIRECT("'" & A12 & "'!$N$32") -> 0 | DJ12: =INDIRECT("'" & A12 & "'!$M$33") -> 0 | DK12: =INDIRECT("'" & A12 & "'!$N$33") -> 0 | DL12: =SUM(CE12/CF12) -> #VALUE!
A13: =Verzamelblad!A14 -> 10 | B13: =INDIRECT("'" & A13 & "'!$B$4") -> CBS De Humstee | C13: =IF(INDIRECT("'" & A13 & "'!$I$78")=0,"",INDIRECT("'" & A13 & "'!$I$78")) | D13: =IF(INDIRECT("'" & A13 & "'!$F$11")=0,"",INDIRECT("'" & A13 & "'!$F$11")) | E13: =IF(INDIRECT("'" & A13 & "'!$I$11")=0,"",INDIRECT("'" & A13 & "'!$I$11")) | F13: =IF(INDIRECT("'" & A13 & "'!$F$12")=0,"",INDIRECT("'" & A13 & "'!$F$12")) | G13: =IF(INDIRECT("'" & A13 & "'!$I$12")=0,"",INDIRECT("'" & A13 & "'!$I$12")) | H13: =IF(INDIRECT("'" & A13 & "'!$F$13")=0,"",INDIRECT("'" & A13 & "'!$F$13")) | I13: =IF(INDIRECT("'" & A13 & "'!$I$33")=0,"",INDIRECT("'" & A13 & "'!$I$33")) | J13: ='10'!$I$77 | K13: =IF(INDIRECT("'" & A13 & "'!$I$57")=0,"",INDIRECT("'" & A13 & "'!$I$57")) | L13: =IF(INDIRECT("'" & A13 & "'!$I$66")=0,"",INDIRECT("'" & A13 & "'!$I$66")) | M13: =IFERROR(INDIRECT("'" & A13 & "'!$J$11"),"") | N13: =IFERROR(INDIRECT("'" & A13 & "'!$J$12"),"") | O13: =IFERROR(INDIRECT("'" & A13 & "'!$J$13"),"") | P13: =IFERROR(INDIRECT("'" & A13 & "'!$F$16"),"") | Q13: =J13 | T13: =M13 | U13: =N13 | V13: =offertetarief | W13: =regietarief | X13: =spectarief | Y13: =INDIRECT("'" & A13 & "'!$I$14") | Z13: =INDIRECT("'" & A13 & "'!$I$19") | AA13: =INDIRECT("'" & A13 & "'!$I$22") | AB13: =INDIRECT("'" & A13 & "'!$F$22") -> 0 | AC13: =INDIRECT("'" & A13 & "'!$I$23") | AD13: =INDIRECT("'" & A13 & "'!$F$23") -> 0 | AE13: =INDIRECT("'" & A13 & "'!$I$24") | AF13: =INDIRECT("'" & A13 & "'!$F$24") -> 0 | AG13: =INDIRECT("'" & A13 & "'!$I$25") | AH13: =INDIRECT("'" & A13 & "'!$F$25") -> 0 | AI13: =INDIRECT("'" & A13 & "'!$I$26") | AJ13: =INDIRECT("'" & A13 & "'!$F$26") -> 0 | AK13: =INDIRECT("'" & A13 & "'!$I$27") | AL13: =INDIRECT("'" & A13 & "'!$F$27") -> 0 | AM13: =INDIRECT("'" & A13 & "'!$I$28") | AN13: =INDIRECT("'" & A13 & "'!$F$28") -> 0 | AO13: =INDIRECT("'" & A13 & "'!$I$29") | AP13: =INDIRECT("'" & A13 & "'!$F$29") -> 0 | AQ13: =INDIRECT("'" & A13 & "'!$I$30") | AR13: =INDIRECT("'" & A13 & "'!$F$30") -> 0 | AS13: =INDIRECT("'" & A13 & "'!$I$31") | AT13: =INDIRECT("'" & A13 & "'!$F$31") -> 0 | AU13: =INDIRECT("'" & A13 & "'!$I$32") | AV13: =INDIRECT("'" & A13 & "'!$F$32") -> 0 | AW13: =INDIRECT("'" & A13 & "'!$I$36") -> 0 | AX13: =INDIRECT("'" & A13 & "'!$F$36") -> 0 | AY13: =INDIRECT("'" & A13 & "'!$I$37") | AZ13: =INDIRECT("'" & A13 & "'!$F$37") -> 0 | BA13: =INDIRECT("'" & A13 & "'!$I$38") -> 0 | BB13: =INDIRECT("'" & A13 & "'!$F$38") -> 0 | BC13: =INDIRECT("'" & A13 & "'!$I$39") -> 0 | BD13: =INDIRECT("'" & A13 & "'!$F$39") -> 0 | BE13: =INDIRECT("'" & A13 & "'!$I$40") -> 0 | BF13: =INDIRECT("'" & A13 & "'!$F$40") -> 0 | BG13: =INDIRECT("'" & A13 & "'!$I$41") -> 0 | BH13: =INDIRECT("'" & A13 & "'!$F$41") -> 0 | BI13: =INDIRECT("'" & A13 & "'!$I$42") | BJ13: =INDIRECT("'" & A13 & "'!$F$42") -> 0 | BK13: =INDIRECT("'" & A13 & "'!$I$47") -> 0 | BL13: =INDIRECT("'" & A13 & "'!$F$47") -> Meer-/minderprijs per m2 | BM13: =INDIRECT("'" & A13 & "'!$I$48") -> 0 | BN13: =INDIRECT("'" & A13 & "'!$F$48") -> 0 | BO13: =INDIRECT("'" & A13 & "'!$I$49") -> 0 | BP13: =INDIRECT("'" & A13 & "'!$F$49") -> 0 | BQ13: =INDIRECT("'" & A13 & "'!$I$50") -> 0 | BR13: =INDIRECT("'" & A13 & "'!$F$50") -> 0 | BS13: =INDIRECT("'" & A13 & "'!$I$51") | BT13: =INDIRECT("'" & A13 & "'!$F$51") -> 0 | BU13: =INDIRECT("'" & A13 & "'!$I$52") | BV13: =INDIRECT("'" & A13 & "'!$F$52") -> 0 | BW13: =INDIRECT("'" & A13 & "'!$I$53") | BX13: =INDIRECT("'" & A13 & "'!$F$53") -> 0 | BY13: =INDIRECT("'" & A13 & "'!$I$54") | BZ13: =INDIRECT("'" & A13 & "'!$F$54") -> 0 | CA13: =INDIRECT("'" & A13 & "'!$I$55") | CB13: =INDIRECT("'" & A13 & "'!$F$55") -> 0 | CC13: =INDIRECT("'" & A13 & "'!$I$56") | CD13: =INDIRECT("'" & A13 & "'!$F$56") -> 0 | CE13: =INDIRECT("'" & A13 & "'!$I$76") -> 0 | CF13: =INDIRECT("'" & A13 & "'!$G$19") | CG13: =INDIRECT("'" & A13 & "'!$D$19") -> #N/A | CH13: =INDIRECT("'" & A13 & "'!$M$19") -> 0 | CI13: =INDIRECT("'" & A13 & "'!$N$19") -> 0 | CJ13: =INDIRECT("'" & A13 & "'!$M$20") -> 0 | CK13: =INDIRECT("'" & A13 & "'!$N$20") -> 0 | CL13: =INDIRECT("'" & A13 & "'!$M$21") -> 0 | CM13: =INDIRECT("'" & A13 & "'!$N$21") -> 0 | CN13: =INDIRECT("'" & A13 & "'!$M$22") -> 0 | CO13: =INDIRECT("'" & A13 & "'!$N$22") -> 0 | CP13: =INDIRECT("'" & A13 & "'!$M$23") -> 0 | CQ13: =INDIRECT("'" & A13 & "'!$N$23") -> 0 | CR13: =INDIRECT("'" & A13 & "'!$M$24") -> 0 | CS13: =INDIRECT("'" & A13 & "'!$N$24") -> 0 | CT13: =INDIRECT("'" & A13 & "'!$M$25") -> 0 | CU13: =INDIRECT("'" & A13 & "'!$N$25") -> 0 | CV13: =INDIRECT("'" & A13 & "'!$M$26") -> 0 | CW13: =INDIRECT("'" & A13 & "'!$N$26") -> 0 | CX13: =INDIRECT("'" & A13 & "'!$M$27") -> 0 | CY13: =INDIRECT("'" & A13 & "'!$N$27") -> 0 | CZ13: =INDIRECT("'" & A13 & "'!$M$28") -> 0 | DA13: =INDIRECT("'" & A13 & "'!$N$28") -> 0 | DB13: =INDIRECT("'" & A13 & "'!$M$29") -> 0 | DC13: =INDIRECT("'" & A13 & "'!$N$29") -> 0 | DD13: =INDIRECT("'" & A13 & "'!$M$30") -> 0 | DE13: =INDIRECT("'" & A13 & "'!$N$30") -> 0 | DF13: =INDIRECT("'" & A13 & "'!$M$31") -> 0 | DG13: =INDIRECT("'" & A13 & "'!$N$31") -> 0 | DH13: =INDIRECT("'" & A13 & "'!$M$32") -> 0 | DI13: =INDIRECT("'" & A13 & "'!$N$32") -> 0 | DJ13: =INDIRECT("'" & A13 & "'!$M$33") -> 0 | DK13: =INDIRECT("'" & A13 & "'!$N$33") -> 0 | DL13: =SUM(CE13/CF13) -> #VALUE!
A14: =Verzamelblad!A15 -> 11 | B14: =INDIRECT("'" & A14 & "'!$B$4") -> CBS Jan Kuipers | C14: =IF(INDIRECT("'" & A14 & "'!$I$78")=0,"",INDIRECT("'" & A14 & "'!$I$78")) | D14: =IF(INDIRECT("'" & A14 & "'!$F$11")=0,"",INDIRECT("'" & A14 & "'!$F$11")) | E14: =IF(INDIRECT("'" & A14 & "'!$I$11")=0,"",INDIRECT("'" & A14 & "'!$I$11")) | F14: =IF(INDIRECT("'" & A14 & "'!$F$12")=0,"",INDIRECT("'" & A14 & "'!$F$12")) | G14: =IF(INDIRECT("'" & A14 & "'!$I$12")=0,"",INDIRECT("'" & A14 & "'!$I$12")) | H14: =IF(INDIRECT("'" & A14 & "'!$F$13")=0,"",INDIRECT("'" & A14 & "'!$F$13")) | I14: =IF(INDIRECT("'" & A14 & "'!$I$33")=0,"",INDIRECT("'" & A14 & "'!$I$33")) | J14: ='11'!$I$77 | K14: =IF(INDIRECT("'" & A14 & "'!$I$57")=0,"",INDIRECT("'" & A14 & "'!$I$57")) | L14: =IF(INDIRECT("'" & A14 & "'!$I$66")=0,"",INDIRECT("'" & A14 & "'!$I$66")) | M14: =IFERROR(INDIRECT("'" & A14 & "'!$J$11"),"") | N14: =IFERROR(INDIRECT("'" & A14 & "'!$J$12"),"") | O14: =IFERROR(INDIRECT("'" & A14 & "'!$J$13"),"") | P14: =IFERROR(INDIRECT("'" & A14 & "'!$F$16"),"") | Q14: =J14 | T14: =M14 | U14: =N14 | V14: =offertetarief | W14: =regietarief | X14: =spectarief | Y14: =INDIRECT("'" & A14 & "'!$I$14") | Z14: =INDIRECT("'" & A14 & "'!$I$19") | AA14: =INDIRECT("'" & A14 & "'!$I$22") | AB14: =INDIRECT("'" & A14 & "'!$F$22") -> 0 | AC14: =INDIRECT("'" & A14 & "'!$I$23") | AD14: =INDIRECT("'" & A14 & "'!$F$23") -> 0 | AE14: =INDIRECT("'" & A14 & "'!$I$24") | AF14: =INDIRECT("'" & A14 & "'!$F$24") -> 0 | AG14: =INDIRECT("'" & A14 & "'!$I$25") | AH14: =INDIRECT("'" & A14 & "'!$F$25") -> 0 | AI14: =INDIRECT("'" & A14 & "'!$I$26") | AJ14: =INDIRECT("'" & A14 & "'!$F$26") -> 0 | AK14: =INDIRECT("'" & A14 & "'!$I$27") | AL14: =INDIRECT("'" & A14 & "'!$F$27") -> 0 | AM14: =INDIRECT("'" & A14 & "'!$I$28") | AN14: =INDIRECT("'" & A14 & "'!$F$28") -> 0 | AO14: =INDIRECT("'" & A14 & "'!$I$29") | AP14: =INDIRECT("'" & A14 & "'!$F$29") -> 0 | AQ14: =INDIRECT("'" & A14 & "'!$I$30") | AR14: =INDIRECT("'" & A14 & "'!$F$30") -> 0 | AS14: =INDIRECT("'" & A14 & "'!$I$31") | AT14: =INDIRECT("'" & A14 & "'!$F$31") -> 0 | AU14: =INDIRECT("'" & A14 & "'!$I$32") | AV14: =INDIRECT("'" & A14 & "'!$F$32") -> 0 | AW14: =INDIRECT("'" & A14 & "'!$I$36") -> 0 | AX14: =INDIRECT("'" & A14 & "'!$F$36") -> 0 | AY14: =INDIRECT("'" & A14 & "'!$I$37") | AZ14: =INDIRECT("'" & A14 & "'!$F$37") -> 0 | BA14: =INDIRECT("'" & A14 & "'!$I$38") -> 0 | BB14: =INDIRECT("'" & A14 & "'!$F$38") -> 0 | BC14: =INDIRECT("'" & A14 & "'!$I$39") -> 0 | BD14: =INDIRECT("'" & A14 & "'!$F$39") -> 0 | BE14: =INDIRECT("'" & A14 & "'!$I$40") -> 0 | BF14: =INDIRECT("'" & A14 & "'!$F$40") -> 0 | BG14: =INDIRECT("'" & A14 & "'!$I$41") -> 0 | BH14: =INDIRECT("'" & A14 & "'!$F$41") -> 0 | BI14: =INDIRECT("'" & A14 & "'!$I$42") | BJ14: =INDIRECT("'" & A14 & "'!$F$42") -> 0 | BK14: =INDIRECT("'" & A14 & "'!$I$47") -> 0 | BL14: =INDIRECT("'" & A14 & "'!$F$47") -> Meer-/minderprijs per m2 | BM14: =INDIRECT("'" & A14 & "'!$I$48") -> 0 | BN14: =INDIRECT("'" & A14 & "'!$F$48") -> 0 | BO14: =INDIRECT("'" & A14 & "'!$I$49") -> 0 | BP14: =INDIRECT("'" & A14 & "'!$F$49") -> 0 | BQ14: =INDIRECT("'" & A14 & "'!$I$50") -> 0 | BR14: =INDIRECT("'" & A14 & "'!$F$50") -> 0 | BS14: =INDIRECT("'" & A14 & "'!$I$51") | BT14: =INDIRECT("'" & A14 & "'!$F$51") -> 0 | BU14: =INDIRECT("'" & A14 & "'!$I$52") | BV14: =INDIRECT("'" & A14 & "'!$F$52") -> 0 | BW14: =INDIRECT("'" & A14 & "'!$I$53") | BX14: =INDIRECT("'" & A14 & "'!$F$53") -> 0 | BY14: =INDIRECT("'" & A14 & "'!$I$54") | BZ14: =INDIRECT("'" & A14 & "'!$F$54") -> 0 | CA14: =INDIRECT("'" & A14 & "'!$I$55") | CB14: =INDIRECT("'" & A14 & "'!$F$55") -> 0 | CC14: =INDIRECT("'" & A14 & "'!$I$56") | CD14: =INDIRECT("'" & A14 & "'!$F$56") -> 0 | CE14: =INDIRECT("'" & A14 & "'!$I$76") -> 0 | CF14: =INDIRECT("'" & A14 & "'!$G$19") | CG14: =INDIRECT("'" & A14 & "'!$D$19") -> 63356 | CH14: =INDIRECT("'" & A14 & "'!$M$19") -> 0 | CI14: =INDIRECT("'" & A14 & "'!$N$19") -> 0 | CJ14: =INDIRECT("'" & A14 & "'!$M$20") -> 0 | CK14: =INDIRECT("'" & A14 & "'!$N$20") -> 0 | CL14: =INDIRECT("'" & A14 & "'!$M$21") -> 0 | CM14: =INDIRECT("'" & A14 & "'!$N$21") -> 0 | CN14: =INDIRECT("'" & A14 & "'!$M$22") -> 0 | CO14: =INDIRECT("'" & A14 & "'!$N$22") -> 0 | CP14: =INDIRECT("'" & A14 & "'!$M$23") -> 0 | CQ14: =INDIRECT("'" & A14 & "'!$N$23") -> 0 | CR14: =INDIRECT("'" & A14 & "'!$M$24") -> 0 | CS14: =INDIRECT("'" & A14 & "'!$N$24") -> 0 | CT14: =INDIRECT("'" & A14 & "'!$M$25") -> 0 | CU14: =INDIRECT("'" & A14 & "'!$N$25") -> 0 | CV14: =INDIRECT("'" & A14 & "'!$M$26") -> 0 | CW14: =INDIRECT("'" & A14 & "'!$N$26") -> 0 | CX14: =INDIRECT("'" & A14 & "'!$M$27") -> 0 | CY14: =INDIRECT("'" & A14 & "'!$N$27") -> 0 | CZ14: =INDIRECT("'" & A14 & "'!$M$28") -> 0 | DA14: =INDIRECT("'" & A14 & "'!$N$28") -> 0 | DB14: =INDIRECT("'" & A14 & "'!$M$29") -> 0 | DC14: =INDIRECT("'" & A14 & "'!$N$29") -> 0 | DD14: =INDIRECT("'" & A14 & "'!$M$30") -> 0 | DE14: =INDIRECT("'" & A14 & "'!$N$30") -> 0 | DF14: =INDIRECT("'" & A14 & "'!$M$31") -> 0 | DG14: =INDIRECT("'" & A14 & "'!$N$31") -> 0 | DH14: =INDIRECT("'" & A14 & "'!$M$32") -> 0 | DI14: =INDIRECT("'" & A14 & "'!$N$32") -> 0 | DJ14: =INDIRECT("'" & A14 & "'!$M$33") -> 0 | DK14: =INDIRECT("'" & A14 & "'!$N$33") -> 0 | DL14: =SUM(CE14/CF14) -> #VALUE!
A15: =Verzamelblad!A16 -> 12 | B15: =INDIRECT("'" & A15 & "'!$B$4") -> SWS de Groene Borg | C15: =IF(INDIRECT("'" & A15 & "'!$I$78")=0,"",INDIRECT("'" & A15 & "'!$I$78")) | D15: =IF(INDIRECT("'" & A15 & "'!$F$11")=0,"",INDIRECT("'" & A15 & "'!$F$11")) | E15: =IF(INDIRECT("'" & A15 & "'!$I$11")=0,"",INDIRECT("'" & A15 & "'!$I$11")) | F15: =IF(INDIRECT("'" & A15 & "'!$F$12")=0,"",INDIRECT("'" & A15 & "'!$F$12")) | G15: =IF(INDIRECT("'" & A15 & "'!$I$12")=0,"",INDIRECT("'" & A15 & "'!$I$12")) | H15: =IF(INDIRECT("'" & A15 & "'!$F$13")=0,"",INDIRECT("'" & A15 & "'!$F$13")) | I15: =IF(INDIRECT("'" & A15 & "'!$I$33")=0,"",INDIRECT("'" & A15 & "'!$I$33")) | J15: ='12'!$I$77 | K15: =IF(INDIRECT("'" & A15 & "'!$I$57")=0,"",INDIRECT("'" & A15 & "'!$I$57")) | L15: =IF(INDIRECT("'" & A15 & "'!$I$66")=0,"",INDIRECT("'" & A15 & "'!$I$66")) | M15: =IFERROR(INDIRECT("'" & A15 & "'!$J$11"),"") | N15: =IFERROR(INDIRECT("'" & A15 & "'!$J$12"),"") | O15: =IFERROR(INDIRECT("'" & A15 & "'!$J$13"),"") | P15: =IFERROR(INDIRECT("'" & A15 & "'!$F$16"),"") | Q15: =J15 | T15: =M15 | U15: =N15 | V15: =offertetarief | W15: =regietarief | X15: =spectarief | Y15: =INDIRECT("'" & A15 & "'!$I$14") | Z15: =INDIRECT("'" & A15 & "'!$I$19") | AA15: =INDIRECT("'" & A15 & "'!$I$22") | AB15: =INDIRECT("'" & A15 & "'!$F$22") -> 0 | AC15: =INDIRECT("'" & A15 & "'!$I$23") | AD15: =INDIRECT("'" & A15 & "'!$F$23") -> 0 | AE15: =INDIRECT("'" & A15 & "'!$I$24") | AF15: =INDIRECT("'" & A15 & "'!$F$24") -> 0 | AG15: =INDIRECT("'" & A15 & "'!$I$25") | AH15: =INDIRECT("'" & A15 & "'!$F$25") -> 0 | AI15: =INDIRECT("'" & A15 & "'!$I$26") | AJ15: =INDIRECT("'" & A15 & "'!$F$26") -> 0 | AK15: =INDIRECT("'" & A15 & "'!$I$27") | AL15: =INDIRECT("'" & A15 & "'!$F$27") -> 0 | AM15: =INDIRECT("'" & A15 & "'!$I$28") | AN15: =INDIRECT("'" & A15 & "'!$F$28") -> 0 | AO15: =INDIRECT("'" & A15 & "'!$I$29") | AP15: =INDIRECT("'" & A15 & "'!$F$29") -> 0 | AQ15: =INDIRECT("'" & A15 & "'!$I$30") | AR15: =INDIRECT("'" & A15 & "'!$F$30") -> 0 | AS15: =INDIRECT("'" & A15 & "'!$I$31") | AT15: =INDIRECT("'" & A15 & "'!$F$31") -> 0 | AU15: =INDIRECT("'" & A15 & "'!$I$32") | AV15: =INDIRECT("'" & A15 & "'!$F$32") -> 0 | AW15: =INDIRECT("'" & A15 & "'!$I$36") -> 0 | AX15: =INDIRECT("'" & A15 & "'!$F$36") -> 0 | AY15: =INDIRECT("'" & A15 & "'!$I$37") | AZ15: =INDIRECT("'" & A15 & "'!$F$37") -> 0 | BA15: =INDIRECT("'" & A15 & "'!$I$38") -> 0 | BB15: =INDIRECT("'" & A15 & "'!$F$38") -> 0 | BC15: =INDIRECT("'" & A15 & "'!$I$39") -> 0 | BD15: =INDIRECT("'" & A15 & "'!$F$39") -> 0 | BE15: =INDIRECT("'" & A15 & "'!$I$40") -> 0 | BF15: =INDIRECT("'" & A15 & "'!$F$40") -> 0 | BG15: =INDIRECT("'" & A15 & "'!$I$41") -> 0 | BH15: =INDIRECT("'" & A15 & "'!$F$41") -> 0 | BI15: =INDIRECT("'" & A15 & "'!$I$42") | BJ15: =INDIRECT("'" & A15 & "'!$F$42") -> 0 | BK15: =INDIRECT("'" & A15 & "'!$I$47") -> 0 | BL15: =INDIRECT("'" & A15 & "'!$F$47") -> Meer-/minderprijs per m2 | BM15: =INDIRECT("'" & A15 & "'!$I$48") -> 0 | BN15: =INDIRECT("'" & A15 & "'!$F$48") -> 0 | BO15: =INDIRECT("'" & A15 & "'!$I$49") -> 0 | BP15: =INDIRECT("'" & A15 & "'!$F$49") -> 0 | BQ15: =INDIRECT("'" & A15 & "'!$I$50") -> 0 | BR15: =INDIRECT("'" & A15 & "'!$F$50") -> 0 | BS15: =INDIRECT("'" & A15 & "'!$I$51") | BT15: =INDIRECT("'" & A15 & "'!$F$51") -> 0 | BU15: =INDIRECT("'" & A15 & "'!$I$52") | BV15: =INDIRECT("'" & A15 & "'!$F$52") -> 0 | BW15: =INDIRECT("'" & A15 & "'!$I$53") | BX15: =INDIRECT("'" & A15 & "'!$F$53") -> 0 | BY15: =INDIRECT("'" & A15 & "'!$I$54") | BZ15: =INDIRECT("'" & A15 & "'!$F$54") -> 0 | CA15: =INDIRECT("'" & A15 & "'!$I$55") | CB15: =INDIRECT("'" & A15 & "'!$F$55") -> 0 | CC15: =INDIRECT("'" & A15 & "'!$I$56") | CD15: =INDIRECT("'" & A15 & "'!$F$56") -> 0 | CE15: =INDIRECT("'" & A15 & "'!$I$76") -> 0 | CF15: =INDIRECT("'" & A15 & "'!$G$19") | CG15: =INDIRECT("'" & A15 & "'!$D$19") -> #N/A | CH15: =INDIRECT("'" & A15 & "'!$M$19") -> 0 | CI15: =INDIRECT("'" & A15 & "'!$N$19") -> 0 | CJ15: =INDIRECT("'" & A15 & "'!$M$20") -> 0 | CK15: =INDIRECT("'" & A15 & "'!$N$20") -> 0 | CL15: =INDIRECT("'" & A15 & "'!$M$21") -> 0 | CM15: =INDIRECT("'" & A15 & "'!$N$21") -> 0 | CN15: =INDIRECT("'" & A15 & "'!$M$22") -> 0 | CO15: =INDIRECT("'" & A15 & "'!$N$22") -> 0 | CP15: =INDIRECT("'" & A15 & "'!$M$23") -> 0 | CQ15: =INDIRECT("'" & A15 & "'!$N$23") -> 0 | CR15: =INDIRECT("'" & A15 & "'!$M$24") -> 0 | CS15: =INDIRECT("'" & A15 & "'!$N$24") -> 0 | CT15: =INDIRECT("'" & A15 & "'!$M$25") -> 0 | CU15: =INDIRECT("'" & A15 & "'!$N$25") -> 0 | CV15: =INDIRECT("'" & A15 & "'!$M$26") -> 0 | CW15: =INDIRECT("'" & A15 & "'!$N$26") -> 0 | CX15: =INDIRECT("'" & A15 & "'!$M$27") -> 0 | CY15: =INDIRECT("'" & A15 & "'!$N$27") -> 0 | CZ15: =INDIRECT("'" & A15 & "'!$M$28") -> 0 | DA15: =INDIRECT("'" & A15 & "'!$N$28") -> 0 | DB15: =INDIRECT("'" & A15 & "'!$M$29") -> 0 | DC15: =INDIRECT("'" & A15 & "'!$N$29") -> 0 | DD15: =INDIRECT("'" & A15 & "'!$M$30") -> 0 | DE15: =INDIRECT("'" & A15 & "'!$N$30") -> 0 | DF15: =INDIRECT("'" & A15 & "'!$M$31") -> 0 | DG15: =INDIRECT("'" & A15 & "'!$N$31") -> 0 | DH15: =INDIRECT("'" & A15 & "'!$M$32") -> 0 | DI15: =INDIRECT("'" & A15 & "'!$N$32") -> 0 | DJ15: =INDIRECT("'" & A15 & "'!$M$33") -> 0 | DK15: =INDIRECT("'" & A15 & "'!$N$33") -> 0 | DL15: =SUM(CE15/CF15) -> #VALUE!
A16: =Verzamelblad!A17 -> 13 | B16: =INDIRECT("'" & A16 & "'!$B$4") -> CBS Remmelt Booy | C16: =IF(INDIRECT("'" & A16 & "'!$I$78")=0,"",INDIRECT("'" & A16 & "'!$I$78")) | D16: =IF(INDIRECT("'" & A16 & "'!$F$11")=0,"",INDIRECT("'" & A16 & "'!$F$11")) | E16: =IF(INDIRECT("'" & A16 & "'!$I$11")=0,"",INDIRECT("'" & A16 & "'!$I$11")) | F16: =IF(INDIRECT("'" & A16 & "'!$F$12")=0,"",INDIRECT("'" & A16 & "'!$F$12")) | G16: =IF(INDIRECT("'" & A16 & "'!$I$12")=0,"",INDIRECT("'" & A16 & "'!$I$12")) | H16: =IF(INDIRECT("'" & A16 & "'!$F$13")=0,"",INDIRECT("'" & A16 & "'!$F$13")) | I16: =IF(INDIRECT("'" & A16 & "'!$I$33")=0,"",INDIRECT("'" & A16 & "'!$I$33")) | J16: ='13'!$I$77 | K16: =IF(INDIRECT("'" & A16 & "'!$I$57")=0,"",INDIRECT("'" & A16 & "'!$I$57")) | L16: =IF(INDIRECT("'" & A16 & "'!$I$66")=0,"",INDIRECT("'" & A16 & "'!$I$66")) | M16: =IFERROR(INDIRECT("'" & A16 & "'!$J$11"),"") | N16: =IFERROR(INDIRECT("'" & A16 & "'!$J$12"),"") | O16: =IFERROR(INDIRECT("'" & A16 & "'!$J$13"),"") | P16: =IFERROR(INDIRECT("'" & A16 & "'!$F$16"),"") | Q16: =J16 | T16: =M16 | U16: =N16 | V16: =offertetarief | W16: =regietarief | X16: =spectarief | Y16: =INDIRECT("'" & A16 & "'!$I$14") | Z16: =INDIRECT("'" & A16 & "'!$I$19") | AA16: =INDIRECT("'" & A16 & "'!$I$22") | AB16: =INDIRECT("'" & A16 & "'!$F$22") -> 0 | AC16: =INDIRECT("'" & A16 & "'!$I$23") | AD16: =INDIRECT("'" & A16 & "'!$F$23") -> 0 | AE16: =INDIRECT("'" & A16 & "'!$I$24") | AF16: =INDIRECT("'" & A16 & "'!$F$24") -> 0 | AG16: =INDIRECT("'" & A16 & "'!$I$25") | AH16: =INDIRECT("'" & A16 & "'!$F$25") -> 0 | AI16: =INDIRECT("'" & A16 & "'!$I$26") | AJ16: =INDIRECT("'" & A16 & "'!$F$26") -> 0 | AK16: =INDIRECT("'" & A16 & "'!$I$27") | AL16: =INDIRECT("'" & A16 & "'!$F$27") -> 0 | AM16: =INDIRECT("'" & A16 & "'!$I$28") | AN16: =INDIRECT("'" & A16 & "'!$F$28") -> 0 | AO16: =INDIRECT("'" & A16 & "'!$I$29") | AP16: =INDIRECT("'" & A16 & "'!$F$29") -> 0 | AQ16: =INDIRECT("'" & A16 & "'!$I$30") | AR16: =INDIRECT("'" & A16 & "'!$F$30") -> 0 | AS16: =INDIRECT("'" & A16 & "'!$I$31") | AT16: =INDIRECT("'" & A16 & "'!$F$31") -> 0 | AU16: =INDIRECT("'" & A16 & "'!$I$32") | AV16: =INDIRECT("'" & A16 & "'!$F$32") -> 0 | AW16: =INDIRECT("'" & A16 & "'!$I$36") -> 0 | AX16: =INDIRECT("'" & A16 & "'!$F$36") -> 0 | AY16: =INDIRECT("'" & A16 & "'!$I$37") | AZ16: =INDIRECT("'" & A16 & "'!$F$37") -> 0 | BA16: =INDIRECT("'" & A16 & "'!$I$38") -> 0 | BB16: =INDIRECT("'" & A16 & "'!$F$38") -> 0 | BC16: =INDIRECT("'" & A16 & "'!$I$39") -> 0 | BD16: =INDIRECT("'" & A16 & "'!$F$39") -> 0 | BE16: =INDIRECT("'" & A16 & "'!$I$40") -> 0 | BF16: =INDIRECT("'" & A16 & "'!$F$40") -> 0 | BG16: =INDIRECT("'" & A16 & "'!$I$41") -> 0 | BH16: =INDIRECT("'" & A16 & "'!$F$41") -> 0 | BI16: =INDIRECT("'" & A16 & "'!$I$42") | BJ16: =INDIRECT("'" & A16 & "'!$F$42") -> 0 | BK16: =INDIRECT("'" & A16 & "'!$I$47") -> 0 | BL16: =INDIRECT("'" & A16 & "'!$F$47") -> Meer-/minderprijs per m2 | BM16: =INDIRECT("'" & A16 & "'!$I$48") -> 0 | BN16: =INDIRECT("'" & A16 & "'!$F$48") -> 0 | BO16: =INDIRECT("'" & A16 & "'!$I$49") -> 0 | BP16: =INDIRECT("'" & A16 & "'!$F$49") -> 0 | BQ16: =INDIRECT("'" & A16 & "'!$I$50") -> 0 | BR16: =INDIRECT("'" & A16 & "'!$F$50") -> 0 | BS16: =INDIRECT("'" & A16 & "'!$I$51") | BT16: =INDIRECT("'" & A16 & "'!$F$51") -> 0 | BU16: =INDIRECT("'" & A16 & "'!$I$52") | BV16: =INDIRECT("'" & A16 & "'!$F$52") -> 0 | BW16: =INDIRECT("'" & A16 & "'!$I$53") | BX16: =INDIRECT("'" & A16 & "'!$F$53") -> 0 | BY16: =INDIRECT("'" & A16 & "'!$I$54") | BZ16: =INDIRECT("'" & A16 & "'!$F$54") -> 0 | CA16: =INDIRECT("'" & A16 & "'!$I$55") | CB16: =INDIRECT("'" & A16 & "'!$F$55") -> 0 | CC16: =INDIRECT("'" & A16 & "'!$I$56") | CD16: =INDIRECT("'" & A16 & "'!$F$56") -> 0 | CE16: =INDIRECT("'" & A16 & "'!$I$76") -> 0 | CF16: =INDIRECT("'" & A16 & "'!$G$19") | CG16: =INDIRECT("'" & A16 & "'!$D$19") -> 0 | CH16: =INDIRECT("'" & A16 & "'!$M$19") -> 0 | CI16: =INDIRECT("'" & A16 & "'!$N$19") -> 0 | CJ16: =INDIRECT("'" & A16 & "'!$M$20") -> 0 | CK16: =INDIRECT("'" & A16 & "'!$N$20") -> 0 | CL16: =INDIRECT("'" & A16 & "'!$M$21") -> 0 | CM16: =INDIRECT("'" & A16 & "'!$N$21") -> 0 | CN16: =INDIRECT("'" & A16 & "'!$M$22") -> 0 | CO16: =INDIRECT("'" & A16 & "'!$N$22") -> 0 | CP16: =INDIRECT("'" & A16 & "'!$M$23") -> 0 | CQ16: =INDIRECT("'" & A16 & "'!$N$23") -> 0 | CR16: =INDIRECT("'" & A16 & "'!$M$24") -> 0 | CS16: =INDIRECT("'" & A16 & "'!$N$24") -> 0 | CT16: =INDIRECT("'" & A16 & "'!$M$25") -> 0 | CU16: =INDIRECT("'" & A16 & "'!$N$25") -> 0 | CV16: =INDIRECT("'" & A16 & "'!$M$26") -> 0 | CW16: =INDIRECT("'" & A16 & "'!$N$26") -> 0 | CX16: =INDIRECT("'" & A16 & "'!$M$27") -> 0 | CY16: =INDIRECT("'" & A16 & "'!$N$27") -> 0 | CZ16: =INDIRECT("'" & A16 & "'!$M$28") -> 0 | DA16: =INDIRECT("'" & A16 & "'!$N$28") -> 0 | DB16: =INDIRECT("'" & A16 & "'!$M$29") -> 0 | DC16: =INDIRECT("'" & A16 & "'!$N$29") -> 0 | DD16: =INDIRECT("'" & A16 & "'!$M$30") -> 0 | DE16: =INDIRECT("'" & A16 & "'!$N$30") -> 0 | DF16: =INDIRECT("'" & A16 & "'!$M$31") -> 0 | DG16: =INDIRECT("'" & A16 & "'!$N$31") -> 0 | DH16: =INDIRECT("'" & A16 & "'!$M$32") -> 0 | DI16: =INDIRECT("'" & A16 & "'!$N$32") -> 0 | DJ16: =INDIRECT("'" & A16 & "'!$M$33") -> 0 | DK16: =INDIRECT("'" & A16 & "'!$N$33") -> 0 | DL16: =SUM(CE16/CF16) -> #VALUE!
A17: =Verzamelblad!A18 -> 14 | B17: =INDIRECT("'" & A17 & "'!$B$4") -> CBS 't Fundament Lutjegast | C17: =IF(INDIRECT("'" & A17 & "'!$I$78")=0,"",INDIRECT("'" & A17 & "'!$I$78")) | D17: =IF(INDIRECT("'" & A17 & "'!$F$11")=0,"",INDIRECT("'" & A17 & "'!$F$11")) | E17: =IF(INDIRECT("'" & A17 & "'!$I$11")=0,"",INDIRECT("'" & A17 & "'!$I$11")) | F17: =IF(INDIRECT("'" & A17 & "'!$F$12")=0,"",INDIRECT("'" & A17 & "'!$F$12")) | G17: =IF(INDIRECT("'" & A17 & "'!$I$12")=0,"",INDIRECT("'" & A17 & "'!$I$12")) | H17: =IF(INDIRECT("'" & A17 & "'!$F$13")=0,"",INDIRECT("'" & A17 & "'!$F$13")) | I17: =IF(INDIRECT("'" & A17 & "'!$I$33")=0,"",INDIRECT("'" & A17 & "'!$I$33")) | J17: ='14'!$I$77 | K17: =IF(INDIRECT("'" & A17 & "'!$I$57")=0,"",INDIRECT("'" & A17 & "'!$I$57")) | L17: =IF(INDIRECT("'" & A17 & "'!$I$66")=0,"",INDIRECT("'" & A17 & "'!$I$66")) | M17: =IFERROR(INDIRECT("'" & A17 & "'!$J$11"),"") | N17: =IFERROR(INDIRECT("'" & A17 & "'!$J$12"),"") | O17: =IFERROR(INDIRECT("'" & A17 & "'!$J$13"),"") | P17: =IFERROR(INDIRECT("'" & A17 & "'!$F$16"),"") | Q17: =J17 | T17: =M17 | U17: =N17 | V17: =offertetarief | W17: =regietarief | X17: =spectarief | Y17: =INDIRECT("'" & A17 & "'!$I$14") | Z17: =INDIRECT("'" & A17 & "'!$I$19") | AA17: =INDIRECT("'" & A17 & "'!$I$22") | AB17: =INDIRECT("'" & A17 & "'!$F$22") -> 0 | AC17: =INDIRECT("'" & A17 & "'!$I$23") | AD17: =INDIRECT("'" & A17 & "'!$F$23") -> 0 | AE17: =INDIRECT("'" & A17 & "'!$I$24") | AF17: =INDIRECT("'" & A17 & "'!$F$24") -> 0 | AG17: =INDIRECT("'" & A17 & "'!$I$25") | AH17: =INDIRECT("'" & A17 & "'!$F$25") -> 0 | AI17: =INDIRECT("'" & A17 & "'!$I$26") | AJ17: =INDIRECT("'" & A17 & "'!$F$26") -> 0 | AK17: =INDIRECT("'" & A17 & "'!$I$27") | AL17: =INDIRECT("'" & A17 & "'!$F$27") -> 0 | AM17: =INDIRECT("'" & A17 & "'!$I$28") | AN17: =INDIRECT("'" & A17 & "'!$F$28") -> 0 | AO17: =INDIRECT("'" & A17 & "'!$I$29") | AP17: =INDIRECT("'" & A17 & "'!$F$29") -> 0 | AQ17: =INDIRECT("'" & A17 & "'!$I$30") | AR17: =INDIRECT("'" & A17 & "'!$F$30") -> 0 | AS17: =INDIRECT("'" & A17 & "'!$I$31") | AT17: =INDIRECT("'" & A17 & "'!$F$31") -> 0 | AU17: =INDIRECT("'" & A17 & "'!$I$32") | AV17: =INDIRECT("'" & A17 & "'!$F$32") -> 0 | AW17: =INDIRECT("'" & A17 & "'!$I$36") -> 0 | AX17: =INDIRECT("'" & A17 & "'!$F$36") -> 0 | AY17: =INDIRECT("'" & A17 & "'!$I$37") | AZ17: =INDIRECT("'" & A17 & "'!$F$37") -> 0 | BA17: =INDIRECT("'" & A17 & "'!$I$38") -> 0 | BB17: =INDIRECT("'" & A17 & "'!$F$38") -> 0 | BC17: =INDIRECT("'" & A17 & "'!$I$39") -> 0 | BD17: =INDIRECT("'" & A17 & "'!$F$39") -> 0 | BE17: =INDIRECT("'" & A17 & "'!$I$40") -> 0 | BF17: =INDIRECT("'" & A17 & "'!$F$40") -> 0 | BG17: =INDIRECT("'" & A17 & "'!$I$41") -> 0 | BH17: =INDIRECT("'" & A17 & "'!$F$41") -> 0 | BI17: =INDIRECT("'" & A17 & "'!$I$42") | BJ17: =INDIRECT("'" & A17 & "'!$F$42") -> 0 | BK17: =INDIRECT("'" & A17 & "'!$I$47") -> 0 | BL17: =INDIRECT("'" & A17 & "'!$F$47") -> Meer-/minderprijs per m2 | BM17: =INDIRECT("'" & A17 & "'!$I$48") -> 0 | BN17: =INDIRECT("'" & A17 & "'!$F$48") -> 0 | BO17: =INDIRECT("'" & A17 & "'!$I$49") -> 0 | BP17: =INDIRECT("'" & A17 & "'!$F$49") -> 0 | BQ17: =INDIRECT("'" & A17 & "'!$I$50") -> 0 | BR17: =INDIRECT("'" & A17 & "'!$F$50") -> 0 | BS17: =INDIRECT("'" & A17 & "'!$I$51") | BT17: =INDIRECT("'" & A17 & "'!$F$51") -> 0 | BU17: =INDIRECT("'" & A17 & "'!$I$52") | BV17: =INDIRECT("'" & A17 & "'!$F$52") -> 0 | BW17: =INDIRECT("'" & A17 & "'!$I$53") | BX17: =INDIRECT("'" & A17 & "'!$F$53") -> 0 | BY17: =INDIRECT("'" & A17 & "'!$I$54") | BZ17: =INDIRECT("'" & A17 & "'!$F$54") -> 0 | CA17: =INDIRECT("'" & A17 & "'!$I$55") | CB17: =INDIRECT("'" & A17 & "'!$F$55") -> 0 | CC17: =INDIRECT("'" & A17 & "'!$I$56") | CD17: =INDIRECT("'" & A17 & "'!$F$56") -> 0 | CE17: =INDIRECT("'" & A17 & "'!$I$76") -> 0 | CF17: =INDIRECT("'" & A17 & "'!$G$19") | CG17: =INDIRECT("'" & A17 & "'!$D$19") -> 0 | CH17: =INDIRECT("'" & A17 & "'!$M$19") -> 0 | CI17: =INDIRECT("'" & A17 & "'!$N$19") -> 0 | CJ17: =INDIRECT("'" & A17 & "'!$M$20") -> 0 | CK17: =INDIRECT("'" & A17 & "'!$N$20") -> 0 | CL17: =INDIRECT("'" & A17 & "'!$M$21") -> 0 | CM17: =INDIRECT("'" & A17 & "'!$N$21") -> 0 | CN17: =INDIRECT("'" & A17 & "'!$M$22") -> 0 | CO17: =INDIRECT("'" & A17 & "'!$N$22") -> 0 | CP17: =INDIRECT("'" & A17 & "'!$M$23") -> 0 | CQ17: =INDIRECT("'" & A17 & "'!$N$23") -> 0 | CR17: =INDIRECT("'" & A17 & "'!$M$24") -> 0 | CS17: =INDIRECT("'" & A17 & "'!$N$24") -> 0 | CT17: =INDIRECT("'" & A17 & "'!$M$25") -> 0 | CU17: =INDIRECT("'" & A17 & "'!$N$25") -> 0 | CV17: =INDIRECT("'" & A17 & "'!$M$26") -> 0 | CW17: =INDIRECT("'" & A17 & "'!$N$26") -> 0 | CX17: =INDIRECT("'" & A17 & "'!$M$27") -> 0 | CY17: =INDIRECT("'" & A17 & "'!$N$27") -> 0 | CZ17: =INDIRECT("'" & A17 & "'!$M$28") -> 0 | DA17: =INDIRECT("'" & A17 & "'!$N$28") -> 0 | DB17: =INDIRECT("'" & A17 & "'!$M$29") -> 0 | DC17: =INDIRECT("'" & A17 & "'!$N$29") -> 0 | DD17: =INDIRECT("'" & A17 & "'!$M$30") -> 0 | DE17: =INDIRECT("'" & A17 & "'!$N$30") -> 0 | DF17: =INDIRECT("'" & A17 & "'!$M$31") -> 0 | DG17: =INDIRECT("'" & A17 & "'!$N$31") -> 0 | DH17: =INDIRECT("'" & A17 & "'!$M$32") -> 0 | DI17: =INDIRECT("'" & A17 & "'!$N$32") -> 0 | DJ17: =INDIRECT("'" & A17 & "'!$M$33") -> 0 | DK17: =INDIRECT("'" & A17 & "'!$N$33") -> 0 | DL17: =SUM(CE17/CF17) -> #VALUE!
A18: =Verzamelblad!A19 -> 15 | B18: =INDIRECT("'" & A18 & "'!$B$4") -> CBS Rehoboth | C18: =IF(INDIRECT("'" & A18 & "'!$I$78")=0,"",INDIRECT("'" & A18 & "'!$I$78")) | D18: =IF(INDIRECT("'" & A18 & "'!$F$11")=0,"",INDIRECT("'" & A18 & "'!$F$11")) | E18: =IF(INDIRECT("'" & A18 & "'!$I$11")=0,"",INDIRECT("'" & A18 & "'!$I$11")) | F18: =IF(INDIRECT("'" & A18 & "'!$F$12")=0,"",INDIRECT("'" & A18 & "'!$F$12")) | G18: =IF(INDIRECT("'" & A18 & "'!$I$12")=0,"",INDIRECT("'" & A18 & "'!$I$12")) | H18: =IF(INDIRECT("'" & A18 & "'!$F$13")=0,"",INDIRECT("'" & A18 & "'!$F$13")) | I18: =IF(INDIRECT("'" & A18 & "'!$I$33")=0,"",INDIRECT("'" & A18 & "'!$I$33")) | J18: ='15'!$I$77 | K18: =IF(INDIRECT("'" & A18 & "'!$I$57")=0,"",INDIRECT("'" & A18 & "'!$I$57")) | L18: =IF(INDIRECT("'" & A18 & "'!$I$66")=0,"",INDIRECT("'" & A18 & "'!$I$66")) | M18: =IFERROR(INDIRECT("'" & A18 & "'!$J$11"),"") | N18: =IFERROR(INDIRECT("'" & A18 & "'!$J$12"),"") | O18: =IFERROR(INDIRECT("'" & A18 & "'!$J$13"),"") | P18: =IFERROR(INDIRECT("'" & A18 & "'!$F$16"),"") | Q18: =J18 | T18: =M18 | U18: =N18 | V18: =offertetarief | W18: =regietarief | X18: =spectarief | Y18: =INDIRECT("'" & A18 & "'!$I$14") | Z18: =INDIRECT("'" & A18 & "'!$I$19") | AA18: =INDIRECT("'" & A18 & "'!$I$22") | AB18: =INDIRECT("'" & A18 & "'!$F$22") -> 0 | AC18: =INDIRECT("'" & A18 & "'!$I$23") | AD18: =INDIRECT("'" & A18 & "'!$F$23") -> 0 | AE18: =INDIRECT("'" & A18 & "'!$I$24") | AF18: =INDIRECT("'" & A18 & "'!$F$24") -> 0 | AG18: =INDIRECT("'" & A18 & "'!$I$25") | AH18: =INDIRECT("'" & A18 & "'!$F$25") -> 0 | AI18: =INDIRECT("'" & A18 & "'!$I$26") | AJ18: =INDIRECT("'" & A18 & "'!$F$26") -> 0 | AK18: =INDIRECT("'" & A18 & "'!$I$27") | AL18: =INDIRECT("'" & A18 & "'!$F$27") -> 0 | AM18: =INDIRECT("'" & A18 & "'!$I$28") | AN18: =INDIRECT("'" & A18 & "'!$F$28") -> 0 | AO18: =INDIRECT("'" & A18 & "'!$I$29") | AP18: =INDIRECT("'" & A18 & "'!$F$29") -> 0 | AQ18: =INDIRECT("'" & A18 & "'!$I$30") | AR18: =INDIRECT("'" & A18 & "'!$F$30") -> 0 | AS18: =INDIRECT("'" & A18 & "'!$I$31") | AT18: =INDIRECT("'" & A18 & "'!$F$31") -> 0 | AU18: =INDIRECT("'" & A18 & "'!$I$32") | AV18: =INDIRECT("'" & A18 & "'!$F$32") -> 0 | AW18: =INDIRECT("'" & A18 & "'!$I$36") -> 0 | AX18: =INDIRECT("'" & A18 & "'!$F$36") -> 0 | AY18: =INDIRECT("'" & A18 & "'!$I$37") | AZ18: =INDIRECT("'" & A18 & "'!$F$37") -> 0 | BA18: =INDIRECT("'" & A18 & "'!$I$38") -> 0 | BB18: =INDIRECT("'" & A18 & "'!$F$38") -> 0 | BC18: =INDIRECT("'" & A18 & "'!$I$39") -> 0 | BD18: =INDIRECT("'" & A18 & "'!$F$39") -> 0 | BE18: =INDIRECT("'" & A18 & "'!$I$40") -> 0 | BF18: =INDIRECT("'" & A18 & "'!$F$40") -> 0 | BG18: =INDIRECT("'" & A18 & "'!$I$41") -> 0 | BH18: =INDIRECT("'" & A18 & "'!$F$41") -> 0 | BI18: =INDIRECT("'" & A18 & "'!$I$42") | BJ18: =INDIRECT("'" & A18 & "'!$F$42") -> 0 | BK18: =INDIRECT("'" & A18 & "'!$I$47") -> 0 | BL18: =INDIRECT("'" & A18 & "'!$F$47") -> Meer-/minderprijs per m2 | BM18: =INDIRECT("'" & A18 & "'!$I$48") -> 0 | BN18: =INDIRECT("'" & A18 & "'!$F$48") -> 0 | BO18: =INDIRECT("'" & A18 & "'!$I$49") -> 0 | BP18: =INDIRECT("'" & A18 & "'!$F$49") -> 0 | BQ18: =INDIRECT("'" & A18 & "'!$I$50") -> 0 | BR18: =INDIRECT("'" & A18 & "'!$F$50") -> 0 | BS18: =INDIRECT("'" & A18 & "'!$I$51") | BT18: =INDIRECT("'" & A18 & "'!$F$51") -> 0 | BU18: =INDIRECT("'" & A18 & "'!$I$52") | BV18: =INDIRECT("'" & A18 & "'!$F$52") -> 0 | BW18: =INDIRECT("'" & A18 & "'!$I$53") | BX18: =INDIRECT("'" & A18 & "'!$F$53") -> 0 | BY18: =INDIRECT("'" & A18 & "'!$I$54") | BZ18: =INDIRECT("'" & A18 & "'!$F$54") -> 0 | CA18: =INDIRECT("'" & A18 & "'!$I$55") | CB18: =INDIRECT("'" & A18 & "'!$F$55") -> 0 | CC18: =INDIRECT("'" & A18 & "'!$I$56") | CD18: =INDIRECT("'" & A18 & "'!$F$56") -> 0 | CE18: =INDIRECT("'" & A18 & "'!$I$76") -> 0 | CF18: =INDIRECT("'" & A18 & "'!$G$19") | CG18: =INDIRECT("'" & A18 & "'!$D$19") -> #N/A | CH18: =INDIRECT("'" & A18 & "'!$M$19") -> 0 | CI18: =INDIRECT("'" & A18 & "'!$N$19") -> 0 | CJ18: =INDIRECT("'" & A18 & "'!$M$20") -> 0 | CK18: =INDIRECT("'" & A18 & "'!$N$20") -> 0 | CL18: =INDIRECT("'" & A18 & "'!$M$21") -> 0 | CM18: =INDIRECT("'" & A18 & "'!$N$21") -> 0 | CN18: =INDIRECT("'" & A18 & "'!$M$22") -> 0 | CO18: =INDIRECT("'" & A18 & "'!$N$22") -> 0 | CP18: =INDIRECT("'" & A18 & "'!$M$23") -> 0 | CQ18: =INDIRECT("'" & A18 & "'!$N$23") -> 0 | CR18: =INDIRECT("'" & A18 & "'!$M$24") -> 0 | CS18: =INDIRECT("'" & A18 & "'!$N$24") -> 0 | CT18: =INDIRECT("'" & A18 & "'!$M$25") -> 0 | CU18: =INDIRECT("'" & A18 & "'!$N$25") -> 0 | CV18: =INDIRECT("'" & A18 & "'!$M$26") -> 0 | CW18: =INDIRECT("'" & A18 & "'!$N$26") -> 0 | CX18: =INDIRECT("'" & A18 & "'!$M$27") -> 0 | CY18: =INDIRECT("'" & A18 & "'!$N$27") -> 0 | CZ18: =INDIRECT("'" & A18 & "'!$M$28") -> 0 | DA18: =INDIRECT("'" & A18 & "'!$N$28") -> 0 | DB18: =INDIRECT("'" & A18 & "'!$M$29") -> 0 | DC18: =INDIRECT("'" & A18 & "'!$N$29") -> 0 | DD18: =INDIRECT("'" & A18 & "'!$M$30") -> 0 | DE18: =INDIRECT("'" & A18 & "'!$N$30") -> 0 | DF18: =INDIRECT("'" & A18 & "'!$M$31") -> 0 | DG18: =INDIRECT("'" & A18 & "'!$N$31") -> 0 | DH18: =INDIRECT("'" & A18 & "'!$M$32") -> 0 | DI18: =INDIRECT("'" & A18 & "'!$N$32") -> 0 | DJ18: =INDIRECT("'" & A18 & "'!$M$33") -> 0 | DK18: =INDIRECT("'" & A18 & "'!$N$33") -> 0 | DL18: =SUM(CE18/CF18) -> #VALUE!
A19: =Verzamelblad!A20 -> 16 | B19: =INDIRECT("'" & A19 & "'!$B$4") -> Sws de Vlieger | C19: =IF(INDIRECT("'" & A19 & "'!$I$78")=0,"",INDIRECT("'" & A19 & "'!$I$78")) | D19: =IF(INDIRECT("'" & A19 & "'!$F$11")=0,"",INDIRECT("'" & A19 & "'!$F$11")) | E19: =IF(INDIRECT("'" & A19 & "'!$I$11")=0,"",INDIRECT("'" & A19 & "'!$I$11")) | F19: =IF(INDIRECT("'" & A19 & "'!$F$12")=0,"",INDIRECT("'" & A19 & "'!$F$12")) | G19: =IF(INDIRECT("'" & A19 & "'!$I$12")=0,"",INDIRECT("'" & A19 & "'!$I$12")) | H19: =IF(INDIRECT("'" & A19 & "'!$F$13")=0,"",INDIRECT("'" & A19 & "'!$F$13")) | I19: =IF(INDIRECT("'" & A19 & "'!$I$33")=0,"",INDIRECT("'" & A19 & "'!$I$33")) | J19: ='16'!$I$77 | K19: =IF(INDIRECT("'" & A19 & "'!$I$57")=0,"",INDIRECT("'" & A19 & "'!$I$57")) | L19: =IF(INDIRECT("'" & A19 & "'!$I$66")=0,"",INDIRECT("'" & A19 & "'!$I$66")) | M19: =IFERROR(INDIRECT("'" & A19 & "'!$J$11"),"") | N19: =IFERROR(INDIRECT("'" & A19 & "'!$J$12"),"") | O19: =IFERROR(INDIRECT("'" & A19 & "'!$J$13"),"") | P19: =IFERROR(INDIRECT("'" & A19 & "'!$F$16"),"") | Q19: =J19 | T19: =M19 | U19: =N19 | V19: =offertetarief | W19: =regietarief | X19: =spectarief | Y19: =INDIRECT("'" & A19 & "'!$I$14") | Z19: =INDIRECT("'" & A19 & "'!$I$19") | AA19: =INDIRECT("'" & A19 & "'!$I$22") | AB19: =INDIRECT("'" & A19 & "'!$F$22") -> 0 | AC19: =INDIRECT("'" & A19 & "'!$I$23") | AD19: =INDIRECT("'" & A19 & "'!$F$23") -> 0 | AE19: =INDIRECT("'" & A19 & "'!$I$24") | AF19: =INDIRECT("'" & A19 & "'!$F$24") -> 0 | AG19: =INDIRECT("'" & A19 & "'!$I$25") | AH19: =INDIRECT("'" & A19 & "'!$F$25") -> 0 | AI19: =INDIRECT("'" & A19 & "'!$I$26") | AJ19: =INDIRECT("'" & A19 & "'!$F$26") -> 0 | AK19: =INDIRECT("'" & A19 & "'!$I$27") | AL19: =INDIRECT("'" & A19 & "'!$F$27") -> 0 | AM19: =INDIRECT("'" & A19 & "'!$I$28") | AN19: =INDIRECT("'" & A19 & "'!$F$28") -> 0 | AO19: =INDIRECT("'" & A19 & "'!$I$29") | AP19: =INDIRECT("'" & A19 & "'!$F$29") -> 0 | AQ19: =INDIRECT("'" & A19 & "'!$I$30") | AR19: =INDIRECT("'" & A19 & "'!$F$30") -> 0 | AS19: =INDIRECT("'" & A19 & "'!$I$31") | AT19: =INDIRECT("'" & A19 & "'!$F$31") -> 0 | AU19: =INDIRECT("'" & A19 & "'!$I$32") | AV19: =INDIRECT("'" & A19 & "'!$F$32") -> 0 | AW19: =INDIRECT("'" & A19 & "'!$I$36") -> 0 | AX19: =INDIRECT("'" & A19 & "'!$F$36") -> 0 | AY19: =INDIRECT("'" & A19 & "'!$I$37") | AZ19: =INDIRECT("'" & A19 & "'!$F$37") -> 0 | BA19: =INDIRECT("'" & A19 & "'!$I$38") -> 0 | BB19: =INDIRECT("'" & A19 & "'!$F$38") -> 0 | BC19: =INDIRECT("'" & A19 & "'!$I$39") -> 0 | BD19: =INDIRECT("'" & A19 & "'!$F$39") -> 0 | BE19: =INDIRECT("'" & A19 & "'!$I$40") -> 0 | BF19: =INDIRECT("'" & A19 & "'!$F$40") -> 0 | BG19: =INDIRECT("'" & A19 & "'!$I$41") -> 0 | BH19: =INDIRECT("'" & A19 & "'!$F$41") -> 0 | BI19: =INDIRECT("'" & A19 & "'!$I$42") | BJ19: =INDIRECT("'" & A19 & "'!$F$42") -> 0 | BK19: =INDIRECT("'" & A19 & "'!$I$47") -> 0 | BL19: =INDIRECT("'" & A19 & "'!$F$47") -> Meer-/minderprijs per m2 | BM19: =INDIRECT("'" & A19 & "'!$I$48") -> 0 | BN19: =INDIRECT("'" & A19 & "'!$F$48") -> 0 | BO19: =INDIRECT("'" & A19 & "'!$I$49") -> 0 | BP19: =INDIRECT("'" & A19 & "'!$F$49") -> 0 | BQ19: =INDIRECT("'" & A19 & "'!$I$50") -> 0 | BR19: =INDIRECT("'" & A19 & "'!$F$50") -> 0 | BS19: =INDIRECT("'" & A19 & "'!$I$51") | BT19: =INDIRECT("'" & A19 & "'!$F$51") -> 0 | BU19: =INDIRECT("'" & A19 & "'!$I$52") | BV19: =INDIRECT("'" & A19 & "'!$F$52") -> 0 | BW19: =INDIRECT("'" & A19 & "'!$I$53") | BX19: =INDIRECT("'" & A19 & "'!$F$53") -> 0 | BY19: =INDIRECT("'" & A19 & "'!$I$54") | BZ19: =INDIRECT("'" & A19 & "'!$F$54") -> 0 | CA19: =INDIRECT("'" & A19 & "'!$I$55") | CB19: =INDIRECT("'" & A19 & "'!$F$55") -> 0 | CC19: =INDIRECT("'" & A19 & "'!$I$56") | CD19: =INDIRECT("'" & A19 & "'!$F$56") -> 0 | CE19: =INDIRECT("'" & A19 & "'!$I$76") -> 0 | CF19: =INDIRECT("'" & A19 & "'!$G$19") | CG19: =INDIRECT("'" & A19 & "'!$D$19") -> 0 | CH19: =INDIRECT("'" & A19 & "'!$M$19") -> 0 | CI19: =INDIRECT("'" & A19 & "'!$N$19") -> 0 | CJ19: =INDIRECT("'" & A19 & "'!$M$20") -> 0 | CK19: =INDIRECT("'" & A19 & "'!$N$20") -> 0 | CL19: =INDIRECT("'" & A19 & "'!$M$21") -> 0 | CM19: =INDIRECT("'" & A19 & "'!$N$21") -> 0 | CN19: =INDIRECT("'" & A19 & "'!$M$22") -> 0 | CO19: =INDIRECT("'" & A19 & "'!$N$22") -> 0 | CP19: =INDIRECT("'" & A19 & "'!$M$23") -> 0 | CQ19: =INDIRECT("'" & A19 & "'!$N$23") -> 0 | CR19: =INDIRECT("'" & A19 & "'!$M$24") -> 0 | CS19: =INDIRECT("'" & A19 & "'!$N$24") -> 0 | CT19: =INDIRECT("'" & A19 & "'!$M$25") -> 0 | CU19: =INDIRECT("'" & A19 & "'!$N$25") -> 0 | CV19: =INDIRECT("'" & A19 & "'!$M$26") -> 0 | CW19: =INDIRECT("'" & A19 & "'!$N$26") -> 0 | CX19: =INDIRECT("'" & A19 & "'!$M$27") -> 0 | CY19: =INDIRECT("'" & A19 & "'!$N$27") -> 0 | CZ19: =INDIRECT("'" & A19 & "'!$M$28") -> 0 | DA19: =INDIRECT("'" & A19 & "'!$N$28") -> 0 | DB19: =INDIRECT("'" & A19 & "'!$M$29") -> 0 | DC19: =INDIRECT("'" & A19 & "'!$N$29") -> 0 | DD19: =INDIRECT("'" & A19 & "'!$M$30") -> 0 | DE19: =INDIRECT("'" & A19 & "'!$N$30") -> 0 | DF19: =INDIRECT("'" & A19 & "'!$M$31") -> 0 | DG19: =INDIRECT("'" & A19 & "'!$N$31") -> 0 | DH19: =INDIRECT("'" & A19 & "'!$M$32") -> 0 | DI19: =INDIRECT("'" & A19 & "'!$N$32") -> 0 | DJ19: =INDIRECT("'" & A19 & "'!$M$33") -> 0 | DK19: =INDIRECT("'" & A19 & "'!$N$33") -> 0 | DL19: =SUM(CE19/CF19) -> #VALUE!
A20: =Verzamelblad!A21 -> 17 | B20: =INDIRECT("'" & A20 & "'!$B$4") -> Samenwerkingsschool de Stapsteen | C20: =IF(INDIRECT("'" & A20 & "'!$I$78")=0,"",INDIRECT("'" & A20 & "'!$I$78")) | D20: =IF(INDIRECT("'" & A20 & "'!$F$11")=0,"",INDIRECT("'" & A20 & "'!$F$11")) | E20: =IF(INDIRECT("'" & A20 & "'!$I$11")=0,"",INDIRECT("'" & A20 & "'!$I$11")) | F20: =IF(INDIRECT("'" & A20 & "'!$F$12")=0,"",INDIRECT("'" & A20 & "'!$F$12")) | G20: =IF(INDIRECT("'" & A20 & "'!$I$12")=0,"",INDIRECT("'" & A20 & "'!$I$12")) | H20: =IF(INDIRECT("'" & A20 & "'!$F$13")=0,"",INDIRECT("'" & A20 & "'!$F$13")) | I20: =IF(INDIRECT("'" & A20 & "'!$I$33")=0,"",INDIRECT("'" & A20 & "'!$I$33")) | J20: ='17'!$I$77 | K20: =IF(INDIRECT("'" & A20 & "'!$I$57")=0,"",INDIRECT("'" & A20 & "'!$I$57")) | L20: =IF(INDIRECT("'" & A20 & "'!$I$66")=0,"",INDIRECT("'" & A20 & "'!$I$66")) | M20: =IFERROR(INDIRECT("'" & A20 & "'!$J$11"),"") | N20: =IFERROR(INDIRECT("'" & A20 & "'!$J$12"),"") | O20: =IFERROR(INDIRECT("'" & A20 & "'!$J$13"),"") | P20: =IFERROR(INDIRECT("'" & A20 & "'!$F$16"),"") | Q20: =J20 | T20: =M20 | U20: =N20 | V20: =offertetarief | W20: =regietarief | X20: =spectarief | Y20: =INDIRECT("'" & A20 & "'!$I$14") | Z20: =INDIRECT("'" & A20 & "'!$I$19") | AA20: =INDIRECT("'" & A20 & "'!$I$22") | AB20: =INDIRECT("'" & A20 & "'!$F$22") -> 0 | AC20: =INDIRECT("'" & A20 & "'!$I$23") | AD20: =INDIRECT("'" & A20 & "'!$F$23") -> 0 | AE20: =INDIRECT("'" & A20 & "'!$I$24") | AF20: =INDIRECT("'" & A20 & "'!$F$24") -> 0 | AG20: =INDIRECT("'" & A20 & "'!$I$25") | AH20: =INDIRECT("'" & A20 & "'!$F$25") -> 0 | AI20: =INDIRECT("'" & A20 & "'!$I$26") | AJ20: =INDIRECT("'" & A20 & "'!$F$26") -> 0 | AK20: =INDIRECT("'" & A20 & "'!$I$27") | AL20: =INDIRECT("'" & A20 & "'!$F$27") -> 0 | AM20: =INDIRECT("'" & A20 & "'!$I$28") | AN20: =INDIRECT("'" & A20 & "'!$F$28") -> 0 | AO20: =INDIRECT("'" & A20 & "'!$I$29") | AP20: =INDIRECT("'" & A20 & "'!$F$29") -> 0 | AQ20: =INDIRECT("'" & A20 & "'!$I$30") | AR20: =INDIRECT("'" & A20 & "'!$F$30") -> 0 | AS20: =INDIRECT("'" & A20 & "'!$I$31") | AT20: =INDIRECT("'" & A20 & "'!$F$31") -> 0 | AU20: =INDIRECT("'" & A20 & "'!$I$32") | AV20: =INDIRECT("'" & A20 & "'!$F$32") -> 0 | AW20: =INDIRECT("'" & A20 & "'!$I$36") -> 0 | AX20: =INDIRECT("'" & A20 & "'!$F$36") -> 0 | AY20: =INDIRECT("'" & A20 & "'!$I$37") | AZ20: =INDIRECT("'" & A20 & "'!$F$37") -> 0 | BA20: =INDIRECT("'" & A20 & "'!$I$38") -> 0 | BB20: =INDIRECT("'" & A20 & "'!$F$38") -> 0 | BC20: =INDIRECT("'" & A20 & "'!$I$39") -> 0 | BD20: =INDIRECT("'" & A20 & "'!$F$39") -> 0 | BE20: =INDIRECT("'" & A20 & "'!$I$40") -> 0 | BF20: =INDIRECT("'" & A20 & "'!$F$40") -> 0 | BG20: =INDIRECT("'" & A20 & "'!$I$41") -> 0 | BH20: =INDIRECT("'" & A20 & "'!$F$41") -> 0 | BI20: =INDIRECT("'" & A20 & "'!$I$42") | BJ20: =INDIRECT("'" & A20 & "'!$F$42") -> 0 | BK20: =INDIRECT("'" & A20 & "'!$I$47") -> 0 | BL20: =INDIRECT("'" & A20 & "'!$F$47") -> Meer-/minderprijs per m2 | BM20: =INDIRECT("'" & A20 & "'!$I$48") -> 0 | BN20: =INDIRECT("'" & A20 & "'!$F$48") -> 0 | BO20: =INDIRECT("'" & A20 & "'!$I$49") -> 0 | BP20: =INDIRECT("'" & A20 & "'!$F$49") -> 0 | BQ20: =INDIRECT("'" & A20 & "'!$I$50") -> 0 | BR20: =INDIRECT("'" & A20 & "'!$F$50") -> 0 | BS20: =INDIRECT("'" & A20 & "'!$I$51") | BT20: =INDIRECT("'" & A20 & "'!$F$51") -> 0 | BU20: =INDIRECT("'" & A20 & "'!$I$52") | BV20: =INDIRECT("'" & A20 & "'!$F$52") -> 0 | BW20: =INDIRECT("'" & A20 & "'!$I$53") | BX20: =INDIRECT("'" & A20 & "'!$F$53") -> 0 | BY20: =INDIRECT("'" & A20 & "'!$I$54") | BZ20: =INDIRECT("'" & A20 & "'!$F$54") -> 0 | CA20: =INDIRECT("'" & A20 & "'!$I$55") | CB20: =INDIRECT("'" & A20 & "'!$F$55") -> 0 | CC20: =INDIRECT("'" & A20 & "'!$I$56") | CD20: =INDIRECT("'" & A20 & "'!$F$56") -> 0 | CE20: =INDIRECT("'" & A20 & "'!$I$76") -> 0 | CF20: =INDIRECT("'" & A20 & "'!$G$19") | CG20: =INDIRECT("'" & A20 & "'!$D$19") -> #N/A | CH20: =INDIRECT("'" & A20 & "'!$M$19") -> 0 | CI20: =INDIRECT("'" & A20 & "'!$N$19") -> 0 | CJ20: =INDIRECT("'" & A20 & "'!$M$20") -> 0 | CK20: =INDIRECT("'" & A20 & "'!$N$20") -> 0 | CL20: =INDIRECT("'" & A20 & "'!$M$21") -> 0 | CM20: =INDIRECT("'" & A20 & "'!$N$21") -> 0 | CN20: =INDIRECT("'" & A20 & "'!$M$22") -> 0 | CO20: =INDIRECT("'" & A20 & "'!$N$22") -> 0 | CP20: =INDIRECT("'" & A20 & "'!$M$23") -> 0 | CQ20: =INDIRECT("'" & A20 & "'!$N$23") -> 0 | CR20: =INDIRECT("'" & A20 & "'!$M$24") -> 0 | CS20: =INDIRECT("'" & A20 & "'!$N$24") -> 0 | CT20: =INDIRECT("'" & A20 & "'!$M$25") -> 0 | CU20: =INDIRECT("'" & A20 & "'!$N$25") -> 0 | CV20: =INDIRECT("'" & A20 & "'!$M$26") -> 0 | CW20: =INDIRECT("'" & A20 & "'!$N$26") -> 0 | CX20: =INDIRECT("'" & A20 & "'!$M$27") -> 0 | CY20: =INDIRECT("'" & A20 & "'!$N$27") -> 0 | CZ20: =INDIRECT("'" & A20 & "'!$M$28") -> 0 | DA20: =INDIRECT("'" & A20 & "'!$N$28") -> 0 | DB20: =INDIRECT("'" & A20 & "'!$M$29") -> 0 | DC20: =INDIRECT("'" & A20 & "'!$N$29") -> 0 | DD20: =INDIRECT("'" & A20 & "'!$M$30") -> 0 | DE20: =INDIRECT("'" & A20 & "'!$N$30") -> 0 | DF20: =INDIRECT("'" & A20 & "'!$M$31") -> 0 | DG20: =INDIRECT("'" & A20 & "'!$N$31") -> 0 | DH20: =INDIRECT("'" & A20 & "'!$M$32") -> 0 | DI20: =INDIRECT("'" & A20 & "'!$N$32") -> 0 | DJ20: =INDIRECT("'" & A20 & "'!$M$33") -> 0 | DK20: =INDIRECT("'" & A20 & "'!$N$33") -> 0 | DL20: =SUM(CE20/CF20) -> #VALUE!
A21: =Verzamelblad!A23 -> 19 | B21: =INDIRECT("'" & A21 & "'!$B$4") -> sws De Klimboom | C21: =IF(INDIRECT("'" & A21 & "'!$I$78")=0,"",INDIRECT("'" & A21 & "'!$I$78")) | D21: =IF(INDIRECT("'" & A21 & "'!$F$11")=0,"",INDIRECT("'" & A21 & "'!$F$11")) | E21: =IF(INDIRECT("'" & A21 & "'!$I$11")=0,"",INDIRECT("'" & A21 & "'!$I$11")) | F21: =IF(INDIRECT("'" & A21 & "'!$F$12")=0,"",INDIRECT("'" & A21 & "'!$F$12")) | G21: =IF(INDIRECT("'" & A21 & "'!$I$12")=0,"",INDIRECT("'" & A21 & "'!$I$12")) | H21: =IF(INDIRECT("'" & A21 & "'!$F$13")=0,"",INDIRECT("'" & A21 & "'!$F$13")) | I21: =IF(INDIRECT("'" & A21 & "'!$I$33")=0,"",INDIRECT("'" & A21 & "'!$I$33")) | J21: ='19'!$I$77 | K21: =IF(INDIRECT("'" & A21 & "'!$I$57")=0,"",INDIRECT("'" & A21 & "'!$I$57")) | L21: =IF(INDIRECT("'" & A21 & "'!$I$66")=0,"",INDIRECT("'" & A21 & "'!$I$66")) | M21: =IFERROR(INDIRECT("'" & A21 & "'!$J$11"),"") | N21: =IFERROR(INDIRECT("'" & A21 & "'!$J$12"),"") | O21: =IFERROR(INDIRECT("'" & A21 & "'!$J$13"),"") | P21: =IFERROR(INDIRECT("'" & A21 & "'!$F$16"),"") | Q21: =J21 | T21: =M21 | U21: =N21 | V21: =offertetarief | W21: =regietarief | X21: =spectarief | Y21: =INDIRECT("'" & A21 & "'!$I$14") | Z21: =INDIRECT("'" & A21 & "'!$I$19") | AA21: =INDIRECT("'" & A21 & "'!$I$22") | AB21: =INDIRECT("'" & A21 & "'!$F$22") -> 0 | AC21: =INDIRECT("'" & A21 & "'!$I$23") | AD21: =INDIRECT("'" & A21 & "'!$F$23") -> 0 | AE21: =INDIRECT("'" & A21 & "'!$I$24") | AF21: =INDIRECT("'" & A21 & "'!$F$24") -> 0 | AG21: =INDIRECT("'" & A21 & "'!$I$25") | AH21: =INDIRECT("'" & A21 & "'!$F$25") -> 0 | AI21: =INDIRECT("'" & A21 & "'!$I$26") | AJ21: =INDIRECT("'" & A21 & "'!$F$26") -> 0 | AK21: =INDIRECT("'" & A21 & "'!$I$27") | AL21: =INDIRECT("'" & A21 & "'!$F$27") -> 0 | AM21: =INDIRECT("'" & A21 & "'!$I$28") | AN21: =INDIRECT("'" & A21 & "'!$F$28") -> 0 | AO21: =INDIRECT("'" & A21 & "'!$I$29") | AP21: =INDIRECT("'" & A21 & "'!$F$29") -> 0 | AQ21: =INDIRECT("'" & A21 & "'!$I$30") | AR21: =INDIRECT("'" & A21 & "'!$F$30") -> 0 | AS21: =INDIRECT("'" & A21 & "'!$I$31") | AT21: =INDIRECT("'" & A21 & "'!$F$31") -> 0 | AU21: =INDIRECT("'" & A21 & "'!$I$32") | AV21: =INDIRECT("'" & A21 & "'!$F$32") -> 0 | AW21: =INDIRECT("'" & A21 & "'!$I$36") -> 0 | AX21: =INDIRECT("'" & A21 & "'!$F$36") -> 0 | AY21: =INDIRECT("'" & A21 & "'!$I$37") | AZ21: =INDIRECT("'" & A21 & "'!$F$37") -> 0 | BA21: =INDIRECT("'" & A21 & "'!$I$38") -> 0 | BB21: =INDIRECT("'" & A21 & "'!$F$38") -> 0 | BC21: =INDIRECT("'" & A21 & "'!$I$39") -> 0 | BD21: =INDIRECT("'" & A21 & "'!$F$39") -> 0 | BE21: =INDIRECT("'" & A21 & "'!$I$40") -> 0 | BF21: =INDIRECT("'" & A21 & "'!$F$40") -> 0 | BG21: =INDIRECT("'" & A21 & "'!$I$41") -> 0 | BH21: =INDIRECT("'" & A21 & "'!$F$41") -> 0 | BI21: =INDIRECT("'" & A21 & "'!$I$42") | BJ21: =INDIRECT("'" & A21 & "'!$F$42") -> 0 | BK21: =INDIRECT("'" & A21 & "'!$I$47") -> 0 | BL21: =INDIRECT("'" & A21 & "'!$F$47") -> Meer-/minderprijs per m2 | BM21: =INDIRECT("'" & A21 & "'!$I$48") -> 0 | BN21: =INDIRECT("'" & A21 & "'!$F$48") -> 0 | BO21: =INDIRECT("'" & A21 & "'!$I$49") -> 0 | BP21: =INDIRECT("'" & A21 & "'!$F$49") -> 0 | BQ21: =INDIRECT("'" & A21 & "'!$I$50") -> 0 | BR21: =INDIRECT("'" & A21 & "'!$F$50") -> 0 | BS21: =INDIRECT("'" & A21 & "'!$I$51") | BT21: =INDIRECT("'" & A21 & "'!$F$51") -> 0 | BU21: =INDIRECT("'" & A21 & "'!$I$52") | BV21: =INDIRECT("'" & A21 & "'!$F$52") -> 0 | BW21: =INDIRECT("'" & A21 & "'!$I$53") | BX21: =INDIRECT("'" & A21 & "'!$F$53") -> 0 | BY21: =INDIRECT("'" & A21 & "'!$I$54") | BZ21: =INDIRECT("'" & A21 & "'!$F$54") -> 0 | CA21: =INDIRECT("'" & A21 & "'!$I$55") | CB21: =INDIRECT("'" & A21 & "'!$F$55") -> 0 | CC21: =INDIRECT("'" & A21 & "'!$I$56") | CD21: =INDIRECT("'" & A21 & "'!$F$56") -> 0 | CE21: =INDIRECT("'" & A21 & "'!$I$76") -> 0 | CF21: =INDIRECT("'" & A21 & "'!$G$19") | CG21: =INDIRECT("'" & A21 & "'!$D$19") -> #N/A | CH21: =INDIRECT("'" & A21 & "'!$M$19") -> 0 | CI21: =INDIRECT("'" & A21 & "'!$N$19") -> 0 | CJ21: =INDIRECT("'" & A21 & "'!$M$20") -> 0 | CK21: =INDIRECT("'" & A21 & "'!$N$20") -> 0 | CL21: =INDIRECT("'" & A21 & "'!$M$21") -> 0 | CM21: =INDIRECT("'" & A21 & "'!$N$21") -> 0 | CN21: =INDIRECT("'" & A21 & "'!$M$22") -> 0 | CO21: =INDIRECT("'" & A21 & "'!$N$22") -> 0 | CP21: =INDIRECT("'" & A21 & "'!$M$23") -> 0 | CQ21: =INDIRECT("'" & A21 & "'!$N$23") -> 0 | CR21: =INDIRECT("'" & A21 & "'!$M$24") -> 0 | CS21: =INDIRECT("'" & A21 & "'!$N$24") -> 0 | CT21: =INDIRECT("'" & A21 & "'!$M$25") -> 0 | CU21: =INDIRECT("'" & A21 & "'!$N$25") -> 0 | CV21: =INDIRECT("'" & A21 & "'!$M$26") -> 0 | CW21: =INDIRECT("'" & A21 & "'!$N$26") -> 0 | CX21: =INDIRECT("'" & A21 & "'!$M$27") -> 0 | CY21: =INDIRECT("'" & A21 & "'!$N$27") -> 0 | CZ21: =INDIRECT("'" & A21 & "'!$M$28") -> 0 | DA21: =INDIRECT("'" & A21 & "'!$N$28") -> 0 | DB21: =INDIRECT("'" & A21 & "'!$M$29") -> 0 | DC21: =INDIRECT("'" & A21 & "'!$N$29") -> 0 | DD21: =INDIRECT("'" & A21 & "'!$M$30") -> 0 | DE21: =INDIRECT("'" & A21 & "'!$N$30") -> 0 | DF21: =INDIRECT("'" & A21 & "'!$M$31") -> 0 | DG21: =INDIRECT("'" & A21 & "'!$N$31") -> 0 | DH21: =INDIRECT("'" & A21 & "'!$M$32") -> 0 | DI21: =INDIRECT("'" & A21 & "'!$N$32") -> 0 | DJ21: =INDIRECT("'" & A21 & "'!$M$33") -> 0 | DK21: =INDIRECT("'" & A21 & "'!$N$33") -> 0 | DL21: =SUM(CE21/CF21) -> #VALUE!
A22: =Verzamelblad!A24 -> 20 | B22: =INDIRECT("'" & A22 & "'!$B$4") -> IKC Marum (nieuw) | C22: =IF(INDIRECT("'" & A22 & "'!$I$78")=0,"",INDIRECT("'" & A22 & "'!$I$78")) | D22: =IF(INDIRECT("'" & A22 & "'!$F$11")=0,"",INDIRECT("'" & A22 & "'!$F$11")) | E22: =IF(INDIRECT("'" & A22 & "'!$I$11")=0,"",INDIRECT("'" & A22 & "'!$I$11")) | F22: =IF(INDIRECT("'" & A22 & "'!$F$12")=0,"",INDIRECT("'" & A22 & "'!$F$12")) | G22: =IF(INDIRECT("'" & A22 & "'!$I$12")=0,"",INDIRECT("'" & A22 & "'!$I$12")) | H22: =IF(INDIRECT("'" & A22 & "'!$F$13")=0,"",INDIRECT("'" & A22 & "'!$F$13")) | I22: =IF(INDIRECT("'" & A22 & "'!$I$33")=0,"",INDIRECT("'" & A22 & "'!$I$33")) | J22: ='20'!$I$77 | K22: =IF(INDIRECT("'" & A22 & "'!$I$57")=0,"",INDIRECT("'" & A22 & "'!$I$57")) | L22: =IF(INDIRECT("'" & A22 & "'!$I$66")=0,"",INDIRECT("'" & A22 & "'!$I$66")) | M22: =IFERROR(INDIRECT("'" & A22 & "'!$J$11"),"") | N22: =IFERROR(INDIRECT("'" & A22 & "'!$J$12"),"") | O22: =IFERROR(INDIRECT("'" & A22 & "'!$J$13"),"") | P22: =IFERROR(INDIRECT("'" & A22 & "'!$F$16"),"") | Q22: =J22 | T22: =M22 | U22: =N22 | V22: =offertetarief | W22: =regietarief | X22: =spectarief | Y22: =INDIRECT("'" & A22 & "'!$I$14") | Z22: =INDIRECT("'" & A22 & "'!$I$19") | AA22: =INDIRECT("'" & A22 & "'!$I$22") | AB22: =INDIRECT("'" & A22 & "'!$F$22") -> 0 | AC22: =INDIRECT("'" & A22 & "'!$I$23") | AD22: =INDIRECT("'" & A22 & "'!$F$23") -> 0 | AE22: =INDIRECT("'" & A22 & "'!$I$24") | AF22: =INDIRECT("'" & A22 & "'!$F$24") -> 0 | AG22: =INDIRECT("'" & A22 & "'!$I$25") | AH22: =INDIRECT("'" & A22 & "'!$F$25") -> 0 | AI22: =INDIRECT("'" & A22 & "'!$I$26") | AJ22: =INDIRECT("'" & A22 & "'!$F$26") -> 0 | AK22: =INDIRECT("'" & A22 & "'!$I$27") | AL22: =INDIRECT("'" & A22 & "'!$F$27") -> 0 | AM22: =INDIRECT("'" & A22 & "'!$I$28") | AN22: =INDIRECT("'" & A22 & "'!$F$28") -> 0 | AO22: =INDIRECT("'" & A22 & "'!$I$29") | AP22: =INDIRECT("'" & A22 & "'!$F$29") -> 0 | AQ22: =INDIRECT("'" & A22 & "'!$I$30") | AR22: =INDIRECT("'" & A22 & "'!$F$30") -> 0 | AS22: =INDIRECT("'" & A22 & "'!$I$31") | AT22: =INDIRECT("'" & A22 & "'!$F$31") -> 0 | AU22: =INDIRECT("'" & A22 & "'!$I$32") | AV22: =INDIRECT("'" & A22 & "'!$F$32") -> 0 | AW22: =INDIRECT("'" & A22 & "'!$I$36") -> 0 | AX22: =INDIRECT("'" & A22 & "'!$F$36") -> 0 | AY22: =INDIRECT("'" & A22 & "'!$I$37") | AZ22: =INDIRECT("'" & A22 & "'!$F$37") -> 0 | BA22: =INDIRECT("'" & A22 & "'!$I$38") -> 0 | BB22: =INDIRECT("'" & A22 & "'!$F$38") -> 0 | BC22: =INDIRECT("'" & A22 & "'!$I$39") -> 0 | BD22: =INDIRECT("'" & A22 & "'!$F$39") -> 0 | BE22: =INDIRECT("'" & A22 & "'!$I$40") -> 0 | BF22: =INDIRECT("'" & A22 & "'!$F$40") -> 0 | BG22: =INDIRECT("'" & A22 & "'!$I$41") -> 0 | BH22: =INDIRECT("'" & A22 & "'!$F$41") -> 0 | BI22: =INDIRECT("'" & A22 & "'!$I$42") | BJ22: =INDIRECT("'" & A22 & "'!$F$42") -> 0 | BK22: =INDIRECT("'" & A22 & "'!$I$47") -> 0 | BL22: =INDIRECT("'" & A22 & "'!$F$47") -> Meer-/minderprijs per m2 | BM22: =INDIRECT("'" & A22 & "'!$I$48") -> 0 | BN22: =INDIRECT("'" & A22 & "'!$F$48") -> 0 | BO22: =INDIRECT("'" & A22 & "'!$I$49") -> 0 | BP22: =INDIRECT("'" & A22 & "'!$F$49") -> 0 | BQ22: =INDIRECT("'" & A22 & "'!$I$50") -> 0 | BR22: =INDIRECT("'" & A22 & "'!$F$50") -> 0 | BS22: =INDIRECT("'" & A22 & "'!$I$51") | BT22: =INDIRECT("'" & A22 & "'!$F$51") -> 0 | BU22: =INDIRECT("'" & A22 & "'!$I$52") | BV22: =INDIRECT("'" & A22 & "'!$F$52") -> 0 | BW22: =INDIRECT("'" & A22 & "'!$I$53") | BX22: =INDIRECT("'" & A22 & "'!$F$53") -> 0 | BY22: =INDIRECT("'" & A22 & "'!$I$54") | BZ22: =INDIRECT("'" & A22 & "'!$F$54") -> 0 | CA22: =INDIRECT("'" & A22 & "'!$I$55") | CB22: =INDIRECT("'" & A22 & "'!$F$55") -> 0 | CC22: =INDIRECT("'" & A22 & "'!$I$56") | CD22: =INDIRECT("'" & A22 & "'!$F$56") -> 0 | CE22: =INDIRECT("'" & A22 & "'!$I$76") -> 0 | CF22: =INDIRECT("'" & A22 & "'!$G$19") | CG22: =INDIRECT("'" & A22 & "'!$D$19") -> 580280 | CH22: =INDIRECT("'" & A22 & "'!$M$19") -> 0 | CI22: =INDIRECT("'" & A22 & "'!$N$19") -> 0 | CJ22: =INDIRECT("'" & A22 & "'!$M$20") -> 0 | CK22: =INDIRECT("'" & A22 & "'!$N$20") -> 0 | CL22: =INDIRECT("'" & A22 & "'!$M$21") -> 0 | CM22: =INDIRECT("'" & A22 & "'!$N$21") -> 0 | CN22: =INDIRECT("'" & A22 & "'!$M$22") -> 0 | CO22: =INDIRECT("'" & A22 & "'!$N$22") -> 0 | CP22: =INDIRECT("'" & A22 & "'!$M$23") -> 0 | CQ22: =INDIRECT("'" & A22 & "'!$N$23") -> 0 | CR22: =INDIRECT("'" & A22 & "'!$M$24") -> 0 | CS22: =INDIRECT("'" & A22 & "'!$N$24") -> 0 | CT22: =INDIRECT("'" & A22 & "'!$M$25") -> 0 | CU22: =INDIRECT("'" & A22 & "'!$N$25") -> 0 | CV22: =INDIRECT("'" & A22 & "'!$M$26") -> 0 | CW22: =INDIRECT("'" & A22 & "'!$N$26") -> 0 | CX22: =INDIRECT("'" & A22 & "'!$M$27") -> 0 | CY22: =INDIRECT("'" & A22 & "'!$N$27") -> 0 | CZ22: =INDIRECT("'" & A22 & "'!$M$28") -> 0 | DA22: =INDIRECT("'" & A22 & "'!$N$28") -> 0 | DB22: =INDIRECT("'" & A22 & "'!$M$29") -> 0 | DC22: =INDIRECT("'" & A22 & "'!$N$29") -> 0 | DD22: =INDIRECT("'" & A22 & "'!$M$30") -> 0 | DE22: =INDIRECT("'" & A22 & "'!$N$30") -> 0 | DF22: =INDIRECT("'" & A22 & "'!$M$31") -> 0 | DG22: =INDIRECT("'" & A22 & "'!$N$31") -> 0 | DH22: =INDIRECT("'" & A22 & "'!$M$32") -> 0 | DI22: =INDIRECT("'" & A22 & "'!$N$32") -> 0 | DJ22: =INDIRECT("'" & A22 & "'!$M$33") -> 0 | DK22: =INDIRECT("'" & A22 & "'!$N$33") -> 0 | DL22: =SUM(CE22/CF22) -> #VALUE!
A23: =Verzamelblad!A26 -> 22 | B23: =INDIRECT("'" & A23 & "'!$B$4") -> OBS De Molenberg | C23: =IF(INDIRECT("'" & A23 & "'!$I$78")=0,"",INDIRECT("'" & A23 & "'!$I$78")) | D23: =IF(INDIRECT("'" & A23 & "'!$F$11")=0,"",INDIRECT("'" & A23 & "'!$F$11")) | E23: =IF(INDIRECT("'" & A23 & "'!$I$11")=0,"",INDIRECT("'" & A23 & "'!$I$11")) | F23: =IF(INDIRECT("'" & A23 & "'!$F$12")=0,"",INDIRECT("'" & A23 & "'!$F$12")) | G23: =IF(INDIRECT("'" & A23 & "'!$I$12")=0,"",INDIRECT("'" & A23 & "'!$I$12")) | H23: =IF(INDIRECT("'" & A23 & "'!$F$13")=0,"",INDIRECT("'" & A23 & "'!$F$13")) | I23: =IF(INDIRECT("'" & A23 & "'!$I$33")=0,"",INDIRECT("'" & A23 & "'!$I$33")) | J23: ='22'!$I$77 | K23: =IF(INDIRECT("'" & A23 & "'!$I$57")=0,"",INDIRECT("'" & A23 & "'!$I$57")) | L23: =IF(INDIRECT("'" & A23 & "'!$I$66")=0,"",INDIRECT("'" & A23 & "'!$I$66")) | M23: =IFERROR(INDIRECT("'" & A23 & "'!$J$11"),"") | N23: =IFERROR(INDIRECT("'" & A23 & "'!$J$12"),"") | O23: =IFERROR(INDIRECT("'" & A23 & "'!$J$13"),"") | P23: =IFERROR(INDIRECT("'" & A23 & "'!$F$16"),"") | Q23: =J23 | T23: =M23 | U23: =N23 | V23: =offertetarief | W23: =regietarief | X23: =spectarief | Y23: =INDIRECT("'" & A23 & "'!$I$14") | Z23: =INDIRECT("'" & A23 & "'!$I$19") | AA23: =INDIRECT("'" & A23 & "'!$I$22") | AB23: =INDIRECT("'" & A23 & "'!$F$22") -> 0 | AC23: =INDIRECT("'" & A23 & "'!$I$23") | AD23: =INDIRECT("'" & A23 & "'!$F$23") -> 0 | AE23: =INDIRECT("'" & A23 & "'!$I$24") | AF23: =INDIRECT("'" & A23 & "'!$F$24") -> 0 | AG23: =INDIRECT("'" & A23 & "'!$I$25") | AH23: =INDIRECT("'" & A23 & "'!$F$25") -> 0 | AI23: =INDIRECT("'" & A23 & "'!$I$26") | AJ23: =INDIRECT("'" & A23 & "'!$F$26") -> 0 | AK23: =INDIRECT("'" & A23 & "'!$I$27") | AL23: =INDIRECT("'" & A23 & "'!$F$27") -> 0 | AM23: =INDIRECT("'" & A23 & "'!$I$28") | AN23: =INDIRECT("'" & A23 & "'!$F$28") -> 0 | AO23: =INDIRECT("'" & A23 & "'!$I$29") | AP23: =INDIRECT("'" & A23 & "'!$F$29") -> 0 | AQ23: =INDIRECT("'" & A23 & "'!$I$30") | AR23: =INDIRECT("'" & A23 & "'!$F$30") -> 0 | AS23: =INDIRECT("'" & A23 & "'!$I$31") | AT23: =INDIRECT("'" & A23 & "'!$F$31") -> 0 | AU23: =INDIRECT("'" & A23 & "'!$I$32") | AV23: =INDIRECT("'" & A23 & "'!$F$32") -> 0 | AW23: =INDIRECT("'" & A23 & "'!$I$36") -> 0 | AX23: =INDIRECT("'" & A23 & "'!$F$36") -> 0 | AY23: =INDIRECT("'" & A23 & "'!$I$37") | AZ23: =INDIRECT("'" & A23 & "'!$F$37") -> 0 | BA23: =INDIRECT("'" & A23 & "'!$I$38") -> 0 | BB23: =INDIRECT("'" & A23 & "'!$F$38") -> 0 | BC23: =INDIRECT("'" & A23 & "'!$I$39") -> 0 | BD23: =INDIRECT("'" & A23 & "'!$F$39") -> 0 | BE23: =INDIRECT("'" & A23 & "'!$I$40") -> 0 | BF23: =INDIRECT("'" & A23 & "'!$F$40") -> 0 | BG23: =INDIRECT("'" & A23 & "'!$I$41") -> 0 | BH23: =INDIRECT("'" & A23 & "'!$F$41") -> 0 | BI23: =INDIRECT("'" & A23 & "'!$I$42") | BJ23: =INDIRECT("'" & A23 & "'!$F$42") -> 0 | BK23: =INDIRECT("'" & A23 & "'!$I$47") -> 0 | BL23: =INDIRECT("'" & A23 & "'!$F$47") -> Meer-/minderprijs per m2 | BM23: =INDIRECT("'" & A23 & "'!$I$48") -> 0 | BN23: =INDIRECT("'" & A23 & "'!$F$48") -> 0 | BO23: =INDIRECT("'" & A23 & "'!$I$49") -> 0 | BP23: =INDIRECT("'" & A23 & "'!$F$49") -> 0 | BQ23: =INDIRECT("'" & A23 & "'!$I$50") -> 0 | BR23: =INDIRECT("'" & A23 & "'!$F$50") -> 0 | BS23: =INDIRECT("'" & A23 & "'!$I$51") | BT23: =INDIRECT("'" & A23 & "'!$F$51") -> 0 | BU23: =INDIRECT("'" & A23 & "'!$I$52") | BV23: =INDIRECT("'" & A23 & "'!$F$52") -> 0 | BW23: =INDIRECT("'" & A23 & "'!$I$53") | BX23: =INDIRECT("'" & A23 & "'!$F$53") -> 0 | BY23: =INDIRECT("'" & A23 & "'!$I$54") | BZ23: =INDIRECT("'" & A23 & "'!$F$54") -> 0 | CA23: =INDIRECT("'" & A23 & "'!$I$55") | CB23: =INDIRECT("'" & A23 & "'!$F$55") -> 0 | CC23: =INDIRECT("'" & A23 & "'!$I$56") | CD23: =INDIRECT("'" & A23 & "'!$F$56") -> 0 | CE23: =INDIRECT("'" & A23 & "'!$I$76") -> 0 | CF23: =INDIRECT("'" & A23 & "'!$G$19") | CG23: =INDIRECT("'" & A23 & "'!$D$19") -> 140472 | CH23: =INDIRECT("'" & A23 & "'!$M$19") -> 0 | CI23: =INDIRECT("'" & A23 & "'!$N$19") -> 0 | CJ23: =INDIRECT("'" & A23 & "'!$M$20") -> 0 | CK23: =INDIRECT("'" & A23 & "'!$N$20") -> 0 | CL23: =INDIRECT("'" & A23 & "'!$M$21") -> 0 | CM23: =INDIRECT("'" & A23 & "'!$N$21") -> 0 | CN23: =INDIRECT("'" & A23 & "'!$M$22") -> 0 | CO23: =INDIRECT("'" & A23 & "'!$N$22") -> 0 | CP23: =INDIRECT("'" & A23 & "'!$M$23") -> 0 | CQ23: =INDIRECT("'" & A23 & "'!$N$23") -> 0 | CR23: =INDIRECT("'" & A23 & "'!$M$24") -> 0 | CS23: =INDIRECT("'" & A23 & "'!$N$24") -> 0 | CT23: =INDIRECT("'" & A23 & "'!$M$25") -> 0 | CU23: =INDIRECT("'" & A23 & "'!$N$25") -> 0 | CV23: =INDIRECT("'" & A23 & "'!$M$26") -> 0 | CW23: =INDIRECT("'" & A23 & "'!$N$26") -> 0 | CX23: =INDIRECT("'" & A23 & "'!$M$27") -> 0 | CY23: =INDIRECT("'" & A23 & "'!$N$27") -> 0 | CZ23: =INDIRECT("'" & A23 & "'!$M$28") -> 0 | DA23: =INDIRECT("'" & A23 & "'!$N$28") -> 0 | DB23: =INDIRECT("'" & A23 & "'!$M$29") -> 0 | DC23: =INDIRECT("'" & A23 & "'!$N$29") -> 0 | DD23: =INDIRECT("'" & A23 & "'!$M$30") -> 0 | DE23: =INDIRECT("'" & A23 & "'!$N$30") -> 0 | DF23: =INDIRECT("'" & A23 & "'!$M$31") -> 0 | DG23: =INDIRECT("'" & A23 & "'!$N$31") -> 0 | DH23: =INDIRECT("'" & A23 & "'!$M$32") -> 0 | DI23: =INDIRECT("'" & A23 & "'!$N$32") -> 0 | DJ23: =INDIRECT("'" & A23 & "'!$M$33") -> 0 | DK23: =INDIRECT("'" & A23 & "'!$N$33") -> 0 | DL23: =SUM(CE23/CF23) -> #VALUE!
A24: =Verzamelblad!A27 -> 23 | B24: =INDIRECT("'" & A24 & "'!$B$4") -> OBS De Opstap | C24: =IF(INDIRECT("'" & A24 & "'!$I$78")=0,"",INDIRECT("'" & A24 & "'!$I$78")) | D24: =IF(INDIRECT("'" & A24 & "'!$F$11")=0,"",INDIRECT("'" & A24 & "'!$F$11")) | E24: =IF(INDIRECT("'" & A24 & "'!$I$11")=0,"",INDIRECT("'" & A24 & "'!$I$11")) | F24: =IF(INDIRECT("'" & A24 & "'!$F$12")=0,"",INDIRECT("'" & A24 & "'!$F$12")) | G24: =IF(INDIRECT("'" & A24 & "'!$I$12")=0,"",INDIRECT("'" & A24 & "'!$I$12")) | H24: =IF(INDIRECT("'" & A24 & "'!$F$13")=0,"",INDIRECT("'" & A24 & "'!$F$13")) | I24: =IF(INDIRECT("'" & A24 & "'!$I$33")=0,"",INDIRECT("'" & A24 & "'!$I$33")) | J24: ='23'!$I$77 | K24: =IF(INDIRECT("'" & A24 & "'!$I$57")=0,"",INDIRECT("'" & A24 & "'!$I$57")) | L24: =IF(INDIRECT("'" & A24 & "'!$I$66")=0,"",INDIRECT("'" & A24 & "'!$I$66")) | M24: =IFERROR(INDIRECT("'" & A24 & "'!$J$11"),"") | N24: =IFERROR(INDIRECT("'" & A24 & "'!$J$12"),"") | O24: =IFERROR(INDIRECT("'" & A24 & "'!$J$13"),"") | P24: =IFERROR(INDIRECT("'" & A24 & "'!$F$16"),"") | Q24: =J24 | T24: =M24 | U24: =N24 | V24: =offertetarief | W24: =regietarief | X24: =spectarief | Y24: =INDIRECT("'" & A24 & "'!$I$14") | Z24: =INDIRECT("'" & A24 & "'!$I$19") | AA24: =INDIRECT("'" & A24 & "'!$I$22") | AB24: =INDIRECT("'" & A24 & "'!$F$22") -> 0 | AC24: =INDIRECT("'" & A24 & "'!$I$23") | AD24: =INDIRECT("'" & A24 & "'!$F$23") -> 0 | AE24: =INDIRECT("'" & A24 & "'!$I$24") | AF24: =INDIRECT("'" & A24 & "'!$F$24") -> 0 | AG24: =INDIRECT("'" & A24 & "'!$I$25") | AH24: =INDIRECT("'" & A24 & "'!$F$25") -> 0 | AI24: =INDIRECT("'" & A24 & "'!$I$26") | AJ24: =INDIRECT("'" & A24 & "'!$F$26") -> 0 | AK24: =INDIRECT("'" & A24 & "'!$I$27") | AL24: =INDIRECT("'" & A24 & "'!$F$27") -> 0 | AM24: =INDIRECT("'" & A24 & "'!$I$28") | AN24: =INDIRECT("'" & A24 & "'!$F$28") -> 0 | AO24: =INDIRECT("'" & A24 & "'!$I$29") | AP24: =INDIRECT("'" & A24 & "'!$F$29") -> 0 | AQ24: =INDIRECT("'" & A24 & "'!$I$30") | AR24: =INDIRECT("'" & A24 & "'!$F$30") -> 0 | AS24: =INDIRECT("'" & A24 & "'!$I$31") | AT24: =INDIRECT("'" & A24 & "'!$F$31") -> 0 | AU24: =INDIRECT("'" & A24 & "'!$I$32") | AV24: =INDIRECT("'" & A24 & "'!$F$32") -> 0 | AW24: =INDIRECT("'" & A24 & "'!$I$36") -> 0 | AX24: =INDIRECT("'" & A24 & "'!$F$36") -> 0 | AY24: =INDIRECT("'" & A24 & "'!$I$37") | AZ24: =INDIRECT("'" & A24 & "'!$F$37") -> 0 | BA24: =INDIRECT("'" & A24 & "'!$I$38") -> 0 | BB24: =INDIRECT("'" & A24 & "'!$F$38") -> 0 | BC24: =INDIRECT("'" & A24 & "'!$I$39") -> 0 | BD24: =INDIRECT("'" & A24 & "'!$F$39") -> 0 | BE24: =INDIRECT("'" & A24 & "'!$I$40") -> 0 | BF24: =INDIRECT("'" & A24 & "'!$F$40") -> 0 | BG24: =INDIRECT("'" & A24 & "'!$I$41") -> 0 | BH24: =INDIRECT("'" & A24 & "'!$F$41") -> 0 | BI24: =INDIRECT("'" & A24 & "'!$I$42") | BJ24: =INDIRECT("'" & A24 & "'!$F$42") -> 0 | BK24: =INDIRECT("'" & A24 & "'!$I$47") -> 0 | BL24: =INDIRECT("'" & A24 & "'!$F$47") -> Meer-/minderprijs per m2 | BM24: =INDIRECT("'" & A24 & "'!$I$48") -> 0 | BN24: =INDIRECT("'" & A24 & "'!$F$48") -> 0 | BO24: =INDIRECT("'" & A24 & "'!$I$49") -> 0 | BP24: =INDIRECT("'" & A24 & "'!$F$49") -> 0 | BQ24: =INDIRECT("'" & A24 & "'!$I$50") -> 0 | BR24: =INDIRECT("'" & A24 & "'!$F$50") -> 0 | BS24: =INDIRECT("'" & A24 & "'!$I$51") | BT24: =INDIRECT("'" & A24 & "'!$F$51") -> 0 | BU24: =INDIRECT("'" & A24 & "'!$I$52") | BV24: =INDIRECT("'" & A24 & "'!$F$52") -> 0 | BW24: =INDIRECT("'" & A24 & "'!$I$53") | BX24: =INDIRECT("'" & A24 & "'!$F$53") -> 0 | BY24: =INDIRECT("'" & A24 & "'!$I$54") | BZ24: =INDIRECT("'" & A24 & "'!$F$54") -> 0 | CA24: =INDIRECT("'" & A24 & "'!$I$55") | CB24: =INDIRECT("'" & A24 & "'!$F$55") -> 0 | CC24: =INDIRECT("'" & A24 & "'!$I$56") | CD24: =INDIRECT("'" & A24 & "'!$F$56") -> 0 | CE24: =INDIRECT("'" & A24 & "'!$I$76") -> 0 | CF24: =INDIRECT("'" & A24 & "'!$G$19") | CG24: =INDIRECT("'" & A24 & "'!$D$19") -> 0 | CH24: =INDIRECT("'" & A24 & "'!$M$19") -> 0 | CI24: =INDIRECT("'" & A24 & "'!$N$19") -> 0 | CJ24: =INDIRECT("'" & A24 & "'!$M$20") -> 0 | CK24: =INDIRECT("'" & A24 & "'!$N$20") -> 0 | CL24: =INDIRECT("'" & A24 & "'!$M$21") -> 0 | CM24: =INDIRECT("'" & A24 & "'!$N$21") -> 0 | CN24: =INDIRECT("'" & A24 & "'!$M$22") -> 0 | CO24: =INDIRECT("'" & A24 & "'!$N$22") -> 0 | CP24: =INDIRECT("'" & A24 & "'!$M$23") -> 0 | CQ24: =INDIRECT("'" & A24 & "'!$N$23") -> 0 | CR24: =INDIRECT("'" & A24 & "'!$M$24") -> 0 | CS24: =INDIRECT("'" & A24 & "'!$N$24") -> 0 | CT24: =INDIRECT("'" & A24 & "'!$M$25") -> 0 | CU24: =INDIRECT("'" & A24 & "'!$N$25") -> 0 | CV24: =INDIRECT("'" & A24 & "'!$M$26") -> 0 | CW24: =INDIRECT("'" & A24 & "'!$N$26") -> 0 | CX24: =INDIRECT("'" & A24 & "'!$M$27") -> 0 | CY24: =INDIRECT("'" & A24 & "'!$N$27") -> 0 | CZ24: =INDIRECT("'" & A24 & "'!$M$28") -> 0 | DA24: =INDIRECT("'" & A24 & "'!$N$28") -> 0 | DB24: =INDIRECT("'" & A24 & "'!$M$29") -> 0 | DC24: =INDIRECT("'" & A24 & "'!$N$29") -> 0 | DD24: =INDIRECT("'" & A24 & "'!$M$30") -> 0 | DE24: =INDIRECT("'" & A24 & "'!$N$30") -> 0 | DF24: =INDIRECT("'" & A24 & "'!$M$31") -> 0 | DG24: =INDIRECT("'" & A24 & "'!$N$31") -> 0 | DH24: =INDIRECT("'" & A24 & "'!$M$32") -> 0 | DI24: =INDIRECT("'" & A24 & "'!$N$32") -> 0 | DJ24: =INDIRECT("'" & A24 & "'!$M$33") -> 0 | DK24: =INDIRECT("'" & A24 & "'!$N$33") -> 0 | DL24: =SUM(CE24/CF24) -> #VALUE!
A25: =Verzamelblad!A28 -> 24 | B25: =INDIRECT("'" & A25 & "'!$B$4") -> OBS De Beelen | C25: =IF(INDIRECT("'" & A25 & "'!$I$78")=0,"",INDIRECT("'" & A25 & "'!$I$78")) | D25: =IF(INDIRECT("'" & A25 & "'!$F$11")=0,"",INDIRECT("'" & A25 & "'!$F$11")) | E25: =IF(INDIRECT("'" & A25 & "'!$I$11")=0,"",INDIRECT("'" & A25 & "'!$I$11")) | F25: =IF(INDIRECT("'" & A25 & "'!$F$12")=0,"",INDIRECT("'" & A25 & "'!$F$12")) | G25: =IF(INDIRECT("'" & A25 & "'!$I$12")=0,"",INDIRECT("'" & A25 & "'!$I$12")) | H25: =IF(INDIRECT("'" & A25 & "'!$F$13")=0,"",INDIRECT("'" & A25 & "'!$F$13")) | I25: =IF(INDIRECT("'" & A25 & "'!$I$33")=0,"",INDIRECT("'" & A25 & "'!$I$33")) | J25: ='24'!$I$77 | K25: =IF(INDIRECT("'" & A25 & "'!$I$57")=0,"",INDIRECT("'" & A25 & "'!$I$57")) | L25: =IF(INDIRECT("'" & A25 & "'!$I$66")=0,"",INDIRECT("'" & A25 & "'!$I$66")) | M25: =IFERROR(INDIRECT("'" & A25 & "'!$J$11"),"") | N25: =IFERROR(INDIRECT("'" & A25 & "'!$J$12"),"") | O25: =IFERROR(INDIRECT("'" & A25 & "'!$J$13"),"") | P25: =IFERROR(INDIRECT("'" & A25 & "'!$F$16"),"") | Q25: =J25 | T25: =M25 | U25: =N25 | V25: =offertetarief | W25: =regietarief | X25: =spectarief | Y25: =INDIRECT("'" & A25 & "'!$I$14") | Z25: =INDIRECT("'" & A25 & "'!$I$19") | AA25: =INDIRECT("'" & A25 & "'!$I$22") | AB25: =INDIRECT("'" & A25 & "'!$F$22") -> 0 | AC25: =INDIRECT("'" & A25 & "'!$I$23") | AD25: =INDIRECT("'" & A25 & "'!$F$23") -> 0 | AE25: =INDIRECT("'" & A25 & "'!$I$24") | AF25: =INDIRECT("'" & A25 & "'!$F$24") -> 0 | AG25: =INDIRECT("'" & A25 & "'!$I$25") | AH25: =INDIRECT("'" & A25 & "'!$F$25") -> 0 | AI25: =INDIRECT("'" & A25 & "'!$I$26") | AJ25: =INDIRECT("'" & A25 & "'!$F$26") -> 0 | AK25: =INDIRECT("'" & A25 & "'!$I$27") | AL25: =INDIRECT("'" & A25 & "'!$F$27") -> 0 | AM25: =INDIRECT("'" & A25 & "'!$I$28") | AN25: =INDIRECT("'" & A25 & "'!$F$28") -> 0 | AO25: =INDIRECT("'" & A25 & "'!$I$29") | AP25: =INDIRECT("'" & A25 & "'!$F$29") -> 0 | AQ25: =INDIRECT("'" & A25 & "'!$I$30") | AR25: =INDIRECT("'" & A25 & "'!$F$30") -> 0 | AS25: =INDIRECT("'" & A25 & "'!$I$31") | AT25: =INDIRECT("'" & A25 & "'!$F$31") -> 0 | AU25: =INDIRECT("'" & A25 & "'!$I$32") | AV25: =INDIRECT("'" & A25 & "'!$F$32") -> 0 | AW25: =INDIRECT("'" & A25 & "'!$I$36") -> 0 | AX25: =INDIRECT("'" & A25 & "'!$F$36") -> 0 | AY25: =INDIRECT("'" & A25 & "'!$I$37") | AZ25: =INDIRECT("'" & A25 & "'!$F$37") -> 0 | BA25: =INDIRECT("'" & A25 & "'!$I$38") -> 0 | BB25: =INDIRECT("'" & A25 & "'!$F$38") -> 0 | BC25: =INDIRECT("'" & A25 & "'!$I$39") -> 0 | BD25: =INDIRECT("'" & A25 & "'!$F$39") -> 0 | BE25: =INDIRECT("'" & A25 & "'!$I$40") -> 0 | BF25: =INDIRECT("'" & A25 & "'!$F$40") -> 0 | BG25: =INDIRECT("'" & A25 & "'!$I$41") -> 0 | BH25: =INDIRECT("'" & A25 & "'!$F$41") -> 0 | BI25: =INDIRECT("'" & A25 & "'!$I$42") | BJ25: =INDIRECT("'" & A25 & "'!$F$42") -> 0 | BK25: =INDIRECT("'" & A25 & "'!$I$47") -> 0 | BL25: =INDIRECT("'" & A25 & "'!$F$47") -> Meer-/minderprijs per m2 | BM25: =INDIRECT("'" & A25 & "'!$I$48") -> 0 | BN25: =INDIRECT("'" & A25 & "'!$F$48") -> 0 | BO25: =INDIRECT("'" & A25 & "'!$I$49") -> 0 | BP25: =INDIRECT("'" & A25 & "'!$F$49") -> 0 | BQ25: =INDIRECT("'" & A25 & "'!$I$50") -> 0 | BR25: =INDIRECT("'" & A25 & "'!$F$50") -> 0 | BS25: =INDIRECT("'" & A25 & "'!$I$51") | BT25: =INDIRECT("'" & A25 & "'!$F$51") -> 0 | BU25: =INDIRECT("'" & A25 & "'!$I$52") | BV25: =INDIRECT("'" & A25 & "'!$F$52") -> 0 | BW25: =INDIRECT("'" & A25 & "'!$I$53") | BX25: =INDIRECT("'" & A25 & "'!$F$53") -> 0 | BY25: =INDIRECT("'" & A25 & "'!$I$54") | BZ25: =INDIRECT("'" & A25 & "'!$F$54") -> 0 | CA25: =INDIRECT("'" & A25 & "'!$I$55") | CB25: =INDIRECT("'" & A25 & "'!$F$55") -> 0 | CC25: =INDIRECT("'" & A25 & "'!$I$56") | CD25: =INDIRECT("'" & A25 & "'!$F$56") -> 0 | CE25: =INDIRECT("'" & A25 & "'!$I$76") -> 0 | CF25: =INDIRECT("'" & A25 & "'!$G$19") | CG25: =INDIRECT("'" & A25 & "'!$D$19") -> 212815.6 | CH25: =INDIRECT("'" & A25 & "'!$M$19") -> 0 | CI25: =INDIRECT("'" & A25 & "'!$N$19") -> 0 | CJ25: =INDIRECT("'" & A25 & "'!$M$20") -> 0 | CK25: =INDIRECT("'" & A25 & "'!$N$20") -> 0 | CL25: =INDIRECT("'" & A25 & "'!$M$21") -> 0 | CM25: =INDIRECT("'" & A25 & "'!$N$21") -> 0 | CN25: =INDIRECT("'" & A25 & "'!$M$22") -> 0 | CO25: =INDIRECT("'" & A25 & "'!$N$22") -> 0 | CP25: =INDIRECT("'" & A25 & "'!$M$23") -> 0 | CQ25: =INDIRECT("'" & A25 & "'!$N$23") -> 0 | CR25: =INDIRECT("'" & A25 & "'!$M$24") -> 0 | CS25: =INDIRECT("'" & A25 & "'!$N$24") -> 0 | CT25: =INDIRECT("'" & A25 & "'!$M$25") -> 0 | CU25: =INDIRECT("'" & A25 & "'!$N$25") -> 0 | CV25: =INDIRECT("'" & A25 & "'!$M$26") -> 0 | CW25: =INDIRECT("'" & A25 & "'!$N$26") -> 0 | CX25: =INDIRECT("'" & A25 & "'!$M$27") -> 0 | CY25: =INDIRECT("'" & A25 & "'!$N$27") -> 0 | CZ25: =INDIRECT("'" & A25 & "'!$M$28") -> 0 | DA25: =INDIRECT("'" & A25 & "'!$N$28") -> 0 | DB25: =INDIRECT("'" & A25 & "'!$M$29") -> 0 | DC25: =INDIRECT("'" & A25 & "'!$N$29") -> 0 | DD25: =INDIRECT("'" & A25 & "'!$M$30") -> 0 | DE25: =INDIRECT("'" & A25 & "'!$N$30") -> 0 | DF25: =INDIRECT("'" & A25 & "'!$M$31") -> 0 | DG25: =INDIRECT("'" & A25 & "'!$N$31") -> 0 | DH25: =INDIRECT("'" & A25 & "'!$M$32") -> 0 | DI25: =INDIRECT("'" & A25 & "'!$N$32") -> 0 | DJ25: =INDIRECT("'" & A25 & "'!$M$33") -> 0 | DK25: =INDIRECT("'" & A25 & "'!$N$33") -> 0 | DL25: =SUM(CE25/CF25) -> #VALUE!
A26: =Verzamelblad!A30 -> 26 | B26: =INDIRECT("'" & A26 & "'!$B$4") -> OBS De Nijenoert | C26: =IF(INDIRECT("'" & A26 & "'!$I$78")=0,"",INDIRECT("'" & A26 & "'!$I$78")) | D26: =IF(INDIRECT("'" & A26 & "'!$F$11")=0,"",INDIRECT("'" & A26 & "'!$F$11")) | E26: =IF(INDIRECT("'" & A26 & "'!$I$11")=0,"",INDIRECT("'" & A26 & "'!$I$11")) | F26: =IF(INDIRECT("'" & A26 & "'!$F$12")=0,"",INDIRECT("'" & A26 & "'!$F$12")) | G26: =IF(INDIRECT("'" & A26 & "'!$I$12")=0,"",INDIRECT("'" & A26 & "'!$I$12")) | H26: =IF(INDIRECT("'" & A26 & "'!$F$13")=0,"",INDIRECT("'" & A26 & "'!$F$13")) | I26: =IF(INDIRECT("'" & A26 & "'!$I$33")=0,"",INDIRECT("'" & A26 & "'!$I$33")) | J26: ='26'!$I$77 | K26: =IF(INDIRECT("'" & A26 & "'!$I$57")=0,"",INDIRECT("'" & A26 & "'!$I$57")) | L26: =IF(INDIRECT("'" & A26 & "'!$I$66")=0,"",INDIRECT("'" & A26 & "'!$I$66")) | M26: =IFERROR(INDIRECT("'" & A26 & "'!$J$11"),"") | N26: =IFERROR(INDIRECT("'" & A26 & "'!$J$12"),"") | O26: =IFERROR(INDIRECT("'" & A26 & "'!$J$13"),"") | P26: =IFERROR(INDIRECT("'" & A26 & "'!$F$16"),"") | Q26: =J26 | T26: =M26 | U26: =N26 | V26: =offertetarief | W26: =regietarief | X26: =spectarief | Y26: =INDIRECT("'" & A26 & "'!$I$14") | Z26: =INDIRECT("'" & A26 & "'!$I$19") | AA26: =INDIRECT("'" & A26 & "'!$I$22") | AB26: =INDIRECT("'" & A26 & "'!$F$22") -> 0 | AC26: =INDIRECT("'" & A26 & "'!$I$23") | AD26: =INDIRECT("'" & A26 & "'!$F$23") -> 0 | AE26: =INDIRECT("'" & A26 & "'!$I$24") | AF26: =INDIRECT("'" & A26 & "'!$F$24") -> 0 | AG26: =INDIRECT("'" & A26 & "'!$I$25") | AH26: =INDIRECT("'" & A26 & "'!$F$25") -> 0 | AI26: =INDIRECT("'" & A26 & "'!$I$26") | AJ26: =INDIRECT("'" & A26 & "'!$F$26") -> 0 | AK26: =INDIRECT("'" & A26 & "'!$I$27") | AL26: =INDIRECT("'" & A26 & "'!$F$27") -> 0 | AM26: =INDIRECT("'" & A26 & "'!$I$28") | AN26: =INDIRECT("'" & A26 & "'!$F$28") -> 0 | AO26: =INDIRECT("'" & A26 & "'!$I$29") | AP26: =INDIRECT("'" & A26 & "'!$F$29") -> 0 | AQ26: =INDIRECT("'" & A26 & "'!$I$30") | AR26: =INDIRECT("'" & A26 & "'!$F$30") -> 0 | AS26: =INDIRECT("'" & A26 & "'!$I$31") | AT26: =INDIRECT("'" & A26 & "'!$F$31") -> 0 | AU26: =INDIRECT("'" & A26 & "'!$I$32") | AV26: =INDIRECT("'" & A26 & "'!$F$32") -> 0 | AW26: =INDIRECT("'" & A26 & "'!$I$36") -> 0 | AX26: =INDIRECT("'" & A26 & "'!$F$36") -> 0 | AY26: =INDIRECT("'" & A26 & "'!$I$37") | AZ26: =INDIRECT("'" & A26 & "'!$F$37") -> 0 | BA26: =INDIRECT("'" & A26 & "'!$I$38") -> 0 | BB26: =INDIRECT("'" & A26 & "'!$F$38") -> 0 | BC26: =INDIRECT("'" & A26 & "'!$I$39") -> 0 | BD26: =INDIRECT("'" & A26 & "'!$F$39") -> 0 | BE26: =INDIRECT("'" & A26 & "'!$I$40") -> 0 | BF26: =INDIRECT("'" & A26 & "'!$F$40") -> 0 | BG26: =INDIRECT("'" & A26 & "'!$I$41") -> 0 | BH26: =INDIRECT("'" & A26 & "'!$F$41") -> 0 | BI26: =INDIRECT("'" & A26 & "'!$I$42") | BJ26: =INDIRECT("'" & A26 & "'!$F$42") -> 0 | BK26: =INDIRECT("'" & A26 & "'!$I$47") -> 0 | BL26: =INDIRECT("'" & A26 & "'!$F$47") -> Meer-/minderprijs per m2 | BM26: =INDIRECT("'" & A26 & "'!$I$48") -> 0 | BN26: =INDIRECT("'" & A26 & "'!$F$48") -> 0 | BO26: =INDIRECT("'" & A26 & "'!$I$49") -> 0 | BP26: =INDIRECT("'" & A26 & "'!$F$49") -> 0 | BQ26: =INDIRECT("'" & A26 & "'!$I$50") -> 0 | BR26: =INDIRECT("'" & A26 & "'!$F$50") -> 0 | BS26: =INDIRECT("'" & A26 & "'!$I$51") | BT26: =INDIRECT("'" & A26 & "'!$F$51") -> 0 | BU26: =INDIRECT("'" & A26 & "'!$I$52") | BV26: =INDIRECT("'" & A26 & "'!$F$52") -> 0 | BW26: =INDIRECT("'" & A26 & "'!$I$53") | BX26: =INDIRECT("'" & A26 & "'!$F$53") -> 0 | BY26: =INDIRECT("'" & A26 & "'!$I$54") | BZ26: =INDIRECT("'" & A26 & "'!$F$54") -> 0 | CA26: =INDIRECT("'" & A26 & "'!$I$55") | CB26: =INDIRECT("'" & A26 & "'!$F$55") -> 0 | CC26: =INDIRECT("'" & A26 & "'!$I$56") | CD26: =INDIRECT("'" & A26 & "'!$F$56") -> 0 | CE26: =INDIRECT("'" & A26 & "'!$I$76") -> 0 | CF26: =INDIRECT("'" & A26 & "'!$G$19") | CG26: =INDIRECT("'" & A26 & "'!$D$19") -> 295508.4 | CH26: =INDIRECT("'" & A26 & "'!$M$19") -> 0 | CI26: =INDIRECT("'" & A26 & "'!$N$19") -> 0 | CJ26: =INDIRECT("'" & A26 & "'!$M$20") -> 0 | CK26: =INDIRECT("'" & A26 & "'!$N$20") -> 0 | CL26: =INDIRECT("'" & A26 & "'!$M$21") -> 0 | CM26: =INDIRECT("'" & A26 & "'!$N$21") -> 0 | CN26: =INDIRECT("'" & A26 & "'!$M$22") -> 0 | CO26: =INDIRECT("'" & A26 & "'!$N$22") -> 0 | CP26: =INDIRECT("'" & A26 & "'!$M$23") -> 0 | CQ26: =INDIRECT("'" & A26 & "'!$N$23") -> 0 | CR26: =INDIRECT("'" & A26 & "'!$M$24") -> 0 | CS26: =INDIRECT("'" & A26 & "'!$N$24") -> 0 | CT26: =INDIRECT("'" & A26 & "'!$M$25") -> 0 | CU26: =INDIRECT("'" & A26 & "'!$N$25") -> 0 | CV26: =INDIRECT("'" & A26 & "'!$M$26") -> 0 | CW26: =INDIRECT("'" & A26 & "'!$N$26") -> 0 | CX26: =INDIRECT("'" & A26 & "'!$M$27") -> 0 | CY26: =INDIRECT("'" & A26 & "'!$N$27") -> 0 | CZ26: =INDIRECT("'" & A26 & "'!$M$28") -> 0 | DA26: =INDIRECT("'" & A26 & "'!$N$28") -> 0 | DB26: =INDIRECT("'" & A26 & "'!$M$29") -> 0 | DC26: =INDIRECT("'" & A26 & "'!$N$29") -> 0 | DD26: =INDIRECT("'" & A26 & "'!$M$30") -> 0 | DE26: =INDIRECT("'" & A26 & "'!$N$30") -> 0 | DF26: =INDIRECT("'" & A26 & "'!$M$31") -> 0 | DG26: =INDIRECT("'" & A26 & "'!$N$31") -> 0 | DH26: =INDIRECT("'" & A26 & "'!$M$32") -> 0 | DI26: =INDIRECT("'" & A26 & "'!$N$32") -> 0 | DJ26: =INDIRECT("'" & A26 & "'!$M$33") -> 0 | DK26: =INDIRECT("'" & A26 & "'!$N$33") -> 0 | DL26: =SUM(CE26/CF26) -> #VALUE!
A27: =Verzamelblad!A31 -> 27 | B27: =INDIRECT("'" & A27 & "'!$B$4") -> OBS Zevenster | C27: =IF(INDIRECT("'" & A27 & "'!$I$78")=0,"",INDIRECT("'" & A27 & "'!$I$78")) | D27: =IF(INDIRECT("'" & A27 & "'!$F$11")=0,"",INDIRECT("'" & A27 & "'!$F$11")) | E27: =IF(INDIRECT("'" & A27 & "'!$I$11")=0,"",INDIRECT("'" & A27 & "'!$I$11")) | F27: =IF(INDIRECT("'" & A27 & "'!$F$12")=0,"",INDIRECT("'" & A27 & "'!$F$12")) | G27: =IF(INDIRECT("'" & A27 & "'!$I$12")=0,"",INDIRECT("'" & A27 & "'!$I$12")) | H27: =IF(INDIRECT("'" & A27 & "'!$F$13")=0,"",INDIRECT("'" & A27 & "'!$F$13")) | I27: =IF(INDIRECT("'" & A27 & "'!$I$33")=0,"",INDIRECT("'" & A27 & "'!$I$33")) | J27: ='27'!$I$77 | K27: =IF(INDIRECT("'" & A27 & "'!$I$57")=0,"",INDIRECT("'" & A27 & "'!$I$57")) | L27: =IF(INDIRECT("'" & A27 & "'!$I$66")=0,"",INDIRECT("'" & A27 & "'!$I$66")) | M27: =IFERROR(INDIRECT("'" & A27 & "'!$J$11"),"") | N27: =IFERROR(INDIRECT("'" & A27 & "'!$J$12"),"") | O27: =IFERROR(INDIRECT("'" & A27 & "'!$J$13"),"") | P27: =IFERROR(INDIRECT("'" & A27 & "'!$F$16"),"") | Q27: =J27 | T27: =M27 | U27: =N27 | V27: =offertetarief | W27: =regietarief | X27: =spectarief | Y27: =INDIRECT("'" & A27 & "'!$I$14") | Z27: =INDIRECT("'" & A27 & "'!$I$19") | AA27: =INDIRECT("'" & A27 & "'!$I$22") | AB27: =INDIRECT("'" & A27 & "'!$F$22") -> 0 | AC27: =INDIRECT("'" & A27 & "'!$I$23") | AD27: =INDIRECT("'" & A27 & "'!$F$23") -> 0 | AE27: =INDIRECT("'" & A27 & "'!$I$24") | AF27: =INDIRECT("'" & A27 & "'!$F$24") -> 0 | AG27: =INDIRECT("'" & A27 & "'!$I$25") | AH27: =INDIRECT("'" & A27 & "'!$F$25") -> 0 | AI27: =INDIRECT("'" & A27 & "'!$I$26") | AJ27: =INDIRECT("'" & A27 & "'!$F$26") -> 0 | AK27: =INDIRECT("'" & A27 & "'!$I$27") | AL27: =INDIRECT("'" & A27 & "'!$F$27") -> 0 | AM27: =INDIRECT("'" & A27 & "'!$I$28") | AN27: =INDIRECT("'" & A27 & "'!$F$28") -> 0 | AO27: =INDIRECT("'" & A27 & "'!$I$29") | AP27: =INDIRECT("'" & A27 & "'!$F$29") -> 0 | AQ27: =INDIRECT("'" & A27 & "'!$I$30") | AR27: =INDIRECT("'" & A27 & "'!$F$30") -> 0 | AS27: =INDIRECT("'" & A27 & "'!$I$31") | AT27: =INDIRECT("'" & A27 & "'!$F$31") -> 0 | AU27: =INDIRECT("'" & A27 & "'!$I$32") | AV27: =INDIRECT("'" & A27 & "'!$F$32") -> 0 | AW27: =INDIRECT("'" & A27 & "'!$I$36") -> 0 | AX27: =INDIRECT("'" & A27 & "'!$F$36") -> 0 | AY27: =INDIRECT("'" & A27 & "'!$I$37") | AZ27: =INDIRECT("'" & A27 & "'!$F$37") -> 0 | BA27: =INDIRECT("'" & A27 & "'!$I$38") -> 0 | BB27: =INDIRECT("'" & A27 & "'!$F$38") -> 0 | BC27: =INDIRECT("'" & A27 & "'!$I$39") -> 0 | BD27: =INDIRECT("'" & A27 & "'!$F$39") -> 0 | BE27: =INDIRECT("'" & A27 & "'!$I$40") -> 0 | BF27: =INDIRECT("'" & A27 & "'!$F$40") -> 0 | BG27: =INDIRECT("'" & A27 & "'!$I$41") -> 0 | BH27: =INDIRECT("'" & A27 & "'!$F$41") -> 0 | BI27: =INDIRECT("'" & A27 & "'!$I$42") | BJ27: =INDIRECT("'" & A27 & "'!$F$42") -> 0 | BK27: =INDIRECT("'" & A27 & "'!$I$47") -> 0 | BL27: =INDIRECT("'" & A27 & "'!$F$47") -> Meer-/minderprijs per m2 | BM27: =INDIRECT("'" & A27 & "'!$I$48") -> 0 | BN27: =INDIRECT("'" & A27 & "'!$F$48") -> 0 | BO27: =INDIRECT("'" & A27 & "'!$I$49") -> 0 | BP27: =INDIRECT("'" & A27 & "'!$F$49") -> 0 | BQ27: =INDIRECT("'" & A27 & "'!$I$50") -> 0 | BR27: =INDIRECT("'" & A27 & "'!$F$50") -> 0 | BS27: =INDIRECT("'" & A27 & "'!$I$51") | BT27: =INDIRECT("'" & A27 & "'!$F$51") -> 0 | BU27: =INDIRECT("'" & A27 & "'!$I$52") | BV27: =INDIRECT("'" & A27 & "'!$F$52") -> 0 | BW27: =INDIRECT("'" & A27 & "'!$I$53") | BX27: =INDIRECT("'" & A27 & "'!$F$53") -> 0 | BY27: =INDIRECT("'" & A27 & "'!$I$54") | BZ27: =INDIRECT("'" & A27 & "'!$F$54") -> 0 | CA27: =INDIRECT("'" & A27 & "'!$I$55") | CB27: =INDIRECT("'" & A27 & "'!$F$55") -> 0 | CC27: =INDIRECT("'" & A27 & "'!$I$56") | CD27: =INDIRECT("'" & A27 & "'!$F$56") -> 0 | CE27: =INDIRECT("'" & A27 & "'!$I$76") -> 0 | CF27: =INDIRECT("'" & A27 & "'!$G$19") | CG27: =INDIRECT("'" & A27 & "'!$D$19") -> 214289.2 | CH27: =INDIRECT("'" & A27 & "'!$M$19") -> 0 | CI27: =INDIRECT("'" & A27 & "'!$N$19") -> 0 | CJ27: =INDIRECT("'" & A27 & "'!$M$20") -> 0 | CK27: =INDIRECT("'" & A27 & "'!$N$20") -> 0 | CL27: =INDIRECT("'" & A27 & "'!$M$21") -> 0 | CM27: =INDIRECT("'" & A27 & "'!$N$21") -> 0 | CN27: =INDIRECT("'" & A27 & "'!$M$22") -> 0 | CO27: =INDIRECT("'" & A27 & "'!$N$22") -> 0 | CP27: =INDIRECT("'" & A27 & "'!$M$23") -> 0 | CQ27: =INDIRECT("'" & A27 & "'!$N$23") -> 0 | CR27: =INDIRECT("'" & A27 & "'!$M$24") -> 0 | CS27: =INDIRECT("'" & A27 & "'!$N$24") -> 0 | CT27: =INDIRECT("'" & A27 & "'!$M$25") -> 0 | CU27: =INDIRECT("'" & A27 & "'!$N$25") -> 0 | CV27: =INDIRECT("'" & A27 & "'!$M$26") -> 0 | CW27: =INDIRECT("'" & A27 & "'!$N$26") -> 0 | CX27: =INDIRECT("'" & A27 & "'!$M$27") -> 0 | CY27: =INDIRECT("'" & A27 & "'!$N$27") -> 0 | CZ27: =INDIRECT("'" & A27 & "'!$M$28") -> 0 | DA27: =INDIRECT("'" & A27 & "'!$N$28") -> 0 | DB27: =INDIRECT("'" & A27 & "'!$M$29") -> 0 | DC27: =INDIRECT("'" & A27 & "'!$N$29") -> 0 | DD27: =INDIRECT("'" & A27 & "'!$M$30") -> 0 | DE27: =INDIRECT("'" & A27 & "'!$N$30") -> 0 | DF27: =INDIRECT("'" & A27 & "'!$M$31") -> 0 | DG27: =INDIRECT("'" & A27 & "'!$N$31") -> 0 | DH27: =INDIRECT("'" & A27 & "'!$M$32") -> 0 | DI27: =INDIRECT("'" & A27 & "'!$N$32") -> 0 | DJ27: =INDIRECT("'" & A27 & "'!$M$33") -> 0 | DK27: =INDIRECT("'" & A27 & "'!$N$33") -> 0 | DL27: =SUM(CE27/CF27) -> #VALUE!
A28: =Verzamelblad!A32 -> 28 | B28: =INDIRECT("'" & A28 & "'!$B$4") -> OBS De Nijenoert Gymzaal | C28: =IF(INDIRECT("'" & A28 & "'!$I$78")=0,"",INDIRECT("'" & A28 & "'!$I$78")) | D28: =IF(INDIRECT("'" & A28 & "'!$F$11")=0,"",INDIRECT("'" & A28 & "'!$F$11")) | E28: =IF(INDIRECT("'" & A28 & "'!$I$11")=0,"",INDIRECT("'" & A28 & "'!$I$11")) | F28: =IF(INDIRECT("'" & A28 & "'!$F$12")=0,"",INDIRECT("'" & A28 & "'!$F$12")) | G28: =IF(INDIRECT("'" & A28 & "'!$I$12")=0,"",INDIRECT("'" & A28 & "'!$I$12")) | H28: =IF(INDIRECT("'" & A28 & "'!$F$13")=0,"",INDIRECT("'" & A28 & "'!$F$13")) | I28: =IF(INDIRECT("'" & A28 & "'!$I$33")=0,"",INDIRECT("'" & A28 & "'!$I$33")) | J28: ='28'!$I$77 | K28: =IF(INDIRECT("'" & A28 & "'!$I$57")=0,"",INDIRECT("'" & A28 & "'!$I$57")) | L28: =IF(INDIRECT("'" & A28 & "'!$I$66")=0,"",INDIRECT("'" & A28 & "'!$I$66")) | M28: =IFERROR(INDIRECT("'" & A28 & "'!$J$11"),"") | N28: =IFERROR(INDIRECT("'" & A28 & "'!$J$12"),"") | O28: =IFERROR(INDIRECT("'" & A28 & "'!$J$13"),"") | P28: =IFERROR(INDIRECT("'" & A28 & "'!$F$16"),"") | Q28: =J28 | T28: =M28 | U28: =N28 | V28: =offertetarief | W28: =regietarief | X28: =spectarief | Y28: =INDIRECT("'" & A28 & "'!$I$14") | Z28: =INDIRECT("'" & A28 & "'!$I$19") | AA28: =INDIRECT("'" & A28 & "'!$I$22") | AB28: =INDIRECT("'" & A28 & "'!$F$22") -> 0 | AC28: =INDIRECT("'" & A28 & "'!$I$23") | AD28: =INDIRECT("'" & A28 & "'!$F$23") -> 0 | AE28: =INDIRECT("'" & A28 & "'!$I$24") | AF28: =INDIRECT("'" & A28 & "'!$F$24") -> 0 | AG28: =INDIRECT("'" & A28 & "'!$I$25") | AH28: =INDIRECT("'" & A28 & "'!$F$25") -> 0 | AI28: =INDIRECT("'" & A28 & "'!$I$26") | AJ28: =INDIRECT("'" & A28 & "'!$F$26") -> 0 | AK28: =INDIRECT("'" & A28 & "'!$I$27") | AL28: =INDIRECT("'" & A28 & "'!$F$27") -> 0 | AM28: =INDIRECT("'" & A28 & "'!$I$28") | AN28: =INDIRECT("'" & A28 & "'!$F$28") -> 0 | AO28: =INDIRECT("'" & A28 & "'!$I$29") | AP28: =INDIRECT("'" & A28 & "'!$F$29") -> 0 | AQ28: =INDIRECT("'" & A28 & "'!$I$30") | AR28: =INDIRECT("'" & A28 & "'!$F$30") -> 0 | AS28: =INDIRECT("'" & A28 & "'!$I$31") | AT28: =INDIRECT("'" & A28 & "'!$F$31") -> 0 | AU28: =INDIRECT("'" & A28 & "'!$I$32") | AV28: =INDIRECT("'" & A28 & "'!$F$32") -> 0 | AW28: =INDIRECT("'" & A28 & "'!$I$36") -> 0 | AX28: =INDIRECT("'" & A28 & "'!$F$36") -> 0 | AY28: =INDIRECT("'" & A28 & "'!$I$37") | AZ28: =INDIRECT("'" & A28 & "'!$F$37") -> 0 | BA28: =INDIRECT("'" & A28 & "'!$I$38") -> 0 | BB28: =INDIRECT("'" & A28 & "'!$F$38") -> 0 | BC28: =INDIRECT("'" & A28 & "'!$I$39") -> 0 | BD28: =INDIRECT("'" & A28 & "'!$F$39") -> 0 | BE28: =INDIRECT("'" & A28 & "'!$I$40") -> 0 | BF28: =INDIRECT("'" & A28 & "'!$F$40") -> 0 | BG28: =INDIRECT("'" & A28 & "'!$I$41") -> 0 | BH28: =INDIRECT("'" & A28 & "'!$F$41") -> 0 | BI28: =INDIRECT("'" & A28 & "'!$I$42") | BJ28: =INDIRECT("'" & A28 & "'!$F$42") -> 0 | BK28: =INDIRECT("'" & A28 & "'!$I$47") -> 0 | BL28: =INDIRECT("'" & A28 & "'!$F$47") -> Meer-/minderprijs per m2 | BM28: =INDIRECT("'" & A28 & "'!$I$48") -> 0 | BN28: =INDIRECT("'" & A28 & "'!$F$48") -> 0 | BO28: =INDIRECT("'" & A28 & "'!$I$49") -> 0 | BP28: =INDIRECT("'" & A28 & "'!$F$49") -> 0 | BQ28: =INDIRECT("'" & A28 & "'!$I$50") -> 0 | BR28: =INDIRECT("'" & A28 & "'!$F$50") -> 0 | BS28: =INDIRECT("'" & A28 & "'!$I$51") | BT28: =INDIRECT("'" & A28 & "'!$F$51") -> 0 | BU28: =INDIRECT("'" & A28 & "'!$I$52") | BV28: =INDIRECT("'" & A28 & "'!$F$52") -> 0 | BW28: =INDIRECT("'" & A28 & "'!$I$53") | BX28: =INDIRECT("'" & A28 & "'!$F$53") -> 0 | BY28: =INDIRECT("'" & A28 & "'!$I$54") | BZ28: =INDIRECT("'" & A28 & "'!$F$54") -> 0 | CA28: =INDIRECT("'" & A28 & "'!$I$55") | CB28: =INDIRECT("'" & A28 & "'!$F$55") -> 0 | CC28: =INDIRECT("'" & A28 & "'!$I$56") | CD28: =INDIRECT("'" & A28 & "'!$F$56") -> 0 | CE28: =INDIRECT("'" & A28 & "'!$I$76") -> 0 | CF28: =INDIRECT("'" & A28 & "'!$G$19") | CG28: =INDIRECT("'" & A28 & "'!$D$19") -> 129252 | CH28: =INDIRECT("'" & A28 & "'!$M$19") -> 0 | CI28: =INDIRECT("'" & A28 & "'!$N$19") -> 0 | CJ28: =INDIRECT("'" & A28 & "'!$M$20") -> 0 | CK28: =INDIRECT("'" & A28 & "'!$N$20") -> 0 | CL28: =INDIRECT("'" & A28 & "'!$M$21") -> 0 | CM28: =INDIRECT("'" & A28 & "'!$N$21") -> 0 | CN28: =INDIRECT("'" & A28 & "'!$M$22") -> 0 | CO28: =INDIRECT("'" & A28 & "'!$N$22") -> 0 | CP28: =INDIRECT("'" & A28 & "'!$M$23") -> 0 | CQ28: =INDIRECT("'" & A28 & "'!$N$23") -> 0 | CR28: =INDIRECT("'" & A28 & "'!$M$24") -> 0 | CS28: =INDIRECT("'" & A28 & "'!$N$24") -> 0 | CT28: =INDIRECT("'" & A28 & "'!$M$25") -> 0 | CU28: =INDIRECT("'" & A28 & "'!$N$25") -> 0 | CV28: =INDIRECT("'" & A28 & "'!$M$26") -> 0 | CW28: =INDIRECT("'" & A28 & "'!$N$26") -> 0 | CX28: =INDIRECT("'" & A28 & "'!$M$27") -> 0 | CY28: =INDIRECT("'" & A28 & "'!$N$27") -> 0 | CZ28: =INDIRECT("'" & A28 & "'!$M$28") -> 0 | DA28: =INDIRECT("'" & A28 & "'!$N$28") -> 0 | DB28: =INDIRECT("'" & A28 & "'!$M$29") -> 0 | DC28: =INDIRECT("'" & A28 & "'!$N$29") -> 0 | DD28: =INDIRECT("'" & A28 & "'!$M$30") -> 0 | DE28: =INDIRECT("'" & A28 & "'!$N$30") -> 0 | DF28: =INDIRECT("'" & A28 & "'!$M$31") -> 0 | DG28: =INDIRECT("'" & A28 & "'!$N$31") -> 0 | DH28: =INDIRECT("'" & A28 & "'!$M$32") -> 0 | DI28: =INDIRECT("'" & A28 & "'!$N$32") -> 0 | DJ28: =INDIRECT("'" & A28 & "'!$M$33") -> 0 | DK28: =INDIRECT("'" & A28 & "'!$N$33") -> 0 | DL28: =SUM(CE28/CF28) -> #VALUE!
A29: =Verzamelblad!A36 -> 32 | B29: =INDIRECT("'" & A29 & "'!$B$4") -> OBS De Triangel | C29: =IF(INDIRECT("'" & A29 & "'!$I$78")=0,"",INDIRECT("'" & A29 & "'!$I$78")) | D29: =IF(INDIRECT("'" & A29 & "'!$F$11")=0,"",INDIRECT("'" & A29 & "'!$F$11")) | E29: =IF(INDIRECT("'" & A29 & "'!$I$11")=0,"",INDIRECT("'" & A29 & "'!$I$11")) | F29: =IF(INDIRECT("'" & A29 & "'!$F$12")=0,"",INDIRECT("'" & A29 & "'!$F$12")) | G29: =IF(INDIRECT("'" & A29 & "'!$I$12")=0,"",INDIRECT("'" & A29 & "'!$I$12")) | H29: =IF(INDIRECT("'" & A29 & "'!$F$13")=0,"",INDIRECT("'" & A29 & "'!$F$13")) | I29: =IF(INDIRECT("'" & A29 & "'!$I$33")=0,"",INDIRECT("'" & A29 & "'!$I$33")) | J29: ='32'!$I$77 | K29: =IF(INDIRECT("'" & A29 & "'!$I$57")=0,"",INDIRECT("'" & A29 & "'!$I$57")) | L29: =IF(INDIRECT("'" & A29 & "'!$I$66")=0,"",INDIRECT("'" & A29 & "'!$I$66")) | M29: =IFERROR(INDIRECT("'" & A29 & "'!$J$11"),"") | N29: =IFERROR(INDIRECT("'" & A29 & "'!$J$12"),"") | O29: =IFERROR(INDIRECT("'" & A29 & "'!$J$13"),"") | P29: =IFERROR(INDIRECT("'" & A29 & "'!$F$16"),"") | Q29: =J29
A30: =Verzamelblad!A38 -> 34 | B30: =INDIRECT("'" & A30 & "'!$B$4") -> CBS De Parel | C30: =IF(INDIRECT("'" & A30 & "'!$I$78")=0,"",INDIRECT("'" & A30 & "'!$I$78")) | D30: =IF(INDIRECT("'" & A30 & "'!$F$11")=0,"",INDIRECT("'" & A30 & "'!$F$11")) | E30: =IF(INDIRECT("'" & A30 & "'!$I$11")=0,"",INDIRECT("'" & A30 & "'!$I$11")) | F30: =IF(INDIRECT("'" & A30 & "'!$F$12")=0,"",INDIRECT("'" & A30 & "'!$F$12")) | G30: =IF(INDIRECT("'" & A30 & "'!$I$12")=0,"",INDIRECT("'" & A30 & "'!$I$12")) | H30: =IF(INDIRECT("'" & A30 & "'!$F$13")=0,"",INDIRECT("'" & A30 & "'!$F$13")) | I30: =IF(INDIRECT("'" & A30 & "'!$I$33")=0,"",INDIRECT("'" & A30 & "'!$I$33")) | J30: ='34'!$I$77 | K30: =IF(INDIRECT("'" & A30 & "'!$I$57")=0,"",INDIRECT("'" & A30 & "'!$I$57")) | L30: =IF(INDIRECT("'" & A30 & "'!$I$66")=0,"",INDIRECT("'" & A30 & "'!$I$66")) | M30: =IFERROR(INDIRECT("'" & A30 & "'!$J$11"),"") | N30: =IFERROR(INDIRECT("'" & A30 & "'!$J$12"),"") | O30: =IFERROR(INDIRECT("'" & A30 & "'!$J$13"),"") | P30: =IFERROR(INDIRECT("'" & A30 & "'!$F$16"),"") | Q30: =J30
A31: =Verzamelblad!A39 -> 35 | B31: =INDIRECT("'" & A31 & "'!$B$4") -> SLS de Verbinding | C31: =IF(INDIRECT("'" & A31 & "'!$I$78")=0,"",INDIRECT("'" & A31 & "'!$I$78")) | D31: =IF(INDIRECT("'" & A31 & "'!$F$11")=0,"",INDIRECT("'" & A31 & "'!$F$11")) | E31: =IF(INDIRECT("'" & A31 & "'!$I$11")=0,"",INDIRECT("'" & A31 & "'!$I$11")) | F31: =IF(INDIRECT("'" & A31 & "'!$F$12")=0,"",INDIRECT("'" & A31 & "'!$F$12")) | G31: =IF(INDIRECT("'" & A31 & "'!$I$12")=0,"",INDIRECT("'" & A31 & "'!$I$12")) | H31: =IF(INDIRECT("'" & A31 & "'!$F$13")=0,"",INDIRECT("'" & A31 & "'!$F$13")) | I31: =IF(INDIRECT("'" & A31 & "'!$I$33")=0,"",INDIRECT("'" & A31 & "'!$I$33")) | J31: ='35'!$I$77 | K31: =IF(INDIRECT("'" & A31 & "'!$I$57")=0,"",INDIRECT("'" & A31 & "'!$I$57")) | L31: =IF(INDIRECT("'" & A31 & "'!$I$66")=0,"",INDIRECT("'" & A31 & "'!$I$66")) | M31: =IFERROR(INDIRECT("'" & A31 & "'!$J$11"),"") | N31: =IFERROR(INDIRECT("'" & A31 & "'!$J$12"),"") | O31: =IFERROR(INDIRECT("'" & A31 & "'!$J$13"),"") | P31: =IFERROR(INDIRECT("'" & A31 & "'!$F$16"),"") | Q31: =J31
A32: =Verzamelblad!A40 -> 36 | B32: =INDIRECT("'" & A32 & "'!$B$4") -> Violier (Oostindie) School | C32: =IF(INDIRECT("'" & A32 & "'!$I$78")=0,"",INDIRECT("'" & A32 & "'!$I$78")) | D32: =IF(INDIRECT("'" & A32 & "'!$F$11")=0,"",INDIRECT("'" & A32 & "'!$F$11")) | E32: =IF(INDIRECT("'" & A32 & "'!$I$11")=0,"",INDIRECT("'" & A32 & "'!$I$11")) | F32: =IF(INDIRECT("'" & A32 & "'!$F$12")=0,"",INDIRECT("'" & A32 & "'!$F$12")) | G32: =IF(INDIRECT("'" & A32 & "'!$I$12")=0,"",INDIRECT("'" & A32 & "'!$I$12")) | H32: =IF(INDIRECT("'" & A32 & "'!$F$13")=0,"",INDIRECT("'" & A32 & "'!$F$13")) | I32: =IF(INDIRECT("'" & A32 & "'!$I$33")=0,"",INDIRECT("'" & A32 & "'!$I$33")) | J32: ='36'!$I$77 | K32: =IF(INDIRECT("'" & A32 & "'!$I$57")=0,"",INDIRECT("'" & A32 & "'!$I$57")) | L32: =IF(INDIRECT("'" & A32 & "'!$I$66")=0,"",INDIRECT("'" & A32 & "'!$I$66")) | M32: =IFERROR(INDIRECT("'" & A32 & "'!$J$11"),"") | N32: =IFERROR(INDIRECT("'" & A32 & "'!$J$12"),"") | O32: =IFERROR(INDIRECT("'" & A32 & "'!$J$13"),"") | P32: =IFERROR(INDIRECT("'" & A32 & "'!$F$16"),"") | Q32: =J32
A33: =Verzamelblad!A41 -> 37 | B33: =INDIRECT("'" & A33 & "'!$B$4") -> Violier (Oostindie) alleen KDV | C33: =IF(INDIRECT("'" & A33 & "'!$I$78")=0,"",INDIRECT("'" & A33 & "'!$I$78")) | D33: =IF(INDIRECT("'" & A33 & "'!$F$11")=0,"",INDIRECT("'" & A33 & "'!$F$11")) | E33: =IF(INDIRECT("'" & A33 & "'!$I$11")=0,"",INDIRECT("'" & A33 & "'!$I$11")) | F33: =IF(INDIRECT("'" & A33 & "'!$F$12")=0,"",INDIRECT("'" & A33 & "'!$F$12")) | G33: =IF(INDIRECT("'" & A33 & "'!$I$12")=0,"",INDIRECT("'" & A33 & "'!$I$12")) | H33: =IF(INDIRECT("'" & A33 & "'!$F$13")=0,"",INDIRECT("'" & A33 & "'!$F$13")) | I33: =IF(INDIRECT("'" & A33 & "'!$I$33")=0,"",INDIRECT("'" & A33 & "'!$I$33")) | J33: ='37'!$I$77 | K33: =IF(INDIRECT("'" & A33 & "'!$I$57")=0,"",INDIRECT("'" & A33 & "'!$I$57")) | L33: =IF(INDIRECT("'" & A33 & "'!$I$66")=0,"",INDIRECT("'" & A33 & "'!$I$66")) | M33: =IFERROR(INDIRECT("'" & A33 & "'!$J$11"),"") | N33: =IFERROR(INDIRECT("'" & A33 & "'!$J$12"),"") | O33: =IFERROR(INDIRECT("'" & A33 & "'!$J$13"),"") | P33: =IFERROR(INDIRECT("'" & A33 & "'!$F$16"),"") | Q33: =J33
A34: =Verzamelblad!A42 -> 38 | B34: =INDIRECT("'" & A34 & "'!$B$4") -> Nautilus (het Anker) | C34: =IF(INDIRECT("'" & A34 & "'!$I$78")=0,"",INDIRECT("'" & A34 & "'!$I$78")) | D34: =IF(INDIRECT("'" & A34 & "'!$F$11")=0,"",INDIRECT("'" & A34 & "'!$F$11")) | E34: =IF(INDIRECT("'" & A34 & "'!$I$11")=0,"",INDIRECT("'" & A34 & "'!$I$11")) | F34: =IF(INDIRECT("'" & A34 & "'!$F$12")=0,"",INDIRECT("'" & A34 & "'!$F$12")) | G34: =IF(INDIRECT("'" & A34 & "'!$I$12")=0,"",INDIRECT("'" & A34 & "'!$I$12")) | H34: =IF(INDIRECT("'" & A34 & "'!$F$13")=0,"",INDIRECT("'" & A34 & "'!$F$13")) | I34: =IF(INDIRECT("'" & A34 & "'!$I$33")=0,"",INDIRECT("'" & A34 & "'!$I$33")) | J34: ='38'!$I$77 | K34: =IF(INDIRECT("'" & A34 & "'!$I$57")=0,"",INDIRECT("'" & A34 & "'!$I$57")) | L34: =IF(INDIRECT("'" & A34 & "'!$I$66")=0,"",INDIRECT("'" & A34 & "'!$I$66")) | M34: =IFERROR(INDIRECT("'" & A34 & "'!$J$11"),"") | N34: =IFERROR(INDIRECT("'" & A34 & "'!$J$12"),"") | O34: =IFERROR(INDIRECT("'" & A34 & "'!$J$13"),"") | P34: =IFERROR(INDIRECT("'" & A34 & "'!$F$16"),"") | Q34: =J34
B36: Totalen: | E36: =IF(SUM(E5:E34)=0,"",SUM(E5:E34)) | G36: =IF(SUM(G5:G34)=0,"",SUM(G5:G34)) | H36: =IF(SUM(H5:H34)=0,"",SUM(H5:H34)) | I36: =IF(SUM(I5:I34)=0,"",SUM(I5:I34)) | J36: =IF(SUM(J5:J34)=0,"",SUM(J5:J34)) | K36: =IF(SUM(K5:K34)=0,"",SUM(K5:K34)) | L36: =IF(SUM(L5:L34)=0,"",SUM(L5:L34)) | M36: =IF(SUM(M5:M34)=0,"",SUM(M5:M34)) | N36: =IF(SUM(N5:N34)=0,"",SUM(N5:N34)) | ... Q36: =IF(SUM(Q5:Q34)=0,"",SUM(Q5:Q34))
B38: * Werkzaamheden met een frequentie tot 1x per maand

Sheet 1
D2: =CONCATENATE("Uitvoeringsbepaling"," ",H4,", onderdeel van ",Verzamelblad!A2," ",Verzamelblad!A3) -> Uitvoeringsbepaling 1, onderdeel van Bestek
A4: Object: | B4: =VLOOKUP(H4,Verzamelblad!A5:E54,3) -> Bestuursbureau | F4: Uitvoeringsbepaling: | H4: =Verzamelblad!A5 -> 1
A5: Straat: | B5: =VLOOKUP(H4,Verzamelblad!A5:E54,4) -> 0 | F5: Inventarisatie: | H5: =CONCATENATE(H4,"a") -> 1a
A6: Plaats: | B6: =VLOOKUP(H4,Verzamelblad!A5:E54,5) -> 0 | F6: Revisiedatum:
A8: Gewenste aanvangstijd schoonmaak: | E8: =VLOOKUP($H$4,Verzamelblad!$A$5:$EK$54,14,0) -> 0
A9: Aantal dagen schoonmaak per jaar: | E9: =VLOOKUP($H$4,Verzamelblad!$A$5:$EK$54,6,0) -> 0
A11: Werkzaamheden met een frequentie tot 1/20 | F11: =IFERROR(IF(SUM(I11/12)=0,"",SUM(I11/12)),"") | G11: =IFERROR(SUM(J11/12),"") | H11: =IFERROR(SUM(J11/E9),"") | I11: =IFERROR(IF(SUM($I$14*K11)=0,"",SUM($I$14*K11)),"") | J11: =IFERROR(SUM(J14*K11),"")
A12: Schoonmaakwerkzaamheden 3x per jaar | F12: =IFERROR(IF(SUM(I12/3)=0,"",SUM(I12/3)),"") | G12: =IFERROR(SUM(J12/3),"") | I12: =IFERROR(IF(SUM($I$14*K12)=0,"",SUM($I$14*K12)),"") | J12: =IFERROR(SUM(J14*K12),"")
A13: Schoonmaakwerkzaamheden 1x per jaar | F13: =IF(I13=0,"",I13) | G13: =IFERROR(J13,"") | I13: =IFERROR(IF(SUM($I$14*K13)=0,"",SUM($I$14*K13)),"") | J13: =IFERROR(SUM(J14*K13),"")
A14: Totale jaarprijs / jaaruren | F14: =IFERROR(IF(SUM(F11:F13)=0,"",SUM(F11:F13)),"") | G14: =IFERROR(SUM(G11:G13),"") -> 0 | I14: =IFERROR(IF(E101=0,"",E101),"") | J14: =IFERROR(SUM(I14/offertetarief),"") | K14: =IF(SUM(K11:K13)=100%,"","Geen 100%") -> Geen 100%
F15: Per dag | G15: Per jaar
A16: Uren direct toezicht | F16: =IFERROR(SUM((J14*directtoezicht)/E9),"") | G16: =IF(J14="","",SUM(J14*directtoezicht))
K17: Programma categorie | L17: Gemiddelde productie per m²
A18: Prestatie
A19: M² uit te besteden per jaar | D19: =D101 -> 22984 | E19: M² uit te besteden per dag | G19: =IFERROR(D101/E9,"") | H19: Gem. prestatie | I19: =IFERROR(SUM(D19/J14),"") | K19: =IF(INDIRECT("'"&$H$5&"'!F539")="H","",IF(INDIRECT("'"&$H$5&"'!F539")="Vrije categorie","",INDIRECT("'"&$H$5&"'!F539"))) -> A
K20: =IF(INDIRECT("'"&$H$5&"'!F540")="H","",IF(INDIRECT("'"&$H$5&"'!F540")="Vrije categorie","",INDIRECT("'"&$H$5&"'!F540"))) -> A1
A21: Extra werkzaamheden | D21: Prijs per | E21: Aantal | F21: Prijs per eenheid | G21: Beurtprijs | H21: Beurten per jaar | I21: Prijs per jaar | K21: =IF(INDIRECT("'"&$H$5&"'!F541")="H","",IF(INDIRECT("'"&$H$5&"'!F541")="Vrije categorie","",INDIRECT("'"&$H$5&"'!F541"))) -> B
A22: =VLOOKUP($H$4,Verzamelblad!$A$5:$EK$54,32,0) -> 0 | D22: =VLOOKUP($H$4,Verzamelblad!$A$5:$EK$54,33,0) -> 0 | E22: =VLOOKUP($H$4,Verzamelblad!$A$5:$DE$54,34) -> 0 | G22: =IF(IF(E22="","",SUM(E22*F22))=0,"",IF(E22="","",SUM(E22*F22))) | H22: =VLOOKUP($H$4,Verzamelblad!$A$5:$EK$54,35,0) -> 0 | I22: =IFERROR(IF(IF(H22="op afroep","",SUM(G22*H22))=0,"",IF(H22="op afroep","",SUM(G22*H22))),"") | K22: =IF(INDIRECT("'"&$H$5&"'!F542")="H","",IF(INDIRECT("'"&$H$5&"'!F542")="Vrije categorie","",INDIRECT("'"&$H$5&"'!F542"))) -> C
A23: =VLOOKUP($H$4,Verzamelblad!$A$5:$EK$54,36,0) -> 0 | D23: =VLOOKUP($H$4,Verzamelblad!$A$5:$EK$54,37,0) -> 0 | E23: =VLOOKUP($H$4,Verzamelblad!$A$5:$DE$54,38) -> 0 | G23: =IF(IF(E23="","",SUM(E23*F23))=0,"",IF(E23="","",SUM(E23*F23))) | H23: =VLOOKUP($H$4,Verzamelblad!$A$5:$EK$54,39,0) -> 0 | I23: =IFERROR(IF(IF(H23="op afroep","",SUM(G23*H23))=0,"",IF(H23="op afroep","",SUM(G23*H23))),"") | K23: =IF(INDIRECT("'"&$H$5&"'!F543")="H","",IF(INDIRECT("'"&$H$5&"'!F543")="Vrije categorie","",INDIRECT("'"&$H$5&"'!F543"))) -> D
A24: =VLOOKUP($H$4,Verzamelblad!$A$5:$EK$54,40,0) -> 0 | D24: =VLOOKUP($H$4,Verzamelblad!$A$5:$EK$54,41,0) -> 0 | E24: =VLOOKUP($H$4,Verzamelblad!$A$5:$DE$54,42) -> 0 | G24: =IF(IF(E24="","",SUM(E24*F24))=0,"",IF(E24="","",SUM(E24*F24))) | H24: =VLOOKUP($H$4,Verzamelblad!$A$5:$EK$54,43,0) -> 0 | I24: =IFERROR(IF(IF(H24="op afroep","",SUM(G24*H24))=0,"",IF(H24="op afroep","",SUM(G24*H24))),"") | K24: =IF(INDIRECT("'"&$H$5&"'!F544")="H","",IF(INDIRECT("'"&$H$5&"'!F544")="Vrije categorie","",INDIRECT("'"&$H$5&"'!F544")))
A25: =VLOOKUP($H$4,Verzamelblad!$A$5:$EK$54,44,0) -> 0 | D25: =VLOOKUP($H$4,Verzamelblad!$A$5:$EK$54,45,0) -> 0 | E25: =VLOOKUP($H$4,Verzamelblad!$A$5:$DE$54,46) -> 0 | G25: =IF(IF(E25="","",SUM(E25*F25))=0,"",IF(E25="","",SUM(E25*F25))) | H25: =VLOOKUP($H$4,Verzamelblad!$A$5:$EK$54,47,0) -> 0 | I25: =IFERROR(IF(IF(H25="op afroep","",SUM(G25*H25))=0,"",IF(H25="op afroep","",SUM(G25*H25))),"") | K25: =IF(INDIRECT("'"&$H$5&"'!F545")="H","",IF(INDIRECT("'"&$H$5&"'!F545")="Vrije categorie","",INDIRECT("'"&$H$5&"'!F545")))
A26: =VLOOKUP($H$4,Verzamelblad!$A$5:$EK$54,48,0) -> 0 | D26: =VLOOKUP($H$4,Verzamelblad!$A$5:$EK$54,49,0) -> 0 | E26: =VLOOKUP($H$4,Verzamelblad!$A$5:$DE$54,50) -> 0 | G26: =IF(IF(E26="","",SUM(E26*F26))=0,"",IF(E26="","",SUM(E26*F26))) | H26: =VLOOKUP($H$4,Verzamelblad!$A$5:$EK$54,51,0) -> 0 | I26: =IFERROR(IF(IF(H26="op afroep","",SUM(G26*H26))=0,"",IF(H26="op afroep","",SUM(G26*H26))),"") | K26: =IF(INDIRECT("'"&$H$5&"'!F546")="H","",IF(INDIRECT("'"&$H$5&"'!F546")="Vrije categorie","",INDIRECT("'"&$H$5&"'!F546")))
A27: =VLOOKUP($H$4,Verzamelblad!$A$5:$EK$54,52,0) -> 0 | D27: =VLOOKUP($H$4,Verzamelblad!$A$5:$EK$54,53,0) -> 0 | E27: =VLOOKUP($H$4,Verzamelblad!$A$5:$DE$54,54) -> 0 | G27: =IF(IF(E27="","",SUM(E27*F27))=0,"",IF(E27="","",SUM(E27*F27))) | H27: =VLOOKUP($H$4,Verzamelblad!$A$5:$EK$54,55,0) -> 0 | I27: =IFERROR(IF(IF(H27="op afroep","",SUM(G27*H27))=0,"",IF(H27="op afroep","",SUM(G27*H27))),"") | K27: =IF(INDIRECT("'"&$H$5&"'!F547")="H","",IF(INDIRECT("'"&$H$5&"'!F547")="Vrije categorie","",INDIRECT("'"&$H$5&"'!F547")))
A28: =VLOOKUP($H$4,Verzamelblad!$A$5:$EK$54,56,0) -> 0 | D28: =VLOOKUP($H$4,Verzamelblad!$A$5:$EK$54,57,0) -> 0 | E28: =VLOOKUP($H$4,Verzamelblad!$A$5:$DE$54,58) -> 0 | G28: =IF(IF(E28="","",SUM(E28*F28))=0,"",IF(E28="","",SUM(E28*F28))) | H28: =VLOOKUP($H$4,Verzamelblad!$A$5:$EK$54,59,0) -> 0 | I28: =IFERROR(IF(IF(H28="op afroep","",SUM(G28*H28))=0,"",IF(H28="op afroep","",SUM(G28*H28))),"") | K28: =IF(INDIRECT("'"&$H$5&"'!F548")="H","",IF(INDIRECT("'"&$H$5&"'!F548")="Vrije categorie","",INDIRECT("'"&$H$5&"'!F548")))
A29: =VLOOKUP($H$4,Verzamelblad!$A$5:$EK$54,60,0) -> 0 | D29: =VLOOKUP($H$4,Verzamelblad!$A$5:$EK$54,61,0) -> 0 | E29: =VLOOKUP($H$4,Verzamelblad!$A$5:$DE$54,62) -> 0 | G29: =IF(IF(E29="","",SUM(E29*F29))=0,"",IF(E29="","",SUM(E29*F29))) | H29: =VLOOKUP($H$4,Verzamelblad!$A$5:$EK$54,63,0) -> 0 | I29: =IFERROR(IF(IF(H29="op afroep","",SUM(G29*H29))=0,"",IF(H29="op afroep","",SUM(G29*H29))),"") | K29: =IF(INDIRECT("'"&$H$5&"'!F549")="H","",IF(INDIRECT("'"&$H$5&"'!F549")="Vrije categorie","",INDIRECT("'"&$H$5&"'!F549")))
A30: =VLOOKUP($H$4,Verzamelblad!$A$5:$EK$54,64,0) -> 0 | D30: =VLOOKUP($H$4,Verzamelblad!$A$5:$EK$54,65,0) -> 0 | E30: =VLOOKUP($H$4,Verzamelblad!$A$5:$DE$54,66) -> 0 | G30: =IF(IF(E30="","",SUM(E30*F30))=0,"",IF(E30="","",SUM(E30*F30))) | H30: =VLOOKUP($H$4,Verzamelblad!$A$5:$EK$54,67,0) -> 0 | I30: =IFERROR(IF(IF(H30="op afroep","",SUM(G30*H30))=0,"",IF(H30="op afroep","",SUM(G30*H30))),"") | K30: =IF(INDIRECT("'"&$H$5&"'!F550")="H","",IF(INDIRECT("'"&$H$5&"'!F550")="Vrije categorie","",INDIRECT("'"&$H$5&"'!F550")))
A31: =VLOOKUP($H$4,Verzamelblad!$A$5:$EK$54,68,0) -> 0 | D31: =VLOOKUP($H$4,Verzamelblad!$A$5:$EK$54,69,0) -> 0 | E31: =VLOOKUP($H$4,Verzamelblad!$A$5:$DE$54,70) -> 0 | G31: =IF(IF(E31="","",SUM(E31*F31))=0,"",IF(E31="","",SUM(E31*F31))) | H31: =VLOOKUP($H$4,Verzamelblad!$A$5:$EK$54,71,0) -> 0 | I31: =IFERROR(IF(IF(H31="op afroep","",SUM(G31*H31))=0,"",IF(H31="op afroep","",SUM(G31*H31))),"") | K31: =IF(INDIRECT("'"&$H$5&"'!F551")="H","",IF(INDIRECT("'"&$H$5&"'!F551")="Vrije categorie","",INDIRECT("'"&$H$5&"'!F551")))
A32: =VLOOKUP($H$4,Verzamelblad!$A$5:$EK$54,72,0) -> 0 | D32: =VLOOKUP($H$4,Verzamelblad!$A$5:$EK$54,73,0) -> 0 | E32: =VLOOKUP($H$4,Verzamelblad!$A$5:$DE$54,74) -> 0 | G32: =IF(IF(E32="","",SUM(E32*F32))=0,"",IF(E32="","",SUM(E32*F32))) | H32: =VLOOKUP($H$4,Verzamelblad!$A$5:$EK$54,75,0) -> 0 | I32: =IFERROR(IF(IF(H32="op afroep","",SUM(G32*H32))=0,"",IF(H32="op afroep","",SUM(G32*H32))),"") | K32: =IF(INDIRECT("'"&$H$5&"'!F552")="H","",IF(INDIRECT("'"&$H$5&"'!F552")="Vrije categorie","",INDIRECT("'"&$H$5&"'!F552")))
A33: Totaal | I33: =IF(SUM(I22:I32)=0,"",SUM(I22:I32)) | K33: =IF(INDIRECT("'"&$H$5&"'!F553")="H","",IF(INDIRECT("'"&$H$5&"'!F553")="Vrije categorie","",INDIRECT("'"&$H$5&"'!F553")))
A35: Vloeronderhoud | E35: M² | F35: Prijs per m² | G35: Beurtprijs | H35: Beurten per jaar | I35: Prijs per jaar
A36: =VLOOKUP($H$4,Verzamelblad!$A$5:$EK$54,16,0) -> Recoaten | E36: =VLOOKUP($H$4,Verzamelblad!$A$5:$DE$54,105) -> 0 | G36: =E36*F36 -> 0 | H36: =VLOOKUP($H$4,Verzamelblad!$A$5:$DE$54,17) -> op afroep
A37: Topstrippen en topcoaten | E37: =VLOOKUP($H$4,Verzamelblad!$A$5:$DE$54,106) -> 0 | G37: =E37*F37 -> 0 | H37: =VLOOKUP($H$4,Verzamelblad!$A$5:$DE$54,19) -> 1 | I37: =G37*H37 -> 0
A39: =VLOOKUP($H$4,Verzamelblad!$A$5:$EK$54,20,0) -> Volsprayen | E39: =VLOOKUP($H$4,Verzamelblad!$A$5:$DE$54,107) -> 0 | G39: =E39*F39 -> 0 | H39: =VLOOKUP($H$4,Verzamelblad!$A$5:$DE$54,21) -> op afroep
A40: =VLOOKUP($H$4,Verzamelblad!$A$5:$EK$54,22,0) -> Tapijtreinigen | E40: =VLOOKUP($H$4,Verzamelblad!$A$5:$DE$54,108) -> 815.8 | G40: =E40*F40 -> 0 | H40: =VLOOKUP($H$4,Verzamelblad!$A$5:$DE$54,23) -> op afroep
A41: =VLOOKUP($H$4,Verzamelblad!$A$5:$EK$54,24,0) -> Schrobben | E41: =VLOOKUP($H$4,Verzamelblad!$A$5:$DE$54,109) -> 0 | G41: =E41*F41 -> 0 | H41: =VLOOKUP($H$4,Verzamelblad!$A$5:$DE$54,25) -> op afroep
A42: PU coating - transparant- behandeld linoleum | E42: =E36 -> 0 | G42: =E42*F42 -> 0 | H42: 0.2 | I42: =G42*H42 -> 0
A43: =VLOOKUP($H$4,Verzamelblad!$A$5:$EK$54,28,0) -> Reinigen inloopzones | E43: 4 | G43: =E43*F43 -> 0 | H43: op afroep
A44: =VLOOKUP($H$4,Verzamelblad!$A$5:$EK$54,30,0) -> 0 | E44: 0 | G44: =IF(IF(E44="","",SUM(E44*F44))=0,"",IF(E44="","",SUM(E44*F44))) | H44: =VLOOKUP($H$4,Verzamelblad!$A$5:$DE$54,31) -> 0 | I44: =IFERROR(IF(IF(H44="op afroep","",SUM(G44*H44))=0,"",IF(H44="op afroep","",SUM(G44*H44))),"")
A45: Totaal | I45: =IF(SUM(I36:I44)=0,"",SUM(I36:I44))
A47: Meer-/minderprijs | E47: M² | F47: Meer-/minderprijs per m2 | G47: Meer-/minderkosten per beurt
A48: PU coating - transparant - onbehandeld linoleum | E48: =E37 -> 0 | G48: =IF(IF(E48="","",SUM(E48*F48))=0,"",IF(E48="","",SUM(E48*F48)))
A49: PU coating - kleur | E49: =E42 -> 0 | G49: =IF(IF(E49="","",SUM(E49*F49))=0,"",IF(E49="","",SUM(E49*F49)))
A50: PU coating - spikkels | E50: =E49 -> 0 | G50: =IF(IF(E50="","",SUM(E50*F50))=0,"",IF(E50="","",SUM(E50*F50)))
A51: =VLOOKUP($H$4,Verzamelblad!$A$5:$EK$54,82,0) -> 0 | E51: =VLOOKUP($H$4,Verzamelblad!$A$5:$DE$54,102) -> 0 | G51: =IF(IF(E51="","",SUM(E51*F51))=0,"",IF(E51="","",SUM(E51*F51))) | H51: =VLOOKUP($H$4,Verzamelblad!$A$5:$EK$54,83,0) -> 0 | I51: =IFERROR(IF(IF(H51="op afroep","",SUM(G51*H51))=0,"",IF(H51="op afroep","",SUM(G51*H51))),"")
A52: =VLOOKUP($H$4,Verzamelblad!$A$5:$EK$54,84,0) -> 0 | E52: =VLOOKUP($H$4,Verzamelblad!$A$5:$DE$54,103) -> 0 | G52: =IF(IF(E52="","",SUM(E52*F52))=0,"",IF(E52="","",SUM(E52*F52))) | H52: =VLOOKUP($H$4,Verzamelblad!$A$5:$EK$54,85,0) -> 0 | I52: =IFERROR(IF(IF(H52="op afroep","",SUM(G52*H52))=0,"",IF(H52="op afroep","",SUM(G52*H52))),"")
A53: =VLOOKUP($H$4,Verzamelblad!$A$5:$EK$54,86,0) -> 0 | E53: =VLOOKUP($H$4,Verzamelblad!$A$5:$DE$54,104) -> 0 | G53: =IF(IF(E53="","",SUM(E53*F53))=0,"",IF(E53="","",SUM(E53*F53))) | H53: =VLOOKUP($H$4,Verzamelblad!$A$5:$EK$54,87,0) -> 0 | I53: =IFERROR(IF(IF(H53="op afroep","",SUM(G53*H53))=0,"",IF(H53="op afroep","",SUM(G53*H53))),"")
A54: =VLOOKUP($H$4,Verzamelblad!$A$5:$EK$54,88,0) -> 0 | G54: =IF(IF(E54="","",SUM(E54*F54))=0,"",IF(E54="","",SUM(E54*F54))) | H54: =VLOOKUP($H$4,Verzamelblad!$A$5:$EK$54,89,0) -> 0 | I54: =IFERROR(IF(IF(H54="op afroep","",SUM(G54*H54))=0,"",IF(H54="op afroep","",SUM(G54*H54))),"")
A55: =VLOOKUP($H$4,Verzamelblad!$A$5:$EK$54,90,0) -> 0 | E55: 0 | G55: =IF(IF(E55="","",SUM(E55*F55))=0,"",IF(E55="","",SUM(E55*F55))) | H55: =VLOOKUP($H$4,Verzamelblad!$A$5:$EK$54,91,0) -> 0 | I55: =IFERROR(IF(IF(H55="op afroep","",SUM(G55*H55))=0,"",IF(H55="op afroep","",SUM(G55*H55))),"")
A56: =VLOOKUP($H$4,Verzamelblad!$A$5:$EK$54,92,0) -> 0 | E56: 0 | G56: =IF(IF(E56="","",SUM(E56*F56))=0,"",IF(E56="","",SUM(E56*F56))) | H56: =VLOOKUP($H$4,Verzamelblad!$A$5:$EK$54,93,0) -> 0 | I56: =IFERROR(IF(IF(H56="op afroep","",SUM(G56*H56))=0,"",IF(H56="op afroep","",SUM(G56*H56))),"")
A57: =VLOOKUP($H$4,Verzamelblad!$A$5:$EK$54,94,0) -> 0 | E57: 0 | G57: =IF(IF(E57="","",SUM(E57*F57))=0,"",IF(E57="","",SUM(E57*F57))) | H57: =VLOOKUP($H$4,Verzamelblad!$A$5:$EK$54,95,0) -> 0 | I57: =IFERROR(IF(IF(H57="op afroep","",SUM(G57*H57))=0,"",IF(H57="op afroep","",SUM(G57*H57))),"")
A58: Totaal | I58: =IF(SUM(I48:I57)=0,"",SUM(I48:I57))
