Workbook
Name bestekcontract: [1]verzamelblad!$A$2
Name bestekcontract: [2]verzamelblad!$A$2
Name bestekcontract: Verzamelblad!$A$2
Name besteknr: [1]verzamelblad!$A$3
Name besteknr: [2]verzamelblad!$A$3
Name besteknr: Verzamelblad!$A$3
Name directtoezicht: [1]uurtariefopbouw!$D$26
Name directtoezicht: [2]uurtariefopbouw!$E$24
Name directtoezicht: Uurtariefopbouw!$E$24
Name offertetarief: [1]uurtariefopbouw!$E$37
Name offertetarief: [2]uurtariefopbouw!$F$35
Name offertetarief: Uurtariefopbouw!$F$35
Name opdrachtgever: [1]basisgegevens!$B$4
Name opdrachtgever: 'Algemene gegevens'!$H$5
Name opdrachtgever: #REF!
Name opdrachtnemer: [1]basisgegevens!$B$20
Name opdrachtnemer: 'Algemene gegevens'!$H$20
Name opdrachtnemer: #REF!
Name opdrachtnemerplaats: 'Algemene gegevens'!$B$18
Name opdrachtnemerplaats: #REF!
Name plaatsopdrnmr: 'Algemene gegevens'!$B$18
Name plaatsopdrnmr: #REF!
Name regietarief: [1]uurtariefopbouw!$G$37
Name regietarief: [2]uurtariefopbouw!$H$35
Name regietarief: Uurtariefopbouw!$H$35
Name spectarief: [1]uurtariefopbouw!$I$37
Name spectarief: [2]uurtariefopbouw!$J$35
Name spectarief: Uurtariefopbouw!$J$35

Sheet Verzamelblad
A1: 1 | B1: 2 | C1: 3 | D1: 4 | E1: 5 | F1: 6 | G1: 7 | H1: 8 | I1: 9 | J1: 10 | K1: 11 | L1: 12 | M1: 13 | N1: 14 | O1: 15 | P1: 16 | Q1: 17 | R1: 18 | S1: 19 | T1: 20 | U1: 21 | V1: 22 | W1: 23 | X1: 24 | Y1: 25 | Z1: 26 | AA1: 27 | AB1: 28 | AC1: 29 | AD1: 30 | AE1: 31 | AF1: 32 | AG1: 33 | AH1: 34 | AI1: 35 | AJ1: 36 | AK1: 37 | AL1: 38 | AM1: 39 | AN1: 40 | AO1: 41 | AP1: 42 | AQ1: 43 | AR1: 44 | AS1: 45 | AT1: 46 | AU1: 47 | AV1: 48 | AW1: 49 | AX1: 50 | AY1: 51 | AZ1: 52 | BA1: 53 | BB1: 54 | BC1: 55 | BD1: 56 | BE1: 57 | BF1: 58 | BG1: 59 | BH1: 60 | BI1: 61 | BJ1: 62 | BK1: 63 | BL1: 64 | BM1: 65 | BN1: 66 | BO1: 67 | BP1: 68 | BQ1: 69 | BR1: 70 | BS1: 71 | BT1: 72 | BU1: 73 | BV1: 74 | BW1: 75 | BX1: 76 | BY1: 77 | BZ1: 78 | CA1: 79 | CB1: 80 | CC1: 81 | CD1: 82 | CE1: 83 | CF1: 84 | CG1: 85 | CH1: 86 | CI1: 87 | CJ1: 88 | CK1: 89 | CL1: 90 | CM1: 91 | CN1: 92 | CO1: 93 | CP1: 94 | CQ1: 95 | CR1: 96 | CS1: 97 | CT1: 98 | CU1: 99 | CV1: 100 | CW1: 101 | CX1: 102 | CY1: 103 | CZ1: 104 | DA1: 105 | DB1: 106 | DC1: 107 | DD1: 108 | DE1: 109
A2: Bestek | C2: Ingangsdatum | D2: Soort inspectie | E2: Inspectie betaald door | F2: Aantal inspecties | G2: Prijs per m² | H2: Minimale prijs
CT3: C
B4: inv | C4: Naam object | D4: Adres | E4: Plaats | G4: M² prijs inspectie | I4: Inspectieprijs | J4: Aantal inspecties | K4: … | L4: … | M4: … | N4: Gewenste aanvangstijd | O4: … | P4: Soort vloeronderhoud | Q4: Frequentie | R4: Soort vloeronderhoud | S4: Frequentie | T4: Soort vloeronderhoud | U4: Frequentie | V4: Soort vloeronderhoud | W4: Frequentie | X4: Soort vloeronderhoud | Y4: Frequentie | Z4: Soort vloeronderhoud | AA4: Frequentie | AB4: Soort vloeronderhoud | AC4: Frequentie | AD4: Soort vloeronderhoud | AE4: Frequentie | AF4: Extra werk-zaamheden | AG4: Prijs per | AH4: Aantal | AI4: Beurten per jaar | AJ4: Extra werk-zaamheden | AK4: Prijs per | AL4: Aantal | AM4: Beurten per jaar | AN4: Extra werk-zaamheden | AO4: Prijs per | AP4: Aantal | AQ4: Beurten per jaar | AR4: Extra werk-zaamheden | AS4: Prijs per | AT4: Aantal | AU4: Beurten per jaar | AV4: Extra werk-zaamheden | AW4: Prijs per | AX4: Aantal | AY4: Beurten per jaar | AZ4: Extra werk-zaamheden | BA4: Prijs per | BB4: Aantal | BC4: Beurten per jaar | BD4: Extra werk-zaamheden | BE4: Prijs per | BF4: Aantal | BG4: Beurten per jaar | BH4: Extra werk-zaamheden | BI4: Prijs per | BJ4: Aantal | BK4: Beurten per jaar | BL4: Extra werk-zaamheden | BM4: Prijs per | BN4: Aantal | BO4: Beurten per jaar | BP4: Extra werk-zaamheden | BQ4: Prijs per | BR4: Aantal | BS4: Beurten per jaar | BT4: Extra werk-zaamheden | BU4: Prijs per | BV4: Aantal | BW4: Beurten per jaar | BX4: Glas-bewassing | BY4: Frequentie | BZ4: Glas-bewassing | CA4: Frequentie | CB4: Glas-bewassing | CC4: Frequentie | CD4: Glas-bewassing | CE4: Frequentie | CF4: Glas-bewassing | CG4: Frequentie | CH4: Glas-bewassing | CI4: Frequentie | CJ4: Glas-bewassing | CK4: Frequentie | CL4: Glas-bewassing | CM4: Frequentie | CN4: Glas-bewassing | CO4: Frequentie | CP4: Glas-bewassing | CQ4: Frequentie | CR4: Levering sanitaire voorzieningen | CS4: Aantal gebruikers per locatie | CT4: M² dieptereiniging | CU4: M² glasbewassing binnen | CV4: M² glasbewassing buiten | CW4: M² glasbewassing separatie | CX4: M² glasbewassing koepel | CY4: M² glasbewassing boeidelen | CZ4: M² glasbewassing Gevelbeplating | DA4: M² recoaten | DB4: M² topstrippen en topcoaten | DC4: M² volsprayen | DD4: M² tapijtreinigen | DE4: M² schrobben | DF4: m2 PU coating
A5: 1 | B5: =CONCATENATE(A5,"a") -> 1a | C5: Bestuursbureau | I5: =IFERROR(IF(SUM(G5*H5<IF($H$3="","",$H$3)),IF($H$3="","",$H$3),SUM(G5*H5)),"") | J5: =IF($F$3="","",$F$3) | P5: Recoaten | Q5: op afroep | R5: Topstrippen en topcoaten | S5: 1 | T5: Volsprayen | U5: op afroep | V5: Tapijtreinigen | W5: op afroep | X5: Schrobben | Y5: op afroep | Z5: PU coating | AA5: 1 | AB5: Reinigen inloopzones | AC5: op afroep | CV5: =INDIRECT("'" & B5 & "'!$K$540") -> 0 | CW5: =INDIRECT("'" & B5 & "'!$K$541") -> 0 | CX5: =INDIRECT("'" & B5 & "'!$K$542") -> 0 | CY5: =INDIRECT("'" & B5 & "'!$K$543") -> 0 | CZ5: =INDIRECT("'" & B5 & "'!$K$544") -> 0 | DA5: =INDIRECT("'" & B5 & "'!$G$515") -> 0 | DB5: =DA5 -> 0 | DC5: =DA5 -> 0 | DD5: =INDIRECT("'" & B5 & "'!$F$515") -> 815.8 | DE5: ='1a'!J40+'1a'!J59 -> 0 | DF5: =DA5 -> 0
A6: 2 | B6: =CONCATENATE(A6,"a") -> 2a | C6: sws Adeborg | I6: =IFERROR(IF(SUM(G6*H6<IF($H$3="","",$H$3)),IF($H$3="","",$H$3),SUM(G6*H6)),"") | J6: =IF($F$3="","",$F$3) | P6: Recoaten | Q6: op afroep | R6: Topstrippen en topcoaten | S6: 1 | T6: Volsprayen | U6: op afroep | V6: Tapijtreinigen | W6: op afroep | X6: Schrobben | Y6: op afroep | Z6: PU coating | AA6: 1 | AB6: Reinigen inloopzones | AC6: op afroep | CV6: =INDIRECT("'" & B6 & "'!$K$540") -> 0 | CW6: =INDIRECT("'" & B6 & "'!$K$541") -> 0 | CX6: =INDIRECT("'" & B6 & "'!$K$542") -> 0 | CY6: =INDIRECT("'" & B6 & "'!$K$543") -> 0 | CZ6: =INDIRECT("'" & B6 & "'!$K$544") -> 0 | DA6: =INDIRECT("'" & B6 & "'!$G$516") -> 770.2 | DB6: =DA6 -> 770.2 | DC6: =DA6 -> 770.2 | DD6: =INDIRECT("'" & B6 & "'!$F$515") -> 0 | DE6: ='2a'!J105 -> 0 | DF6: =DA6 -> 770.2
A7: 3 | B7: =CONCATENATE(A7,"a") -> 3a | C7: CBS De Borgstee | I7: =IFERROR(IF(SUM(G7*H7<IF($H$3="","",$H$3)),IF($H$3="","",$H$3),SUM(G7*H7)),"") | J7: =IF($F$3="","",$F$3) | P7: Recoaten | Q7: op afroep | R7: Topstrippen en topcoaten | S7: 1 | T7: Volsprayen | U7: op afroep | V7: Tapijtreinigen | W7: op afroep | X7: Schrobben | Y7: op afroep | Z7: PU coating | AA7: 1 | AB7: Reinigen inloopzones | AC7: op afroep | CV7: =INDIRECT("'" & B7 & "'!$K$540") -> 0 | CW7: =INDIRECT("'" & B7 & "'!$K$541") -> 0 | CX7: =INDIRECT("'" & B7 & "'!$K$542") -> 0 | CY7: =INDIRECT("'" & B7 & "'!$K$543") -> 0 | CZ7: =INDIRECT("'" & B7 & "'!$K$544") -> 0 | DA7: =INDIRECT("'" & B7 & "'!$G$515") -> 1072.5 | DB7: =DA7 -> 1072.5 | DC7: =DA7 -> 1072.5 | DD7: =INDIRECT("'" & B7 & "'!$F$515") -> 106 | DE7: ='3a'!J39+'3a'!J71 -> 0 | DF7: =DA7 -> 1072.5
A8: 4 | B8: =CONCATENATE(A8,"a") -> 4a | C8: CBS De Bron (sluiting 15 juli) | I8: =IFERROR(IF(SUM(G8*H8<IF($H$3="","",$H$3)),IF($H$3="","",$H$3),SUM(G8*H8)),"") | J8: =IF($F$3="","",$F$3) | P8: Recoaten | Q8: op afroep | R8: Topstrippen en topcoaten | T8: Volsprayen | U8: op afroep | V8: Tapijtreinigen | W8: op afroep | X8: Schrobben | Y8: op afroep | Z8: PU coating | AA8: 1 | AB8: Reinigen inloopzones | AC8: op afroep | CV8: =INDIRECT("'" & B8 & "'!$K$540") -> #REF! | CW8: =INDIRECT("'" & B8 & "'!$K$541") -> #REF! | CX8: =INDIRECT("'" & B8 & "'!$K$542") -> #REF! | CY8: =INDIRECT("'" & B8 & "'!$K$543") -> #REF! | CZ8: =INDIRECT("'" & B8 & "'!$K$544") -> #REF! | DA8: =INDIRECT("'" & B8 & "'!$G$515") -> #REF! | DB8: =DA8 -> #REF! | DC8: =DA8 -> #REF! | DD8: =INDIRECT("'" & B8 & "'!$F$515") -> #REF! | DE8: =#REF! -> #REF! | DF8: =DA8 -> #REF!
A9: 5 | B9: =CONCATENATE(A9,"a") -> 5a | C9: CBS De Hoeksteen | I9: =IFERROR(IF(SUM(G9*H9<IF($H$3="","",$H$3)),IF($H$3="","",$H$3),SUM(G9*H9)),"") | J9: =IF($F$3="","",$F$3) | P9: Recoaten | Q9: op afroep | R9: Topstrippen en topcoaten | S9: 1 | T9: Volsprayen | U9: op afroep | V9: Tapijtreinigen | W9: op afroep | X9: Schrobben | Y9: op afroep | Z9: PU coating | AA9: 1 | AB9: Reinigen inloopzones | AC9: op afroep | CV9: =INDIRECT("'" & B9 & "'!$K$540") -> 0 | CW9: =INDIRECT("'" & B9 & "'!$K$541") -> 0 | CX9: =INDIRECT("'" & B9 & "'!$K$542") -> 0 | CY9: =INDIRECT("'" & B9 & "'!$K$543") -> 0 | CZ9: =INDIRECT("'" & B9 & "'!$K$544") -> 0 | DA9: =INDIRECT("'" & B9 & "'!$G$515") -> 1185.9 | DB9: =DA9 -> 1185.9 | DC9: =DA9 -> 1185.9 | DD9: =INDIRECT("'" & B9 & "'!$F$515") -> 150.1 | DE9: ='5a'!J65 -> 0 | DF9: =DA9 -> 1185.9
A10: 6 | B10: =CONCATENATE(A10,"a") -> 6a | C10: CBS De Regenboog Tolbert | I10: =IFERROR(IF(SUM(G10*H10<IF($H$3="","",$H$3)),IF($H$3="","",$H$3),SUM(G10*H10)),"") | J10: =IF($F$3="","",$F$3) | P10: Recoaten | Q10: op afroep | R10: Topstrippen en topcoaten | S10: 1 | T10: Volsprayen | U10: op afroep | V10: Tapijtreinigen | W10: op afroep | X10: Schrobben | Y10: op afroep | Z10: PU coating | AA10: 1 | AB10: Reinigen inloopzones | AC10: op afroep | CV10: =INDIRECT("'" & B10 & "'!$K$540") -> 0 | CW10: =INDIRECT("'" & B10 & "'!$K$541") -> 0 | CX10: =INDIRECT("'" & B10 & "'!$K$542") -> 0 | CY10: =INDIRECT("'" & B10 & "'!$K$543") -> 0 | CZ10: =INDIRECT("'" & B10 & "'!$K$544") -> 0 | DA10: =INDIRECT("'" & B10 & "'!$G$515") -> 727.3 | DB10: =DA10 -> 727.3 | DC10: =DA10 -> 727.3 | DD10: =INDIRECT("'" & B10 & "'!$F$515") -> 85.5 | DE10: ='6a'!J38+'6a'!J71 -> 0 | DF10: =DA10 -> 727.3
A11: 7 | B11: =CONCATENATE(A11,"a") -> 7a | C11: CBS De Rietstek | I11: =IFERROR(IF(SUM(G11*H11<IF($H$3="","",$H$3)),IF($H$3="","",$H$3),SUM(G11*H11)),"") | J11: =IF($F$3="","",$F$3) | P11: Recoaten | Q11: op afroep | R11: Topstrippen en topcoaten | S11: 1 | T11: Volsprayen | U11: op afroep | V11: Tapijtreinigen | W11: op afroep | X11: Schrobben | Y11: op afroep | Z11: PU coating | AA11: 1 | AB11: Reinigen inloopzones | AC11: op afroep | CV11: =INDIRECT("'" & B11 & "'!$K$540") -> 0 | CW11: =INDIRECT("'" & B11 & "'!$K$541") -> 0 | CX11: =INDIRECT("'" & B11 & "'!$K$542") -> 0 | CY11: =INDIRECT("'" & B11 & "'!$K$543") -> 0 | CZ11: =INDIRECT("'" & B11 & "'!$K$544") -> 0 | DA11: =INDIRECT("'" & B11 & "'!$G$515") -> 270.6 | DB11: =DA11 -> 270.6 | DC11: =DA11 -> 270.6 | DD11: =INDIRECT("'" & B11 & "'!$F$515") -> 87 | DE11: ='7a'!J37+'7a'!J60+'7a'!J64 -> 0 | DF11: =DA11 -> 270.6
A12: 8 | B12: =CONCATENATE(A12,"a") -> 8a | C12: CBS De Steltloper (voorheen de Wegwijzer) | I12: =IFERROR(IF(SUM(G12*H12<IF($H$3="","",$H$3)),IF($H$3="","",$H$3),SUM(G12*H12)),"") | J12: =IF($F$3="","",$F$3) | P12: Recoaten | Q12: op afroep | R12: Topstrippen en topcoaten | S12: 1 | T12: Volsprayen | U12: op afroep | V12: Tapijtreinigen | W12: op afroep | X12: Schrobben | Y12: op afroep | Z12: PU coating | AA12: 1 | AB12: Reinigen inloopzones | AC12: op afroep | CV12: =INDIRECT("'" & B12 & "'!$K$540") -> 0 | CW12: =INDIRECT("'" & B12 & "'!$K$541") -> 0 | CX12: =INDIRECT("'" & B12 & "'!$K$542") -> 0 | CY12: =INDIRECT("'" & B12 & "'!$K$543") -> 0 | CZ12: =INDIRECT("'" & B12 & "'!$K$544") -> 0 | DA12: =INDIRECT("'" & B12 & "'!$G$515") -> 697.82518 | DB12: =DA12 -> 697.82518 | DC12: =DA12 -> 697.82518 | DD12: =INDIRECT("'" & B12 & "'!$F$515") -> 248.4 | DE12: ='8a'!J82+'8a'!J106 -> 0 | DF12: =DA12 -> 697.82518
A13: 9 | B13: =CONCATENATE(A13,"a") -> 9a | C13: CBS De Windroos | I13: =IFERROR(IF(SUM(G13*H13<IF($H$3="","",$H$3)),IF($H$3="","",$H$3),SUM(G13*H13)),"") | J13: =IF($F$3="","",$F$3) | P13: Recoaten | Q13: op afroep | R13: Topstrippen en topcoaten | S13: 1 | T13: Volsprayen | U13: op afroep | V13: Tapijtreinigen | W13: op afroep | X13: Schrobben | Y13: op afroep | Z13: PU coating | AA13: 1 | AB13: Reinigen inloopzones | AC13: op afroep | CV13: =INDIRECT("'" & B13 & "'!$K$540") -> 0 | CW13: =INDIRECT("'" & B13 & "'!$K$541") -> 0 | CX13: =INDIRECT("'" & B13 & "'!$K$542") -> 0 | CY13: =INDIRECT("'" & B13 & "'!$K$543") -> 0 | CZ13: =INDIRECT("'" & B13 & "'!$K$544") -> 0 | DA13: =INDIRECT("'" & B13 & "'!$G$516") -> 315.5 | DB13: =DA13 -> 315.5 | DC13: =DA13 -> 315.5 | DD13: =INDIRECT("'" & B13 & "'!$F$515") -> 0 | DE13: ='9a'!J55 -> 0 | DF13: =DA13 -> 315.5
A14: 10 | B14: =CONCATENATE(A14,"a") -> 10a | C14: CBS De Humstee | I14: =IFERROR(IF(SUM(G14*H14<IF($H$3="","",$H$3)),IF($H$3="","",$H$3),SUM(G14*H14)),"") | J14: =IF($F$3="","",$F$3) | P14: Recoaten | Q14: op afroep | R14: Topstrippen en topcoaten | S14: 1 | T14: Volsprayen | U14: op afroep | V14: Tapijtreinigen | W14: op afroep | X14: Schrobben | Y14: op afroep | Z14: PU coating | AA14: 1 | AB14: Reinigen inloopzones | AC14: op afroep | CV14: =INDIRECT("'" & B14 & "'!$K$540") -> 0 | CW14: =INDIRECT("'" & B14 & "'!$K$541") -> 0 | CX14: =INDIRECT("'" & B14 & "'!$K$542") -> 0 | CY14: =INDIRECT("'" & B14 & "'!$K$543") -> 0 | CZ14: =INDIRECT("'" & B14 & "'!$K$544") -> 0 | DA14: =INDIRECT("'" & B14 & "'!$G$516") -> 422.5 | DB14: =DA14 -> 422.5 | DC14: =DA14 -> 422.5 | DD14: =INDIRECT("'" & B14 & "'!$F$515") -> 0 | DE14: ='10a'!J35 -> 163.9 | DF14: =DA14 -> 422.5
A15: 11 | B15: =CONCATENATE(A15,"a") -> 11a | C15: CBS Jan Kuipers | I15: =IFERROR(IF(SUM(G15*H15<IF($H$3="","",$H$3)),IF($H$3="","",$H$3),SUM(G15*H15)),"") | J15: =IF($F$3="","",$F$3) | P15: Recoaten | Q15: op afroep | R15: Topstrippen en topcoaten | S15: 1 | T15: Volsprayen | U15: op afroep | V15: Tapijtreinigen | W15: op afroep | X15: Schrobben | Y15: op afroep | Z15: PU coating | AA15: 1 | AB15: Reinigen inloopzones | AC15: op afroep | CV15: =INDIRECT("'" & B15 & "'!$K$540") -> 0 | CW15: =INDIRECT("'" & B15 & "'!$K$541") -> 0 | CX15: =INDIRECT("'" & B15 & "'!$K$542") -> 0 | CY15: =INDIRECT("'" & B15 & "'!$K$543") -> 0 | CZ15: =INDIRECT("'" & B15 & "'!$K$544") -> 0 | DA15: =INDIRECT("'" & B15 & "'!$G$515") -> 410.4 | DB15: =DA15 -> 410.4 | DC15: =DA15 -> 410.4 | DD15: =INDIRECT("'" & B15 & "'!$F$515") -> 248.6 | DE15: ='11a'!J40+'11a'!J25 -> 0 | DF15: =DA15 -> 410.4
A16: 12 | B16: =CONCATENATE(A16,"a") -> 12a | C16: SWS de Groene Borg | I16: =IFERROR(IF(SUM(G16*H16<IF($H$3="","",$H$3)),IF($H$3="","",$H$3),SUM(G16*H16)),"") | J16: =IF($F$3="","",$F$3) | P16: Recoaten | Q16: op afroep | R16: Topstrippen en topcoaten | S16: 1 | T16: Volsprayen | U16: op afroep | V16: Tapijtreinigen | W16: op afroep | X16: Schrobben | Y16: op afroep | Z16: PU coating | AA16: 1 | AB16: Reinigen inloopzones | AC16: op afroep | CV16: =INDIRECT("'" & B16 & "'!$K$540") -> 0 | CW16: =INDIRECT("'" & B16 & "'!$K$541") -> 0 | CX16: =INDIRECT("'" & B16 & "'!$K$542") -> 0 | CY16: =INDIRECT("'" & B16 & "'!$K$543") -> 0 | CZ16: =INDIRECT("'" & B16 & "'!$K$544") -> 0 | DA16: =INDIRECT("'" & B16 & "'!$G$516") -> 527.8 | DB16: =DA16 -> 527.8 | DC16: =DA16 -> 527.8 | DD16: =INDIRECT("'" & B16 & "'!$F$515") -> 0 | DE16: ='12a'!J98 -> 0 | DF16: =DA16 -> 527.8
A17: 13 | B17: =CONCATENATE(A17,"a") -> 13a | C17: CBS Remmelt Booy | I17: =IFERROR(IF(SUM(G17*H17<IF($H$3="","",$H$3)),IF($H$3="","",$H$3),SUM(G17*H17)),"") | J17: =IF($F$3="","",$F$3) | P17: Recoaten | Q17: op afroep | R17: Topstrippen en topcoaten | S17: 1 | T17: Volsprayen | U17: op afroep | V17: Tapijtreinigen | W17: op afroep | X17: Schrobben | Y17: op afroep | Z17: PU coating | AA17: 1 | AB17: Reinigen inloopzones | AC17: op afroep | CV17: =INDIRECT("'" & B17 & "'!$K$540") -> 0 | CW17: =INDIRECT("'" & B17 & "'!$K$541") -> 0 | CX17: =INDIRECT("'" & B17 & "'!$K$542") -> 0 | CY17: =INDIRECT("'" & B17 & "'!$K$543") -> 0 | CZ17: =INDIRECT("'" & B17 & "'!$K$544") -> 0 | DA17: =INDIRECT("'" & B17 & "'!$G$515") -> 97.4 | DB17: =DA17 -> 97.4 | DC17: =DA17 -> 97.4 | DD17: =INDIRECT("'" & B17 & "'!$F$515") -> 573.7 | DE17: ='13a'!J63+'13a'!J40 -> 0 | DF17: =DA17 -> 97.4
A18: 14 | B18: =CONCATENATE(A18,"a") -> 14a | C18: CBS 't Fundament Lutjegast | I18: =IFERROR(IF(SUM(G18*H18<IF($H$3="","",$H$3)),IF($H$3="","",$H$3),SUM(G18*H18)),"") | J18: =IF($F$3="","",$F$3) | P18: Recoaten | Q18: op afroep | R18: Topstrippen en topcoaten | S18: 1 | T18: Volsprayen | U18: op afroep | V18: Tapijtreinigen | W18: op afroep | X18: Schrobben | Y18: op afroep | Z18: PU coating | AA18: 1 | AB18: Reinigen inloopzones | AC18: op afroep | CV18: =INDIRECT("'" & B18 & "'!$K$540") -> 0 | CW18: =INDIRECT("'" & B18 & "'!$K$541") -> 0 | CX18: =INDIRECT("'" & B18 & "'!$K$542") -> 0 | CY18: =INDIRECT("'" & B18 & "'!$K$543") -> 0 | CZ18: =INDIRECT("'" & B18 & "'!$K$544") -> 0 | DA18: =INDIRECT("'" & B18 & "'!$G$515") -> 446.3 | DB18: =DA18 -> 446.3 | DC18: =DA18 -> 446.3 | DD18: =INDIRECT("'" & B18 & "'!$F$515") -> 192.6 | DE18: ='14a'!J56+'14a'!J35 -> 0 | DF18: =DA18 -> 446.3
A19: 15 | B19: =CONCATENATE(A19,"a") -> 15a | C19: CBS Rehoboth | I19: =IFERROR(IF(SUM(G19*H19<IF($H$3="","",$H$3)),IF($H$3="","",$H$3),SUM(G19*H19)),"") | J19: =IF($F$3="","",$F$3) | P19: Recoaten | Q19: op afroep | R19: Topstrippen en topcoaten | S19: 1 | T19: Volsprayen | U19: op afroep | V19: Tapijtreinigen | W19: op afroep | X19: Schrobben | Y19: op afroep | Z19: PU coating | AA19: 1 | AB19: Reinigen inloopzones | AC19: op afroep | CV19: =INDIRECT("'" & B19 & "'!$K$540") -> 0 | CW19: =INDIRECT("'" & B19 & "'!$K$541") -> 0 | CX19: =INDIRECT("'" & B19 & "'!$K$542") -> 0 | CY19: =INDIRECT("'" & B19 & "'!$K$543") -> 0 | CZ19: =INDIRECT("'" & B19 & "'!$K$544") -> 0 | DA19: =INDIRECT("'" & B19 & "'!$G$516") -> 0 | DB19: =DA19 -> 0 | DC19: =DA19 -> 0 | DD19: =INDIRECT("'" & B19 & "'!$F$515") -> 0 | DE19: ='15a'!J37 -> 0 | DF19: =DA19 -> 0
A20: 16 | B20: =CONCATENATE(A20,"a") -> 16a | C20: Sws de Vlieger | I20: =IFERROR(IF(SUM(G20*H20<IF($H$3="","",$H$3)),IF($H$3="","",$H$3),SUM(G20*H20)),"") | J20: =IF($F$3="","",$F$3) | P20: Recoaten | Q20: op afroep | R20: Topstrippen en topcoaten | S20: 1 | T20: Volsprayen | U20: op afroep | V20: Tapijtreinigen | W20: op afroep | X20: Schrobben | Y20: op afroep | Z20: PU coating | AA20: 1 | AB20: Reinigen inloopzones | AC20: op afroep | CV20: =INDIRECT("'" & B20 & "'!$K$540") -> 0 | CW20: =INDIRECT("'" & B20 & "'!$K$541") -> 0 | CX20: =INDIRECT("'" & B20 & "'!$K$542") -> 0 | CY20: =INDIRECT("'" & B20 & "'!$K$543") -> 0 | CZ20: =INDIRECT("'" & B20 & "'!$K$544") -> 0 | DA20: =INDIRECT("'" & B20 & "'!$G$515") -> 327.6 | DB20: =DA20 -> 327.6 | DC20: =DA20 -> 327.6 | DD20: =INDIRECT("'" & B20 & "'!$F$515") -> 72.7 | DE20: ='16a'!J64 -> 0 | DF20: =DA20 -> 327.6
A21: 17 | B21: =CONCATENATE(A21,"a") -> 17a | C21: Samenwerkingsschool de Stapsteen | I21: =IFERROR(IF(SUM(G21*H21<IF($H$3="","",$H$3)),IF($H$3="","",$H$3),SUM(G21*H21)),"") | J21: =IF($F$3="","",$F$3) | P21: Recoaten | Q21: op afroep | R21: Topstrippen en topcoaten | S21: 1 | T21: Volsprayen | U21: op afroep | V21: Tapijtreinigen | W21: op afroep | X21: Schrobben | Y21: op afroep | Z21: PU coating | AA21: 1 | AB21: Reinigen inloopzones | AC21: op afroep | CV21: =INDIRECT("'" & B21 & "'!$K$540") -> 0 | CW21: =INDIRECT("'" & B21 & "'!$K$541") -> 0 | CX21: =INDIRECT("'" & B21 & "'!$K$542") -> 0 | CY21: =INDIRECT("'" & B21 & "'!$K$543") -> 0 | CZ21: =INDIRECT("'" & B21 & "'!$K$544") -> 0 | DA21: =INDIRECT("'" & B21 & "'!$G$516") -> 417.3 | DB21: =DA21 -> 417.3 | DC21: =DA21 -> 417.3 | DD21: =INDIRECT("'" & B21 & "'!$F$515") -> 0 | DE21: ='16a'!J64+'16a'!J53 -> 0 | DF21: =DA21 -> 417.3
A22: 18 | B22: =CONCATENATE(A22,"a") -> 18a | I22: =IFERROR(IF(SUM(G22*H22<IF($H$3="","",$H$3)),IF($H$3="","",$H$3),SUM(G22*H22)),"") | J22: =IF($F$3="","",$F$3) | P22: Recoaten | Q22: op afroep | R22: Topstrippen en topcoaten | S22: 1 | T22: Volsprayen | U22: op afroep | V22: Tapijtreinigen | W22: op afroep | X22: Schrobben | Y22: op afroep | Z22: PU coating | AA22: 1 | AB22: Reinigen inloopzones | AC22: op afroep | CV22: =INDIRECT("'" & B22 & "'!$K$540") -> #REF! | CW22: =INDIRECT("'" & B22 & "'!$K$541") -> #REF! | CX22: =INDIRECT("'" & B22 & "'!$K$542") -> #REF! | CY22: =INDIRECT("'" & B22 & "'!$K$543") -> #REF! | CZ22: =INDIRECT("'" & B22 & "'!$K$544") -> #REF! | DA22: =INDIRECT("'" & B22 & "'!$G$515") -> #REF! | DB22: =DA22 -> #REF! | DC22: =DA22 -> #REF! | DD22: =INDIRECT("'" & B22 & "'!$F$515") -> #REF! | DE22: =#REF!+#REF! -> #REF! | DF22: =DA22 -> #REF!
A23: 19 | B23: =CONCATENATE(A23,"a") -> 19a | C23: sws De Klimboom | I23: =IFERROR(IF(SUM(G23*H23<IF($H$3="","",$H$3)),IF($H$3="","",$H$3),SUM(G23*H23)),"") | J23: =IF($F$3="","",$F$3) | P23: Recoaten | Q23: op afroep | R23: Topstrippen en topcoaten | S23: 1 | T23: Volsprayen | U23: op afroep | V23: Tapijtreinigen | W23: op afroep | X23: Schrobben | Y23: op afroep | Z23: PU coating | AA23: 1 | AB23: Reinigen inloopzones | AC23: op afroep | CV23: =INDIRECT("'" & B23 & "'!$K$540") -> 0 | CW23: =INDIRECT("'" & B23 & "'!$K$541") -> 0 | CX23: =INDIRECT("'" & B23 & "'!$K$542") -> 0 | CY23: =INDIRECT("'" & B23 & "'!$K$543") -> 0 | CZ23: =INDIRECT("'" & B23 & "'!$K$544") -> 0 | DA23: =INDIRECT("'" & B23 & "'!$G$516") -> 405.3 | DB23: =DA23 -> 405.3 | DC23: =DA23 -> 405.3 | DD23: =INDIRECT("'" & B23 & "'!$F$515") -> 0 | DE23: ='19a'!J35 -> 9.3 | DF23: =DA23 -> 405.3
A24: 20 | B24: =CONCATENATE(A24,"a") -> 20a | C24: IKC Marum (nieuw) | I24: =IFERROR(IF(SUM(G24*H24<IF($H$3="","",$H$3)),IF($H$3="","",$H$3),SUM(G24*H24)),"") | J24: =IF($F$3="","",$F$3) | P24: Recoaten | Q24: op afroep | R24: Topstrippen en topcoaten | S24: 1 | T24: Volsprayen | U24: op afroep | V24: Tapijtreinigen | W24: op afroep | X24: Schrobben | Y24: op afroep | Z24: PU coating | AA24: 1 | AB24: Reinigen inloopzones | AC24: op afroep | CV24: =INDIRECT("'" & B24 & "'!$K$540") -> 0 | CW24: =INDIRECT("'" & B24 & "'!$K$541") -> 0 | CX24: =INDIRECT("'" & B24 & "'!$K$542") -> 0 | CY24: =INDIRECT("'" & B24 & "'!$K$543") -> 0 | CZ24: =INDIRECT("'" & B24 & "'!$K$544") -> 0 | DA24: =INDIRECT("'" & B24 & "'!$G$515") -> 2915 | DB24: =DA24 -> 2915 | DC24: =DA24 -> 2915 | DD24: =INDIRECT("'" & B24 & "'!$F$515") -> 30 | DE24: ='20a'!J41 -> 0 | DF24: =DA24 -> 2915
A25: 21 | B25: =CONCATENATE(A25,"a") -> 21a | I25: =IFERROR(IF(SUM(G25*H25<IF($H$3="","",$H$3)),IF($H$3="","",$H$3),SUM(G25*H25)),"") | J25: =IF($F$3="","",$F$3) | P25: Recoaten | Q25: op afroep | R25: Topstrippen en topcoaten | S25: 1 | T25: Volsprayen | U25: op afroep | V25: Tapijtreinigen | W25: op afroep | X25: Schrobben | Y25: op afroep | Z25: PU coating | AA25: 1 | AB25: Reinigen inloopzones | AC25: op afroep | CU25: =INDIRECT("'" & B25 & "'!$K$539") -> #REF! | CV25: =INDIRECT("'" & B25 & "'!$K$540") -> #REF! | CW25: =INDIRECT("'" & B25 & "'!$K$541") -> #REF! | CX25: =INDIRECT("'" & B25 & "'!$K$542") -> #REF! | CY25: =INDIRECT("'" & B25 & "'!$K$543") -> #REF! | CZ25: =INDIRECT("'" & B25 & "'!$K$544") -> #REF! | DA25: =INDIRECT("'" & B25 & "'!$G$515") -> #REF! | DB25: =DA25 -> #REF! | DC25: =DA25 -> #REF! | DD25: =INDIRECT("'" & B25 & "'!$F$515") -> #REF! | DF25: =DA25 -> #REF!
A26: 22 | B26: =CONCATENATE(A26,"a") -> 22a | C26: OBS De Molenberg | I26: =IFERROR(IF(SUM(G26*H26<IF($H$3="","",$H$3)),IF($H$3="","",$H$3),SUM(G26*H26)),"") | J26: =IF($F$3="","",$F$3) | P26: Recoaten | Q26: op afroep | R26: Topstrippen en topcoaten | S26: 1 | T26: Volsprayen | U26: op afroep | V26: Tapijtreinigen | W26: op afroep | X26: Schrobben | Y26: op afroep | Z26: PU coating | AA26: 1 | AB26: Reinigen inloopzones | AC26: op afroep | CU26: =INDIRECT("'" & B26 & "'!$K$539") -> 0 | CV26: =INDIRECT("'" & B26 & "'!$K$540") -> 0 | CW26: =INDIRECT("'" & B26 & "'!$K$541") -> 0 | CX26: =INDIRECT("'" & B26 & "'!$K$542") -> 0 | CY26: =INDIRECT("'" & B26 & "'!$K$543") -> 0 | CZ26: =INDIRECT("'" & B26 & "'!$K$544") -> 0 | DA26: =INDIRECT("'" & B26 & "'!$G$515") -> 169.8 | DB26: =DA26 -> 169.8 | DC26: =DA26 -> 169.8 | DD26: =INDIRECT("'" & B26 & "'!$F$515") -> 515.8 | DE26: ='22a'!J37+'22a'!J71 -> 0 | DF26: =DA26 -> 169.8
A27: 23 | B27: =CONCATENATE(A27,"a") -> 23a | C27: OBS De Opstap | I27: =IFERROR(IF(SUM(G27*H27<IF($H$3="","",$H$3)),IF($H$3="","",$H$3),SUM(G27*H27)),"") | J27: =IF($F$3="","",$F$3) | P27: Recoaten | Q27: op afroep | R27: Topstrippen en topcoaten | S27: 1 | T27: Volsprayen | U27: op afroep | V27: Tapijtreinigen | W27: op afroep | X27: Schrobben | Y27: op afroep | Z27: PU coating | AA27: 1 | AB27: Reinigen inloopzones | AC27: op afroep | CU27: =INDIRECT("'" & B27 & "'!$K$539") -> 0 | CV27: =INDIRECT("'" & B27 & "'!$K$540") -> 0 | CW27: =INDIRECT("'" & B27 & "'!$K$541") -> 0 | CX27: =INDIRECT("'" & B27 & "'!$K$542") -> 0 | CY27: =INDIRECT("'" & B27 & "'!$K$543") -> 0 | CZ27: =INDIRECT("'" & B27 & "'!$K$544") -> 0 | DA27: =INDIRECT("'" & B27 & "'!$G$515") -> 581.7 | DB27: =DA27 -> 581.7 | DC27: =DA27 -> 581.7 | DD27: =INDIRECT("'" & B27 & "'!$F$515") -> 116.2 | DF27: =DA27 -> 581.7
A28: 24 | B28: =CONCATENATE(A28,"a") -> 24a | C28: OBS De Beelen | I28: =IFERROR(IF(SUM(G28*H28<IF($H$3="","",$H$3)),IF($H$3="","",$H$3),SUM(G28*H28)),"") | J28: =IF($F$3="","",$F$3) | P28: Recoaten | Q28: op afroep | R28: Topstrippen en topcoaten | S28: 1 | T28: Volsprayen | U28: op afroep | V28: Tapijtreinigen | W28: op afroep | X28: Schrobben | Y28: op afroep | Z28: PU coating | AA28: 1 | AB28: Reinigen inloopzones | AC28: op afroep | CT28: =SUMIF('24a'!$C$500:$C$514,"C",'24a'!$K$500:$K$514) -> 60.82 | CU28: =INDIRECT("'" & B28 & "'!$K$539") -> 0 | CV28: =INDIRECT("'" & B28 & "'!$K$540") -> 0 | CW28: =INDIRECT("'" & B28 & "'!$K$541") -> 0 | CX28: =INDIRECT("'" & B28 & "'!$K$542") -> 0 | CY28: =INDIRECT("'" & B28 & "'!$K$543") -> 0 | CZ28: =INDIRECT("'" & B28 & "'!$K$544") -> 0 | DA28: =INDIRECT("'" & B28 & "'!$G$515") -> 36.05 | DB28: =DA28 -> 36.05 | DC28: =DA28 -> 36.05 | DD28: =INDIRECT("'" & B28 & "'!$F$515") -> 856.13 | DF28: =DA28 -> 36.05
A29: 25 | B29: =CONCATENATE(A29,"a") -> 25a | C29: OBS De Hasselbraam en Van Panhuys | I29: =IFERROR(IF(SUM(G29*H29<IF($H$3="","",$H$3)),IF($H$3="","",$H$3),SUM(G29*H29)),"") | J29: =IF($F$3="","",$F$3) | P29: Recoaten | Q29: op afroep | R29: Topstrippen en topcoaten | S29: 1 | T29: Volsprayen | U29: op afroep | V29: Tapijtreinigen | W29: op afroep | X29: Schrobben | Y29: op afroep | Z29: PU coating | AA29: 1 | AB29: Reinigen inloopzones | AC29: op afroep | CT29: =SUMIF(#REF!,"C",#REF!) -> #REF! | CU29: =INDIRECT("'" & B29 & "'!$K$539") -> #REF! | CV29: =INDIRECT("'" & B29 & "'!$K$540") -> #REF! | CW29: =INDIRECT("'" & B29 & "'!$K$541") -> #REF! | CX29: =INDIRECT("'" & B29 & "'!$K$542") -> #REF! | CY29: =INDIRECT("'" & B29 & "'!$K$543") -> #REF! | CZ29: =INDIRECT("'" & B29 & "'!$K$544") -> #REF! | DA29: =INDIRECT("'" & B29 & "'!$G$515") -> #REF! | DB29: =DA29 -> #REF! | DC29: =DA29 -> #REF! | DD29: =INDIRECT("'" & B29 & "'!$F$515") -> #REF! | DF29: =DA29 -> #REF!
A30: 26 | B30: =CONCATENATE(A30,"a") -> 26a | C30: OBS De Nijenoert | I30: =IFERROR(IF(SUM(G30*H30<IF($H$3="","",$H$3)),IF($H$3="","",$H$3),SUM(G30*H30)),"") | J30: =IF($F$3="","",$F$3) | P30: Recoaten | Q30: op afroep | R30: Topstrippen en topcoaten | S30: 1 | T30: Volsprayen | U30: op afroep | V30: Tapijtreinigen | W30: op afroep | X30: Schrobben | Y30: op afroep | Z30: PU coating | AA30: 1 | AB30: Reinigen inloopzones | AC30: op afroep | CT30: =SUMIF('26a'!$C$500:$C$514,"C",'26a'!$K$500:$K$514) -> 31.86 | CU30: =INDIRECT("'" & B30 & "'!$K$539") -> 0 | CV30: =INDIRECT("'" & B30 & "'!$K$540") -> 0 | CW30: =INDIRECT("'" & B30 & "'!$K$541") -> 0 | CX30: =INDIRECT("'" & B30 & "'!$K$542") -> 0 | CY30: =INDIRECT("'" & B30 & "'!$K$543") -> 0 | CZ30: =INDIRECT("'" & B30 & "'!$K$544") -> 0 | DA30: =INDIRECT("'" & B30 & "'!$G$515") -> 641.64 | DB30: =DA30 -> 641.64 | DC30: =DA30 -> 641.64 | DD30: =INDIRECT("'" & B30 & "'!$F$515") -> 813.79 | DF30: =DA30 -> 641.64
A31: 27 | B31: =CONCATENATE(A31,"a") -> 27a | C31: OBS Zevenster | G31: =IF($G$3="","",$G$3) | H31: =INDIRECT("'" & B31 & "'!$K$515") -> 1100.33 | I31: =IFERROR(IF(SUM(G31*H31<IF($H$3="","",$H$3)),IF($H$3="","",$H$3),SUM(G31*H31)),"") | J31: =IF($F$3="","",$F$3) | P31: Recoaten | Q31: op afroep | R31: Topstrippen en topcoaten | S31: 1 | T31: Volsprayen | U31: op afroep | V31: Tapijtreinigen | W31: op afroep | X31: Schrobben | Y31: op afroep | Z31: PU coating | AA31: 1 | AB31: Reinigen inloopzones | AC31: op afroep | CT31: =SUMIF('27a'!$C$500:$C$514,"C",'27a'!$K$500:$K$514) -> 51.29 | CU31: =INDIRECT("'" & B31 & "'!$K$539") -> 0 | CV31: =INDIRECT("'" & B31 & "'!$K$540") -> 0 | CW31: =INDIRECT("'" & B31 & "'!$K$541") -> 0 | CX31: =INDIRECT("'" & B31 & "'!$K$542") -> 0 | CY31: =INDIRECT("'" & B31 & "'!$K$543") -> 0 | CZ31: =INDIRECT("'" & B31 & "'!$K$544") -> 0 | DA31: =INDIRECT("'" & B31 & "'!$G$515") -> 386.33 | DB31: =DA31 -> 386.33 | DC31: =DA31 -> 386.33 | DD31: =INDIRECT("'" & B31 & "'!$F$515") -> 551.65 | DF31: =DA31 -> 386.33
A32: 28 | B32: =CONCATENATE(A32,"a") -> 28a | C32: OBS De Nijenoert Gymzaal | G32: =IF($G$3="","",$G$3) | H32: =INDIRECT("'" & B32 & "'!$K$515") -> 646.26 | I32: =IFERROR(IF(SUM(G32*H32<IF($H$3="","",$H$3)),IF($H$3="","",$H$3),SUM(G32*H32)),"") | J32: =IF($F$3="","",$F$3) | P32: Recoaten | Q32: op afroep | R32: Topstrippen en topcoaten | S32: 1 | T32: Volsprayen | U32: op afroep | V32: Tapijtreinigen | W32: op afroep | X32: Schrobben | Y32: op afroep | Z32: PU coating | AA32: 1 | AB32: Reinigen inloopzones | AC32: op afroep | AF32: Dieptereiniging sanitair | AG32: m² | AH32: =CT32 -> 67.6 | CT32: =SUMIF('28a'!$C$500:$C$514,"C",'28a'!$K$500:$K$514) -> 67.6 | CU32: =INDIRECT("'" & B32 & "'!$K$539") -> 0 | CV32: =INDIRECT("'" & B32 & "'!$K$540") -> 0 | CW32: =INDIRECT("'" & B32 & "'!$K$541") -> 0 | CX32: =INDIRECT("'" & B32 & "'!$K$542") -> 0 | CY32: =INDIRECT("'" & B32 & "'!$K$543") -> 0 | CZ32: =INDIRECT("'" & B32 & "'!$K$544") -> 0 | DA32: =INDIRECT("'" & B32 & "'!$G$515") -> 125.02 | DB32: =DA32 -> 125.02 | DC32: =DA32 -> 125.02 | DD32: =INDIRECT("'" & B32 & "'!$F$515") -> 47.72 | DF32: =DA32 -> 125.02
A33: 29 | B33: =CONCATENATE(A33,"a") -> 29a | C33: IKC de Steltloper (Babbel) | G33: =IF($G$3="","",$G$3) | H33: =INDIRECT("'" & B33 & "'!$K$515") -> #REF! | I33: =IFERROR(IF(SUM(G33*H33<IF($H$3="","",$H$3)),IF($H$3="","",$H$3),SUM(G33*H33)),"") | J33: =IF($F$3="","",$F$3) | P33: Recoaten | Q33: op afroep | R33: Topstrippen en topcoaten | S33: 1 | T33: Volsprayen | U33: op afroep | V33: Tapijtreinigen | W33: op afroep | X33: Schrobben | Y33: op afroep | Z33: PU coating | AA33: 1 | AB33: Reinigen inloopzones | AC33: op afroep | AF33: Dieptereiniging sanitair | AG33: m² | AH33: =CT33 -> #REF! | CT33: =SUMIF(#REF!,"C",#REF!) -> #REF! | CU33: =INDIRECT("'" & B33 & "'!$K$539") -> #REF! | CV33: =INDIRECT("'" & B33 & "'!$K$540") -> #REF! | CW33: =INDIRECT("'" & B33 & "'!$K$541") -> #REF! | CX33: =INDIRECT("'" & B33 & "'!$K$542") -> #REF! | CY33: =INDIRECT("'" & B33 & "'!$K$543") -> #REF! | CZ33: =INDIRECT("'" & B33 & "'!$K$544") -> #REF! | DA33: =INDIRECT("'" & B33 & "'!$G$515") -> #REF! | DB33: =DA33 -> #REF! | DC33: =DA33 -> #REF! | DD33: =INDIRECT("'" & B33 & "'!$F$515") -> #REF! | DF33: =DA33 -> #REF!
A34: 30 | B34: =CONCATENATE(A34,"a") -> 30a | C34: OBS De Dorpel | G34: =IF($G$3="","",$G$3) | H34: =INDIRECT("'" & B34 & "'!$K$515") -> #REF! | I34: =IFERROR(IF(SUM(G34*H34<IF($H$3="","",$H$3)),IF($H$3="","",$H$3),SUM(G34*H34)),"") | J34: =IF($F$3="","",$F$3) | P34: Recoaten | Q34: op afroep | R34: Topstrippen en topcoaten | S34: 1 | T34: Volsprayen | U34: op afroep | V34: Tapijtreinigen | W34: op afroep | X34: Schrobben | Y34: op afroep | Z34: PU coating | AA34: 1 | AB34: Reinigen inloopzones | AC34: op afroep | AF34: Dieptereiniging sanitair | AG34: m² | AH34: =CT34 -> #REF! | CT34: =SUMIF(#REF!,"C",#REF!) -> #REF! | CU34: =INDIRECT("'" & B34 & "'!$K$539") -> #REF! | CV34: =INDIRECT("'" & B34 & "'!$K$540") -> #REF! | CW34: =INDIRECT("'" & B34 & "'!$K$541") -> #REF! | CX34: =INDIRECT("'" & B34 & "'!$K$542") -> #REF! | CY34: =INDIRECT("'" & B34 & "'!$K$543") -> #REF! | CZ34: =INDIRECT("'" & B34 & "'!$K$544") -> #REF! | DA34: =INDIRECT("'" & B34 & "'!$G$515") -> #REF! | DB34: =DA34 -> #REF! | DC34: =DA34 -> #REF! | DD34: =INDIRECT("'" & B34 & "'!$F$515") -> #REF! | DF34: =DA34 -> #REF!
A35: 31 | B35: =CONCATENATE(A35,"a") -> 31a | C35: OBS De Springplank (sluiting 15 juli) | G35: =IF($G$3="","",$G$3) | H35: =INDIRECT("'" & B35 & "'!$K$515") -> #REF! | I35: =IFERROR(IF(SUM(G35*H35<IF($H$3="","",$H$3)),IF($H$3="","",$H$3),SUM(G35*H35)),"") | J35: =IF($F$3="","",$F$3) | P35: Recoaten | Q35: op afroep | R35: Topstrippen en topcoaten | S35: 1 | T35: Volsprayen | U35: op afroep | V35: Tapijtreinigen | W35: op afroep | X35: Schrobben | Y35: op afroep | Z35: PU coating | AA35: 1 | AB35: Reinigen inloopzones | AC35: op afroep | AF35: Dieptereiniging sanitair | AG35: m² | AH35: =CT35 -> #REF! | CT35: =SUMIF(#REF!,"C",#REF!) -> #REF! | CU35: =INDIRECT("'" & B35 & "'!$K$539") -> #REF! | CV35: =INDIRECT("'" & B35 & "'!$K$540") -> #REF! | CW35: =INDIRECT("'" & B35 & "'!$K$541") -> #REF! | CX35: =INDIRECT("'" & B35 & "'!$K$542") -> #REF! | CY35: =INDIRECT("'" & B35 & "'!$K$543") -> #REF! | CZ35: =INDIRECT("'" & B35 & "'!$K$544") -> #REF! | DA35: =INDIRECT("'" & B35 & "'!$G$515") -> #REF! | DB35: =DA35 -> #REF! | DC35: =DA35 -> #REF! | DD35: =INDIRECT("'" & B35 & "'!$F$515") -> #REF! | DF35: =DA35 -> #REF!
A36: 32 | B36: =CONCATENATE(A36,"a") -> 32a | C36: OBS De Triangel | G36: =IF($G$3="","",$G$3) | H36: =INDIRECT("'" & B36 & "'!$K$515") -> 778.79 | I36: =IFERROR(IF(SUM(G36*H36<IF($H$3="","",$H$3)),IF($H$3="","",$H$3),SUM(G36*H36)),"") | J36: =IF($F$3="","",$F$3) | P36: Recoaten | Q36: op afroep | R36: Topstrippen en topcoaten | S36: 1 | T36: Volsprayen | U36: op afroep | V36: Tapijtreinigen | W36: op afroep | X36: Schrobben | Y36: op afroep | Z36: PU coating | AA36: 1 | AB36: Reinigen inloopzones | AC36: op afroep | AF36: Dieptereiniging sanitair | AG36: m² | AH36: =CT36 -> 28 | BX36: Gevelglas buitenzijde enkelvoudig gemeten | BZ36: Gevelglas binnenzijde enkelvoudig gemeten | CB36: Separatieglas dubbelvoudig gemeten | CD36: Koepelglas enkelvoudig gemeten | CF36: Boeidelen | CH36: Gevelbeplating | CT36: =SUMIF('32a'!$C$500:$C$514,"C",'32a'!$K$500:$K$514) -> 28 | CU36: =INDIRECT("'" & B36 & "'!$K$539") -> 0 | CV36: =INDIRECT("'" & B36 & "'!$K$540") -> 0 | CW36: =INDIRECT("'" & B36 & "'!$K$541") -> 0 | CX36: =INDIRECT("'" & B36 & "'!$K$542") -> 0 | CY36: =INDIRECT("'" & B36 & "'!$K$543") -> 0 | CZ36: =INDIRECT("'" & B36 & "'!$K$544") -> 0 | DA36: =INDIRECT("'" & B36 & "'!$G$515") -> 340.5 | DB36: =DA36 -> 340.5 | DC36: =DA36 -> 340.5 | DD36: =INDIRECT("'" & B36 & "'!$F$515") -> 78.59 | DF36: =DA36 -> 340.5
A37: 33 | B37: =CONCATENATE(A37,"a") -> 33a | C37: OBS De Nijenoert SKSG | G37: =IF($G$3="","",$G$3) | H37: =INDIRECT("'" & B37 & "'!$K$515") -> #REF! | I37: =IFERROR(IF(SUM(G37*H37<IF($H$3="","",$H$3)),IF($H$3="","",$H$3),SUM(G37*H37)),"") | J37: =IF($F$3="","",$F$3) | P37: Recoaten | Q37: op afroep | R37: Topstrippen en topcoaten | S37: 1 | T37: Volsprayen | U37: op afroep | V37: Tapijtreinigen | W37: op afroep | X37: Schrobben | Y37: op afroep | Z37: PU coating | AA37: 1 | AB37: Reinigen inloopzones | AC37: op afroep | AF37: Dieptereiniging sanitair | AG37: m² | AH37: =CT37 -> #REF! | BX37: Gevelglas buitenzijde enkelvoudig gemeten | BZ37: Gevelglas binnenzijde enkelvoudig gemeten | CB37: Separatieglas dubbelvoudig gemeten | CD37: Koepelglas enkelvoudig gemeten | CF37: Boeidelen | CH37: Gevelbeplating | CT37: =SUMIF(#REF!,"C",#REF!) -> #REF! | CU37: =INDIRECT("'" & B37 & "'!$K$539") -> #REF! | CV37: =INDIRECT("'" & B37 & "'!$K$540") -> #REF! | CW37: =INDIRECT("'" & B37 & "'!$K$541") -> #REF! | CX37: =INDIRECT("'" & B37 & "'!$K$542") -> #REF! | CY37: =INDIRECT("'" & B37 & "'!$K$543") -> #REF! | CZ37: =INDIRECT("'" & B37 & "'!$K$544") -> #REF! | DA37: =INDIRECT("'" & B37 & "'!$G$515") -> #REF! | DB37: =DA37 -> #REF! | DC37: =DA37 -> #REF! | DD37: =INDIRECT("'" & B37 & "'!$F$515") -> #REF! | DF37: =DA37 -> #REF!
A38: 34 | B38: =CONCATENATE(A38,"a") -> 34a | C38: CBS De Parel | G38: =IF($G$3="","",$G$3) | H38: =INDIRECT("'" & B38 & "'!$K$515") -> 1066.7 | I38: =IFERROR(IF(SUM(G38*H38<IF($H$3="","",$H$3)),IF($H$3="","",$H$3),SUM(G38*H38)),"") | J38: =IF($F$3="","",$F$3) | P38: Recoaten | Q38: op afroep | R38: Topstrippen en topcoaten | S38: 1 | T38: Volsprayen | U38: op afroep | V38: Tapijtreinigen | W38: op afroep | X38: Schrobben | Y38: op afroep | Z38: PU coating | AA38: 1 | AB38: Reinigen inloopzones | AC38: op afroep | AF38: Dieptereiniging sanitair | AG38: m² | AH38: =CT38 -> 36.7 | BX38: Gevelglas buitenzijde enkelvoudig gemeten | BZ38: Gevelglas binnenzijde enkelvoudig gemeten | CB38: Separatieglas dubbelvoudig gemeten | CD38: Koepelglas enkelvoudig gemeten | CF38: Boeidelen | CH38: Gevelbeplating | CT38: =SUMIF('34a'!$C$500:$C$514,"C",'34a'!$K$500:$K$514) -> 36.7 | CU38: =INDIRECT("'" & B38 & "'!$K$539") -> 0 | CV38: =INDIRECT("'" & B38 & "'!$K$540") -> 0 | CW38: =INDIRECT("'" & B38 & "'!$K$541") -> 0 | CX38: =INDIRECT("'" & B38 & "'!$K$542") -> 0 | CY38: =INDIRECT("'" & B38 & "'!$K$543") -> 0 | CZ38: =INDIRECT("'" & B38 & "'!$K$544") -> 0 | DA38: =INDIRECT("'" & B38 & "'!$G$515") -> 687.5 | DB38: =DA38 -> 687.5 | DC38: =DA38 -> 687.5 | DD38: =INDIRECT("'" & B38 & "'!$F$515") -> 252.3 | DF38: =DA38 -> 687.5
A39: 35 | B39: =CONCATENATE(A39,"a") -> 35a | C39: SLS de Verbinding | G39: =IF($G$3="","",$G$3) | H39: =INDIRECT("'" & B39 & "'!$K$515") -> 1435.6 | I39: =IFERROR(IF(SUM(G39*H39<IF($H$3="","",$H$3)),IF($H$3="","",$H$3),SUM(G39*H39)),"") | J39: =IF($F$3="","",$F$3) | P39: Recoaten | Q39: op afroep | R39: Topstrippen en topcoaten | S39: 1 | T39: Volsprayen | U39: op afroep | V39: Tapijtreinigen | W39: op afroep | X39: Schrobben | Y39: op afroep | Z39: PU coating | AA39: 1 | AB39: Reinigen inloopzones | AC39: op afroep | AF39: Dieptereiniging sanitair | AG39: m² | AH39: =CT39 -> 53.21 | BX39: Gevelglas buitenzijde enkelvoudig gemeten | BZ39: Gevelglas binnenzijde enkelvoudig gemeten | CB39: Separatieglas dubbelvoudig gemeten | CD39: Koepelglas enkelvoudig gemeten | CF39: Boeidelen | CH39: Gevelbeplating | CT39: =SUMIF('35a'!$C$500:$C$514,"C",'35a'!$K$500:$K$514) -> 53.21 | CU39: =INDIRECT("'" & B39 & "'!$K$539") -> 0 | CV39: =INDIRECT("'" & B39 & "'!$K$540") -> 0 | CW39: =INDIRECT("'" & B39 & "'!$K$541") -> 0 | CX39: =INDIRECT("'" & B39 & "'!$K$542") -> 0 | CY39: =INDIRECT("'" & B39 & "'!$K$543") -> 0 | CZ39: =INDIRECT("'" & B39 & "'!$K$544") -> 0 | DA39: =INDIRECT("'" & B39 & "'!$G$515") -> 1085.78 | DB39: =DA39 -> 1085.78 | DC39: =DA39 -> 1085.78 | DD39: =INDIRECT("'" & B39 & "'!$F$515") -> 152.63 | DF39: =DA39 -> 1085.78
A40: 36 | B40: =CONCATENATE(A40,"a") -> 36a | C40: Violier (Oostindie) School | G40: =IF($G$3="","",$G$3) | H40: =INDIRECT("'" & B40 & "'!$K$515") -> 2625.6 | I40: =IFERROR(IF(SUM(G40*H40<IF($H$3="","",$H$3)),IF($H$3="","",$H$3),SUM(G40*H40)),"") | J40: =IF($F$3="","",$F$3) | P40: Recoaten | Q40: op afroep | R40: Topstrippen en topcoaten | S40: 1 | T40: Volsprayen | U40: op afroep | V40: Tapijtreinigen | W40: op afroep | X40: Schrobben | Y40: op afroep | Z40: PU coating | AA40: 1 | AB40: Reinigen inloopzones | AC40: op afroep | AF40: Dieptereiniging sanitair | AG40: m² | AH40: =CT40 -> 77.2 | BX40: Gevelglas buitenzijde enkelvoudig gemeten | BZ40: Gevelglas binnenzijde enkelvoudig gemeten | CB40: Separatieglas dubbelvoudig gemeten | CD40: Koepelglas enkelvoudig gemeten | CF40: Boeidelen | CH40: Gevelbeplating | CT40: =SUMIF('36a'!$C$500:$C$514,"C",'36a'!$K$500:$K$514) -> 77.2 | CU40: =INDIRECT("'" & B40 & "'!$K$539") -> 0 | CV40: =INDIRECT("'" & B40 & "'!$K$540") -> 0 | CW40: =INDIRECT("'" & B40 & "'!$K$541") -> 0 | CX40: =INDIRECT("'" & B40 & "'!$K$542") -> 0 | CY40: =INDIRECT("'" & B40 & "'!$K$543") -> 0 | CZ40: =INDIRECT("'" & B40 & "'!$K$544") -> 0 | DA40: =INDIRECT("'" & B40 & "'!$G$515") -> 1939.5 | DB40: =DA40 -> 1939.5 | DC40: =DA40 -> 1939.5 | DD40: =INDIRECT("'" & B40 & "'!$F$515") -> 181.2 | DF40: =DA40 -> 1939.5
...

Sheet Algemene gegevens
A1: Basisgegevens
A3: Algemene gegevens
A5: Volledige naam onderneming (handelsnaam KvK) | H5: Stichting Quadraten
A6: Vestigingsplaats onderneming (KvK) | H6: Grootegast
A7: KvK-nummer | H7: KVK-02090846
A8: Tekenbevoegde voor contract
A9: Functie
A10: Tekenbevoegde supplementen
A11: Functie
A13: Contactpersoon offerte | H13: Leonieke Westra
A14: Telefoonnummer kantoor | H14: 085-2003991
A15: Postadres kantoor | H15: Pieter Sneeuwplein 12
A16: Postcode en plaats postadres | H16: 9641 KA Veendam
A17: Mobiel nummer contactpersoon offerte | H17: Via Tenderned
A18: E-mailadres contactpersoon offerte | H18: Via Tenderned
A20: Volledige naam schoonmaakbedrijf (Handelsnaam KvK)
A21: Vestigingsplaats schoonmaakbedrijf (KvK)
A22: KvK-nummer
A23: Tekenbevoegde schoonmaakbedrijf voor contract
A24: Functie
A25: Tekenbevoegde schoonmaakbedrijf voor supplementen
A26: Functie
A28: Contactpersoon offerte
A29: Telefoonnummer kantoor
A30: Postadres kantoor
A31: Postcode en plaats kantoor
A32: Mobiel nummer contactpersoon offerte
A33: E-mailadres contactpersoon offerte

Sheet Uurtariefopbouw
B1: Tariefblad
E4: Offertetarief | G4: Regietarief divers | I4: Specialistisch tarief (op afroep)
B5: Opbouw uurtarieven | E5: % | F5: € | G5: % | H5: € | I5: % | J5: €
B6: Basis Cao-uurloon
B7: Evt. toeslag
B8: Subtotaal basis | F8: =SUM(F6:F7) -> 0 | H8: =SUM(H6:H7) -> 0 | J8: =SUM(J6:J7) -> 0
B9: Cao | F9: =IF(E9="","",E9*$F$8) | H9: =IF(G9="","",SUM(G9*$H$8)) | J9: =IF(I9="","",SUM(I9*$J$8))
B10: Vakantiedagen | F10: =IF(E10="","",E10*$F$8) | H10: =IF(G10="","",SUM(G10*$H$8)) | J10: =IF(I10="","",SUM(I10*$J$8))
B11: Kosten ziektedagen | F11: =IF(E11="","",E11*$F$8) | H11: =IF(G11="","",SUM(G11*$H$8)) | J11: =IF(I11="","",SUM(I11*$J$8))
F12: =IF(E12="","",E12*$F$8) | H12: =IF(G12="","",SUM(G12*$H$8)) | J12: =IF(I12="","",SUM(I12*$J$8))
B13: Subtotaal | F13: =SUM(F8:F12) -> 0 | H13: =SUM(H8:H12) -> 0 | J13: =SUM(J8:J12) -> 0
B14: Vakantietoeslag | F14: =IF(E14="","",SUM(E14*$F$13)) | H14: =IF(G14="","",SUM(G14*$H$13)) | J14: =IF(I14="","",SUM(I14*$J$13))
F15: =IF(E15="","",SUM(E15*$F$13)) | H15: =IF(G15="","",SUM(G15*$H$13)) | J15: =IF(I15="","",SUM(I15*$J$13))
B16: Subtotaal | F16: =SUM(F13:F15) -> 0 | H16: =SUM(H13:H15) -> 0 | J16: =SUM(J13:J15) -> 0
B17: Sociale lasten | F17: =IF(E17="","",SUM(E17*$F$16)) | H17: =IF(G17="","",SUM(G17*$H$16)) | J17: =IF(I17="","",SUM(I17*$J$16))
F18: =IF(E18="","",SUM(E18*$F$16)) | H18: =IF(G18="","",SUM(G18*$H$16)) | J18: =IF(I18="","",SUM(I18*$J$16))
F19: =IF(E19="","",SUM(E19*$F$16)) | H19: =IF(G19="","",SUM(G19*$H$16)) | J19: =IF(I19="","",SUM(I19*$J$16))
B20: Totale loonkosten | F20: =SUM(F16:F19) -> 0 | H20: =SUM(H16:H19) -> 0 | J20: =SUM(J16:J19) -> 0
B21: Middelen en materialen | F21: =IF(E21="","",SUM(E21*$F$20)) | H21: =IF(G21="","",SUM(G21*$H$20)) | J21: =IF(I21="","",SUM(I21*$J$20))
B22: Werkkleding | F22: =IF(E22="","",SUM(E22*$F$20)) | H22: =IF(G22="","",SUM(G22*$H$20)) | J22: =IF(I22="","",SUM(I22*$J$20))
B23: Machinekosten | F23: =IF(E23="","",SUM(E23*$F$20)) | H23: =IF(G23="","",SUM(G23*$H$20)) | J23: =IF(I23="","",SUM(I23*$J$20))
B24: Direct toezicht | F24: =IF(E24="","",SUM(E24*$F$20)) | H24: =IF(G24="","",SUM(G24*$H$20)) | J24: =IF(I24="","",SUM(I24*$J$20))
B25: Diversen | F25: =IF(E25="","",SUM(E25*$F$20)) | H25: =IF(G25="","",SUM(G25*$H$20)) | J25: =IF(I25="","",SUM(I25*$J$20))
F26: =IF(E26="","",SUM(E26*$F$20)) | H26: =IF(G26="","",SUM(G26*$H$20)) | J26: =IF(I26="","",SUM(I26*$J$20))
B27: Totaal directe kosten | F27: =SUM(F20:F26) -> 0 | H27: =SUM(H20:H26) -> 0 | J27: =SUM(J20:J26) -> 0
B28: Indirect toezicht | F28: =IF(E28="","",SUM(E28*$F$27)) | H28: =IF(G28="","",SUM(G28*$H$27)) | J28: =IF(I28="","",SUM(I28*$J$27))
B29: Overhead | F29: =IF(E29="","",SUM(E29*$F$27)) | H29: =IF(G29="","",SUM(G29*$H$27)) | J29: =IF(I29="","",SUM(I29*$J$27))
B30: Kosten adviesbureau | F30: =IF(E30="","",SUM(E30*$F$27))
F31: =IF(E31="","",SUM(E31*$F$27)) | H31: =IF(G31="","",SUM(G31*$H$27)) | J31: =IF(I31="","",SUM(I31*$J$27))
B32: Subtotaal | F32: =SUM(F27:F31) -> 0 | H32: =SUM(H27:H31) -> 0 | J32: =SUM(J27:J31) -> 0
B33: Risico en Winst | F33: =IF(E33="","",SUM(E33*$F$32)) | H33: =IF(G33="","",SUM(G33*$H$32)) | J33: =IF(I33="","",SUM(I33*$J$32))
F34: =IF(E34="","",SUM(E34*$F$32)) | H34: =IF(G34="","",SUM(G34*$H$32)) | J34: =IF(I34="","",SUM(I34*$J$32))
B35: Totaal tarief | F35: =IF(SUM(F32:F34)=0,"",SUM(F32:F34)) | H35: =IF(SUM(H32:H34)=0,"",SUM(H32:H34)) | J35: =IF(SUM(J32:J34)=0,"",SUM(J32:J34))
B38: Regietarief diverse werkzaamheden
C39: MA | D39: DI | E39: WO | F39: DO | G39: VR | H39: ZA | I39: ZO | J39: FE
B40: 00:00 tot 06:00 | C40: =IFERROR(SUM($H$20*1.5)+($H$35-$H$20),"") | D40: =IFERROR(SUM($H$20*1.3)+($H$35-$H$20),"") | E40: =IFERROR(SUM($H$20*1.3)+($H$35-$H$20),"") | F40: =IFERROR(SUM($H$20*1.3)+($H$35-$H$20),"") | G40: =IFERROR(SUM($H$20*1.3)+($H$35-$H$20),"") | H40: =IFERROR(SUM($H$20*1.5)+($H$35-$H$20),"") | I40: =IFERROR(SUM($H$20*1.5)+($H$35-$H$20),"") | J40: =IFERROR(SUM($H$20*2.5)+($H$35-$H$20),"")
B41: 06:00 tot 21:30 | C41: =IFERROR(SUM($H$20*1)+($H$35-$H$20),"") | D41: =IFERROR(SUM($H$20*1)+($H$35-$H$20),"") | E41: =IFERROR(SUM($H$20*1)+($H$35-$H$20),"") | F41: =IFERROR(SUM($H$20*1)+($H$35-$H$20),"") | G41: =IFERROR(SUM($H$20*1)+($H$35-$H$20),"") | H41: =IFERROR(SUM($H$20*1.5)+($H$35-$H$20),"") | I41: =IFERROR(SUM($H$20*1.5)+($H$35-$H$20),"") | J41: =IFERROR(SUM($H$20*2.5)+($H$35-$H$20),"")
B42: 21:30 tot 24:00 | C42: =IFERROR(SUM($H$20*1.3)+($H$35-$H$20),"") | D42: =IFERROR(SUM($H$20*1.3)+($H$35-$H$20),"") | E42: =IFERROR(SUM($H$20*1.3)+($H$35-$H$20),"") | F42: =IFERROR(SUM($H$20*1.3)+($H$35-$H$20),"") | G42: =IFERROR(SUM($H$20*1.5)+($H$35-$H$20),"") | H42: =IFERROR(SUM($H$20*1.5)+($H$35-$H$20),"") | I42: =IFERROR(SUM($H$20*1.5)+($H$35-$H$20),"") | J42: =IFERROR(SUM($H$20*2.5)+($H$35-$H$20),"")
B44: Regietarief specialistische werkzaamheden
C45: MA | D45: DI | E45: WO | F45: DO | G45: VR | H45: ZA | I45: ZO | J45: FE
...

Sheet Totaalblad
B1: Totaalblad
DK2: prijs /m2
V3: Totalen overzicht | AA3: extra 1 | AB3: extra 1 | AC3: extra 2 | AE3: extra 3 | AG3: extra 4 | AI3: extra 5 | AK3: extra 6 | AM3: extra 7 | AO3: extra 8 | AQ3: extra 9 | AS3: extra 10 | AU3: extra 11 | AW3: vloer 1 | AY3: vloer 2 | BA3: vloer 3 | BC3: vloer 4 | BE3: vloer 5 | BG3: vloer 6 | BI3: vloer 7 | BK3: glas 1 | BM3: glas 2 | BO3: glas 3 | BQ3: glas 4 | BS3: glas 5 | BU3: glas 6 | BW3: glas 7 | BY3: glas 8 | CA3: glas 9 | CC3: glas 10 | DK3: netto meters
B4: Locatie | C4: Maandfactuur* | D4: Maandprijs | E4: Maandprijs x12 | F4: Kwartaalbeurt | G4: Kwartaalbeurt x3 | H4: Jaarbeurt | I4: Extra werk-zaamheden | J4: Vloer-onderhoud | K4: Glasbewassing | L4: Sanitaire voorzieningen | M4: Uren maand schoonmaak x12 | N4: Uren kwartaal beurt x3 | O4: Uren uitvoerende medewerkers per jaar | P4: Uren direct toezicht per jaar | Q4: Totaalprijs per jaar | T4: Maanduren x12 | U4: Kwartaalbeurt uren x3 | V4: Offerte tarief | W4: Regie tarief | X4: Specialistisch tarief | Y4: Tot uren per jaar | Z4: Gemiddelde m2 prestatie | AB4: prijs per eenheid | AD4: prijs per eenheid | AE4: 0 | AF4: prijs per eenheid | AG4: 0 | AH4: prijs per eenheid | AI4: 0 | AJ4: prijs per eenheid | AK4: 0 | AL4: prijs per eenheid | AM4: 0 | AN4: prijs per eenheid | AO4: 0 | AP4: prijs per eenheid | AQ4: 0 | AR4: prijs per eenheid | AS4: 0 | AT4: prijs per eenheid | AU4: 0 | AV4: prijs per eenheid | AW4: sprayen | AX4: prijs per eenheid | AY4: conserveren | AZ4: prijs per eenheid | BA4: tapijtreinigen | BB4: prijs per eenheid | BC4: 0 | BD4: prijs per eenheid | BE4: 0 | BF4: prijs per eenheid | BG4: 0 | BH4: prijs per eenheid | BI4: 0 | BJ4: prijs per eenheid | BL4: prijs per eenheid | BN4: prijs per eenheid | BP4: prijs per eenheid | BR4: prijs per eenheid | BS4: 0 | BT4: prijs per eenheid | BU4: 0 | BV4: prijs per eenheid | BW4: 0 | BX4: prijs per eenheid | BY4: 0 | BZ4: prijs per eenheid | CA4: 0 | CB4: prijs per eenheid | CC4: 0 | CD4: prijs per eenheid | CE4: Totaalprijs per jaar | CF4: Totaal m2 uitbesteden/dag | CG4: Totaal m2 uitbesteden jr | CH4: categorie 1 | CI4: prestatie | CJ4: categorie 2 | CL4: categorie 3 | CN4: categorie 4 | CP4: categorie 5 | CR4: categorie 6 | CT4: categorie 7 | CV4: categorie 8 | CX4: categorie 9 | CZ4: categorie 10 | DB4: categorie 11 | DD4: categorie 12 | DF4: categorie 13 | DH4: categorie 14 | DJ4: categorie 15 | DK4: totaalprijs
A5: 1 | B5: =INDIRECT("'" & A5 & "'!$B$4") -> Bestuursbureau | C5: =IF(INDIRECT("'" & A5 & "'!$I$78")=0,"",INDIRECT("'" & A5 & "'!$I$78")) | D5: =IF(INDIRECT("'" & A5 & "'!$F$11")=0,"",INDIRECT("'" & A5 & "'!$F$11")) | E5: =IF(INDIRECT("'" & A5 & "'!$I$11")=0,"",INDIRECT("'" & A5 & "'!$I$11")) | F5: =IF(INDIRECT("'" & A5 & "'!$F$12")=0,"",INDIRECT("'" & A5 & "'!$F$12")) | G5: =IF(INDIRECT("'" & A5 & "'!$I$12")=0,"",INDIRECT("'" & A5 & "'!$I$12")) | H5: =IF(INDIRECT("'" & A5 & "'!$F$13")=0,"",INDIRECT("'" & A5 & "'!$F$13")) | I5: =IF(INDIRECT("'" & A5 & "'!$I$33")=0,"",INDIRECT("'" & A5 & "'!$I$33")) | J5: ='1'!$I$77 | K5: =IF(INDIRECT("'" & A5 & "'!$I$57")=0,"",INDIRECT("'" & A5 & "'!$I$57")) | L5: =IF(INDIRECT("'" & A5 & "'!$I$66")=0,"",INDIRECT("'" & A5 & "'!$I$66")) | M5: =IFERROR(INDIRECT("'" & A5 & "'!$J$11"),"") | N5: =IFERROR(INDIRECT("'" & A5 & "'!$J$12"),"") | O5: =IFERROR(INDIRECT("'" & A5 & "'!$J$13"),"") | P5: =IFERROR(INDIRECT("'" & A5 & "'!$F$16"),"") | Q5: =J5 | T5: =M5 | U5: =N5 | V5: =offertetarief | W5: =regietarief | X5: =spectarief | Y5: =INDIRECT("'" & A5 & "'!$I$14") | Z5: =INDIRECT("'" & A5 & "'!$I$19") | AA5: =INDIRECT("'" & A5 & "'!$I$22") | AB5: =INDIRECT("'" & A5 & "'!$F$22") -> 0 | AC5: =INDIRECT("'" & A5 & "'!$I$23") | AD5: =INDIRECT("'" & A5 & "'!$F$23") -> 0 | AE5: =INDIRECT("'" & A5 & "'!$I$24") | AF5: =INDIRECT("'" & A5 & "'!$F$24") -> 0 | AG5: =INDIRECT("'" & A5 & "'!$I$25") | AH5: =INDIRECT("'" & A5 & "'!$F$25") -> 0 | AI5: =INDIRECT("'" & A5 & "'!$I$26") | AJ5: =INDIRECT("'" & A5 & "'!$F$26") -> 0 | AK5: =INDIRECT("'" & A5 & "'!$I$27") | AL5: =INDIRECT("'" & A5 & "'!$F$27") -> 0 | AM5: =INDIRECT("'" & A5 & "'!$I$28") | AN5: =INDIRECT("'" & A5 & "'!$F$28") -> 0 | AO5: =INDIRECT("'" & A5 & "'!$I$29") | AP5: =INDIRECT("'" & A5 & "'!$F$29") -> 0 | AQ5: =INDIRECT("'" & A5 & "'!$I$30") | AR5: =INDIRECT("'" & A5 & "'!$F$30") -> 0 | AS5: =INDIRECT("'" & A5 & "'!$I$31") | AT5: =INDIRECT("'" & A5 & "'!$F$31") -> 0 | AU5: =INDIRECT("'" & A5 & "'!$I$32") | AV5: =INDIRECT("'" & A5 & "'!$F$32") -> 0 | AW5: =INDIRECT("'" & A5 & "'!$I$36") -> 0 | AX5: =INDIRECT("'" & A5 & "'!$F$36") -> 0 | AY5: =INDIRECT("'" & A5 & "'!$I$37") -> 0 | AZ5: =INDIRECT("'" & A5 & "'!$F$37") -> 0 | BA5: =INDIRECT("'" & A5 & "'!$I$38") -> 0 | BB5: =INDIRECT("'" & A5 & "'!$F$38") -> 0 | BC5: =INDIRECT("'" & A5 & "'!$I$39") -> 0 | BD5: =INDIRECT("'" & A5 & "'!$F$39") -> 0 | BE5: =INDIRECT("'" & A5 & "'!$I$40") -> 0 | BF5: =INDIRECT("'" & A5 & "'!$F$40") -> 0 | BG5: =INDIRECT("'" & A5 & "'!$I$41") -> 0 | BH5: =INDIRECT("'" & A5 & "'!$F$41") -> 0 | BI5: =INDIRECT("'" & A5 & "'!$I$42") -> 0 | BJ5: =INDIRECT("'" & A5 & "'!$F$42") -> 0 | BK5: =INDIRECT("'" & A5 & "'!$I$47") -> 0 | BL5: =INDIRECT("'" & A5 & "'!$F$47") -> Meer-/minderprijs per m2 | BM5: =INDIRECT("'" & A5 & "'!$I$48") -> 0 | BN5: =INDIRECT("'" & A5 & "'!$F$48") -> 0 | BO5: =INDIRECT("'" & A5 & "'!$I$49") -> 0 | BP5: =INDIRECT("'" & A5 & "'!$F$49") -> 0 | BQ5: =INDIRECT("'" & A5 & "'!$I$50") -> 0 | BR5: =INDIRECT("'" & A5 & "'!$F$50") -> 0 | BS5: =INDIRECT("'" & A5 & "'!$I$51") | BT5: =INDIRECT("'" & A5 & "'!$F$51") -> 0 | BU5: =INDIRECT("'" & A5 & "'!$I$52") | BV5: =INDIRECT("'" & A5 & "'!$F$52") -> 0 | BW5: =INDIRECT("'" & A5 & "'!$I$53") | BX5: =INDIRECT("'" & A5 & "'!$F$53") -> 0 | BY5: =INDIRECT("'" & A5 & "'!$I$54") | BZ5: =INDIRECT("'" & A5 & "'!$F$54") -> 0 | CA5: =INDIRECT("'" & A5 & "'!$I$55") | CB5: =INDIRECT("'" & A5 & "'!$F$55") -> 0 | CC5: =INDIRECT("'" & A5 & "'!$I$56") | CD5: =INDIRECT("'" & A5 & "'!$F$56") -> 0 | CE5: =INDIRECT("'" & A5 & "'!$I$76") -> 0 | CF5: =INDIRECT("'" & A5 & "'!$G$19") | CG5: =INDIRECT("'" & A5 & "'!$D$19") -> 22984 | CH5: =INDIRECT("'" & A5 & "'!$M$19") -> 0 | CI5: =INDIRECT("'" & A5 & "'!$N$19") -> 0 | CJ5: =INDIRECT("'" & A5 & "'!$M$20") -> 0 | CK5: =INDIRECT("'" & A5 & "'!$N$20") -> 0 | CL5: =INDIRECT("'" & A5 & "'!$M$21") -> 0 | CM5: =INDIRECT("'" & A5 & "'!$N$21") -> 0 | CN5: =INDIRECT("'" & A5 & "'!$M$22") -> 0 | CO5: =INDIRECT("'" & A5 & "'!$N$22") -> 0 | CP5: =INDIRECT("'" & A5 & "'!$M$23") -> 0 | CQ5: =INDIRECT("'" & A5 & "'!$N$23") -> 0 | CR5: =INDIRECT("'" & A5 & "'!$M$24") -> 0 | CS5: =INDIRECT("'" & A5 & "'!$N$24") -> 0 | CT5: =INDIRECT("'" & A5 & "'!$M$25") -> 0 | CU5: =INDIRECT("'" & A5 & "'!$N$25") -> 0 | CV5: =INDIRECT("'" & A5 & "'!$M$26") -> 0 | CW5: =INDIRECT("'" & A5 & "'!$N$26") -> 0 | CX5: =INDIRECT("'" & A5 & "'!$M$27") -> 0 | CY5: =INDIRECT("'" & A5 & "'!$N$27") -> 0 | CZ5: =INDIRECT("'" & A5 & "'!$M$28") -> 0 | DA5: =INDIRECT("'" & A5 & "'!$N$28") -> 0 | DB5: =INDIRECT("'" & A5 & "'!$M$29") -> 0 | DC5: =INDIRECT("'" & A5 & "'!$N$29") -> 0 | DD5: =INDIRECT("'" & A5 & "'!$M$30") -> 0 | DE5: =INDIRECT("'" & A5 & "'!$N$30") -> 0 | DF5: =INDIRECT("'" & A5 & "'!$M$31") -> 0 | DG5: =INDIRECT("'" & A5 & "'!$N$31") -> 0 | DH5: =INDIRECT("'" & A5 & "'!$M$32") -> 0 | DI5: =INDIRECT("'" & A5 & "'!$N$32") -> 0 | DJ5: =INDIRECT("'" & A5 & "'!$M$33") -> 0 | DK5: =INDIRECT("'" & A5 & "'!$N$33") -> 0 | DL5: =SUM(CE5/CF5) -> #VALUE!
A6: =Verzamelblad!A6 -> 2 | B6: =INDIRECT("'" & A6 & "'!$B$4") -> sws Adeborg | C6: =IF(INDIRECT("'" & A6 & "'!$I$78")=0,"",INDIRECT("'" & A6 & "'!$I$78")) | D6: =IF(INDIRECT("'" & A6 & "'!$F$11")=0,"",INDIRECT("'" & A6 & "'!$F$11")) | E6: =IF(INDIRECT("'" & A6 & "'!$I$11")=0,"",INDIRECT("'" & A6 & "'!$I$11")) | F6: =IF(INDIRECT("'" & A6 & "'!$F$12")=0,"",INDIRECT("'" & A6 & "'!$F$12")) | G6: =IF(INDIRECT("'" & A6 & "'!$I$12")=0,"",INDIRECT("'" & A6 & "'!$I$12")) | H6: =IF(INDIRECT("'" & A6 & "'!$F$13")=0,"",INDIRECT("'" & A6 & "'!$F$13")) | I6: =IF(INDIRECT("'" & A6 & "'!$I$33")=0,"",INDIRECT("'" & A6 & "'!$I$33")) | J6: ='2'!$I$77 | K6: =IF(INDIRECT("'" & A6 & "'!$I$57")=0,"",INDIRECT("'" & A6 & "'!$I$57")) | L6: =IF(INDIRECT("'" & A6 & "'!$I$66")=0,"",INDIRECT("'" & A6 & "'!$I$66")) | M6: =IFERROR(INDIRECT("'" & A6 & "'!$J$11"),"") | N6: =IFERROR(INDIRECT("'" & A6 & "'!$J$12"),"") | O6: =IFERROR(INDIRECT("'" & A6 & "'!$J$13"),"") | P6: =IFERROR(INDIRECT("'" & A6 & "'!$F$16"),"") | Q6: =J6 | T6: =M6 | U6: =N6 | V6: =offertetarief | W6: =regietarief | X6: =spectarief | Y6: =INDIRECT("'" & A6 & "'!$I$14") | Z6: =INDIRECT("'" & A6 & "'!$I$19") | AA6: =INDIRECT("'" & A6 & "'!$I$22") | AB6: =INDIRECT("'" & A6 & "'!$F$22") -> 0 | AC6: =INDIRECT("'" & A6 & "'!$I$23") | AD6: =INDIRECT("'" & A6 & "'!$F$23") -> 0 | AE6: =INDIRECT("'" & A6 & "'!$I$24") | AF6: =INDIRECT("'" & A6 & "'!$F$24") -> 0 | AG6: =INDIRECT("'" & A6 & "'!$I$25") | AH6: =INDIRECT("'" & A6 & "'!$F$25") -> 0 | AI6: =INDIRECT("'" & A6 & "'!$I$26") | AJ6: =INDIRECT("'" & A6 & "'!$F$26") -> 0 | AK6: =INDIRECT("'" & A6 & "'!$I$27") | AL6: =INDIRECT("'" & A6 & "'!$F$27") -> 0 | AM6: =INDIRECT("'" & A6 & "'!$I$28") | AN6: =INDIRECT("'" & A6 & "'!$F$28") -> 0 | AO6: =INDIRECT("'" & A6 & "'!$I$29") | AP6: =INDIRECT("'" & A6 & "'!$F$29") -> 0 | AQ6: =INDIRECT("'" & A6 & "'!$I$30") | AR6: =INDIRECT("'" & A6 & "'!$F$30") -> 0 | AS6: =INDIRECT("'" & A6 & "'!$I$31") | AT6: =INDIRECT("'" & A6 & "'!$F$31") -> 0 | AU6: =INDIRECT("'" & A6 & "'!$I$32") | AV6: =INDIRECT("'" & A6 & "'!$F$32") -> 0 | AW6: =INDIRECT("'" & A6 & "'!$I$36") -> 0 | AX6: =INDIRECT("'" & A6 & "'!$F$36") -> 0 | AY6: =INDIRECT("'" & A6 & "'!$I$37") | AZ6: =INDIRECT("'" & A6 & "'!$F$37") -> 0 | BA6: =INDIRECT("'" & A6 & "'!$I$38") -> 0 | BB6: =INDIRECT("'" & A6 & "'!$F$38") -> 0 | BC6: =INDIRECT("'" & A6 & "'!$I$39") -> 0 | BD6: =INDIRECT("'" & A6 & "'!$F$39") -> 0 | BE6: =INDIRECT("'" & A6 & "'!$I$40") -> 0 | BF6: =INDIRECT("'" & A6 & "'!$F$40") -> 0 | BG6: =INDIRECT("'" & A6 & "'!$I$41") -> 0 | BH6: =INDIRECT("'" & A6 & "'!$F$41") -> 0 | BI6: =INDIRECT("'" & A6 & "'!$I$42") | BJ6: =INDIRECT("'" & A6 & "'!$F$42") -> 0 | BK6: =INDIRECT("'" & A6 & "'!$I$47") -> 0 | BL6: =INDIRECT("'" & A6 & "'!$F$47") -> Meer-/minderprijs per m2 | BM6: =INDIRECT("'" & A6 & "'!$I$48") -> 0 | BN6: =INDIRECT("'" & A6 & "'!$F$48") -> 0 | BO6: =INDIRECT("'" & A6 & "'!$I$49") -> 0 | BP6: =INDIRECT("'" & A6 & "'!$F$49") -> 0 | BQ6: =INDIRECT("'" & A6 & "'!$I$50") -> 0 | BR6: =INDIRECT("'" & A6 & "'!$F$50") -> 0 | BS6: =INDIRECT("'" & A6 & "'!$I$51") | BT6: =INDIRECT("'" & A6 & "'!$F$51") -> 0 | BU6: =INDIRECT("'" & A6 & "'!$I$52") | BV6: =INDIRECT("'" & A6 & "'!$F$52") -> 0 | BW6: =INDIRECT("'" & A6 & "'!$I$53") | BX6: =INDIRECT("'" & A6 & "'!$F$53") -> 0 | BY6: =INDIRECT("'" & A6 & "'!$I$54") | BZ6: =INDIRECT("'" & A6 & "'!$F$54") -> 0 | CA6: =INDIRECT("'" & A6 & "'!$I$55") | CB6: =INDIRECT("'" & A6 & "'!$F$55") -> 0 | CC6: =INDIRECT("'" & A6 & "'!$I$56") | CD6: =INDIRECT("'" & A6 & "'!$F$56") -> 0 | CE6: =INDIRECT("'" & A6 & "'!$I$76") -> 0 | CF6: =INDIRECT("'" & A6 & "'!$G$19") | CG6: =INDIRECT("'" & A6 & "'!$D$19") -> #N/A | CH6: =INDIRECT("'" & A6 & "'!$M$19") -> 0 | CI6: =INDIRECT("'" & A6 & "'!$N$19") -> 0 | CJ6: =INDIRECT("'" & A6 & "'!$M$20") -> 0 | CK6: =INDIRECT("'" & A6 & "'!$N$20") -> 0 | CL6: =INDIRECT("'" & A6 & "'!$M$21") -> 0 | CM6: =INDIRECT("'" & A6 & "'!$N$21") -> 0 | CN6: =INDIRECT("'" & A6 & "'!$M$22") -> 0 | CO6: =INDIRECT("'" & A6 & "'!$N$22") -> 0 | CP6: =INDIRECT("'" & A6 & "'!$M$23") -> 0 | CQ6: =INDIRECT("'" & A6 & "'!$N$23") -> 0 | CR6: =INDIRECT("'" & A6 & "'!$M$24") -> 0 | CS6: =INDIRECT("'" & A6 & "'!$N$24") -> 0 | CT6: =INDIRECT("'" & A6 & "'!$M$25") -> 0 | CU6: =INDIRECT("'" & A6 & "'!$N$25") -> 0 | CV6: =INDIRECT("'" & A6 & "'!$M$26") -> 0 | CW6: =INDIRECT("'" & A6 & "'!$N$26") -> 0 | CX6: =INDIRECT("'" & A6 & "'!$M$27") -> 0 | CY6: =INDIRECT("'" & A6 & "'!$N$27") -> 0 | CZ6: =INDIRECT("'" & A6 & "'!$M$28") -> 0 | DA6: =INDIRECT("'" & A6 & "'!$N$28") -> 0 | DB6: =INDIRECT("'" & A6 & "'!$M$29") -> 0 | DC6: =INDIRECT("'" & A6 & "'!$N$29") -> 0 | DD6: =INDIRECT("'" & A6 & "'!$M$30") -> 0 | DE6: =INDIRECT("'" & A6 & "'!$N$30") -> 0 | DF6: =INDIRECT("'" & A6 & "'!$M$31") -> 0 | DG6: =INDIRECT("'" & A6 & "'!$N$31") -> 0 | DH6: =INDIRECT("'" & A6 & "'!$M$32") -> 0 | DI6: =INDIRECT("'" & A6 & "'!$N$32") -> 0 | DJ6: =INDIRECT("'" & A6 & "'!$M$33") -> 0 | DK6: =INDIRECT("'" & A6 & "'!$N$33") -> 0 | DL6: =SUM(CE6/CF6) -> #VALUE!
