Workbook
Name Betrouwbaarheid: [1]Parameters!$C$21
Name Beveiligbaarheid: [1]Parameters!$C$26
Name Bruikbaarheid: [1]Parameters!$C$14
Name Functioneel: [1]Parameters!$C$3
Name Ja_Nee: Parameters!$A$4:$A$6
Name Onderhoudbaarheid: [1]Parameters!$C$32
Name Overdraagbaarheid: [1]Parameters!$C$38
Name Prestatie: [1]Parameters!$C$7
Name Uitwisselbaarheid: [1]Parameters!$C$11

Sheet Functionele eisen en wensen
B2: Functionele eisen en wensen
H3: Punten per eis: | I3: 10
B4: Legenda Prioritering (kolom Prio): | H4: Weging | I4: Score
B5: 1 | C5: - zeer belangrijk: deze functionaliteiten moeten in het eindresultaat terugkomen, zonder deze is het product niet bruikbaar (dit zijn de knock-outs) | H5: K.O. | I5: oké
B6: 2 | C6: - belangrijk: deze functionaliteiten zijn zeer gewenst, zonder is het product maar deels bruikbaar | H6: 1 | I6: =+$I$3*1 -> 10
B7: 3 | C7: - redelijk belangrijk: deze functionaliteiten zullen in latere releases aan bod komen of in incidentele gevallen | H7: 0.5 | I7: =+$I$3*0.5 -> 5
B8: 4 | C8: - enigszins belangrijk (ook wel "won't have this time" genoemd): deze functionaliteiten zullen niet in de 1e versie aan bod komen, wel later | H8: 0.2 | I8: =+$I$3*0.2 -> 2
B10: Primaire Diensten | H10: Totaalscore: | I10: =+SUM(I12:I20) -> 0
B11: Nr. | C11: Titel | D11: Omschrijving | E11: Prio | F11: Weging | G11: Nieuwe of bestaande functionaliteit | H11: Indien akkoord invullen met x | I11: Score
B12: PD01 | C12: Openbare Europese aanbesteding | D12: Procesleiding en penvoering voor de inkoopaspecten van een Openbare Europese aanbesteding | E12: 1 | F12: =IF(E12="",,VLOOKUP(E12,$B$5:$H$8,7,FALSE)) -> K.O. | I12: =IF(UPPER(H12)="X",IF(E12="",,VLOOKUP(E12,$B$5:$I$8,8,FALSE)),IF(E12=$B$5,"Niet oké",0)) -> Niet oké
B13: PD02 | C13: Niet-openbare Europese aanbesteding | D13: Procesleiding en penvoering voor de inkoopaspecten van een Niet-openbare Europese aanbesteding | E13: 1 | F13: =IF(E13="",,VLOOKUP(E13,$B$5:$H$8,7,FALSE)) -> K.O. | I13: =IF(UPPER(H13)="X",IF(E13="",,VLOOKUP(E13,$B$5:$I$8,8,FALSE)),IF(E13=$B$5,"Niet oké",0)) -> Niet oké
B14: PD03 | C14: Europese aanbesteding via concurrentie gerichte dialoog | D14: Procesleiding en penvoering voor de inkoopaspecten van een concurrentie gerichte dialoog | E14: 3 | F14: =IF(E14="",,VLOOKUP(E14,$B$5:$H$8,7,FALSE)) -> 0.5 | I14: =IF(UPPER(H14)="X",IF(E14="",,VLOOKUP(E14,$B$5:$I$8,8,FALSE)),IF(E14=$B$5,"Niet oké",0)) -> 0
B15: PD04 | C15: Uitvoeren van behoefteanalyse | D15: Procesleiding en penvoering voor het uitvoeren van een behoefteanalyse | E15: 2 | F15: =IF(E15="",,VLOOKUP(E15,$B$5:$H$8,7,FALSE)) -> 1 | I15: =IF(UPPER(H15)="X",IF(E15="",,VLOOKUP(E15,$B$5:$I$8,8,FALSE)),IF(E15=$B$5,"Niet oké",0)) -> 0
B16: PD05 | C16: Enkelvoudig Onderhands aanbesteden (EVO) | D16: Procesleiding en penvoering voor de inkoopaspecten van een aanbesteding via de EVO procedure | E16: 1 | F16: =IF(E16="",,VLOOKUP(E16,$B$5:$H$8,7,FALSE)) -> K.O. | I16: =IF(UPPER(H16)="X",IF(E16="",,VLOOKUP(E16,$B$5:$I$8,8,FALSE)),IF(E16=$B$5,"Niet oké",0)) -> Niet oké
B17: PD06 | C17: Meervoudig Onderhands aanbesteden (MVO) | D17: Procesleiding en penvoering voor de inkoopaspecten van een aanbesteding via de MVO procedure | E17: 1 | F17: =IF(E17="",,VLOOKUP(E17,$B$5:$H$8,7,FALSE)) -> K.O. | I17: =IF(UPPER(H17)="X",IF(E17="",,VLOOKUP(E17,$B$5:$I$8,8,FALSE)),IF(E17=$B$5,"Niet oké",0)) -> Niet oké
B18: PD07 | C18: Minicompetitie | D18: Procesleiding en penvoering voor de inkoopaspecten van een minicompetitie binnen een Raamovereenkomst | E18: 1 | F18: =IF(E18="",,VLOOKUP(E18,$B$5:$H$8,7,FALSE)) -> K.O. | I18: =IF(UPPER(H18)="X",IF(E18="",,VLOOKUP(E18,$B$5:$I$8,8,FALSE)),IF(E18=$B$5,"Niet oké",0)) -> Niet oké
B19: PD08 | C19: Juridische dienstverlenging t.a.v. inkoop | D19: De juridische dienstverlening t.a.v. inkoop is door de Opdrachtgever belegd in een ander contract. De Opdrachtnemer is verplicht gebruik te maken van deze Opdrachtnemer voor de juridische toetsing bij elke aanbesteding. | E19: 1 | F19: =IF(E19="",,VLOOKUP(E19,$B$5:$H$8,7,FALSE)) -> K.O. | I19: =IF(UPPER(H19)="X",IF(E19="",,VLOOKUP(E19,$B$5:$I$8,8,FALSE)),IF(E19=$B$5,"Niet oké",0)) -> Niet oké
B20: PD08 | C20: Inhuur buiten scope | D20: Opdrachtgever maakt gebruik van een Managed Sevice Provider voor de directe inhuur van tijdelijk personeel. Daarmee valt inhuur buiten de scope van dit contract. | E20: 1 | F20: =IF(E20="",,VLOOKUP(E20,$B$5:$H$8,7,FALSE)) -> K.O. | I20: =IF(UPPER(H20)="X",IF(E20="",,VLOOKUP(E20,$B$5:$I$8,8,FALSE)),IF(E20=$B$5,"Niet oké",0)) -> Niet oké
B22: Secundaire diensten | H22: Totaalscore: | I22: =+SUM(I24:I29) -> 0
B23: Nr. | C23: Titel | D23: Omschrijving | E23: Prio | F23: Weging | G23: Nieuwe of bestaande functionaliteit | H23: Indien akkoord invullen met x | I23: Score
B24: SD-01 | C24: Review op aanbestedingsdocumenten | D24: Aanbestedingsdocumenten, welke opgezet zijn door interne inkoop adviseurs van GGD GHOR, dienen op verzoek gereviewed te worden | E24: 1 | F24: =IF(E24="",,VLOOKUP(E24,$B$5:$H$8,7,FALSE)) -> K.O. | I24: =IF(UPPER(H24)="X",IF(E24="",,VLOOKUP(E24,$B$5:$I$8,8,FALSE)),IF(E24=$B$5,"Niet oké",0)) -> Niet oké
B25: SD-02 | C25: Functioneel specificeren | D25: Advisering bij het functioneel specificeren | E25: 3 | F25: =IF(E25="",,VLOOKUP(E25,$B$5:$H$8,7,FALSE)) -> 0.5 | I25: =IF(UPPER(H25)="X",IF(E25="",,VLOOKUP(E25,$B$5:$I$8,8,FALSE)),IF(E25=$B$5,"Niet oké",0)) -> 0
B26: SD-03 | C26: Marktverkenning | D26: Ondersteunen van de Opdrachtgever bij een marktverkenning | E26: 3 | F26: =IF(E26="",,VLOOKUP(E26,$B$5:$H$8,7,FALSE)) -> 0.5 | I26: =IF(UPPER(H26)="X",IF(E26="",,VLOOKUP(E26,$B$5:$I$8,8,FALSE)),IF(E26=$B$5,"Niet oké",0)) -> 0
B27: SD-04 | C27: Advisering bij aanbestedingsstrategie | D27: Advisering van de Opdrachtgever bij het opstellen van een aanbestedingsstrategie en het formuleren van alternatieven bij de aanbesteding | E27: 2 | F27: =IF(E27="",,VLOOKUP(E27,$B$5:$H$8,7,FALSE)) -> 1 | I27: =IF(UPPER(H27)="X",IF(E27="",,VLOOKUP(E27,$B$5:$I$8,8,FALSE)),IF(E27=$B$5,"Niet oké",0)) -> 0
B28: SD-05 | C28: Ondersteuning contractmanagement | D28: Ondersteunen van de contractmanagers van de Opdrachtgever bij contractuele issues en contractmutaties, waaronder verlengingen | E28: 1 | F28: =IF(E28="",,VLOOKUP(E28,$B$5:$H$8,7,FALSE)) -> K.O. | I28: =IF(UPPER(H28)="X",IF(E28="",,VLOOKUP(E28,$B$5:$I$8,8,FALSE)),IF(E28=$B$5,"Niet oké",0)) -> Niet oké
B29: SD-06 | C29: Brainstormsessies | D29: Actieve deelname aan brainstorm sessies van de Opdrachtgever in de rol van inkoopadviseur | E29: 2 | F29: =IF(E29="",,VLOOKUP(E29,$B$5:$H$8,7,FALSE)) -> 1 | I29: =IF(UPPER(H29)="X",IF(E29="",,VLOOKUP(E29,$B$5:$I$8,8,FALSE)),IF(E29=$B$5,"Niet oké",0)) -> 0

Sheet Non-Functionele eisen en wensen
B2: Non-Functionele eisen en wensen | G2: VENUS
I3: 10
B4: Legenda Prioritering (kolom Prio): | H4: Weging | I4: Score
B5: 1 | C5: - zeer belangrijk: deze functionaliteiten moeten in het eindresultaat terugkomen, zonder deze is het product niet bruikbaar (dit zijn de knock-outs) | H5: K.O. | I5: oké
B6: 2 | C6: - belangrijk: deze functionaliteiten zijn zeer gewenst, zonder is het product maar deels bruikbaar | H6: 1 | I6: =+$I$3*1 -> 10
B7: 3 | C7: - redelijk belangrijk: deze functionaliteiten zullen in latere releases aan bod komen of in incidentele gevallen | H7: 0.5 | I7: =+$I$3*0.5 -> 5
B8: 4 | C8: - enigszins belangrijk (ook wel "won't have this time" genoemd): deze functionaliteiten zullen niet in de 1e versie aan bod komen, wel later | H8: 0.2 | I8: =+$I$3*0.2 -> 2
B10: Standaards inkoop | H10: Totaalscore: | I10: =+SUM(I12:I15) -> 0
B11: Nr. | C11: Titel | D11: Omschrijving | E11: Prio | F11: Weging | H11: Indien akkoord invullen met x | I11: Score
B12: SI-01 | C12: Standaards Opdrachtgever | D12: Gebruik van de standaards van de Opdrachtgever voor alle soorten inkoop | E12: 1 | F12: =IF(E12="",,VLOOKUP(E12,$B$5:$H$8,7,FALSE)) -> K.O. | I12: =IF(UPPER(H12)="X",IF(E12="",,VLOOKUP(E12,$B$5:$I$8,8,FALSE)),IF(E12=$B$5,"Niet oké",0)) -> Niet oké
B13: SI-02 | C13: Onderhoud standaards | D13: Proactief onderhouden van de standaards van de Opdrachtgever door indienen van verbetervoorstellen | E13: 2 | F13: =IF(E13="",,VLOOKUP(E13,$B$5:$H$8,7,FALSE)) -> 1 | I13: =IF(UPPER(H13)="X",IF(E13="",,VLOOKUP(E13,$B$5:$I$8,8,FALSE)),IF(E13=$B$5,"Niet oké",0)) -> 0
B14: SI-03 | C14: Aanvullen standaards | D14: Proactief aanvullen van de standaards van de Opdrachtgever door indienen van nieuwe concept standaards | E14: 2 | F14: =IF(E14="",,VLOOKUP(E14,$B$5:$H$8,7,FALSE)) -> 1 | I14: =IF(UPPER(H14)="X",IF(E14="",,VLOOKUP(E14,$B$5:$I$8,8,FALSE)),IF(E14=$B$5,"Niet oké",0)) -> 0
B15: SI-04 | C15: Programma's van eisen | D15: Opdrachtnemer maakt bij het opstellen van een Programma van eisen gebruik van de standaard opzet van de Opdrachtgever | E15: 1 | F15: =IF(E15="",,VLOOKUP(E15,$B$5:$H$8,7,FALSE)) -> K.O. | I15: =IF(UPPER(H15)="X",IF(E15="",,VLOOKUP(E15,$B$5:$I$8,8,FALSE)),IF(E15=$B$5,"Niet oké",0)) -> Niet oké
B17: Werkwijze Inkoop | H17: Totaalscore: | I17: =+SUM(I19:I27) -> 0
B18: Nr. | C18: Titel | D18: Omschrijving | E18: Prio | F18: Weging | H18: Indien akkoord invullen met x | I18: Score
B19: WI-01 | C19: Werkwijze Opdrachtgever | D19: De Opdrachtnemer hanteert een werkwijze, welke past bij Europese aanbestedingen en stemt deze bij ieder inkooptraject af met de Opdrachtgever bij de inkoop | E19: 1 | F19: =IF(E19="",,VLOOKUP(E19,$B$5:$H$8,7,FALSE)) -> K.O. | I19: =IF(UPPER(H19)="X",IF(E19="",,VLOOKUP(E19,$B$5:$I$8,8,FALSE)),IF(E19=$B$5,"Niet oké",0)) -> Niet oké
B20: WI-02 | C20: Werkomgeving | D20: Uitsluitend werken in de MS-Teams omgeving van de Opdrachtgever | E20: 1 | F20: =IF(E20="",,VLOOKUP(E20,$B$5:$H$8,7,FALSE)) -> K.O. | I20: =IF(UPPER(H20)="X",IF(E20="",,VLOOKUP(E20,$B$5:$I$8,8,FALSE)),IF(E20=$B$5,"Niet oké",0)) -> Niet oké
B21: WI-03 | C21: Aansluiting contractmanagement | D21: Contractmanagement van de Opdrachtgever wordt proactief betrokken gedurende het gehele inkooptraject | E21: 1 | F21: =IF(E21="",,VLOOKUP(E21,$B$5:$H$8,7,FALSE)) -> K.O. | I21: =IF(UPPER(H21)="X",IF(E21="",,VLOOKUP(E21,$B$5:$I$8,8,FALSE)),IF(E21=$B$5,"Niet oké",0)) -> Niet oké
B22: WI-04 | C22: Beoordelingsteam | D22: Het beoordelingsteam wordt samengesteld uit materiedeskundigen en contractmanagement van de Opdrachtgever | E22: 1 | F22: =IF(E22="",,VLOOKUP(E22,$B$5:$H$8,7,FALSE)) -> K.O. | I22: =IF(UPPER(H22)="X",IF(E22="",,VLOOKUP(E22,$B$5:$I$8,8,FALSE)),IF(E22=$B$5,"Niet oké",0)) -> Niet oké
B23: WI-05 | C23: Werklocatie | D23: In afstemming met de Opdrachtgever werken via MS Teams of fysieke locatie bij Opdrachtgever in Utrecht | E23: 1 | F23: =IF(E23="",,VLOOKUP(E23,$B$5:$H$8,7,FALSE)) -> K.O. | I23: =IF(UPPER(H23)="X",IF(E23="",,VLOOKUP(E23,$B$5:$I$8,8,FALSE)),IF(E23=$B$5,"Niet oké",0)) -> Niet oké
B24: WI-06 | C24: Juridische toetsing | D24: Juridische toetsing van het inkoopdossier wordt uitgevoerd door de door Opdrachtgever gecontracteerde partij | E24: 1 | F24: =IF(E24="",,VLOOKUP(E24,$B$5:$H$8,7,FALSE)) -> K.O. | I24: =IF(UPPER(H24)="X",IF(E24="",,VLOOKUP(E24,$B$5:$I$8,8,FALSE)),IF(E24=$B$5,"Niet oké",0)) -> Niet oké
B25: WI-07 | C25: Opdracht tot juridische toetsing | D25: Opdrachtverstrekking tot de juridische toetsing verloopt via de Opdrachtgever | E25: 1 | F25: =IF(E25="",,VLOOKUP(E25,$B$5:$H$8,7,FALSE)) -> K.O. | I25: =IF(UPPER(H25)="X",IF(E25="",,VLOOKUP(E25,$B$5:$I$8,8,FALSE)),IF(E25=$B$5,"Niet oké",0)) -> Niet oké
B26: WI-08 | C26: Beschrijving van werkwijze Opdrachtnemer | D26: Opdrachtnemer verwerkt de contractuele afspraken tot een werkwijze (waarin minimaal opgenomen de afstempunten, betrokken partijen en reactietermijnen) en deelt deze met de Opdrachtgever. | E26: 1 | F26: =IF(E26="",,VLOOKUP(E26,$B$5:$H$8,7,FALSE)) -> K.O. | I26: =IF(UPPER(H26)="X",IF(E26="",,VLOOKUP(E26,$B$5:$I$8,8,FALSE)),IF(E26=$B$5,"Niet oké",0)) -> Niet oké
B27: WI-08 | C27: Onderhoud en akkoord van werkwijze Opdrachtnemer | D27: Opdrachtnemer laat de actuele versie accorderen door de Opdrachtgever en draagt zorg voor het actueel houden van de werkwijze. Iedere nieuwe versie van de werkwijze dient te worden gedeeld met en accoord te worden bevonden door de Opdrachtgever. | E27: 1 | F27: =IF(E27="",,VLOOKUP(E27,$B$5:$H$8,7,FALSE)) -> K.O. | I27: =IF(UPPER(H27)="X",IF(E27="",,VLOOKUP(E27,$B$5:$I$8,8,FALSE)),IF(E27=$B$5,"Niet oké",0)) -> Niet oké
B29: Innovatie inkoop | H29: Totaalscore: | I29: =+SUM(I31:I34) -> 0
B30: Nr. | C30: Titel | D30: Omschrijving | E30: Prio | F30: Weging | H30: Indien akkoord invullen met x | I30: Score
B31: II-01 | C31: Wettelijke wijzigingen | D31: Proactief en tijdig doorvoeren van wettelijke wijzigingen in standaards en werkwijze | E31: 2 | F31: =IF(E31="",,VLOOKUP(E31,$B$5:$H$8,7,FALSE)) -> 1 | I31: =IF(UPPER(H31)="X",IF(E31="",,VLOOKUP(E31,$B$5:$I$8,8,FALSE)),IF(E31=$B$5,"Niet oké",0)) -> 0
B32: II-02 | C32: Afstemming Opdrachtgever | D32: Proactief en tijdig afstemmen van wijzigingen in standaards en werkwijze | E32: 2 | F32: =IF(E32="",,VLOOKUP(E32,$B$5:$H$8,7,FALSE)) -> 1 | I32: =IF(UPPER(H32)="X",IF(E32="",,VLOOKUP(E32,$B$5:$I$8,8,FALSE)),IF(E32=$B$5,"Niet oké",0)) -> 0
B33: II-03 | C33: Innovatie sessie op inkoopgebied | D33: Relevante inkoop ontwikkelingen worden een keer per halfjaar gepresenteerd aan de inkoopafdeling van de Opdrachtgever | E33: 2 | F33: =IF(E33="",,VLOOKUP(E33,$B$5:$H$8,7,FALSE)) -> 1 | I33: =IF(UPPER(H33)="X",IF(E33="",,VLOOKUP(E33,$B$5:$I$8,8,FALSE)),IF(E33=$B$5,"Niet oké",0)) -> 0
B34: II-04 | C34: Periodieke berichtgeving | D34: Opdrachtnemer stuurt minimaal eenmaal per twee maanden een nieuwsbulletin op het gebied van inkoop naar de Opdrachtgever | E34: 3 | F34: =IF(E34="",,VLOOKUP(E34,$B$5:$H$8,7,FALSE)) -> 0.5 | I34: =IF(UPPER(H34)="X",IF(E34="",,VLOOKUP(E34,$B$5:$I$8,8,FALSE)),IF(E34=$B$5,"Niet oké",0)) -> 0
B36: Rapportage en facturatie inkoop | H36: Totaalscore: | I36: =+SUM(I41:I41) -> 0
B37: Nr. | C37: Titel | D37: Omschrijving | E37: Prio | F37: Weging | H37: Indien akkoord invullen met x | I37: Score
B38: RF-01 | C38: Maandelijkse rapportage | D38: Opdrachtnemer rapporteert maandelijks over de geleverde diensten met daarin vermelding van minimaal: a. Uitgevoerde werkzaamheden b. Bestede uren per activiteit c. Risico's & maatregelen d. Verbetervoorstellen | E38: 1 | F38: =IF(E38="",,VLOOKUP(E38,$B$5:$H$8,7,FALSE)) -> K.O. | I38: =IF(UPPER(H38)="X",IF(E38="",,VLOOKUP(E38,$B$5:$I$8,8,FALSE)),IF(E38=$B$5,"Niet oké",0)) -> Niet oké
B39: RF-02 | C39: Facturatie vaste prijs opdrachten | D39: Opdrachtnemer factureert na oplevering en acceptatie van het inkoopdossier door het contractmanagement van de Opdrachtgever. | E39: 1 | F39: =IF(E39="",,VLOOKUP(E39,$B$5:$H$8,7,FALSE)) -> K.O. | I39: =IF(UPPER(H39)="X",IF(E39="",,VLOOKUP(E39,$B$5:$I$8,8,FALSE)),IF(E39=$B$5,"Niet oké",0)) -> Niet oké
B40: RF-03 | C40: Facturatie regie opdrachten | D40: Opdrachtnemer factureert maandelijks de gemaakte uren, inclusief onkosten. | E40: 1 | F40: =IF(E40="",,VLOOKUP(E40,$B$5:$H$8,7,FALSE)) -> K.O. | I40: =IF(UPPER(H40)="X",IF(E40="",,VLOOKUP(E40,$B$5:$I$8,8,FALSE)),IF(E40=$B$5,"Niet oké",0)) -> Niet oké
B41: RF-04 | C41: Facturatie kenmerken | D41: Iedere factuur dient gespecificeerd te zijn. Voor vaste prijs opdrachten: de opdrachtkode en naam van de vaste prijsopdracht. Voor regie opdrachten: de opdrachtkode en de naam van de medewerker van de Opdrachtnemer en het aantal uren per maand voor die specifieke opdrachtkode. Opdrachtgever verstrekt de opdrachtkode bij aanvang van de opdracht. | E41: 1 | F41: =IF(E41="",,VLOOKUP(E41,$B$5:$H$8,7,FALSE)) -> K.O. | I41: =IF(UPPER(H41)="X",IF(E41="",,VLOOKUP(E41,$B$5:$I$8,8,FALSE)),IF(E41=$B$5,"Niet oké",0)) -> Niet oké
B43: Exit Inkoop | H43: Totaalscore: | I43: =+SUM(I45:I47) -> 0
B44: Nr. | C44: Titel | D44: Omschrijving | E44: Prio | F44: Weging | H44: Indien akkoord invullen met x | I44: Score
B45: EI-01 | C45: Exit plan | D45: Opdrachtnemer stel, binnen 3 maanden na contractingangsdatum, een exitplan op t.b.v. beeindiging of overdracht van de werkzaamheden bij afloop van het contract | E45: 1 | F45: =IF(E45="",,VLOOKUP(E45,$B$5:$H$8,7,FALSE)) -> K.O. | I45: =IF(UPPER(H45)="X",IF(E45="",,VLOOKUP(E45,$B$5:$I$8,8,FALSE)),IF(E45=$B$5,"Niet oké",0)) -> Niet oké
B46: EI-02 | C46: Onderhoud exit plan | D46: Opdrachtnemer levert iedere 12 maanden een update op het exitplan | E46: 2 | F46: =IF(E46="",,VLOOKUP(E46,$B$5:$H$8,7,FALSE)) -> 1 | I46: =IF(UPPER(H46)="X",IF(E46="",,VLOOKUP(E46,$B$5:$I$8,8,FALSE)),IF(E46=$B$5,"Niet oké",0)) -> 0
...

Sheet Open-vragen
A1: Open vragen | E1: Verdeling scores Open vragen
E2: Uitvoeringswijze | F2: =SUM(F5:F10) -> 1
A4: Uitvoeringswijze | B4: Onderwerp | C4: Nr | D4: Open vraag | E4: Toelichting | F4: Maximale score
A5: Inkoopbegeleiding | B5: Alle inkooptrajecten | C5: 1 | D5: Beschrijf hoe de kwaliteit van de dienst geborgd wordt. Ga onder andere in op de volgende aspecten: a. wijze waarop de inkoop adviseurs worden ingezet en hoe deze door de Opdrachtnemer begeleid worden; b. wijze van het vooraf kunnen toetsen van de in te zetten expertise door de Opdrachtgever; c. De voorgestelde maatregelen om de dienstverlening op niveau te houden en te verhogen gedurende de looptijd van het contract; d. De wijze waarop de Opdrachtnemer omgaat met een mogelijk te lage kwaliteit en/of gebrek aan expertise; e. De voorgestelde maarregelen bij de natuurlijke spanning tussen urgentie, doelmatigheid en rechtmatigheid. Maximaal 6 A4 | E5: Opdrachtgever wil inzicht hebben in het opstartplan, waardoor de kwaliteit van de dienstverlening binnen 2 maanden na ondertekening van het contract op het gewenste kwaliteitsniveau is. | F5: 0.3
A6: Opstart | B6: Alle inkooptrajecten | C6: 2 | D6: Beschrijf de aanpak die de Opdrachtnemer gaat volgen om de dienstverlening op te starten. Ga onder andere in op de volgende aspecten: a. Wijze van uitrol van de werkwijze met de standaards van de Opdrachtgever b. Opstarten van de samenwerking met de medewerkers van de Opdrachtgever en met name de afdeling Inkoop & Contractmanagement; c. De voorgestelde maatregelen om de dienstverlening op niveau te brengen in de aanloopfase. Maximaal 4 A4 | E6: Opdrachtgever wil inzicht hebben in uitrol van de standaards en de samenwerking tussen de medewerkers van Opdrachtgever en Opdrachtnemer. | F6: 0.2
A7: Innovatie en evaluatie | B7: Alle inkooptrajecten | C7: 3 | D7: Beschrijf het aanbod om kosteloos en periodiek (per kwartaal) de laatste ontwikkelingen op het gebied van inkoop, die relevant kunnen zijn voor de Opdrachtgever. Deze kwartaal update omvat ook de evaluatie van de dienstverlening en het definiëren en volgen van de verbetermaatregelen. Maximaal 2 A4 | F7: 0.1
A8: Verbeteringen | B8: Proactief verbeteren | C8: 4 | D8: Beschrijf de aanpak die de Opdrachtnemer gaat volgen om de standaards van de Opdrachtgever continue te verbeteren. Ga onder andere in op de volgende aspecten: a. Standaards van de Opdrachtgever b. Efficiency vebeteringen c. Spoed trajecten Maximaal 2 A4 | E8: Opdrachtgever wil in partnerschap optrekken met Opdrachtnemer om de samenwerking continue te verbeteren. | F8: 0.1
A9: Flexibiliteit en continuïteit | B9: Aanpak | C9: 5 | D9: Beschrijf de aanpak die de Opdrachtnemer gaat volgen in de volgende situaties: a. De wijze waarop door de Opdrachtnemer de inzet van de inkoop adviseurs en eventuele extra inzet of stille periodes gemanaged worden en welke voorwaarden daarbij gelden, Opdrachtgever heeft bij voorkeur vaste personen vanuit Opdrachtnemer die inkoop advies geven gedurende de looptijd van deze opdracht; b. De wijze waarop de Opdrachtnemer zorgdraagt voor continuïteit gedurende de looptijd van de overeenkomst en deze proactief managed; c. De wijze waarop de Opdrachtnemer het kennisbehoud en overdracht regelt binnen het contract bij de inzet van verschillende medewerkers in het geval van opvolging, vervanging en uitbreiding; d. Opdrachtnemer zorgt voor vervanging van een inkoop adviseur met dezelfde kennis en ervaringsniveau bij ziekte (en of vervanging); e. Reactietermijnen bewaking t.b.v. een tijdige start van een inkooptraject. Maximaal 6 A4 | E9: Opdrachtgever wil inzicht in de continuiteit van de dienstverlening en de daarbij gehanteerde afspraken. | F9: 0.3

Sheet Behaalde score op wensen
A1: Onderwerp | B1: Behaalde score | C1: Subtotaal
A2: ='Functionele eisen en wensen'!$B$10 -> Primaire Diensten | B2: ='Functionele eisen en wensen'!$I$10 -> 0
A3: ='Functionele eisen en wensen'!$B$22 -> Secundaire diensten | B3: ='Functionele eisen en wensen'!$I$22 -> 0
A4: Totaal Functionele eisen | C4: =SUM(B2:B3) -> 0
A6: ='Non-Functionele eisen en wensen'!$B$10 -> Standaards inkoop | B6: ='Non-Functionele eisen en wensen'!$I$10 -> 0
A7: ='Non-Functionele eisen en wensen'!$B$17 -> Werkwijze Inkoop | B7: ='Non-Functionele eisen en wensen'!$I$17 -> 0
A8: ='Non-Functionele eisen en wensen'!$B$29 -> Innovatie inkoop | B8: ='Non-Functionele eisen en wensen'!$I$29 -> 0
A9: ='Non-Functionele eisen en wensen'!$B$36 -> Rapportage en facturatie inkoop | B9: ='Non-Functionele eisen en wensen'!$I$36 -> 0
A10: ='Non-Functionele eisen en wensen'!$B$43 -> Exit Inkoop | B10: ='Non-Functionele eisen en wensen'!$I$43 -> 0
A11: ='Non-Functionele eisen en wensen'!$B$49 -> Reactietermijnen Inkoop | B11: ='Non-Functionele eisen en wensen'!$I$49 -> 0
A12: ='Non-Functionele eisen en wensen'!$B$56 -> Vervanging Inkoop | B12: ='Non-Functionele eisen en wensen'!$I$56 -> 0
A13: ='Non-Functionele eisen en wensen'!$B$61 -> Kennis en kunde Inkoop | B13: ='Non-Functionele eisen en wensen'!$I$61 -> 0
A14: Totaal Non-Functionale eisen | C14: =SUM(B6:B12) -> 0
A16: Totaal | C16: =C4+C14 -> 0

Sheet Parameters
A3: Ja/Nee
A4: Ja
A5: Deels
A6: Nee
