Workbook

Sheet Overall Prijzen
A1: Prijsblad e-HRM/SA systeem - HWH-E-HRM-2023 | D1: Alle bedragen zijn Euro's excl. BTW | E1: Geel vak: Invullen door de Inschrijver
A3: Dit blad is beveiligd aan de Inschrijver gestuurd zodat alleen informatie in de gele velden kan worden ingevuld!
A5: Aantal deelnemendende Partijen ('Deelnemers') | E5: 14
A8: Individuele referentiewaarde voor jaarlijkse kosten voor een gemiddeld Deelnemer met ongeveer 569 verloningen. Bij afname van volledige Functionaliteit en koppelvlakken. | E8: 0
A9: Individuele referentiewaarde voor implementatiekosten: Maximaal 1,5 maal 1 jaarkosten. | E9: =E8*1.5 -> 0
A10: Referentiewaarde voor 14 waterschappen bij volledige standaard-functionaliteit voor negen (9) jaren (maximale duur). Implementatiekosten (jaarlijkse kosten x 1,5) + (jaarlijkse kosten x 9) x 14 Deelnemers. | E10: =E8*E5*10.5 -> 0
A11: Geschatte opdrachtwaarde voor 14 waterschappen. Uitgaande van de uitgevraagde standaard-functionaliteit plus de geoffreerde implementatiewaarde per specifieke Deelnemer (Wederom over negen (9) jaren berekend) | E11: =9*K46+(I46+J46) -> 0
A14: De referentiewaarde geeft een maximale opdrachtwaarde weer bij deelname van alle 14 waterschappen. Uitgaande dat alle waterschappen in het eerste jaar starten met afname van de volledige Standaard Functionaliteit en vijf (5) Koppelvlakken per waterschap afnemen over de gehele contractperiode inclusief verlengingen (negen (9) jaar). De Inschrijver geeft een referentiewaarde op basis van een TCO berekening gemaakt door de waterschappen. De TCO berekening verdeelt de totale kosten over eenmalige implementatiekosten en de jaarlijkse kosten per waterschap. Per waterschap kunnen standaard-modules en Koppelingen worden aan- of uitgezet zonder dat kosten per waterschap wijzigen. Kosten variëren op basis van het aantal Medewerkers per waterschap. Het instapjaar van het individuele waterschap bepaalt het maximaal aantal jaarlijkse termijnen dat het e-HRM/SA systeem maximaal in gebruik kan zijn.
A15: Totaal aantal verloningen | E15: =C46 -> 7959
A16: Gemiddeld aantal verloningen waterschappen | E16: =E15/E24 -> 568.5
A17: TCO prijs per verloning (berekend over de maximale looptijd van negen jaar, Exclusief Implementatiekosten) | E17: =(E8*E5*9)/E15 -> 0
A18: TCO prijs per verloning (berekend over de maximale looptijd van negen jaar, Inclusief MAXIMALE implementatiekosten) | E18: =E10/E15 -> 0
A19: TCO prijs per verloning per jaar (incl maximale implementatiekosten) | E19: =E18/E25 -> 0
A20: Gemiddelde TCO opdrachtwaarde per waterschap (incl maximale implementatiekosten) | E20: =E10/E24 -> 0
A21: Gemiddelde implementatiekosten per waterschap (maximaal jaarkosten x 1,5)) | E21: =E9 -> 0
A22: Gemiddelde jaarlijkse kosten per waterschap ('individuele referentiewaarde jaarlijkse kosten') | E22: =E8 -> 0
A23: Gemiddelde jaarlijkse kosten per verloning per jaar (excl implementatiekosten) | E23: =E22/E16 -> 0
A24: Aantal deelnemende organisaties | E24: =E5 -> 14
A25: Maximale looptijd contract (Raamovereenkomst)* | E25: 9
A26: *Nadere Overeenkomsten volgen de looptijd van de Raamovereenkomst. Afzonderlijke Nadere Overenkomsten kunnen de Raamovereenkomst met maximaal 1 jaar overstijgen. Hiermee is m.n. beoogd en in voorzien om 'latere intredende deelnemers' maximaal gebruik te kunnen laten maken van diensten van winnend inschrijver.
A28: Prijs per Deelnemer | D28: In de gele velden in onderstaande tabel voert u het door u gehanteerde percentage tbv de implementatiekosten in. Vervolgens rekent de sheet uw implementatiekosten per Deelnemer door; Totale implementatiekosten per waterschap zijn maximaal anderhalf maal de jaarkosten van het respectievelijke waterschap (Velden L31 t/m L44); Het totale Implementatie-percentage mag de 100% niet overstijgen. Uw inschrijving is in dat geval ongeldig en zal niet worden beoordeeld; Het staat u vrij om minder dan 100% aan maximale implementatiewaarde in te voeren; Het kan voorkomen dat Deelnemers minder dan 5 Koppelvlakken afnemen. Onderstaande tabel is dan ook generlei uitlegbaar als minimale (implementatie-)afnameverplichting; | K28: =IF(($D$29+$E$29+$F$29+$G$29+$H$29+$J$29)>100,"Let op! Uw totale Implementie-percentage overstijgt de 100%! Uw Inschrijving is hiermee ongeldig!","") | M28: Uw Implementatiekosten | N28: Maximale | O28: Uw Aanbieding | P28: Uw Aanbieding
B29: Personeels-factor | C29: Verloningen | D29: 0 | E29: 0 | F29: 0 | G29: 0 | H29: 0 | I29: Procenten | J29: 0 | K29: Jaarlijkse kosten | L29: Maximale implementatie-kosten | M29: (obv de door u ingevoerde percentages op regel 29) | N29: TCO (9 jaar) | O29: TCO 5 initiële jaren | P29: TCO 9 jaren | Q29: =IF(D29+E29+F29+G29+H29+J29>100,"Boven de 100%!") -> FALSE
A30: Verdeling per Deelnemer | D30: (REST)API-Koppelvlak (eenmalig) | E30: SOAP-Koppelvlak (eenmalig) | F30: ESB-Koppelvlak (eenmalig) | G30: ETL-Koppelvlak (eenmalig) | H30: SFTP-Koppelvlak (eenmalig) | I30: TOTAAL Implementatie Koppelvlakken (eenmalig) | J30: TOTAAL Implementatie overigen (eenmalig) | Q30: 0
A31: Waterschap Vallei en Veluwe | B31: =C31/$E$16 -> 1.1310466 | C31: 643 | D31: ='Overall Prijzen'!$L31*$D$29/100 -> 0 | E31: ='Overall Prijzen'!$L31*$E$29/100 -> 0 | F31: ='Overall Prijzen'!$L31*$F$29/100 -> 0 | G31: ='Overall Prijzen'!$L31*$G$29/100 -> 0 | H31: ='Overall Prijzen'!$L31*$H$29/100 -> 0 | I31: =SUM(D31:H31) -> 0 | J31: =$L31*$J$29/100 -> 0 | K31: =100/1000*$C31*$E$17 -> 0 | L31: =K31*1.5 -> 0 | M31: =I31+J31 -> 0 | N31: =(K31*9)+L31 -> 0 | O31: =SUM(I31:J31,+(K31*5)) -> 0 | P31: =SUM(I31:J31,+(K31*9)) -> 0 | Q31: 0.5
A32: Waterschap Hollandse Delta | B32: =C32/$E$16 -> 1.2242744 | C32: 696 | D32: ='Overall Prijzen'!$L32*$D$29/100 -> 0 | E32: ='Overall Prijzen'!$L32*$E$29/100 -> 0 | F32: ='Overall Prijzen'!$L32*$F$29/100 -> 0 | G32: ='Overall Prijzen'!$L32*$G$29/100 -> 0 | H32: ='Overall Prijzen'!$L32*$H$29/100 -> 0 | I32: =SUM(D32:H32) -> 0 | J32: =$L32*$J$29/100 -> 0 | K32: =100/1000*$C32*$E$17 -> 0 | L32: =K32*1.5 -> 0 | M32: =I32+J32 -> 0 | N32: =(K32*9)+L32 -> 0 | O32: =SUM(I32:J32,+(K32*5)) -> 0 | P32: =SUM(I32:J32,+(K32*9)) -> 0 | Q32: 1
A33: Hoogheemraadschap van Delfland | B33: =C33/$E$16 -> 1.0677221 | C33: 607 | D33: ='Overall Prijzen'!$L33*$D$29/100 -> 0 | E33: ='Overall Prijzen'!$L33*$E$29/100 -> 0 | F33: ='Overall Prijzen'!$L33*$F$29/100 -> 0 | G33: ='Overall Prijzen'!$L33*$G$29/100 -> 0 | H33: ='Overall Prijzen'!$L33*$H$29/100 -> 0 | I33: =SUM(D33:H33) -> 0 | J33: =$L33*$J$29/100 -> 0 | K33: =100/1000*$C33*$E$17 -> 0 | L33: =K33*1.5 -> 0 | M33: =I33+J33 -> 0 | N33: =(K33*9)+L33 -> 0 | O33: =SUM(I33:J33,+(K33*5)) -> 0 | P33: =SUM(I33:J33,+(K33*9)) -> 0 | Q33: 1.5
A34: Hoogheemraadschap van Rijnland | B34: =C34/$E$16 -> 1.5127529 | C34: 860 | D34: ='Overall Prijzen'!$L34*$D$29/100 -> 0 | E34: ='Overall Prijzen'!$L34*$E$29/100 -> 0 | F34: ='Overall Prijzen'!$L34*$F$29/100 -> 0 | G34: ='Overall Prijzen'!$L34*$G$29/100 -> 0 | H34: ='Overall Prijzen'!$L34*$H$29/100 -> 0 | I34: =SUM(D34:H34) -> 0 | J34: =$L34*$J$29/100 -> 0 | K34: =100/1000*$C34*$E$17 -> 0 | L34: =K34*1.5 -> 0 | M34: =I34+J34 -> 0 | N34: =(K34*9)+L34 -> 0 | O34: =SUM(I34:J34,+(K34*5)) -> 0 | P34: =SUM(I34:J34,+(K34*9)) -> 0 | Q34: 2
A35: Hoogheemraadschap van Schieland en Krimpenerwaard (HHSK) | B35: =C35/$E$16 -> 0.85488127 | C35: 486 | D35: ='Overall Prijzen'!$L35*$D$29/100 -> 0 | E35: ='Overall Prijzen'!$L35*$E$29/100 -> 0 | F35: ='Overall Prijzen'!$L35*$F$29/100 -> 0 | G35: ='Overall Prijzen'!$L35*$G$29/100 -> 0 | H35: ='Overall Prijzen'!$L35*$H$29/100 -> 0 | I35: =SUM(D35:H35) -> 0 | J35: =$L35*$J$29/100 -> 0 | K35: =100/1000*$C35*$E$17 -> 0 | L35: =K35*1.5 -> 0 | M35: =I35+J35 -> 0 | N35: =(K35*9)+L35 -> 0 | O35: =SUM(I35:J35,+(K35*5)) -> 0 | P35: =SUM(I35:J35,+(K35*9)) -> 0 | Q35: 2.5
A36: Waterschap Scheldestromen | B36: =C36/$E$16 -> 0.99032542 | C36: 563 | D36: ='Overall Prijzen'!$L36*$D$29/100 -> 0 | E36: ='Overall Prijzen'!$L36*$E$29/100 -> 0 | F36: ='Overall Prijzen'!$L36*$F$29/100 -> 0 | G36: ='Overall Prijzen'!$L36*$G$29/100 -> 0 | H36: ='Overall Prijzen'!$L36*$H$29/100 -> 0 | I36: =SUM(D36:H36) -> 0 | J36: =$L36*$J$29/100 -> 0 | K36: =100/1000*$C36*$E$17 -> 0 | L36: =K36*1.5 -> 0 | M36: =I36+J36 -> 0 | N36: =(K36*9)+L36 -> 0 | O36: =SUM(I36:J36,+(K36*5)) -> 0 | P36: =SUM(I36:J36,+(K36*9)) -> 0 | Q36: 3
A37: Waterschap Aa en Maas | B37: =C37/$E$16 -> 1.0167106 | C37: 578 | D37: ='Overall Prijzen'!$L37*$D$29/100 -> 0 | E37: ='Overall Prijzen'!$L37*$E$29/100 -> 0 | F37: ='Overall Prijzen'!$L37*$F$29/100 -> 0 | G37: ='Overall Prijzen'!$L37*$G$29/100 -> 0 | H37: ='Overall Prijzen'!$L37*$H$29/100 -> 0 | I37: =SUM(D37:H37) -> 0 | J37: =$L37*$J$29/100 -> 0 | K37: =100/1000*$C37*$E$17 -> 0 | L37: =K37*1.5 -> 0 | M37: =I37+J37 -> 0 | N37: =(K37*9)+L37 -> 0 | O37: =SUM(I37:J37,+(K37*5)) -> 0 | P37: =SUM(I37:J37,+(K37*9)) -> 0
A38: Waterschap Brabantse Delta | B38: =C38/$E$16 -> 1.0993843 | C38: 625 | D38: ='Overall Prijzen'!$L38*$D$29/100 -> 0 | E38: ='Overall Prijzen'!$L38*$E$29/100 -> 0 | F38: ='Overall Prijzen'!$L38*$F$29/100 -> 0 | G38: ='Overall Prijzen'!$L38*$G$29/100 -> 0 | H38: ='Overall Prijzen'!$L38*$H$29/100 -> 0 | I38: =SUM(D38:H38) -> 0 | J38: =$L38*$J$29/100 -> 0 | K38: =100/1000*$C38*$E$17 -> 0 | L38: =K38*1.5 -> 0 | M38: =I38+J38 -> 0 | N38: =(K38*9)+L38 -> 0 | O38: =SUM(I38:J38,+(K38*5)) -> 0 | P38: =SUM(I38:J38,+(K38*9)) -> 0
A39: Waterschap Vechtstromen | B39: =C39/$E$16 -> 0.99384345 | C39: 565 | D39: ='Overall Prijzen'!$L39*$D$29/100 -> 0 | E39: ='Overall Prijzen'!$L39*$E$29/100 -> 0 | F39: ='Overall Prijzen'!$L39*$F$29/100 -> 0 | G39: ='Overall Prijzen'!$L39*$G$29/100 -> 0 | H39: ='Overall Prijzen'!$L39*$H$29/100 -> 0 | I39: =SUM(D39:H39) -> 0 | J39: =$L39*$J$29/100 -> 0 | K39: =100/1000*$C39*$E$17 -> 0 | L39: =K39*1.5 -> 0 | M39: =I39+J39 -> 0 | N39: =(K39*9)+L39 -> 0 | O39: =SUM(I39:J39,+(K39*5)) -> 0 | P39: =SUM(I39:J39,+(K39*9)) -> 0
A40: Waterschap Noorderzijlvest | B40: =C40/$E$16 -> 0.70360598 | C40: 400 | D40: ='Overall Prijzen'!$L40*$D$29/100 -> 0 | E40: ='Overall Prijzen'!$L40*$E$29/100 -> 0 | F40: ='Overall Prijzen'!$L40*$F$29/100 -> 0 | G40: ='Overall Prijzen'!$L40*$G$29/100 -> 0 | H40: ='Overall Prijzen'!$L40*$H$29/100 -> 0 | I40: =SUM(D40:H40) -> 0 | J40: =$L40*$J$29/100 -> 0 | K40: =100/1000*$C40*$E$17 -> 0 | L40: =K40*1.5 -> 0 | M40: =I40+J40 -> 0 | N40: =(K40*9)+L40 -> 0 | O40: =SUM(I40:J40,+(K40*5)) -> 0 | P40: =SUM(I40:J40,+(K40*9)) -> 0
A41: Waterschap Drents Overijsselse Delta (WDOD) | B41: =C41/$E$16 -> 1.2049252 | C41: 685 | D41: ='Overall Prijzen'!$L41*$D$29/100 -> 0 | E41: ='Overall Prijzen'!$L41*$E$29/100 -> 0 | F41: ='Overall Prijzen'!$L41*$F$29/100 -> 0 | G41: ='Overall Prijzen'!$L41*$G$29/100 -> 0 | H41: ='Overall Prijzen'!$L41*$H$29/100 -> 0 | I41: =SUM(D41:H41) -> 0 | J41: =$L41*$J$29/100 -> 0 | K41: =100/1000*$C41*$E$17 -> 0 | L41: =K41*1.5 -> 0 | M41: =I41+J41 -> 0 | N41: =(K41*9)+L41 -> 0 | O41: =SUM(I41:J41,+(K41*5)) -> 0 | P41: =SUM(I41:J41,+(K41*9)) -> 0
A42: Waterschap de Dommel | B42: =C42/$E$16 -> 1.0905893 | C42: 620 | D42: ='Overall Prijzen'!$L42*$D$29/100 -> 0 | E42: ='Overall Prijzen'!$L42*$E$29/100 -> 0 | F42: ='Overall Prijzen'!$L42*$F$29/100 -> 0 | G42: ='Overall Prijzen'!$L42*$G$29/100 -> 0 | H42: ='Overall Prijzen'!$L42*$H$29/100 -> 0 | I42: =SUM(D42:H42) -> 0 | J42: =$L42*$J$29/100 -> 0 | K42: =100/1000*$C42*$E$17 -> 0 | L42: =K42*1.5 -> 0 | M42: =I42+J42 -> 0 | N42: =(K42*9)+L42 -> 0 | O42: =SUM(I42:J42,+(K42*5)) -> 0 | P42: =SUM(I42:J42,+(K42*9)) -> 0
A43: Waterschap Rijn en IJssel | B43: =C43/$E$16 -> 0.91468777 | C43: 520 | D43: ='Overall Prijzen'!$L43*$D$29/100 -> 0 | E43: ='Overall Prijzen'!$L43*$E$29/100 -> 0 | F43: ='Overall Prijzen'!$L43*$F$29/100 -> 0 | G43: ='Overall Prijzen'!$L43*$G$29/100 -> 0 | H43: ='Overall Prijzen'!$L43*$H$29/100 -> 0 | I43: =SUM(D43:H43) -> 0 | J43: =$L43*$J$29/100 -> 0 | K43: =100/1000*$C43*$E$17 -> 0 | L43: =K43*1.5 -> 0 | M43: =I43+J43 -> 0 | N43: =(K43*9)+L43 -> 0 | O43: =SUM(I43:J43,+(K43*5)) -> 0 | P43: =SUM(I43:J43,+(K43*9)) -> 0
A44: Unie van Waterschappen (UVW) | B44: =C44/$E$16 -> 0.19525066 | C44: 111 | D44: ='Overall Prijzen'!$L44*$D$29/100 -> 0 | E44: ='Overall Prijzen'!$L44*$E$29/100 -> 0 | F44: ='Overall Prijzen'!$L44*$F$29/100 -> 0 | G44: ='Overall Prijzen'!$L44*$G$29/100 -> 0 | H44: ='Overall Prijzen'!$L44*$H$29/100 -> 0 | I44: =SUM(D44:H44) -> 0 | J44: =$L44*$J$29/100 -> 0 | K44: =100/1000*$C44*$E$17 -> 0 | L44: =K44*1.5 -> 0 | M44: =I44+J44 -> 0 | N44: =(K44*9)+L44 -> 0 | O44: =SUM(I44:J44,+(K44*5)) -> 0 | P44: =SUM(I44:J44,+(K44*9)) -> 0
J45: =IF(J29<0,"Geen negatief % invoeren aub. Op deze wijze is uw inschrijving ongeldig!","")
A46: Totale kosten | C46: =SUM(C$31:C$45) -> 7959 | D46: =SUM(D31:D45) -> 0 | E46: =SUM(E31:E45) -> 0 | F46: =SUM(F31:F45) -> 0 | G46: =SUM(G31:G45) -> 0 | H46: =SUM(H31:H45) -> 0 | I46: =SUM(I31:I44) -> 0 | J46: =SUM(J31:J44) -> 0 | K46: =SUM(K31:K45) -> 0 | L46: =SUM(L31:L45) -> 0 | M46: =SUM(M31:M45) -> 0 | N46: =SUM(N31:N45) -> 0 | O46: =SUM(O31:O45) -> 0 | P46: =SUM(P31:P45) -> 0
A47: Gemiddelde prijs per verloning, per jaar | K47: =K46/$C46 -> 0 | N47: =N46/9/C46 -> 0
A48: Alle bedragen zijn exclusief 21% BTW | F48: =IF(($D$29+$E$29+$F$29+$G$29+$H$29+$J$29)>100,"Let op! Uw totale Implementie-percentage overstijgt de 100%. Uw Inschrijving is hiermee ongeldig!","") | O48: Inschrijprijs
A49: Gemiddeld aantal verloning per organisatie | C49: =C46/E24 -> 568.5 | F49: =IF($O$46>4100000,"Let op! U overstijgt de plafondwaarde!","")
A50: Individuele gemiddelde prijs per verloning per jaar | C50: =O46/$C46/5 -> 0 | D50: =P46/$C46/9 -> 0 | E50: =D50/12 -> 0
C51: 5 jaar | D51: 9 jaar | E51: pmnd (9yr)
A53: Uurtarief** consultancy | B53: Prijs
A54: Uurtarief Junior Consultant. Exclusief BTW, inclusief alle overige kosten | B54: 0
A55: Uurtarief Medior Consultant. Exclusief BTW, inclusief alle overige kosten | B55: 0
A56: Uurtarief Senior Consultant. Exclusief BTW, inclusief alle overige kosten | B56: 0 | D56: • Alle gele cellen dienen door Inschrijver te worden ingevuld.
A57: Vervanging salarisadministrateur. Exclusief BTW, inclusief alle overige kosten | B57: 0 | D57: • Ook wanneer u een onderdeel niet aanbiedt, dient u iets in te vullen, minimaal '0' (null)
A58: **Uurtarieven dienen enkel ter vastlegging van maximale uurtarieven onder de Raamovereenkomst. Deze velden zijn gemaximeerd, tellen niet mee in de beoordeling, en zijn generlei uitlegbaar als enige minimale afnameverplichting voor deelnemers. | D58: • Er mogen geen negatieve bedragen en/of percentages worden ingevuld.
D59: • Overige cellen worden, waar benodigd, automatisch berekend.
A60: Optionele kosten*** | B60: Prijs | D60: • Dit inschrijfbiljet dient rechtsgeldig te worden ondertekend.
A61: PA07 Werving en selectie | B61: 0 | D61: • Het inschrijfbiljet mag niet worden gewijzigd door de leverancier.
A62: PA14 SPP | B62: 0 | D62: • Alle prijzen zijn exclusief BTW.
A63: PA15 Gesprekscyclus | B63: 0
A64: PA16 LMS | B64: 0
A65: *** U kunt hier uw gemiddelde kosten per gemiddelde Deelnemer (1) invoeren ten behoeve van de initiële 5 jaren, inclusief bijbehorende implementatie. Bovenstaande kosten worden eventueel optioneel door opdrachtgever afgenomen en worden derhlave niet meegewogen in uw totale inschrijfsom.
A67: Inschrijver verklaart dat bovenstaande tabel wordt gebruikt als prijstabel om de prijs per individueel waterschap vast te stellen.
A69: Inschrijvende organisatie:
A71: Naam:
A73: Functie:
A75: Datum:
A77: Handtekening:
