Workbook
Name SCORE: 'Beoordelen open vraag'!$C$4:$C$5

Sheet Beoordelen open vraag
A1: 2. OPEN VRAAG
A2: Naast de gestelde eisen uit de onderhavige aanbesteding is de aanbestedende dienst op zoek naar een opdrachtnemer die haar gedurende de periode van de raamovereenkomst kan voorzien van veel toegevoegde waarde. Hoe meer toegevoegde waarde een inschrijver biedt, hoe hoger zij op dit onderdeel kwaliteit scoort. Alle antwoorden van een inschrijver dienen realistisch en uitvoerbaar te zijn. Een honorering van de antwoorden zal nimmer leiden tot een verplichte afname van datgene wat inschrijver heeft ingediend.
A3: Inschrijver beschrijft in maximaal 2 A4 PDF (toe te voegen via TenderNed) op welke wijze zij invulling gaat geven aan het accountmanagement, waarbij er rekening mee gehouden moet worden dat iedere school ZELF de contacten wil onderhouden. Inschrijver beschrijft minimaal op welke concrete wijze zij zichzelf na gunning gaat introduceren bij alle scholen en hoe de contacten tussen de scholen en opdrachtnemer zullen verlopen. Inschrijver beschrijft tevens een tijdspad wanneer zij welke communicatie uitvoert en welke inspanningen zijn van de contractmanager van opdrachtgever daarbij verwacht.
A4: 1. Accountmanagement | B4: Te behalen waarde bij Uitmuntend | C4: Te behalen waarde bij Goed | D4: Te behalen waarde bij Voldoende | E4: Te behalen waarde bij Matig | F4: Te behalen waarde bij Onvoldoende
A5: Zie bijlage 7 "Kwaliteit" | B5: 10000 | C5: 7000 | D5: 0 | E5: -20000 | F5: UITSLUITING
A6: 2. Plan van aanpak en niveau dienstverlening | B6: Te behalen waarde bij Uitmuntend | C6: Te behalen waarde bij Goed | D6: Te behalen waarde bij Voldoende | E6: Te behalen waarde bij Matig | F6: Te behalen waarde bij Onvoldoende
A7: Zie bijlage 7 "Kwaliteit" | B7: 30000 | C7: 21000 | D7: 0 | E7: -60000 | F7: UITSLUITING
A8: 3. Goede samenwerking, visie op partnerschap | B8: Te behalen waarde bij Uitmuntend | C8: Te behalen waarde bij Goed | D8: Te behalen waarde bij Voldoende | E8: Te behalen waarde bij Matig | F8: Te behalen waarde bij Onvoldoende
A9: Zie bijlage 7 "Kwaliteit" | B9: 30000 | C9: 21000 | D9: 0 | E9: -60000 | F9: UITSLUITING
A10: 4. Aanvragen vanuit opdrachtgever aan de helpdesk van inschrijver | B10: Te behalen waarde bij Uitmuntend | C10: Te behalen waarde bij Goed | D10: Te behalen waarde bij Voldoende | E10: Te behalen waarde bij Matig | F10: Te behalen waarde bij Onvoldoende
A11: Zie bijlage 7 "Kwaliteit" | B11: 30000 | C11: 21000 | D11: 0 | E11: -60000 | F11: UITSLUITING
A12: 5. Organisatie service | B12: Te behalen waarde bij Uitmuntend | C12: Te behalen waarde bij Goed | D12: Te behalen waarde bij Voldoende | E12: Te behalen waarde bij Matig | F12: Te behalen waarde bij Onvoldoende
A13: Zie bijlage 7 "Kwaliteit" | B13: 30000 | C13: 21000 | D13: 0 | E13: -60000 | F13: UITSLUITING
A14: 6. Milieu en duurzaamheid | B14: Te behalen waarde bij Uitmuntend | C14: Te behalen waarde bij Goed | D14: Te behalen waarde bij Voldoende | E14: Te behalen waarde bij Matig | F14: Te behalen waarde bij Onvoldoende
A15: Zie bijlage 7 "Kwaliteit" | B15: 10000 | C15: 7000 | D15: 0 | E15: -20000 | F15: UITSLUITING
A18: SCORE:
A19: Uitmuntend
A20: Goed
A21: Voldoende
A22: Matig
A23: Onvoldoende

Sheet Beoordelaar 1
A1: Beoordelaar 1: <<>> | C1: <INSCHRIJVER> | F1: <INSCHRIJVER> | I1: <INSCHRIJVER>
A2: 1. OPEN VRAGEN
A3: ='Beoordelen open vraag'!A4 -> 1. Accountmanagement | C3: SCORE | F3: SCORE | I3: SCORE
A4: ='Beoordelen open vraag'!A5 -> Zie bijlage 7 "Kwaliteit" | C4: <MOTIVATIE> | F4: <MOTIVATIE> | I4: <MOTIVATIE>
A5: ='Beoordelen open vraag'!A6 -> 2. Plan van aanpak en niveau dienstverlening | C5: SCORE | F5: SCORE | I5: SCORE
A6: ='Beoordelen open vraag'!A7 -> Zie bijlage 7 "Kwaliteit" | C6: <MOTIVATIE> | F6: <MOTIVATIE> | I6: <MOTIVATIE>
A7: ='Beoordelen open vraag'!A8 -> 3. Goede samenwerking, visie op partnerschap | C7: SCORE | F7: SCORE | I7: SCORE
A8: ='Beoordelen open vraag'!A9 -> Zie bijlage 7 "Kwaliteit" | C8: <MOTIVATIE> | F8: <MOTIVATIE> | I8: <MOTIVATIE>
A9: ='Beoordelen open vraag'!A10 -> 4. Aanvragen vanuit opdrachtgever aan de helpdesk van inschrijver | C9: SCORE | F9: SCORE | I9: SCORE
A10: ='Beoordelen open vraag'!A11 -> Zie bijlage 7 "Kwaliteit" | C10: <MOTIVATIE> | F10: <MOTIVATIE> | I10: <MOTIVATIE>
A11: ='Beoordelen open vraag'!A12 -> 5. Organisatie service | C11: SCORE | F11: SCORE | I11: SCORE
A12: ='Beoordelen open vraag'!A13 -> Zie bijlage 7 "Kwaliteit" | C12: <MOTIVATIE> | F12: <MOTIVATIE> | I12: <MOTIVATIE>
A13: ='Beoordelen open vraag'!A14 -> 6. Milieu en duurzaamheid | C13: SCORE | F13: SCORE | I13: SCORE
A14: ='Beoordelen open vraag'!A15 -> Zie bijlage 7 "Kwaliteit" | C14: <MOTIVATIE> | F14: <MOTIVATIE> | I14: <MOTIVATIE>

Sheet Beoordelaar 2
A1: Beoordelaar 1: <<>> | C1: <INSCHRIJVER> | F1: <INSCHRIJVER> | I1: <INSCHRIJVER>
A2: 1. OPEN VRAGEN
A3: ='Beoordelen open vraag'!A4 -> 1. Accountmanagement | C3: SCORE | F3: SCORE | I3: SCORE
A4: ='Beoordelen open vraag'!A5 -> Zie bijlage 7 "Kwaliteit" | C4: <MOTIVATIE> | F4: <MOTIVATIE> | I4: <MOTIVATIE>
A5: ='Beoordelen open vraag'!A6 -> 2. Plan van aanpak en niveau dienstverlening | C5: SCORE | F5: SCORE | I5: SCORE
A6: ='Beoordelen open vraag'!A7 -> Zie bijlage 7 "Kwaliteit" | C6: <MOTIVATIE> | F6: <MOTIVATIE> | I6: <MOTIVATIE>
A7: ='Beoordelen open vraag'!A8 -> 3. Goede samenwerking, visie op partnerschap | C7: SCORE | F7: SCORE | I7: SCORE
A8: ='Beoordelen open vraag'!A9 -> Zie bijlage 7 "Kwaliteit" | C8: <MOTIVATIE> | F8: <MOTIVATIE> | I8: <MOTIVATIE>
A9: ='Beoordelen open vraag'!A10 -> 4. Aanvragen vanuit opdrachtgever aan de helpdesk van inschrijver | C9: SCORE | F9: SCORE | I9: SCORE
A10: ='Beoordelen open vraag'!A11 -> Zie bijlage 7 "Kwaliteit" | C10: <MOTIVATIE> | F10: <MOTIVATIE> | I10: <MOTIVATIE>
A11: ='Beoordelen open vraag'!A12 -> 5. Organisatie service | C11: SCORE | F11: SCORE | I11: SCORE
A12: ='Beoordelen open vraag'!A13 -> Zie bijlage 7 "Kwaliteit" | C12: <MOTIVATIE> | F12: <MOTIVATIE> | I12: <MOTIVATIE>
A13: ='Beoordelen open vraag'!A14 -> 6. Milieu en duurzaamheid | C13: SCORE | F13: SCORE | I13: SCORE
A14: ='Beoordelen open vraag'!A15 -> Zie bijlage 7 "Kwaliteit" | C14: <MOTIVATIE> | F14: <MOTIVATIE> | I14: <MOTIVATIE>

Sheet Beoordelaar 3
A1: Beoordelaar 1: <<>> | C1: <INSCHRIJVER> | F1: <INSCHRIJVER> | I1: <INSCHRIJVER>
A2: 1. OPEN VRAGEN
A3: ='Beoordelen open vraag'!A4 -> 1. Accountmanagement | C3: SCORE | F3: SCORE | I3: SCORE
A4: ='Beoordelen open vraag'!A5 -> Zie bijlage 7 "Kwaliteit" | C4: <MOTIVATIE> | F4: <MOTIVATIE> | I4: <MOTIVATIE>
A5: ='Beoordelen open vraag'!A6 -> 2. Plan van aanpak en niveau dienstverlening | C5: SCORE | F5: SCORE | I5: SCORE
A6: ='Beoordelen open vraag'!A7 -> Zie bijlage 7 "Kwaliteit" | C6: <MOTIVATIE> | F6: <MOTIVATIE> | I6: <MOTIVATIE>
A7: ='Beoordelen open vraag'!A8 -> 3. Goede samenwerking, visie op partnerschap | C7: SCORE | F7: SCORE | I7: SCORE
A8: ='Beoordelen open vraag'!A9 -> Zie bijlage 7 "Kwaliteit" | C8: <MOTIVATIE> | F8: <MOTIVATIE> | I8: <MOTIVATIE>
A9: ='Beoordelen open vraag'!A10 -> 4. Aanvragen vanuit opdrachtgever aan de helpdesk van inschrijver | C9: SCORE | F9: SCORE | I9: SCORE
A10: ='Beoordelen open vraag'!A11 -> Zie bijlage 7 "Kwaliteit" | C10: <MOTIVATIE> | F10: <MOTIVATIE> | I10: <MOTIVATIE>
A11: ='Beoordelen open vraag'!A12 -> 5. Organisatie service | C11: SCORE | F11: SCORE | I11: SCORE
A12: ='Beoordelen open vraag'!A13 -> Zie bijlage 7 "Kwaliteit" | C12: <MOTIVATIE> | F12: <MOTIVATIE> | I12: <MOTIVATIE>
A13: ='Beoordelen open vraag'!A14 -> 6. Milieu en duurzaamheid | C13: SCORE | F13: SCORE | I13: SCORE
A14: ='Beoordelen open vraag'!A15 -> Zie bijlage 7 "Kwaliteit" | C14: <MOTIVATIE> | F14: <MOTIVATIE> | I14: <MOTIVATIE>

Sheet Consensus
A1: Totaalwaardes criterium open vragen | D1: Inschrijver 1 | G1: Inschrijver 2 | J1: Inscrijver 3
A2: 2. Open vragen | E2: Motivatie consensus: | H2: Motivatie consensus: | K2: Motivatie consensus:
A3: ='Beoordelen open vraag'!A4 -> 1. Accountmanagement | B3: Beoordelaar 1 | D3: ='Beoordelaar 1'!C3 -> SCORE | E3: <MOTIVATIE> | G3: ='Beoordelaar 1'!F3 -> SCORE | H3: <MOTIVATIE> | J3: ='Beoordelaar 1'!I3 -> SCORE | K3: <MOTIVATIE>
B4: Beoordelaar 2 | D4: ='Beoordelaar 2'!C3 -> SCORE | G4: ='Beoordelaar 2'!F3 -> SCORE | J4: ='Beoordelaar 2'!I3 -> SCORE
B5: Beoordelaar 3 | D5: ='Beoordelaar 3'!C3 -> SCORE | G5: ='Beoordelaar 3'!F3 -> SCORE | J5: ='Beoordelaar 3'!I3 -> SCORE
A6: Consensus | D6: SCORE: | G6: SCORE: | J6: SCORE:
D7: =IF(D6="Uitmuntend","€ 10.000",IF(D6="Goed","€ 7.000",IF(D6="Voldoende","€ 0",IF(D6="Matig","- € 20.000",IF(D6="Onvoldoende","UITSLUITING"," "))))) | G7: =IF(G6="Uitmuntend","€ 10.000",IF(G6="Goed","€ 7.000",IF(G6="Voldoende","€ 0",IF(G6="Matig","- € 20.000",IF(G6="Onvoldoende","UITSLUITING"," "))))) | J7: =IF(J6="Uitmuntend","€ 10.000",IF(J6="Goed","€ 7.000",IF(J6="Voldoende","€ 0",IF(J6="Matig","- € 20.000",IF(J6="Onvoldoende","UITSLUITING"," ")))))
A8: ='Beoordelen open vraag'!A6 -> 2. Plan van aanpak en niveau dienstverlening | B8: Beoordelaar 1 | D8: ='Beoordelaar 1'!C5 -> SCORE | E8: <MOTIVATIE> | G8: ='Beoordelaar 1'!F5 -> SCORE | H8: <MOTIVATIE> | J8: ='Beoordelaar 1'!I5 -> SCORE | K8: <MOTIVATIE>
B9: Beoordelaar 2 | D9: ='Beoordelaar 2'!C5 -> SCORE | G9: ='Beoordelaar 2'!F5 -> SCORE | J9: ='Beoordelaar 2'!I5 -> SCORE
B10: Beoordelaar 3 | D10: ='Beoordelaar 3'!C5 -> SCORE | G10: ='Beoordelaar 3'!F5 -> SCORE | J10: ='Beoordelaar 3'!I5 -> SCORE
A11: Consensus | D11: SCORE: | G11: SCORE: | J11: SCORE:
D12: =IF(D11="Uitmuntend","€ 30.000",IF(D11="Goed","€ 21.000",IF(D11="Voldoende","€ 0",IF(D11="Matig","- € 60.000",IF(D11="Onvoldoende","UITSLUITING"," "))))) | G12: =IF(G11="Uitmuntend","€ 30.000",IF(G11="Goed","€ 21.000",IF(G11="Voldoende","€ 0",IF(G11="Matig","- € 60.000",IF(G11="Onvoldoende","UITSLUITING"," "))))) | J12: =IF(J11="Uitmuntend","€ 30.000",IF(J11="Goed","€ 21.000",IF(J11="Voldoende","€ 0",IF(J11="Matig","- € 60.000",IF(J11="Onvoldoende","UITSLUITING"," ")))))
A13: ='Beoordelen open vraag'!A8 -> 3. Goede samenwerking, visie op partnerschap | B13: Beoordelaar 1 | D13: ='Beoordelaar 1'!C7 -> SCORE | E13: <MOTIVATIE> | G13: ='Beoordelaar 1'!F7 -> SCORE | H13: <MOTIVATIE> | J13: ='Beoordelaar 1'!I7 -> SCORE | K13: <MOTIVATIE>
B14: Beoordelaar 2 | D14: ='Beoordelaar 2'!C7 -> SCORE | G14: ='Beoordelaar 2'!F7 -> SCORE | J14: ='Beoordelaar 2'!I7 -> SCORE
B15: Beoordelaar 3 | D15: ='Beoordelaar 3'!C7 -> SCORE | G15: ='Beoordelaar 3'!F7 -> SCORE | J15: ='Beoordelaar 3'!I7 -> SCORE
A16: Consensus | D16: SCORE: | G16: SCORE: | J16: SCORE:
D17: =IF(D16="Uitmuntend","€ 30.000",IF(D16="Goed","€ 21.000",IF(D16="Voldoende","€ 0",IF(D16="Matig","- € 60.000",IF(D16="Onvoldoende","UITSLUITING"," "))))) | G17: =IF(G16="Uitmuntend","€ 30.000",IF(G16="Goed","€ 21.000",IF(G16="Voldoende","€ 0",IF(G16="Matig","- € 60.000",IF(G16="Onvoldoende","UITSLUITING"," "))))) | J17: =IF(J16="Uitmuntend","€ 30.000",IF(J16="Goed","€ 21.000",IF(J16="Voldoende","€ 0",IF(J16="Matig","- € 60.000",IF(J16="Onvoldoende","UITSLUITING"," ")))))
A18: ='Beoordelen open vraag'!A10 -> 4. Aanvragen vanuit opdrachtgever aan de helpdesk van inschrijver | B18: Beoordelaar 1 | D18: ='Beoordelaar 1'!C9 -> SCORE | E18: <MOTIVATIE> | G18: ='Beoordelaar 1'!F9 -> SCORE | H18: <MOTIVATIE> | J18: ='Beoordelaar 1'!I9 -> SCORE | K18: <MOTIVATIE>
B19: Beoordelaar 2 | D19: ='Beoordelaar 2'!C9 -> SCORE | G19: ='Beoordelaar 2'!F9 -> SCORE | J19: ='Beoordelaar 2'!I9 -> SCORE
B20: Beoordelaar 3 | D20: ='Beoordelaar 3'!C9 -> SCORE | G20: ='Beoordelaar 3'!F9 -> SCORE | J20: ='Beoordelaar 3'!I9 -> SCORE
A21: Consensus | D21: SCORE: | G21: SCORE: | J21: SCORE:
D22: =IF(D21="Uitmuntend","€ 30.000",IF(D21="Goed","€ 21.000",IF(D21="Voldoende","€ 0",IF(D21="Matig","- € 60.000",IF(D21="Onvoldoende","UITSLUITING"," "))))) | G22: =IF(G21="Uitmuntend","€ 30.000",IF(G21="Goed","€ 21.000",IF(G21="Voldoende","€ 0",IF(G21="Matig","- € 60.000",IF(G21="Onvoldoende","UITSLUITING"," "))))) | J22: =IF(J21="Uitmuntend","€ 30.000",IF(J21="Goed","€ 21.000",IF(J21="Voldoende","€ 0",IF(J21="Matig","- € 60.000",IF(J21="Onvoldoende","UITSLUITING"," ")))))
A23: ='Beoordelen open vraag'!A12 -> 5. Organisatie service | B23: Beoordelaar 1 | D23: ='Beoordelaar 1'!C11 -> SCORE | E23: <MOTIVATIE> | G23: ='Beoordelaar 1'!F11 -> SCORE | H23: <MOTIVATIE> | J23: ='Beoordelaar 1'!I11 -> SCORE | K23: <MOTIVATIE>
B24: Beoordelaar 2 | D24: ='Beoordelaar 2'!C11 -> SCORE | G24: ='Beoordelaar 2'!F11 -> SCORE | J24: ='Beoordelaar 2'!I11 -> SCORE
B25: Beoordelaar 3 | D25: ='Beoordelaar 3'!C11 -> SCORE | G25: ='Beoordelaar 3'!F11 -> SCORE | J25: ='Beoordelaar 3'!I11 -> SCORE
A26: Consensus | D26: SCORE: | G26: SCORE: | J26: SCORE:
D27: =IF(D26="Uitmuntend","€ 30.000",IF(D26="Goed","€ 21.000",IF(D26="Voldoende","€ 0",IF(D26="Matig","- € 60.000",IF(D26="Onvoldoende","UITSLUITING"," "))))) | G27: =IF(G26="Uitmuntend","€ 30.000",IF(G26="Goed","€ 21.000",IF(G26="Voldoende","€ 0",IF(G26="Matig","- € 60.000",IF(G26="Onvoldoende","UITSLUITING"," "))))) | J27: =IF(J26="Uitmuntend","€ 30.000",IF(J26="Goed","€ 21.000",IF(J26="Voldoende","€ 0",IF(J26="Matig","- € 60.000",IF(J26="Onvoldoende","UITSLUITING"," ")))))
A28: ='Beoordelen open vraag'!A14 -> 6. Milieu en duurzaamheid | B28: Beoordelaar 1 | D28: ='Beoordelaar 1'!C13 -> SCORE | E28: <MOTIVATIE> | G28: ='Beoordelaar 1'!F13 -> SCORE | H28: <MOTIVATIE> | J28: ='Beoordelaar 1'!I13 -> SCORE | K28: <MOTIVATIE>
B29: Beoordelaar 2 | D29: ='Beoordelaar 2'!C13 -> SCORE | G29: ='Beoordelaar 2'!F13 -> SCORE | J29: ='Beoordelaar 2'!I13 -> SCORE
B30: Beoordelaar 3 | D30: ='Beoordelaar 3'!C13 -> SCORE | G30: ='Beoordelaar 3'!F13 -> SCORE | J30: ='Beoordelaar 3'!I13 -> SCORE
A31: Consensus | D31: SCORE: | G31: SCORE: | J31: SCORE:
D32: =IF(D31="Uitmuntend","€ 10.000",IF(D31="Goed","€ 7.000",IF(D31="Voldoende","€ 0",IF(D31="Matig","- € 20.000",IF(D31="Onvoldoende","UITSLUITING"," "))))) | G32: =IF(G31="Uitmuntend","€ 10.000",IF(G31="Goed","€ 7.000",IF(G31="Voldoende","€ 0",IF(G31="Matig","- € 20.000",IF(G31="Onvoldoende","UITSLUITING"," "))))) | J32: =IF(J31="Uitmuntend","€ 10.000",IF(J31="Goed","€ 7.000",IF(J31="Voldoende","€ 0",IF(J31="Matig","- € 20.000",IF(J31="Onvoldoende","UITSLUITING"," ")))))
A34: Totaal score open vragen: | D34: =D7+D12+D17+D22+D27+D32 -> #VALUE! | G34: =G7+G12+G17+G22+G27+G32 -> #VALUE! | J34: =J7+J12+J17+J22+J27+J32 -> #VALUE!

Sheet Eindscores
A1: Totaalwaarde criterium kwaliteit
A2: Onderdeel | D2: =Consensus!D1 -> Inschrijver 1 | G2: =Consensus!G1 -> Inschrijver 2 | J2: =Consensus!J1 -> Inscrijver 3
A3: Totaal behaalde waarde beantwoording open vraag: | D3: =Consensus!D34 -> #VALUE! | G3: =Consensus!G34 -> #VALUE! | J3: =Consensus!J34 -> #VALUE!
A4: Totaal behaalde waarde gebruiksvriendelijkheid: | D4: 0 | G4: 0 | J4: 0
A6: Totaal behaalde waarde criterium prijs: | D6: 0 | G6: 0 | J6: 0
A8: FICTIEVE EINDWAARDE (prijs-/- kwaliteit): | D8: =D6-D4+D3 -> #VALUE! | G8: =G6-G4+G3 -> #VALUE! | J8: =J6-J4+J3 -> #VALUE!
