Workbook

Sheet Totaal
A1: Ruimte | B1: Week 44 | C1: Week 45 | D1: Week 46 | E1: Week 47 | F1: Week 48 | G1: Week 49 | H1: Totaal
A2: Pantry P81 (8e etage) | B2: ='Fruit week 44'!H2 -> 23 | C2: ='Fruit week 45'!H2 -> 19 | D2: ='Fruit week 46'!H2 -> 24 | E2: ='Fruit week 47'!H2 -> 20 | H2: =SUM(B2:G2) -> 86
A3: Pantry P71 (7e etage) | B3: ='Fruit week 44'!H3 -> 35 | C3: ='Fruit week 45'!H3 -> 36 | D3: ='Fruit week 46'!H3 -> 37 | E3: ='Fruit week 47'!H3 -> 36 | H3: =SUM(B3:G3) -> 144
A4: Pantry P61 (6e etage) | B4: ='Fruit week 44'!H4 -> 25 | C4: ='Fruit week 45'!H4 -> 26 | D4: ='Fruit week 46'!H4 -> 23 | E4: ='Fruit week 47'!H4 -> 22 | H4: =SUM(B4:G4) -> 96
A5: Pantry P51 (5e etage) | B5: ='Fruit week 44'!H5 -> 32 | C5: ='Fruit week 45'!H5 -> 37 | D5: ='Fruit week 46'!H5 -> 25 | E5: ='Fruit week 47'!H5 -> 32 | H5: =SUM(B5:G5) -> 126
A6: Pantry P42 (4e etage) | B6: ='Fruit week 44'!H6 -> 41 | C6: ='Fruit week 45'!H6 -> 48 | D6: ='Fruit week 46'!H6 -> 48 | E6: ='Fruit week 47'!H6 -> 36 | H6: =SUM(B6:G6) -> 173
A7: Pantry P41 (4e etage) | B7: ='Fruit week 44'!H7 -> 55 | C7: ='Fruit week 45'!H7 -> 47 | D7: ='Fruit week 46'!H7 -> 48 | E7: ='Fruit week 47'!H7 -> 36 | H7: =SUM(B7:G7) -> 186
A8: Pantry P31 (3e etage) | B8: ='Fruit week 44'!H8 -> 60 | C8: ='Fruit week 45'!H8 -> 58 | D8: ='Fruit week 46'!H8 -> 49 | E8: ='Fruit week 47'!H8 -> 48 | H8: =SUM(B8:G8) -> 215
A9: Pantry P32 (3e etage) | B9: ='Fruit week 44'!H9 -> 30 | C9: ='Fruit week 45'!H9 -> 36 | D9: ='Fruit week 46'!H9 -> 25 | E9: ='Fruit week 47'!H9 -> 28 | H9: =SUM(B9:G9) -> 119
A10: 3.71/Op het kastje (3e etage) | B10: ='Fruit week 44'!H10 -> 60 | C10: ='Fruit week 45'!H10 -> 55 | D10: ='Fruit week 46'!H10 -> 52 | E10: ='Fruit week 47'!H10 -> 56 | H10: =SUM(B10:G10) -> 223
A11: 3.91/Bruiszone (3e etage) | B11: ='Fruit week 44'!H11 -> 60 | C11: ='Fruit week 45'!H11 -> 60 | D11: ='Fruit week 46'!H11 -> 52 | E11: ='Fruit week 47'!H11 -> 56 | H11: =SUM(B11:G11) -> 228
A12: Pantry P21 (2e etage) | B12: ='Fruit week 44'!H12 -> 30 | C12: ='Fruit week 45'!H12 -> 25 | D12: ='Fruit week 46'!H12 -> 25 | E12: ='Fruit week 47'!H12 -> 31 | H12: =SUM(B12:G12) -> 111
A13: 2.91/Bruiszone (2e etage) | B13: ='Fruit week 44'!H13 -> 60 | C13: ='Fruit week 45'!H13 -> 52 | D13: ='Fruit week 46'!H13 -> 52 | E13: ='Fruit week 47'!H13 -> 57 | H13: =SUM(B13:G13) -> 221
... A22: Pantry P02 (begane grond) | B22: ='Fruit week 44'!H22 -> 36 | C22: ='Fruit week 45'!H22 -> 40 | D22: ='Fruit week 46'!H22 -> 42 | E22: ='Fruit week 47'!H22 -> 35 | H22: =SUM(B22:G22) -> 153
A23: Totaal | B23: =SUM(B2:B22) -> 910 | C23: =SUM(C2:C22) -> 862 | D23: =SUM(D2:D22) -> 836 | E23: =SUM(E2:E22) -> 829 | F23: =SUM(F2:F22) -> 0 | G23: =SUM(G2:G22) -> 0 | H23: =SUM(B23:G23) -> 3437

Sheet Fruit week 44
A1: Ruimte | B1: Standaard aantal stuks | C1: Maandag | D1: Dinsdag | E1: Woensdag | F1: Donderdag | G1: Vrijdag | H1: Totaal
A2: Pantry P81 (8e etage) | B2: 10 | C2: 10 | E2: 10 | F2: 3 | H2: =SUM(C2:G2) -> 23
A3: Pantry P71 (7e etage) | B3: 15 | C3: 15 | E3: 7 | F3: 13 | H3: =SUM(C3:G3) -> 35
A4: Pantry P61 (6e etage) | B4: 10 | C4: 8 | E4: 10 | F4: 7 | H4: =SUM(C4:G4) -> 25
A5: Pantry P51 (5e etage) | B5: 15 | C5: 12 | E5: 14 | F5: 6 | H5: =SUM(C5:G5) -> 32
A6: Pantry P42 (4e etage) | B6: 20 | C6: 10 | E6: 20 | F6: 11 | H6: =SUM(C6:G6) -> 41
A7: Pantry P41 (4e etage) | B7: 20 | C7: 18 | E7: 20 | F7: 17 | H7: =SUM(C7:G7) -> 55
A8: Pantry P31 (3e etage) | B8: 20 | C8: 20 | E8: 20 | F8: 20 | H8: =SUM(C8:G8) -> 60
A9: Pantry P32 (3e etage) | B9: 10 | C9: 10 | E9: 10 | F9: 10 | H9: =SUM(C9:G9) -> 30
A10: 3.71/Op het kastje (3e etage) | B10: 20 | C10: 20 | E10: 20 | F10: 20 | H10: =SUM(C10:G10) -> 60
A11: 3.91/Bruiszone (3e etage) | B11: 20 | C11: 20 | E11: 20 | F11: 20 | H11: =SUM(C11:G11) -> 60
A12: Pantry P21 (2e etage) | B12: 10 | C12: 10 | E12: 10 | F12: 10 | H12: =SUM(C12:G12) -> 30
A13: 2.91/Bruiszone (2e etage) | B13: 20 | C13: 20 | E13: 20 | F13: 20 | H13: =SUM(C13:G13) -> 60
... A22: Pantry P02 (begane grond) | B22: 20 | C22: 12 | E22: 14 | F22: 10 | H22: =SUM(C22:G22) -> 36
A23: Totaal | B23: =SUM(B2:B22) -> 350 | C23: =SUM(C2:C22) -> 308 | D23: =SUM(D2:D22) -> 0 | E23: =SUM(E2:E22) -> 329 | F23: =SUM(F2:F22) -> 273 | G23: =SUM(G2:G22) -> 0 | H23: =SUM(C23:G23) -> 910

Sheet Fruit week 45
A1: Ruimte | B1: Standaard aantal stuks | C1: Maandag | D1: Dinsdag | E1: Woensdag | F1: Donderdag | G1: Vrijdag | H1: Totaal
A2: Pantry P81 (8e etage) | B2: 10 | C2: 4 | D2: 5 | F2: 10 | H2: =SUM(C2:G2) -> 19
A3: Pantry P71 (7e etage) | B3: 15 | C3: 11 | D3: 10 | F3: 15 | H3: =SUM(C3:G3) -> 36
A4: Pantry P61 (6e etage) | B4: 10 | C4: 6 | D4: 10 | F4: 10 | H4: =SUM(C4:G4) -> 26
A5: Pantry P51 (5e etage) | B5: 15 | C5: 12 | D5: 10 | F5: 15 | H5: =SUM(C5:G5) -> 37
A6: Pantry P42 (4e etage) | B6: 20 | C6: 18 | D6: 12 | F6: 18 | H6: =SUM(C6:G6) -> 48
A7: Pantry P41 (4e etage) | B7: 20 | C7: 16 | D7: 14 | F7: 17 | H7: =SUM(C7:G7) -> 47
A8: Pantry P31 (3e etage) | B8: 20 | C8: 18 | D8: 20 | F8: 20 | H8: =SUM(C8:G8) -> 58
A9: Pantry P32 (3e etage) | B9: 10 | C9: 10 | D9: 16 | F9: 10 | H9: =SUM(C9:G9) -> 36
A10: 3.71/Op het kastje (3e etage) | B10: 20 | C10: 20 | D10: 15 | F10: 20 | H10: =SUM(C10:G10) -> 55
A11: 3.91/Bruiszone (3e etage) | B11: 20 | C11: 20 | D11: 20 | F11: 20 | H11: =SUM(C11:G11) -> 60
A12: Pantry P21 (2e etage) | B12: 10 | C12: 8 | D12: 7 | F12: 10 | H12: =SUM(C12:G12) -> 25
A13: 2.91/Bruiszone (2e etage) | B13: 20 | C13: 16 | D13: 16 | F13: 20 | H13: =SUM(C13:G13) -> 52
... A22: Pantry P02 (begane grond) | B22: 20 | C22: 12 | D22: 10 | F22: 18 | H22: =SUM(C22:G22) -> 40
A23: Totaal | B23: =SUM(B2:B22) -> 350 | C23: =SUM(C2:C22) -> 263 | D23: =SUM(D2:D22) -> 274 | E23: =SUM(E2:E22) -> 0 | F23: =SUM(F2:F22) -> 325 | G23: =SUM(G2:G22) -> 0 | H23: =SUM(C23:G23) -> 862

Sheet Fruit week 46
A1: Ruimte | B1: Standaard aantal stuks | C1: Maandag | D1: Dinsdag | E1: Woensdag | F1: Donderdag | G1: Vrijdag | H1: Totaal
A2: Pantry P81 (8e etage) | B2: 10 | C2: 4 | D2: 10 | F2: 10 | H2: =SUM(C2:G2) -> 24
A3: Pantry P71 (7e etage) | B3: 15 | C3: 7 | D3: 15 | F3: 15 | H3: =SUM(C3:G3) -> 37
A4: Pantry P61 (6e etage) | B4: 10 | C4: 4 | D4: 10 | F4: 9 | H4: =SUM(C4:G4) -> 23
A5: Pantry P51 (5e etage) | B5: 15 | C5: 4 | D5: 8 | F5: 13 | H5: =SUM(C5:G5) -> 25
A6: Pantry P42 (4e etage) | B6: 20 | C6: 8 | D6: 20 | F6: 20 | H6: =SUM(C6:G6) -> 48
A7: Pantry P41 (4e etage) | B7: 20 | C7: 8 | D7: 20 | F7: 20 | H7: =SUM(C7:G7) -> 48
A8: Pantry P31 (3e etage) | B8: 20 | C8: 9 | D8: 20 | F8: 20 | H8: =SUM(C8:G8) -> 49
A9: Pantry P32 (3e etage) | B9: 10 | C9: 5 | D9: 10 | F9: 10 | H9: =SUM(C9:G9) -> 25
A10: 3.71/Op het kastje (3e etage) | B10: 20 | C10: 12 | D10: 20 | F10: 20 | H10: =SUM(C10:G10) -> 52
A11: 3.91/Bruiszone (3e etage) | B11: 20 | C11: 12 | D11: 20 | F11: 20 | H11: =SUM(C11:G11) -> 52
A12: Pantry P21 (2e etage) | B12: 10 | C12: 5 | D12: 10 | F12: 10 | H12: =SUM(C12:G12) -> 25
A13: 2.91/Bruiszone (2e etage) | B13: 20 | C13: 12 | D13: 20 | F13: 20 | H13: =SUM(C13:G13) -> 52
... A22: Pantry P02 (begane grond) | B22: 20 | C22: 12 | D22: 20 | F22: 10 | H22: =SUM(C22:G22) -> 42
A23: Totaal | B23: =SUM(B2:B22) -> 350 | C23: =SUM(C2:C22) -> 169 | D23: =SUM(D2:D22) -> 330 | E23: =SUM(E2:E22) -> 0 | F23: =SUM(F2:F22) -> 337 | G23: =SUM(G2:G22) -> 0 | H23: =SUM(C23:G23) -> 836

Sheet Fruit week 47
A1: Ruimte | B1: Standaard aantal stuks | C1: Maandag | D1: Dinsdag | E1: Woensdag | F1: Donderdag | G1: Vrijdag | H1: Totaal
A2: Pantry P81 (8e etage) | B2: 10 | C2: 5 | E2: 8 | F2: 7 | H2: =SUM(C2:G2) -> 20
A3: Pantry P71 (7e etage) | B3: 15 | C3: 8 | E3: 12 | F3: 16 | H3: =SUM(C3:G3) -> 36
A4: Pantry P61 (6e etage) | B4: 10 | C4: 6 | E4: 6 | F4: 10 | H4: =SUM(C4:G4) -> 22
A5: Pantry P51 (5e etage) | B5: 15 | C5: 8 | E5: 10 | F5: 14 | H5: =SUM(C5:G5) -> 32
A6: Pantry P42 (4e etage) | B6: 20 | C6: 9 | E6: 12 | F6: 15 | H6: =SUM(C6:G6) -> 36
A7: Pantry P41 (4e etage) | B7: 20 | C7: 10 | E7: 15 | F7: 11 | H7: =SUM(C7:G7) -> 36
A8: Pantry P31 (3e etage) | B8: 20 | C8: 13 | E8: 15 | F8: 20 | H8: =SUM(C8:G8) -> 48
A9: Pantry P32 (3e etage) | B9: 10 | C9: 8 | E9: 10 | F9: 10 | H9: =SUM(C9:G9) -> 28
A10: 3.71/Op het kastje (3e etage) | B10: 20 | C10: 16 | E10: 20 | F10: 20 | H10: =SUM(C10:G10) -> 56
A11: 3.91/Bruiszone (3e etage) | B11: 20 | C11: 16 | E11: 20 | F11: 20 | H11: =SUM(C11:G11) -> 56
A12: Pantry P21 (2e etage) | B12: 10 | C12: 6 | E12: 15 | F12: 10 | H12: =SUM(C12:G12) -> 31
A13: 2.91/Bruiszone (2e etage) | B13: 20 | C13: 17 | E13: 20 | F13: 20 | H13: =SUM(C13:G13) -> 57
... A22: Pantry P02 (begane grond) | B22: 20 | C22: 15 | E22: 10 | F22: 10 | H22: =SUM(C22:G22) -> 35
A23: Totaal | B23: =SUM(B2:B22) -> 350 | C23: =SUM(C2:C22) -> 233 | D23: =SUM(D2:D22) -> 0 | E23: =SUM(E2:E22) -> 287 | F23: =SUM(F2:F22) -> 309 | G23: =SUM(G2:G22) -> 0 | H23: =SUM(C23:G23) -> 829
