Workbook

Sheet 1. Totaalprijs
A1: BIJLAGE 2 GUNNINGSCRITERIUM PRIJS - FICTIEVE AANNEEMSOM TOTAALOPDRACHT
A4: Gunningscriterium G.1 | B4: Tabblad | G4: Totaal (fictief)
B5: Graffiti (jaar 1 t/m 7) | F5: subtotaal | G5: ='2. Graffiti'!P16 -> 0
B6: Eenheidsprijzen | F6: subtotaal | G6: ='3. Eenheidsprijzen '!O291 -> 0
B7: Manuurloon en toeslagpercentages | F7: subtotaal | G7: ='4. Manuren+toeslagen'!F25 -> 0
F9: Fictieve totaalprijs incl. btw | G9: =SUM(G5:G7) -> 0
B10: Fictieve totaalprijs offerte (incl. BTW) | G10: =G9 -> 0
A11: * Eenheidsprijzen dienen inclusief alle toeslagen te zijn zoals verwoord in hoofdstuk 10 van de inschrijvingsleidraad.

Sheet 2. Graffiti
A1: BIJLAGE 2 GUNNINGSCRITERIUM PRIJS - GRAFFITI
I5: OPGAVE KOSTEN GRAFFITI DOOR OPRDRACHTNEMER IN EURO INCLUSIEF ALLE OPSLAGEN EN TOESLAGPERCENTAGES , INCLUSIEF BTW PER JAAR IN TE VULLEN | P5: INCLUSIEF BTW
I6: GUNNINGSCRITERIUM G.1 | P6: G.1
A7: FUNCTIE | B7: STRAAT | C7: NR. | D7: PLAATS | E7: EIGENDOM / HUUR | F7: BVO (m²) | G7: BIJZONDERHEDEN | H7: OPMERKNGEN | I7: KOSTEN Jaar 1 | J7: KOSTEN Jaar 2 | K7: KOSTEN Jaar 3 | L7: KOSTEN Jaar 4 | M7: KOSTEN Jaar 5 | N7: KOSTEN Jaar 6 | O7: KOSTEN Jaar 7 | P7: TOTALE KOSTEN
A9: Reinwardt Academie | B9: Hortusplantsoen | C9: 3 | D9: Amsterdam | E9: Eigendom | F9: 3.848 | G9: Gemeentelijk monument | H9: [ruimte voor toelichting opdrachtnemer] | I9: 0 | J9: 0 | K9: 0 | L9: 0 | M9: 0 | N9: 0 | O9: 0 | P9: =SUM(I9:O9) -> 0
A10: Academie van Bouwkunst | B10: Waterlooplein | C10: 211, 213-219 | D10: Amsterdam | E10: Eigendom | F10: 2579 | G10: Rijksmonument | H10: [ruimte voor toelichting opdrachtnemer] | I10: 0 | J10: 0 | K10: 0 | L10: 0 | M10: 0 | N10: 0 | O10: 0 | P10: =SUM(I10:O10) -> 0
A11: de Theaterschool + Servicebureau | B11: Jodenbreestraat | C11: 3 | D11: Amsterdam | E11: Eigendom | F11: 17055 | H11: [ruimte voor toelichting opdrachtnemer] | I11: 0 | J11: 0 | K11: 0 | L11: 0 | M11: 0 | N11: 0 | O11: 0 | P11: =SUM(I11:O11) -> 0
A12: Nederlandse Filmacademie | B12: Markenplein | C12: 1 | D12: Amsterdam | E12: Eigendom | F12: 8063 | H12: [ruimte voor toelichting opdrachtnemer] | I12: 0 | J12: 0 | K12: 0 | L12: 0 | M12: 0 | N12: 0 | O12: 0 | P12: =SUM(I12:O12) -> 0
A13: Conservatorium van Amsterdam | B13: Oosterdokskade | C13: 151 | D13: Amsterdam | E13: Eigendom | F13: 16004 | H13: [ruimte voor toelichting opdrachtnemer] | I13: 0 | J13: 0 | K13: 0 | L13: 0 | M13: 0 | N13: 0 | O13: 0 | P13: =SUM(I13:O13) -> 0
A14: Grootlab; Academie voor Beeldende Vorming / de Theaterschool | B14: Overhoeksplein | C14: 2 | D14: Amsterdam | E14: Eigendom | F14: 5443 | H14: [ruimte voor toelichting opdrachtnemer] | I14: 0 | J14: 0 | K14: 0 | L14: 0 | M14: 0 | N14: 0 | O14: 0 | P14: =SUM(I14:O14) -> 0
H16: Totaal | I16: =SUM(I9:I15) -> 0 | J16: =SUM(J9:J15) -> 0 | K16: =SUM(K9:K15) -> 0 | L16: =SUM(L9:L15) -> 0 | M16: =SUM(M9:M15) -> 0 | N16: =SUM(N9:N15) -> 0 | O16: =SUM(O9:O15) -> 0 | P16: =SUM(P9:P14) -> 0

Sheet 3. Eenheidsprijzen 
B1: BIJLAGE 2 GUNNINGSCRITERIUM PRIJS - EENHEIDSPRIJZEN
F5: Prijs /eenheid inclusief btw
F6: hoeveelheid 0 - 10 | H6: hoeveelheid 11 - 100 | J6: hoeveelheid 101 - 1000
A7: CODE | B7: Ondergrond | E7: Eenheid | F7: excl. toeslagen | G7: incl. toeslagen 01, 02 en 04 | H7: excl. toeslagen | I7: incl. toeslagen 01, 02 en 04 | J7: excl. toeslagen | K7: incl. toeslagen 01, 02 en 04 | L7: Aantal 0-10 (fictief) | M7: Aantal 11-100 (fictief) | N7: Aantal 101-1000 (fictief) | O7: Totaal (fictief)
B8: BUITENSCHILDERWERKEN
A9: CODE | B9: Ondergrond | C9: Handeling | O9: =SUM(O11:O158) -> 0
A11: OHD 01 | B11: Hout buiten | C11: Plaatselijk schrapen, 1 x bijwerken grondverf, 1 x bijwerken dekverf | D11: paneel/betimmering | E11: m2 | F11: 0 | G11: =(F11*(1+'4. Manuren+toeslagen'!$D$17+'4. Manuren+toeslagen'!$D$18))*(1+'4. Manuren+toeslagen'!$D$20) -> 0 | H11: 0 | I11: =(H11*(1+'4. Manuren+toeslagen'!$D$17+'4. Manuren+toeslagen'!$D$18))*(1+'4. Manuren+toeslagen'!$D$20) -> 0 | J11: 0 | K11: =(J11*(1+'4. Manuren+toeslagen'!$D$17+'4. Manuren+toeslagen'!$D$18))*(1+'4. Manuren+toeslagen'!$D$20) -> 0 | L11: 1 | M11: 20 | N11: 250 | O11: =G11*L11+I11*M11+K11*N11 -> 0
A12: OHD 01 | B12: Hout buiten | C12: Plaatselijk schrapen, 1 x bijwerken grondverf, 1 x bijwerken dekverf | D12: kozijnen en ramen | E12: m1 | F12: 0 | G12: =(F12*(1+'4. Manuren+toeslagen'!$D$17+'4. Manuren+toeslagen'!$D$18))*(1+'4. Manuren+toeslagen'!$D$20) -> 0 | H12: 0 | I12: =(H12*(1+'4. Manuren+toeslagen'!$D$17+'4. Manuren+toeslagen'!$D$18))*(1+'4. Manuren+toeslagen'!$D$20) -> 0 | J12: 0 | K12: =(J12*(1+'4. Manuren+toeslagen'!$D$17+'4. Manuren+toeslagen'!$D$18))*(1+'4. Manuren+toeslagen'!$D$20) -> 0 | L12: 9 | M12: 20 | N12: 250 | O12: =G12*L12+I12*M12+K12*N12 -> 0
A13: OHD 01 | B13: Hout buiten | C13: Plaatselijk schrapen, 1 x bijwerken grondverf, 1 x bijwerken dekverf | D13: buitendeur | E13: st | F13: 0 | G13: =(F13*(1+'4. Manuren+toeslagen'!$D$17+'4. Manuren+toeslagen'!$D$18))*(1+'4. Manuren+toeslagen'!$D$20) -> 0 | H13: 0 | I13: =(H13*(1+'4. Manuren+toeslagen'!$D$17+'4. Manuren+toeslagen'!$D$18))*(1+'4. Manuren+toeslagen'!$D$20) -> 0 | J13: 0 | K13: =(J13*(1+'4. Manuren+toeslagen'!$D$17+'4. Manuren+toeslagen'!$D$18))*(1+'4. Manuren+toeslagen'!$D$20) -> 0 | L13: 1 | M13: 20 | N13: 250 | O13: =G13*L13+I13*M13+K13*N13 -> 0
A14: OHD 02 | B14: Hout buiten | C14: Plaatselijk schrapen, 1 x bijwerken grondverf, 1 x geheel dekverf | D14: paneel/betimmering | E14: m2 | F14: 0 | G14: =(F14*(1+'4. Manuren+toeslagen'!$D$17+'4. Manuren+toeslagen'!$D$18))*(1+'4. Manuren+toeslagen'!$D$20) -> 0 | H14: 0 | I14: =(H14*(1+'4. Manuren+toeslagen'!$D$17+'4. Manuren+toeslagen'!$D$18))*(1+'4. Manuren+toeslagen'!$D$20) -> 0 | J14: 0 | K14: =(J14*(1+'4. Manuren+toeslagen'!$D$17+'4. Manuren+toeslagen'!$D$18))*(1+'4. Manuren+toeslagen'!$D$20) -> 0 | L14: 1 | M14: 20 | N14: 250 | O14: =G14*L14+I14*M14+K14*N14 -> 0
A15: OHD 02 | B15: Hout buiten | C15: Plaatselijk schrapen, 1 x bijwerken grondverf, 1 x geheel dekverf | D15: kozijnen en ramen | E15: m1 | F15: 0 | G15: =(F15*(1+'4. Manuren+toeslagen'!$D$17+'4. Manuren+toeslagen'!$D$18))*(1+'4. Manuren+toeslagen'!$D$20) -> 0 | H15: 0 | I15: =(H15*(1+'4. Manuren+toeslagen'!$D$17+'4. Manuren+toeslagen'!$D$18))*(1+'4. Manuren+toeslagen'!$D$20) -> 0 | J15: 0 | K15: =(J15*(1+'4. Manuren+toeslagen'!$D$17+'4. Manuren+toeslagen'!$D$18))*(1+'4. Manuren+toeslagen'!$D$20) -> 0 | L15: 9 | M15: 20 | N15: 250 | O15: =G15*L15+I15*M15+K15*N15 -> 0
A16: OHD 02 | B16: Hout buiten | C16: Plaatselijk schrapen, 1 x bijwerken grondverf, 1 x geheel dekverf | D16: buitendeur | E16: st | F16: 0 | G16: =(F16*(1+'4. Manuren+toeslagen'!$D$17+'4. Manuren+toeslagen'!$D$18))*(1+'4. Manuren+toeslagen'!$D$20) -> 0 | H16: 0 | I16: =(H16*(1+'4. Manuren+toeslagen'!$D$17+'4. Manuren+toeslagen'!$D$18))*(1+'4. Manuren+toeslagen'!$D$20) -> 0 | J16: 0 | K16: =(J16*(1+'4. Manuren+toeslagen'!$D$17+'4. Manuren+toeslagen'!$D$18))*(1+'4. Manuren+toeslagen'!$D$20) -> 0 | L16: 1 | M16: 20 | N16: 250 | O16: =G16*L16+I16*M16+K16*N16 -> 0
A17: OHD 03 | B17: Hout buiten | C17: Plaatselijk verwijderen, 1 x bijwerken grondverf, 1x geheel grondverf, 1 x geheel dekverf | D17: paneel/betimmering | E17: m2 | F17: 0 | G17: =(F17*(1+'4. Manuren+toeslagen'!$D$17+'4. Manuren+toeslagen'!$D$18))*(1+'4. Manuren+toeslagen'!$D$20) -> 0 | H17: 0 | I17: =(H17*(1+'4. Manuren+toeslagen'!$D$17+'4. Manuren+toeslagen'!$D$18))*(1+'4. Manuren+toeslagen'!$D$20) -> 0 | J17: 0 | K17: =(J17*(1+'4. Manuren+toeslagen'!$D$17+'4. Manuren+toeslagen'!$D$18))*(1+'4. Manuren+toeslagen'!$D$20) -> 0 | L17: 1 | M17: 20 | N17: 250 | O17: =G17*L17+I17*M17+K17*N17 -> 0
A18: OHD 03 | B18: Hout buiten | C18: Plaatselijk verwijderen, 1 x bijwerken grondverf, 1x geheel grondverf, 1 x geheel dekverf | D18: kozijnen en ramen | E18: m1 | F18: 0 | G18: =(F18*(1+'4. Manuren+toeslagen'!$D$17+'4. Manuren+toeslagen'!$D$18))*(1+'4. Manuren+toeslagen'!$D$20) -> 0 | H18: 0 | I18: =(H18*(1+'4. Manuren+toeslagen'!$D$17+'4. Manuren+toeslagen'!$D$18))*(1+'4. Manuren+toeslagen'!$D$20) -> 0 | J18: 0 | K18: =(J18*(1+'4. Manuren+toeslagen'!$D$17+'4. Manuren+toeslagen'!$D$18))*(1+'4. Manuren+toeslagen'!$D$20) -> 0 | L18: 9 | M18: 20 | N18: 250 | O18: =G18*L18+I18*M18+K18*N18 -> 0
A19: OHD 03 | B19: Hout buiten | C19: Plaatselijk verwijderen, 1 x bijwerken grondverf, 1x geheel grondverf, 1 x geheel dekverf | D19: buitendeur | E19: st | F19: 0 | G19: =(F19*(1+'4. Manuren+toeslagen'!$D$17+'4. Manuren+toeslagen'!$D$18))*(1+'4. Manuren+toeslagen'!$D$20) -> 0 | H19: 0 | I19: =(H19*(1+'4. Manuren+toeslagen'!$D$17+'4. Manuren+toeslagen'!$D$18))*(1+'4. Manuren+toeslagen'!$D$20) -> 0 | J19: 0 | K19: =(J19*(1+'4. Manuren+toeslagen'!$D$17+'4. Manuren+toeslagen'!$D$18))*(1+'4. Manuren+toeslagen'!$D$20) -> 0 | L19: 1 | M19: 20 | N19: 250 | O19: =G19*L19+I19*M19+K19*N19 -> 0
A20: OHD 04 | B20: Hout buiten | C20: Plaatselijk verwijderen, 1 x bijwerken grondverf, 1 x geheel grondverf, 2 x geheel dekverf | D20: paneel/betimmering | E20: m2 | F20: 0 | G20: =(F20*(1+'4. Manuren+toeslagen'!$D$17+'4. Manuren+toeslagen'!$D$18))*(1+'4. Manuren+toeslagen'!$D$20) -> 0 | H20: 0 | I20: =(H20*(1+'4. Manuren+toeslagen'!$D$17+'4. Manuren+toeslagen'!$D$18))*(1+'4. Manuren+toeslagen'!$D$20) -> 0 | J20: 0 | K20: =(J20*(1+'4. Manuren+toeslagen'!$D$17+'4. Manuren+toeslagen'!$D$18))*(1+'4. Manuren+toeslagen'!$D$20) -> 0 | L20: 1 | M20: 20 | N20: 250 | O20: =G20*L20+I20*M20+K20*N20 -> 0
A21: OHD 04 | B21: Hout buiten | C21: Plaatselijk verwijderen, 1 x bijwerken grondverf, 1 x geheel grondverf, 2 x geheel dekverf | D21: kozijnen en ramen | E21: m1 | F21: 0 | G21: =(F21*(1+'4. Manuren+toeslagen'!$D$17+'4. Manuren+toeslagen'!$D$18))*(1+'4. Manuren+toeslagen'!$D$20) -> 0 | H21: 0 | I21: =(H21*(1+'4. Manuren+toeslagen'!$D$17+'4. Manuren+toeslagen'!$D$18))*(1+'4. Manuren+toeslagen'!$D$20) -> 0 | J21: 0 | K21: =(J21*(1+'4. Manuren+toeslagen'!$D$17+'4. Manuren+toeslagen'!$D$18))*(1+'4. Manuren+toeslagen'!$D$20) -> 0 | L21: 9 | M21: 20 | N21: 250 | O21: =G21*L21+I21*M21+K21*N21 -> 0
A22: OHD 04 | B22: Hout buiten | C22: Plaatselijk verwijderen, 1 x bijwerken grondverf, 1 x geheel grondverf, 2 x geheel dekverf | D22: buitendeur | E22: st | F22: 0 | G22: =(F22*(1+'4. Manuren+toeslagen'!$D$17+'4. Manuren+toeslagen'!$D$18))*(1+'4. Manuren+toeslagen'!$D$20) -> 0 | H22: 0 | I22: =(H22*(1+'4. Manuren+toeslagen'!$D$17+'4. Manuren+toeslagen'!$D$18))*(1+'4. Manuren+toeslagen'!$D$20) -> 0 | J22: 0 | K22: =(J22*(1+'4. Manuren+toeslagen'!$D$17+'4. Manuren+toeslagen'!$D$18))*(1+'4. Manuren+toeslagen'!$D$20) -> 0 | L22: 1 | M22: 20 | N22: 250 | O22: =G22*L22+I22*M22+K22*N22 -> 0
... A80: OHV 05 | B80: Hout buiten | C80: Plaatselijk schrapen, 2 x geheel vernis | D80: buitendeur | E80: st | F80: 0 | G80: =(F80*(1+'4. Manuren+toeslagen'!$D$17+'4. Manuren+toeslagen'!$D$18))*(1+'4. Manuren+toeslagen'!$D$20) -> 0 | H80: 0 | I80: =(H80*(1+'4. Manuren+toeslagen'!$D$17+'4. Manuren+toeslagen'!$D$18))*(1+'4. Manuren+toeslagen'!$D$20) -> 0 | J80: 0 | K80: =(J80*(1+'4. Manuren+toeslagen'!$D$17+'4. Manuren+toeslagen'!$D$18))*(1+'4. Manuren+toeslagen'!$D$20) -> 0 | L80: 1 | M80: 20 | N80: 250 | O80: =G80*L80+I80*M80+K80*N80 -> 0
A81: OBS 01 | B81: Beglazing buiten | C81: Glas verwijderen, beglazen met stoppasta | E81: st | F81: 0 | G81: =(F81*(1+'4. Manuren+toeslagen'!$D$17+'4. Manuren+toeslagen'!$D$18))*(1+'4. Manuren+toeslagen'!$D$20) -> 0 | H81: 0 | I81: =(H81*(1+'4. Manuren+toeslagen'!$D$17+'4. Manuren+toeslagen'!$D$18))*(1+'4. Manuren+toeslagen'!$D$20) -> 0 | J81: 0 | K81: =(J81*(1+'4. Manuren+toeslagen'!$D$17+'4. Manuren+toeslagen'!$D$18))*(1+'4. Manuren+toeslagen'!$D$20) -> 0 | L81: 7 | M81: 17 | N81: 123 | O81: =G81*L81+I81*M81+K81*N81 -> 0
A82: OBS 02 | B82: Beglazing buiten | C82: Glas verwijderen, beglazen met kit en glaslatten | E82: st | F82: 0 | G82: =(F82*(1+'4. Manuren+toeslagen'!$D$17+'4. Manuren+toeslagen'!$D$18))*(1+'4. Manuren+toeslagen'!$D$20) -> 0 | H82: 0 | I82: =(H82*(1+'4. Manuren+toeslagen'!$D$17+'4. Manuren+toeslagen'!$D$18))*(1+'4. Manuren+toeslagen'!$D$20) -> 0 | J82: 0 | K82: =(J82*(1+'4. Manuren+toeslagen'!$D$17+'4. Manuren+toeslagen'!$D$18))*(1+'4. Manuren+toeslagen'!$D$20) -> 0 | L82: 7 | M82: 17 | N82: 123 | O82: =G82*L82+I82*M82+K82*N82 -> 0
A83: OBS 03 | B83: Beglazing buiten | C83: Glas verwijderen, beglazen met droogbeglazingsprofielen | E83: st | F83: 0 | G83: =(F83*(1+'4. Manuren+toeslagen'!$D$17+'4. Manuren+toeslagen'!$D$18))*(1+'4. Manuren+toeslagen'!$D$20) -> 0 | H83: 0 | I83: =(H83*(1+'4. Manuren+toeslagen'!$D$17+'4. Manuren+toeslagen'!$D$18))*(1+'4. Manuren+toeslagen'!$D$20) -> 0 | J83: 0 | K83: =(J83*(1+'4. Manuren+toeslagen'!$D$17+'4. Manuren+toeslagen'!$D$18))*(1+'4. Manuren+toeslagen'!$D$20) -> 0 | L83: 7 | M83: 17 | N83: 123 | O83: =G83*L83+I83*M83+K83*N83 -> 0
A84: OBS 04 | B84: Beglazing buiten | C84: Glas verwijderen, beglazen met EPDM beglazingsband zonder afkitten | E84: st | F84: 0 | G84: =(F84*(1+'4. Manuren+toeslagen'!$D$17+'4. Manuren+toeslagen'!$D$18))*(1+'4. Manuren+toeslagen'!$D$20) -> 0 | H84: 0 | I84: =(H84*(1+'4. Manuren+toeslagen'!$D$17+'4. Manuren+toeslagen'!$D$18))*(1+'4. Manuren+toeslagen'!$D$20) -> 0 | J84: 0 | K84: =(J84*(1+'4. Manuren+toeslagen'!$D$17+'4. Manuren+toeslagen'!$D$18))*(1+'4. Manuren+toeslagen'!$D$20) -> 0 | L84: 7 | M84: 17 | N84: 123 | O84: =G84*L84+I84*M84+K84*N84 -> 0
A85: OBS 05 | B85: Beglazing buiten | C85: Glas verwijderen, beglazen met EPDM beglazingsband zonder afkitten | E85: st | F85: 0 | G85: =(F85*(1+'4. Manuren+toeslagen'!$D$17+'4. Manuren+toeslagen'!$D$18))*(1+'4. Manuren+toeslagen'!$D$20) -> 0 | H85: 0 | I85: =(H85*(1+'4. Manuren+toeslagen'!$D$17+'4. Manuren+toeslagen'!$D$18))*(1+'4. Manuren+toeslagen'!$D$20) -> 0 | J85: 0 | K85: =(J85*(1+'4. Manuren+toeslagen'!$D$17+'4. Manuren+toeslagen'!$D$18))*(1+'4. Manuren+toeslagen'!$D$20) -> 0 | L85: 7 | M85: 17 | N85: 123 | O85: =G85*L85+I85*M85+K85*N85 -> 0
A86: OBS 06 | B86: Beglazing buiten | C86: Plaatselijk kitvoeg uitsnijden, beglazen met kit en glaslatten | E86: st | F86: 0 | G86: =(F86*(1+'4. Manuren+toeslagen'!$D$17+'4. Manuren+toeslagen'!$D$18))*(1+'4. Manuren+toeslagen'!$D$20) -> 0 | H86: 0 | I86: =(H86*(1+'4. Manuren+toeslagen'!$D$17+'4. Manuren+toeslagen'!$D$18))*(1+'4. Manuren+toeslagen'!$D$20) -> 0 | J86: 0 | K86: =(J86*(1+'4. Manuren+toeslagen'!$D$17+'4. Manuren+toeslagen'!$D$18))*(1+'4. Manuren+toeslagen'!$D$20) -> 0 | L86: 7 | M86: 17 | N86: 123 | O86: =G86*L86+I86*M86+K86*N86 -> 0
A87: OBS 07 | B87: Beglazing buiten | C87: Plaatselijk verwijderen stoppasta, beglazen met stoppasta | E87: st | F87: 0 | G87: =(F87*(1+'4. Manuren+toeslagen'!$D$17+'4. Manuren+toeslagen'!$D$18))*(1+'4. Manuren+toeslagen'!$D$20) -> 0 | H87: 0 | I87: =(H87*(1+'4. Manuren+toeslagen'!$D$17+'4. Manuren+toeslagen'!$D$18))*(1+'4. Manuren+toeslagen'!$D$20) -> 0 | J87: 0 | K87: =(J87*(1+'4. Manuren+toeslagen'!$D$17+'4. Manuren+toeslagen'!$D$18))*(1+'4. Manuren+toeslagen'!$D$20) -> 0 | L87: 7 | M87: 17 | N87: 123 | O87: =G87*L87+I87*M87+K87*N87 -> 0
A88: OBS 08 | B88: Beglazing buiten | C88: Plaatselijk verwijderen, beglazen met droogbeglazingsprofielen | E88: st | F88: 0 | G88: =(F88*(1+'4. Manuren+toeslagen'!$D$17+'4. Manuren+toeslagen'!$D$18))*(1+'4. Manuren+toeslagen'!$D$20) -> 0 | H88: 0 | I88: =(H88*(1+'4. Manuren+toeslagen'!$D$17+'4. Manuren+toeslagen'!$D$18))*(1+'4. Manuren+toeslagen'!$D$20) -> 0 | J88: 0 | K88: =(J88*(1+'4. Manuren+toeslagen'!$D$17+'4. Manuren+toeslagen'!$D$18))*(1+'4. Manuren+toeslagen'!$D$20) -> 0 | L88: 7 | M88: 17 | N88: 123 | O88: =G88*L88+I88*M88+K88*N88 -> 0
A89: OBS 09 | B89: Beglazing buiten | C89: Geheel kitvoeg uitsnijden, beglazen met kit en glaslatten | E89: st | F89: 0 | G89: =(F89*(1+'4. Manuren+toeslagen'!$D$17+'4. Manuren+toeslagen'!$D$18))*(1+'4. Manuren+toeslagen'!$D$20) -> 0 | H89: 0 | I89: =(H89*(1+'4. Manuren+toeslagen'!$D$17+'4. Manuren+toeslagen'!$D$18))*(1+'4. Manuren+toeslagen'!$D$20) -> 0 | J89: 0 | K89: =(J89*(1+'4. Manuren+toeslagen'!$D$17+'4. Manuren+toeslagen'!$D$18))*(1+'4. Manuren+toeslagen'!$D$20) -> 0 | L89: 7 | M89: 17 | N89: 123 | O89: =G89*L89+I89*M89+K89*N89 -> 0
A90: OBS 10 | B90: Beglazing buiten | C90: Onderlatten vervangen door neuslatten, plaatselijk kitvoeg uitsnijden, beglazen met kit en glaslatten | E90: st | F90: 0 | G90: =(F90*(1+'4. Manuren+toeslagen'!$D$17+'4. Manuren+toeslagen'!$D$18))*(1+'4. Manuren+toeslagen'!$D$20) -> 0 | H90: 0 | I90: =(H90*(1+'4. Manuren+toeslagen'!$D$17+'4. Manuren+toeslagen'!$D$18))*(1+'4. Manuren+toeslagen'!$D$20) -> 0 | J90: 0 | K90: =(J90*(1+'4. Manuren+toeslagen'!$D$17+'4. Manuren+toeslagen'!$D$18))*(1+'4. Manuren+toeslagen'!$D$20) -> 0 | L90: 7 | M90: 17 | N90: 123 | O90: =G90*L90+I90*M90+K90*N90 -> 0
A91: OMA 01 | B91: Metaal Buiten | C91: Niet eerder behandeld, 1 x geheel hechtprimer, 1 x geheel grondverf, 1 x geheel dekverf | D91: paneel/betimmering | E91: m2 | F91: 0 | G91: =(F91*(1+'4. Manuren+toeslagen'!$D$17+'4. Manuren+toeslagen'!$D$18))*(1+'4. Manuren+toeslagen'!$D$20) -> 0 | H91: 0 | I91: =(H91*(1+'4. Manuren+toeslagen'!$D$17+'4. Manuren+toeslagen'!$D$18))*(1+'4. Manuren+toeslagen'!$D$20) -> 0 | J91: 0 | K91: =(J91*(1+'4. Manuren+toeslagen'!$D$17+'4. Manuren+toeslagen'!$D$18))*(1+'4. Manuren+toeslagen'!$D$20) -> 0 | L91: 1 | M91: 20 | N91: 250 | O91: =G91*L91+I91*M91+K91*N91 -> 0
A92: OMA 01 | B92: Metaal Buiten | C92: Niet eerder behandeld, 1 x geheel hechtprimer, 1 x geheel grondverf, 1 x geheel dekverf | D92: kozijnen en ramen | E92: m1 | F92: 0 | G92: =(F92*(1+'4. Manuren+toeslagen'!$D$17+'4. Manuren+toeslagen'!$D$18))*(1+'4. Manuren+toeslagen'!$D$20) -> 0 | H92: 0 | I92: =(H92*(1+'4. Manuren+toeslagen'!$D$17+'4. Manuren+toeslagen'!$D$18))*(1+'4. Manuren+toeslagen'!$D$20) -> 0 | J92: 0 | K92: =(J92*(1+'4. Manuren+toeslagen'!$D$17+'4. Manuren+toeslagen'!$D$18))*(1+'4. Manuren+toeslagen'!$D$20) -> 0 | L92: 9 | M92: 20 | N92: 250 | O92: =G92*L92+I92*M92+K92*N92 -> 0
A93: OMA 01 | B93: Metaal Buiten | C93: Niet eerder behandeld, 1 x geheel hechtprimer, 1 x geheel grondverf, 1 x geheel dekverf | D93: buitendeur | E93: st | F93: 0 | G93: =(F93*(1+'4. Manuren+toeslagen'!$D$17+'4. Manuren+toeslagen'!$D$18))*(1+'4. Manuren+toeslagen'!$D$20) -> 0 | H93: 0 | I93: =(H93*(1+'4. Manuren+toeslagen'!$D$17+'4. Manuren+toeslagen'!$D$18))*(1+'4. Manuren+toeslagen'!$D$20) -> 0 | J93: 0 | K93: =(J93*(1+'4. Manuren+toeslagen'!$D$17+'4. Manuren+toeslagen'!$D$18))*(1+'4. Manuren+toeslagen'!$D$20) -> 0 | L93: 1 | M93: 20 | N93: 250 | O93: =G93*L93+I93*M93+K93*N93 -> 0
A94: OMA 02 | B94: Metaal Buiten | C94: Plaatselijk verwijderen, 1 x bijwerken hechtprimer, 1 x bijwerken grondverf, 1 x bijwerken dekverf | D94: paneel/betimmering | E94: m2 | F94: 0 | G94: =(F94*(1+'4. Manuren+toeslagen'!$D$17+'4. Manuren+toeslagen'!$D$18))*(1+'4. Manuren+toeslagen'!$D$20) -> 0 | H94: 0 | I94: =(H94*(1+'4. Manuren+toeslagen'!$D$17+'4. Manuren+toeslagen'!$D$18))*(1+'4. Manuren+toeslagen'!$D$20) -> 0 | J94: 0 | K94: =(J94*(1+'4. Manuren+toeslagen'!$D$17+'4. Manuren+toeslagen'!$D$18))*(1+'4. Manuren+toeslagen'!$D$20) -> 0 | L94: 1 | M94: 20 | N94: 250 | O94: =G94*L94+I94*M94+K94*N94 -> 0
A95: OMA 02 | B95: Metaal Buiten | C95: Plaatselijk verwijderen, 1 x bijwerken hechtprimer, 1 x bijwerken grondverf, 1 x bijwerken dekverf | D95: kozijnen en ramen | E95: m1 | F95: 0 | G95: =(F95*(1+'4. Manuren+toeslagen'!$D$17+'4. Manuren+toeslagen'!$D$18))*(1+'4. Manuren+toeslagen'!$D$20) -> 0 | H95: 0 | I95: =(H95*(1+'4. Manuren+toeslagen'!$D$17+'4. Manuren+toeslagen'!$D$18))*(1+'4. Manuren+toeslagen'!$D$20) -> 0 | J95: 0 | K95: =(J95*(1+'4. Manuren+toeslagen'!$D$17+'4. Manuren+toeslagen'!$D$18))*(1+'4. Manuren+toeslagen'!$D$20) -> 0 | L95: 9 | M95: 20 | N95: 250 | O95: =G95*L95+I95*M95+K95*N95 -> 0
A96: OMA 02 | B96: Metaal Buiten | C96: Plaatselijk verwijderen, 1 x bijwerken hechtprimer, 1 x bijwerken grondverf, 1 x bijwerken dekverf | D96: buitendeur | E96: st | F96: 0 | G96: =(F96*(1+'4. Manuren+toeslagen'!$D$17+'4. Manuren+toeslagen'!$D$18))*(1+'4. Manuren+toeslagen'!$D$20) -> 0 | H96: 0 | I96: =(H96*(1+'4. Manuren+toeslagen'!$D$17+'4. Manuren+toeslagen'!$D$18))*(1+'4. Manuren+toeslagen'!$D$20) -> 0 | J96: 0 | K96: =(J96*(1+'4. Manuren+toeslagen'!$D$17+'4. Manuren+toeslagen'!$D$18))*(1+'4. Manuren+toeslagen'!$D$20) -> 0 | L96: 1 | M96: 20 | N96: 250 | O96: =G96*L96+I96*M96+K96*N96 -> 0
A97: OMA 03 | B97: Metaal Buiten | C97: Plaatselijk verwijderen, 1 x bijwerken hechtprimer, 1 x bijwerken grondverf, 1 x geheel dekverf | D97: paneel/betimmering | E97: m2 | F97: 0 | G97: =(F97*(1+'4. Manuren+toeslagen'!$D$17+'4. Manuren+toeslagen'!$D$18))*(1+'4. Manuren+toeslagen'!$D$20) -> 0 | H97: 0 | I97: =(H97*(1+'4. Manuren+toeslagen'!$D$17+'4. Manuren+toeslagen'!$D$18))*(1+'4. Manuren+toeslagen'!$D$20) -> 0 | J97: 0 | K97: =(J97*(1+'4. Manuren+toeslagen'!$D$17+'4. Manuren+toeslagen'!$D$18))*(1+'4. Manuren+toeslagen'!$D$20) -> 0 | L97: 1 | M97: 20 | N97: 250 | O97: =G97*L97+I97*M97+K97*N97 -> 0
A98: OMA 03 | B98: Metaal Buiten | C98: Plaatselijk verwijderen, 1 x bijwerken hechtprimer, 1 x bijwerken grondverf, 1 x geheel dekverf | D98: kozijnen en ramen | E98: m1 | F98: 0 | G98: =(F98*(1+'4. Manuren+toeslagen'!$D$17+'4. Manuren+toeslagen'!$D$18))*(1+'4. Manuren+toeslagen'!$D$20) -> 0 | H98: 0 | I98: =(H98*(1+'4. Manuren+toeslagen'!$D$17+'4. Manuren+toeslagen'!$D$18))*(1+'4. Manuren+toeslagen'!$D$20) -> 0 | J98: 0 | K98: =(J98*(1+'4. Manuren+toeslagen'!$D$17+'4. Manuren+toeslagen'!$D$18))*(1+'4. Manuren+toeslagen'!$D$20) -> 0 | L98: 9 | M98: 20 | N98: 250 | O98: =G98*L98+I98*M98+K98*N98 -> 0
A99: OMA 03 | B99: Metaal Buiten | C99: Plaatselijk verwijderen, 1 x bijwerken hechtprimer, 1 x bijwerken grondverf, 1 x geheel dekverf | D99: buitendeur | E99: st | F99: 0 | G99: =(F99*(1+'4. Manuren+toeslagen'!$D$17+'4. Manuren+toeslagen'!$D$18))*(1+'4. Manuren+toeslagen'!$D$20) -> 0 | H99: 0 | I99: =(H99*(1+'4. Manuren+toeslagen'!$D$17+'4. Manuren+toeslagen'!$D$18))*(1+'4. Manuren+toeslagen'!$D$20) -> 0 | J99: 0 | K99: =(J99*(1+'4. Manuren+toeslagen'!$D$17+'4. Manuren+toeslagen'!$D$18))*(1+'4. Manuren+toeslagen'!$D$20) -> 0 | L99: 1 | M99: 20 | N99: 250 | O99: =G99*L99+I99*M99+K99*N99 -> 0
A100: OMA 04 | B100: Metaal Buiten | C100: Plaatselijk verwijderen, 1 x bijwerken hechtprimer, 1 x geheel grondverf, 1 x geheel dekverf | D100: paneel/betimmering | E100: m2 | F100: 0 | G100: =(F100*(1+'4. Manuren+toeslagen'!$D$17+'4. Manuren+toeslagen'!$D$18))*(1+'4. Manuren+toeslagen'!$D$20) -> 0 | H100: 0 | I100: =(H100*(1+'4. Manuren+toeslagen'!$D$17+'4. Manuren+toeslagen'!$D$18))*(1+'4. Manuren+toeslagen'!$D$20) -> 0 | J100: 0 | K100: =(J100*(1+'4. Manuren+toeslagen'!$D$17+'4. Manuren+toeslagen'!$D$18))*(1+'4. Manuren+toeslagen'!$D$20) -> 0 | L100: 1 | M100: 20 | N100: 250 | O100: =G100*L100+I100*M100+K100*N100 -> 0
A101: OMA 04 | B101: Metaal Buiten | C101: Plaatselijk verwijderen, 1 x bijwerken hechtprimer, 1 x geheel grondverf, 1 x geheel dekverf | D101: kozijnen en ramen | E101: m1 | F101: 0 | G101: =(F101*(1+'4. Manuren+toeslagen'!$D$17+'4. Manuren+toeslagen'!$D$18))*(1+'4. Manuren+toeslagen'!$D$20) -> 0 | H101: 0 | I101: =(H101*(1+'4. Manuren+toeslagen'!$D$17+'4. Manuren+toeslagen'!$D$18))*(1+'4. Manuren+toeslagen'!$D$20) -> 0 | J101: 0 | K101: =(J101*(1+'4. Manuren+toeslagen'!$D$17+'4. Manuren+toeslagen'!$D$18))*(1+'4. Manuren+toeslagen'!$D$20) -> 0 | L101: 9 | M101: 20 | N101: 250 | O101: =G101*L101+I101*M101+K101*N101 -> 0
...

Sheet 4. Manuren+toeslagen
A1: BIJLAGE 2 GUNNINGSCRITERIUM PRIJS - MANUURLOON EN TOESLAGPERCENTAGES
A3: Let op! Enkel de witte vlakken dienen ingevuld te worden.
A6: Manuurloon* Functies | C6: Overige functies binnen deze tariefgroep. | D6: Uurtarief exclusief toeslagen en exclusief btw* | E6: Uren (fictief) | F6: Inclusief BTW Totaal (fictief)
A7: Manuurloon 01 | B7: Projectleider | C7: Omschrijving van de werkzaamheden die uitgevoerd gaan worden door deze functiegroep in te vullen door Inschrijver | D7: 0 | E7: 130 | F7: =D7*E7 -> 0
A8: Manuurloon 02 | B8: Werkvoorbereider | C8: Omschrijving van de werkzaamheden die uitgevoerd gaan worden door deze functiegroep in te vullen door Inschrijver | D8: 0 | E8: 208 | F8: =D8*E8 -> 0
A9: Manuurloon 03 | B9: Uitvoerend medewerker Senior: Schilder etc. | C9: Omschrijving van de werkzaamheden die uitgevoerd gaan worden door deze functiegroep in te vullen door Inschrijver | D9: 0 | E9: 520 | F9: =D9*E9 -> 0
A10: Manuurloon 04 | B10: Uitvoerend medewerker Junior: Schilder etc. | C10: Omschrijving van de werkzaamheden die uitgevoerd gaan worden door deze functiegroep in te vullen door Inschrijver | D10: 0 | E10: 520 | F10: =D10*E10 -> 0
D12: Subtotaal uren (fictief) | F12: =SUM(F7:F10) -> 0
A16: Toeslag percentages | C16: Tijdstippen storingen/evt. Opmerkingen | D16: Percentage | E16: Aantal (fictief) | F16: Inclusief BTW Totaal (fictief)
A17: Toeslag 01 | B17: Algemene bouwplaatskosten | D17: 0 | E17: o.b.v. subtotaal uren | F17: =D17*$F$12 -> 0
A18: Toeslag 02 | B18: Algemene kosten | D18: 0 | E18: o.b.v. subtotaal uren | F18: =D18*$F$12 -> 0
A19: Toeslag 03 | B19: Onderaanneming | D19: 0 | E19: o.b.v. subtotaal uren | F19: =D19*$F$12 -> 0
A20: Toeslag 04 | B20: Winst & risico | D20: 0 | E20: o.b.v. subtotaal uren | F20: =D20*$F$12 -> 0
A21: Toeslag 05 | B21: avond/nacht | C21: Maandag t/m vrijdag van 18.00 uur - 07.00 uur de volgende ochtend | D21: 0 | E21: 40 | F21: =D21*$F$12 -> 0
A22: Toeslag 06 | B22: zaterdag | C22: Zaterdag | D22: 0 | E22: 80 | F22: =D22*$F$12 -> 0
A23: Toeslag 07 | B23: zon- en feestdagen | C23: Tijdstippen nader omschrijven door Inschrijver | D23: 0 | E23: 40 | F23: =D23*$F$12 -> 0
D25: Totaal (fictief) | F25: =SUM(F17:F23) -> 0
A27: * Uurtarieven zijn inclusief voorrijkosten, reiskosten en overige functionarisgebonden kosten.
