Workbook

Sheet 1. Totaalprijs
A1: BIJLAGE 2 GUNNINGSCRITERIUM PRIJS - FICTIEVE AANNEEMSOM TOTAALOPDRACHT
A4: Gunningscriterium G.1 | B4: Tabblad | G4: Totaal (fictief)
B5: Graffiti (jaar 1 t/m 7) | F5: subtotaal | G5: ='2. Graffiti'!P16 -> 0
B6: Eenheidsprijzen | F6: subtotaal | G6: ='3. Eenheidsprijzen '!O291 -> 0
B7: Manuurloon en toeslagpercentages | F7: subtotaal | G7: ='4. Manuren+toeslagen'!F25 -> 0
F9: Fictieve totaalprijs incl. btw | G9: =SUM(G5:G7) -> 0
B10: Fictieve totaalprijs offerte (incl. BTW) | G10: =G9 -> 0
A11: * Eenheidsprijzen dienen inclusief alle toeslagen te zijn zoals verwoord in hoofdstuk 10 van de inschrijvingsleidraad.

Sheet 2. Graffiti
A1: BIJLAGE 2 GUNNINGSCRITERIUM PRIJS - GRAFFITI
I5: OPGAVE KOSTEN GRAFFITI DOOR OPRDRACHTNEMER IN EURO INCLUSIEF ALLE OPSLAGEN EN TOESLAGPERCENTAGES , INCLUSIEF BTW PER JAAR IN TE VULLEN | P5: INCLUSIEF BTW
I6: GUNNINGSCRITERIUM G.1 | P6: G.1
A7: FUNCTIE | B7: STRAAT | C7: NR. | D7: PLAATS | E7: EIGENDOM / HUUR | F7: BVO (m²) | G7: BIJZONDERHEDEN | H7: OPMERKNGEN | I7: KOSTEN Jaar 1 | J7: KOSTEN Jaar 2 | K7: KOSTEN Jaar 3 | L7: KOSTEN Jaar 4 | M7: KOSTEN Jaar 5 | N7: KOSTEN Jaar 6 | O7: KOSTEN Jaar 7 | P7: TOTALE KOSTEN
A9: Reinwardt Academie | B9: Hortusplantsoen | C9: 3 | D9: Amsterdam | E9: Eigendom | F9: 3.848 | G9: Gemeentelijk monument | H9: [ruimte voor toelichting opdrachtnemer] | I9: 0 | J9: 0 | K9: 0 | L9: 0 | M9: 0 | N9: 0 | O9: 0 | P9: =SUM(I9:O9) -> 0
A10: Academie van Bouwkunst | B10: Waterlooplein | C10: 211, 213-219 | D10: Amsterdam | E10: Eigendom | F10: 2579 | G10: Rijksmonument | H10: [ruimte voor toelichting opdrachtnemer] | I10: 0 | J10: 0 | K10: 0 | L10: 0 | M10: 0 | N10: 0 | O10: 0 | P10: =SUM(I10:O10) -> 0
A11: de Theaterschool + Servicebureau | B11: Jodenbreestraat | C11: 3 | D11: Amsterdam | E11: Eigendom | F11: 17055 | H11: [ruimte voor toelichting opdrachtnemer] | I11: 0 | J11: 0 | K11: 0 | L11: 0 | M11: 0 | N11: 0 | O11: 0 | P11: =SUM(I11:O11) -> 0
A12: Nederlandse Filmacademie | B12: Markenplein | C12: 1 | D12: Amsterdam | E12: Eigendom | F12: 8063 | H12: [ruimte voor toelichting opdrachtnemer] | I12: 0 | J12: 0 | K12: 0 | L12: 0 | M12: 0 | N12: 0 | O12: 0 | P12: =SUM(I12:O12) -> 0
A13: Conservatorium van Amsterdam | B13: Oosterdokskade | C13: 151 | D13: Amsterdam | E13: Eigendom | F13: 16004 | H13: [ruimte voor toelichting opdrachtnemer] | I13: 0 | J13: 0 | K13: 0 | L13: 0 | M13: 0 | N13: 0 | O13: 0 | P13: =SUM(I13:O13) -> 0
A14: Grootlab; Academie voor Beeldende Vorming / de Theaterschool | B14: Overhoeksplein | C14: 2 | D14: Amsterdam | E14: Eigendom | F14: 5443 | H14: [ruimte voor toelichting opdrachtnemer] | I14: 0 | J14: 0 | K14: 0 | L14: 0 | M14: 0 | N14: 0 | O14: 0 | P14: =SUM(I14:O14) -> 0
H16: Totaal | I16: =SUM(I9:I15) -> 0 | J16: =SUM(J9:J15) -> 0 | K16: =SUM(K9:K15) -> 0 | L16: =SUM(L9:L15) -> 0 | M16: =SUM(M9:M15) -> 0 | N16: =SUM(N9:N15) -> 0 | O16: =SUM(O9:O15) -> 0 | P16: =SUM(P9:P14) -> 0

Sheet 3. Eenheidsprijzen 
B1: BIJLAGE 2 GUNNINGSCRITERIUM PRIJS - EENHEIDSPRIJZEN
F5: Prijs /eenheid inclusief btw
F6: hoeveelheid 0 - 10 | H6: hoeveelheid 11 - 100 | J6: hoeveelheid 101 - 1000
A7: CODE | B7: Ondergrond | E7: Eenheid | F7: excl. toeslagen | G7: incl. toeslagen 01, 02 en 04 | H7: excl. toeslagen | I7: incl. toeslagen 01, 02 en 04 | J7: excl. toeslagen | K7: incl. toeslagen 01, 02 en 04 | L7: Aantal 0-10 (fictief) | M7: Aantal 11-100 (fictief) | N7: Aantal 101-1000 (fictief) | O7: Totaal (fictief)
B8: BUITENSCHILDERWERKEN
A9: CODE | B9: Ondergrond | C9: Handeling | O9: =SUM(O11:O158) -> 0
A11: OHD 01 | B11: Hout buiten | C11: Plaatselijk schrapen, 1 x bijwerken grondverf, 1 x bijwerken dekverf | D11: paneel/betimmering | E11: m2 | F11: 0 | G11: =(F11*(1+'4. Manuren+toeslagen'!$D$17+'4. Manuren+toeslagen'!$D$18))*(1+'4. Manuren+toeslagen'!$D$20) -> 0 | H11: 0 | I11: =(H11*(1+'4. Manuren+toeslagen'!$D$17+'4. Manuren+toeslagen'!$D$18))*(1+'4. Manuren+toeslagen'!$D$20) -> 0 | J11: 0 | K11: =(J11*(1+'4. Manuren+toeslagen'!$D$17+'4. Manuren+toeslagen'!$D$18))*(1+'4. Manuren+toeslagen'!$D$20) -> 0 | L11: 1 | M11: 20 | N11: 250 | O11: =G11*L11+I11*M11+K11*N11 -> 0
A12: OHD 01 | B12: Hout buiten | C12: Plaatselijk schrapen, 1 x bijwerken grondverf, 1 x bijwerken dekverf | D12: kozijnen en ramen | E12: m1 | F12: 0 | G12: =(F12*(1+'4. Manuren+toeslagen'!$D$17+'4. Manuren+toeslagen'!$D$18))*(1+'4. Manuren+toeslagen'!$D$20) -> 0 | H12: 0 | I12: =(H12*(1+'4. Manuren+toeslagen'!$D$17+'4. Manuren+toeslagen'!$D$18))*(1+'4. Manuren+toeslagen'!$D$20) -> 0 | J12: 0 | K12: =(J12*(1+'4. Manuren+toeslagen'!$D$17+'4. Manuren+toeslagen'!$D$18))*(1+'4. Manuren+toeslagen'!$D$20) -> 0 | L12: 9 | M12: 20 | N12: 250 | O12: =G12*L12+I12*M12+K12*N12 -> 0
A13: OHD 01 | B13: Hout buiten | C13: Plaatselijk schrapen, 1 x bijwerken grondverf, 1 x bijwerken dekverf | D13: buitendeur | E13: st | F13: 0 | G13: =(F13*(1+'4. Manuren+toeslagen'!$D$17+'4. Manuren+toeslagen'!$D$18))*(1+'4. Manuren+toeslagen'!$D$20) -> 0 | H13: 0 | I13: =(H13*(1+'4. Manuren+toeslagen'!$D$17+'4. Manuren+toeslagen'!$D$18))*(1+'4. Manuren+toeslagen'!$D$20) -> 0 | J13: 0 | K13: =(J13*(1+'4. Manuren+toeslagen'!$D$17+'4. Manuren+toeslagen'!$D$18))*(1+'4. Manuren+toeslagen'!$D$20) -> 0 | L13: 1 | M13: 20 | N13: 250 | O13: =G13*L13+I13*M13+K13*N13 -> 0
A14: OHD 02 | B14: Hout buiten | C14: Plaatselijk schrapen, 1 x bijwerken grondverf, 1 x geheel dekverf | D14: paneel/betimmering | E14: m2 | F14: 0 | G14: =(F14*(1+'4. Manuren+toeslagen'!$D$17+'4. Manuren+toeslagen'!$D$18))*(1+'4. Manuren+toeslagen'!$D$20) -> 0 | H14: 0 | I14: =(H14*(1+'4. Manuren+toeslagen'!$D$17+'4. Manuren+toeslagen'!$D$18))*(1+'4. Manuren+toeslagen'!$D$20) -> 0 | J14: 0 | K14: =(J14*(1+'4. Manuren+toeslagen'!$D$17+'4. Manuren+toeslagen'!$D$18))*(1+'4. Manuren+toeslagen'!$D$20) -> 0 | L14: 1 | M14: 20 | N14: 250 | O14: =G14*L14+I14*M14+K14*N14 -> 0
A15: OHD 02 | B15: Hout buiten | C15: Plaatselijk schrapen, 1 x bijwerken grondverf, 1 x geheel dekverf | D15: kozijnen en ramen | E15: m1 | F15: 0 | G15: =(F15*(1+'4. Manuren+toeslagen'!$D$17+'4. Manuren+toeslagen'!$D$18))*(1+'4. Manuren+toeslagen'!$D$20) -> 0 | H15: 0 | I15: =(H15*(1+'4. Manuren+toeslagen'!$D$17+'4. Manuren+toeslagen'!$D$18))*(1+'4. Manuren+toeslagen'!$D$20) -> 0 | J15: 0 | K15: =(J15*(1+'4. Manuren+toeslagen'!$D$17+'4. Manuren+toeslagen'!$D$18))*(1+'4. Manuren+toeslagen'!$D$20) -> 0 | L15: 9 | M15: 20 | N15: 250 | O15: =G15*L15+I15*M15+K15*N15 -> 0
A16: OHD 02 | B16: Hout buiten | C16: Plaatselijk schrapen, 1 x bijwerken grondverf, 1 x geheel dekverf | D16: buitendeur | E16: st | F16: 0 | G16: =(F16*(1+'4. Manuren+toeslagen'!$D$17+'4. Manuren+toeslagen'!$D$18))*(1+'4. Manuren+toeslagen'!$D$20) -> 0 | H16: 0 | I16: =(H16*(1+'4. Manuren+toeslagen'!$D$17+'4. Manuren+toeslagen'!$D$18))*(1+'4. Manuren+toeslagen'!$D$20) -> 0 | J16: 0 | K16: =(J16*(1+'4. Manuren+toeslagen'!$D$17+'4. Manuren+toeslagen'!$D$18))*(1+'4. Manuren+toeslagen'!$D$20) -> 0 | L16: 1 | M16: 20 | N16: 250 | O16: =G16*L16+I16*M16+K16*N16 -> 0
A17: OHD 03 | B17: Hout buiten | C17: Plaatselijk verwijderen, 1 x bijwerken grondverf, 1x geheel grondverf, 1 x geheel dekverf | D17: paneel/betimmering | E17: m2 | F17: 0 | G17: =(F17*(1+'4. Manuren+toeslagen'!$D$17+'4. Manuren+toeslagen'!$D$18))*(1+'4. Manuren+toeslagen'!$D$20) -> 0 | H17: 0 | I17: =(H17*(1+'4. Manuren+toeslagen'!$D$17+'4. Manuren+toeslagen'!$D$18))*(1+'4. Manuren+toeslagen'!$D$20) -> 0 | J17: 0 | K17: =(J17*(1+'4. Manuren+toeslagen'!$D$17+'4. Manuren+toeslagen'!$D$18))*(1+'4. Manuren+toeslagen'!$D$20) -> 0 | L17: 1 | M17: 20 | N17: 250 | O17: =G17*L17+I17*M17+K17*N17 -> 0
A18: OHD 03 | B18: Hout buiten | C18: Plaatselijk verwijderen, 1 x bijwerken grondverf, 1x geheel grondverf, 1 x geheel dekverf | D18: kozijnen en ramen | E18: m1 | F18: 0 | G18: =(F18*(1+'4. Manuren+toeslagen'!$D$17+'4. Manuren+toeslagen'!$D$18))*(1+'4. Manuren+toeslagen'!$D$20) -> 0 | H18: 0 | I18: =(H18*(1+'4. Manuren+toeslagen'!$D$17+'4. Manuren+toeslagen'!$D$18))*(1+'4. Manuren+toeslagen'!$D$20) -> 0 | J18: 0 | K18: =(J18*(1+'4. Manuren+toeslagen'!$D$17+'4. Manuren+toeslagen'!$D$18))*(1+'4. Manuren+toeslagen'!$D$20) -> 0 | L18: 9 | M18: 20 | N18: 250 | O18: =G18*L18+I18*M18+K18*N18 -> 0
A19: OHD 03 | B19: Hout buiten | C19: Plaatselijk verwijderen, 1 x bijwerken grondverf, 1x geheel grondverf, 1 x geheel dekverf | D19: buitendeur | E19: st | F19: 0 | G19: =(F19*(1+'4. Manuren+toeslagen'!$D$17+'4. Manuren+toeslagen'!$D$18))*(1+'4. Manuren+toeslagen'!$D$20) -> 0 | H19: 0 | I19: =(H19*(1+'4. Manuren+toeslagen'!$D$17+'4. Manuren+toeslagen'!$D$18))*(1+'4. Manuren+toeslagen'!$D$20) -> 0 | J19: 0 | K19: =(J19*(1+'4. Manuren+toeslagen'!$D$17+'4. Manuren+toeslagen'!$D$18))*(1+'4. Manuren+toeslagen'!$D$20) -> 0 | L19: 1 | M19: 20 | N19: 250 | O19: =G19*L19+I19*M19+K19*N19 -> 0
A20: OHD 04 | B20: Hout buiten | C20: Plaatselijk verwijderen, 1 x bijwerken grondverf, 1 x geheel grondverf, 2 x geheel dekverf | D20: paneel/betimmering | E20: m2 | F20: 0 | G20: =(F20*(1+'4. Manuren+toeslagen'!$D$17+'4. Manuren+toeslagen'!$D$18))*(1+'4. Manuren+toeslagen'!$D$20) -> 0 | H20: 0 | I20: =(H20*(1+'4. Manuren+toeslagen'!$D$17+'4. Manuren+toeslagen'!$D$18))*(1+'4. Manuren+toeslagen'!$D$20) -> 0 | J20: 0 | K20: =(J20*(1+'4. Manuren+toeslagen'!$D$17+'4. Manuren+toeslagen'!$D$18))*(1+'4. Manuren+toeslagen'!$D$20) -> 0 | L20: 1 | M20: 20 | N20: 250 | O20: =G20*L20+I20*M20+K20*N20 -> 0
A21: OHD 04 | B21: Hout buiten | C21: Plaatselijk verwijderen, 1 x bijwerken grondverf, 1 x geheel grondverf, 2 x geheel dekverf | D21: kozijnen en ramen | E21: m1 | F21: 0 | G21: =(F21*(1+'4. Manuren+toeslagen'!$D$17+'4. Manuren+toeslagen'!$D$18))*(1+'4. Manuren+toeslagen'!$D$20) -> 0 | H21: 0 | I21: =(H21*(1+'4. Manuren+toeslagen'!$D$17+'4. Manuren+toeslagen'!$D$18))*(1+'4. Manuren+toeslagen'!$D$20) -> 0 | J21: 0 | K21: =(J21*(1+'4. Manuren+toeslagen'!$D$17+'4. Manuren+toeslagen'!$D$18))*(1+'4. Manuren+toeslagen'!$D$20) -> 0 | L21: 9 | M21: 20 | N21: 250 | O21: =G21*L21+I21*M21+K21*N21 -> 0
A22: OHD 04 | B22: Hout buiten | C22: Plaatselijk verwijderen, 1 x bijwerken grondverf, 1 x geheel grondverf, 2 x geheel dekverf | D22: buitendeur | E22: st | F22: 0 | G22: =(F22*(1+'4. Manuren+toeslagen'!$D$17+'4. Manuren+toeslagen'!$D$18))*(1+'4. Manuren+toeslagen'!$D$20) -> 0 | H22: 0 | I22: =(H22*(1+'4. Manuren+toeslagen'!$D$17+'4. Manuren+toeslagen'!$D$18))*(1+'4. Manuren+toeslagen'!$D$20) -> 0 | J22: 0 | K22: =(J22*(1+'4. Manuren+toeslagen'!$D$17+'4. Manuren+toeslagen'!$D$18))*(1+'4. Manuren+toeslagen'!$D$20) -> 0 | L22: 1 | M22: 20 | N22: 250 | O22: =G22*L22+I22*M22+K22*N22 -> 0
... A80: OHV 05 | B80: Hout buiten | C80: Plaatselijk schrapen, 2 x geheel vernis | D80: buitendeur | E80: st | F80: 0 | G80: =(F80*(1+'4. Manuren+toeslagen'!$D$17+'4. Manuren+toeslagen'!$D$18))*(1+'4. Manuren+toeslagen'!$D$20) -> 0 | H80: 0 | I80: =(H80*(1+'4. Manuren+toeslagen'!$D$17+'4. Manuren+toeslagen'!$D$18))*(1+'4. Manuren+toeslagen'!$D$20) -> 0 | J80: 0 | K80: =(J80*(1+'4. Manuren+toeslagen'!$D$17+'4. Manuren+toeslagen'!$D$18))*(1+'4. Manuren+toeslagen'!$D$20) -> 0 | L80: 1 | M80: 20 | N80: 250 | O80: =G80*L80+I80*M80+K80*N80 -> 0
A81: OBS 01 | B81: Beglazing buiten | C81: Glas verwijderen, beglazen met stoppasta | E81: st | F81: 0 | G81: =(F81*(1+'4. Manuren+toeslagen'!$D$17+'4. Manuren+toeslagen'!$D$18))*(1+'4. Manuren+toeslagen'!$D$20) -> 0 | H81: 0 | I81: =(H81*(1+'4. Manuren+toeslagen'!$D$17+'4. Manuren+toeslagen'!$D$18))*(1+'4. Manuren+toeslagen'!$D$20) -> 0 | J81: 0 | K81: =(J81*(1+'4. Manuren+toeslagen'!$D$17+'4. Manuren+toeslagen'!$D$18))*(1+'4. Manuren+toeslagen'!$D$20) -> 0 | L81: 7 | M81: 17 | N81: 123 | O81: =G81*L81+I81*M81+K81*N81 -> 0
A82: OBS 02 | B82: Beglazing buiten | C82: Glas verwijderen, beglazen met kit en glaslatten | E82: st | F82: 0 | G82: =(F82*(1+'4. Manuren+toeslagen'!$D$17+'4. Manuren+toeslagen'!$D$18))*(1+'4. Manuren+toeslagen'!$D$20) -> 0 | H82: 0 | I82: =(H82*(1+'4. Manuren+toeslagen'!$D$17+'4. Manuren+toeslagen'!$D$18))*(1+'4. Manuren+toeslagen'!$D$20) -> 0 | J82: 0 | K82: =(J82*(1+'4. Manuren+toeslagen'!$D$17+'4. Manuren+toeslagen'!$D$18))*(1+'4. Manuren+toeslagen'!$D$20) -> 0 | L82: 7 | M82: 17 | N82: 123 | O82: =G82*L82+I82*M82+K82*N82 -> 0
A83: OBS 03 | B83: Beglazing buiten | C83: Glas verwijderen, beglazen met droogbeglazingsprofielen | E83: st | F83: 0 | G83: =(F83*(1+'4. Manuren+toeslagen'!$D$17+'4. Manuren+toeslagen'!$D$18))*(1+'4. Manuren+toeslagen'!$D$20) -> 0 | H83: 0 | I83: =(H83*(1+'4. Manuren+toeslagen'!$D$17+'4. Manuren+toeslagen'!$D$18))*(1+'4. Manuren+toeslagen'!$D$20) -> 0 | J83: 0 | K83: =(J83*(1+'4. Manuren+toeslagen'!$D$17+'4. Manuren+toeslagen'!$D$18))*(1+'4. Manuren+toeslagen'!$D$20) -> 0 | L83: 7 | M83: 17 | N83: 123 | O83: =G83*L83+I83*M83+K83*N83 -> 0
A84: OBS 04 | B84: Beglazing buiten | C84: Glas verwijderen, beglazen met EPDM beglazingsband zonder afkitten | E84: st | F84: 0 | G84: =(F84*(1+'4. Manuren+toeslagen'!$D$17+'4. Manuren+toeslagen'!$D$18))*(1+'4. Manuren+toeslagen'!$D$20) -> 0 | H84: 0 | I84: =(H84*(1+'4. Manuren+toeslagen'!$D$17+'4. Manuren+toeslagen'!$D$18))*(1+'4. Manuren+toeslagen'!$D$20) -> 0 | J84: 0 | K84: =(J84*(1+'4. Manuren+toeslagen'!$D$17+'4. Manuren+toeslagen'!$D$18))*(1+'4. Manuren+toeslagen'!$D$20) -> 0 | L84: 7 | M84: 17 | N84: 123 | O84: =G84*L84+I84*M84+K84*N84 -> 0
A85: OBS 05 | B85: Beglazing buiten | C85: Glas verwijderen, beglazen met EPDM beglazingsband zonder afkitten | E85: st | F85: 0 | G85: =(F85*(1+'4. Manuren+toeslagen'!$D$17+'4. Manuren+toeslagen'!$D$18))*(1+'4. Manuren+toeslagen'!$D$20) -> 0 | H85: 0 | I85: =(H85*(1+'4. Manuren+toeslagen'!$D$17+'4. Manuren+toeslagen'!$D$18))*(1+'4. Manuren+toeslagen'!$D$20) -> 0 | J85: 0 | K85: =(J85*(1+'4. Manuren+toeslagen'!$D$17+'4. Manuren+toeslagen'!$D$18))*(1+'4. Manuren+toeslagen'!$D$20) -> 0 | L85: 7 | M85: 17 | N85: 123 | O85: =G85*L85+I85*M85+K85*N85 -> 0
A86: OBS 06 | B86: Beglazing buiten | C86: Plaatselijk kitvoeg uitsnijden, beglazen met kit en glaslatten | E86: st | F86: 0 | G86: =(F86*(1+'4. Manuren+toeslagen'!$D$17+'4. Manuren+toeslagen'!$D$18))*(1+'4. Manuren+toeslagen'!$D$20) -> 0 | H86: 0 | I86: =(H86*(1+'4. Manuren+toeslagen'!$D$17+'4. Manuren+toeslagen'!$D$18))*(1+'4. Manuren+toeslagen'!$D$20) -> 0 | J86: 0 | K86: =(J86*(1+'4. Manuren+toeslagen'!$D$17+'4. Manuren+toeslagen'!$D$18))*(1+'4. Manuren+toeslagen'!$D$20) -> 0 | L86: 7 | M86: 17 | N86: 123 | O86: =G86*L86+I86*M86+K86*N86 -> 0
A87: OBS 07 | B87: Beglazing buiten | C87: Plaatselijk verwijderen stoppasta, beglazen met stoppasta | E87: st | F87: 0 | G87: =(F87*(1+'4. Manuren+toeslagen'!$D$17+'4. Manuren+toeslagen'!$D$18))*(1+'4. Manuren+toeslagen'!$D$20) -> 0 | H87: 0 | I87: =(H87*(1+'4. Manuren+toeslagen'!$D$17+'4. Manuren+toeslagen'!$D$18))*(1+'4. Manuren+toeslagen'!$D$20) -> 0 | J87: 0 | K87: =(J87*(1+'4. Manuren+toeslagen'!$D$17+'4. Manuren+toeslagen'!$D$18))*(1+'4. Manuren+toeslagen'!$D$20) -> 0 | L87: 7 | M87: 17 | N87: 123 | O87: =G87*L87+I87*M87+K87*N87 -> 0
A88: OBS 08 | B88: Beglazing buiten | C88: Plaatselijk verwijderen, beglazen met droogbeglazingsprofielen | E88: st | F88: 0 | G88: =(F88*(1+'4. Manuren+toeslagen'!$D$17+'4. Manuren+toeslagen'!$D$18))*(1+'4. Manuren+toeslagen'!$D$20) -> 0 | H88: 0 | I88: =(H88*(1+'4. Manuren+toeslagen'!$D$17+'4. Manuren+toeslagen'!$D$18))*(1+'4. Manuren+toeslagen'!$D$20) -> 0 | J88: 0 | K88: =(J88*(1+'4. Manuren+toeslagen'!$D$17+'4. Manuren+toeslagen'!$D$18))*(1+'4. Manuren+toeslagen'!$D$20) -> 0 | L88: 7 | M88: 17 | N88: 123 | O88: =G88*L88+I88*M88+K88*N88 -> 0
A89: OBS 09 | B89: Beglazing buiten | C89: Geheel kitvoeg uitsnijden, beglazen met kit en glaslatten | E89: st | F89: 0 | G89: =(F89*(1+'4. Manuren+toeslagen'!$D$17+'4. Manuren+toeslagen'!$D$18))*(1+'4. Manuren+toeslagen'!$D$20) -> 0 | H89: 0 | I89: =(H89*(1+'4. Manuren+toeslagen'!$D$17+'4. Manuren+toeslagen'!$D$18))*(1+'4. Manuren+toeslagen'!$D$20) -> 0 | J89: 0 | K89: =(J89*(1+'4. Manuren+toeslagen'!$D$17+'4. Manuren+toeslagen'!$D$18))*(1+'4. Manuren+toeslagen'!$D$20) -> 0 | L89: 7 | M89: 17 | N89: 123 | O89: =G89*L89+I89*M89+K89*N89 -> 0
A90: OBS 10 | B90: Beglazing buiten | C90: Onderlatten vervangen door neuslatten, plaatselijk kitvoeg uitsnijden, beglazen met kit en glaslatten | E90: st | F90: 0 | G90: =(F90*(1+'4. Manuren+toeslagen'!$D$17+'4. Manuren+toeslagen'!$D$18))*(1+'4. Manuren+toeslagen'!$D$20) -> 0 | H90: 0 | I90: =(H90*(1+'4. Manuren+toeslagen'!$D$17+'4. Manuren+toeslagen'!$D$18))*(1+'4. Manuren+toeslagen'!$D$20) -> 0 | J90: 0 | K90: =(J90*(1+'4. Manuren+toeslagen'!$D$17+'4. Manuren+toeslagen'!$D$18))*(1+'4. Manuren+toeslagen'!$D$20) -> 0 | L90: 7 | M90: 17 | N90: 123 | O90: =G90*L90+I90*M90+K90*N90 -> 0
A91: OMA 01 | B91: Metaal Buiten | C91: Niet eerder behandeld, 1 x geheel hechtprimer, 1 x geheel grondverf, 1 x geheel dekverf | D91: paneel/betimmering | E91: m2 | F91: 0 | G91: =(F91*(1+'4. Manuren+toeslagen'!$D$17+'4. Manuren+toeslagen'!$D$18))*(1+'4. Manuren+toeslagen'!$D$20) -> 0 | H91: 0 | I91: =(H91*(1+'4. Manuren+toeslagen'!$D$17+'4. Manuren+toeslagen'!$D$18))*(1+'4. Manuren+toeslagen'!$D$20) -> 0 | J91: 0 | K91: =(J91*(1+'4. Manuren+toeslagen'!$D$17+'4. Manuren+toeslagen'!$D$18))*(1+'4. Manuren+toeslagen'!$D$20) -> 0 | L91: 1 | M91: 20 | N91: 250 | O91: =G91*L91+I91*M91+K91*N91 -> 0
A92: OMA 01 | B92: Metaal Buiten | C92: Niet eerder behandeld, 1 x geheel hechtprimer, 1 x geheel grondverf, 1 x geheel dekverf | D92: kozijnen en ramen | E92: m1 | F92: 0 | G92: =(F92*(1+'4. Manuren+toeslagen'!$D$17+'4. Manuren+toeslagen'!$D$18))*(1+'4. Manuren+toeslagen'!$D$20) -> 0 | H92: 0 | I92: =(H92*(1+'4. Manuren+toeslagen'!$D$17+'4. Manuren+toeslagen'!$D$18))*(1+'4. Manuren+toeslagen'!$D$20) -> 0 | J92: 0 | K92: =(J92*(1+'4. Manuren+toeslagen'!$D$17+'4. Manuren+toeslagen'!$D$18))*(1+'4. Manuren+toeslagen'!$D$20) -> 0 | L92: 9 | M92: 20 | N92: 250 | O92: =G92*L92+I92*M92+K92*N92 -> 0
A93: OMA 01 | B93: Metaal Buiten | C93: Niet eerder behandeld, 1 x geheel hechtprimer, 1 x geheel grondverf, 1 x geheel dekverf | D93: buitendeur | E93: st | F93: 0 | G93: =(F93*(1+'4. Manuren+toeslagen'!$D$17+'4. Manuren+toeslagen'!$D$18))*(1+'4. Manuren+toeslagen'!$D$20) -> 0 | H93: 0 | I93: =(H93*(1+'4. Manuren+toeslagen'!$D$17+'4. Manuren+toeslagen'!$D$18))*(1+'4. Manuren+toeslagen'!$D$20) -> 0 | J93: 0 | K93: =(J93*(1+'4. Manuren+toeslagen'!$D$17+'4. Manuren+toeslagen'!$D$18))*(1+'4. Manuren+toeslagen'!$D$20) -> 0 | L93: 1 | M93: 20 | N93: 250 | O93: =G93*L93+I93*M93+K93*N93 -> 0
A94: OMA 02 | B94: Metaal Buiten | C94: Plaatselijk verwijderen, 1 x bijwerken hechtprimer, 1 x bijwerken grondverf, 1 x bijwerken dekverf | D94: paneel/betimmering | E94: m2 | F94: 0 | G94: =(F94*(1+'4. Manuren+toeslagen'!$D$17+'4. Manuren+toeslagen'!$D$18))*(1+'4. Manuren+toeslagen'!$D$20) -> 0 | H94: 0 | I94: =(H94*(1+'4. Manuren+toeslagen'!$D$17+'4. Manuren+toeslagen'!$D$18))*(1+'4. Manuren+toeslagen'!$D$20) -> 0 | J94: 0 | K94: =(J94*(1+'4. Manuren+toeslagen'!$D$17+'4. Manuren+toeslagen'!$D$18))*(1+'4. Manuren+toeslagen'!$D$20) -> 0 | L94: 1 | M94: 20 | N94: 250 | O94: =G94*L94+I94*M94+K94*N94 -> 0
A95: OMA 02 | B95: Metaal Buiten | C95: Plaatselijk verwijderen, 1 x bijwerken hechtprimer, 1 x bijwerken grondverf, 1 x bijwerken dekverf | D95: kozijnen en ramen | E95: m1 | F95: 0 | G95: =(F95*(1+'4. Manuren+toeslagen'!$D$17+'4. Manuren+toeslagen'!$D$18))*(1+'4. Manuren+toeslagen'!$D$20) -> 0 | H95: 0 | I95: =(H95*(1+'4. Manuren+toeslagen'!$D$17+'4. Manuren+toeslagen'!$D$18))*(1+'4. Manuren+toeslagen'!$D$20) -> 0 | J95: 0 | K95: =(J95*(1+'4. Manuren+toeslagen'!$D$17+'4. Manuren+toeslagen'!$D$18))*(1+'4. Manuren+toeslagen'!$D$20) -> 0 | L95: 9 | M95: 20 | N95: 250 | O95: =G95*L95+I95*M95+K95*N95 -> 0
A96: OMA 02 | B96: Metaal Buiten | C96: Plaatselijk verwijderen, 1 x bijwerken hechtprimer, 1 x bijwerken grondverf, 1 x bijwerken dekverf | D96: buitendeur | E96: st | F96: 0 | G96: =(F96*(1+'4. Manuren+toeslagen'!$D$17+'4. Manuren+toeslagen'!$D$18))*(1+'4. Manuren+toeslagen'!$D$20) -> 0 | H96: 0 | I96: =(H96*(1+'4. Manuren+toeslagen'!$D$17+'4. Manuren+toeslagen'!$D$18))*(1+'4. Manuren+toeslagen'!$D$20) -> 0 | J96: 0 | K96: =(J96*(1+'4. Manuren+toeslagen'!$D$17+'4. Manuren+toeslagen'!$D$18))*(1+'4. Manuren+toeslagen'!$D$20) -> 0 | L96: 1 | M96: 20 | N96: 250 | O96: =G96*L96+I96*M96+K96*N96 -> 0
A97: OMA 03 | B97: Metaal Buiten | C97: Plaatselijk verwijderen, 1 x bijwerken hechtprimer, 1 x bijwerken grondverf, 1 x geheel dekverf | D97: paneel/betimmering | E97: m2 | F97: 0 | G97: =(F97*(1+'4. Manuren+toeslagen'!$D$17+'4. Manuren+toeslagen'!$D$18))*(1+'4. Manuren+toeslagen'!$D$20) -> 0 | H97: 0 | I97: =(H97*(1+'4. Manuren+toeslagen'!$D$17+'4. Manuren+toeslagen'!$D$18))*(1+'4. Manuren+toeslagen'!$D$20) -> 0 | J97: 0 | K97: =(J97*(1+'4. Manuren+toeslagen'!$D$17+'4. Manuren+toeslagen'!$D$18))*(1+'4. Manuren+toeslagen'!$D$20) -> 0 | L97: 1 | M97: 20 | N97: 250 | O97: =G97*L97+I97*M97+K97*N97 -> 0
A98: OMA 03 | B98: Metaal Buiten | C98: Plaatselijk verwijderen, 1 x bijwerken hechtprimer, 1 x bijwerken grondverf, 1 x geheel dekverf | D98: kozijnen en ramen | E98: m1 | F98: 0 | G98: =(F98*(1+'4. Manuren+toeslagen'!$D$17+'4. Manuren+toeslagen'!$D$18))*(1+'4. Manuren+toeslagen'!$D$20) -> 0 | H98: 0 | I98: =(H98*(1+'4. Manuren+toeslagen'!$D$17+'4. Manuren+toeslagen'!$D$18))*(1+'4. Manuren+toeslagen'!$D$20) -> 0 | J98: 0 | K98: =(J98*(1+'4. Manuren+toeslagen'!$D$17+'4. Manuren+toeslagen'!$D$18))*(1+'4. Manuren+toeslagen'!$D$20) -> 0 | L98: 9 | M98: 20 | N98: 250 | O98: =G98*L98+I98*M98+K98*N98 -> 0
A99: OMA 03 | B99: Metaal Buiten | C99: Plaatselijk verwijderen, 1 x bijwerken hechtprimer, 1 x bijwerken grondverf, 1 x geheel dekverf | D99: buitendeur | E99: st | F99: 0 | G99: =(F99*(1+'4. Manuren+toeslagen'!$D$17+'4. Manuren+toeslagen'!$D$18))*(1+'4. Manuren+toeslagen'!$D$20) -> 0 | H99: 0 | I99: =(H99*(1+'4. Manuren+toeslagen'!$D$17+'4. Manuren+toeslagen'!$D$18))*(1+'4. Manuren+toeslagen'!$D$20) -> 0 | J99: 0 | K99: =(J99*(1+'4. Manuren+toeslagen'!$D$17+'4. Manuren+toeslagen'!$D$18))*(1+'4. Manuren+toeslagen'!$D$20) -> 0 | L99: 1 | M99: 20 | N99: 250 | O99: =G99*L99+I99*M99+K99*N99 -> 0
A100: OMA 04 | B100: Metaal Buiten | C100: Plaatselijk verwijderen, 1 x bijwerken hechtprimer, 1 x geheel grondverf, 1 x geheel dekverf | D100: paneel/betimmering | E100: m2 | F100: 0 | G100: =(F100*(1+'4. Manuren+toeslagen'!$D$17+'4. Manuren+toeslagen'!$D$18))*(1+'4. Manuren+toeslagen'!$D$20) -> 0 | H100: 0 | I100: =(H100*(1+'4. Manuren+toeslagen'!$D$17+'4. Manuren+toeslagen'!$D$18))*(1+'4. Manuren+toeslagen'!$D$20) -> 0 | J100: 0 | K100: =(J100*(1+'4. Manuren+toeslagen'!$D$17+'4. Manuren+toeslagen'!$D$18))*(1+'4. Manuren+toeslagen'!$D$20) -> 0 | L100: 1 | M100: 20 | N100: 250 | O100: =G100*L100+I100*M100+K100*N100 -> 0
A101: OMA 04 | B101: Metaal Buiten | C101: Plaatselijk verwijderen, 1 x bijwerken hechtprimer, 1 x geheel grondverf, 1 x geheel dekverf | D101: kozijnen en ramen | E101: m1 | F101: 0 | G101: =(F101*(1+'4. Manuren+toeslagen'!$D$17+'4. Manuren+toeslagen'!$D$18))*(1+'4. Manuren+toeslagen'!$D$20) -> 0 | H101: 0 | I101: =(H101*(1+'4. Manuren+toeslagen'!$D$17+'4. Manuren+toeslagen'!$D$18))*(1+'4. Manuren+toeslagen'!$D$20) -> 0 | J101: 0 | K101: =(J101*(1+'4. Manuren+toeslagen'!$D$17+'4. Manuren+toeslagen'!$D$18))*(1+'4. Manuren+toeslagen'!$D$20) -> 0 | L101: 9 | M101: 20 | N101: 250 | O101: =G101*L101+I101*M101+K101*N101 -> 0
A102: OMA 04 | B102: Metaal Buiten | C102: Plaatselijk verwijderen, 1 x bijwerken hechtprimer, 1 x geheel grondverf, 1 x geheel dekverf | D102: buitendeur | E102: st | F102: 0 | G102: =(F102*(1+'4. Manuren+toeslagen'!$D$17+'4. Manuren+toeslagen'!$D$18))*(1+'4. Manuren+toeslagen'!$D$20) -> 0 | H102: 0 | I102: =(H102*(1+'4. Manuren+toeslagen'!$D$17+'4. Manuren+toeslagen'!$D$18))*(1+'4. Manuren+toeslagen'!$D$20) -> 0 | J102: 0 | K102: =(J102*(1+'4. Manuren+toeslagen'!$D$17+'4. Manuren+toeslagen'!$D$18))*(1+'4. Manuren+toeslagen'!$D$20) -> 0 | L102: 1 | M102: 20 | N102: 250 | O102: =G102*L102+I102*M102+K102*N102 -> 0
... A114: OMS 03 | B114: Metaal Buiten | C114: Plaatselijk verwijderen, 2 x bijwerken corrosiewerende primer, 1 x geheel grondverf, 1 x geheel dekverf | D114: buitendeur | E114: st | F114: 0 | G114: =(F114*(1+'4. Manuren+toeslagen'!$D$17+'4. Manuren+toeslagen'!$D$18))*(1+'4. Manuren+toeslagen'!$D$20) -> 0 | H114: 0 | I114: =(H114*(1+'4. Manuren+toeslagen'!$D$17+'4. Manuren+toeslagen'!$D$18))*(1+'4. Manuren+toeslagen'!$D$20) -> 0 | J114: 0 | K114: =(J114*(1+'4. Manuren+toeslagen'!$D$17+'4. Manuren+toeslagen'!$D$18))*(1+'4. Manuren+toeslagen'!$D$20) -> 0 | L114: 1 | M114: 20 | N114: 250 | O114: =G114*L114+I114*M114+K114*N114 -> 0
A115: OMS 04 | B115: Metaal Buiten | C115: Plaatselijk verwijderen, 1 x bijwerken corrosiewerende primer, 2 x geheel grondverf, 1 x geheel dekverf | E115: st | F115: 0 | G115: =(F115*(1+'4. Manuren+toeslagen'!$D$17+'4. Manuren+toeslagen'!$D$18))*(1+'4. Manuren+toeslagen'!$D$20) -> 0 | H115: 0 | I115: =(H115*(1+'4. Manuren+toeslagen'!$D$17+'4. Manuren+toeslagen'!$D$18))*(1+'4. Manuren+toeslagen'!$D$20) -> 0 | J115: 0 | K115: =(J115*(1+'4. Manuren+toeslagen'!$D$17+'4. Manuren+toeslagen'!$D$18))*(1+'4. Manuren+toeslagen'!$D$20) -> 0 | L115: 9 | M115: 82 | N115: 210 | O115: =G115*L115+I115*M115+K115*N115 -> 0
A116: OMS 06 | B116: Metaal Buiten | C116: Plaatselijk verwijderen, 1 x geheel corrosiewerende primer, 2 x geheel grondverf, 1 x geheel dekverf | E116: st | F116: 0 | G116: =(F116*(1+'4. Manuren+toeslagen'!$D$17+'4. Manuren+toeslagen'!$D$18))*(1+'4. Manuren+toeslagen'!$D$20) -> 0 | H116: 0 | I116: =(H116*(1+'4. Manuren+toeslagen'!$D$17+'4. Manuren+toeslagen'!$D$18))*(1+'4. Manuren+toeslagen'!$D$20) -> 0 | J116: 0 | K116: =(J116*(1+'4. Manuren+toeslagen'!$D$17+'4. Manuren+toeslagen'!$D$18))*(1+'4. Manuren+toeslagen'!$D$20) -> 0 | L116: 9 | M116: 82 | N116: 210 | O116: =G116*L116+I116*M116+K116*N116 -> 0
A117: OMS 07 | B117: Metaal Buiten | C117: Geheel verwijderen, 2 x geheel corrosiewerende primer, 1 x geheel grondverf, 1 x geheel dekverf | E117: st | F117: 0 | G117: =(F117*(1+'4. Manuren+toeslagen'!$D$17+'4. Manuren+toeslagen'!$D$18))*(1+'4. Manuren+toeslagen'!$D$20) -> 0 | H117: 0 | I117: =(H117*(1+'4. Manuren+toeslagen'!$D$17+'4. Manuren+toeslagen'!$D$18))*(1+'4. Manuren+toeslagen'!$D$20) -> 0 | J117: 0 | K117: =(J117*(1+'4. Manuren+toeslagen'!$D$17+'4. Manuren+toeslagen'!$D$18))*(1+'4. Manuren+toeslagen'!$D$20) -> 0 | L117: 9 | M117: 82 | N117: 210 | O117: =G117*L117+I117*M117+K117*N117 -> 0
A118: OMS 08 | B118: Metaal Buiten | C118: Geheel verwijderen, 1 x geheel corrosiewerende primer, 1 x geheel grondverf, 1 x geheel dekverf | E118: st | F118: 0 | G118: =(F118*(1+'4. Manuren+toeslagen'!$D$17+'4. Manuren+toeslagen'!$D$18))*(1+'4. Manuren+toeslagen'!$D$20) -> 0 | H118: 0 | I118: =(H118*(1+'4. Manuren+toeslagen'!$D$17+'4. Manuren+toeslagen'!$D$18))*(1+'4. Manuren+toeslagen'!$D$20) -> 0 | J118: 0 | K118: =(J118*(1+'4. Manuren+toeslagen'!$D$17+'4. Manuren+toeslagen'!$D$18))*(1+'4. Manuren+toeslagen'!$D$20) -> 0 | L118: 9 | M118: 82 | N118: 210 | O118: =G118*L118+I118*M118+K118*N118 -> 0
A119: OMV 01 | B119: Metaal Buiten | C119: Niet eerder behandeld, 1 x hechtprimer, 1 x geheel grondverf, 1 x geheel dekverf | E119: st | F119: 0 | G119: =(F119*(1+'4. Manuren+toeslagen'!$D$17+'4. Manuren+toeslagen'!$D$18))*(1+'4. Manuren+toeslagen'!$D$20) -> 0 | H119: 0 | I119: =(H119*(1+'4. Manuren+toeslagen'!$D$17+'4. Manuren+toeslagen'!$D$18))*(1+'4. Manuren+toeslagen'!$D$20) -> 0 | J119: 0 | K119: =(J119*(1+'4. Manuren+toeslagen'!$D$17+'4. Manuren+toeslagen'!$D$18))*(1+'4. Manuren+toeslagen'!$D$20) -> 0 | L119: 7.5 | M119: 92 | N119: 370 | O119: =G119*L119+I119*M119+K119*N119 -> 0
A120: OMV 02 | B120: Metaal Buiten | C120: Plaatselijk verwijderen, 1 x bijwerken hechtprimer, 1 x bijwerken grondverf, 1 x bijwerken dekverf | E120: st | F120: 0 | G120: =(F120*(1+'4. Manuren+toeslagen'!$D$17+'4. Manuren+toeslagen'!$D$18))*(1+'4. Manuren+toeslagen'!$D$20) -> 0 | H120: 0 | I120: =(H120*(1+'4. Manuren+toeslagen'!$D$17+'4. Manuren+toeslagen'!$D$18))*(1+'4. Manuren+toeslagen'!$D$20) -> 0 | J120: 0 | K120: =(J120*(1+'4. Manuren+toeslagen'!$D$17+'4. Manuren+toeslagen'!$D$18))*(1+'4. Manuren+toeslagen'!$D$20) -> 0 | L120: 7.5 | M120: 92 | N120: 185 | O120: =G120*L120+I120*M120+K120*N120 -> 0
A121: OMV 03 | B121: Metaal Buiten | C121: Plaatselijk verwijderen, 1 x bijwerken hechtprimer, 1 x bijwerken grondverf, 1 x geheel dekverf | E121: st | F121: 0 | G121: =(F121*(1+'4. Manuren+toeslagen'!$D$17+'4. Manuren+toeslagen'!$D$18))*(1+'4. Manuren+toeslagen'!$D$20) -> 0 | H121: 0 | I121: =(H121*(1+'4. Manuren+toeslagen'!$D$17+'4. Manuren+toeslagen'!$D$18))*(1+'4. Manuren+toeslagen'!$D$20) -> 0 | J121: 0 | K121: =(J121*(1+'4. Manuren+toeslagen'!$D$17+'4. Manuren+toeslagen'!$D$18))*(1+'4. Manuren+toeslagen'!$D$20) -> 0 | L121: 5 | M121: 45 | N121: 120 | O121: =G121*L121+I121*M121+K121*N121 -> 0
A122: OMV 04 | B122: Metaal Buiten | C122: Plaatselijk verwijderen, 1 x bijwerken hechtprimer, 1 x geheel grondverf, 1 x geheel dekverf | E122: st | F122: 0 | G122: =(F122*(1+'4. Manuren+toeslagen'!$D$17+'4. Manuren+toeslagen'!$D$18))*(1+'4. Manuren+toeslagen'!$D$20) -> 0 | H122: 0 | I122: =(H122*(1+'4. Manuren+toeslagen'!$D$17+'4. Manuren+toeslagen'!$D$18))*(1+'4. Manuren+toeslagen'!$D$20) -> 0 | J122: 0 | K122: =(J122*(1+'4. Manuren+toeslagen'!$D$17+'4. Manuren+toeslagen'!$D$18))*(1+'4. Manuren+toeslagen'!$D$20) -> 0 | L122: 5 | M122: 45 | N122: 120 | O122: =G122*L122+I122*M122+K122*N122 -> 0
A123: OMV 05 | B123: Metaal Buiten | C123: Plaatselijk verwijderen, 1 x bijwerken hechtprimer, 2 x geheel grondverf, 1 x geheel dekverf | E123: st | F123: 0 | G123: =(F123*(1+'4. Manuren+toeslagen'!$D$17+'4. Manuren+toeslagen'!$D$18))*(1+'4. Manuren+toeslagen'!$D$20) -> 0 | H123: 0 | I123: =(H123*(1+'4. Manuren+toeslagen'!$D$17+'4. Manuren+toeslagen'!$D$18))*(1+'4. Manuren+toeslagen'!$D$20) -> 0 | J123: 0 | K123: =(J123*(1+'4. Manuren+toeslagen'!$D$17+'4. Manuren+toeslagen'!$D$18))*(1+'4. Manuren+toeslagen'!$D$20) -> 0 | L123: 5 | M123: 45 | N123: 120 | O123: =G123*L123+I123*M123+K123*N123 -> 0
A124: OMV 06 | B124: Metaal Buiten | C124: Geheel verwijderen, 1 x geheel hechtprimer, 1 x geheel grondverf, 1 x geheel dekverf | E124: st | F124: 0 | G124: =(F124*(1+'4. Manuren+toeslagen'!$D$17+'4. Manuren+toeslagen'!$D$18))*(1+'4. Manuren+toeslagen'!$D$20) -> 0 | H124: 0 | I124: =(H124*(1+'4. Manuren+toeslagen'!$D$17+'4. Manuren+toeslagen'!$D$18))*(1+'4. Manuren+toeslagen'!$D$20) -> 0 | J124: 0 | K124: =(J124*(1+'4. Manuren+toeslagen'!$D$17+'4. Manuren+toeslagen'!$D$18))*(1+'4. Manuren+toeslagen'!$D$20) -> 0 | L124: 9 | M124: 78.5 | N124: 340 | O124: =G124*L124+I124*M124+K124*N124 -> 0
A125: OMV 07 | B125: Metaal Buiten | C125: Geheel verwijderen, 1 x geheel hechtprimer, 1 x geheel grondverf, 2 x geheel dekverf | E125: st | F125: 0 | G125: =(F125*(1+'4. Manuren+toeslagen'!$D$17+'4. Manuren+toeslagen'!$D$18))*(1+'4. Manuren+toeslagen'!$D$20) -> 0 | H125: 0 | I125: =(H125*(1+'4. Manuren+toeslagen'!$D$17+'4. Manuren+toeslagen'!$D$18))*(1+'4. Manuren+toeslagen'!$D$20) -> 0 | J125: 0 | K125: =(J125*(1+'4. Manuren+toeslagen'!$D$17+'4. Manuren+toeslagen'!$D$18))*(1+'4. Manuren+toeslagen'!$D$20) -> 0 | L125: 9 | M125: 78.5 | N125: 340 | O125: =G125*L125+I125*M125+K125*N125 -> 0
A126: ODS 01 | B126: Steen Buiten | C126: Geheel verwijderen, aanbrengen rugvulling en terugverende kit | E126: st | F126: 0 | G126: =(F126*(1+'4. Manuren+toeslagen'!$D$17+'4. Manuren+toeslagen'!$D$18))*(1+'4. Manuren+toeslagen'!$D$20) -> 0 | H126: 0 | I126: =(H126*(1+'4. Manuren+toeslagen'!$D$17+'4. Manuren+toeslagen'!$D$18))*(1+'4. Manuren+toeslagen'!$D$20) -> 0 | J126: 0 | K126: =(J126*(1+'4. Manuren+toeslagen'!$D$17+'4. Manuren+toeslagen'!$D$18))*(1+'4. Manuren+toeslagen'!$D$20) -> 0 | L126: 9 | M126: 78.5 | N126: 340 | O126: =G126*L126+I126*M126+K126*N126 -> 0
... A146: OSR 04 | B146: Steen Buiten | C146: Plaatselijk verwijderen, wapeningsstaal ontroesten, repareren met kunststof-gebonden mortel | E146: st | F146: 0 | G146: =(F146*(1+'4. Manuren+toeslagen'!$D$17+'4. Manuren+toeslagen'!$D$18))*(1+'4. Manuren+toeslagen'!$D$20) -> 0 | H146: 0 | I146: =(H146*(1+'4. Manuren+toeslagen'!$D$17+'4. Manuren+toeslagen'!$D$18))*(1+'4. Manuren+toeslagen'!$D$20) -> 0 | J146: 0 | K146: =(J146*(1+'4. Manuren+toeslagen'!$D$17+'4. Manuren+toeslagen'!$D$18))*(1+'4. Manuren+toeslagen'!$D$20) -> 0 | L146: 9 | M146: 78.5 | N146: 340 | O146: =G146*L146+I146*M146+K146*N146 -> 0
A147: OKD 01 | B147: Kunststof Buiten | C147: Reinigen | D147: paneel/betimmering | E147: m2 | F147: 0 | G147: =(F147*(1+'4. Manuren+toeslagen'!$D$17+'4. Manuren+toeslagen'!$D$18))*(1+'4. Manuren+toeslagen'!$D$20) -> 0 | H147: 0 | I147: =(H147*(1+'4. Manuren+toeslagen'!$D$17+'4. Manuren+toeslagen'!$D$18))*(1+'4. Manuren+toeslagen'!$D$20) -> 0 | J147: 0 | K147: =(J147*(1+'4. Manuren+toeslagen'!$D$17+'4. Manuren+toeslagen'!$D$18))*(1+'4. Manuren+toeslagen'!$D$20) -> 0 | L147: 1 | M147: 20 | N147: 250 | O147: =G147*L147+I147*M147+K147*N147 -> 0
A148: OKD 01 | B148: Kunststof Buiten | C148: Reinigen | D148: kozijnen en ramen | E148: m1 | F148: 0 | G148: =(F148*(1+'4. Manuren+toeslagen'!$D$17+'4. Manuren+toeslagen'!$D$18))*(1+'4. Manuren+toeslagen'!$D$20) -> 0 | H148: 0 | I148: =(H148*(1+'4. Manuren+toeslagen'!$D$17+'4. Manuren+toeslagen'!$D$18))*(1+'4. Manuren+toeslagen'!$D$20) -> 0 | J148: 0 | K148: =(J148*(1+'4. Manuren+toeslagen'!$D$17+'4. Manuren+toeslagen'!$D$18))*(1+'4. Manuren+toeslagen'!$D$20) -> 0 | L148: 9 | M148: 20 | N148: 250 | O148: =G148*L148+I148*M148+K148*N148 -> 0
A149: OKD 01 | B149: Kunststof Buiten | C149: Reinigen | D149: buitendeur | E149: st | F149: 0 | G149: =(F149*(1+'4. Manuren+toeslagen'!$D$17+'4. Manuren+toeslagen'!$D$18))*(1+'4. Manuren+toeslagen'!$D$20) -> 0 | H149: 0 | I149: =(H149*(1+'4. Manuren+toeslagen'!$D$17+'4. Manuren+toeslagen'!$D$18))*(1+'4. Manuren+toeslagen'!$D$20) -> 0 | J149: 0 | K149: =(J149*(1+'4. Manuren+toeslagen'!$D$17+'4. Manuren+toeslagen'!$D$18))*(1+'4. Manuren+toeslagen'!$D$20) -> 0 | L149: 1 | M149: 20 | N149: 250 | O149: =G149*L149+I149*M149+K149*N149 -> 0
A150: OKD 02 | B150: Kunststof Buiten | C150: 1 x geheel hechtprimer, 1 x geheel dekverf | D150: paneel/betimmering | E150: m2 | F150: 0 | G150: =(F150*(1+'4. Manuren+toeslagen'!$D$17+'4. Manuren+toeslagen'!$D$18))*(1+'4. Manuren+toeslagen'!$D$20) -> 0 | H150: 0 | I150: =(H150*(1+'4. Manuren+toeslagen'!$D$17+'4. Manuren+toeslagen'!$D$18))*(1+'4. Manuren+toeslagen'!$D$20) -> 0 | J150: 0 | K150: =(J150*(1+'4. Manuren+toeslagen'!$D$17+'4. Manuren+toeslagen'!$D$18))*(1+'4. Manuren+toeslagen'!$D$20) -> 0 | L150: 1 | M150: 20 | N150: 250 | O150: =G150*L150+I150*M150+K150*N150 -> 0
A151: OKD 02 | B151: Kunststof Buiten | C151: 1 x geheel hechtprimer, 1 x geheel dekverf | D151: kozijnen en ramen | E151: m1 | F151: 0 | G151: =(F151*(1+'4. Manuren+toeslagen'!$D$17+'4. Manuren+toeslagen'!$D$18))*(1+'4. Manuren+toeslagen'!$D$20) -> 0 | H151: 0 | I151: =(H151*(1+'4. Manuren+toeslagen'!$D$17+'4. Manuren+toeslagen'!$D$18))*(1+'4. Manuren+toeslagen'!$D$20) -> 0 | J151: 0 | K151: =(J151*(1+'4. Manuren+toeslagen'!$D$17+'4. Manuren+toeslagen'!$D$18))*(1+'4. Manuren+toeslagen'!$D$20) -> 0 | L151: 9 | M151: 20 | N151: 250 | O151: =G151*L151+I151*M151+K151*N151 -> 0
A152: OKD 02 | B152: Kunststof Buiten | C152: 1 x geheel hechtprimer, 1 x geheel dekverf | D152: buitendeur | E152: st | F152: 0 | G152: =(F152*(1+'4. Manuren+toeslagen'!$D$17+'4. Manuren+toeslagen'!$D$18))*(1+'4. Manuren+toeslagen'!$D$20) -> 0 | H152: 0 | I152: =(H152*(1+'4. Manuren+toeslagen'!$D$17+'4. Manuren+toeslagen'!$D$18))*(1+'4. Manuren+toeslagen'!$D$20) -> 0 | J152: 0 | K152: =(J152*(1+'4. Manuren+toeslagen'!$D$17+'4. Manuren+toeslagen'!$D$18))*(1+'4. Manuren+toeslagen'!$D$20) -> 0 | L152: 1 | M152: 20 | N152: 250 | O152: =G152*L152+I152*M152+K152*N152 -> 0
A153: OKD 03 | B153: Kunststof Buiten | C153: 1 x geheel hechtprimer, 2 x geheel dekverf | D153: paneel/betimmering | E153: m2 | F153: 0 | G153: =(F153*(1+'4. Manuren+toeslagen'!$D$17+'4. Manuren+toeslagen'!$D$18))*(1+'4. Manuren+toeslagen'!$D$20) -> 0 | H153: 0 | I153: =(H153*(1+'4. Manuren+toeslagen'!$D$17+'4. Manuren+toeslagen'!$D$18))*(1+'4. Manuren+toeslagen'!$D$20) -> 0 | J153: 0 | K153: =(J153*(1+'4. Manuren+toeslagen'!$D$17+'4. Manuren+toeslagen'!$D$18))*(1+'4. Manuren+toeslagen'!$D$20) -> 0 | L153: 1 | M153: 20 | N153: 250 | O153: =G153*L153+I153*M153+K153*N153 -> 0
A154: OKD 03 | B154: Kunststof Buiten | C154: 1 x geheel hechtprimer, 2 x geheel dekverf | D154: kozijnen en ramen | E154: m1 | F154: 0 | G154: =(F154*(1+'4. Manuren+toeslagen'!$D$17+'4. Manuren+toeslagen'!$D$18))*(1+'4. Manuren+toeslagen'!$D$20) -> 0 | H154: 0 | I154: =(H154*(1+'4. Manuren+toeslagen'!$D$17+'4. Manuren+toeslagen'!$D$18))*(1+'4. Manuren+toeslagen'!$D$20) -> 0 | J154: 0 | K154: =(J154*(1+'4. Manuren+toeslagen'!$D$17+'4. Manuren+toeslagen'!$D$18))*(1+'4. Manuren+toeslagen'!$D$20) -> 0 | L154: 9 | M154: 20 | N154: 250 | O154: =G154*L154+I154*M154+K154*N154 -> 0
A155: OKD 03 | B155: Kunststof Buiten | C155: 1 x geheel hechtprimer, 2 x geheel dekverf | D155: buitendeur | E155: st | F155: 0 | G155: =(F155*(1+'4. Manuren+toeslagen'!$D$17+'4. Manuren+toeslagen'!$D$18))*(1+'4. Manuren+toeslagen'!$D$20) -> 0 | H155: 0 | I155: =(H155*(1+'4. Manuren+toeslagen'!$D$17+'4. Manuren+toeslagen'!$D$18))*(1+'4. Manuren+toeslagen'!$D$20) -> 0 | J155: 0 | K155: =(J155*(1+'4. Manuren+toeslagen'!$D$17+'4. Manuren+toeslagen'!$D$18))*(1+'4. Manuren+toeslagen'!$D$20) -> 0 | L155: 1 | M155: 20 | N155: 250 | O155: =G155*L155+I155*M155+K155*N155 -> 0
A156: OKD 04 | B156: Kunststof Buiten | C156: Plaatselijk verwijderen, 1 x bijwerken hechtprimer, 1 x geheel dekverf | D156: paneel/betimmering | E156: m2 | F156: 0 | G156: =(F156*(1+'4. Manuren+toeslagen'!$D$17+'4. Manuren+toeslagen'!$D$18))*(1+'4. Manuren+toeslagen'!$D$20) -> 0 | H156: 0 | I156: =(H156*(1+'4. Manuren+toeslagen'!$D$17+'4. Manuren+toeslagen'!$D$18))*(1+'4. Manuren+toeslagen'!$D$20) -> 0 | J156: 0 | K156: =(J156*(1+'4. Manuren+toeslagen'!$D$17+'4. Manuren+toeslagen'!$D$18))*(1+'4. Manuren+toeslagen'!$D$20) -> 0 | L156: 1 | M156: 20 | N156: 250 | O156: =G156*L156+I156*M156+K156*N156 -> 0
A157: OKD 04 | B157: Kunststof Buiten | C157: Plaatselijk verwijderen, 1 x bijwerken hechtprimer, 1 x geheel dekverf | D157: kozijnen en ramen | E157: m1 | F157: 0 | G157: =(F157*(1+'4. Manuren+toeslagen'!$D$17+'4. Manuren+toeslagen'!$D$18))*(1+'4. Manuren+toeslagen'!$D$20) -> 0 | H157: 0 | I157: =(H157*(1+'4. Manuren+toeslagen'!$D$17+'4. Manuren+toeslagen'!$D$18))*(1+'4. Manuren+toeslagen'!$D$20) -> 0 | J157: 0 | K157: =(J157*(1+'4. Manuren+toeslagen'!$D$17+'4. Manuren+toeslagen'!$D$18))*(1+'4. Manuren+toeslagen'!$D$20) -> 0 | L157: 9 | M157: 20 | N157: 250 | O157: =G157*L157+I157*M157+K157*N157 -> 0
A158: OKD 04 | B158: Kunststof Buiten | C158: Plaatselijk verwijderen, 1 x bijwerken hechtprimer, 1 x geheel dekverf | D158: buitendeur | E158: st | F158: 0 | G158: =(F158*(1+'4. Manuren+toeslagen'!$D$17+'4. Manuren+toeslagen'!$D$18))*(1+'4. Manuren+toeslagen'!$D$20) -> 0 | H158: 0 | I158: =(H158*(1+'4. Manuren+toeslagen'!$D$17+'4. Manuren+toeslagen'!$D$18))*(1+'4. Manuren+toeslagen'!$D$20) -> 0 | J158: 0 | K158: =(J158*(1+'4. Manuren+toeslagen'!$D$17+'4. Manuren+toeslagen'!$D$18))*(1+'4. Manuren+toeslagen'!$D$20) -> 0 | L158: 1 | M158: 20 | N158: 250 | O158: =G158*L158+I158*M158+K158*N158 -> 0
... A161: OKD 05 | B161: Kunststof Buiten | C161: Plaatselijk verwijderen, 1 x bijwerken hechtprimer, 2 x geheel dekverf | D161: buitendeur | E161: st | F161: 0 | G161: =(F161*(1+'4. Manuren+toeslagen'!$D$17+'4. Manuren+toeslagen'!$D$18))*(1+'4. Manuren+toeslagen'!$D$20) -> 0 | H161: 0 | I161: =(H161*(1+'4. Manuren+toeslagen'!$D$17+'4. Manuren+toeslagen'!$D$18))*(1+'4. Manuren+toeslagen'!$D$20) -> 0 | J161: 0 | K161: =(J161*(1+'4. Manuren+toeslagen'!$D$17+'4. Manuren+toeslagen'!$D$18))*(1+'4. Manuren+toeslagen'!$D$20) -> 0 | L161: 1 | M161: 20 | N161: 250 | O161: =G161*L161+I161*M161+K161*N161 -> 0
B162: BINNENSCHILDERWERKEN
A163: CODE | B163: Ondergrond | C163: Handeling | O163: =SUM(O164:O281) -> 0
A164: OHD 52 | B164: Hout Binnen | C164: 2 x Bijwerken grondverf, 1 x geheel dekverf | D164: paneel/betimmering | E164: m2 | F164: 0 | G164: =(F164*(1+'4. Manuren+toeslagen'!$D$17+'4. Manuren+toeslagen'!$D$18))*(1+'4. Manuren+toeslagen'!$D$20) -> 0 | H164: 0 | I164: =(H164*(1+'4. Manuren+toeslagen'!$D$17+'4. Manuren+toeslagen'!$D$18))*(1+'4. Manuren+toeslagen'!$D$20) -> 0 | J164: 0 | K164: =(J164*(1+'4. Manuren+toeslagen'!$D$17+'4. Manuren+toeslagen'!$D$18))*(1+'4. Manuren+toeslagen'!$D$20) -> 0 | L164: 1 | M164: 20 | N164: 250 | O164: =G164*L164+I164*M164+K164*N164 -> 0
A165: OHD 52 | B165: Hout Binnen | C165: 2 x Bijwerken grondverf, 1 x geheel dekverf | D165: kozijnen en ramen | E165: m1 | F165: 0 | G165: =(F165*(1+'4. Manuren+toeslagen'!$D$17+'4. Manuren+toeslagen'!$D$18))*(1+'4. Manuren+toeslagen'!$D$20) -> 0 | H165: 0 | I165: =(H165*(1+'4. Manuren+toeslagen'!$D$17+'4. Manuren+toeslagen'!$D$18))*(1+'4. Manuren+toeslagen'!$D$20) -> 0 | J165: 0 | K165: =(J165*(1+'4. Manuren+toeslagen'!$D$17+'4. Manuren+toeslagen'!$D$18))*(1+'4. Manuren+toeslagen'!$D$20) -> 0 | L165: 9 | M165: 20 | N165: 250 | O165: =G165*L165+I165*M165+K165*N165 -> 0
A166: OHD 52 | B166: Hout Binnen | C166: 2 x Bijwerken grondverf, 1 x geheel dekverf | D166: binnendeur | E166: st | F166: 0 | G166: =(F166*(1+'4. Manuren+toeslagen'!$D$17+'4. Manuren+toeslagen'!$D$18))*(1+'4. Manuren+toeslagen'!$D$20) -> 0 | H166: 0 | I166: =(H166*(1+'4. Manuren+toeslagen'!$D$17+'4. Manuren+toeslagen'!$D$18))*(1+'4. Manuren+toeslagen'!$D$20) -> 0 | J166: 0 | K166: =(J166*(1+'4. Manuren+toeslagen'!$D$17+'4. Manuren+toeslagen'!$D$18))*(1+'4. Manuren+toeslagen'!$D$20) -> 0 | L166: 1 | M166: 20 | N166: 250 | O166: =G166*L166+I166*M166+K166*N166 -> 0
A167: OHD 52 | B167: Hout Binnen | C167: 2 x Bijwerken grondverf, 1 x geheel dekverf | D167: plintenb e.d. | E167: m1 | F167: 0 | G167: =(F167*(1+'4. Manuren+toeslagen'!$D$17+'4. Manuren+toeslagen'!$D$18))*(1+'4. Manuren+toeslagen'!$D$20) -> 0 | H167: 0 | I167: =(H167*(1+'4. Manuren+toeslagen'!$D$17+'4. Manuren+toeslagen'!$D$18))*(1+'4. Manuren+toeslagen'!$D$20) -> 0 | J167: 0 | K167: =(J167*(1+'4. Manuren+toeslagen'!$D$17+'4. Manuren+toeslagen'!$D$18))*(1+'4. Manuren+toeslagen'!$D$20) -> 0 | L167: 9 | M167: 20 | N167: 250 | O167: =G167*L167+I167*M167+K167*N167 -> 0
A168: OHD 53 | B168: Hout Binnen | C168: Plaatselijk verwijderen, 1 x bijwerken grondverf, plaatselijk plamuren, 1 x geheel grondverf, 1 x geheel dekverf | D168: paneel/betimmering | E168: m2 | F168: 0 | G168: =(F168*(1+'4. Manuren+toeslagen'!$D$17+'4. Manuren+toeslagen'!$D$18))*(1+'4. Manuren+toeslagen'!$D$20) -> 0 | H168: 0 | I168: =(H168*(1+'4. Manuren+toeslagen'!$D$17+'4. Manuren+toeslagen'!$D$18))*(1+'4. Manuren+toeslagen'!$D$20) -> 0 | J168: 0 | K168: =(J168*(1+'4. Manuren+toeslagen'!$D$17+'4. Manuren+toeslagen'!$D$18))*(1+'4. Manuren+toeslagen'!$D$20) -> 0 | L168: 1 | M168: 20 | N168: 250 | O168: =G168*L168+I168*M168+K168*N168 -> 0
A169: OHD 53 | B169: Hout Binnen | C169: Plaatselijk verwijderen, 1 x bijwerken grondverf, plaatselijk plamuren, 1 x geheel grondverf, 1 x geheel dekverf | D169: kozijnen en ramen | E169: m1 | F169: 0 | G169: =(F169*(1+'4. Manuren+toeslagen'!$D$17+'4. Manuren+toeslagen'!$D$18))*(1+'4. Manuren+toeslagen'!$D$20) -> 0 | H169: 0 | I169: =(H169*(1+'4. Manuren+toeslagen'!$D$17+'4. Manuren+toeslagen'!$D$18))*(1+'4. Manuren+toeslagen'!$D$20) -> 0 | J169: 0 | K169: =(J169*(1+'4. Manuren+toeslagen'!$D$17+'4. Manuren+toeslagen'!$D$18))*(1+'4. Manuren+toeslagen'!$D$20) -> 0 | L169: 9 | M169: 20 | N169: 250 | O169: =G169*L169+I169*M169+K169*N169 -> 0
A170: OHD 53 | B170: Hout Binnen | C170: Plaatselijk verwijderen, 1 x bijwerken grondverf, plaatselijk plamuren, 1 x geheel grondverf, 1 x geheel dekverf | D170: binnendeur | E170: st | F170: 0 | G170: =(F170*(1+'4. Manuren+toeslagen'!$D$17+'4. Manuren+toeslagen'!$D$18))*(1+'4. Manuren+toeslagen'!$D$20) -> 0 | H170: 0 | I170: =(H170*(1+'4. Manuren+toeslagen'!$D$17+'4. Manuren+toeslagen'!$D$18))*(1+'4. Manuren+toeslagen'!$D$20) -> 0 | J170: 0 | K170: =(J170*(1+'4. Manuren+toeslagen'!$D$17+'4. Manuren+toeslagen'!$D$18))*(1+'4. Manuren+toeslagen'!$D$20) -> 0 | L170: 1 | M170: 20 | N170: 250 | O170: =G170*L170+I170*M170+K170*N170 -> 0
A171: OHD 53 | B171: Hout Binnen | C171: Plaatselijk verwijderen, 1 x bijwerken grondverf, plaatselijk plamuren, 1 x geheel grondverf, 1 x geheel dekverf | D171: plintenb e.d. | E171: m1 | F171: 0 | G171: =(F171*(1+'4. Manuren+toeslagen'!$D$17+'4. Manuren+toeslagen'!$D$18))*(1+'4. Manuren+toeslagen'!$D$20) -> 0 | H171: 0 | I171: =(H171*(1+'4. Manuren+toeslagen'!$D$17+'4. Manuren+toeslagen'!$D$18))*(1+'4. Manuren+toeslagen'!$D$20) -> 0 | J171: 0 | K171: =(J171*(1+'4. Manuren+toeslagen'!$D$17+'4. Manuren+toeslagen'!$D$18))*(1+'4. Manuren+toeslagen'!$D$20) -> 0 | L171: 9 | M171: 20 | N171: 250 | O171: =G171*L171+I171*M171+K171*N171 -> 0
A172: OHD 54 | B172: Hout Binnen | C172: Plaatselijk verwijderen, 1 x bijwerken grondverf, 1 x geheel plamuren, 2 x geheel dekverf | D172: paneel/betimmering | E172: m2 | F172: 0 | G172: =(F172*(1+'4. Manuren+toeslagen'!$D$17+'4. Manuren+toeslagen'!$D$18))*(1+'4. Manuren+toeslagen'!$D$20) -> 0 | H172: 0 | I172: =(H172*(1+'4. Manuren+toeslagen'!$D$17+'4. Manuren+toeslagen'!$D$18))*(1+'4. Manuren+toeslagen'!$D$20) -> 0 | J172: 0 | K172: =(J172*(1+'4. Manuren+toeslagen'!$D$17+'4. Manuren+toeslagen'!$D$18))*(1+'4. Manuren+toeslagen'!$D$20) -> 0 | L172: 1 | M172: 20 | N172: 250 | O172: =G172*L172+I172*M172+K172*N172 -> 0
A173: OHD 54 | B173: Hout Binnen | C173: Plaatselijk verwijderen, 1 x bijwerken grondverf, 1 x geheel plamuren, 2 x geheel dekverf | D173: kozijnen en ramen | E173: m1 | F173: 0 | G173: =(F173*(1+'4. Manuren+toeslagen'!$D$17+'4. Manuren+toeslagen'!$D$18))*(1+'4. Manuren+toeslagen'!$D$20) -> 0 | H173: 0 | I173: =(H173*(1+'4. Manuren+toeslagen'!$D$17+'4. Manuren+toeslagen'!$D$18))*(1+'4. Manuren+toeslagen'!$D$20) -> 0 | J173: 0 | K173: =(J173*(1+'4. Manuren+toeslagen'!$D$17+'4. Manuren+toeslagen'!$D$18))*(1+'4. Manuren+toeslagen'!$D$20) -> 0 | L173: 9 | M173: 20 | N173: 250 | O173: =G173*L173+I173*M173+K173*N173 -> 0
A174: OHD 54 | B174: Hout Binnen | C174: Plaatselijk verwijderen, 1 x bijwerken grondverf, 1 x geheel plamuren, 2 x geheel dekverf | D174: binnendeur | E174: st | F174: 0 | G174: =(F174*(1+'4. Manuren+toeslagen'!$D$17+'4. Manuren+toeslagen'!$D$18))*(1+'4. Manuren+toeslagen'!$D$20) -> 0 | H174: 0 | I174: =(H174*(1+'4. Manuren+toeslagen'!$D$17+'4. Manuren+toeslagen'!$D$18))*(1+'4. Manuren+toeslagen'!$D$20) -> 0 | J174: 0 | K174: =(J174*(1+'4. Manuren+toeslagen'!$D$17+'4. Manuren+toeslagen'!$D$18))*(1+'4. Manuren+toeslagen'!$D$20) -> 0 | L174: 1 | M174: 20 | N174: 250 | O174: =G174*L174+I174*M174+K174*N174 -> 0
A175: OHD 54 | B175: Hout Binnen | C175: Plaatselijk verwijderen, 1 x bijwerken grondverf, 1 x geheel plamuren, 2 x geheel dekverf | D175: plintenb e.d. | E175: m1 | F175: 0 | G175: =(F175*(1+'4. Manuren+toeslagen'!$D$17+'4. Manuren+toeslagen'!$D$18))*(1+'4. Manuren+toeslagen'!$D$20) -> 0 | H175: 0 | I175: =(H175*(1+'4. Manuren+toeslagen'!$D$17+'4. Manuren+toeslagen'!$D$18))*(1+'4. Manuren+toeslagen'!$D$20) -> 0 | J175: 0 | K175: =(J175*(1+'4. Manuren+toeslagen'!$D$17+'4. Manuren+toeslagen'!$D$18))*(1+'4. Manuren+toeslagen'!$D$20) -> 0 | L175: 9 | M175: 20 | N175: 250 | O175: =G175*L175+I175*M175+K175*N175 -> 0
... A219: OHV 54 | B219: Hout Binnen | C219: Geheel verwijderen, 4 x geheel vernis | D219: plintenb e.d. | E219: m1 | F219: 0 | G219: =(F219*(1+'4. Manuren+toeslagen'!$D$17+'4. Manuren+toeslagen'!$D$18))*(1+'4. Manuren+toeslagen'!$D$20) -> 0 | H219: 0 | I219: =(H219*(1+'4. Manuren+toeslagen'!$D$17+'4. Manuren+toeslagen'!$D$18))*(1+'4. Manuren+toeslagen'!$D$20) -> 0 | J219: 0 | K219: =(J219*(1+'4. Manuren+toeslagen'!$D$17+'4. Manuren+toeslagen'!$D$18))*(1+'4. Manuren+toeslagen'!$D$20) -> 0 | L219: 9 | M219: 20 | N219: 250 | O219: =G219*L219+I219*M219+K219*N219 -> 0
A220: OBS 50 | B220: Beglazing Binnen | C220: Plaatselijk kitvoeg uitsnijden, beglazen met kit en glaslatten | E220: st | F220: 0 | G220: =(F220*(1+'4. Manuren+toeslagen'!$D$17+'4. Manuren+toeslagen'!$D$18))*(1+'4. Manuren+toeslagen'!$D$20) -> 0 | H220: 0 | I220: =(H220*(1+'4. Manuren+toeslagen'!$D$17+'4. Manuren+toeslagen'!$D$18))*(1+'4. Manuren+toeslagen'!$D$20) -> 0 | J220: 0 | K220: =(J220*(1+'4. Manuren+toeslagen'!$D$17+'4. Manuren+toeslagen'!$D$18))*(1+'4. Manuren+toeslagen'!$D$20) -> 0 | L220: 4.5 | M220: 45 | N220: 257 | O220: =G220*L220+I220*M220+K220*N220 -> 0
A221: OBS 51 | B221: Beglazing Binnen | C221: Geheel kitvoeg uitsnijden, beglazen met kit en glaslatten | E221: st | F221: 0 | G221: =(F221*(1+'4. Manuren+toeslagen'!$D$17+'4. Manuren+toeslagen'!$D$18))*(1+'4. Manuren+toeslagen'!$D$20) -> 0 | H221: 0 | I221: =(H221*(1+'4. Manuren+toeslagen'!$D$17+'4. Manuren+toeslagen'!$D$18))*(1+'4. Manuren+toeslagen'!$D$20) -> 0 | J221: 0 | K221: =(J221*(1+'4. Manuren+toeslagen'!$D$17+'4. Manuren+toeslagen'!$D$18))*(1+'4. Manuren+toeslagen'!$D$20) -> 0 | L221: 4.5 | M221: 80 | N221: 450.5 | O221: =G221*L221+I221*M221+K221*N221 -> 0
A222: OMA 50 | B222: Metaal Binnen | C222: Niet eerder behandeld, 1 x geheel hechtprimer, 1 x geheel grondverf, 1 x geheel dekverf | E222: st | F222: 0 | G222: =(F222*(1+'4. Manuren+toeslagen'!$D$17+'4. Manuren+toeslagen'!$D$18))*(1+'4. Manuren+toeslagen'!$D$20) -> 0 | H222: 0 | I222: =(H222*(1+'4. Manuren+toeslagen'!$D$17+'4. Manuren+toeslagen'!$D$18))*(1+'4. Manuren+toeslagen'!$D$20) -> 0 | J222: 0 | K222: =(J222*(1+'4. Manuren+toeslagen'!$D$17+'4. Manuren+toeslagen'!$D$18))*(1+'4. Manuren+toeslagen'!$D$20) -> 0 | L222: 9.75 | M222: 80 | N222: 450.5 | O222: =G222*L222+I222*M222+K222*N222 -> 0
A223: OMA 50 | B223: Metaal Binnen | C223: Niet eerder behandeld, 1 x geheel hechtprimer, 1 x geheel grondverf, 1 x geheel dekverf | D223: paneel/betimmering | E223: m2 | F223: 0 | G223: =(F223*(1+'4. Manuren+toeslagen'!$D$17+'4. Manuren+toeslagen'!$D$18))*(1+'4. Manuren+toeslagen'!$D$20) -> 0 | H223: 0 | I223: =(H223*(1+'4. Manuren+toeslagen'!$D$17+'4. Manuren+toeslagen'!$D$18))*(1+'4. Manuren+toeslagen'!$D$20) -> 0 | J223: 0 | K223: =(J223*(1+'4. Manuren+toeslagen'!$D$17+'4. Manuren+toeslagen'!$D$18))*(1+'4. Manuren+toeslagen'!$D$20) -> 0 | L223: 1 | M223: 20 | N223: 250 | O223: =G223*L223+I223*M223+K223*N223 -> 0
A224: OMA 50 | B224: Metaal Binnen | C224: Niet eerder behandeld, 1 x geheel hechtprimer, 1 x geheel grondverf, 1 x geheel dekverf | D224: kozijnen en ramen | E224: m1 | F224: 0 | G224: =(F224*(1+'4. Manuren+toeslagen'!$D$17+'4. Manuren+toeslagen'!$D$18))*(1+'4. Manuren+toeslagen'!$D$20) -> 0 | H224: 0 | I224: =(H224*(1+'4. Manuren+toeslagen'!$D$17+'4. Manuren+toeslagen'!$D$18))*(1+'4. Manuren+toeslagen'!$D$20) -> 0 | J224: 0 | K224: =(J224*(1+'4. Manuren+toeslagen'!$D$17+'4. Manuren+toeslagen'!$D$18))*(1+'4. Manuren+toeslagen'!$D$20) -> 0 | L224: 9 | M224: 20 | N224: 250 | O224: =G224*L224+I224*M224+K224*N224 -> 0
A225: OMA 50 | B225: Metaal Binnen | C225: Niet eerder behandeld, 1 x geheel hechtprimer, 1 x geheel grondverf, 1 x geheel dekverf | D225: binnendeur | E225: st | F225: 0 | G225: =(F225*(1+'4. Manuren+toeslagen'!$D$17+'4. Manuren+toeslagen'!$D$18))*(1+'4. Manuren+toeslagen'!$D$20) -> 0 | H225: 0 | I225: =(H225*(1+'4. Manuren+toeslagen'!$D$17+'4. Manuren+toeslagen'!$D$18))*(1+'4. Manuren+toeslagen'!$D$20) -> 0 | J225: 0 | K225: =(J225*(1+'4. Manuren+toeslagen'!$D$17+'4. Manuren+toeslagen'!$D$18))*(1+'4. Manuren+toeslagen'!$D$20) -> 0 | L225: 1 | M225: 20 | N225: 250 | O225: =G225*L225+I225*M225+K225*N225 -> 0
A226: OMA 51 | B226: Metaal Binnen | C226: Plaatselijk verwijderen, 1 x bijwerken hechtprimer, 1 x geheel grondverf, 1 x geheel dekverf | D226: paneel/betimmering | E226: m2 | F226: 0 | G226: =(F226*(1+'4. Manuren+toeslagen'!$D$17+'4. Manuren+toeslagen'!$D$18))*(1+'4. Manuren+toeslagen'!$D$20) -> 0 | H226: 0 | I226: =(H226*(1+'4. Manuren+toeslagen'!$D$17+'4. Manuren+toeslagen'!$D$18))*(1+'4. Manuren+toeslagen'!$D$20) -> 0 | J226: 0 | K226: =(J226*(1+'4. Manuren+toeslagen'!$D$17+'4. Manuren+toeslagen'!$D$18))*(1+'4. Manuren+toeslagen'!$D$20) -> 0 | L226: 1 | M226: 20 | N226: 250 | O226: =G226*L226+I226*M226+K226*N226 -> 0
A227: OMA 51 | B227: Metaal Binnen | C227: Plaatselijk verwijderen, 1 x bijwerken hechtprimer, 1 x geheel grondverf, 1 x geheel dekverf | D227: kozijnen en ramen | E227: m1 | F227: 0 | G227: =(F227*(1+'4. Manuren+toeslagen'!$D$17+'4. Manuren+toeslagen'!$D$18))*(1+'4. Manuren+toeslagen'!$D$20) -> 0 | H227: 0 | I227: =(H227*(1+'4. Manuren+toeslagen'!$D$17+'4. Manuren+toeslagen'!$D$18))*(1+'4. Manuren+toeslagen'!$D$20) -> 0 | J227: 0 | K227: =(J227*(1+'4. Manuren+toeslagen'!$D$17+'4. Manuren+toeslagen'!$D$18))*(1+'4. Manuren+toeslagen'!$D$20) -> 0 | L227: 9 | M227: 20 | N227: 250 | O227: =G227*L227+I227*M227+K227*N227 -> 0
A228: OMA 51 | B228: Metaal Binnen | C228: Plaatselijk verwijderen, 1 x bijwerken hechtprimer, 1 x geheel grondverf, 1 x geheel dekverf | D228: binnendeur | E228: st | F228: 0 | G228: =(F228*(1+'4. Manuren+toeslagen'!$D$17+'4. Manuren+toeslagen'!$D$18))*(1+'4. Manuren+toeslagen'!$D$20) -> 0 | H228: 0 | I228: =(H228*(1+'4. Manuren+toeslagen'!$D$17+'4. Manuren+toeslagen'!$D$18))*(1+'4. Manuren+toeslagen'!$D$20) -> 0 | J228: 0 | K228: =(J228*(1+'4. Manuren+toeslagen'!$D$17+'4. Manuren+toeslagen'!$D$18))*(1+'4. Manuren+toeslagen'!$D$20) -> 0 | L228: 1 | M228: 20 | N228: 250 | O228: =G228*L228+I228*M228+K228*N228 -> 0
A229: OMA 52 | B229: Metaal Binnen | C229: Niet eerder behandeld, 1 x geheel hechtprimer, 1 x geheel dekverf | D229: paneel/betimmering | E229: m2 | F229: 0 | G229: =(F229*(1+'4. Manuren+toeslagen'!$D$17+'4. Manuren+toeslagen'!$D$18))*(1+'4. Manuren+toeslagen'!$D$20) -> 0 | H229: 0 | I229: =(H229*(1+'4. Manuren+toeslagen'!$D$17+'4. Manuren+toeslagen'!$D$18))*(1+'4. Manuren+toeslagen'!$D$20) -> 0 | J229: 0 | K229: =(J229*(1+'4. Manuren+toeslagen'!$D$17+'4. Manuren+toeslagen'!$D$18))*(1+'4. Manuren+toeslagen'!$D$20) -> 0 | L229: 1 | M229: 20 | N229: 250 | O229: =G229*L229+I229*M229+K229*N229 -> 0
A230: OMA 52 | B230: Metaal Binnen | C230: Niet eerder behandeld, 1 x geheel hechtprimer, 1 x geheel dekverf | D230: kozijnen en ramen | E230: m1 | F230: 0 | G230: =(F230*(1+'4. Manuren+toeslagen'!$D$17+'4. Manuren+toeslagen'!$D$18))*(1+'4. Manuren+toeslagen'!$D$20) -> 0 | H230: 0 | I230: =(H230*(1+'4. Manuren+toeslagen'!$D$17+'4. Manuren+toeslagen'!$D$18))*(1+'4. Manuren+toeslagen'!$D$20) -> 0 | J230: 0 | K230: =(J230*(1+'4. Manuren+toeslagen'!$D$17+'4. Manuren+toeslagen'!$D$18))*(1+'4. Manuren+toeslagen'!$D$20) -> 0 | L230: 9 | M230: 20 | N230: 250 | O230: =G230*L230+I230*M230+K230*N230 -> 0
A231: OMA 52 | B231: Metaal Binnen | C231: Niet eerder behandeld, 1 x geheel hechtprimer, 1 x geheel dekverf | D231: binnendeur | E231: st | F231: 0 | G231: =(F231*(1+'4. Manuren+toeslagen'!$D$17+'4. Manuren+toeslagen'!$D$18))*(1+'4. Manuren+toeslagen'!$D$20) -> 0 | H231: 0 | I231: =(H231*(1+'4. Manuren+toeslagen'!$D$17+'4. Manuren+toeslagen'!$D$18))*(1+'4. Manuren+toeslagen'!$D$20) -> 0 | J231: 0 | K231: =(J231*(1+'4. Manuren+toeslagen'!$D$17+'4. Manuren+toeslagen'!$D$18))*(1+'4. Manuren+toeslagen'!$D$20) -> 0 | L231: 1 | M231: 20 | N231: 250 | O231: =G231*L231+I231*M231+K231*N231 -> 0
A232: OMS 50 | B232: Metaal Binnen | C232: Plaatselijk verwijderen, 1 x bijwerken corrosiewerende primer, 1 x bijwerken dekverf | D232: paneel/betimmering | E232: m2 | F232: 0 | G232: =(F232*(1+'4. Manuren+toeslagen'!$D$17+'4. Manuren+toeslagen'!$D$18))*(1+'4. Manuren+toeslagen'!$D$20) -> 0 | H232: 0 | I232: =(H232*(1+'4. Manuren+toeslagen'!$D$17+'4. Manuren+toeslagen'!$D$18))*(1+'4. Manuren+toeslagen'!$D$20) -> 0 | J232: 0 | K232: =(J232*(1+'4. Manuren+toeslagen'!$D$17+'4. Manuren+toeslagen'!$D$18))*(1+'4. Manuren+toeslagen'!$D$20) -> 0 | L232: 1 | M232: 20 | N232: 250 | O232: =G232*L232+I232*M232+K232*N232 -> 0
A233: OMS 50 | B233: Metaal Binnen | C233: Plaatselijk verwijderen, 1 x bijwerken corrosiewerende primer, 1 x bijwerken dekverf | D233: kozijnen en ramen | E233: m1 | F233: 0 | G233: =(F233*(1+'4. Manuren+toeslagen'!$D$17+'4. Manuren+toeslagen'!$D$18))*(1+'4. Manuren+toeslagen'!$D$20) -> 0 | H233: 0 | I233: =(H233*(1+'4. Manuren+toeslagen'!$D$17+'4. Manuren+toeslagen'!$D$18))*(1+'4. Manuren+toeslagen'!$D$20) -> 0 | J233: 0 | K233: =(J233*(1+'4. Manuren+toeslagen'!$D$17+'4. Manuren+toeslagen'!$D$18))*(1+'4. Manuren+toeslagen'!$D$20) -> 0 | L233: 9 | M233: 20 | N233: 250 | O233: =G233*L233+I233*M233+K233*N233 -> 0
A234: OMS 50 | B234: Metaal Binnen | C234: Plaatselijk verwijderen, 1 x bijwerken corrosiewerende primer, 1 x bijwerken dekverf | D234: binnendeur | E234: st | F234: 0 | G234: =(F234*(1+'4. Manuren+toeslagen'!$D$17+'4. Manuren+toeslagen'!$D$18))*(1+'4. Manuren+toeslagen'!$D$20) -> 0 | H234: 0 | I234: =(H234*(1+'4. Manuren+toeslagen'!$D$17+'4. Manuren+toeslagen'!$D$18))*(1+'4. Manuren+toeslagen'!$D$20) -> 0 | J234: 0 | K234: =(J234*(1+'4. Manuren+toeslagen'!$D$17+'4. Manuren+toeslagen'!$D$18))*(1+'4. Manuren+toeslagen'!$D$20) -> 0 | L234: 1 | M234: 20 | N234: 250 | O234: =G234*L234+I234*M234+K234*N234 -> 0
... A258: OMV 52 | B258: Metaal Binnen | C258: Plaatselijk verwijderen, 1 x bijwerken hechtprimer, 1 x geheel plamuren, 2 x geheel dekverf | D258: binnendeur | E258: st | F258: 0 | G258: =(F258*(1+'4. Manuren+toeslagen'!$D$17+'4. Manuren+toeslagen'!$D$18))*(1+'4. Manuren+toeslagen'!$D$20) -> 0 | H258: 0 | I258: =(H258*(1+'4. Manuren+toeslagen'!$D$17+'4. Manuren+toeslagen'!$D$18))*(1+'4. Manuren+toeslagen'!$D$20) -> 0 | J258: 0 | K258: =(J258*(1+'4. Manuren+toeslagen'!$D$17+'4. Manuren+toeslagen'!$D$18))*(1+'4. Manuren+toeslagen'!$D$20) -> 0 | L258: 1 | M258: 20 | N258: 250 | O258: =G258*L258+I258*M258+K258*N258 -> 0
A259: OSD 50 | B259: Steen Binnen | C259: 1 x Geheel voorstrijken | E259: m2 | F259: 0 | G259: =(F259*(1+'4. Manuren+toeslagen'!$D$17+'4. Manuren+toeslagen'!$D$18))*(1+'4. Manuren+toeslagen'!$D$20) -> 0 | H259: 0 | I259: =(H259*(1+'4. Manuren+toeslagen'!$D$17+'4. Manuren+toeslagen'!$D$18))*(1+'4. Manuren+toeslagen'!$D$20) -> 0 | J259: 0 | K259: =(J259*(1+'4. Manuren+toeslagen'!$D$17+'4. Manuren+toeslagen'!$D$18))*(1+'4. Manuren+toeslagen'!$D$20) -> 0 | L259: 8 | M259: 58 | N259: 110 | O259: =G259*L259+I259*M259+K259*N259 -> 0
...

Sheet 4. Manuren+toeslagen
A1: BIJLAGE 2 GUNNINGSCRITERIUM PRIJS - MANUURLOON EN TOESLAGPERCENTAGES
A3: Let op! Enkel de witte vlakken dienen ingevuld te worden.
A6: Manuurloon* Functies | C6: Overige functies binnen deze tariefgroep. | D6: Uurtarief exclusief toeslagen en exclusief btw* | E6: Uren (fictief) | F6: Inclusief BTW Totaal (fictief)
A7: Manuurloon 01 | B7: Projectleider | C7: Omschrijving van de werkzaamheden die uitgevoerd gaan worden door deze functiegroep in te vullen door Inschrijver | D7: 0 | E7: 130 | F7: =D7*E7 -> 0
A8: Manuurloon 02 | B8: Werkvoorbereider | C8: Omschrijving van de werkzaamheden die uitgevoerd gaan worden door deze functiegroep in te vullen door Inschrijver | D8: 0 | E8: 208 | F8: =D8*E8 -> 0
A9: Manuurloon 03 | B9: Uitvoerend medewerker Senior: Schilder etc. | C9: Omschrijving van de werkzaamheden die uitgevoerd gaan worden door deze functiegroep in te vullen door Inschrijver | D9: 0 | E9: 520 | F9: =D9*E9 -> 0
A10: Manuurloon 04 | B10: Uitvoerend medewerker Junior: Schilder etc. | C10: Omschrijving van de werkzaamheden die uitgevoerd gaan worden door deze functiegroep in te vullen door Inschrijver | D10: 0 | E10: 520 | F10: =D10*E10 -> 0
D12: Subtotaal uren (fictief) | F12: =SUM(F7:F10) -> 0
A16: Toeslag percentages | C16: Tijdstippen storingen/evt. Opmerkingen | D16: Percentage | E16: Aantal (fictief) | F16: Inclusief BTW Totaal (fictief)
A17: Toeslag 01 | B17: Algemene bouwplaatskosten | D17: 0 | E17: o.b.v. subtotaal uren | F17: =D17*$F$12 -> 0
A18: Toeslag 02 | B18: Algemene kosten | D18: 0 | E18: o.b.v. subtotaal uren | F18: =D18*$F$12 -> 0
A19: Toeslag 03 | B19: Onderaanneming | D19: 0 | E19: o.b.v. subtotaal uren | F19: =D19*$F$12 -> 0
A20: Toeslag 04 | B20: Winst & risico | D20: 0 | E20: o.b.v. subtotaal uren | F20: =D20*$F$12 -> 0
A21: Toeslag 05 | B21: avond/nacht | C21: Maandag t/m vrijdag van 18.00 uur - 07.00 uur de volgende ochtend | D21: 0 | E21: 40 | F21: =D21*$F$12 -> 0
A22: Toeslag 06 | B22: zaterdag | C22: Zaterdag | D22: 0 | E22: 80 | F22: =D22*$F$12 -> 0
A23: Toeslag 07 | B23: zon- en feestdagen | C23: Tijdstippen nader omschrijven door Inschrijver | D23: 0 | E23: 40 | F23: =D23*$F$12 -> 0
D25: Totaal (fictief) | F25: =SUM(F17:F23) -> 0
A27: * Uurtarieven zijn inclusief voorrijkosten, reiskosten en overige functionarisgebonden kosten.
