Workbook

Sheet Prijzen invulblad
B1: Instructies en voorwaarden
B2: 1 | C2: Er mogen geen andere kosten in rekening gebracht worden dan de kosten in dit werkblad en de kosten genoemd in het beschrijvend document
B3: 2 | C3: Indien er tijdens de looptijd van de Raamovereenkomst afvalstromen of andere maatvoering containers worden uitgevraagd
C4: dienen de prijzen daarvoor in verhouding te staan met de prijzen die in dit werkblad zijn opgenomen.
B5: 3 | C5: De opgegeven aantallen voor bepaling van de inschrijfprijs zijn indicatief en alleen voor dat doel. Hieraan kunnen geen rechten worden ontleend voor de omvang van de Opdracht
B6: 4 | C6: Inschrijver is (op straffe van uitsluiting) verplicht dit werkblad intact te laten, volledig in te vullen en geen negatieve bedragen en/of nulbedragen in te vullen.
B7: 5 | C7: De prijzen dienen marktconform te zijn en passend op de gevraagde dienst.
C8: Wanneer er naar oordeel van de Aanbestedende Dienst sprake is van een zogenaamde manipulatieve inschrijving zal de Inschrijver worden uitgesloten.
B9: 6 | C9: Alle tarieven zijn prijspeil 2023 en inclusief (administratie, regie e.d.)
B10: 7 | C10: Prijzen kunnen vanaf 1 januari 2024 jaarlijks worden geindexeerd conform de indexen zoals vermeld in het Programma van Eisen
B11: 8 | C11: Alle tarieven zijn exclusief BTW
B12: 9 | C12: Inschrijver dient alle groen gearceerde cellen in te vullen
B13: 10 | C13: Ingevuld prijzenblad dient zowel in excel als in PDF te worden opgeleverd. PDF versie dient rechtsgeldig te zijn ondertekend.
B14: 11 | C14: Tarieven zijn inclusief het op op-en afschalen van locaties.
C15: Afvalstromen
B16: A | C16: Rolcontainer tbv restafval
B17: B | C17: Rolcontainers tbv het afvoeren van vertrouwelijk papier (secure data
B18: C | C18: Rolcontainers tbv het afvoeren van papier en karton
C21: Abbonnementstarief: Dit tarief is per locatie, per lediging, per container inclusief huur, transport en verwerking
B22: Liters | C22: A | D22: B | E22: C
B23: 240 | C23: 0 | D23: 0 | E23: 0
B24: 500 | E24: 0
B25: 660 | C25: 0 | D25: 0 | E25: 0
B26: 1100 | C26: 0 | E26: 0
B27: 2500 | C27: 0
C30: Huur bij lediging op afroep: Dit tarief is per locatie, per lediging, per container inclusief huur, transport en verwerking
C31: Per week | F31: Per maand
B32: Liters | C32: A | D32: B | E32: C | F32: A | G32: B | H32: C
B33: 240 | C33: 0 | D33: 0 | E33: 0 | F33: 0 | G33: 0 | H33: 0
B34: 500 | E34: 0 | H34: 0
B35: 660 | C35: 0 | D35: 0 | E35: 0 | F35: 0 | G35: 0 | H35: 0
B36: 1100 | C36: 0 | E36: 0 | F36: 0 | H36: 0
B37: 2500 | C37: 0 | F37: 0
C40: Afvoeren van medisch afval (naaldencontainers) (in een vast schema en op afroep)
C41: Vasttarief per stop, per lediging, per locatie, inclusief levering naaldencontainers, transport en verwerking | D41: 0
C42: Taref per KG | D42: 0
C46: De hierna volgende overige afvalstromen worden niet meegenomen in het bepalen van de Totale inschrijfprijs. LET OP ze moeten wel voldoen aan de hierboven gestelde eisen.
C47: Overige afvalstromen | D47: Liters | E47: Abbonnementstarief: Dit tarief is per locatie, per lediging, per container inclusief huur, transport en verwerking | F47: Huur bij lediging op afroep: Dit tarief is per locatie, per lediging, per container inclusief huur, transport en verwerking
C48: Rolcontainers tbv het afvoeren van PMD | D48: 240 | E48: 0 | F48: 0
C49: Rolcontainers tbv het afvoeren van PMD | D49: 660 | E49: 0 | F49: 0
...

Sheet weging
C1: Afvalstromen
B2: A | C2: Rolcontainer tbv restafval
B3: B | C3: Rolcontainers tbv het afvoeren van vertrouwelijk papier (secure data
B4: C | C4: Rolcontainers tbv het afvoeren van papier en karton
C7: Abbonnementstarief: Dit tarief is per locatie, per container inclusief huur, transport en verwerking
B8: Liters | C8: A | D8: B | E8: C
B9: 240 | C9: 260 | D9: 15 | E9: 36 | J9: =C9*'Prijzen invulblad'!C23 -> 0 | K9: =D9*'Prijzen invulblad'!D23 -> 0 | L9: =E9*'Prijzen invulblad'!E23 -> 0
B10: 500 | E10: 7 | J10: =C10*'Prijzen invulblad'!C24 -> 0 | K10: =D10*'Prijzen invulblad'!D24 -> 0 | L10: =E10*'Prijzen invulblad'!E24 -> 0
B11: 660 | C11: 33 | D11: 0 | E11: 46 | J11: =C11*'Prijzen invulblad'!C25 -> 0 | K11: =D11*'Prijzen invulblad'!D25 -> 0 | L11: =E11*'Prijzen invulblad'!E25 -> 0
B12: 1100 | C12: 364 | E12: 95 | J12: =C12*'Prijzen invulblad'!C26 -> 0 | K12: =D12*'Prijzen invulblad'!D26 -> 0 | L12: =E12*'Prijzen invulblad'!E26 -> 0
B13: 2500 | C13: 10 | J13: =C13*'Prijzen invulblad'!C27 -> 0 | K13: =D13*'Prijzen invulblad'!D27 -> 0 | L13: =E13*'Prijzen invulblad'!E27 -> 0
C16: Huur bij lediging op afroep: Dit tarief is per locatie, per container inclusief huur, transport en verwerking
C17: Per week | F17: Per maand
B18: Liters | C18: A | D18: B | E18: C | F18: A | G18: B | H18: C
B19: 240 | C19: 1 | D19: 1 | E19: 1 | F19: 1 | G19: 1 | H19: 1 | J19: =C19*'Prijzen invulblad'!C33 -> 0 | K19: =D19*'Prijzen invulblad'!D33 -> 0 | L19: =E19*'Prijzen invulblad'!E33 -> 0 | M19: =F19*'Prijzen invulblad'!F33 -> 0 | N19: =G19*'Prijzen invulblad'!G33 -> 0 | O19: =H19*'Prijzen invulblad'!H33 -> 0
B20: 500 | E20: 1 | H20: 1 | J20: =C20*'Prijzen invulblad'!C34 -> 0 | K20: =D20*'Prijzen invulblad'!D34 -> 0 | L20: =E20*'Prijzen invulblad'!E34 -> 0 | M20: =F20*'Prijzen invulblad'!F34 -> 0 | N20: =G20*'Prijzen invulblad'!G34 -> 0 | O20: =H20*'Prijzen invulblad'!H34 -> 0
B21: 660 | C21: 1 | D21: 0 | E21: 1 | F21: 1 | G21: 0 | H21: 1 | J21: =C21*'Prijzen invulblad'!C35 -> 0 | K21: =D21*'Prijzen invulblad'!D35 -> 0 | L21: =E21*'Prijzen invulblad'!E35 -> 0 | M21: =F21*'Prijzen invulblad'!F35 -> 0 | N21: =G21*'Prijzen invulblad'!G35 -> 0 | O21: =H21*'Prijzen invulblad'!H35 -> 0
B22: 1100 | C22: 2 | E22: 7 | F22: 1 | H22: 1 | J22: =C22*'Prijzen invulblad'!C36 -> 0 | K22: =D22*'Prijzen invulblad'!D36 -> 0 | L22: =E22*'Prijzen invulblad'!E36 -> 0 | M22: =F22*'Prijzen invulblad'!F36 -> 0 | N22: =G22*'Prijzen invulblad'!G36 -> 0 | O22: =H22*'Prijzen invulblad'!H36 -> 0
B23: 2500 | C23: 1 | F23: 1 | J23: =C23*'Prijzen invulblad'!C37 -> 0 | K23: =D23*'Prijzen invulblad'!D37 -> 0 | L23: =E23*'Prijzen invulblad'!E37 -> 0 | M23: =F23*'Prijzen invulblad'!F37 -> 0 | N23: =G23*'Prijzen invulblad'!G37 -> 0 | O23: =H23*'Prijzen invulblad'!H37 -> 0
C26: Afvoeren van medisch afval (naaldencontainers) (in een vast schema en op afroep)
C27: Vasttarief per stop, per locatie, inclusief levering naaldencontainers, transport en verwerking | D27: 9 | K27: =D27*'Prijzen invulblad'!D41 -> 0
C28: Taref per KG | D28: 3 | K28: =D28*'Prijzen invulblad'!D42 -> 0
J30: =SUM(J6:J29) -> 0 | K30: =SUM(K6:K29) -> 0 | L30: =SUM(L6:L29) -> 0 | M30: =SUM(M6:M29) -> 0 | N30: =SUM(N6:N29) -> 0 | O30: =SUM(O6:O29) -> 0
C31: Rekenprijs
C32: =SUM(J30:O30) -> 0
