Workbook
Name Aarding: 'Algemene risicolijst '!$A$4:$A$21
Name Armaturen: 'Algemene risicolijst '!$A$207:$A$217
Name Armatuur: DATA!$N$7:$N$15
Name Bergschenhoek: DATA!$F$7:$F$1102
Name Berkel_en_Rodenrijs: DATA!$E$7:$E$1102
Name Beveiligingen: 'Algemene risicolijst '!$A$23:$A$39
Name Bleiswijk: DATA!$D$7:$D$1102
Name BLW: DATA!$R$7:$R$46
Name BLW_Straat: DATA!$S$7:$S$46
Name BRR: DATA!$R$78:$R$145
Name BRR_Straat: DATA!$S$78:$S$145
Name BSH: DATA!$R$49:$R$75
Name BSH_Straat: DATA!$S$49:$S$75
Name Coderingen: 'Algemene risicolijst '!$A$79:$A$83
Name Documentatie: 'Algemene risicolijst '!$A$85:$A$110
Name Kabel: DATA!$N$18:$N$28
Name Kabels: 'Algemene risicolijst '!$A$47:$A$77
Name Kast: DATA!$P$27:$P$51
Name Lichtmasten: 'Algemene risicolijst '!$A$186:$A$205
Name Omgeving: 'Algemene risicolijst '!$A$177:$A$184
Name Prioriteit: DATA!$AC$6:$AC$10
Name risico: DATA!$AB$6:$AB$10
Name Schakelen: 'Algemene risicolijst '!$A$41:$A$45

Sheet Storings- en gebrekenrapportage
A1: Locatie | K1: Storingsnummer
A2: Kern | B2: Berkel en Rodenrijs | C2: Straat | E2: Akeleituin | F2: Type Weg | G2: Achterpad | I2: Positie op de weg | J2: Divers
A3: Monteursgegevens | K3: LSL-VOLGNR-(LMnr tot lmnr) LSL-001-005.02.001/005.02.005 of LSL-002-STE.BW.001/STE.BW.006
A4: Datum constatering: | C4: Naam monteur 1: | F4: Naam monteur 2: | I4: Melddatum:
A5: Melding
A6: SIM melding nr. | C6: Nummer zaaksysteem | E6: melder | F6: email | I6: Datum melding
E7: Let op!! Deze gegevens dient men niet altijd te registreren vanwege AVG, Verwijzen naar het zaaksysteemnr.
A8: Urgentie | D8: Funtioneel | G8: Soort
A9: urgent | D9: Nee | G9: Gebrek
A10: tekstveld melding
A12: foto 1 | C12: foto 2 | F12: foto 3 | J12: foto 4 | M12: foto 5
A13: Registratie Werkveld
A14: Datum op locatie | B14: Beheerder Kabelnet | C14: Beheerder Lichtpunt | D14: Kern | E14: Installatie-onderdeel | F14: component | G14: welke lichtmasten/ groepen? | I14: verkeersborden (aantal en type) | J14: straatnaamborden (aantal en type) | K14: Lichtmastreclame (aantal en type) | L14: Kast nummer | M14: straat
B15: Gem_LL - BO | C15: Gem_LL - BO | D15: BLW | E15: Kabel | F15: Isolatie | L15: OV-kast 001 | M15: =VLOOKUP(L15,DATA!R6:S145,2,FALSE) -> Munnikenweg
A16: Analyse en Conclusie
A17: storingsanalyse
A19: Conclusie analyse
A21: Totale Risicobeoordeling
A22: Risicobeoordeling storing/gebrek | G22: Causale verband met: | M22: Conclusie
A23: Risico onderdeel | B23: omschrijving bevinding | C23: Risico Nummer | D23: Risico Categorie | E23: omschrijving risico | F23: Prioriteit | G23: rapportage-nummer | H23: Risico onderdeel | I23: omschrijving bevinding | J23: Risico Nummer | K23: Risico Categorie | L23: Prioriteit | M23: Causale Risico Categorie | N23: Prioriteit
A24: Schakelen | B24: Waarde hoofdschakelaar niet correct | C24: =VLOOKUP(B24,'Algemene risicolijst '!A4:F217,3,FALSE) -> 95 | D24: =VLOOKUP(C24,'Algemene risicolijst '!C3:E217,3,FALSE) -> B | E24: =VLOOKUP(B24,'Algemene risicolijst '!A1:F217,4,FALSE) -> Indien de schakelwaarde van de hoofdschakelaar niet correct is, is het mogelijk dat vonkbogen ontstaan c.q. storingen kunnen ontstaan. | F24: =VLOOKUP(B24,'Algemene risicolijst '!A1:F217,6,FALSE) -> Herstellen tijdens Onderhoud/ herstelactie (max. 3 maanden) | H24: Documentatie | I24: Tekening ontbreekt, kastpakket niet compleet (Niet-cruciaal) | J24: =VLOOKUP(I24,'Algemene risicolijst '!A4:F217,3,FALSE) -> 17.2.2 | K24: =VLOOKUP(J24,'Algemene risicolijst '!C3:E217,3,FALSE) -> D | L24: =VLOOKUP(I24,'Algemene risicolijst '!A1:F217,6,FALSE) -> Herstellen tijdens Onderhoud/ Aanpassing | M24: C | N24: Herstellen tijdens Onderhoud/ herstelactie (max. 6 maanden)
A25: Herstelmaatregel en kostenindicatie
A26: Voorstel herstelmaatregel
A28: Omschrijving werkzaamheden | B28: materiaal | E28: materieel | H28: Manuren | K28: algemene werkzaamheden | N28: Totale kosten
B29: Omschrijving | C29: aantal | D29: kosten per stuk | E29: Omschrijving | F29: uren | G29: uurtarief | H29: Omschrijving | I29: uren | J29: uurtarief | K29: Omschrijving | L29: uren | M29: uurtarief
C30: 4 | D30: 250 | F30: 2 | G30: 45 | I30: 8 | J30: 144 | L30: 2 | M30: 85 | N30: =L30*M30+I30*J30+G30*F30+C30*D30 -> 2412
N31: =L31*M31+I31*J31+G31*F31+C31*D31 -> 0
N32: =L32*M32+I32*J32+G32*F32+C32*D32 -> 0
N33: =L33*M33+I33*J33+G33*F33+C33*D33 -> 0
A34: Herstelwerkzaamheden
A35: type herstel | C35: datum hersteld | D35: meldingsnr. Stedin | F35: herstelwerkzaamheden | I35: vervangen onderdelen 1 | K35: vervangen onderdelen 2 | M35: vervangen onderdelen 3
A37: Trend Analyse
A38: repeterende storing | B38: verwijzing oude storing(sim) | D38: relatie met objecten | F38: Opmerkingen/Analyse

Sheet Storings- en gebrekenoverzicht
B2: OV storings- en gebrekenoverzicht en -rapportage
A4: Volgnr. | B4: Locatie | G4: Melding | R4: Registratie Werkveld | AA4: Analyse en Conclusie | AE4: Totale Risicobeoordeling | AU4: Herstelmaatregel en kostenindicatie | BK4: Herstelwerkzaamheden | BR4: Trend Analyse
AE5: Risicobeoordeling storing/gebrek | AK5: Causale verband met: | AQ5: Conclusie | AU5: Voorstel herstelmaatregel | AV5: materiaal | AY5: materieel | BB5: Manuren | BE5: algemene werkzaamheden | BH5: Totale kosten
B6: Kern | C6: Straat | D6: Type Weg | E6: Positie op de weg | G6: SIM melding nr. | H6: nummer zaak-systeem | I6: melder | J6: email | K6: Datum melding | L6: Urgent | M6: Funtio-neel | N6: Soort | O6: tekstveld melding | R6: Datum op locatie | S6: Beheerder Kabelnet | T6: Beheerder Lichtpunt | U6: Kern | V6: Installatie-onderdeel | W6: component | X6: welke lichtmasten zijn uit | Y6: Kast nummer | Z6: straat | AA6: storingsanalyse | AB6: Conclusie analyse | AE6: Risico onderdeel | AF6: omschrijving bevinding | AG6: Risico Nummer | AH6: Risico Categorie | AI6: omschrijving risico | AJ6: Prioriteit | AK6: rapportage-nummer | AL6: Risico onderdeel | AM6: omschrijving bevinding | AN6: Risico Nummer | AO6: Risico Categorie | AP6: Prioriteit | AQ6: Causale Risico Categorie | AR6: Prioriteit | AV6: Omschrijving | AW6: aantal | AX6: kosten | AY6: Omschrijving | AZ6: uren | BA6: uurtarief | BB6: Omschrijving | BC6: uren | BD6: uurtarief | BE6: Omschrijving | BF6: uren | BG6: uurtarief | BK6: type herstel | BL6: datum hersteld | BM6: meldingsnr. Stedin | BN6: herstelwerkzaamheden | BO6: vervangen materialen | BR6: repeterende storing | BS6: verwijzing oude storing(sim) | BT6: relatie met objecten | BU6: opmerking
A7: 001 | B7: Bergschenhoek | C7: Albert Schweitzerpad | D7: Hoofdweg | E7: Divers | I7: Let op!! Deze gegevens dient men niet altijd te registreren vanwege AVG. Minimaal verwijzen naar het zaaksysteemnr. | L7: urgent | M7: Nee | N7: Gebrek | S7: Gem_LL - RO | T7: Gem_LL - BO | U7: BLW | V7: Kast | W7: hoofd- en groepenschakelaars | Y7: OV-kast 006 | Z7: =VLOOKUP(Y7,DATA!R6:S145,2,FALSE) -> Grijpestijnhof | AE7: Documentatie | AF7: Tekening ontbreekt in kast, kastpakket niet compleet (niet-cruciaal) | AG7: =VLOOKUP(AF7,'Algemene risicolijst '!A4:F217,3,FALSE) -> 17.1.2 | AH7: =VLOOKUP(AG7,'Algemene risicolijst '!C3:E217,3,FALSE) -> D | AI7: =VLOOKUP(AF7,'Algemene risicolijst '!A1:F217,4,FALSE) -> Niet wenselijk. Echter is niet per definitie een onveilige situatie. Staat mogelijk wel snelle storingsoplossing in de weg | AJ7: =VLOOKUP(AF7,'Algemene risicolijst '!A1:F217,6,FALSE) -> Herstellen tijdens Onderhoud/ Aanpassing | AL7: Lichtmasten | AM7: Montageplaat in lichtmast zit los of is verzakt | AN7: =VLOOKUP(AM7,'Algemene risicolijst '!A4:F217,3,FALSE) -> 68 | AO7: =VLOOKUP(AN7,'Algemene risicolijst '!C3:E217,3,FALSE) -> B | AP7: =VLOOKUP(AM7,'Algemene risicolijst '!A1:F217,6,FALSE) -> Herstellen tijdens Onderhoud/ herstelactie (max. 3 maanden) | AQ7: B | AR7: Herstellen tijdens Onderhoud/ herstelactie (max. 3 maanden) | BH7: =BF7*BG7+BC7*BD7+BA7*AZ7+AW7*AX7 -> 0
A8: 002 | Y8: OV-Kast
A9: 003 | Y9: OV-Kast
A10: 004 | Y10: OV-Kast
A11: 005 | Y11: OV-Kast
A12: 006 | Y12: OV-Kast
A13: 007 | Y13: OV-Kast
A14: 008 | Y14: OV-Kast
A15: 009 | Y15: OV-Kast
A16: 010 | Y16: OV-Kast
A17: 011 | Y17: OV-Kast
A18: 012 | Y18: OV-Kast
A19: 013 | Y19: OV-Kast
... A106: 100 | Y106: OV-Kast

Sheet DATA
B4: stamlijst OV storingen
B6: Kern | D6: straat Bleiswijk | E6: straat Berkel en Rodenrijs | F6: straat Bergschenhoek | H6: Beheerder | J6: Urgent | L6: Installatie-onderdeel | N6: Armatuur | P6: Mast | R6: Kasten Bleiswijk | S6: Straat | U6: oorzaak in installatie | W6: repeterende storing | Z6: type herstel | AB6: A | AC6: Veiligstellen c.q. Definitief herstellen
B7: Bleiswijk | D7: 1e Tochtweg | E7: 1e Tochtweg | F7: 1e Tochtweg | H7: Gem_LL - BO | J7: Urgent | L7: Armatuur | N7: Armatuur Algemeen | P7: Mast Algemeen | R7: OV-kast 001 | S7: Munnikenweg | U7: stedin | W7: ja | Z7: niet | AB7: B | AC7: Herstellen tijdens Onderhoud/ herstelactie (max. 3 maanden)
B8: Berkel en Rodenrijs | D8: 2e Tochtweg | E8: 2e Tochtweg | F8: 2e Tochtweg | H8: STEDIN | J8: Niet urgent | L8: Mast | N8: Lamp | P8: Aansluitblok | R8: OV-kast 002 | S8: Zernikestraat | U8: gemeente | W8: nee | Z8: functioneel herstel | AB8: C | AC8: Herstellen tijdens Onderhoud/ herstelactie (max. 6 maanden)
B9: Bergschenhoek | D9: 5 Meistraat | E9: 5 Meistraat | F9: 5 Meistraat | H9: Gem_LL - RO | L9: Kabel | N9: Vsa/driver | P9: Monitoringsblok | R9: OV-kast 003 | S9: Herlaerstraat | Z9: definitief herstel | AB9: D | AC9: Herstellen tijdens Onderhoud/ Aanpassing
D10: 6 juni-straat | E10: 6 juni-straat | F10: 6 juni-straat | H10: Particulier | J10: Functioneel | L10: Kast | N10: Snoer | P10: Montagerail | R10: OV-kast 004 | S10: Laurenbrug | Z10: doorgezet naar stedin | AB10: E | AC10: Geen actie, aandachtspunt.
D11: A.H. Verweijweg | E11: A.H. Verweijweg | F11: A.H. Verweijweg | H11: Rijkswaterstaat | J11: Ja | N11: Aansluiting snoer | P11: Aardbout | R11: OV-kast 005 | S11: Terrastuin
D12: A.M. de Jongstraat | E12: A.M. de Jongstraat | F12: A.M. de Jongstraat | H12: Gem. Zuidplas | J12: Nee | N12: Aarding | P12: Mastzekering | R12: OV-kast 006 | S12: Grijpestijnhof
D13: Abe Bonnemastraat | E13: Abe Bonnemastraat | F13: Abe Bonnemastraat | H13: Gem. Pijnacker-Nootdorp | N13: Isolatie | P13: Snoer | R13: OV-kast 007 | S13: Anthuriumweg (busbaan)
D14: Abeltjespad | E14: Abeltjespad | F14: Abeltjespad | H14: Gem. Zoetermeer | J14: Soort | N14: Beschadiging | P14: Aansluiting kabel | R14: OV-kast 008 | S14: Hyacintenweg (Narcissenweg)
D15: Abraham Molenaarweg | E15: Abraham Molenaarweg | F15: Abraham Molenaarweg | H15: Gem. Rotterdam | J15: Storing | N15: Aanrijding | P15: Aansluiting snoer | R15: OV-kast 009 | S15: Cyclamenweg
D16: Abrikozenhof | E16: Abrikozenhof | F16: Abrikozenhof | H16: HH van Delfland | J16: Gebrek | P16: Grondverdichting | R16: OV-kast 010 | S16: Hyacintenweg (Krokussenweg)
D17: Achterlaan | E17: Achterlaan | F17: Achterlaan | H17: HH Schieland en Krimpenerwaard | J17: Klacht | N17: Kabel | P17: Afvulling mast | R17: OV-kast 011 | S17: Zoetermeerselaan
D18: Achterplein | E18: Achterplein | F18: Achterplein | H18: ProRail | J18: Verzoek | N18: Kabel Algemeen | P18: Maaiveldbescherming | R18: OV-kast 012 | S18: Prismalaan-West (Zoetermeerselaan)
D19: Ackerse Zoom | E19: Ackerse Zoom | F19: Ackerse Zoom | H19: Provincie Zuid-Holland | N19: Aardscherm | P19: Uithouder | R19: OV-kast 013 | S19: Prismalaan-West (Opticaweg)
D20: Ad van der Steurzoom | E20: Ad van der Steurzoom | F20: Ad van der Steurzoom | H20: Vrije tekstveld | N20: Fase/Nul | P20: Mastluik | R20: OV-kast 014 | S20: Brandpuntlaan-Zuid
D21: Adelaar | E21: Adelaar | F21: Adelaar | N21: Isolatie | P21: Scheefstand | R21: OV-kast 015 | S21: Irisweg (Groendaalseweg)
D22: Adelaarsvaren | E22: Adelaarsvaren | F22: Adelaarsvaren | N22: Aarding | P22: Aarding | R22: OV-kast 016 | S22: Irisweg (Violierenweg)
D23: Admiraal Helfrichplein | E23: Admiraal Helfrichplein | F23: Admiraal Helfrichplein | N23: Groep | P23: Beschadiging | R23: OV-kast 017 | S23: Craenenborgpad
D24: Agaat | E24: Agaat | F24: Agaat | H24: Type Weg | N24: Mantel | P24: Aanrijding | R24: OV-kast 019 | S24: Lansingpad
D25: Akeleituin | E25: Akeleituin | F25: Akeleituin | H25: Fiets- en voetpad | N25: Lengte kabel | R25: OV-kast 020 | S25: Laan van Mathenesse
D26: Akkerdistel | E26: Akkerdistel | F26: Akkerdistel | H26: Achterpad | N26: Diepte kabel | P26: Kast | R26: OV-kast 021 | S26: de Plaats
D27: Albert Cuyplaan | E27: Albert Cuyplaan | F27: Albert Cuyplaan | H27: Plein | N27: Graafschade | P27: Kast Algemeen | R27: OV-kast 022 | S27: Anthuriumweg
D28: Albert Margrypad | E28: Albert Margrypad | F28: Albert Margrypad | H28: Hoofdweg | N28: Aanrijding | P28: Aansluitwaarde Stedin | R28: OV-kast 023 | S28: Krokussenweg
D29: Albert Schweitzerpad | E29: Albert Schweitzerpad | F29: Albert Schweitzerpad | H29: Parkeerplaats | P29: Bemetering Stedin | R29: OV-kast 024 | S29: Groendalseweg tspiltsing
D30: Albert van 't Hartweg | E30: Albert van 't Hartweg | F30: Albert van 't Hartweg | H30: Woonstraat | P30: Aansluiting Stedin | R30: OV-kast 025 | S30: Groendalseweg
D31: Aldo v. Eyckstraat | E31: Aldo v. Eyckstraat | F31: Aldo v. Eyckstraat | H31: Speeltuin | P31: Kastverwarming | R31: OV-kast 026 | S31: albert van t'hartweg
D32: Alet Schoutensingel | E32: Alet Schoutensingel | F32: Alet Schoutensingel | H32: Brug | P32: Kastverlichting | R32: OV-kast 027 | S32: fietspad A12 Li 17,1
D33: Alfred Nobelstraat | E33: Alfred Nobelstraat | F33: Alfred Nobelstraat | H33: Tunnel/onderdoorgang | P33: Service-WCD | R33: OV-kast 028 | S33: Groendalseweg
D34: Alkmaardermeerlaan | E34: Alkmaardermeerlaan | F34: Alkmaardermeerlaan | P34: Beveiligingen | R34: OV-kast 029 | S34: violierenweg
D35: Amandelhof | E35: Amandelhof | F35: Amandelhof | H35: Positie op de weg | P35: Magneetschakelaar | R35: OV-kast 030 | S35: petuniaweg | Y35: DAT
D36: Amaryllisstraat | E36: Amaryllisstraat | F36: Amaryllisstraat | H36: Links | P36: Astro-klok/ TF-relais | R36: OV-kast 031 | S36: voorlaan
D37: Amaryllistuin | E37: Amaryllistuin | F37: Amaryllistuin | H37: Rechts | P37: hoofd- en groepenschakelaars | R37: OV-kast 032 | S37: kooilaan
D38: Amberweg | E38: Amberweg | F38: Amberweg | H38: Middenberm | P38: Klemmenstrook | R38: OV-kast 033 | S38: Grote Molen
D39: Ameland | E39: Ameland | F39: Ameland | H39: Terrein | P39: Montagerail | R39: OV-kast 036 | S39: Hoekeindseweg
D40: Amethistweg | E40: Amethistweg | F40: Amethistweg | H40: Plafond | P40: HAR | R40: OV-kast 037 | S40: merenweg (sportveld)
D41: Andriessenstraat | E41: Andriessenstraat | F41: Andriessenstraat | H41: Gevel | P41: Aarding | R41: OV-kast 038 | S41: langevaart
D42: Anemonentuin | E42: Anemonentuin | F42: Anemonentuin | H42: Divers | P42: Tekenpakkket | R42: OV-kast 039 | S42: facetlaan
D43: Anemonenweg | E43: Anemonenweg | F43: Anemonenweg | H43: N.v.t. | P43: Codering | R43: OV-kast 040 | S43: facetlaan
D44: Anemoonplantsoen | E44: Anemoonplantsoen | F44: Anemoonplantsoen | P44: Bekabeling | R44: OV-kast 041 | S44: hoefweg
D45: Anjerdreef | E45: Anjerdreef | F45: Anjerdreef | P45: Aansluiting kabels | R45: OV-kast 042 | S45: Wilgenlei
D46: Anjertuin | E46: Anjertuin | F46: Anjertuin | P46: Trekontlasting | R46: OV-kast 044 | S46: Hoekeindseweg
D47: Anjerweg | E47: Anjerweg | F47: Anjerweg | P47: Bestrating
D48: Anne de Vriespark | E48: Anne de Vriespark | F48: Anne de Vriespark | P48: Afvulling kast | R48: Kasten Bergschenhoek | S48: Straat
D49: Anne de Vriessingel | E49: Anne de Vriessingel | F49: Anne de Vriessingel | P49: Wartels | R49: OV-kast 201 | S49: Berkelseweg
D50: Anne de Vriesstraat | E50: Anne de Vriesstraat | F50: Anne de Vriesstraat | P50: Beschadiging | R50: OV-kast 202 | S50: Boterdorpseweg (Randweg-West)
D51: Annie M.G. Schmidtlaan | E51: Annie M.G. Schmidtlaan | F51: Annie M.G. Schmidtlaan | P51: Aanrijding | R51: OV-kast 203 | S51: De Zijde
D52: Annie M.G. Schmidtpad | E52: Annie M.G. Schmidtpad | F52: Annie M.G. Schmidtpad | R52: OV-kast 204 | S52: Boterdorpseweg (Zuiderparklaan)
D53: Annie M.G. Schmidtpark Midden | E53: Annie M.G. Schmidtpark Midden | F53: Annie M.G. Schmidtpark Midden | R53: OV-kast 205 | S53: Klooslaan
D54: Annie M.G. Schmidtpark Noord | E54: Annie M.G. Schmidtpark Noord | F54: Annie M.G. Schmidtpark Noord | R54: OV-kast 206 | S54: Noorderparklaan (Catzstraat)
D55: Annie M.G. Schmidtpark Zuid | E55: Annie M.G. Schmidtpark Zuid | F55: Annie M.G. Schmidtpark Zuid | R55: OV-kast 207 | S55: Akeleituin
D56: Anthonie van Dijcklaan | E56: Anthonie van Dijcklaan | F56: Anthonie van Dijcklaan | R56: OV-kast 208 | S56: Amaryllistuin
D57: Anthony Lionweg | E57: Anthony Lionweg | F57: Anthony Lionweg | R57: OV-kast 210 | S57: Randweg-West
D58: Anthuriumsingel | E58: Anthuriumsingel | F58: Anthuriumsingel | R58: OV-kast 211 | S58: Waghenaerdreef
D59: Anthuriumweg | E59: Anthuriumweg | F59: Anthuriumweg | R59: OV-kast 212 | S59: Waghenaerdreef
D60: Appelhof | E60: Appelhof | F60: Appelhof | R60: OV-kast 213 | S60: Wildersekade
D61: Aquamarijnweg | E61: Aquamarijnweg | F61: Aquamarijnweg | R61: OV-kast 214 | S61: Tobias Asserlaan
D62: Archimedesstraat | E62: Archimedesstraat | F62: Archimedesstraat | R62: OV-kast 215 | S62: De Eilanden
D63: Architectenpark | E63: Architectenpark | F63: Architectenpark | R63: OV-kast 216 | S63: Burgemeester van Oostenweg
... D75: Banckertstraat | E75: Banckertstraat | F75: Banckertstraat | R75: OV-kast 232 | S75: Pastoor Canniuslaan
D76: Barbacane | E76: Barbacane | F76: Barbacane
D77: Barend Hooykaasstraat | E77: Barend Hooykaasstraat | F77: Barend Hooykaasstraat | R77: Kasten Berkel en Rodenrijs | S77: Straat
D78: Barmweg | E78: Barmweg | F78: Barmweg | R78: OV-kast 401 | S78: Gouden Uillaan
D79: Bastille | E79: Bastille | F79: Bastille | R79: OV-kast 402 | S79: Stationssingel
D80: Bastion | E80: Bastion | F80: Bastion | R80: OV-kast 403 | S80: Evert Hartmansingel
D81: Beatrixplein | E81: Beatrixplein | F81: Beatrixplein | R81: OV-kast 404 | S81: Willem Wilminkplantsoen
D82: Beatrixstraat | E82: Beatrixstraat | F82: Beatrixstraat | R82: OV-kast 405 | S82: Cissy van Marxveldtplantsoen
D83: Bedrijventerrein Rodenrijs | E83: Bedrijventerrein Rodenrijs | F83: Bedrijventerrein Rodenrijs | R83: OV-kast 406 | S83: Godfried Bomanssingel
D84: Beeldemakerdreef | E84: Beeldemakerdreef | F84: Beeldemakerdreef | R84: OV-kast 407 | S84: Carry van Bruggenplantsoen
D85: Beemdenbuurt | E85: Beemdenbuurt | F85: Beemdenbuurt | R85: OV-kast 408 | S85: Parkstraat
D86: Beethovenlaan | E86: Beethovenlaan | F86: Beethovenlaan | R86: OV-kast 409 | S86: Oudelandselaan
D87: Beethovenstraat | E87: Beethovenstraat | F87: Beethovenstraat | R87: OV-kast 410 | S87: Sportpark Het Hoge Land
D88: Begoniastraat | E88: Begoniastraat | F88: Begoniastraat | R88: OV-kast 411 | S88: Alkmaardermeerlaan
... D145: Boterdorpseweg | E145: Boterdorpseweg | F145: Boterdorpseweg | R145: OV-kast 480 | S145: planetenweg
D146: Bottelroos | E146: Bottelroos | F146: Bottelroos
D147: Bovenvaart | E147: Bovenvaart | F147: Bovenvaart
D148: Brahmsstraat | E148: Brahmsstraat | F148: Brahmsstraat
D149: Braillestraat | E149: Braillestraat | F149: Braillestraat
D150: Branddreef | E150: Branddreef | F150: Branddreef
D151: Brandemeerplantsoen | E151: Brandemeerplantsoen | F151: Brandemeerplantsoen
D152: Brandpuntlaan Noord | E152: Brandpuntlaan Noord | F152: Brandpuntlaan Noord
D153: Brandpuntlaan Zuid | E153: Brandpuntlaan Zuid | F153: Brandpuntlaan Zuid
D154: Brederodestraat | E154: Brederodestraat | F154: Brederodestraat
D155: Breitnerstraat | E155: Breitnerstraat | F155: Breitnerstraat
D156: Briellestraat | E156: Briellestraat | F156: Briellestraat
D157: Brielse Meerstraat | E157: Brielse Meerstraat | F157: Brielse Meerstraat
... D1102: Zwethstraat | E1102: Zwethstraat | F1102: Zwethstraat

Sheet Algemene risicolijst 
A1: omschrijving bevinding | B1: Onderdeel | C1: nummer | D1: omschrijving risico | E1: CAT. A/B/C/D | F1: Prioriteit | G1: Causale verband met: | H1: CAT. A/B/C/D | I1: Prioriteit | J1: opmerking
A3: Aarding
A4: Aardelektrode ontbreekt | B4: NEN 1010/ NEN 3140 | C4: 1.1 | D4: TT: Onveilige situatie (primaire beveiliging niet aanwezig, niet correct) | E4: A | F4: Veiligstellen c.q. Definitief herstellen
A5: Aardelektrode ontbreekt | B5: NEN 1010/ NEN 3140 | C5: 1.2 | D5: TN: Functioneel veilig, echter bij bevinding van bv kabels mogelijk onveilig | E5: E | F5: Geen actie
A6: Aardelektrode ontbreekt (aarde-voeding niet verbonden) | B6: NEN 1010/ NEN 3140 | C6: 1.2.1 | D6: TN: Functioneel veilig, echter bij bevinding van bv kabels mogelijk onveilig | E6: C | F6: Herstellen tijdens Onderhoud/ Aanpassing | J6: Betreft hier de vereffeningsaarding van de kast.
A7: Aardelektrode ontbreekt (aarde-voeding verbonden) | B7: NEN 1010/ NEN 3140 | C7: 1.2.2 | D7: TN: Functioneel veilig, echter bij bevinding van bv kabels mogelijk onveilig | E7: B | F7: Herstellen tijdens Onderhoud/ herstelactie (max. 3 maanden) | G7: Beveiligingen B Kabels B Aarding B | H7: A | I7: Veiligstellen c.q. Definitief herstellen
A8: Aardelektrode ontbreekt (niet-functioneel/ ondersteunende aarde). | B8: NEN 1010/ NEN 3140 | C8: 114 | D8: Niet-functionele aardelektrode t.b.v. vereffening installatie = niet per definitie onveilige situatie. Niet aanwezig, wel op tekening/berekening = Verhoogd risico op mogelijke gevaarlijke situaties na falen primair/secondair beveiligingssysteem (automaten c.q. zekeringen/aardlek). | E8: C | F8: Nader onderzoek oorzaak/oplossing + Herstellen tijdens Onderhoud/ Herstelactie (max. 6 maanden) | G8: Beveiligingen C Kabels C Aarding C | H8: B | I8: Herstellen tijdens Onderhoud/ Herstelactie (max. 3 maanden) | J8: Betreft ondersteunende aarding bij lichtmasten of gebruikers vanwege te hoge aanraakspannningen
A9: Aardverbindingen onvolledig (functioneel) | B9: NEN 1010/ NEN 3140 | C9: 4 | D9: Ontbrekende verbindingen functionele aardingen t.b.v. beveiliging installatie = onveilige situatie | E9: A | F9: Veiligstellen c.q. Definitief herstellen
A10: Aardverbindingen onvolledig (functioneel, niet werkend) | B10: NEN 1010/ NEN 3140 | C10: 4.1 | D10: Ontbrekende verbindingen functionele aardingen t.b.v. beveiliging installatie = onveilige situatie | E10: A | F10: Herstellen tijdens Onderhoud/ herstelactie (max. 3 maanden)
A11: Aardverbindingen (functioneel) onder 1 klem | B11: NEN 1010/ NEN 3140 | C11: 4.2.1 | D11: Ontbrekende verbindingen functionele aardingen t.b.v. beveiliging installatie = onveilige situatie | E11: A | F11: Herstellen tijdens Onderhoud/ herstelactie (max. 3 maanden)
A12: HAR aardverbindingen (functioneel) ontbreekt | B12: NEN 1010/ NEN 3140 | C12: 4.2.2 | D12: Ontbrekende verbindingen functionele aardingen t.b.v. beveiliging installatie = onveilige situatie | E12: B | F12: Herstellen tijdens Onderhoud/ herstelactie (max. 3 maanden)
A13: Aardverbindingen onvolledig (Niet-functioneel/ Ondersteunend) | B13: NEN 1010/ NEN 3140 | C13: 5 | D13: Ontbrekende verbindingen niet-functionele aardingen t.b.v. vereffening installatie = niet per definitie onveilige situatie. | E13: C | F13: Herstellen tijdens Onderhoud/ Herstelactie (max. 6 maanden) | G13: Beveiligingen C Kabels C Aarding C | H13: B | I13: Herstellen tijdens Onderhoud/ Herstelactie (max. 3 maanden)
A14: Aardverbindingen onvolledig (Niet-functioneel/ Ondersteunend) | B14: NEN 1010/ NEN 3140 | C14: 5.1 | D14: Ontbrekende verbindingen niet-functionele aardingen t.b.v. vereffening installatie = niet per definitie onveilige situatie. | E14: C | F14: Herstellen tijdens Onderhoud/ Herstelactie (max. 6 maanden) | G14: Beveiligingen C Kabels C Aarding C | H14: B | I14: Herstellen tijdens Onderhoud/ Herstelactie (max. 3 maanden)
A15: Aardverbindingen (Niet-functioneel/ Ondersteunend) onder 1 klem | B15: NEN 1010/ NEN 3140 | C15: 5.2 | D15: Ontbrekende verbindingen niet-functionele aardingen t.b.v. vereffening installatie = niet per definitie onveilige situatie. | E15: D | F15: Herstellen tijdens Onderhoud/ Aanpassing | G15: Beveiligingen C Kabels C Aarding C | H15: B | I15: Herstellen tijdens Onderhoud/ Herstelactie (max. 3 maanden)
A16: Circuitaarding voldoet niet | B16: NEN 1010/ NEN 3140 | C16: 108 | D16: Indien aanwezig, dient deze correct te functioneren. Defect = functioneel onveilig. Verminderd functioneren = Verhoogd risico op gevaarlijke situaties m.b.t. niet correct werken primair/secondair beveiligingssysteem (automaten c.q. zekeringen/aardlek). | E16: A | F16: Nader onderzoek oorzaak/oplossing + Veiligstellen c.q. Definitief herstellen | G16: Beveiligingen B Kabels B Aarding B | H16: A | I16: Definitief herstellen (ASAP)
A17: Aardelektrode voldoet niet (functioneel). | B17: NEN 1010/ NEN 3140 | C17: 109 | D17: Indien aanwezig, dient deze correct te functioneren. Defect = functioneel onveilig. Verminderd functioneren = Verhoogd risico op gevaarlijke situaties m.b.t. niet correct werken primair/secondair beveiligingssystemen. | E17: A | F17: Veiligstellen c.q. Definitief herstellen | G17: Beveiligingen B Kabels B Aarding B | H17: A | I17: Definitief herstellen (ASAP)
A18: Aardelektrode voldoet niet (niet-functioneel/ ondersteunende aarde). | B18: NEN 1010/ NEN 3140 | C18: 113 | D18: Niet-functionele aardelektrode t.b.v. vereffening installatie = niet per definitie onveilige situatie. Verminderd functioneren/defect = Verhoogd risico op mogelijke gevaarlijke situaties na falen primair/secondair beveiligingssysteem. | E18: C | F18: Herstellen tijdens Onderhoud/ Herstelactie (max. 6 maanden) | G18: Beveiligingen C Kabels C Aarding C | H18: B | I18: Herstellen tijdens Onderhoud/ Herstelactie (max. 3 maanden)
A19: aders met ongelijke doorsnede onder een klem | B19: NEN 1010/ NEN 3140 | C19: 7 | D19: bevinding is afhankelijk van de situatie ter plekke. Echter is zeker een niet-wenselijke situatie. Standaard behandelen als onveilig. Echter indien goed onderbouwd, kan men eventueel deze situatie beoordelen als veilig. | E19: D | F19: Herstellen tijdens Onderhoud/ Aanpassing
A20: aders met ongelijke doorsnede onder een niet geschikte klem (Aarde) | B20: NEN 1010/ NEN 3140 | C20: 7.1. | D20: bevinding is afhankelijk van de situatie ter plekke. Echter is zeker een niet-wenselijke situatie. Kans bestaat dat aders niet goed vast zitten en aarding niet correct functioneert. Ter plekke dit controleren en eventueel vastzetten (tijdelijke oplossing). | E20: C | F20: Herstellen tijdens Onderhoud/ Aanpassing (max. 6 maanden) | G20: Beveiligingen C Kabels C Aarding C | H20: B | I20: Herstellen tijdens Onderhoud/ Herstelactie (max. 3 maanden)
A21: aders met ongelijke doorsnede onder een geschikte klem (Aarde) | B21: NEN 1010/ NEN 3140 | C21: 7.2. | D21: bevinding is afhankelijk van de situatie ter plekke. Echter is zeker een niet-wenselijke situatie, indien er nog voldoende klemmen beschikbaar zijn. | E21: D | F21: Herstellen tijdens Onderhoud/ Aanpassing
A22: Beveiligingen
A23: Kortsluitstroom voldoet niet | B23: NEN 1010/ NEN 3140 | C23: 106 | D23: Verminderd functioneren/defect = Verhoogd risico op gevaarlijke situaties. | E23: A/B | F23: Nader onderzoek oorzaak/oplossing+ Herstellen tijdens Onderhoud/ herstelactie (max. 3 maanden) | G23: Beveiligingen B Kabels B Aarding B | H23: A | I23: Definitief herstellen (ASAP) | J23: Risico A of B = afhankelijk van de afwijking in tijd en stroom t.o.v. het minimaal geeiste, uitgaande van 1 Mohm of 1 kohm per volt.
A24: Aardlekschakelaar ontbreekt | B24: NEN 1010/ NEN 3140 | C24: 3 | D24: Is afhankelijk van welke normen en bouwjaar de installatie is. bevinding is niet per definitie onveilig. Indien de ALS volgens norm aanwezig dient te wezen, voldoet niet aan de norm + advies geven aanpassen of onderbouwd afwijken -> keuze is niet aan ons. | E24: D | F24: Nader onderzoek + evt. Herstellen tijdens Onderhoud/ Aanpassing
A25: Aardlekschakelaar ontbreekt (norm) | B25: NEN 1010/ NEN 3140 | C25: 3.1 | D25: Is afhankelijk van welke normen en bouwjaar de installatie is. bevinding is niet per definitie onveilig. Indien de ALS volgens norm aanwezig dient te wezen: voldoet niet aan de norm + advies geven aanpassen of onderbouwd afwijken -> keuze is niet aan ons. | E25: B | F25: Herstellen tijdens Onderhoud/ herstelactie (max. 3 maanden) | G25: Beveiligingen B Kabels B Aarding B | H25: A | I25: Definitief herstellen (ASAP)
A26: Aardlekschakelaar ontbreekt (niet norm) | B26: NEN 1010/ NEN 3140 | C26: 3.2 | D26: Is afhankelijk van welke normen en bouwjaar de installatie is. bevinding is niet per definitie onveilig. Verbetervoorstel indienen is een mogelijkheid. | E26: D | F26: Nader onderzoek + evt. Herstellen tijdens Onderhoud/ Aanpassing | J26: Indien Installatie op tijd schakelt niet nodig. Mogelijk verbetervoorstel van toepassing.
A27: Aardlek schakelt niet op tijd | B27: NEN 1010/ NEN 3140 | C27: 2.1 | D27: Niet-functionele aardelektrode t.b.v. vereffening installatie = niet per definitie onveilige situatie. Verminderd functioneren/defect = Verhoogd risico op gevaarlijke situaties. | E27: B | F27: Herstellen tijdens Onderhoud/ herstelactie (max. 3 maanden) | G27: Beveiligingen B Kabels B Aarding B | H27: A | I27: Definitief herstellen (ASAP)
A28: Aardlek schakelt niet bij juiste stroom | B28: NEN 1010/ NEN 3140 | C28: 2.2 | D28: Niet-functionele aardelektrode t.b.v. vereffening installatie = niet per definitie onveilige situatie. Verminderd functioneren/defect = Verhoogd risico op gevaarlijke situaties. | E28: B | F28: Herstellen tijdens Onderhoud/ herstelactie (max. 3 maanden) | G28: Beveiligingen B Kabels B Aarding B | H28: A | I28: Definitief herstellen (ASAP)
A29: Beveiligingen groepen discutabel | B29: NEN 1010/ NEN 3136 | C29: 8 | D29: Niet per definitie onveilig. Echter kan de bevinding op een potentieel onveilige situatie duiden. Deze bevinding behoeft aandacht en verder onderzoek om oorzaak/gevolg te achterhalen. | E29: B | F29: Nader onderzoek oorzaak/oplossing+ Herstellen tijdens Onderhoud/ herstelactie (max. 3 maanden) | G29: Beveiligingen B Kabels B Aarding B | H29: A | I29: Definitief herstellen (ASAP)
A30: Beveiligingen (waarde) groepen discutabel | B30: NEN 1010/ NEN 3137 | C30: 8.1.1 | D30: Niet per definitie onveilig. Deze bevinding behoeft aandacht en verder onderzoek om oorzaak/gevolg te achterhalen. | E30: B | F30: Nader onderzoek oorzaak/oplossing+ Herstellen tijdens Onderhoud/ herstelactie (max. 3 maanden) | G30: Beveiligingen B Kabels B Aarding B | H30: A | I30: Definitief herstellen (ASAP) | J30: Betreft hier afschakelstroom: 2,4,6,10,16,25,32/35,40,50,63 A i.c.m. bv lengte en diameter kabel + gebruiker op kabel .
A31: Beveiligingen (type) groepen discutabel | B31: NEN 1010/ NEN 3137 | C31: 8.1.2 | D31: Niet per definitie onveilig. Deze bevinding behoeft aandacht en verder onderzoek om oorzaak/gevolg te achterhalen. | E31: B | F31: Nader onderzoek oorzaak/oplossing+ Herstellen tijdens Onderhoud/ herstelactie (max. 3 maanden) | G31: Beveiligingen B Kabels B Aarding B | H31: A | I31: Definitief herstellen (ASAP) | J31: Betreft hier type: B, C, D of Gg, Gl, aM i.c.m. bv lengte en diameter kabel + gebruiker op kabel.
A32: Beveiligingen (Selectiviteit) groepen discutabel - voorliggend | B32: NEN 1010/ NEN 3139 | C32: 8.2.1 | D32: Niet per definitie onveilig. Deze bevinding behoeft aandacht en verder onderzoek om oorzaak/gevolg te achterhalen. | E32: C | F32: Herstellen tijdens Onderhoud/ Herstelactie (max. 6 maanden) | H32: B | I32: Nader onderzoek oorzaak/oplossing+ Herstellen tijdens Onderhoud/ herstelactie (max. 3 maanden)
A33: Beveiligingen (Selectiviteit) groepen discutabel - Achterliggend | B33: NEN 1010/ NEN 3140 | C33: 8.2.2 | D33: Niet per definitie onveilig. Deze bevinding behoeft aandacht en verder onderzoek om oorzaak/gevolg te achterhalen. | E33: C | F33: Herstellen tijdens Onderhoud/ Herstelactie (max. 6 maanden) | H33: B | I33: Nader onderzoek oorzaak/oplossing+ Herstellen tijdens Onderhoud/ herstelactie (max. 3 maanden)
A34: Beveiligingen groepen niet eenduidig | B34: NEN 1010/ NEN 3138 | C34: 9 | D34: Niet per definitie onveilig. Echter kan de bevinding op een potentieel onveilige situatie duiden en is zeker niet wenselijk. Deze bevinding behoeft aandacht en verder onderzoek om oorzaak/gevolg te achterhalen. | E34: B | F34: Nader onderzoek oorzaak/oplossing+ Herstellen tijdens Onderhoud/ herstelactie (max. 3 maanden) | G34: Beveiligingen B Kabels B Aarding B | H34: A | I34: Definitief herstellen (ASAP)
A35: Beveiligingen (type) groepen niet eenduidig | B35: NEN 1010/ NEN 3139 | C35: 9.1 | D35: Niet per definitie onveilig. Echter kan de bevinding op een potentieel onveilige situatie duiden en is zeker niet wenselijk. Deze bevinding behoeft aandacht en verder onderzoek om oorzaak/gevolg te achterhalen. | E35: B | F35: Nader onderzoek oorzaak/oplossing+ Herstellen tijdens Onderhoud/ herstelactie (max. 3 maanden) | G35: Beveiligingen B Kabels B Aarding B | H35: A | I35: Definitief herstellen (ASAP)
A36: Beveiligingen (waarde) groepen niet eenduidig | B36: NEN 1010/ NEN 3140 | C36: 9.2 | D36: Niet per definitie onveilig. Echter kan de bevinding op een potentieel onveilige situatie duiden en is zeker niet wenselijk. Deze bevinding behoeft aandacht en verder onderzoek om oorzaak/gevolg te achterhalen. | E36: B | F36: Nader onderzoek oorzaak/oplossing+ Herstellen tijdens Onderhoud/ herstelactie (max. 3 maanden) | G36: Beveiligingen B Kabels B Aarding B | H36: A | I36: Definitief herstellen (ASAP)
A37: Zekering wijkt af van tekening/schema | B37: bedrijfszekerheid | C37: 44 | D37: Niet per definitie onveilig. Echter kan de bevinding op een potentieel onveilige situatie duiden en is zeker niet wenselijk. Deze bevinding behoeft aandacht en verder onderzoek om oorzaak/gevolg te achterhalen. | E37: B | F37: Nader onderzoek oorzaak/oplossing+ Herstellen tijdens Onderhoud/ herstelactie (max. 3 maanden) | G37: Beveiligingen B Kabels B Aarding B | H37: A | I37: Definitief herstellen (ASAP)
A38: Patroonhouder in lichtmast ontbreekt | B38: NEN3140/ NEN1010 | C38: 77.1 | D38: Niet wenselijk en een mogelijke niet-functionele onveilige situatie (aanraakgevaar monteur). Echter is niet per definitie een onveilige situatie. Is namelijk afhankelijk van de situatie ter plekke. Op maaiveldniveau i.c.m. serviceluik ontbreekt, het type aansluitvoorziening en/of ontbrekende kap aansluitvoorziening kan dit een onveilige situatie zijn. | E38: D | F38: Herstellen tijdens Onderhoud/ Aanpassing | G38: Lichtmast D | H38: C | I38: Herstellen tijdens Onderhoud/ Aanpassing
A39: Patroonhouder in kast ontbreekt | B39: NEN3140/ NEN1010 | C39: 77.2 | D39: Niet wenselijk en een mogelijke niet-functionele onveilige situatie (aanraakgevaar monteur). Echter is niet per definitie een onveilige situatie. Is namelijk afhankelijk van de situatie ter plekke. Op maaiveldniveau i.c.m. serviceluik ontbreekt, het type aansluitvoorziening en/of ontbrekende kap aansluitvoorziening kan dit een onveilige situatie zijn. | E39: D | F39: Herstellen tijdens Onderhoud/ Aanpassing | G39: Lichtmast D | H39: C | I39: Herstellen tijdens Onderhoud/ Aanpassing
A40: Schakelen
A41: Hoofdschakelaar ontbreekt | B41: NEN 1010/ NEN 3140 | C41: 10 | D41: Niet wenselijk. Indien de hoofdschakelaar niet bereikbaar, onbekend of niet aanwezig is, dan kan de installatie niet op eenvoudige wijze spanningsloos worden gemaakt en kan dit leiden tot een onveilige situatie t.b.v. uitvoeren van eventuele werkzaamheden (niet voor het functioneren van de installatie). | E41: C | F41: Nader onderzoek + evt. Herstellen tijdens Onderhoud/ herstelactie (max. 6 maanden)
A42: Hoofdschakelaar op andere locatie aanwezig. | B42: NEN 1010/ NEN 3140 | C42: 11 | D42: Bij de aanwezigheid van de hoofdschakelaar in een andere kast, dient dit aangegeven zijn in de kast met een verwijzing naar de andere kast incl. het toepassen van het tag&lock-principe. | E42: B | F42: Nader onderzoek + Herstellen tijdens Onderhoud/ herstelactie (max. 3 maanden)
A43: Aparte hoofdschakelaar per installatie ontbreekt | B43: NEN 1010/ NEN 3140 | C43: 12 | D43: Indien hoofdschakelaar meerdere installaties schakelt, dient men ervan bewust te wezen en na te vragen of er een procedure m.b.t. schakelen aanwezig is en onder welke voorwaarden men mag schakelen. | E43: C | F43: Nader onderzoek + Herstellen tijdens Onderhoud/ herstelactie (max. 6 maanden) | J43: Betreft verdere invulling te krijgen in de vorm van een afspraak omtrent de schakelprocedure (coördinatie met DVM-contract)
A44: Waarde hoofdschakelaar niet correct | B44: NEN 1010/ NEN 3140 | C44: 95 | D44: Indien de schakelwaarde van de hoofdschakelaar niet correct is, is het mogelijk dat vonkbogen ontstaan c.q. storingen kunnen ontstaan. | E44: B | F44: Herstellen tijdens Onderhoud/ herstelactie (max. 3 maanden) | G44: Beveiligingen B Kabels B Aarding B | H44: A | I44: Definitief herstellen (ASAP)
A45: Waarde Hoofdschakelaar niet conform tekening | B45: NEN 1010/ NEN 3140 | C45: 96 | D45: Niet per definitie onveilig. Echter kan de bevinding op een potentieel onveilige situatie duiden. Deze bevinding behoeft aandacht en verder onderzoek om oorzaak/gevolg te achterhalen, aangezien de toegepaste waarde ook kan voldoen. | E45: C | F45: Nader onderzoek oorzaak/oplossing + Herstellen tijdens Onderhoud/ herstelactie (max. 3 maanden) | G45: ?? | H45: ?? | I45: ??
A46: Kabels
A47: Kabel onder spanning + niet afgemonteerd | B47: NEN 1010/ NEN 3140 | C47: 13 | D47: Onveilige situatie. Actie direct vereist om kabel veilig te stellen. | E47: A | F47: Veiligstellen c.q. Definitief herstellen
A48: aderisolatie doorschuren | B48: NEN 1010/ NEN 3140 | C48: 6 | D48: bevinding is op zich geen onveilige situatie. Echter kan wel in de toekomst onveilige situaties veroorzaken. Behandelen als onveilige situatie en veilig stellen. | E48: B | F48: Veiligstellen + Herstellen tijdens Onderhoud/ Herstelactie (max. 3 maanden) | G48: Beveiligingen B Kabels B Aarding B | H48: A | I48: Definitief herstellen (ASAP)
A49: aderisolatie doorschuren (buitenmantel + kabel onder spanning) | B49: NEN 1010/ NEN 3140 | C49: 6.1,1 | D49: bevinding is op zich geen onveilige situatie. Echter kan wel in de toekomst onveilige situaties veroorzaken. Behandelen als onveilige situatie en veilig stellen. | E49: B | F49: Veiligstellen + Herstellen tijdens Onderhoud/ Herstelactie (max. 3 maanden) | G49: Beveiligingen B Kabels B Aarding B | H49: A | I49: Definitief herstellen (ASAP)
A50: aderisolatie doorschuren (binnenmantel + kabel onder spanning) | B50: NEN 1010/ NEN 3140 | C50: 6.1,1 | D50: bevinding is op zich geen onveilige situatie. Echter kan wel in de toekomst onveilige situaties veroorzaken. Behandelen als onveilige situatie en veilig stellen. | E50: A | F50: Veiligstellen c.q. Definitief herstellen | G50: Beveiligingen B Kabels B Aarding B | H50: A | I50: Definitief herstellen (ASAP)
A51: aderisolatie doorschuren + kabel niet onder spanning | B51: NEN 1010/ NEN 3140 | C51: 6.2 | D51: bevinding is op zich geen onveilige situatie. Echter kan wel in de toekomst onveilige situaties veroorzaken. | E51: C | F51: Herstellen tijdens Onderhoud/ Aanpassing (max. 6 maanden) | G51: Beveiligingen C Kabels C Aarding C | H51: B | I51: Veiligstellen + Herstellen tijdens Onderhoud/ Herstelactie (max. 3 maanden)
A52: adres met ongelijke doorsnede onder een klem | B52: NEN 1010/ NEN 3140 | C52: 107 | D52: bevinding is afhankelijk van de situatie ter plekke. Echter is zeker een niet-wenselijke situatie. Kans bestaat dat aders niet goed vast zitten en voeding niet correct functioneert. Ter plekke dit controleren en eventueel vastzetten (tijdelijke oplossing). | E52: C | F52: Herstellen tijdens Onderhoud/ Aanpassing (max. 6 maanden) | G52: Beveiligingen C Kabels C Aarding C | H52: B | I52: Herstellen tijdens Onderhoud/ Herstelactie (max. 3 maanden)
A53: adres met ongelijke doorsnede onder een niet geschikte klem (fase/nul) | B53: NEN 1010/ NEN 3140 | C53: 107.1 | D53: bevinding is afhankelijk van de situatie ter plekke. Echter is zeker een niet-wenselijke situatie. Kans bestaat dat aders niet goed vast zitten en voeding niet correct functioneert. Ter plekke dit controleren en eventueel vastzetten (tijdelijke oplossing). | E53: C | F53: Herstellen tijdens Onderhoud/ Aanpassing (max. 6 maanden) | G53: Beveiligingen C Kabels C Aarding C | H53: B | I53: Herstellen tijdens Onderhoud/ Herstelactie (max. 3 maanden)
A54: adres met ongelijke doorsnede onder een geschikte klem (fase/nul) | B54: NEN 1010/ NEN 3140 | C54: 107.2 | D54: bevinding is afhankelijk van de situatie ter plekke. Echter is zeker een niet-wenselijke situatie, indien er nog voldoende klemmen beschikbaar zijn. | E54: D | F54: Herstellen tijdens Onderhoud/ Aanpassing
A55: aders met ongelijke doorsnede onder een klem (zwakstroom) | B55: NEN 1010/ NEN 3140 | C55: 107.3 | D55: bevinding is afhankelijk van de situatie ter plekke. Echter is zeker een niet-wenselijke situatie, indien er nog voldoende klemmen beschikbaar zijn. Kans bestaat dat aders niet goed vast zitten en onderdelen niet correct functioneren. Ter plekke dit controleren en eventueel vastzetten (tijdelijke oplossing). | E55: C | F55: Herstellen tijdens Onderhoud/ Aanpassing (max. 6 maanden)
A56: Kabeleind afwerking niet aanwezig/correct | B56: NEN 1010/ NEN 3140 | C56: 14 | D56: Niet wenselijk. Echter is niet per definitie een onveilige situatie. E.e.a. is afhankelijk van situatie en eventuele aanraakgevaar. | E56: C | F56: Herstellen tijdens Onderhoud/ Herstelactie (max. 6 maanden) | G56: Beveiligingen C Kabels C Aarding C | H56: B | I56: Herstellen tijdens Onderhoud/ Herstelactie (max. 6 maanden)
A57: Kabelligging onvoldoende diepte/ te diep | B57: NEN 1010/ NEN 3140 | C57: 15 | D57: Niet wenselijk. Echter is niet per definitie een onveilige situatie. E.e.a. is afhankelijk van risico op graafbevinding en grondverzakkingen | E57: D | F57: Herstellen tijdens Onderhoud/ Aanpassing
A58: Kabels onvoldoende of te veel overlengte | B58: NEN 1010/ NEN 3140 | C58: 26 | D58: Niet wenselijk. Echter is niet per definitie een onveilige situatie. Echter indien de kabels ook nog onder spanning (trek) staan, is dit een mogelijke onveilige situatie. Behandelen dan als onveilige situatie en nader onderzoek uitvoeren. | E58: D | F58: Herstellen tijdens Onderhoud/ Aanpassing
A59: Kabels onvoldoende lengte | B59: NEN 1010/ NEN 3140 | C59: 26.1 | D59: Niet wenselijk. Echter is niet per definitie een onveilige situatie. Echter indien de kabels ook nog onder spanning (trek) staan, is dit een mogelijke onveilige situatie. Behandelen dan als onveilige situatie en nader onderzoek uitvoeren. | E59: D | F59: Herstellen tijdens Onderhoud/ Aanpassing
A60: Kabels te veel overlengte | B60: NEN 1010/ NEN 3140 | C60: 26.2 | D60: Niet wenselijk. Echter is niet per definitie een onveilige situatie. Echter indien de kabels ook nog onder spanning (trek) staan, is dit een mogelijke onveilige situatie. Behandelen dan als onveilige situatie en nader onderzoek uitvoeren. | E60: D | F60: Herstellen tijdens Onderhoud/ Aanpassing
A61: Klemmen onder torsie | B61: NEN 1010/ NEN 3140 | C61: 27 | D61: Niet wenselijk. Echter is niet per definitie een onveilige situatie. Echter indien de kabels ook nog onder spanning (trek) staan of zichtbare bevinding/ vervorming klemmen, is dit een mogelijke onveilige situatie. Behandelen dan als onveilige situatie en nader onderzoek uitvoeren. | E61: B | F61: Nader onderzoek + Herstellen tijdens Onderhoud/ herstelactie (max. 3 maanden)
A62: Klemmen onder torsie (voeding, 220V) + kabel staat strak | B62: NEN 1010/ NEN 3140 | C62: 27.1.1 | D62: Niet wenselijk. Echter is niet per definitie een onveilige situatie. Echter indien de kabels ook nog onder spanning (trek) staan of zichtbare bevinding/ vervorming klemmen, is dit een mogelijke onveilige situatie. Behandelen dan als onveilige situatie en nader onderzoek uitvoeren. | E62: B | F62: Nader onderzoek + Herstellen tijdens Onderhoud/ herstelactie (max. 3 maanden) | G62: Beveiligingen B Kabels C Aarding B | H62: A | I62: Herstellen tijdens Onderhoud/ Herstelactie (max. 6 maanden)
A63: Klemmen onder torsie (voeding, 220V) + kabel staat niet strak | B63: NEN 1010/ NEN 3140 | C63: 27.1.2 | D63: Niet wenselijk. Echter is niet per definitie een onveilige situatie. Echter indien de kabels ook nog onder spanning (trek) staan of zichtbare bevinding/ vervorming klemmen, is dit een mogelijke onveilige situatie. Behandelen dan als onveilige situatie en nader onderzoek uitvoeren. | E63: C | F63: Nader onderzoek + Herstellen tijdens Onderhoud/ herstelactie (max. 3 maanden) | G63: Beveiligingen C Kabels C Aarding C | H63: B | I63: Herstellen tijdens Onderhoud/ Herstelactie (max. 6 maanden)
A64: Klemmen onder torsie (besturing, 24 V) | B64: NEN 1010/ NEN 3140 | C64: 27.2.1 | D64: Niet wenselijk. Echter is niet per definitie een onveilige situatie. We hebben te maken met een veilige spanning. | E64: C | F64: Nader onderzoek + Herstellen tijdens Onderhoud/ herstelactie (max. 3 maanden)
A65: Klemmen onder torsie (besturing, 24 V)+ kabel staat niet strak | B65: NEN 1010/ NEN 3140 | C65: 27.2.2 | D65: Niet wenselijk. Echter is niet per definitie een onveilige situatie. We hebben te maken met een veilige spanning. | E65: B | F65: Nader onderzoek + Herstellen tijdens Onderhoud/ herstelactie (max. 3 maanden)
A66: Trekontlasting ontbreekt/ niet correct aangebracht | B66: NEN 1010/ NEN 3140 | C66: 29 | D66: Niet wenselijk. Echter is niet per definitie een onveilige situatie. Echter indien de kabels ook nog onder spanning (trek) staan, is dit een mogelijke onveilige situatie. Behandelen dan als onveilige situatie en nader onderzoek uitvoeren. | E66: D | F66: Herstellen tijdens Onderhoud/ Aanpassing
A67: Uitdrogen isolatie aansluitsnoer | B67: NEN 1010/ NEN 3140 | C67: 69 | D67: Niet wenselijk, voldoet niet aan eisen gemeente Lansingerland/NEN 3140. Echter is niet per definitie een onveilige situatie. | E67: D | F67: Herstellen tijdens Onderhoud/ Aanpassing | J67: In eerste instantie is dit geen onveilige situatie. Echter op langere termijn kan dit leiden tot een onveilige situatie, maar dan is het de schade 89.
A68: Ontbreken isolatie kabels/aders (spanningsvoerend) | B68: NEN 1010/ NEN 3140 | C68: 70 | D68: Onveilige situatie. Actie direct vereist om Kabels/aders veilig te stellen. | E68: A | F68: Veiligstellen c.q. Definitief herstellen
A69: Beschadigde isolatie kabels/aders (spanningsvoerend, koper zichtbaar) | B69: NEN 1010/ NEN 3140 | C69: 70.1 | D69: Onveilige situatie. Actie direct vereist om Kabels/aders veilig te stellen. | E69: A | F69: Veiligstellen c.q. Definitief herstellen | J69: Dit aanleg c.q. herstel fouten van het niet netjes/onzorgvuldig werken bij bijvoorbeeld aanpellen van de kabel, bij het wegsnijden van materiaal per ongeluk de isolatie geraakt -> snee in isolatie of isloatie gedeltelijk weg, enz, enz.
A70: Gedeeltelijke ontbrekende isolatie kabels/aders (spanningsvoerend) | B70: NEN 1010/ NEN 3140 | C70: 70.2 | D70: Onveilige situatie. Actie direct vereist om Kabels/aders veilig te stellen. | E70: D | F70: Herstellen tijdens Onderhoud/ Aanpassing | J70: Niet juiste gemonteerde kabels/aders. Blanke aders teveel zichtbaar. Bijvoorbeeld als de kabel aangesloten is en het blanke gedeelte van de ader onder de klem is te lang, dan wordt dit zichtbaar bij ombuigen ader.
A71: Ontbreken complete isolatie kabels/aders (spanningsvoerend) | B71: NEN 1010/ NEN 3140 | C71: 70.3 | D71: Onveilige situatie. Actie direct vereist om Kabels/aders veilig te stellen. | E71: A | F71: Veiligstellen c.q. Definitief herstellen | J71: Verkeerde kabels/aders gebruikt
A72: Kabels gekruist in kast aangesloten | B72: NEN3140/ NEN1010 | C72: 91 | D72: Geen onveilig situatie. Wel lastig voor storingsherstel c.q. inspecties. | E72: D | F72: Herstellen tijdens Onderhoud/ Aanpassing
A73: Isolatieweerstand L-N niet correct | B73: NEN3140/ NEN1011 | C73: 104 | D73: Niet wenselijk, voldoet niet aan eisen gemeente Lansingerland/NEN 3140. Echter is niet per definitie een onveilige situatie. Wel een verhoogde kans op kortsluiting/storingen. | E73: B | F73: Nader onderzoek + Herstellen tijdens Onderhoud/ herstelactie (max. 3 maanden) | G73: Beveiligingen B Kabels B Aarding B | H73: A | I73: Definitief herstellen (ASAP)
A74: Isolatieweerstand L-PE niet correct | B74: NEN3140/ NEN1012 | C74: 105 | D74: Niet wenselijk, voldoet niet aan eisen gemeente Lansingerland/NEN 3140. Echter is niet per definitie een onveilige situatie. Wel een verhoogde kans op kortsluiting/storingen. | E74: B | F74: Nader onderzoek + Herstellen tijdens Onderhoud/ herstelactie (max. 3 maanden) | G74: Beveiligingen B Kabels B Aarding B | H74: A | I74: Definitief herstellen (ASAP)
A75: Ontbreken isolatie kabels/aders (Spanningsloos) | B75: NEN 1010/ NEN 3140 | C75: 71 | D75: Niet wenselijk, voldoet niet aan eisen gemeente Lansingerland/NEN 3140. Echter is niet per definitie een onveilige situatie. Gaan hierbij uit dat dit veiliggestelde (afgetapt) en/of afgekoppelde kabels/aders zijn. Echter pas na meting te bepalen of aders spanningsvoerend zijn of niet. Niet veiliggestelde kabels/aders behandelen als spanningsvoerende kabels -> veilig stellen kabels/aders. | E75: B | F75: Evt. Veiligstellen + Herstellen tijdens Onderhoud/ herstelactie (max. 3 maanden)
A76: Ontbreken isolatie kabels/aders (Spanningsloos + afgeschermd) | B76: NEN 1010/ NEN 3141 | C76: 71.1 | D76: Niet wenselijk, voldoet niet aan eisen gemeente Lansingerland/NEN 3140. Echter is niet per definitie een onveilige situatie. Gaan hierbij uit dat dit veiliggestelde (afgetapt) en/of afgekoppelde kabels/aders zijn. | E76: C | F76: Herstellen tijdens Onderhoud/ Herstelactie (max. 6 maanden) | J76: Het betreft hier losse kabels
A77: Ontbreken isolatie kabels/aders (Spanningsloos + niet-afgeschermd) | B77: NEN 1010/ NEN 3140 | C77: 71.2 | D77: Niet wenselijk, voldoet niet aan eisen gemeente Lansingerland/NEN 3140. Echter is niet per definitie een onveilige situatie. Gaan hierbij uit dat dit veiliggestelde (afgetapt) en/of afgekoppelde kabels/aders zijn. Echter pas na meting te bepalen of aders spanningsvoerend zijn of niet. Niet veiliggestelde kabels/aders behandelen als spanningsvoerende kabels -> veilig stellen kabels/aders. | E77: B | F77: Evt. Veiligstellen + Herstellen tijdens Onderhoud/ herstelactie (max. 3 maanden) | J77: Het betreft hier losse kabels
A78: Coderingen
A79: Kastnummer ontbreekt | B79: NEN 1010/ NEN 3140 | C79: 16 | D79: Niet wenselijk. Echter is niet per definitie een onveilige situatie. Is wel lastig voor de bedrijfsvoering. | E79: D | F79: Herstellen tijdens Onderhoud/ Aanpassing
A80: Coderingen aansluitklemmen/rails ontbreekt | B80: NEN 1010/ NEN 3140 | C80: 21 | D80: Niet wenselijk. Echter is niet per definitie een onveilige situatie. Echter in combinatie met kleurcoderingen kabels t.o.v. toegepaste norm (NEN1010/VDL- kleurcodering aanwezig in areaal) niet correct, dient men dit wel te behandelen als een onveilige situatie. | E80: D | F80: Herstellen tijdens Onderhoud/ Aanpassing
A81: Coderingen aansluitklemmen/rails niet correct. | B81: NEN 1010/ NEN 3140 | C81: 22 | D81: Niet wenselijk. Echter is niet per definitie een onveilige situatie. | E81: D | F81: Herstellen tijdens Onderhoud/ Aanpassing | G81: Coderingen D Documentatie D | H81: C | I81: Herstellen tijdens Onderhoud/ Aanpassing
A82: Coderingen kast onderdelen ontbreekt | B82: NEN 1010/ NEN 3140 | C82: 23 | D82: Niet wenselijk. Echter is niet per definitie een onveilige situatie. | E82: D | F82: Herstellen tijdens Onderhoud/ Aanpassing
A83: Coderingen kast onderdelen niet correct | B83: NEN 1010/ NEN 3140 | C83: 24 | D83: Niet wenselijk. Echter is niet per definitie een onveilige situatie. | E83: D | F83: Herstellen tijdens Onderhoud/ Aanpassing | G83: Coderingen D Documentatie D | H83: C | I83: Herstellen tijdens Onderhoud/ Aanpassing
A84: Documentatie
A85: Tekening ontbreekt in kast | B85: NEN 1010/ NEN 3140 | C85: 17 | D85: Niet wenselijk. Echter is niet per definitie een onveilige situatie. Staat mogelijk wel snelle storingsoplossing in de weg | E85: C | F85: Herstellen tijdens Onderhoud/ Herstelactie (max. 6 maanden) | G85: Coderingen C Documentatie C | H85: B | I85: Herstellen tijdens Onderhoud/ Herstelactie (max. 6 maanden)
A86: Tekening ontbreekt in kast, kastpakket niet compleet (cruciaal) | B86: NEN 1010/ NEN 3140 | C86: 17.1.1 | D86: Niet wenselijk. Echter is niet per definitie een onveilige situatie. Staat mogelijk wel snelle storingsoplossing in de weg | E86: C | F86: Herstellen tijdens Onderhoud/ Herstelactie (max. 6 maanden) | G86: Coderingen C Documentatie C | H86: B | I86: Herstellen tijdens Onderhoud/ Herstelactie (max. 3 maanden)
A87: Tekening ontbreekt in kast, kastpakket niet compleet (niet-cruciaal) | B87: NEN 1010/ NEN 3140 | C87: 17.1.2 | D87: Niet wenselijk. Echter is niet per definitie een onveilige situatie. Staat mogelijk wel snelle storingsoplossing in de weg | E87: D | F87: Herstellen tijdens Onderhoud/ Aanpassing | G87: Coderingen C Documentatie C | H87: C | I87: Herstellen tijdens Onderhoud/ Herstelactie (max. 6 maanden)
A88: Tekening ontbreekt, kastpakket niet compleet (Cruciaal) | B88: NEN 1010/ NEN 3140 | C88: 17.2.1 | D88: Niet wenselijk. Echter is niet per definitie een onveilige situatie. Staat mogelijk wel snelle storingsoplossing in de weg | E88: C | F88: Herstellen tijdens Onderhoud/ Herstelactie (max. 6 maanden) | G88: Coderingen C Documentatie C | H88: B | I88: Herstellen tijdens Onderhoud/ Herstelactie (max. 3 maanden) | J88: Betreft hier het niet aanwezig wezen van cruciale tekeningen in het tekeningenpakket (digitaal of op papier) waardoor storingswerkzaamheden worden bemoeilijkt
A89: Tekening ontbreekt, kastpakket niet compleet (Niet-cruciaal) | B89: NEN 1010/ NEN 3140 | C89: 17.2.2 | D89: Niet wenselijk. Echter is niet per definitie een onveilige situatie. Staat mogelijk wel snelle storingsoplossing in de weg | E89: D | F89: Herstellen tijdens Onderhoud/ Aanpassing | G89: Coderingen C Documentatie C | H89: C | I89: Herstellen tijdens Onderhoud/ Herstelactie (max. 6 maanden) | J89: Betreft hier het niet aanwezig wezen van niet-cruciale tekeningen in het tekeningenpakket (digitaal of op papier). Storingswerkzaamheden worden hierdoor niet bemoeilijkt
A90: Tekeningpakket ontbreekt/ niet aanwezig | B90: NEN 1010/ NEN 3140 | C90: 18 | D90: Niet wenselijk. Echter is niet per definitie een onveilige situatie. Is lastig om onderwerpen te controleren/ te beoordelen. | E90: B | F90: Herstellen tijdens Onderhoud/ herstelactie (max. 3 maanden) | J90: Betreft hier het niet aanwezig wezen van het totale tekeningenpakket (digitaal of op papier)
A91: Tekeningpakket ontbreekt/ niet aanwezig | B91: NEN 1010/ NEN 3140 | C91: 18.1 | D91: Niet wenselijk. Echter is niet per definitie een onveilige situatie. Is lastig om onderwerpen te controleren/ te beoordelen. | E91: B | F91: Herstellen tijdens Onderhoud/ herstelactie (max. 3 maanden) | J91: Betreft hier het niet aanwezig wezen van het totale tekeningenpakket (digitaal of op papier)
A92: Tekeningpakket niet aanwezig in kast | B92: NEN 1010/ NEN 3140 | C92: 18.2 | D92: Niet wenselijk. Echter is niet per definitie een onveilige situatie. Is lastig om onderwerpen te controleren/ te beoordelen. | E92: C | F92: Herstellen tijdens Onderhoud/ Herstelactie (max. 6 maanden) | J92: Betreft hier het niet aanwezig wezen van het totale tekeningenpakket in de kast. Gegevens zijn wel aanwezig.
A93: Tekeningenpakket/ tekening in de kast niet up to date | B93: NEN 1010/ NEN 3140 | C93: 19 | D93: Niet wenselijk. Echter is niet per definitie een onveilige situatie. Staat mogelijk wel snelle storingsoplossing in de weg en maakt het lastiger om onderwerpen te controleren/ te beoordelen. | E93: B | F93: Herstellen tijdens Onderhoud/ Herstelactie (max. 3 maanden)
A94: Tekeningenpakket in de kast niet up to date (roodrevisie) | B94: NEN 1010/ NEN 3140 | C94: 19.1.1 | D94: Niet wenselijk. Echter is niet per definitie een onveilige situatie. Staat mogelijk wel snelle storingsoplossing in de weg en maakt het lastiger om onderwerpen te controleren/ te beoordelen. | E94: D | F94: Herstellen tijdens Onderhoud/ Aanpassing
A95: Tekeningpakket in de kast niet up to date (roodrevisie en tekening klopt niet) | B95: NEN 1010/ NEN 3140 | C95: 19.1.2 | D95: Niet wenselijk. Echter is niet per definitie een onveilige situatie. Staat mogelijk wel snelle storingsoplossing in de weg en maakt het lastiger om onderwerpen te controleren/ te beoordelen. | E95: B | F95: Herstellen tijdens Onderhoud/ herstelactie (max. 3 maanden)
A96: Tekeningpakket in de kast niet up to date (geen roodrevisie) | B96: NEN 1010/ NEN 3140 | C96: 19.1.3 | D96: Niet wenselijk. Echter is niet per definitie een onveilige situatie. Staat mogelijk wel snelle storingsoplossing in de weg en maakt het lastiger om onderwerpen te controleren/ te beoordelen. | E96: C | F96: Herstellen tijdens Onderhoud/ Herstelactie (max. 6 maanden)
A97: Tekening in de kast niet up to date (roodrevisie) | B97: NEN 1010/ NEN 3140 | C97: 19.2.1 | D97: Niet wenselijk. Echter is niet per definitie een onveilige situatie. Staat mogelijk wel snelle storingsoplossing in de weg en maakt het lastiger om onderwerpen te controleren/ te beoordelen. | E97: D | F97: Herstellen tijdens Onderhoud/ Aanpassing
A98: Tekening in de kast niet up to date (roodrevisie en tekening klopt niet) | B98: NEN 1010/ NEN 3140 | C98: 19.2.2 | D98: Niet wenselijk. Echter is niet per definitie een onveilige situatie. Staat mogelijk wel snelle storingsoplossing in de weg en maakt het lastiger om onderwerpen te controleren/ te beoordelen. | E98: B | F98: Herstellen tijdens Onderhoud/ herstelactie (max. 3 maanden)
A99: Tekening in de kast niet up to date (geen roodrevisie) | B99: NEN 1010/ NEN 3140 | C99: 19.2.3 | D99: Niet wenselijk. Echter is niet per definitie een onveilige situatie. Staat mogelijk wel snelle storingsoplossing in de weg en maakt het lastiger om onderwerpen te controleren/ te beoordelen. | E99: C | F99: Herstellen tijdens Onderhoud/ Herstelactie (max. 6 maanden)
A100: Werk- en beheergrenzen zijn niet eenduidig | B100: bedrijfszekerheid | C100: 52 | D100: Er zijn drie varianten van werk- en beheergrenzen in de omloop wat het onherroepelijk leidt tot misverstanden tijden het uitvoeren van de onderhoudswerkzaamheden | E100: D | F100: Nader onderzoek en vastlegging Grenzen
A101: Werk- en beheergrenzen contract IVOW zijn niet eenduidig (Tussen onderdelen gemeente Lansingerland) | B101: bedrijfszekerheid | C101: 52.1 | D101: Er zijn drie varianten van werk- en beheergrenzen in de omloop wat het onherroepelijk leidt tot misverstanden tijden het uitvoeren van de onderhoudswerkzaamheden | E101: D | F101: Nader onderzoek en vastlegging Grenzen d.m.v. Standaard coordinatie-overleg
...
