Workbook
Name LAQ: [1]Superformule!$K$22
Name Maximaal: '[1]HULP-velden'!$L$20
Name Percentage_Qeisen: '[1]HULP-velden'!$J$80

Sheet Samenvatting
B2: Europese aanbesteding
B3: All-in Arbo ICT werkplekonderhoud, inclusief levering
B4: Samenvatting
B5: IUC22-024
B6: (Prijzen exclusief BTW)
C8: Naam inschrijver:
B13: 1 | C13: Hardware & Software | F13: ='1. Hardware & Software'!B33 -> 0
B14: 2 | C14: Uurtarieven | F14: ='2.Uurtarieven'!D16 -> 0
B15: 3 | C15: Onderhoud & Support Installed Base | F15: ='3. O&S installed base'!B28 -> 0
C18: Vergelijkingswaarde t.b.v. BPK-formule (Pi) | F18: =SUM(F13:F15) -> 0

Sheet 1. Hardware & Software
A2: Europese Aanbesteding
A3: Bijlage 8: Prijsmodel
A4: "All-in Arbo ICT werkplekonderhoud, inclusief levering"
A5: Kenmerk: IUC22-024
A6: 1. Hardware & Software
A7: Referentieartikelen Arbo ICT werkplek
A9: Categorie | B9: Artikelnaam (of gelijkwaardig) | C9: Producent | D9: Uw artikelnaam | E9: Uw producent | F9: Indicatie aantallen initielecontract periode | G9: Prijs Per stuk | H9: Prijs totaal
A11: Hardware | B11: Brailleleesregel 14 cellig | C11: Focus V5-14 | F11: 2 | H11: =F11*G11 -> 0
A12: Hardware | B12: Brailleleesregel 40 cellig | C12: Focus V5-40 | F12: 3 | H12: =F12*G12 -> 0
A13: Hardware | B13: Brailleleesregel 80 cellig | C13: Focus V5-80 | F13: 10 | H13: =F13*G13 -> 0
A14: Hardware | B14: Standaard voor Brailleleesregel 80 cellig | C14: Focus V5-80 keybord stand | F14: 1 | H14: =F14*G14 -> 0
A15: Hardware | B15: Brailleprinter | C15: Index Everest | F15: 5 | H15: =F15*G15 -> 0
A16: Hardware | B16: Braille type machine | C16: Perkins | F16: 1 | H16: =F16*G16 -> 0
A17: Hardware | B17: Loep 10 inch | C17: Compact 10 HD met spraak | F17: 15 | H17: =F17*G17 -> 0
A18: Hardware | B18: Beeldschermloep 24 inch met spraakmodule | C18: CVC Speech | F18: 2 | H18: =F18*G18 -> 0
A19: Hardware | B19: Beeldschermloep 22 inch met spraakmodule | C19: CVC Speech | F19: 3 | H19: =F19*G19 -> 0
A20: Hardware | B20: Toetsenbord voor vergrotingsoftware | C20: diverse types | F20: 80 | H20: =F20*G20 -> 0
A21: 50 | B21: Monitor 27" | C21: diverse types | F21: 50 | H21: =F21*G21 -> 0
A22: Hardware | B22: Headset | C22: Jabra en Plantronics | F22: 80 | H22: =F22*G22 -> 0
A24: Software | B24: Braille met spraak | C24: Fusion Enterprise 5-user | F24: 2 | H24: =F24*G24 -> 0
A25: Software | B25: Braille met spraak | C25: Fusion single version | F25: 2 | H25: =F25*G25 -> 0
A26: Software | B26: Brailleprintsoftware | C26: Duxburry | F26: 2 | H26: =F26*G26 -> 0
A27: Software | B27: Vergrotingssoftware | C27: Supernova corperate V20 | F27: 40 | H27: =F27*G27 -> 0
A28: Software | B28: Vergrotingssoftware | C28: Fusion Enterprise 5-user | F28: 2 | H28: =F28*G28 -> 0
A29: Software | B29: Spraak invoer | C29: Dragon Naturally Speaking Corporate | F29: 30 | H29: =F29*G29 -> 0
A30: Software | B30: Spraak invoer | C30: Dragon Naturally Speaking Corporate single user licentie | F30: 1 | H30: =F30*G30 -> 0
A31: Software | B31: Spraakuitvoer | C31: Spika en Claroread | F31: 7 | H31: =F31*G31 -> 0
A33: Ten behoeve van vergelijkingswaarde | B33: =SUM(H11:H31) -> 0

Sheet 2.Uurtarieven
A3: Europese aanbesteding
A4: All-in Arbo ICT werkplekonderhoud, inclusief levering
A6: Kenmerk: IUC22-024
A7: (Prijzen en Tarieven exclusief BTW)
A8: 2. Uurtarieven
A11: Categorie | B11: Tarief | C11: Uren | D11: Subtotaal
A12: Installatie Hardware & Software | C12: 40 | D12: =B12*C12 -> 0
A13: Werkplek scholing | C13: 250 | D13: =B13*C13 -> 0
A14: Testen Releases & Maatwerk | C14: 250 | D14: =B14*C14 -> 0
A15: Consultancy | C15: 10 | D15: =B15*C15 -> 0
A16: Ten behoeve van vergelijkingswaarde | D16: =SUM(D12:D15) -> 0
A17: Indien de consultancy gratis is, dan mag er de waarde '0' (nul) worden ingevuld.
A20: Aan het aantal geschatte af te nemen uren kunnen geen rechten worden ontleend.
A21: Tevens geldt dat er geen afnameverplichting is

Sheet 3. O&S installed base
A2: Europese Aanbesteding
A3: Bijlage 8: Prijsmodel
A4: "All-in Arbo ICT werkplekonderhoud, inclusief levering"
A5: Kenmerk: IUC22-024
A6: 3. Onderhoud support installed Base
A7: Installed base Arbo ICT werkplek
A9: Categorie | B9: Artikelnaam | C9: Producent | D9: Aantal | E9: Prijs per stuk per jaar | F9: Prijs totaal initiele contractperiode
A11: Hardware | B11: Brailleleesregel 14 cellig | C11: Focus V5-14 | D11: 2 | F11: =(D11*E11)*2 -> 0
A12: Hardware | B12: Brailleleesregel 40 cellig | C12: Focus V5-40 | D12: 3 | F12: =(D12*E12)*2 -> 0
A13: Hardware | B13: Brailleleesregel 80 cellig | C13: Focus V5-80 | D13: 10 | F13: =(D13*E13)*2 -> 0
A14: Hardware | B14: Standaard voor Brailleleesregel 80 cellig | C14: Focus V5-80 keybord stand | D14: 11 | F14: =(D14*E14)*2 -> 0
A15: Hardware | B15: Brailleprinter | C15: Index Everest | D15: 5 | F15: =(D15*E15)*2 -> 0
A16: Hardware | B16: Braille type machine | C16: Perkins | D16: 1 | F16: =(D16*E16)*2 -> 0
E17: Prijs per update / renewal per jaar
A18: Software | B18: Braille met spraak | C18: Fusion Enterprise 5-user | D18: 2 | F18: =(E18*D18)*2 -> 0
A19: Software | B19: Braille met spraak | C19: Fusion single version | D19: 6 | F19: =(E19*D19)*2 -> 0
A20: Software | B20: Brailleprintsoftware | C20: Duxburry | D20: 5 | F20: =(E20*D20)*2 -> 0
A21: Software | B21: Vergrotingssoftware | C21: Supernova corperate V20 | D21: 102 | F21: =(E21*D21)*2 -> 0
A22: Software | B22: Vergrotingssoftware | C22: Fusion Enterprise 5-user | D22: 5 | F22: =(E22*D22)*2 -> 0
A23: Software | B23: Spraak invoer | C23: Dragon Naturally Speaking Corporate | D23: 95 | F23: =(E23*D23)*2 -> 0
A24: Software | B24: Spraak invoer | C24: Dragon Naturally Speaking Corporate single user licentie | D24: 1 | F24: =(E24*D24)*2 -> 0
A25: Software | B25: Spraakuitvoer | C25: Spika en Claroread | D25: 13 | F25: =(E25*D25)*2 -> 0
A26: Software | B26: Dyslexie font (Subscription) | C26: Enterprise licentie (tot 30,000) gebruikers | D26: 1 | F26: =(E26*D26)*2 -> 0
A28: Ten behoeve van Vergelijkinswaarde | B28: =SUM(F11:F26) -> 0

Sheet Blad1

Sheet BPK-Grafiek
B2: Europese Aanbesteding
B3: "All-in Arbo ICT werkplekonderhoud, inclusief levering"
B4: BPK-Grafiek
B5: Kenmerk: IUC22-024
D8: Vergelijkingswaarde | F8: =Samenvatting!F18 -> 0
D10: Indicatie eigen score | F10: Score Kwaliteit | G10: Procenten
D11: Kwaliteit in eisen | F11: =+DATA!G41 -> 150 | G11: =+F11/DATA!$G$40*100 -> 60 | H11: %
D12: Eigen inschatting score kwaliteit *1 | G12: =+F12/DATA!$G$40*100 -> 0 | H12: %
E13: Totaal kwaliteit | F13: =SUM(F11:F12) -> 150 | G13: =SUM(G11:G12) -> 60 | H13: %
D14: Indicatie BPK-score | F14: =+DATA!E7 -> 0.625
D15: *1 | E15: ="Eigen inschatting door Inschrijver. Waarde tussen 0 en "&F19&" punten." -> Eigen inschatting door Inschrijver. Waarde tussen 0 en 100 punten.
D17: Opbouw Score voor kwaliteit | F17: Punten | G17: Procenten
D18: Eisen | F18: =DATA!G41 -> 150 | G18: =+F18/DATA!$G$40*100 -> 60 | H18: %
D19: Wensen | F19: =DATA!G42 -> 100 | G19: =+F19/DATA!$G$40*100 -> 40 | H19: %
D20: Totaal | F20: =SUM(F18:F19) -> 250 | G20: =+F20/DATA!$G$40*100 -> 100 | H20: %
C82: Totaal kwaliteit | E82: 1650 | F82: =+E82/Qmax*100 -> #NAME? | G82: %

Sheet DATA
B2: Hulpdata Grafiek Superformule
B6: Hulpvelden
B7: Uw inschrijving | C7: =+'BPK-Grafiek'!$F$8 -> 0 | D7: =+'BPK-Grafiek'!$F$13 -> 150 | E7: =IFERROR((0.5*($C$7/$G$38)^$F$38+0.5*(2-$D$7/$H$38)^$F$38)^(1/$F$38),0) -> 0.625 | F7: =+D7/G40*100 -> 60
B9: LET OP !!! | C9: Voordat de TAB-bladen "TBV PRIJSMODEL (1)" EN "TBV PRIJSMODEL (2)" gekopieerd worden kan naar het Prijsmodel, moeten eerst onderstaande waarden ( oranje velden ) worden geselecteerd en worden gekopieerd en geplakt worden als WAARDEN (ctrl-C, plakken speciaal "waarden")
B11: EVMI-punten | C11: P | D11: Q | E11: EMVI
B12: Ref | C12: 370000 | D12: 200 | E12: 1
B13: Ref (boven) | C13: 462500 | D13: 250 | E13: 1
B14: Ref (onder) | C14: 0 | D14: 0 | E14: 1
B16: EMVI-lijnen
C17: hulp=Q bij P=0 | D17: 0 | E17: 0.0125 | F17: 0.025 | G17: 0.05 | H17: 0.1 | I17: 0.15 | J17: 0.2 | K17: 0.25 | L17: 0.3 | M17: 0.35 | N17: 0.4 | O17: 0.45 | P17: 0.5 | Q17: 0.55 | R17: 0.6 | S17: 0.65 | T17: 0.7 | U17: 0.75 | V17: 0.8 | W17: 0.85 | X17: 0.9 | Y17: 0.95 | Z17: 1 | AA17: 0
B18: Q berekend bij P=0 en EMVI=1 | C18: 0 | D18: 0 | E18: 3.125 | F18: 6.25 | G18: 12.5 | H18: 25 | I18: 37.5 | J18: 50 | K18: 62.5 | L18: 75 | M18: 87.5 | N18: 100 | O18: 112.5 | P18: 125 | Q18: 137.5 | R18: 150 | S18: 162.5 | T18: 175 | U18: 187.5 | V18: 200 | W18: 212.5 | X18: 225 | Y18: 237.5 | Z18: 250 | AA18: EMVI
B19: P berekend uit Q en EMVI=1 | D19: 0 | E19: 5781.25 | F19: 11562.5 | G19: 23125 | H19: 46250 | I19: 69375 | J19: 92500 | K19: 115625 | L19: 138750 | M19: 161875 | N19: 185000 | O19: 208125 | P19: 231250 | Q19: 254375 | R19: 277500 | S19: 300625 | T19: 323750 | U19: 346875 | V19: 370000 | W19: 393125 | X19: 416250 | Y19: 439375 | Z19: 462500 | AA19: 1
D20: 0 | E20: 1.25 | F20: 2.5 | G20: 5 | H20: 10 | I20: 15 | J20: 20 | K20: 25 | L20: 30 | M20: 35 | N20: 40 | O20: 45 | P20: 50 | Q20: 55 | R20: 60 | S20: 65 | T20: 70 | U20: 75 | V20: 80 | W20: 85 | X20: 90 | Y20: 95 | Z20: 100 | AA20: 0
B21: Q berekend bij P=0 en EMVI=0,9 | C21: 40 | D21: 40 | E21: 42.625 | F21: 45.25 | G21: 50.5 | H21: 61 | I21: 71.5 | J21: 82 | K21: 92.5 | L21: 103 | M21: 113.5 | N21: 124 | O21: 134.5 | P21: 145 | Q21: 155.5 | R21: 166 | S21: 176.5 | T21: 187 | U21: 197.5 | V21: 208 | W21: 218.5 | X21: 229 | Y21: 239.5 | Z21: 250 | AA21: EMVI
B22: P berekend uit Q en EMVI=0,9 | D22: 0 | E22: 4856.25 | F22: 9712.5 | G22: 19425 | H22: 38850 | I22: 58275 | J22: 77700 | K22: 97125 | L22: 116550 | M22: 135975 | N22: 155400 | O22: 174825 | P22: 194250 | Q22: 213675 | R22: 233100 | S22: 252525 | T22: 271950 | U22: 291375 | V22: 310800 | W22: 330225 | X22: 349650 | Y22: 369075 | Z22: 388500 | AA22: 0.9
D23: 16 | E23: 17.05 | F23: 18.1 | G23: 20.2 | H23: 24.4 | I23: 28.6 | J23: 32.8 | K23: 37 | L23: 41.2 | M23: 45.4 | N23: 49.6 | O23: 53.8 | P23: 58 | Q23: 62.2 | R23: 66.4 | S23: 70.6 | T23: 74.8 | U23: 79 | V23: 83.2 | W23: 87.4 | X23: 91.6 | Y23: 95.8 | Z23: 100 | AA23: 0
B24: Q berekend bij P=0 en EMVI=0,8 | C24: 80 | D24: 80 | E24: 82.125 | F24: 84.25 | G24: 88.5 | H24: 97 | I24: 105.5 | J24: 114 | K24: 122.5 | L24: 131 | M24: 139.5 | N24: 148 | O24: 156.5 | P24: 165 | Q24: 173.5 | R24: 182 | S24: 190.5 | T24: 199 | U24: 207.5 | V24: 216 | W24: 224.5 | X24: 233 | Y24: 241.5 | Z24: 250 | AA24: EMVI
B25: P berekend uit Q en EMVI=0,8 | D25: 0 | E25: 3931.25 | F25: 7862.5 | G25: 15725 | H25: 31450 | I25: 47175 | J25: 62900 | K25: 78625 | L25: 94350 | M25: 110075 | N25: 125800 | O25: 141525 | P25: 157250 | Q25: 172975 | R25: 188700 | S25: 204425 | T25: 220150 | U25: 235875 | V25: 251600 | W25: 267325 | X25: 283050 | Y25: 298775 | Z25: 314500 | AA25: 0.8
D26: 32 | E26: 32.85 | F26: 33.7 | G26: 35.4 | H26: 38.8 | I26: 42.2 | J26: 45.6 | K26: 49 | L26: 52.4 | M26: 55.8 | N26: 59.2 | O26: 62.6 | P26: 66 | Q26: 69.4 | R26: 72.8 | S26: 76.2 | T26: 79.6 | U26: 83 | V26: 86.4 | W26: 89.8 | X26: 93.2 | Y26: 96.6 | Z26: 100
B27: Q berekend bij P=0 en EMVI=0,7 | C27: 120 | D27: 120 | E27: 121.625 | F27: 123.25 | G27: 126.5 | H27: 133 | I27: 139.5 | J27: 146 | K27: 152.5 | L27: 159 | M27: 165.5 | N27: 172 | O27: 178.5 | P27: 185 | Q27: 191.5 | R27: 198 | S27: 204.5 | T27: 211 | U27: 217.5 | V27: 224 | W27: 230.5 | X27: 237 | Y27: 243.5 | Z27: 250 | AA27: EMVI
B28: P berekend uit Q en EMVI=0,7 | D28: 0 | E28: 3006.25 | F28: 6012.5 | G28: 12025 | H28: 24050 | I28: 36075 | J28: 48100 | K28: 60125 | L28: 72150 | M28: 84175 | N28: 96200 | O28: 108225 | P28: 120250 | Q28: 132275 | R28: 144300 | S28: 156325 | T28: 168350 | U28: 180375 | V28: 192400 | W28: 204425 | X28: 216450 | Y28: 228475 | Z28: 240500 | AA28: 0.7
D29: 48 | E29: 48.65 | F29: 49.3 | G29: 50.6 | H29: 53.2 | I29: 55.8 | J29: 58.4 | K29: 61 | L29: 63.6 | M29: 66.2 | N29: 68.8 | O29: 71.4 | P29: 74 | Q29: 76.6 | R29: 79.2 | S29: 81.8 | T29: 84.4 | U29: 87 | V29: 89.6 | W29: 92.2 | X29: 94.8 | Y29: 97.4 | Z29: 100 | AA29: 0
B30: Q berekend bij P=0 en EMVI=0,6 | C30: 160 | D30: 160 | E30: 161.125 | F30: 162.25 | G30: 164.5 | H30: 169 | I30: 173.5 | J30: 178 | K30: 182.5 | L30: 187 | M30: 191.5 | N30: 196 | O30: 200.5 | P30: 205 | Q30: 209.5 | R30: 214 | S30: 218.5 | T30: 223 | U30: 227.5 | V30: 232 | W30: 236.5 | X30: 241 | Y30: 245.5 | Z30: 250 | AA30: EMVI
B31: P berekend uit Q en EMVI=0,6 | D31: 0 | E31: 2081.25 | F31: 4162.5 | G31: 8325 | H31: 16650 | I31: 24975 | J31: 33300 | K31: 41625 | L31: 49950 | M31: 58275 | N31: 66600 | O31: 74925 | P31: 83250 | Q31: 91575 | R31: 99900 | S31: 108225 | T31: 116550 | U31: 124875 | V31: 133200 | W31: 141525 | X31: 149850 | Y31: 158175 | Z31: 166500 | AA31: 0.6
D32: 64 | E32: 64.45 | F32: 64.9 | G32: 65.8 | H32: 67.6 | I32: 69.4 | J32: 71.2 | K32: 73 | L32: 74.8 | M32: 76.6 | N32: 78.4 | O32: 80.2 | P32: 82 | Q32: 83.8 | R32: 85.6 | S32: 87.4 | T32: 89.2 | U32: 91 | V32: 92.8 | W32: 94.6 | X32: 96.4 | Y32: 98.2 | Z32: 100
B33: Q berekend bij P=0 en EMVI=1,1 | C33: -40 | D33: -40 | E33: -36.375 | F33: -32.75 | G33: -25.5 | H33: -11 | I33: 3.5 | J33: 18 | K33: 32.5 | L33: 47 | M33: 61.5 | N33: 76 | O33: 90.5 | P33: 105 | Q33: 119.5 | R33: 134 | S33: 148.5 | T33: 163 | U33: 177.5 | V33: 192 | W33: 206.5 | X33: 221 | Y33: 235.5 | Z33: 250 | AA33: EMVI
B34: P berekend uit Q en EMVI=1,1 | D34: 0 | E34: 6706.25 | F34: 13412.5 | G34: 26825 | H34: 53650 | I34: 80475 | J34: 107300 | K34: 134125 | L34: 160950 | M34: 187775 | N34: 214600 | O34: 241425 | P34: 268250 | Q34: 295075 | R34: 321900 | S34: 348725 | T34: 375550 | U34: 402375 | V34: 429200 | W34: 456025 | X34: 482850 | Y34: 509675 | Z34: 536500 | AA34: 1.1
D35: -16 | E35: -14.55 | F35: -13.1 | G35: -10.2 | H35: -4.4 | I35: 1.4 | J35: 7.2 | K35: 13 | L35: 18.8 | M35: 24.6 | N35: 30.4 | O35: 36.2 | P35: 42 | Q35: 47.8 | R35: 53.6 | S35: 59.4 | T35: 65.2 | U35: 71 | V35: 76.8 | W35: 82.6 | X35: 88.4 | Y35: 94.2 | Z35: 100 | AA35: 0
B37: Hulpvelden t.b.v grafiek | F37: Exponent | G37: Pref | H37: Qref
B38: Referentie | C38: 370000 | D38: 80 | F38: 1 | G38: 370000 | H38: 200
B39: Referentie (Qmax) | C39: 462500 | D39: 100
B40: Qmax | C40: 100 | D40: 100 | F40: Qmax | G40: 250
B41: Qmin | C41: 60 | D41: 60 | F41: Qmin | G41: 150
B42: Qref | C42: 80 | D42: 80 | F42: Qwensen | G42: 100
B43: P | C43: 0 | D43: 740000 | F43: LAQ | G43: -10 | H43: -10 | I43: genormaliseerd
B44: Bonus (extra) | C44: 160 | D44: 160 | F44: LAQ (norm) | G44: -4 | H44: -4
B45: Qeisen | C45: 30 | D45: 37000 | F45: Uw Inschrijving | G45: 60 | H45: 0
B46: Qwensen | C46: 80 | D46: 37000
B47: Qbonus | C47: 130 | D47: 37000
