Workbook

Sheet Wegingsfactoren Gunning
B1: Wegingsfactoren gunning
B2: Totaal | G2: =SUM(G3+G28) -> 1
B3: Kwaliteit | G3: =SUM(G5:G26)*(0.7) -> 0.7
B5: Samenwerking | F5: =SUM(F6:F7) -> 1 | G5: =SUM(F5*0.15) -> 0.15
B6: Continuïteit & Flexibiliteit | D6: SAW-01 | E6: 1 | F6: 0.6 | H6: =SUM((G5*F6)*E6) -> 0.09
B7: Privacy & Security | D7: SAW-02 | E7: 1 | F7: 0.4 | H7: =SUM((G5*F7)*E7) -> 0.06
B9: Service & Support | F9: =SUM(F10:F11) -> 1 | G9: =SUM(F9*0.3) -> 0.3
B10: SLA, garantie & reparatie | D10: SSW-01 | E10: 1 | F10: 0.6 | H10: =SUM((G9*F10)*E10) -> 0.18
B11: Onderscheidend vermogen | D11: SSW-02 | E11: 1 | F11: 0.4 | H11: =SUM((G9*F11)*E11) -> 0.12
B13: Processen | F13: =SUM(F14:F16) -> 1 | G13: =SUM(F13*0.3) -> 0.3
B14: First time right | D14: PRW-01 | E14: 1 | F14: =SUM(E14:E14)*(0.25) -> 0.25 | H14: =SUM((G13*F14)*E14) -> 0.075
B15: Bestelproces | D15: PRW-02 | E15: 1 | F15: =SUM(E15:E15)*(0.5) -> 0.5 | H15: =SUM((G13*F15)*E15) -> 0.15
B16: Logistiek | D16: PRW-03 | E16: 1 | F16: 0.25 | H16: =SUM((G13*F16)*E16) -> 0.075
B18: Koopmanschap | F18: =SUM(F19:F21) -> 1 | G18: 0.15
B19: Transprarantie & prijsbepaling | D19: KOW-01 | E19: 1 | F19: =SUM(E19:E19)*(0.3) -> 0.3 | H19: =SUM((G18*F19)*E19) -> 0.045
B20: Productgroepen | D20: KOW-02 | E20: 1 | F20: =SUM(E20:E20)*(0.4) -> 0.4 | H20: =SUM((G18*F20)*E20) -> 0.06
B21: Onderscheidend vermogen | D21: KOW-03 | E21: 1 | F21: =SUM(E21:E21)*(0.3) -> 0.3 | H21: =SUM((G18*F21)*E21) -> 0.045
B23: Maatschappelijke Verantwoordelijkheid | F23: =SUM(F24:F26) -> 1 | G23: 0.1
B24: R-ladder | D24: MVW-01 | E24: 1 | F24: 0.5 | H24: =SUM((G23*F24)*E24) -> 0.05
B25: Repareerbaarheid | D25: MVW-02 | E25: 1 | F25: 0.25 | H25: =SUM((G23*F25)*E25) -> 0.025
B26: Afvalverwerking & Afvalcompensatie | D26: MVW-03 | E26: 1 | F26: 0.25 | H26: =SUM((G23*F26)*E26) -> 0.025
B28: Prijs | G28: 0.3

Sheet Score - RANKING kwaliteit
A2: Wegingsfactoren | C2: Kwaliteitspunten | D2: Beoordelaar 1 | E2: Beoordelaar 2 | F2: Beoordelaar 3 | G2: Beoordelaar 4 | H2: Beoordelaar 5 | J2: Beoordelaar 1 | K2: Beoordelaar 2 | L2: Beoordelaar 3 | M2: Beoordelaar 4 | N2: Beoordelaar 5 | P2: Beoordelaar 1 | Q2: Beoordelaar 2 | R2: Beoordelaar 3 | S2: Beoordelaar 4 | T2: Beoordelaar 5 | V2: Beoordelaar 1 | W2: Beoordelaar 2 | X2: Beoordelaar 3 | Y2: Beoordelaar 4 | Z2: Beoordelaar 5 | AB2: Beoordelaar 1 | AC2: Beoordelaar 2 | AD2: Beoordelaar 3 | AE2: Beoordelaar 4 | AF2: Beoordelaar 5
A3: =A5+A12+A19+A28+A37 -> 1 | C3: 1200000 | D3: Fictief aantal | J3: Score gemiddeld | P3: Consistentie score beste | V3: Beoordelingscommissie heeft geen consesnus kunnen bereiken
A5: ='Wegingsfactoren Gunning'!G5 -> 0.15 | B5: SAW | C5: =$C$3*A5 -> 180000 | D5: Inschrijver 1 | J5: Inschrijver 2 | P5: Inschrijver 3 | V5: Inschrijver 4 | AB5: Inschrijver 5
B6: ='Wegingsfactoren Gunning'!F6 -> 0.6 | C6: =$C$5*B6 -> 108000 | D6: ='Wegingsfactoren Gunning'!D6 -> SAW-01 | I6: =SUM(I7:I7) -> 108000 | J6: =D6 -> SAW-01 | O6: =SUM(O7:O7) -> 108000 | P6: =J6 -> SAW-01 | U6: =SUM(U7:U7) -> 36720 | V6: =P6 -> SAW-01 | AA6: =SUM(AA7:AA7) -> 62640 | AB6: =V6 -> SAW-01 | AG6: =SUM(AG7:AG7) -> 101520
A7: =SUM(B7:B7) -> 1 | B7: ='Wegingsfactoren Gunning'!E6 -> 1 | C7: ='Wegingsfactoren Gunning'!D6 -> SAW-01 | D7: 10 | E7: 10 | F7: 10 | G7: 10 | H7: 10 | I7: =($C$6*$B$7)/10*SUM(D7:H7)/COUNT(D7:H7) -> 108000 | J7: 10 | K7: 10 | L7: 10 | M7: 10 | N7: 10 | O7: =($C$6*$B$7)/10*SUM(J7:N7)/COUNT(J7:N7) -> 108000 | P7: 4 | Q7: 4 | R7: 4 | S7: 1 | T7: 4 | U7: =($C$6*$B$7)/10*SUM(P7:T7)/COUNT(P7:T7) -> 36720 | V7: 7 | W7: 7 | X7: 4 | Y7: 7 | Z7: 4 | AA7: =($C$6*$B$7)/10*SUM(V7:Z7)/COUNT(V7:Z7) -> 62640 | AB7: 10 | AC7: 10 | AD7: 7 | AE7: 10 | AF7: 10 | AG7: =($C$6*$B$7)/10*SUM(AB7:AF7)/COUNT(AB7:AF7) -> 101520
B8: ='Wegingsfactoren Gunning'!F7 -> 0.4 | C8: =$C$5*B8 -> 72000 | D8: ='Wegingsfactoren Gunning'!D7 -> SAW-02 | I8: =SUM(I9:I9) -> 72000 | J8: =D8 -> SAW-02 | O8: =SUM(O9:O9) -> 72000 | P8: =D8 -> SAW-02 | U8: =SUM(U9:U9) -> 41760 | V8: =J8 -> SAW-02 | AA8: =SUM(AA9:AA9) -> 37440 | AB8: =P8 -> SAW-02 | AG8: =SUM(AG9:AG9) -> 72000
A9: =SUM(B9:B9) -> 1 | B9: ='Wegingsfactoren Gunning'!E7 -> 1 | C9: ='Wegingsfactoren Gunning'!D7 -> SAW-02 | D9: 10 | E9: 10 | F9: 10 | G9: 10 | H9: 10 | I9: =($C$8*$B$9)/10*SUM(D9:H9)/COUNT(D9:H9) -> 72000 | J9: 10 | K9: 10 | L9: 10 | M9: 10 | N9: 10 | O9: =($C$8*$B$9)/10*SUM(J9:N9)/COUNT(J9:N9) -> 72000 | P9: 7 | Q9: 4 | R9: 4 | S9: 7 | T9: 7 | U9: =($C$8*$B$9)/10*SUM(P9:T9)/COUNT(P9:T9) -> 41760 | V9: 7 | W9: 4 | X9: 4 | Y9: 4 | Z9: 7 | AA9: =($C$8*$B$9)/10*SUM(V9:Z9)/COUNT(V9:Z9) -> 37440 | AB9: 10 | AC9: 10 | AD9: 10 | AE9: 10 | AF9: 10 | AG9: =($C$8*$B$9)/10*SUM(AB9:AF9)/COUNT(AB9:AF9) -> 72000
B10: =B6+B8 -> 1 | C10: =C6+C8 -> 180000 | D10: Gewogen score | I10: =I7+I9 -> 180000 | J10: Gewogen score | O10: =O7+O9 -> 180000 | P10: Gewogen score | U10: =U7+U9 -> 78480 | V10: Gewogen score | AA10: =AA7+AA9 -> 100080 | AB10: Gewogen score | AG10: =AG7+AG9 -> 173520
A12: ='Wegingsfactoren Gunning'!G9 -> 0.3 | B12: SSW | C12: =$C$3*A12 -> 360000 | D12: Inschrijver 1 | J12: Inschrijver 2 | P12: Inschrijver 3 | V12: Inschrijver 4 | AB12: Inschrijver 5
B13: ='Wegingsfactoren Gunning'!F10 -> 0.6 | C13: =$C$12*B13 -> 216000 | D13: ='Wegingsfactoren Gunning'!D10 -> SSW-01 | I13: =SUM(I14:I14) -> 216000 | J13: =D13 -> SSW-01 | O13: =SUM(O14:O14) -> 216000 | P13: =D13 -> SSW-01 | U13: =SUM(U14:U14) -> 73440 | V13: =D13 -> SSW-01 | AA13: =SUM(AA14:AA14) -> 125280 | AB13: =D13 -> SSW-01 | AG13: =SUM(AG14:AG14) -> 203040
A14: =SUM(B14:B14) -> 1 | B14: ='Wegingsfactoren Gunning'!E10 -> 1 | C14: ='Wegingsfactoren Gunning'!D10 -> SSW-01 | D14: 10 | E14: 10 | F14: 10 | G14: 10 | H14: 10 | I14: =($C$13*$B14)/10*SUM(D14:H14)/COUNT(D14:H14) -> 216000 | J14: 10 | K14: 10 | L14: 10 | M14: 10 | N14: 10 | O14: =($C$13*$B14)/10*SUM(J14:N14)/COUNT(J14:N14) -> 216000 | P14: 4 | Q14: 4 | R14: 4 | S14: 1 | T14: 4 | U14: =($C$13*$B14)/10*SUM(P14:T14)/COUNT(P14:T14) -> 73440 | V14: 7 | W14: 7 | X14: 4 | Y14: 7 | Z14: 4 | AA14: =($C$13*$B14)/10*SUM(V14:Z14)/COUNT(V14:Z14) -> 125280 | AB14: 10 | AC14: 10 | AD14: 7 | AE14: 10 | AF14: 10 | AG14: =($C$13*$B14)/10*SUM(AB14:AF14)/COUNT(AB14:AF14) -> 203040
B15: ='Wegingsfactoren Gunning'!F11 -> 0.4 | C15: =$C$12*B15 -> 144000 | D15: ='Wegingsfactoren Gunning'!D11 -> SSW-02 | I15: =SUM(I16:I16) -> 144000 | J15: =D15 -> SSW-02 | O15: =SUM(O16:O16) -> 144000 | P15: =D15 -> SSW-02 | U15: =SUM(U16:U16) -> 48960 | V15: =D15 -> SSW-02 | AA15: =SUM(AA16:AA16) -> 83520 | AB15: =D15 -> SSW-02 | AG15: =SUM(AG16:AG16) -> 135360
A16: =SUM(B16:B16) -> 1 | B16: ='Wegingsfactoren Gunning'!E11 -> 1 | C16: ='Wegingsfactoren Gunning'!D11 -> SSW-02 | D16: 10 | E16: 10 | F16: 10 | G16: 10 | H16: 10 | I16: =($C$15*$B16)/10*SUM(D16:H16)/COUNT(D16:H16) -> 144000 | J16: 10 | K16: 10 | L16: 10 | M16: 10 | N16: 10 | O16: =($C$15*$B16)/10*SUM(J16:N16)/COUNT(J16:N16) -> 144000 | P16: 4 | Q16: 4 | R16: 4 | S16: 1 | T16: 4 | U16: =($C$15*$B16)/10*SUM(P16:T16)/COUNT(P16:T16) -> 48960 | V16: 7 | W16: 7 | X16: 4 | Y16: 7 | Z16: 4 | AA16: =($C$15*$B16)/10*SUM(V16:Z16)/COUNT(V16:Z16) -> 83520 | AB16: 10 | AC16: 10 | AD16: 7 | AE16: 10 | AF16: 10 | AG16: =($C$15*$B16)/10*SUM(AB16:AF16)/COUNT(AB16:AF16) -> 135360
B17: =B15+B13 -> 1 | C17: =C15+C13 -> 360000 | D17: Gewogen score | I17: =I16+I14 -> 360000 | J17: Gewogen score | O17: =O16+O14 -> 360000 | P17: Gewogen score | U17: =U16+U14 -> 122400 | V17: Gewogen score | AA17: =AA16+AA14 -> 208800 | AB17: Gewogen score | AG17: =AG16+AG14 -> 338400
A19: ='Wegingsfactoren Gunning'!G13 -> 0.3 | B19: PRW | C19: =$C$3*A19 -> 360000 | D19: Inschrijver 1 | J19: Inschrijver 2 | P19: Inschrijver 3 | V19: Inschrijver 4 | AB19: Inschrijver 5
B20: ='Wegingsfactoren Gunning'!F14 -> 0.25 | C20: =$C$19*B20 -> 90000 | D20: ='Wegingsfactoren Gunning'!D14 -> PRW-01 | I20: =SUM(I21:I21) -> 90000 | J20: =D20 -> PRW-01 | O20: =SUM(O21:O21) -> 90000 | P20: =D20 -> PRW-01 | U20: =SUM(U21:U21) -> 30600 | V20: =D20 -> PRW-01 | AA20: =SUM(AA21:AA21) -> 52200 | AB20: =D20 -> PRW-01 | AG20: =SUM(AG21:AG21) -> 84600
A21: =SUM(B21:B21) -> 1 | B21: ='Wegingsfactoren Gunning'!E14 -> 1 | C21: ='Wegingsfactoren Gunning'!D14 -> PRW-01 | D21: 10 | E21: 10 | F21: 10 | G21: 10 | H21: 10 | I21: =($C$20*$B21)/10*SUM(D21:H21)/COUNT(D21:H21) -> 90000 | J21: 10 | K21: 10 | L21: 10 | M21: 10 | N21: 10 | O21: =($C$20*$B21)/10*SUM(J21:N21)/COUNT(J21:N21) -> 90000 | P21: 4 | Q21: 4 | R21: 4 | S21: 1 | T21: 4 | U21: =($C$20*$B21)/10*SUM(P21:T21)/COUNT(P21:T21) -> 30600 | V21: 7 | W21: 7 | X21: 4 | Y21: 7 | Z21: 4 | AA21: =($C$20*$B21)/10*SUM(V21:Z21)/COUNT(V21:Z21) -> 52200 | AB21: 10 | AC21: 10 | AD21: 7 | AE21: 10 | AF21: 10 | AG21: =($C$20*$B21)/10*SUM(AB21:AF21)/COUNT(AB21:AF21) -> 84600
B22: ='Wegingsfactoren Gunning'!F15 -> 0.5 | C22: =$C$19*B22 -> 180000 | D22: ='Wegingsfactoren Gunning'!D15 -> PRW-02 | I22: =SUM(I23:I23) -> 180000 | J22: =D22 -> PRW-02 | O22: =SUM(O23:O23) -> 180000 | P22: =D22 -> PRW-02 | U22: =SUM(U23:U23) -> 61200 | V22: =D22 -> PRW-02 | AA22: =SUM(AA23:AA23) -> 104400 | AB22: =D22 -> PRW-02 | AG22: =SUM(AG23:AG23) -> 169200
A23: =SUM(B23:B23) -> 1 | B23: ='Wegingsfactoren Gunning'!E15 -> 1 | C23: ='Wegingsfactoren Gunning'!D15 -> PRW-02 | D23: 10 | E23: 10 | F23: 10 | G23: 10 | H23: 10 | I23: =($C$22*$B23)/10*SUM(D23:H23)/COUNT(D23:H23) -> 180000 | J23: 10 | K23: 10 | L23: 10 | M23: 10 | N23: 10 | O23: =($C$22*$B23)/10*SUM(J23:N23)/COUNT(J23:N23) -> 180000 | P23: 4 | Q23: 4 | R23: 4 | S23: 1 | T23: 4 | U23: =($C$22*$B23)/10*SUM(P23:T23)/COUNT(P23:T23) -> 61200 | V23: 7 | W23: 7 | X23: 4 | Y23: 7 | Z23: 4 | AA23: =($C$22*$B23)/10*SUM(V23:Z23)/COUNT(V23:Z23) -> 104400 | AB23: 10 | AC23: 10 | AD23: 7 | AE23: 10 | AF23: 10 | AG23: =($C$22*$B23)/10*SUM(AB23:AF23)/COUNT(AB23:AF23) -> 169200
B24: ='Wegingsfactoren Gunning'!F16 -> 0.25 | C24: =$C$19*B24 -> 90000 | D24: ='Wegingsfactoren Gunning'!D16 -> PRW-03 | I24: =SUM(I25:I25) -> 90000 | J24: =D24 -> PRW-03 | O24: =SUM(O25:O25) -> 90000 | P24: =D24 -> PRW-03 | U24: =SUM(U25:U25) -> 30600 | V24: =D24 -> PRW-03 | AA24: =SUM(AA25:AA25) -> 52200 | AB24: =D24 -> PRW-03 | AG24: =SUM(AG25:AG25) -> 84600
A25: =SUM(B25:B25) -> 1 | B25: ='Wegingsfactoren Gunning'!E16 -> 1 | C25: ='Wegingsfactoren Gunning'!D16 -> PRW-03 | D25: 10 | E25: 10 | F25: 10 | G25: 10 | H25: 10 | I25: =($C$24*$B25)/10*SUM(D25:H25)/COUNT(D25:H25) -> 90000 | J25: 10 | K25: 10 | L25: 10 | M25: 10 | N25: 10 | O25: =($C$24*$B25)/10*SUM(J25:N25)/COUNT(J25:N25) -> 90000 | P25: 4 | Q25: 4 | R25: 4 | S25: 1 | T25: 4 | U25: =($C$24*$B25)/10*SUM(P25:T25)/COUNT(P25:T25) -> 30600 | V25: 7 | W25: 7 | X25: 4 | Y25: 7 | Z25: 4 | AA25: =($C$24*$B25)/10*SUM(V25:Z25)/COUNT(V25:Z25) -> 52200 | AB25: 10 | AC25: 10 | AD25: 7 | AE25: 10 | AF25: 10 | AG25: =($C$24*$B25)/10*SUM(AB25:AF25)/COUNT(AB25:AF25) -> 84600
B26: =B20+B22+B24 -> 1 | C26: =C20+C22+C24 -> 360000 | D26: Gewogen score | I26: =I20+I22+I24 -> 360000 | J26: Gewogen score | O26: =O20+O22+O24 -> 360000 | P26: Gewogen score | U26: =U20+U22+U24 -> 122400 | V26: Gewogen score | AA26: =AA20+AA22+AA24 -> 208800 | AB26: Gewogen score | AG26: =AG20+AG22+AG24 -> 338400
A28: ='Wegingsfactoren Gunning'!G18 -> 0.15 | B28: KOW | C28: =$C$3*A28 -> 180000 | D28: Inschrijver 1 | J28: Inschrijver 2 | P28: Inschrijver 3 | V28: Inschrijver 4 | AB28: Inschrijver 5
B29: ='Wegingsfactoren Gunning'!F19 -> 0.3 | C29: =$C$28*B29 -> 54000 | D29: ='Wegingsfactoren Gunning'!D19 -> KOW-01 | I29: =SUM(I30:I30) -> 54000 | J29: =D29 -> KOW-01 | O29: =SUM(O30:O30) -> 34560 | P29: =D29 -> KOW-01 | U29: =SUM(U30:U30) -> 18360 | V29: =D29 -> KOW-01 | AA29: =SUM(AA30:AA30) -> 31320 | AB29: =D29 -> KOW-01 | AG29: =SUM(AG30:AG30) -> 50760
A30: =B30 -> 1 | B30: ='Wegingsfactoren Gunning'!E19 -> 1 | C30: ='Wegingsfactoren Gunning'!D19 -> KOW-01 | D30: 10 | E30: 10 | F30: 10 | G30: 10 | H30: 10 | I30: =($C$29*$B30)/10*SUM(D30:H30)/COUNT(D30:H30) -> 54000 | J30: 7 | K30: 7 | L30: 7 | M30: 4 | N30: 7 | O30: =($C$29*$B30)/10*SUM(J30:N30)/COUNT(J30:N30) -> 34560 | P30: 4 | Q30: 4 | R30: 4 | S30: 1 | T30: 4 | U30: =($C$29*$B30)/10*SUM(P30:T30)/COUNT(P30:T30) -> 18360 | V30: 7 | W30: 7 | X30: 4 | Y30: 7 | Z30: 4 | AA30: =($C$29*$B30)/10*SUM(V30:Z30)/COUNT(V30:Z30) -> 31320 | AB30: 10 | AC30: 10 | AD30: 7 | AE30: 10 | AF30: 10 | AG30: =($C$29*$B30)/10*SUM(AB30:AF30)/COUNT(AB30:AF30) -> 50760
B31: ='Wegingsfactoren Gunning'!F20 -> 0.4 | C31: =$C$28*B31 -> 72000 | D31: GAW-02 | I31: =SUM(I32:I32) -> 72000 | J31: =D31 -> GAW-02 | O31: =SUM(O32:O32) -> 72000 | P31: =D31 -> GAW-02 | U31: =SUM(U32:U32) -> 24480 | V31: =D31 -> GAW-02 | AA31: =SUM(AA32:AA32) -> 41760 | AB31: =D31 -> GAW-02 | AG31: =SUM(AG32:AG32) -> 67680
A32: =SUM(B32:B32) -> 1 | B32: ='Wegingsfactoren Gunning'!E20 -> 1 | C32: ='Wegingsfactoren Gunning'!D20 -> KOW-02 | D32: 10 | E32: 10 | F32: 10 | G32: 10 | H32: 10 | I32: =($C$31*$B32)/10*SUM(D32:H32)/COUNT(D32:H32) -> 72000 | J32: 10 | K32: 10 | L32: 10 | M32: 10 | N32: 10 | O32: =($C$31*$B32)/10*SUM(J32:N32)/COUNT(J32:N32) -> 72000 | P32: 4 | Q32: 4 | R32: 4 | S32: 1 | T32: 4 | U32: =($C$31*$B32)/10*SUM(P32:T32)/COUNT(P32:T32) -> 24480 | V32: 7 | W32: 7 | X32: 4 | Y32: 7 | Z32: 4 | AA32: =($C$31*$B32)/10*SUM(V32:Z32)/COUNT(V32:Z32) -> 41760 | AB32: 10 | AC32: 10 | AD32: 7 | AE32: 10 | AF32: 10 | AG32: =($C$31*$B32)/10*SUM(AB32:AF32)/COUNT(AB32:AF32) -> 67680
B33: ='Wegingsfactoren Gunning'!F21 -> 0.3 | C33: =$C$28*B33 -> 54000 | D33: ='Wegingsfactoren Gunning'!D21 -> KOW-03 | I33: =SUM(I34:I34) -> 54000 | J33: =D33 -> KOW-03 | O33: =SUM(O34:O34) -> 54000 | P33: =D33 -> KOW-03 | U33: =SUM(U34:U34) -> 18360 | V33: =D33 -> KOW-03 | AA33: =SUM(AA34:AA34) -> 31320 | AB33: =D33 -> KOW-03 | AG33: =SUM(AG34:AG34) -> 50760
A34: =SUM(B34:B34) -> 1 | B34: ='Wegingsfactoren Gunning'!E21 -> 1 | C34: ='Wegingsfactoren Gunning'!D21 -> KOW-03 | D34: 10 | E34: 10 | F34: 10 | G34: 10 | H34: 10 | I34: =($C$33*$B34)/10*SUM(D34:H34)/COUNT(D34:H34) -> 54000 | J34: 10 | K34: 10 | L34: 10 | M34: 10 | N34: 10 | O34: =($C$33*$B34)/10*SUM(J34:N34)/COUNT(J34:N34) -> 54000 | P34: 4 | Q34: 4 | R34: 4 | S34: 1 | T34: 4 | U34: =($C$33*$B34)/10*SUM(P34:T34)/COUNT(P34:T34) -> 18360 | V34: 7 | W34: 7 | X34: 4 | Y34: 7 | Z34: 4 | AA34: =($C$33*$B34)/10*SUM(V34:Z34)/COUNT(V34:Z34) -> 31320 | AB34: 10 | AC34: 10 | AD34: 7 | AE34: 10 | AF34: 10 | AG34: =($C$33*$B34)/10*SUM(AB34:AF34)/COUNT(AB34:AF34) -> 50760
B35: =B29+B31+B33 -> 1 | C35: =C29+C31+C33 -> 180000 | D35: Gewogen score | I35: =I29+I31+I33 -> 180000 | J35: Gewogen score | O35: =O29+O31+O33 -> 160560 | P35: Gewogen score | U35: =U29+U31+U33 -> 61200 | V35: Gewogen score | AA35: =AA29+AA31+AA33 -> 104400 | AB35: Gewogen score | AG35: =AG29+AG31+AG33 -> 169200
A37: ='Wegingsfactoren Gunning'!G23 -> 0.1 | B37: MVW | C37: =$C$3*A37 -> 120000 | D37: Inschrijver 1 | J37: Inschrijver 2 | P37: Inschrijver 3 | V37: Inschrijver 4 | AB37: Inschrijver 5
B38: ='Wegingsfactoren Gunning'!F19 -> 0.3 | C38: =$C$37*B38 -> 36000 | D38: ='Wegingsfactoren Gunning'!D24 -> MVW-01 | I38: =SUM(I39:I39) -> 36000 | J38: =D38 -> MVW-01 | O38: =SUM(O39:O39) -> 36000 | P38: =D38 -> MVW-01 | U38: =SUM(U39:U39) -> 12240 | V38: =D38 -> MVW-01 | AA38: =SUM(AA39:AA39) -> 20880 | AB38: =D38 -> MVW-01 | AG38: =SUM(AG39:AG39) -> 33840
A39: =SUM(B39:B39) -> 1 | B39: ='Wegingsfactoren Gunning'!E19 -> 1 | C39: ='Wegingsfactoren Gunning'!D24 -> MVW-01 | D39: 10 | E39: 10 | F39: 10 | G39: 10 | H39: 10 | I39: =($C$38*$B39)/10*SUM(D39:H39)/COUNT(D39:H39) -> 36000 | J39: 10 | K39: 10 | L39: 10 | M39: 10 | N39: 10 | O39: =($C$38*$B39)/10*SUM(J39:N39)/COUNT(J39:N39) -> 36000 | P39: 4 | Q39: 4 | R39: 4 | S39: 1 | T39: 4 | U39: =($C$38*$B39)/10*SUM(P39:T39)/COUNT(P39:T39) -> 12240 | V39: 7 | W39: 7 | X39: 4 | Y39: 7 | Z39: 4 | AA39: =($C$38*$B39)/10*SUM(V39:Z39)/COUNT(V39:Z39) -> 20880 | AB39: 10 | AC39: 10 | AD39: 7 | AE39: 10 | AF39: 10 | AG39: =($C$38*$B39)/10*SUM(AB39:AF39)/COUNT(AB39:AF39) -> 33840
B40: ='Wegingsfactoren Gunning'!F20 -> 0.4 | C40: =$C$37*B40 -> 48000 | D40: ='Wegingsfactoren Gunning'!D25 -> MVW-02 | I40: =SUM(I41:I41) -> 48000 | J40: =D40 -> MVW-02 | O40: =SUM(O41:O41) -> 48000 | P40: =D40 -> MVW-02 | U40: =SUM(U41:U41) -> 16320 | V40: =D40 -> MVW-02 | AA40: =SUM(AA41:AA41) -> 27840 | AB40: =D40 -> MVW-02 | AG40: =SUM(AG41:AG41) -> 45120
A41: =B41 -> 1 | B41: ='Wegingsfactoren Gunning'!E20 -> 1 | C41: ='Wegingsfactoren Gunning'!D25 -> MVW-02 | D41: 10 | E41: 10 | F41: 10 | G41: 10 | H41: 10 | I41: =($C$40*$B41)/10*SUM(D41:H41)/COUNT(D41:H41) -> 48000 | J41: 10 | K41: 10 | L41: 10 | M41: 10 | N41: 10 | O41: =($C$40*$B41)/10*SUM(J41:N41)/COUNT(J41:N41) -> 48000 | P41: 4 | Q41: 4 | R41: 4 | S41: 1 | T41: 4 | U41: =($C$40*$B41)/10*SUM(P41:T41)/COUNT(P41:T41) -> 16320 | V41: 7 | W41: 7 | X41: 4 | Y41: 7 | Z41: 4 | AA41: =($C$40*$B41)/10*SUM(V41:Z41)/COUNT(V41:Z41) -> 27840 | AB41: 10 | AC41: 10 | AD41: 7 | AE41: 10 | AF41: 10 | AG41: =($C$40*$B41)/10*SUM(AB41:AF41)/COUNT(AB41:AF41) -> 45120
B42: ='Wegingsfactoren Gunning'!F21 -> 0.3 | C42: =$C$37*B42 -> 36000 | D42: ='Wegingsfactoren Gunning'!D26 -> MVW-03 | I42: =SUM(I43:I43) -> 36000 | J42: =D42 -> MVW-03 | O42: =SUM(O43:O43) -> 36000 | P42: =D42 -> MVW-03 | U42: =SUM(U43:U43) -> 12240 | V42: =D42 -> MVW-03 | AA42: =SUM(AA43:AA43) -> 20880 | AB42: =D42 -> MVW-03 | AG42: =SUM(AG43:AG43) -> 33840
A43: =B43 -> 1 | B43: ='Wegingsfactoren Gunning'!E21 -> 1 | C43: ='Wegingsfactoren Gunning'!D26 -> MVW-03 | D43: 10 | E43: 10 | F43: 10 | G43: 10 | H43: 10 | I43: =($C$42*$B43)/10*SUM(D43:H43)/COUNT(D43:H43) -> 36000 | J43: 10 | K43: 10 | L43: 10 | M43: 10 | N43: 10 | O43: =($C$42*$B43)/10*SUM(J43:N43)/COUNT(J43:N43) -> 36000 | P43: 4 | Q43: 4 | R43: 4 | S43: 1 | T43: 4 | U43: =($C$42*$B43)/10*SUM(P43:T43)/COUNT(P43:T43) -> 12240 | V43: 7 | W43: 7 | X43: 4 | Y43: 7 | Z43: 4 | AA43: =($C$42*$B43)/10*SUM(V43:Z43)/COUNT(V43:Z43) -> 20880 | AB43: 10 | AC43: 10 | AD43: 7 | AE43: 10 | AF43: 10 | AG43: =($C$42*$B43)/10*SUM(AB43:AF43)/COUNT(AB43:AF43) -> 33840
B44: =B38+B40+B42 -> 1 | C44: =C38+C40+C42 -> 120000 | D44: Gewogen score | I44: =I38+I40+I42 -> 120000 | J44: Gewogen score | O44: =O38+O40+O42 -> 120000 | P44: Gewogen score | U44: =U38+U40+U42 -> 40800 | V44: Gewogen score | AA44: =AA38+AA40+AA42 -> 69600 | AB44: Gewogen score | AG44: =AG38+AG40+AG42 -> 112800
A46: Totaal score kwaliteit | D46: Inschrijver 1 | I46: =I10+I17+I26+I35+I44 -> 1200000 | J46: Inschrijver 2 | O46: =O10+O17+O26+O35+O44 -> 1180560 | P46: Inschrijver 3 | U46: =U10+U17+U26+U35+U44 -> 425280 | V46: Inschrijver 4 | AA46: =AA10+AA17+AA26+AA35+AA44 -> 691680 | AB46: Inschrijver 5 | AG46: =AG10+AG17+AG26+AG35+AG44 -> 1132320
A47: Rangorde kwaliteit (ongewogen) | I47: =RANK(I46,$I$46:$AG$46) -> 1 | O47: =RANK(O46,$I$46:$AG$46) -> 2 | U47: =RANK(U46,$I$46:$AG$46) -> 5 | AA47: =RANK(AA46,$I$46:$AG$46) -> 4 | AG47: =RANK(AG46,$I$46:$AG$46) -> 3

Sheet RANKING prijs-Kwalitiet
A1: Weegfactoren
A2: prijs | B2: Kwaliteit
A3: 0.3 | B3: 0.7
C5: Prijsaanbod | D5: Ranking prijs | F5: Gewogen Score prijs
A6: Inschrijver 1 | C6: 1200000 | D6: =6-RANK(C6,$C$6:$C$10) -> 3 | F6: =C6*$A$3 -> 360000
A7: Inschrijver 2 | C7: 1100000 | D7: =6-RANK(C7,$C$6:$C$10) -> 2 | F7: =C7*$A$3 -> 330000
A8: Inschrijver 3 | C8: 1000000 | D8: =6-RANK(C8,$C$6:$C$10) -> 1 | F8: =C8*$A$3 -> 300000
A9: Inschrijver 4 | C9: 1500000 | D9: =6-RANK(C9,$C$6:$C$10) -> 4 | F9: =C9*$A$3 -> 450000
A10: Inschrijver 5 | C10: 2101000 | D10: =6-RANK(C10,$C$6:$C$10) -> 5 | F10: =C10*$A$3 -> 630300
A14: Gewogen score prijs en kwaliteit | D14: Ranking kwaliteit | E14: Score kwaliteit | F14: Gewogen score kwaliteit
A15: Inschrijver 1 | D15: =RANK(F15,$F$15:$F$19) -> 1 | E15: ='Score - RANKING kwaliteit'!I46 -> 1200000 | F15: ='Score - RANKING kwaliteit'!I46*$B$3 -> 840000
A16: Inschrijver 2 | D16: =RANK(F16,$F$15:$F$19) -> 2 | E16: ='Score - RANKING kwaliteit'!O46 -> 1180560 | F16: ='Score - RANKING kwaliteit'!O46*$B$3 -> 826392
A17: Inschrijver 3 | D17: =RANK(F17,$F$15:$F$19) -> 5 | E17: ='Score - RANKING kwaliteit'!U46 -> 425280 | F17: ='Score - RANKING kwaliteit'!U46*$B$3 -> 297696
A18: Inschrijver 4 | D18: =RANK(F18,$F$15:$F$19) -> 4 | E18: ='Score - RANKING kwaliteit'!AA46 -> 691680 | F18: ='Score - RANKING kwaliteit'!AA46*$B$3 -> 484176
A19: Inschrijver 5 | D19: =RANK(F19,$F$15:$F$19) -> 3 | E19: ='Score - RANKING kwaliteit'!AG46 -> 1132320 | F19: ='Score - RANKING kwaliteit'!AG46*$B$3 -> 792624
A22: EINDSCORE | F22: Gewogen eindscore
A23: Inschrijver 1 | D23: =RANK(F23,$F$23:$F$27) -> 2 | E23: =_xlfn.IFS(D23=1,"WINNAAR",D23>1,"Helaas") -> Helaas | F23: =F15-F6 -> 480000
A24: Inschrijver 2 | D24: =RANK(F24,$F$23:$F$27) -> 1 | E24: =_xlfn.IFS(D24=1,"WINNAAR",D24>1,"Helaas") -> WINNAAR | F24: =F16-F7 -> 496392
A25: Inschrijver 3 | D25: =RANK(F25,$F$23:$F$27) -> 5 | E25: =_xlfn.IFS(D25=1,"WINNAAR",D25>1,"Helaas") -> Helaas | F25: =F17-F8 -> -2304
A26: Inschrijver 4 | D26: =RANK(F26,$F$23:$F$27) -> 4 | E26: =_xlfn.IFS(D26=1,"WINNAAR",D26>1,"Helaas") -> Helaas | F26: =F18-F9 -> 34176
A27: Inschrijver 5 | D27: =RANK(F27,$F$23:$F$27) -> 3 | E27: =_xlfn.IFS(D27=1,"WINNAAR",D27>1,"Helaas") -> Helaas | F27: =F19-F10 -> 162324
