Workbook
Name SCORE: 'Beoordelen proefopdrachten'!$A$24:$A$26

Sheet Beoordelen proefopdrachten
A1: Beoordeling afdrukken testdocument ZAAM
A2: Balken en teksten | B2: Grijswaarden | C2: Voldoet | D2: Grijswaarden zijn 100% zichtbaar (kleur zoals bedoeld)
C3: Voldoet niet | D3: Grijswaarden zijn (deels) niet meer zichtbaar of onderscheid tussen verschillende grijswaarden is niet meer zichtbaar
B4: Lichte tinten | C4: Voldoet | D4: Lichte tinten zijn 100% zichtbaar (kleur zoals bedoeld)
C5: Voldoet niet | D5: Lichte tinten zijn (deels) niet meer zichtbaar of onderscheid tussen verschillende tinten is niet meer zichtbaar
B6: Felle tinten | C6: Voldoet | D6: Felle tinten zijn 100% zichtbaar (kleur zoals bedoeld)
C7: Voldoet niet | D7: Felle tinten zijn (deels) niet meer zichtbaar of onderscheid tussen verschillende tinten is niet meer zichtbaar
B8: Teksten | C8: Voldoet | D8: Alle teksten zijn zichtbaar en leesbaar
C9: Voldoet niet | D9: Teksten zijn (deels) niet meer zichtbaar of niet meer leesbaar
A10: Logo | B10: Kleur/contrast | C10: Voldoet | D10: Logo is vergelijkbaar of beter dan op de referentieafdruk
C11: Voldoet niet | D11: Logo is minder goed dan op de referentieafdruk
A12: Algemeen | B12: Strepen | C12: Voldoet | D12: Geen streepvorming
C13: Voldoet niet | D13: Streepvorming (banen, strepen, vervuiling)
B14: Recht | C14: Voldoet | D14: Afwijking maximaal 1 mm (links en rechts gemeten)
C15: Voldoet niet | D15: Afwijking van meer dan 1 mm
A16: SCORE:
A17: Beoordeling afdrukken testdocument REPRO
A18: Kleuren afbeelding | B18: Blauwe tinten (lucht) | C18: Voldoet | D18: Blauwe tinten zijn 100% zichtbaar (kleur zoals bedoeld)
C19: Voldoet niet | D19: Blauwe tinten zijn (deels) niet meer zichtbaar of kleur is niet zoals bedoeld
B20: Gele tinten (zon) | C20: Voldoet | D20: Gele tinten zijn 100% zichtbaar (kleur zoals bedoeld)
C21: Voldoet niet | D21: Gele tinten zijn (deels) niet meer zichtbaar of onderscheid tussen verschillende tinten is niet meer zichtbaar
B22: Groene tinten (landschap) | C22: Voldoet | D22: Groene tinten zijn 100% zichtbaar (kleur zoals bedoeld)
C23: Voldoet niet | D23: Groene tinten zijn (deels) niet meer zichtbaar of onderscheid tussen verschillende tinten is niet meer zichtbaar
A24: SCORE:
A25: Voldoet
A26: Voldoet niet

Sheet Beoordelaar 1
B1: Naam beoordelaar 1: <<>> | D1: Naam inschrijver: <<>>
B3: Beoordeling Type 1: Zwart-wit MFP A4 minimaal 40 PPM | D3: ='Beoordelen proefopdrachten'!A1 -> Beoordeling afdrukken testdocument ZAAM
A4: ='Beoordelen proefopdrachten'!$A$2 -> Balken en teksten | D4: Behaalde punten zwart-wit
B5: ='Beoordelen proefopdrachten'!$B$2 -> Grijswaarden | D5: PRINT: | E5: SCORE: | F5: KOPIE: | G5: SCORE:
D6: <MOTIVATIE> | F6: <MOTIVATIE>
D7: Behaalde punten zwart-wit
B8: ='Beoordelen proefopdrachten'!$B$4 -> Lichte tinten | D8: PRINT: | E8: SCORE: | F8: KOPIE: | G8: SCORE:
D9: <MOTIVATIE> | F9: <MOTIVATIE>
D10: Behaalde punten zwart-wit
B11: ='Beoordelen proefopdrachten'!$B$6 -> Felle tinten | D11: PRINT: | E11: SCORE: | F11: KOPIE: | G11: SCORE:
D12: <MOTIVATIE> | F12: <MOTIVATIE>
D13: Behaalde punten zwart-wit
B14: ='Beoordelen proefopdrachten'!$B$8 -> Teksten | D14: PRINT: | E14: SCORE: | F14: KOPIE: | G14: SCORE:
D15: <MOTIVATIE> | F15: <MOTIVATIE>
A16: ='Beoordelen proefopdrachten'!$A$10 -> Logo | D16: Behaalde punten zwart-wit
B17: ='Beoordelen proefopdrachten'!$B$10 -> Kleur/contrast | D17: PRINT: | E17: SCORE: | F17: KOPIE: | G17: SCORE:
D18: <MOTIVATIE> | F18: <MOTIVATIE>
A19: ='Beoordelen proefopdrachten'!$A$12 -> Algemeen | D19: Behaalde punten zwart-wit
B20: ='Beoordelen proefopdrachten'!$B$12 -> Strepen | D20: PRINT: | E20: SCORE: | F20: KOPIE: | G20: SCORE:
D21: <MOTIVATIE> | F21: <MOTIVATIE>
D22: Behaalde punten zwart-wit
B23: ='Beoordelen proefopdrachten'!$B$14 -> Recht | D23: PRINT: | E23: SCORE: | F23: KOPIE: | G23: SCORE:
D24: <MOTIVATIE> | F24: <MOTIVATIE>
B27: Beoordeling Type 2: Zwart-wit MFP A4/A3 minimaal 30 PPM | D27: ='Beoordelen proefopdrachten'!A1 -> Beoordeling afdrukken testdocument ZAAM
A28: ='Beoordelen proefopdrachten'!$A$2 -> Balken en teksten | D28: Behaalde punten zwart-wit
B29: ='Beoordelen proefopdrachten'!$B$2 -> Grijswaarden | D29: PRINT: | E29: SCORE: | F29: KOPIE: | G29: SCORE:
D30: <MOTIVATIE> | F30: <MOTIVATIE>
D31: Behaalde punten zwart-wit
B32: ='Beoordelen proefopdrachten'!$B$4 -> Lichte tinten | D32: PRINT: | E32: SCORE: | F32: KOPIE: | G32: SCORE:
D33: <MOTIVATIE> | F33: <MOTIVATIE>
D34: Behaalde punten zwart-wit
B35: ='Beoordelen proefopdrachten'!$B$6 -> Felle tinten | D35: PRINT: | E35: SCORE: | F35: KOPIE: | G35: SCORE:
D36: <MOTIVATIE> | F36: <MOTIVATIE>
D37: Behaalde punten zwart-wit
B38: ='Beoordelen proefopdrachten'!$B$8 -> Teksten | D38: PRINT: | E38: SCORE: | F38: KOPIE: | G38: SCORE:
D39: <MOTIVATIE> | F39: <MOTIVATIE>
A40: ='Beoordelen proefopdrachten'!$A$10 -> Logo | D40: Behaalde punten zwart-wit
B41: ='Beoordelen proefopdrachten'!$B$10 -> Kleur/contrast | D41: PRINT: | E41: SCORE: | F41: KOPIE: | G41: SCORE:
D42: <MOTIVATIE> | F42: <MOTIVATIE>
A43: ='Beoordelen proefopdrachten'!$A$12 -> Algemeen | D43: Behaalde punten zwart-wit
B44: ='Beoordelen proefopdrachten'!$B$12 -> Strepen | D44: PRINT: | E44: SCORE: | F44: KOPIE: | G44: SCORE:
D45: <MOTIVATIE> | F45: <MOTIVATIE>
D46: Behaalde punten zwart-wit
B47: ='Beoordelen proefopdrachten'!$B$14 -> Recht | D47: PRINT: | E47: SCORE: | F47: KOPIE: | G47: SCORE:
D48: <MOTIVATIE> | F48: <MOTIVATIE>
B51: Beoordeling Type 3: Zwart-wit MFP A4/A3 minimaal 50 PPM | D51: ='Beoordelen proefopdrachten'!A1 -> Beoordeling afdrukken testdocument ZAAM
A52: ='Beoordelen proefopdrachten'!$A$2 -> Balken en teksten | D52: Behaalde punten zwart-wit
B53: ='Beoordelen proefopdrachten'!$B$2 -> Grijswaarden | D53: PRINT: | E53: SCORE: | F53: KOPIE: | G53: SCORE:
D54: <MOTIVATIE> | F54: <MOTIVATIE>
D55: Behaalde punten zwart-wit
B56: ='Beoordelen proefopdrachten'!$B$4 -> Lichte tinten | D56: PRINT: | E56: SCORE: | F56: KOPIE: | G56: SCORE:
D57: <MOTIVATIE> | F57: <MOTIVATIE>
D58: Behaalde punten zwart-wit
B59: ='Beoordelen proefopdrachten'!$B$6 -> Felle tinten | D59: PRINT: | E59: SCORE: | F59: KOPIE: | G59: SCORE:
D60: <MOTIVATIE> | F60: <MOTIVATIE>
D61: Behaalde punten zwart-wit
B62: ='Beoordelen proefopdrachten'!$B$8 -> Teksten | D62: PRINT: | E62: SCORE: | F62: KOPIE: | G62: SCORE:
D63: <MOTIVATIE> | F63: <MOTIVATIE>
A64: ='Beoordelen proefopdrachten'!$A$10 -> Logo | D64: Behaalde punten zwart-wit
B65: ='Beoordelen proefopdrachten'!$B$10 -> Kleur/contrast | D65: PRINT: | E65: SCORE: | F65: KOPIE: | G65: SCORE:
D66: <MOTIVATIE> | F66: <MOTIVATIE>
A67: ='Beoordelen proefopdrachten'!$A$12 -> Algemeen | D67: Behaalde punten zwart-wit
B68: ='Beoordelen proefopdrachten'!$B$12 -> Strepen | D68: PRINT: | E68: SCORE: | F68: KOPIE: | G68: SCORE:
D69: <MOTIVATIE> | F69: <MOTIVATIE>
D70: Behaalde punten zwart-wit
B71: ='Beoordelen proefopdrachten'!$B$14 -> Recht | D71: PRINT: | E71: SCORE: | F71: KOPIE: | G71: SCORE:
D72: <MOTIVATIE> | F72: <MOTIVATIE>
B75: Beoordeling Type 4: Zwart-wit repromachine A4/A3 minimaal 70 PPM | D75: ='Beoordelen proefopdrachten'!A1 -> Beoordeling afdrukken testdocument ZAAM
A76: ='Beoordelen proefopdrachten'!$A$2 -> Balken en teksten | D76: Behaalde punten zwart-wit
B77: ='Beoordelen proefopdrachten'!$B$2 -> Grijswaarden | D77: PRINT: | E77: SCORE: | F77: KOPIE: | G77: SCORE:
D78: <MOTIVATIE> | F78: <MOTIVATIE>
D79: Behaalde punten zwart-wit
B80: ='Beoordelen proefopdrachten'!$B$4 -> Lichte tinten | D80: PRINT: | E80: SCORE: | F80: KOPIE: | G80: SCORE:
D81: <MOTIVATIE> | F81: <MOTIVATIE>
D82: Behaalde punten zwart-wit
B83: ='Beoordelen proefopdrachten'!$B$6 -> Felle tinten | D83: PRINT: | E83: SCORE: | F83: KOPIE: | G83: SCORE:
D84: <MOTIVATIE> | F84: <MOTIVATIE>
D85: Behaalde punten zwart-wit
B86: ='Beoordelen proefopdrachten'!$B$8 -> Teksten | D86: PRINT: | E86: SCORE: | F86: KOPIE: | G86: SCORE:
D87: <MOTIVATIE> | F87: <MOTIVATIE>
A88: ='Beoordelen proefopdrachten'!$A$10 -> Logo | D88: Behaalde punten zwart-wit
B89: ='Beoordelen proefopdrachten'!$B$10 -> Kleur/contrast | D89: PRINT: | E89: SCORE: | F89: KOPIE: | G89: SCORE:
D90: <MOTIVATIE> | F90: <MOTIVATIE>
A91: ='Beoordelen proefopdrachten'!$A$12 -> Algemeen | D91: Behaalde punten zwart-wit
B92: ='Beoordelen proefopdrachten'!$B$12 -> Strepen | D92: PRINT: | E92: SCORE: | F92: KOPIE: | G92: SCORE:
D93: <MOTIVATIE> | F93: <MOTIVATIE>
D94: Behaalde punten zwart-wit
B95: ='Beoordelen proefopdrachten'!$B$14 -> Recht | D95: PRINT: | E95: SCORE: | F95: KOPIE: | G95: SCORE:
D96: <MOTIVATIE> | F96: <MOTIVATIE>
B99: =B75 -> Beoordeling Type 4: Zwart-wit repromachine A4/A3 minimaal 70 PPM | D99: ='Beoordelen proefopdrachten'!A17 -> Beoordeling afdrukken testdocument REPRO
A100: ='Beoordelen proefopdrachten'!A18 -> Kleuren afbeelding | D100: Behaalde punten zwart-wit
B101: ='Beoordelen proefopdrachten'!B18 -> Blauwe tinten (lucht) | D101: PRINT: | E101: SCORE:
D102: <MOTIVATIE>
D103: Behaalde punten zwart-wit
B104: ='Beoordelen proefopdrachten'!B20 -> Gele tinten (zon) | D104: PRINT: | E104: SCORE:
D105: <MOTIVATIE>
D106: Behaalde punten zwart-wit
B107: ='Beoordelen proefopdrachten'!B22 -> Groene tinten (landschap) | D107: PRINT: | E107: SCORE:
D108: <MOTIVATIE>
B111: Beoordeling Type 5: Full color MFP A4/A3 minimaal 30 PPM | D111: ='Beoordelen proefopdrachten'!A1 -> Beoordeling afdrukken testdocument ZAAM
...

Sheet Beoordelaar 2
B1: Naam beoordelaar 2: <<>> | D1: ='Beoordelaar 1'!$D$1 -> Naam inschrijver: <<>>
B3: ='Beoordelaar 1'!$B$3 -> Beoordeling Type 1: Zwart-wit MFP A4 minimaal 40 PPM | D3: ='Beoordelen proefopdrachten'!A1 -> Beoordeling afdrukken testdocument ZAAM
A4: ='Beoordelen proefopdrachten'!$A$2 -> Balken en teksten | D4: Behaalde punten zwart-wit
B5: ='Beoordelen proefopdrachten'!$B$2 -> Grijswaarden | D5: PRINT: | E5: SCORE: | F5: KOPIE: | G5: SCORE:
D6: <MOTIVATIE> | F6: <MOTIVATIE>
D7: Behaalde punten zwart-wit
B8: ='Beoordelen proefopdrachten'!$B$4 -> Lichte tinten | D8: PRINT: | E8: SCORE: | F8: KOPIE: | G8: SCORE:
D9: <MOTIVATIE> | F9: <MOTIVATIE>
D10: Behaalde punten zwart-wit
B11: ='Beoordelen proefopdrachten'!$B$6 -> Felle tinten | D11: PRINT: | E11: SCORE: | F11: KOPIE: | G11: SCORE:
D12: <MOTIVATIE> | F12: <MOTIVATIE>
D13: Behaalde punten zwart-wit
B14: ='Beoordelen proefopdrachten'!$B$8 -> Teksten | D14: PRINT: | E14: SCORE: | F14: KOPIE: | G14: SCORE:
D15: <MOTIVATIE> | F15: <MOTIVATIE>
A16: ='Beoordelen proefopdrachten'!$A$10 -> Logo | D16: Behaalde punten zwart-wit
B17: ='Beoordelen proefopdrachten'!$B$10 -> Kleur/contrast | D17: PRINT: | E17: SCORE: | F17: KOPIE: | G17: SCORE:
D18: <MOTIVATIE> | F18: <MOTIVATIE>
A19: ='Beoordelen proefopdrachten'!$A$12 -> Algemeen | D19: Behaalde punten zwart-wit
B20: ='Beoordelen proefopdrachten'!$B$12 -> Strepen | D20: PRINT: | E20: SCORE: | F20: KOPIE: | G20: SCORE:
D21: <MOTIVATIE> | F21: <MOTIVATIE>
D22: Behaalde punten zwart-wit
B23: ='Beoordelen proefopdrachten'!$B$14 -> Recht | D23: PRINT: | E23: SCORE: | F23: KOPIE: | G23: SCORE:
D24: <MOTIVATIE> | F24: <MOTIVATIE>
B27: ='Beoordelaar 1'!$B$27 -> Beoordeling Type 2: Zwart-wit MFP A4/A3 minimaal 30 PPM | D27: ='Beoordelen proefopdrachten'!A1 -> Beoordeling afdrukken testdocument ZAAM
A28: ='Beoordelen proefopdrachten'!$A$2 -> Balken en teksten | D28: Behaalde punten zwart-wit
B29: ='Beoordelen proefopdrachten'!$B$2 -> Grijswaarden | D29: PRINT: | E29: SCORE: | F29: KOPIE: | G29: SCORE:
D30: <MOTIVATIE> | F30: <MOTIVATIE>
D31: Behaalde punten zwart-wit
B32: ='Beoordelen proefopdrachten'!$B$4 -> Lichte tinten | D32: PRINT: | E32: SCORE: | F32: KOPIE: | G32: SCORE:
D33: <MOTIVATIE> | F33: <MOTIVATIE>
D34: Behaalde punten zwart-wit
B35: ='Beoordelen proefopdrachten'!$B$6 -> Felle tinten | D35: PRINT: | E35: SCORE: | F35: KOPIE: | G35: SCORE:
D36: <MOTIVATIE> | F36: <MOTIVATIE>
D37: Behaalde punten zwart-wit
B38: ='Beoordelen proefopdrachten'!$B$8 -> Teksten | D38: PRINT: | E38: SCORE: | F38: KOPIE: | G38: SCORE:
D39: <MOTIVATIE> | F39: <MOTIVATIE>
A40: ='Beoordelen proefopdrachten'!$A$10 -> Logo | D40: Behaalde punten zwart-wit
B41: ='Beoordelen proefopdrachten'!$B$10 -> Kleur/contrast | D41: PRINT: | E41: SCORE: | F41: KOPIE: | G41: SCORE:
D42: <MOTIVATIE> | F42: <MOTIVATIE>
A43: ='Beoordelen proefopdrachten'!$A$12 -> Algemeen | D43: Behaalde punten zwart-wit
B44: ='Beoordelen proefopdrachten'!$B$12 -> Strepen | D44: PRINT: | E44: SCORE: | F44: KOPIE: | G44: SCORE:
D45: <MOTIVATIE> | F45: <MOTIVATIE>
D46: Behaalde punten zwart-wit
B47: ='Beoordelen proefopdrachten'!$B$14 -> Recht | D47: PRINT: | E47: SCORE: | F47: KOPIE: | G47: SCORE:
D48: <MOTIVATIE> | F48: <MOTIVATIE>
B51: ='Beoordelaar 1'!$B$51 -> Beoordeling Type 3: Zwart-wit MFP A4/A3 minimaal 50 PPM | D51: ='Beoordelen proefopdrachten'!A1 -> Beoordeling afdrukken testdocument ZAAM
A52: ='Beoordelen proefopdrachten'!$A$2 -> Balken en teksten | D52: Behaalde punten zwart-wit
B53: ='Beoordelen proefopdrachten'!$B$2 -> Grijswaarden | D53: PRINT: | E53: SCORE: | F53: KOPIE: | G53: SCORE:
D54: <MOTIVATIE> | F54: <MOTIVATIE>
D55: Behaalde punten zwart-wit
B56: ='Beoordelen proefopdrachten'!$B$4 -> Lichte tinten | D56: PRINT: | E56: SCORE: | F56: KOPIE: | G56: SCORE:
D57: <MOTIVATIE> | F57: <MOTIVATIE>
D58: Behaalde punten zwart-wit
B59: ='Beoordelen proefopdrachten'!$B$6 -> Felle tinten | D59: PRINT: | E59: SCORE: | F59: KOPIE: | G59: SCORE:
D60: <MOTIVATIE> | F60: <MOTIVATIE>
D61: Behaalde punten zwart-wit
B62: ='Beoordelen proefopdrachten'!$B$8 -> Teksten | D62: PRINT: | E62: SCORE: | F62: KOPIE: | G62: SCORE:
D63: <MOTIVATIE> | F63: <MOTIVATIE>
A64: ='Beoordelen proefopdrachten'!$A$10 -> Logo | D64: Behaalde punten zwart-wit
B65: ='Beoordelen proefopdrachten'!$B$10 -> Kleur/contrast | D65: PRINT: | E65: SCORE: | F65: KOPIE: | G65: SCORE:
D66: <MOTIVATIE> | F66: <MOTIVATIE>
A67: ='Beoordelen proefopdrachten'!$A$12 -> Algemeen | D67: Behaalde punten zwart-wit
B68: ='Beoordelen proefopdrachten'!$B$12 -> Strepen | D68: PRINT: | E68: SCORE: | F68: KOPIE: | G68: SCORE:
D69: <MOTIVATIE> | F69: <MOTIVATIE>
D70: Behaalde punten zwart-wit
B71: ='Beoordelen proefopdrachten'!$B$14 -> Recht | D71: PRINT: | E71: SCORE: | F71: KOPIE: | G71: SCORE:
D72: <MOTIVATIE> | F72: <MOTIVATIE>
B75: ='Beoordelaar 1'!$B$75 -> Beoordeling Type 4: Zwart-wit repromachine A4/A3 minimaal 70 PPM | D75: ='Beoordelen proefopdrachten'!A1 -> Beoordeling afdrukken testdocument ZAAM
A76: ='Beoordelen proefopdrachten'!$A$2 -> Balken en teksten | D76: Behaalde punten zwart-wit
B77: ='Beoordelen proefopdrachten'!$B$2 -> Grijswaarden | D77: PRINT: | E77: SCORE: | F77: KOPIE: | G77: SCORE:
D78: <MOTIVATIE> | F78: <MOTIVATIE>
D79: Behaalde punten zwart-wit
B80: ='Beoordelen proefopdrachten'!$B$4 -> Lichte tinten | D80: PRINT: | E80: SCORE: | F80: KOPIE: | G80: SCORE:
D81: <MOTIVATIE> | F81: <MOTIVATIE>
D82: Behaalde punten zwart-wit
B83: ='Beoordelen proefopdrachten'!$B$6 -> Felle tinten | D83: PRINT: | E83: SCORE: | F83: KOPIE: | G83: SCORE:
D84: <MOTIVATIE> | F84: <MOTIVATIE>
D85: Behaalde punten zwart-wit
B86: ='Beoordelen proefopdrachten'!$B$8 -> Teksten | D86: PRINT: | E86: SCORE: | F86: KOPIE: | G86: SCORE:
D87: <MOTIVATIE> | F87: <MOTIVATIE>
A88: ='Beoordelen proefopdrachten'!$A$10 -> Logo | D88: Behaalde punten zwart-wit
B89: ='Beoordelen proefopdrachten'!$B$10 -> Kleur/contrast | D89: PRINT: | E89: SCORE: | F89: KOPIE: | G89: SCORE:
D90: <MOTIVATIE> | F90: <MOTIVATIE>
A91: ='Beoordelen proefopdrachten'!$A$12 -> Algemeen | D91: Behaalde punten zwart-wit
B92: ='Beoordelen proefopdrachten'!$B$12 -> Strepen | D92: PRINT: | E92: SCORE: | F92: KOPIE: | G92: SCORE:
D93: <MOTIVATIE> | F93: <MOTIVATIE>
D94: Behaalde punten zwart-wit
B95: ='Beoordelen proefopdrachten'!$B$14 -> Recht | D95: PRINT: | E95: SCORE: | F95: KOPIE: | G95: SCORE:
D96: <MOTIVATIE> | F96: <MOTIVATIE>
B99: =B75 -> Beoordeling Type 4: Zwart-wit repromachine A4/A3 minimaal 70 PPM | D99: ='Beoordelen proefopdrachten'!A17 -> Beoordeling afdrukken testdocument REPRO
A100: ='Beoordelen proefopdrachten'!A18 -> Kleuren afbeelding | D100: Behaalde punten zwart-wit
B101: ='Beoordelen proefopdrachten'!B18 -> Blauwe tinten (lucht) | D101: PRINT: | E101: SCORE:
D102: <MOTIVATIE>
D103: Behaalde punten zwart-wit
B104: ='Beoordelen proefopdrachten'!B20 -> Gele tinten (zon) | D104: PRINT: | E104: SCORE:
D105: <MOTIVATIE>
D106: Behaalde punten zwart-wit
B107: ='Beoordelen proefopdrachten'!B22 -> Groene tinten (landschap) | D107: PRINT: | E107: SCORE:
D108: <MOTIVATIE>
B111: ='Beoordelaar 1'!$B$111 -> Beoordeling Type 5: Full color MFP A4/A3 minimaal 30 PPM | D111: ='Beoordelen proefopdrachten'!A1 -> Beoordeling afdrukken testdocument ZAAM
...

Sheet Beoordelaar 3
B1: Naam beoordelaar 3: <<>> | D1: ='Beoordelaar 1'!$D$1 -> Naam inschrijver: <<>>
B3: ='Beoordelaar 1'!$B$3 -> Beoordeling Type 1: Zwart-wit MFP A4 minimaal 40 PPM | D3: ='Beoordelen proefopdrachten'!A1 -> Beoordeling afdrukken testdocument ZAAM
A4: ='Beoordelen proefopdrachten'!$A$2 -> Balken en teksten | D4: Behaalde punten zwart-wit
B5: ='Beoordelen proefopdrachten'!$B$2 -> Grijswaarden | D5: PRINT: | E5: SCORE: | F5: KOPIE: | G5: SCORE:
D6: <MOTIVATIE> | F6: <MOTIVATIE>
D7: Behaalde punten zwart-wit
B8: ='Beoordelen proefopdrachten'!$B$4 -> Lichte tinten | D8: PRINT: | E8: SCORE: | F8: KOPIE: | G8: SCORE:
D9: <MOTIVATIE> | F9: <MOTIVATIE>
D10: Behaalde punten zwart-wit
B11: ='Beoordelen proefopdrachten'!$B$6 -> Felle tinten | D11: PRINT: | E11: SCORE: | F11: KOPIE: | G11: SCORE:
D12: <MOTIVATIE> | F12: <MOTIVATIE>
D13: Behaalde punten zwart-wit
B14: ='Beoordelen proefopdrachten'!$B$8 -> Teksten | D14: PRINT: | E14: SCORE: | F14: KOPIE: | G14: SCORE:
D15: <MOTIVATIE> | F15: <MOTIVATIE>
A16: ='Beoordelen proefopdrachten'!$A$10 -> Logo | D16: Behaalde punten zwart-wit
B17: ='Beoordelen proefopdrachten'!$B$10 -> Kleur/contrast | D17: PRINT: | E17: SCORE: | F17: KOPIE: | G17: SCORE:
D18: <MOTIVATIE> | F18: <MOTIVATIE>
A19: ='Beoordelen proefopdrachten'!$A$12 -> Algemeen | D19: Behaalde punten zwart-wit
B20: ='Beoordelen proefopdrachten'!$B$12 -> Strepen | D20: PRINT: | E20: SCORE: | F20: KOPIE: | G20: SCORE:
D21: <MOTIVATIE> | F21: <MOTIVATIE>
D22: Behaalde punten zwart-wit
B23: ='Beoordelen proefopdrachten'!$B$14 -> Recht | D23: PRINT: | E23: SCORE: | F23: KOPIE: | G23: SCORE:
D24: <MOTIVATIE> | F24: <MOTIVATIE>
B27: ='Beoordelaar 1'!$B$27 -> Beoordeling Type 2: Zwart-wit MFP A4/A3 minimaal 30 PPM | D27: ='Beoordelen proefopdrachten'!A1 -> Beoordeling afdrukken testdocument ZAAM
A28: ='Beoordelen proefopdrachten'!$A$2 -> Balken en teksten | D28: Behaalde punten zwart-wit
B29: ='Beoordelen proefopdrachten'!$B$2 -> Grijswaarden | D29: PRINT: | E29: SCORE: | F29: KOPIE: | G29: SCORE:
D30: <MOTIVATIE> | F30: <MOTIVATIE>
D31: Behaalde punten zwart-wit
B32: ='Beoordelen proefopdrachten'!$B$4 -> Lichte tinten | D32: PRINT: | E32: SCORE: | F32: KOPIE: | G32: SCORE:
D33: <MOTIVATIE> | F33: <MOTIVATIE>
D34: Behaalde punten zwart-wit
B35: ='Beoordelen proefopdrachten'!$B$6 -> Felle tinten | D35: PRINT: | E35: SCORE: | F35: KOPIE: | G35: SCORE:
D36: <MOTIVATIE> | F36: <MOTIVATIE>
D37: Behaalde punten zwart-wit
B38: ='Beoordelen proefopdrachten'!$B$8 -> Teksten | D38: PRINT: | E38: SCORE: | F38: KOPIE: | G38: SCORE:
D39: <MOTIVATIE> | F39: <MOTIVATIE>
A40: ='Beoordelen proefopdrachten'!$A$10 -> Logo | D40: Behaalde punten zwart-wit
B41: ='Beoordelen proefopdrachten'!$B$10 -> Kleur/contrast | D41: PRINT: | E41: SCORE: | F41: KOPIE: | G41: SCORE:
D42: <MOTIVATIE> | F42: <MOTIVATIE>
A43: ='Beoordelen proefopdrachten'!$A$12 -> Algemeen | D43: Behaalde punten zwart-wit
B44: ='Beoordelen proefopdrachten'!$B$12 -> Strepen | D44: PRINT: | E44: SCORE: | F44: KOPIE: | G44: SCORE:
D45: <MOTIVATIE> | F45: <MOTIVATIE>
D46: Behaalde punten zwart-wit
B47: ='Beoordelen proefopdrachten'!$B$14 -> Recht | D47: PRINT: | E47: SCORE: | F47: KOPIE: | G47: SCORE:
D48: <MOTIVATIE> | F48: <MOTIVATIE>
B51: ='Beoordelaar 1'!$B$51 -> Beoordeling Type 3: Zwart-wit MFP A4/A3 minimaal 50 PPM | D51: ='Beoordelen proefopdrachten'!A1 -> Beoordeling afdrukken testdocument ZAAM
A52: ='Beoordelen proefopdrachten'!$A$2 -> Balken en teksten | D52: Behaalde punten zwart-wit
B53: ='Beoordelen proefopdrachten'!$B$2 -> Grijswaarden | D53: PRINT: | E53: SCORE: | F53: KOPIE: | G53: SCORE:
D54: <MOTIVATIE> | F54: <MOTIVATIE>
D55: Behaalde punten zwart-wit
B56: ='Beoordelen proefopdrachten'!$B$4 -> Lichte tinten | D56: PRINT: | E56: SCORE: | F56: KOPIE: | G56: SCORE:
D57: <MOTIVATIE> | F57: <MOTIVATIE>
D58: Behaalde punten zwart-wit
B59: ='Beoordelen proefopdrachten'!$B$6 -> Felle tinten | D59: PRINT: | E59: SCORE: | F59: KOPIE: | G59: SCORE:
D60: <MOTIVATIE> | F60: <MOTIVATIE>
D61: Behaalde punten zwart-wit
B62: ='Beoordelen proefopdrachten'!$B$8 -> Teksten | D62: PRINT: | E62: SCORE: | F62: KOPIE: | G62: SCORE:
D63: <MOTIVATIE> | F63: <MOTIVATIE>
A64: ='Beoordelen proefopdrachten'!$A$10 -> Logo | D64: Behaalde punten zwart-wit
B65: ='Beoordelen proefopdrachten'!$B$10 -> Kleur/contrast | D65: PRINT: | E65: SCORE: | F65: KOPIE: | G65: SCORE:
D66: <MOTIVATIE> | F66: <MOTIVATIE>
A67: ='Beoordelen proefopdrachten'!$A$12 -> Algemeen | D67: Behaalde punten zwart-wit
B68: ='Beoordelen proefopdrachten'!$B$12 -> Strepen | D68: PRINT: | E68: SCORE: | F68: KOPIE: | G68: SCORE:
D69: <MOTIVATIE> | F69: <MOTIVATIE>
D70: Behaalde punten zwart-wit
B71: ='Beoordelen proefopdrachten'!$B$14 -> Recht | D71: PRINT: | E71: SCORE: | F71: KOPIE: | G71: SCORE:
D72: <MOTIVATIE> | F72: <MOTIVATIE>
B75: ='Beoordelaar 1'!$B$75 -> Beoordeling Type 4: Zwart-wit repromachine A4/A3 minimaal 70 PPM | D75: ='Beoordelen proefopdrachten'!A1 -> Beoordeling afdrukken testdocument ZAAM
A76: ='Beoordelen proefopdrachten'!$A$2 -> Balken en teksten | D76: Behaalde punten zwart-wit
B77: ='Beoordelen proefopdrachten'!$B$2 -> Grijswaarden | D77: PRINT: | E77: SCORE: | F77: KOPIE: | G77: SCORE:
D78: <MOTIVATIE> | F78: <MOTIVATIE>
D79: Behaalde punten zwart-wit
B80: ='Beoordelen proefopdrachten'!$B$4 -> Lichte tinten | D80: PRINT: | E80: SCORE: | F80: KOPIE: | G80: SCORE:
D81: <MOTIVATIE> | F81: <MOTIVATIE>
D82: Behaalde punten zwart-wit
B83: ='Beoordelen proefopdrachten'!$B$6 -> Felle tinten | D83: PRINT: | E83: SCORE: | F83: KOPIE: | G83: SCORE:
D84: <MOTIVATIE> | F84: <MOTIVATIE>
D85: Behaalde punten zwart-wit
B86: ='Beoordelen proefopdrachten'!$B$8 -> Teksten | D86: PRINT: | E86: SCORE: | F86: KOPIE: | G86: SCORE:
D87: <MOTIVATIE> | F87: <MOTIVATIE>
A88: ='Beoordelen proefopdrachten'!$A$10 -> Logo | D88: Behaalde punten zwart-wit
B89: ='Beoordelen proefopdrachten'!$B$10 -> Kleur/contrast | D89: PRINT: | E89: SCORE: | F89: KOPIE: | G89: SCORE:
D90: <MOTIVATIE> | F90: <MOTIVATIE>
A91: ='Beoordelen proefopdrachten'!$A$12 -> Algemeen | D91: Behaalde punten zwart-wit
B92: ='Beoordelen proefopdrachten'!$B$12 -> Strepen | D92: PRINT: | E92: SCORE: | F92: KOPIE: | G92: SCORE:
D93: <MOTIVATIE> | F93: <MOTIVATIE>
D94: Behaalde punten zwart-wit
B95: ='Beoordelen proefopdrachten'!$B$14 -> Recht | D95: PRINT: | E95: SCORE: | F95: KOPIE: | G95: SCORE:
D96: <MOTIVATIE> | F96: <MOTIVATIE>
B99: =B75 -> Beoordeling Type 4: Zwart-wit repromachine A4/A3 minimaal 70 PPM | D99: ='Beoordelen proefopdrachten'!A17 -> Beoordeling afdrukken testdocument REPRO
A100: ='Beoordelen proefopdrachten'!A18 -> Kleuren afbeelding | D100: Behaalde punten zwart-wit
B101: ='Beoordelen proefopdrachten'!B18 -> Blauwe tinten (lucht) | D101: PRINT: | E101: SCORE:
D102: <MOTIVATIE>
D103: Behaalde punten zwart-wit
B104: ='Beoordelen proefopdrachten'!B20 -> Gele tinten (zon) | D104: PRINT: | E104: SCORE:
D105: <MOTIVATIE>
D106: Behaalde punten zwart-wit
B107: ='Beoordelen proefopdrachten'!B22 -> Groene tinten (landschap) | D107: PRINT: | E107: SCORE:
D108: <MOTIVATIE>
B111: ='Beoordelaar 1'!$B$111 -> Beoordeling Type 5: Full color MFP A4/A3 minimaal 30 PPM | D111: ='Beoordelen proefopdrachten'!A1 -> Beoordeling afdrukken testdocument ZAAM
...

Sheet Scores per item
E1: ='Beoordelaar 1'!D1 -> Naam inschrijver: <<>>
E3: ='Beoordelen proefopdrachten'!A1 -> Beoordeling afdrukken testdocument ZAAM
A4: ='Beoordelaar 1'!B3 -> Beoordeling Type 1: Zwart-wit MFP A4 minimaal 40 PPM | E4: Print ZW | G4: Kopie ZW
A5: ='Beoordelen proefopdrachten'!$A$2 -> Balken en teksten | B5: ='Beoordelen proefopdrachten'!$B$2 -> Grijswaarden | C5: ='Beoordelaar 1'!$B$1 -> Naam beoordelaar 1: <<>> | E5: ='Beoordelaar 1'!E5 -> SCORE: | F5: <<motivatie PRINT ZW>> | G5: ='Beoordelaar 1'!G5 -> SCORE: | H5: <<motivatie KOPIE ZW>>
C6: ='Beoordelaar 2'!$B$1 -> Naam beoordelaar 2: <<>> | E6: ='Beoordelaar 2'!E5 -> SCORE: | G6: ='Beoordelaar 2'!G5 -> SCORE:
C7: ='Beoordelaar 3'!$B$1 -> Naam beoordelaar 3: <<>> | E7: ='Beoordelaar 3'!E5 -> SCORE: | G7: ='Beoordelaar 3'!G5 -> SCORE:
C8: Consensus | E8: SCORE: | G8: SCORE:
B9: ='Beoordelen proefopdrachten'!$B$4 -> Lichte tinten | C9: ='Beoordelaar 1'!$B$1 -> Naam beoordelaar 1: <<>> | E9: ='Beoordelaar 1'!E8 -> SCORE: | F9: <<motivatie PRINT ZW>> | G9: ='Beoordelaar 1'!G8 -> SCORE: | H9: <<motivatie KOPIE ZW>>
C10: ='Beoordelaar 2'!$B$1 -> Naam beoordelaar 2: <<>> | E10: ='Beoordelaar 2'!E8 -> SCORE: | G10: ='Beoordelaar 2'!G8 -> SCORE:
C11: ='Beoordelaar 3'!$B$1 -> Naam beoordelaar 3: <<>> | E11: ='Beoordelaar 3'!E8 -> SCORE: | G11: ='Beoordelaar 3'!G8 -> SCORE:
C12: Consensus | E12: SCORE: | G12: SCORE:
B13: ='Beoordelen proefopdrachten'!$B$6 -> Felle tinten | C13: ='Beoordelaar 1'!$B$1 -> Naam beoordelaar 1: <<>> | E13: ='Beoordelaar 1'!E11 -> SCORE: | F13: <<motivatie PRINT ZW>> | G13: ='Beoordelaar 1'!G11 -> SCORE: | H13: <<motivatie KOPIE ZW>>
C14: ='Beoordelaar 2'!$B$1 -> Naam beoordelaar 2: <<>> | E14: ='Beoordelaar 2'!E11 -> SCORE: | G14: ='Beoordelaar 2'!G11 -> SCORE:
C15: ='Beoordelaar 3'!$B$1 -> Naam beoordelaar 3: <<>> | E15: ='Beoordelaar 3'!E11 -> SCORE: | G15: ='Beoordelaar 3'!G11 -> SCORE:
C16: Consensus | E16: SCORE: | G16: SCORE:
B17: ='Beoordelen proefopdrachten'!$B$8 -> Teksten | C17: ='Beoordelaar 1'!$B$1 -> Naam beoordelaar 1: <<>> | E17: ='Beoordelaar 1'!E14 -> SCORE: | F17: <<motivatie PRINT ZW>> | G17: ='Beoordelaar 1'!G14 -> SCORE: | H17: <<motivatie KOPIE ZW>>
C18: ='Beoordelaar 2'!$B$1 -> Naam beoordelaar 2: <<>> | E18: ='Beoordelaar 2'!E14 -> SCORE: | G18: ='Beoordelaar 2'!G14 -> SCORE:
C19: ='Beoordelaar 3'!$B$1 -> Naam beoordelaar 3: <<>> | E19: ='Beoordelaar 3'!E14 -> SCORE: | G19: ='Beoordelaar 3'!G14 -> SCORE:
C20: Consensus | E20: SCORE: | G20: SCORE:
A21: ='Beoordelen proefopdrachten'!$A$10 -> Logo | B21: ='Beoordelen proefopdrachten'!$B$10 -> Kleur/contrast | C21: ='Beoordelaar 1'!$B$1 -> Naam beoordelaar 1: <<>> | E21: ='Beoordelaar 1'!E17 -> SCORE: | F21: <<motivatie PRINT ZW>> | G21: ='Beoordelaar 1'!G17 -> SCORE: | H21: <<motivatie KOPIE ZW>>
C22: ='Beoordelaar 2'!$B$1 -> Naam beoordelaar 2: <<>> | E22: ='Beoordelaar 2'!E17 -> SCORE: | G22: ='Beoordelaar 2'!G17 -> SCORE:
C23: ='Beoordelaar 3'!$B$1 -> Naam beoordelaar 3: <<>> | E23: ='Beoordelaar 3'!E17 -> SCORE: | G23: ='Beoordelaar 3'!G17 -> SCORE:
C24: Consensus | E24: SCORE: | G24: SCORE:
A25: ='Beoordelen proefopdrachten'!$A$12 -> Algemeen | B25: ='Beoordelen proefopdrachten'!$B$12 -> Strepen | C25: ='Beoordelaar 1'!$B$1 -> Naam beoordelaar 1: <<>> | E25: ='Beoordelaar 1'!E20 -> SCORE: | F25: <<motivatie PRINT ZW>> | G25: ='Beoordelaar 1'!G20 -> SCORE: | H25: <<motivatie KOPIE ZW>>
C26: ='Beoordelaar 2'!$B$1 -> Naam beoordelaar 2: <<>> | E26: ='Beoordelaar 2'!E20 -> SCORE: | G26: ='Beoordelaar 2'!G20 -> SCORE:
C27: ='Beoordelaar 3'!$B$1 -> Naam beoordelaar 3: <<>> | E27: ='Beoordelaar 3'!E20 -> SCORE: | G27: ='Beoordelaar 3'!G20 -> SCORE:
C28: Consensus | E28: SCORE: | G28: SCORE:
B29: ='Beoordelen proefopdrachten'!$B$14 -> Recht | C29: ='Beoordelaar 1'!$B$1 -> Naam beoordelaar 1: <<>> | E29: ='Beoordelaar 1'!E23 -> SCORE: | F29: <<motivatie PRINT ZW>> | G29: ='Beoordelaar 1'!G23 -> SCORE: | H29: <<motivatie KOPIE ZW>>
C30: ='Beoordelaar 2'!$B$1 -> Naam beoordelaar 2: <<>> | E30: ='Beoordelaar 2'!E23 -> SCORE: | G30: ='Beoordelaar 2'!G23 -> SCORE:
C31: ='Beoordelaar 3'!$B$1 -> Naam beoordelaar 3: <<>> | E31: ='Beoordelaar 3'!E23 -> SCORE: | G31: ='Beoordelaar 3'!G23 -> SCORE:
C32: Consensus | E32: SCORE: | G32: SCORE:
E34: ='Beoordelen proefopdrachten'!A1 -> Beoordeling afdrukken testdocument ZAAM
A35: ='Beoordelaar 1'!B27 -> Beoordeling Type 2: Zwart-wit MFP A4/A3 minimaal 30 PPM | E35: Print ZW | G35: Kopie ZW
A36: ='Beoordelen proefopdrachten'!$A$2 -> Balken en teksten | B36: ='Beoordelen proefopdrachten'!$B$2 -> Grijswaarden | C36: ='Beoordelaar 1'!$B$1 -> Naam beoordelaar 1: <<>> | E36: ='Beoordelaar 1'!E29 -> SCORE: | F36: <<motivatie PRINT ZW>> | G36: ='Beoordelaar 1'!G29 -> SCORE: | H36: <<motivatie KOPIE ZW>>
C37: ='Beoordelaar 2'!$B$1 -> Naam beoordelaar 2: <<>> | E37: ='Beoordelaar 2'!E29 -> SCORE: | G37: ='Beoordelaar 2'!G29 -> SCORE:
C38: ='Beoordelaar 3'!$B$1 -> Naam beoordelaar 3: <<>> | E38: ='Beoordelaar 3'!E29 -> SCORE: | G38: ='Beoordelaar 3'!G29 -> SCORE:
C39: Consensus | E39: SCORE: | G39: SCORE:
B40: ='Beoordelen proefopdrachten'!$B$4 -> Lichte tinten | C40: ='Beoordelaar 1'!$B$1 -> Naam beoordelaar 1: <<>> | E40: ='Beoordelaar 1'!E32 -> SCORE: | F40: <<motivatie PRINT ZW>> | G40: ='Beoordelaar 1'!G32 -> SCORE: | H40: <<motivatie KOPIE ZW>>
C41: ='Beoordelaar 2'!$B$1 -> Naam beoordelaar 2: <<>> | E41: ='Beoordelaar 2'!E32 -> SCORE: | G41: ='Beoordelaar 2'!G32 -> SCORE:
C42: ='Beoordelaar 3'!$B$1 -> Naam beoordelaar 3: <<>> | E42: ='Beoordelaar 3'!E32 -> SCORE: | G42: ='Beoordelaar 3'!G32 -> SCORE:
C43: Consensus | E43: SCORE: | G43: SCORE:
B44: ='Beoordelen proefopdrachten'!$B$6 -> Felle tinten | C44: ='Beoordelaar 1'!$B$1 -> Naam beoordelaar 1: <<>> | E44: ='Beoordelaar 1'!E35 -> SCORE: | F44: <<motivatie PRINT ZW>> | G44: ='Beoordelaar 1'!G35 -> SCORE: | H44: <<motivatie KOPIE ZW>>
C45: ='Beoordelaar 2'!$B$1 -> Naam beoordelaar 2: <<>> | E45: ='Beoordelaar 2'!E35 -> SCORE: | G45: ='Beoordelaar 2'!G35 -> SCORE:
C46: ='Beoordelaar 3'!$B$1 -> Naam beoordelaar 3: <<>> | E46: ='Beoordelaar 3'!E35 -> SCORE: | G46: ='Beoordelaar 3'!G35 -> SCORE:
C47: Consensus | E47: SCORE: | G47: SCORE:
B48: ='Beoordelen proefopdrachten'!$B$8 -> Teksten | C48: ='Beoordelaar 1'!$B$1 -> Naam beoordelaar 1: <<>> | E48: ='Beoordelaar 1'!E38 -> SCORE: | F48: <<motivatie PRINT ZW>> | G48: ='Beoordelaar 1'!G38 -> SCORE: | H48: <<motivatie KOPIE ZW>>
C49: ='Beoordelaar 2'!$B$1 -> Naam beoordelaar 2: <<>> | E49: ='Beoordelaar 2'!E38 -> SCORE: | G49: ='Beoordelaar 2'!G38 -> SCORE:
C50: ='Beoordelaar 3'!$B$1 -> Naam beoordelaar 3: <<>> | E50: ='Beoordelaar 3'!E38 -> SCORE: | G50: ='Beoordelaar 3'!G38 -> SCORE:
C51: Consensus | E51: SCORE: | G51: SCORE:
A52: ='Beoordelen proefopdrachten'!$A$10 -> Logo | B52: ='Beoordelen proefopdrachten'!$B$10 -> Kleur/contrast | C52: ='Beoordelaar 1'!$B$1 -> Naam beoordelaar 1: <<>> | E52: ='Beoordelaar 1'!E41 -> SCORE: | F52: <<motivatie PRINT ZW>> | G52: ='Beoordelaar 1'!G41 -> SCORE: | H52: <<motivatie KOPIE ZW>>
C53: ='Beoordelaar 2'!$B$1 -> Naam beoordelaar 2: <<>> | E53: ='Beoordelaar 2'!E41 -> SCORE: | G53: ='Beoordelaar 2'!G41 -> SCORE:
C54: ='Beoordelaar 3'!$B$1 -> Naam beoordelaar 3: <<>> | E54: ='Beoordelaar 3'!E41 -> SCORE: | G54: ='Beoordelaar 3'!G41 -> SCORE:
C55: Consensus | E55: SCORE: | G55: SCORE:
A56: ='Beoordelen proefopdrachten'!$A$12 -> Algemeen | B56: ='Beoordelen proefopdrachten'!$B$12 -> Strepen | C56: ='Beoordelaar 1'!$B$1 -> Naam beoordelaar 1: <<>> | E56: ='Beoordelaar 1'!E44 -> SCORE: | F56: <<motivatie PRINT ZW>> | G56: ='Beoordelaar 1'!G44 -> SCORE: | H56: <<motivatie KOPIE ZW>>
C57: ='Beoordelaar 2'!$B$1 -> Naam beoordelaar 2: <<>> | E57: ='Beoordelaar 2'!E44 -> SCORE: | G57: ='Beoordelaar 2'!G44 -> SCORE:
C58: ='Beoordelaar 3'!$B$1 -> Naam beoordelaar 3: <<>> | E58: ='Beoordelaar 3'!E44 -> SCORE: | G58: ='Beoordelaar 3'!G44 -> SCORE:
C59: Consensus | E59: SCORE: | G59: SCORE:
B60: ='Beoordelen proefopdrachten'!$B$14 -> Recht | C60: ='Beoordelaar 1'!$B$1 -> Naam beoordelaar 1: <<>> | E60: ='Beoordelaar 1'!E47 -> SCORE: | F60: <<motivatie PRINT ZW>> | G60: ='Beoordelaar 1'!G47 -> SCORE: | H60: <<motivatie KOPIE ZW>>
C61: ='Beoordelaar 2'!$B$1 -> Naam beoordelaar 2: <<>> | E61: ='Beoordelaar 2'!E47 -> SCORE: | G61: ='Beoordelaar 2'!G47 -> SCORE:
C62: ='Beoordelaar 3'!$B$1 -> Naam beoordelaar 3: <<>> | E62: ='Beoordelaar 3'!E47 -> SCORE: | G62: ='Beoordelaar 3'!G47 -> SCORE:
C63: Consensus | E63: SCORE: | G63: SCORE:
E65: ='Beoordelen proefopdrachten'!A1 -> Beoordeling afdrukken testdocument ZAAM
A66: ='Beoordelaar 1'!B51 -> Beoordeling Type 3: Zwart-wit MFP A4/A3 minimaal 50 PPM | E66: Print ZW | G66: Kopie ZW
A67: ='Beoordelen proefopdrachten'!$A$2 -> Balken en teksten | B67: ='Beoordelen proefopdrachten'!$B$2 -> Grijswaarden | C67: ='Beoordelaar 1'!$B$1 -> Naam beoordelaar 1: <<>> | E67: ='Beoordelaar 1'!E53 -> SCORE: | F67: <<motivatie PRINT ZW>> | G67: ='Beoordelaar 1'!G53 -> SCORE: | H67: <<motivatie KOPIE ZW>>
C68: ='Beoordelaar 2'!$B$1 -> Naam beoordelaar 2: <<>> | E68: ='Beoordelaar 2'!E53 -> SCORE: | G68: ='Beoordelaar 2'!G53 -> SCORE:
C69: ='Beoordelaar 3'!$B$1 -> Naam beoordelaar 3: <<>> | E69: ='Beoordelaar 3'!E53 -> SCORE: | G69: ='Beoordelaar 3'!G53 -> SCORE:
C70: Consensus | E70: SCORE: | G70: SCORE:
B71: ='Beoordelen proefopdrachten'!$B$4 -> Lichte tinten | C71: ='Beoordelaar 1'!$B$1 -> Naam beoordelaar 1: <<>> | E71: ='Beoordelaar 1'!E56 -> SCORE: | F71: <<motivatie PRINT ZW>> | G71: ='Beoordelaar 1'!G56 -> SCORE: | H71: <<motivatie KOPIE ZW>>
C72: ='Beoordelaar 2'!$B$1 -> Naam beoordelaar 2: <<>> | E72: ='Beoordelaar 2'!E56 -> SCORE: | G72: ='Beoordelaar 2'!G56 -> SCORE:
C73: ='Beoordelaar 3'!$B$1 -> Naam beoordelaar 3: <<>> | E73: ='Beoordelaar 3'!E56 -> SCORE: | G73: ='Beoordelaar 3'!G56 -> SCORE:
C74: Consensus | E74: SCORE: | G74: SCORE:
B75: ='Beoordelen proefopdrachten'!$B$6 -> Felle tinten | C75: ='Beoordelaar 1'!$B$1 -> Naam beoordelaar 1: <<>> | E75: ='Beoordelaar 1'!E59 -> SCORE: | F75: <<motivatie PRINT ZW>> | G75: ='Beoordelaar 1'!G59 -> SCORE: | H75: <<motivatie KOPIE ZW>>
C76: ='Beoordelaar 2'!$B$1 -> Naam beoordelaar 2: <<>> | E76: ='Beoordelaar 2'!E59 -> SCORE: | G76: ='Beoordelaar 2'!G59 -> SCORE:
C77: ='Beoordelaar 3'!$B$1 -> Naam beoordelaar 3: <<>> | E77: ='Beoordelaar 3'!E59 -> SCORE: | G77: ='Beoordelaar 3'!G59 -> SCORE:
C78: Consensus | E78: SCORE: | G78: SCORE:
B79: ='Beoordelen proefopdrachten'!$B$8 -> Teksten | C79: ='Beoordelaar 1'!$B$1 -> Naam beoordelaar 1: <<>> | E79: ='Beoordelaar 1'!E62 -> SCORE: | F79: <<motivatie PRINT ZW>> | G79: ='Beoordelaar 1'!G62 -> SCORE: | H79: <<motivatie KOPIE ZW>>
C80: ='Beoordelaar 2'!$B$1 -> Naam beoordelaar 2: <<>> | E80: ='Beoordelaar 2'!E62 -> SCORE: | G80: ='Beoordelaar 2'!G62 -> SCORE:
C81: ='Beoordelaar 3'!$B$1 -> Naam beoordelaar 3: <<>> | E81: ='Beoordelaar 3'!E62 -> SCORE: | G81: ='Beoordelaar 3'!G62 -> SCORE:
C82: Consensus | E82: SCORE: | G82: SCORE:
A83: ='Beoordelen proefopdrachten'!$A$10 -> Logo | B83: ='Beoordelen proefopdrachten'!$B$10 -> Kleur/contrast | C83: ='Beoordelaar 1'!$B$1 -> Naam beoordelaar 1: <<>> | E83: ='Beoordelaar 1'!E65 -> SCORE: | F83: <<motivatie PRINT ZW>> | G83: ='Beoordelaar 1'!G65 -> SCORE: | H83: <<motivatie KOPIE ZW>>
C84: ='Beoordelaar 2'!$B$1 -> Naam beoordelaar 2: <<>> | E84: ='Beoordelaar 2'!E65 -> SCORE: | G84: ='Beoordelaar 2'!G65 -> SCORE:
C85: ='Beoordelaar 3'!$B$1 -> Naam beoordelaar 3: <<>> | E85: ='Beoordelaar 3'!E65 -> SCORE: | G85: ='Beoordelaar 3'!G65 -> SCORE:
C86: Consensus | E86: SCORE: | G86: SCORE:
A87: ='Beoordelen proefopdrachten'!$A$12 -> Algemeen | B87: ='Beoordelen proefopdrachten'!$B$12 -> Strepen | C87: ='Beoordelaar 1'!$B$1 -> Naam beoordelaar 1: <<>> | E87: ='Beoordelaar 1'!E68 -> SCORE: | F87: <<motivatie PRINT ZW>> | G87: ='Beoordelaar 1'!G68 -> SCORE: | H87: <<motivatie KOPIE ZW>>
C88: ='Beoordelaar 2'!$B$1 -> Naam beoordelaar 2: <<>> | E88: ='Beoordelaar 2'!E68 -> SCORE: | G88: ='Beoordelaar 2'!G68 -> SCORE:
C89: ='Beoordelaar 3'!$B$1 -> Naam beoordelaar 3: <<>> | E89: ='Beoordelaar 3'!E68 -> SCORE: | G89: ='Beoordelaar 3'!G68 -> SCORE:
C90: Consensus | E90: SCORE: | G90: SCORE:
B91: ='Beoordelen proefopdrachten'!$B$14 -> Recht | C91: ='Beoordelaar 1'!$B$1 -> Naam beoordelaar 1: <<>> | E91: ='Beoordelaar 1'!E71 -> SCORE: | F91: <<motivatie PRINT ZW>> | G91: ='Beoordelaar 1'!G71 -> SCORE: | H91: <<motivatie KOPIE ZW>>
C92: ='Beoordelaar 2'!$B$1 -> Naam beoordelaar 2: <<>> | E92: ='Beoordelaar 2'!E71 -> SCORE: | G92: ='Beoordelaar 2'!G71 -> SCORE:
C93: ='Beoordelaar 3'!$B$1 -> Naam beoordelaar 3: <<>> | E93: ='Beoordelaar 3'!E71 -> SCORE: | G93: ='Beoordelaar 3'!G71 -> SCORE:
C94: Consensus | E94: SCORE: | G94: SCORE:
E96: ='Beoordelen proefopdrachten'!A1 -> Beoordeling afdrukken testdocument ZAAM
A97: ='Beoordelaar 1'!B75 -> Beoordeling Type 4: Zwart-wit repromachine A4/A3 minimaal 70 PPM | E97: Print ZW | G97: Kopie ZW
A98: ='Beoordelen proefopdrachten'!$A$2 -> Balken en teksten | B98: ='Beoordelen proefopdrachten'!$B$2 -> Grijswaarden | C98: ='Beoordelaar 1'!$B$1 -> Naam beoordelaar 1: <<>> | E98: ='Beoordelaar 1'!E77 -> SCORE: | F98: <<motivatie PRINT ZW>> | G98: ='Beoordelaar 1'!G77 -> SCORE: | H98: <<motivatie KOPIE ZW>>
C99: ='Beoordelaar 2'!$B$1 -> Naam beoordelaar 2: <<>> | E99: ='Beoordelaar 2'!E77 -> SCORE: | G99: ='Beoordelaar 2'!G77 -> SCORE:
C100: ='Beoordelaar 3'!$B$1 -> Naam beoordelaar 3: <<>> | E100: ='Beoordelaar 3'!E77 -> SCORE: | G100: ='Beoordelaar 3'!G77 -> SCORE:
C101: Consensus | E101: SCORE: | G101: SCORE:
B102: ='Beoordelen proefopdrachten'!$B$4 -> Lichte tinten | C102: ='Beoordelaar 1'!$B$1 -> Naam beoordelaar 1: <<>> | E102: ='Beoordelaar 1'!E80 -> SCORE: | F102: <<motivatie PRINT ZW>> | G102: ='Beoordelaar 1'!G80 -> SCORE: | H102: <<motivatie KOPIE ZW>>
C103: ='Beoordelaar 2'!$B$1 -> Naam beoordelaar 2: <<>> | E103: ='Beoordelaar 2'!E80 -> SCORE: | G103: ='Beoordelaar 2'!G80 -> SCORE:
C104: ='Beoordelaar 3'!$B$1 -> Naam beoordelaar 3: <<>> | E104: ='Beoordelaar 3'!E80 -> SCORE: | G104: ='Beoordelaar 3'!G80 -> SCORE:
...
