Workbook
Name SCORE: 'Beoordelen proefopdrachten'!$A$24:$A$26

Sheet Beoordelen proefopdrachten
A1: Beoordeling afdrukken testdocument ZAAM
A2: Balken en teksten | B2: Grijswaarden | C2: Voldoet | D2: Grijswaarden zijn 100% zichtbaar (kleur zoals bedoeld)
C3: Voldoet niet | D3: Grijswaarden zijn (deels) niet meer zichtbaar of onderscheid tussen verschillende grijswaarden is niet meer zichtbaar
B4: Lichte tinten | C4: Voldoet | D4: Lichte tinten zijn 100% zichtbaar (kleur zoals bedoeld)
C5: Voldoet niet | D5: Lichte tinten zijn (deels) niet meer zichtbaar of onderscheid tussen verschillende tinten is niet meer zichtbaar
B6: Felle tinten | C6: Voldoet | D6: Felle tinten zijn 100% zichtbaar (kleur zoals bedoeld)
C7: Voldoet niet | D7: Felle tinten zijn (deels) niet meer zichtbaar of onderscheid tussen verschillende tinten is niet meer zichtbaar
B8: Teksten | C8: Voldoet | D8: Alle teksten zijn zichtbaar en leesbaar
C9: Voldoet niet | D9: Teksten zijn (deels) niet meer zichtbaar of niet meer leesbaar
A10: Logo | B10: Kleur/contrast | C10: Voldoet | D10: Logo is vergelijkbaar of beter dan op de referentieafdruk
C11: Voldoet niet | D11: Logo is minder goed dan op de referentieafdruk
A12: Algemeen | B12: Strepen | C12: Voldoet | D12: Geen streepvorming
C13: Voldoet niet | D13: Streepvorming (banen, strepen, vervuiling)
B14: Recht | C14: Voldoet | D14: Afwijking maximaal 1 mm (links en rechts gemeten)
C15: Voldoet niet | D15: Afwijking van meer dan 1 mm
A16: SCORE:
A17: Beoordeling afdrukken testdocument REPRO
A18: Kleuren afbeelding | B18: Blauwe tinten (lucht) | C18: Voldoet | D18: Blauwe tinten zijn 100% zichtbaar (kleur zoals bedoeld)
C19: Voldoet niet | D19: Blauwe tinten zijn (deels) niet meer zichtbaar of kleur is niet zoals bedoeld
B20: Gele tinten (zon) | C20: Voldoet | D20: Gele tinten zijn 100% zichtbaar (kleur zoals bedoeld)
C21: Voldoet niet | D21: Gele tinten zijn (deels) niet meer zichtbaar of onderscheid tussen verschillende tinten is niet meer zichtbaar
B22: Groene tinten (landschap) | C22: Voldoet | D22: Groene tinten zijn 100% zichtbaar (kleur zoals bedoeld)
C23: Voldoet niet | D23: Groene tinten zijn (deels) niet meer zichtbaar of onderscheid tussen verschillende tinten is niet meer zichtbaar
A24: SCORE:
A25: Voldoet
A26: Voldoet niet

Sheet Beoordelaar 1
B1: Naam beoordelaar 1: <<>> | D1: Naam inschrijver: <<>>
B3: Beoordeling Type 1: Zwart-wit MFP A4 minimaal 40 PPM | D3: ='Beoordelen proefopdrachten'!A1 -> Beoordeling afdrukken testdocument ZAAM
A4: ='Beoordelen proefopdrachten'!$A$2 -> Balken en teksten | D4: Behaalde punten zwart-wit
B5: ='Beoordelen proefopdrachten'!$B$2 -> Grijswaarden | D5: PRINT: | E5: SCORE: | F5: KOPIE: | G5: SCORE:
D6: <MOTIVATIE> | F6: <MOTIVATIE>
D7: Behaalde punten zwart-wit
B8: ='Beoordelen proefopdrachten'!$B$4 -> Lichte tinten | D8: PRINT: | E8: SCORE: | F8: KOPIE: | G8: SCORE:
D9: <MOTIVATIE> | F9: <MOTIVATIE>
D10: Behaalde punten zwart-wit
B11: ='Beoordelen proefopdrachten'!$B$6 -> Felle tinten | D11: PRINT: | E11: SCORE: | F11: KOPIE: | G11: SCORE:
D12: <MOTIVATIE> | F12: <MOTIVATIE>
D13: Behaalde punten zwart-wit
B14: ='Beoordelen proefopdrachten'!$B$8 -> Teksten | D14: PRINT: | E14: SCORE: | F14: KOPIE: | G14: SCORE:
D15: <MOTIVATIE> | F15: <MOTIVATIE>
A16: ='Beoordelen proefopdrachten'!$A$10 -> Logo | D16: Behaalde punten zwart-wit
B17: ='Beoordelen proefopdrachten'!$B$10 -> Kleur/contrast | D17: PRINT: | E17: SCORE: | F17: KOPIE: | G17: SCORE:
D18: <MOTIVATIE> | F18: <MOTIVATIE>
A19: ='Beoordelen proefopdrachten'!$A$12 -> Algemeen | D19: Behaalde punten zwart-wit
B20: ='Beoordelen proefopdrachten'!$B$12 -> Strepen | D20: PRINT: | E20: SCORE: | F20: KOPIE: | G20: SCORE:
D21: <MOTIVATIE> | F21: <MOTIVATIE>
D22: Behaalde punten zwart-wit
B23: ='Beoordelen proefopdrachten'!$B$14 -> Recht | D23: PRINT: | E23: SCORE: | F23: KOPIE: | G23: SCORE:
D24: <MOTIVATIE> | F24: <MOTIVATIE>
B27: Beoordeling Type 2: Zwart-wit MFP A4/A3 minimaal 30 PPM | D27: ='Beoordelen proefopdrachten'!A1 -> Beoordeling afdrukken testdocument ZAAM
A28: ='Beoordelen proefopdrachten'!$A$2 -> Balken en teksten | D28: Behaalde punten zwart-wit
B29: ='Beoordelen proefopdrachten'!$B$2 -> Grijswaarden | D29: PRINT: | E29: SCORE: | F29: KOPIE: | G29: SCORE:
D30: <MOTIVATIE> | F30: <MOTIVATIE>
D31: Behaalde punten zwart-wit
B32: ='Beoordelen proefopdrachten'!$B$4 -> Lichte tinten | D32: PRINT: | E32: SCORE: | F32: KOPIE: | G32: SCORE:
D33: <MOTIVATIE> | F33: <MOTIVATIE>
D34: Behaalde punten zwart-wit
B35: ='Beoordelen proefopdrachten'!$B$6 -> Felle tinten | D35: PRINT: | E35: SCORE: | F35: KOPIE: | G35: SCORE:
D36: <MOTIVATIE> | F36: <MOTIVATIE>
D37: Behaalde punten zwart-wit
B38: ='Beoordelen proefopdrachten'!$B$8 -> Teksten | D38: PRINT: | E38: SCORE: | F38: KOPIE: | G38: SCORE:
D39: <MOTIVATIE> | F39: <MOTIVATIE>
A40: ='Beoordelen proefopdrachten'!$A$10 -> Logo | D40: Behaalde punten zwart-wit
B41: ='Beoordelen proefopdrachten'!$B$10 -> Kleur/contrast | D41: PRINT: | E41: SCORE: | F41: KOPIE: | G41: SCORE:
D42: <MOTIVATIE> | F42: <MOTIVATIE>
A43: ='Beoordelen proefopdrachten'!$A$12 -> Algemeen | D43: Behaalde punten zwart-wit
...

Sheet Beoordelaar 2
B1: Naam beoordelaar 2: <<>> | D1: ='Beoordelaar 1'!$D$1 -> Naam inschrijver: <<>>
B3: ='Beoordelaar 1'!$B$3 -> Beoordeling Type 1: Zwart-wit MFP A4 minimaal 40 PPM | D3: ='Beoordelen proefopdrachten'!A1 -> Beoordeling afdrukken testdocument ZAAM
A4: ='Beoordelen proefopdrachten'!$A$2 -> Balken en teksten | D4: Behaalde punten zwart-wit
B5: ='Beoordelen proefopdrachten'!$B$2 -> Grijswaarden | D5: PRINT: | E5: SCORE: | F5: KOPIE: | G5: SCORE:
D6: <MOTIVATIE> | F6: <MOTIVATIE>
D7: Behaalde punten zwart-wit
B8: ='Beoordelen proefopdrachten'!$B$4 -> Lichte tinten | D8: PRINT: | E8: SCORE: | F8: KOPIE: | G8: SCORE:
D9: <MOTIVATIE> | F9: <MOTIVATIE>
D10: Behaalde punten zwart-wit
B11: ='Beoordelen proefopdrachten'!$B$6 -> Felle tinten | D11: PRINT: | E11: SCORE: | F11: KOPIE: | G11: SCORE:
D12: <MOTIVATIE> | F12: <MOTIVATIE>
D13: Behaalde punten zwart-wit
B14: ='Beoordelen proefopdrachten'!$B$8 -> Teksten | D14: PRINT: | E14: SCORE: | F14: KOPIE: | G14: SCORE:
D15: <MOTIVATIE> | F15: <MOTIVATIE>
A16: ='Beoordelen proefopdrachten'!$A$10 -> Logo | D16: Behaalde punten zwart-wit
B17: ='Beoordelen proefopdrachten'!$B$10 -> Kleur/contrast | D17: PRINT: | E17: SCORE: | F17: KOPIE: | G17: SCORE:
D18: <MOTIVATIE> | F18: <MOTIVATIE>
A19: ='Beoordelen proefopdrachten'!$A$12 -> Algemeen | D19: Behaalde punten zwart-wit
B20: ='Beoordelen proefopdrachten'!$B$12 -> Strepen | D20: PRINT: | E20: SCORE: | F20: KOPIE: | G20: SCORE:
D21: <MOTIVATIE> | F21: <MOTIVATIE>
D22: Behaalde punten zwart-wit
B23: ='Beoordelen proefopdrachten'!$B$14 -> Recht | D23: PRINT: | E23: SCORE: | F23: KOPIE: | G23: SCORE:
D24: <MOTIVATIE> | F24: <MOTIVATIE>
B27: ='Beoordelaar 1'!$B$27 -> Beoordeling Type 2: Zwart-wit MFP A4/A3 minimaal 30 PPM | D27: ='Beoordelen proefopdrachten'!A1 -> Beoordeling afdrukken testdocument ZAAM
A28: ='Beoordelen proefopdrachten'!$A$2 -> Balken en teksten | D28: Behaalde punten zwart-wit
B29: ='Beoordelen proefopdrachten'!$B$2 -> Grijswaarden | D29: PRINT: | E29: SCORE: | F29: KOPIE: | G29: SCORE:
D30: <MOTIVATIE> | F30: <MOTIVATIE>
D31: Behaalde punten zwart-wit
B32: ='Beoordelen proefopdrachten'!$B$4 -> Lichte tinten | D32: PRINT: | E32: SCORE: | F32: KOPIE: | G32: SCORE:
D33: <MOTIVATIE> | F33: <MOTIVATIE>
D34: Behaalde punten zwart-wit
B35: ='Beoordelen proefopdrachten'!$B$6 -> Felle tinten | D35: PRINT: | E35: SCORE: | F35: KOPIE: | G35: SCORE:
D36: <MOTIVATIE> | F36: <MOTIVATIE>
D37: Behaalde punten zwart-wit
B38: ='Beoordelen proefopdrachten'!$B$8 -> Teksten | D38: PRINT: | E38: SCORE: | F38: KOPIE: | G38: SCORE:
D39: <MOTIVATIE> | F39: <MOTIVATIE>
A40: ='Beoordelen proefopdrachten'!$A$10 -> Logo | D40: Behaalde punten zwart-wit
B41: ='Beoordelen proefopdrachten'!$B$10 -> Kleur/contrast | D41: PRINT: | E41: SCORE: | F41: KOPIE: | G41: SCORE:
D42: <MOTIVATIE> | F42: <MOTIVATIE>
A43: ='Beoordelen proefopdrachten'!$A$12 -> Algemeen | D43: Behaalde punten zwart-wit
...

Sheet Beoordelaar 3
B1: Naam beoordelaar 3: <<>> | D1: ='Beoordelaar 1'!$D$1 -> Naam inschrijver: <<>>
B3: ='Beoordelaar 1'!$B$3 -> Beoordeling Type 1: Zwart-wit MFP A4 minimaal 40 PPM | D3: ='Beoordelen proefopdrachten'!A1 -> Beoordeling afdrukken testdocument ZAAM
A4: ='Beoordelen proefopdrachten'!$A$2 -> Balken en teksten | D4: Behaalde punten zwart-wit
B5: ='Beoordelen proefopdrachten'!$B$2 -> Grijswaarden | D5: PRINT: | E5: SCORE: | F5: KOPIE: | G5: SCORE:
D6: <MOTIVATIE> | F6: <MOTIVATIE>
D7: Behaalde punten zwart-wit
B8: ='Beoordelen proefopdrachten'!$B$4 -> Lichte tinten | D8: PRINT: | E8: SCORE: | F8: KOPIE: | G8: SCORE:
D9: <MOTIVATIE> | F9: <MOTIVATIE>
D10: Behaalde punten zwart-wit
B11: ='Beoordelen proefopdrachten'!$B$6 -> Felle tinten | D11: PRINT: | E11: SCORE: | F11: KOPIE: | G11: SCORE:
D12: <MOTIVATIE> | F12: <MOTIVATIE>
D13: Behaalde punten zwart-wit
B14: ='Beoordelen proefopdrachten'!$B$8 -> Teksten | D14: PRINT: | E14: SCORE: | F14: KOPIE: | G14: SCORE:
D15: <MOTIVATIE> | F15: <MOTIVATIE>
A16: ='Beoordelen proefopdrachten'!$A$10 -> Logo | D16: Behaalde punten zwart-wit
B17: ='Beoordelen proefopdrachten'!$B$10 -> Kleur/contrast | D17: PRINT: | E17: SCORE: | F17: KOPIE: | G17: SCORE:
D18: <MOTIVATIE> | F18: <MOTIVATIE>
A19: ='Beoordelen proefopdrachten'!$A$12 -> Algemeen | D19: Behaalde punten zwart-wit
B20: ='Beoordelen proefopdrachten'!$B$12 -> Strepen | D20: PRINT: | E20: SCORE: | F20: KOPIE: | G20: SCORE:
D21: <MOTIVATIE> | F21: <MOTIVATIE>
D22: Behaalde punten zwart-wit
B23: ='Beoordelen proefopdrachten'!$B$14 -> Recht | D23: PRINT: | E23: SCORE: | F23: KOPIE: | G23: SCORE:
D24: <MOTIVATIE> | F24: <MOTIVATIE>
B27: ='Beoordelaar 1'!$B$27 -> Beoordeling Type 2: Zwart-wit MFP A4/A3 minimaal 30 PPM | D27: ='Beoordelen proefopdrachten'!A1 -> Beoordeling afdrukken testdocument ZAAM
A28: ='Beoordelen proefopdrachten'!$A$2 -> Balken en teksten | D28: Behaalde punten zwart-wit
B29: ='Beoordelen proefopdrachten'!$B$2 -> Grijswaarden | D29: PRINT: | E29: SCORE: | F29: KOPIE: | G29: SCORE:
D30: <MOTIVATIE> | F30: <MOTIVATIE>
D31: Behaalde punten zwart-wit
B32: ='Beoordelen proefopdrachten'!$B$4 -> Lichte tinten | D32: PRINT: | E32: SCORE: | F32: KOPIE: | G32: SCORE:
D33: <MOTIVATIE> | F33: <MOTIVATIE>
D34: Behaalde punten zwart-wit
B35: ='Beoordelen proefopdrachten'!$B$6 -> Felle tinten | D35: PRINT: | E35: SCORE: | F35: KOPIE: | G35: SCORE:
D36: <MOTIVATIE> | F36: <MOTIVATIE>
D37: Behaalde punten zwart-wit
B38: ='Beoordelen proefopdrachten'!$B$8 -> Teksten | D38: PRINT: | E38: SCORE: | F38: KOPIE: | G38: SCORE:
D39: <MOTIVATIE> | F39: <MOTIVATIE>
A40: ='Beoordelen proefopdrachten'!$A$10 -> Logo | D40: Behaalde punten zwart-wit
B41: ='Beoordelen proefopdrachten'!$B$10 -> Kleur/contrast | D41: PRINT: | E41: SCORE: | F41: KOPIE: | G41: SCORE:
D42: <MOTIVATIE> | F42: <MOTIVATIE>
A43: ='Beoordelen proefopdrachten'!$A$12 -> Algemeen | D43: Behaalde punten zwart-wit
...

Sheet Scores per item
E1: ='Beoordelaar 1'!D1 -> Naam inschrijver: <<>>
E3: ='Beoordelen proefopdrachten'!A1 -> Beoordeling afdrukken testdocument ZAAM
A4: ='Beoordelaar 1'!B3 -> Beoordeling Type 1: Zwart-wit MFP A4 minimaal 40 PPM | E4: Print ZW | G4: Kopie ZW
A5: ='Beoordelen proefopdrachten'!$A$2 -> Balken en teksten | B5: ='Beoordelen proefopdrachten'!$B$2 -> Grijswaarden | C5: ='Beoordelaar 1'!$B$1 -> Naam beoordelaar 1: <<>> | E5: ='Beoordelaar 1'!E5 -> SCORE: | F5: <<motivatie PRINT ZW>> | G5: ='Beoordelaar 1'!G5 -> SCORE: | H5: <<motivatie KOPIE ZW>>
C6: ='Beoordelaar 2'!$B$1 -> Naam beoordelaar 2: <<>> | E6: ='Beoordelaar 2'!E5 -> SCORE: | G6: ='Beoordelaar 2'!G5 -> SCORE:
C7: ='Beoordelaar 3'!$B$1 -> Naam beoordelaar 3: <<>> | E7: ='Beoordelaar 3'!E5 -> SCORE: | G7: ='Beoordelaar 3'!G5 -> SCORE:
C8: Consensus | E8: SCORE: | G8: SCORE:
B9: ='Beoordelen proefopdrachten'!$B$4 -> Lichte tinten | C9: ='Beoordelaar 1'!$B$1 -> Naam beoordelaar 1: <<>> | E9: ='Beoordelaar 1'!E8 -> SCORE: | F9: <<motivatie PRINT ZW>> | G9: ='Beoordelaar 1'!G8 -> SCORE: | H9: <<motivatie KOPIE ZW>>
C10: ='Beoordelaar 2'!$B$1 -> Naam beoordelaar 2: <<>> | E10: ='Beoordelaar 2'!E8 -> SCORE: | G10: ='Beoordelaar 2'!G8 -> SCORE:
C11: ='Beoordelaar 3'!$B$1 -> Naam beoordelaar 3: <<>> | E11: ='Beoordelaar 3'!E8 -> SCORE: | G11: ='Beoordelaar 3'!G8 -> SCORE:
C12: Consensus | E12: SCORE: | G12: SCORE:
B13: ='Beoordelen proefopdrachten'!$B$6 -> Felle tinten | C13: ='Beoordelaar 1'!$B$1 -> Naam beoordelaar 1: <<>> | E13: ='Beoordelaar 1'!E11 -> SCORE: | F13: <<motivatie PRINT ZW>> | G13: ='Beoordelaar 1'!G11 -> SCORE: | H13: <<motivatie KOPIE ZW>>
C14: ='Beoordelaar 2'!$B$1 -> Naam beoordelaar 2: <<>> | E14: ='Beoordelaar 2'!E11 -> SCORE: | G14: ='Beoordelaar 2'!G11 -> SCORE:
C15: ='Beoordelaar 3'!$B$1 -> Naam beoordelaar 3: <<>> | E15: ='Beoordelaar 3'!E11 -> SCORE: | G15: ='Beoordelaar 3'!G11 -> SCORE:
C16: Consensus | E16: SCORE: | G16: SCORE:
B17: ='Beoordelen proefopdrachten'!$B$8 -> Teksten | C17: ='Beoordelaar 1'!$B$1 -> Naam beoordelaar 1: <<>> | E17: ='Beoordelaar 1'!E14 -> SCORE: | F17: <<motivatie PRINT ZW>> | G17: ='Beoordelaar 1'!G14 -> SCORE: | H17: <<motivatie KOPIE ZW>>
C18: ='Beoordelaar 2'!$B$1 -> Naam beoordelaar 2: <<>> | E18: ='Beoordelaar 2'!E14 -> SCORE: | G18: ='Beoordelaar 2'!G14 -> SCORE:
C19: ='Beoordelaar 3'!$B$1 -> Naam beoordelaar 3: <<>> | E19: ='Beoordelaar 3'!E14 -> SCORE: | G19: ='Beoordelaar 3'!G14 -> SCORE:
C20: Consensus | E20: SCORE: | G20: SCORE:
A21: ='Beoordelen proefopdrachten'!$A$10 -> Logo | B21: ='Beoordelen proefopdrachten'!$B$10 -> Kleur/contrast | C21: ='Beoordelaar 1'!$B$1 -> Naam beoordelaar 1: <<>> | E21: ='Beoordelaar 1'!E17 -> SCORE: | F21: <<motivatie PRINT ZW>> | G21: ='Beoordelaar 1'!G17 -> SCORE: | H21: <<motivatie KOPIE ZW>>
C22: ='Beoordelaar 2'!$B$1 -> Naam beoordelaar 2: <<>> | E22: ='Beoordelaar 2'!E17 -> SCORE: | G22: ='Beoordelaar 2'!G17 -> SCORE:
C23: ='Beoordelaar 3'!$B$1 -> Naam beoordelaar 3: <<>> | E23: ='Beoordelaar 3'!E17 -> SCORE: | G23: ='Beoordelaar 3'!G17 -> SCORE:
C24: Consensus | E24: SCORE: | G24: SCORE:
A25: ='Beoordelen proefopdrachten'!$A$12 -> Algemeen | B25: ='Beoordelen proefopdrachten'!$B$12 -> Strepen | C25: ='Beoordelaar 1'!$B$1 -> Naam beoordelaar 1: <<>> | E25: ='Beoordelaar 1'!E20 -> SCORE: | F25: <<motivatie PRINT ZW>> | G25: ='Beoordelaar 1'!G20 -> SCORE: | H25: <<motivatie KOPIE ZW>>
C26: ='Beoordelaar 2'!$B$1 -> Naam beoordelaar 2: <<>> | E26: ='Beoordelaar 2'!E20 -> SCORE: | G26: ='Beoordelaar 2'!G20 -> SCORE:
C27: ='Beoordelaar 3'!$B$1 -> Naam beoordelaar 3: <<>> | E27: ='Beoordelaar 3'!E20 -> SCORE: | G27: ='Beoordelaar 3'!G20 -> SCORE:
C28: Consensus | E28: SCORE: | G28: SCORE:
B29: ='Beoordelen proefopdrachten'!$B$14 -> Recht | C29: ='Beoordelaar 1'!$B$1 -> Naam beoordelaar 1: <<>> | E29: ='Beoordelaar 1'!E23 -> SCORE: | F29: <<motivatie PRINT ZW>> | G29: ='Beoordelaar 1'!G23 -> SCORE: | H29: <<motivatie KOPIE ZW>>
C30: ='Beoordelaar 2'!$B$1 -> Naam beoordelaar 2: <<>> | E30: ='Beoordelaar 2'!E23 -> SCORE: | G30: ='Beoordelaar 2'!G23 -> SCORE:
C31: ='Beoordelaar 3'!$B$1 -> Naam beoordelaar 3: <<>> | E31: ='Beoordelaar 3'!E23 -> SCORE: | G31: ='Beoordelaar 3'!G23 -> SCORE:
C32: Consensus | E32: SCORE: | G32: SCORE:
E34: ='Beoordelen proefopdrachten'!A1 -> Beoordeling afdrukken testdocument ZAAM
A35: ='Beoordelaar 1'!B27 -> Beoordeling Type 2: Zwart-wit MFP A4/A3 minimaal 30 PPM | E35: Print ZW | G35: Kopie ZW
A36: ='Beoordelen proefopdrachten'!$A$2 -> Balken en teksten | B36: ='Beoordelen proefopdrachten'!$B$2 -> Grijswaarden | C36: ='Beoordelaar 1'!$B$1 -> Naam beoordelaar 1: <<>> | E36: ='Beoordelaar 1'!E29 -> SCORE: | F36: <<motivatie PRINT ZW>> | G36: ='Beoordelaar 1'!G29 -> SCORE: | H36: <<motivatie KOPIE ZW>>
C37: ='Beoordelaar 2'!$B$1 -> Naam beoordelaar 2: <<>> | E37: ='Beoordelaar 2'!E29 -> SCORE: | G37: ='Beoordelaar 2'!G29 -> SCORE:
C38: ='Beoordelaar 3'!$B$1 -> Naam beoordelaar 3: <<>> | E38: ='Beoordelaar 3'!E29 -> SCORE: | G38: ='Beoordelaar 3'!G29 -> SCORE:
C39: Consensus | E39: SCORE: | G39: SCORE:
B40: ='Beoordelen proefopdrachten'!$B$4 -> Lichte tinten | C40: ='Beoordelaar 1'!$B$1 -> Naam beoordelaar 1: <<>> | E40: ='Beoordelaar 1'!E32 -> SCORE: | F40: <<motivatie PRINT ZW>> | G40: ='Beoordelaar 1'!G32 -> SCORE: | H40: <<motivatie KOPIE ZW>>
C41: ='Beoordelaar 2'!$B$1 -> Naam beoordelaar 2: <<>> | E41: ='Beoordelaar 2'!E32 -> SCORE: | G41: ='Beoordelaar 2'!G32 -> SCORE:
C42: ='Beoordelaar 3'!$B$1 -> Naam beoordelaar 3: <<>> | E42: ='Beoordelaar 3'!E32 -> SCORE: | G42: ='Beoordelaar 3'!G32 -> SCORE:
...
