Workbook

Sheet Uitleg
D2: Deze gekleurde velden moeten ingevuld worden met inschrijfprijzen in het excelblad "Specificatie".
B4: * Op het excelblad "specificatie" mogen invoervelden op nul gezet worden. Echter het totaal van de inschrijfprijs moet minimaal € 250.000,-- bedragen.
B5: Zie leidraad, paragraaf 5.1

Sheet Inschrijfblad
A1: Beheersysteem openbare ruimte
A2: Totale kosten gemeente Stadskanaal
B4: Totale inschrijfkosten over het jaar 2023. | E4: =SUM(Specificatie!C15) -> 0
B5: Totale inschrijfkosten over het jaar 2024. | E5: =SUM(Specificatie!D15) -> 0
B6: Totale inschrijfkosten over het jaar 2025. | E6: =SUM(Specificatie!E15) -> 0
B7: Totale inschrijfkosten over het jaar 2026. | E7: =SUM(Specificatie!F15) -> 0
B8: Totale inschrijfkosten over het jaar 2027. | E8: =SUM(Specificatie!G15) -> 0
B9: Totale inschrijfkosten over het jaar 2028. | E9: =SUM(Specificatie!H15) -> 0
B10: Totale inschrijfkosten over het jaar 2029. | E10: =SUM(Specificatie!I15) -> 0
B11: Totale inschrijfkosten over het jaar 2030. | E11: =SUM(Specificatie!J15) -> 0
B14: Totaal inschrijfbedrag | E14: =SUM(E4:E13) -> 0 | F14: =IF(E14>250000,"Dit bedrag wordt beoordeeld in deze aanbesteding."," ")
E17: =IF(E14>250000," ",IF(E14=0," ","Inschrijfprijs ligt onder de minimale inschrijfprijs en wordt als een niet realistische inschrijving beschouwd! Zie leidraad paragraaf 5.1"))

Sheet Specificatie
A1: Deze velden vullen met inschrijfprijzen
B3: Bedrag 2023-2026 | C3: 2023 | D3: 2024 | E3: 2025 | F3: 2026 | G3: 2027 | H3: 2028 | I3: 2029 | J3: 2030 | K3: Totaal
A4: Licentiekosten, Hostingkosten en overige helpdeskkosten. | C4: 0 | D4: 0 | E4: 0 | F4: 0 | G4: 0 | H4: 0 | I4: 0 | J4: 0 | K4: =SUM(C4:J4) -> 0
A5: Koppeling BGT | B5: 0 | C5: =SUM(B5/4) -> 0 | D5: =SUM(B5/4) -> 0 | E5: =SUM(B5/4) -> 0 | F5: =SUM(B5/4) -> 0 | K5: =SUM(C5:F5) -> 0
A6: IMBOR, Conversie door leverancier | B6: 0 | C6: =SUM(B6/4) -> 0 | D6: =SUM(B6/4) -> 0 | E6: =SUM(B6/4) -> 0 | F6: =SUM(B6/4) -> 0 | K6: =SUM(C6:F6) -> 0
A7: Implementatiekosten WIBON | B7: 0 | C7: =SUM(B7/4) -> 0 | D7: =SUM(B7/4) -> 0 | E7: =SUM(B7/4) -> 0 | F7: =SUM(B7/4) -> 0 | K7: =SUM(C7:F7) -> 0
A8: Opleidingskosten | B8: 0 | C8: =SUM(B8/4) -> 0 | D8: =SUM(B8/4) -> 0 | E8: =SUM(B8/4) -> 0 | F8: =SUM(B8/4) -> 0 | K8: =SUM(C8:J8) -> 0
A10: Zelf nog kosten op te voeren | C10: =SUM(C12:C14) -> 0 | D10: =SUM(D12:D14) -> 0 | E10: =SUM(E12:E14) -> 0 | F10: =SUM(F12:F14) -> 0 | G10: =SUM(G12:G14) -> 0 | H10: =SUM(H12:H14) -> 0 | I10: =SUM(I12:I14) -> 0 | J10: =SUM(J12:J14) -> 0 | K10: =SUM(C10:J10) -> 0
A11: Specificatie van de "zelf nog kosten op te voeren":
A12: * | C12: 0 | D12: 0 | E12: 0 | F12: 0 | G12: 0 | H12: 0 | I12: 0 | J12: 0 | K12: =SUM(C12:J12) -> 0
A13: * | C13: 0 | D13: 0 | E13: 0 | F13: 0 | G13: 0 | H13: 0 | I13: 0 | J13: 0 | K13: =SUM(C13:J13) -> 0
A14: * | C14: 0 | D14: 0 | E14: 0 | F14: 0 | G14: 0 | H14: 0 | I14: 0 | J14: 0 | K14: =SUM(C14:J14) -> 0
A15: Totale kosten | C15: =SUM(C4:C10) -> 0 | D15: =SUM(D4:D10) -> 0 | E15: =SUM(E4:E10) -> 0 | F15: =SUM(F4:F10) -> 0 | G15: =SUM(G4:G10) -> 0 | H15: =SUM(H4:H10) -> 0 | I15: =SUM(I4:I10) -> 0 | J15: =SUM(J4:J10) -> 0 | K15: =SUM(K4:K10) -> 0
