Workbook
Name _: '62.10.01.00'!$D$87:$D$88
Name Bwlaag: Tabel_OVP_Beheerv1.accdb5[BLST_BESCHRIJVING]
Name Bwlaag: Tabel_OVP_Beheerv1.accdb5[BLST_BESCHRIJVING]
Name Bwlaag: Tabel_OVP_Beheerv1.accdb5[BLST_BESCHRIJVING]
Name Bwlaag: Tabel_OVP_Beheerv1.accdb5[BLST_BESCHRIJVING]
Name deel: 'Vastgoedgeg. Gebouwdeel (BRV)'!$G$6
Name Gebouwdeel_soort: Tabel_OVP_Beheerv1.accdb4[GBST_BESCHRIJVING]
Name Gebouwdeel_soort: Tabel_OVP_Beheerv1.accdb4[GBST_BESCHRIJVING]
Name Gebsoort: Tabel_OVP_Beheerv1.accdb4[GBST_BESCHRIJVING]
Name Gebsoort: Tabel_OVP_Beheerv1.accdb4[GBST_BESCHRIJVING]
Name Gebsoort: Tabel_OVP_Beheerv1.accdb4[GBST_BESCHRIJVING]
Name Gebsoort: Tabel_OVP_Beheerv1.accdb4[GBST_BESCHRIJVING]
Name LBK: '57.71.01.00'!$D$66:$E$80
Name Mutatie: Mutatie!$A$1:$A$3
Name Mutatie1: Mutatie!$A$1:$A$2
Name Objectcategorie__lijst: Tabel_OVP_Beheerv1.accdb[OBCT_BESCHRIJVING]
Name Objectcategorie__lijst: Tabel_OVP_Beheerv1.accdb[OBCT_BESCHRIJVING]
Name Ruimte: Tabel_OVP_Beheerv1.accdb6[RMST_BESCHRIJVING]
Name Ruimte: Tabel_OVP_Beheerv1.accdb6[RMST_BESCHRIJVING]
Name Ruimte: Tabel_OVP_Beheerv1.accdb6[RMST_BESCHRIJVING]
Name Ruimte: Tabel_OVP_Beheerv1.accdb6[RMST_BESCHRIJVING]
Name vervolg: '57.71.01.00'!$E$66:$E$80
Name Vulling: '62.10.01.00'!$D$69
Name water: '53.31.01.00'!$E$65:$E$69

Sheet Handleiding
B2: Instructie Database mutatie BRV / RBI | L2: Datum opgemaakt: | M2: 43726
L3: Versienummer: | M3: 1.2
B8: Algemene aanwijzingen voor het invullen:
B10: Tekst in blauw en onderstreept: Dit is een snelkoppeling naar een ander tabblad of locatie
B11: Tekst in blauw: Klik op het veld en er verschijnt een toelichting of opmerking.
C12: In een groen veld dienen gegevens gevuld te worden (indien van toepassing)
C13: Een grijs veld wordt automatisch ingevuld met de waarden.
C14: Een geel veld dient altijd te worden toegepast (= verplicht)
B16: 1. Per bouwwerk of systeem dient één (1) Database mutatie BRV / RBI document ingevuld te worden.
B17: 2. Als PL/AM op inhoud en aantallen documenten het correct en volledig ter revisie (in delen) kan aanbieden (conform VGI Paragraaf normering), dan kan de (deel) overdracht plaatsvinden.
B18: 3. De totale overdracht heeft plaatsgevonden binnen de binnen de RVB gestelde termijnen. Alvorens het Project afgesloten kan worden.
B19: 4. Na (deel) overdracht wordt via de Adviseur Overdracht binnen gestelde termijn(en) gereageerd met; A) een akkoord of B) afkeuring incl. argumentatie of C) de melding dat er voor de beoordeling meer tijd nodig is.

Sheet Voorblad
A15: Locatiegegevens | AB15: 05H02 - MMC BEETGUMERMOLEN
A16: Objectcode + Naam | B16: =Tabel_OVP_gebruikersv1.accdb[OBJT_CODE] -> 51B12 | C16: =OBJGEB!B2 -> GENM DE R V S KAZERNE | AB16: 05H08 - RADARPOST NOORD TE WIER
A17: Gebouwcode* + Naam | B17: =Tabel_OVP_gebruikersv1.accdb[GBUW_CODE] -> 248 | C17: =OBJGEB!J2 -> Legeringsgebouw , Kantoorgebouw | AB17: 05H09 - DEPOT LEEUWARDEN
AB18: 16H01 - OT HAVELTE OOST
AB19: 16H04 - BRIGADE DRENTHE-IJSSELSTREEK
AB20: 16H05 - KC OFF HOTEL JPK
AB21: 16H06 - DVD DIENSTKRING HAVELTE
AB22: 17C02 - MMC RUINEN
AB23: 17H01 - TOPOGRAFISCHE DIENST
AB24: 18A04 - AC TER APEL
AB25: 21D19 - OT DE ZANDE
AB26: 21F02 - MMC STAPHORST
AB27: 21G09 - KC MEPPELERSTRAATWEG 19
AB28: 21G16 - DVD DIRECTIE NOORD
AB29: 21G17 - DISTRICT NOORD-OOST
... AB147: DL144 - WONINGEN REGIO NEUSTADT

Sheet Vastgoedgegevens OBJ-GEB (BRV)
B1: Vastgoed- en hoeveelheidsgeg. per vastgoedniveau | AB1: Vervallen | AC1: Gewijzigd
C3: Vastgoedcomplex informatie | AB3: Ontwerp/Realisatie | AC3: In gebruik | AD3: Niet in gebruik | AE3: In afstoting | AF3: Afgestoten | AG3: Vervallen/Geamoveerd
E5: Mutatie | G5: Ruimte voor opmerking (mutatie)
B6: Objectcode | C6: =OBJGEB!A2 -> 51B12 | AB6: Forten en verdedigingswerken | AC6: Gedenkplaats | AD6: Havenlocatie | AE6: Kantoorlocatie | AF6: Kazerne | AG6: Logistieke locatie | AH6: Munitie opslaglocatie | AI6: Oefen en schietterrein | AJ6: Onderwijslocatie | AK6: Opslaglocatie | AL6: Technische locatie | AM6: Trainingslocatie | AN6: Vliegbasis | AO6: Woonlocatie | AP6: Zend en ontvangstlocatie
B7: Objectnaam | C7: =OBJGEB!B2 -> GENM DE R V S KAZERNE
B8: Objectcategorie | C8: =OBJGEB!C2 -> Kazerne
B9: Beheerstatus | C9: =OBJGEB!D2 -> In gebruik
B10: Straatnaam | C10: =OBJGEB!E2 -> Eindhovensedijk
B11: Huisnummer | C11: =OBJGEB!F2 -> 42
B12: Postcode | C12: =OBJGEB!G2 -> 5688GN
B13: Plaats | C13: =OBJGEB!H2 -> Oirschot
C15: Bouwwerk informatie
E17: Mutatie | G17: Ruimte voor opmerking (mutatie)
B18: Gebouwcode | C18: =OBJGEB!I2 -> 248 | AB18: Acculaadstation | AC18: BOS Laadstationgebouw | AD18: Brandweerkazerne | AE18: Bunker algemeen | AF18: Commandopost | AG18: Complex gebouw | AH18: Eetzaal | AI18: Eetzaal met keuken | AJ18: Film- en toneelzaal | AK18: Gasregelstation | AL18: Geneesk. inrichting | AM18: Gevechtopst.veldverst | AN18: Hangar | AO18: Hangar onderhoud | AP18: Hobbyclub | AQ18: Hoofdkwartier | AR18: Installatiegebouw alg | AS18: Instructiegebouw | AT18: Kantoor- en lesgebouw | AU18: Kantoorgebouw | AV18: Ketelhuis | AW18: Keuken | AX18: Keuken/eetz/kant.cplx | AY18: Korporaalskantine | AZ18: Legering meerdere cat | BA18: Lesgebouw | BB18: Magaz.brandgevaarlijk | BC18: Magazijn algemeen | BD18: Magazijn AS-opslag | BE18: Magazijn chemicaliën | BF18: Magazijn explosief | BG18: Magazijn levensmiddel | BH18: Magazijn MOB-opslag | BI18: Manschappenkantine | BJ18: Manschappenlegering | BK18: Noodstroomgebouw | BL18: Officierenlegering | BM18: Officiersmess | BN18: Onderhoudsgebouw munitie | BO18: Onderoff.legering | BP18: Onderofficiersmess | BQ18: Overdekt zwembad | BR18: Overig gebouw alg. | BS18: Personeelschuilplaats | BT18: POL gebouw | BU18: Pompgebouw | BV18: Recreatiegebouw alg. | BW18: Rijwielstalling | BX18: Sanitair gebouw | BY18: Simulatorgebouw | BZ18: Sportgebouw | CA18: Stalling | CB18: Stiltecentrum | CC18: Telefooncentrale | CD18: Trafogebouw | CE18: Verbindingscentrum | CF18: Verkeerstoren/meteog. | CG18: Vliegtuigshelter | CH18: Wachtgebouw | CI18: Wapenkamer | CJ18: Werkplaats algemeen | CK18: Werkplaats munitie | CL18: Woning | CM18: Zend/ontv. station | CN18: 2e Echelon werkplaats | CO18: 3e Echelon werkplaats | CP18: 5e Echelon werkplaats
B19: Gebouwnaam | C19: =OBJGEB!J2 -> Legeringsgebouw , Kantoorgebouw
B20: Gebouwsoort | C20: =OBJGEB!K2 -> Manschappenlegering
B21: Bouwjaar | C21: =OBJGEB!L2 -> 1974
B22: Gemeente | C22: =OBJGEB!M2 -> Oirschot
B23: Straatnaam | C23: =OBJGEB!N2 -> Eindhovensedijk
B24: Huisnr. | C24: =OBJGEB!O2 -> 42
B25: Postcode | C25: =OBJGEB!P2 -> 5688GN
B26: Plaats | C26: =OBJGEB!Q2 -> Oirschot
B27: BVO (m2) | C27: =OBJGEB!R2 -> 2862.23
B28: NVO (m2) | C28: =OBJGEB!S2 -> 2549.17
B29: Bruto inhoud (m3) | C29: =OBJGEB!T2 -> 9154
B30: Hoogste nok (m1) | C30: =OBJGEB!U2 -> 9.7
B31: Hoogste goot (m1) | C31: =OBJGEB!V2 -> 9.7
AB41: Begane grond | AC41: 1e Verdieping | AD41: 2e Verdieping | AE41: 3e Verdieping | AF41: 4e Verdieping | AG41: 5e Verdieping | AH41: 6e Verdieping | AI41: 7e Verdieping | AJ41: 8e Verdieping | AK41: 9e Verdieping | AL41: 10e Verdieping | AM41: 11e Verdieping | AN41: 12e Verdieping | AO41: 13e Verdieping | AP41: 14e Verdieping | AQ41: 15e Verdieping | AR41: 16e Verdieping | AS41: 17e Verdieping | AT41: 18e Verdieping | AU41: 19e Verdieping | AV41: 20e Verdieping | AW41: 21e Verdieping | AX41: 1e Kelder | AY41: 2e Kelder
AB55: Accuruimte | AC55: Afwasruimte | AD55: Aggregaatruimte | AE55: Apotheek | AF55: Arrestantencel | AG55: Arrestantenkamer | AH55: Atrium | AI55: Audioruimte | AJ55: Badkamer | AK55: Bar | AL55: Bedieningsruimte | AM55: Behandelkamer Medisch | AN55: Behandelkamer Tandarts | AO55: Beproevingsruimte Diversen | AP55: Beproevingsruimte Elektro | AQ55: Beproevingsruimte Explosieven | AR55: Beproevingsruimte Mechanisch | AS55: Berging Afval Chemisch | AT55: Berging Afval Keuken | AU55: Berging Algemeen | AV55: Berging Archief | AW55: Berging Brandstof | AX55: Berging Chemicalien | AY55: Berging Explosieven | AZ55: Berging Gasflessen | BA55: Berging Geneeskundig | BB55: Berging Gereedschappen | BC55: Berging Kleding | BD55: Berging Levensmiddel Algemeen | BE55: Berging Levensmiddel Bevroren | BF55: Berging Levensmiddel Gekoeld | BG55: Berging Linnen | BH55: Berging Onderdelen | BI55: Berging PGU | BJ55: Berging Sportartikelen | BK55: Berging Uitrusting | BL55: Berging Wapens | BM55: Berging Water | BN55: Bibliotheek | BO55: Bijkeuken | BP55: Briefingroom | BQ55: Bureauruimte | BR55: Chloordoseringsruimte | BS55: Codeerruimte | BT55: Collegezaal | BU55: Communicatieruimte | BV55: Compressorruimte | BW55: Computerruimte | BX55: Controleruimte | BY55: Dierenverblijf | BZ55: Diverse Bewerkingen | CA55: Doucheruimte | CB55: Doucheruimte Dames | CC55: Doucheruimte Heren | CD55: Doucheruimte Invalide | CE55: Droogruimte | CF55: Droogruimte Textiel | CG55: Eetzaal All-ranks | CH55: Eetzaal Korporaals | CI55: Eetzaal Manschappen | CJ55: Eetzaal Officieren | CK55: Eetzaal Onderofficieren | CL55: EHBO-ruimte | CM55: Expeditieruimte | CN55: Expositieruimte | CO55: Film- en TV Ruimte | CP55: Filmcabine | CQ55: Filmzaal | CR55: Fitnessruimte | CS55: Fotografische Ruimte | CT55: Fysiotherapieruimte | CU55: Galerij | CV55: Gamelruimte | CW55: Gamelwasruimte | CX55: Gang | CY55: Garderoberuimte | CZ55: Gespreksruimte | DA55: Goederenontvangst | DB55: Hal | DC55: Hoogspanningsruimte | DD55: Inkoop Nutsvoorziening | DE55: Instructieruimte Diversen | DF55: Kamersportruimte | DG55: Kantine | DH55: Kantine All-ranks | DI55: Kantine Korporaals | DJ55: Kantine Manschappen | DK55: Kantine Officieren | DL55: Kantine Onderofficieren | DM55: Kapsalon | DN55: Kast | DO55: Kast Schoonmaakdienst | DP55: Keuken | DQ55: Keuken Groenten | DR55: Keuken Koud | DS55: Keuken Vlees | DT55: Keuken Warm | DU55: Kinderopvangruimte | DV55: Kleedruimte | DW55: Kleedruimte Dames | DX55: Kleedruimte Heren | DY55: Laad/losperron | DZ55: Laad/losruimte | EA55: Laagspanningsruimte | EB55: Laboratorium | EC55: Legering < 1P | ED55: Legering > 4P | EE55: Legering 1P | EF55: Legering 2P | EG55: Legering 3P | EH55: Legering 4P | EI55: Leidingschacht | EJ55: Leslokaal | EK55: Liftschacht | EL55: Luchtplaats Arrestanten | EM55: Meterkast | EN55: Montageruimte | EO55: Mortuarium | EP55: Muziekruimte | EQ55: Nog Te Bepalen | ER55: Observatieruimte | ES55: Oefenruimte | ET55: Onderzoekkamer Arts | EU55: Onderzoeksruimte Medisch | EV55: Ontsmettingsruimte | EW55: Operatiekamer | EX55: Pantry | EY55: Passantenruimte | EZ55: Piketkamer | FA55: Plotterruimte | FB55: Podiumruimte | FC55: Portiersruimte | FD55: Postkamer | FE55: Preserveerruimte | FF55: RÃ¶ntgenruimte | FG55: Receptie | FH55: Religieuzeruimte | FI55: Reproductieruimte | FJ55: Restruimte | FK55: Rookruimte | FL55: Sauna | FM55: Schietruimte | FN55: Schuilruimte | FO55: Slaapkamer | FP55: Sleutelkamer | FQ55: Sluis | FR55: Solarium | FS55: Spoelruimte | FT55: Sportzaal | FU55: Spreekkamer | FV55: Stalling Brandweer | FW55: Stalling Rijwielen | FX55: Stalling Rupsvoertuigen | FY55: Stalling Vaartuigen | FZ55: Stalling Vliegtuigen | GA55: Stalling Wielvoertuigen | GB55: Stilteruimte | GC55: Straalruimte | GD55: Strijkruimte | GE55: Studieruimte | GF55: Talenpracticum | GG55: Technische Ruimte | GH55: Tekenzaal | GI55: Telefooncel | GJ55: Telematicaruimte | GK55: Toiletruimte | GL55: Toiletruimte Dames | GM55: Toiletruimte Heren | GN55: Toiletruimte Invalide | GO55: Trappenhuis | GP55: Tribuneruimte | GQ55: Uitgifteruimte | GR55: Verblijfsruimte | GS55: Vergaderruimte | GT55: Verhoorkamer | GU55: Verkeersleidingruimte | GV55: Verkoopruimte | GW55: Verpleegkamer | GX55: Voorlichtingslokaal | GY55: Vulruimte Brandblussers | GZ55: Vulruimte Zuurstofflessen | HA55: Wachtkamer | HB55: Wapenschoonmaakruimte | HC55: Wasruimte | HD55: Wasruimte Dames | HE55: Wasruimte Heren | HF55: Wasruimte Invalide | HG55: Wasruimte Textiel | HH55: Wasruimte Vliegtuigen | HI55: Wasruimte Voertuigen | HJ55: WC | HK55: WC Dames | HL55: WC Heren | HM55: Werkruimte Elektro | HN55: Werkruimte Galvano | HO55: Werkruimte Gevaarlijke Stoffen | HP55: Werkruimte Hout | HQ55: Werkruimte Kleding | HR55: Werkruimte Mechanisch | HS55: Werkruimte Optisch | HT55: Werkruimte Rupsvoertuigen | HU55: Werkruimte Schilder | HV55: Werkruimte Schoenen | HW55: Werkruimte Vliegtuigen | HX55: Werkruimte Wielvoertuigen | HY55: Woonkamer | HZ55: Zwemzaal | IA55: WC Dames | IB55: WC Heren | IC55: Werkruimte Elektro | ID55: Werkruimte Galvano | IE55: Werkruimte Gevaarlijke Stoffen | IF55: Werkruimte Hout | IG55: Werkruimte Kleding | IH55: Werkruimte Mechanisch | II55: Werkruimte Optisch | IJ55: Werkruimte Rupsvoertuigen | IK55: Werkruimte Schilder | IL55: Werkruimte Schoenen | IM55: Werkruimte Vliegtuigen | IN55: Werkruimte Wielvoertuigen | IO55: Woonkamer | IP55: Zwemzaal
I137: Terug naar boven.
I181: Terug naar boven.

Sheet Asbest
AL1: ê
C2: GMAS01
AM3: GEREEDMELDING ASBESTSANERING
O5: Saneringsnummer: | BF5: Inleveren bij :
BD6: ( Coördinator)
E7: 1. Lokatie gegevens:
G9: 1.1 | O9: object: | P9: =IF(ISBLANK(Voorblad!B16),"",(Voorblad!B16)) -> 51B12
G11: 1.3 | O11: G/ T/ W-nr.: | Y11: 1.4 | AH11: lokatie soort: | BB11: 1.5 | BJ11: dienstkring:
G13: 1.6 | O13: lokatienr. : | Y13: 1.7 | AH13: installatie ivt.: | BB13: 1.8 | BJ13: verz.bijlage:
E15: 2. Werkgegevens voorbereiding.
G17: 2.1 | S17: opdracht i.h.k.v.: | AN17: 2.2 | BA17: Woco- en Fondsnr:
G19: 2.3 | S19: naam saneerbedrijf: | AN19: 2.4 | BA19: sanerings kosten in: | BB19: € | BK19: (incl. BTW)
G21: 2.5 | S21: straat/ huisnummer: | AN21: 2.8 | BA21: postcode en plaats:
G23: 2.7 | S23: projectcoördinator: | AN23: 2.6 | BA23: DTA- saneerbedrijf:
E25: 3. Asbestgegevens na de sanering.
G27: 3.1 | S27: toegepast in: | AN27: 3.2 | BA27: hoeveelheid gesan.:
G29: 3.3 | S29: saneermethode: | AN29: 3.4 | BA29: datum v/d sanering: | BD29: - | BG29: -
G31: 3.5 | S31: laboratorium: | AN31: 3.6 | BA31: postcode en plaats:
G33: 3.7 | S33: wijzigingen: | AN33: 3.8 | BA33: categorie(urgentie):
E35: 4. Diversen
G37: 4.1 | S37: sloopvergunning: | AN37: 4.2 | BA37: briefnummer DVD:
G39: 4.3 | S39: arbeidsinspectie: | AN39: 4.4 | BA39: naam van inspecteur:
G41: 4.5 | S41: destructief onderz.: | X41: 4.6 | AL41: indien ja, welk resultaat:
G43: 4.7 | S43: opmerkingen:
BZ44: veldnr. | CA44: 1.3 | CB44: 1.4 | CC44: 2.1 | CD44: 3.2 | CE44: 3.3 | CF44: 3.8 | CG44: 4.5
E45: 5. Te verstrekken document(en) | BZ45: keuze 1 | CA45: gebouw | CB45: Leeuwarden | CC45: planbaar onderhoud | CD45: kg | CE45: containment | CF45: 1 | CG45: ja
BZ46: keuze 2 | CA46: werk | CB46: Havelte | CC46: niet planbaar onderhoud | CD46: m¹ | CE46: glove bag | CF46: 2 | CG46: nee
G47: 5.1 | R47: prestatieverklaring: | W47: 5.2 | AG47: eindmeting(en) : | AL47: 5.3 | AW47: prestatieverklaring: | BZ47: keuze 3 | CA47: terreindeel | CB47: 't Harde | CC47: commandanten voorziening | CD47: m² | CE47: openlucht | CF47: 3
BZ48: keuze 4 | CB48: Schaarsbergen | CC48: nader opgekomen urgentie | CD48: m³
G49: 5.4 | I49: Opgesteld door: | AD49: 5.5 | AF49: functie: | AU49: 5.6 | AW49: datum: | BC49: - | BF49: - | BZ49: keuze 5 | CC49: anders
BZ50: keuze 6
E51: Toelichting 1.6 per één lokatienummer. | BZ51: keuze 7
E52: uitvoer ? | I52: Meldcode | S52: lokatie + referentiepunt of gebouw soort | AK52: fase | AN52: stat | AQ52: soort | BA52: TNO | BC52: omv. | BF52: eenh | BH52: vindplaats | BZ52: keuze 8
BZ53: keuze 9
BZ54: keuze 10
BZ55: keuze 11
BZ56: keuze 12
BZ57: keuze 13
BZ58: keuze 14
BZ59: keuze 15
...

Sheet Vastgoedgeg. Gebouwdeel (BRV)
B1: Vastgoed- en hoeveelheidsgegevens per vastgoedniveau: Gebouwdeel | W1: Vervallen | X1: Gewijzigd
B4: Gebouwdeel code | C4: Gebouwdeel naam | D4: Gebouwdeel bouwjaar | E4: Gebouwdeel soort | G4: Gebouwdeel soort | H4: Mutatie | J4: Ruimte voor opmerking (mutatie)
B5: GBDL_CODE | C5: GBDL_NAAM | D5: GBDL_BOUWJAAR | E5: GBST_BESCHRIJVING

Sheet Vastgoedgeg. Bouwlaag (BRV)
B1: Vastgoed- en hoeveelheidsgegevens per vastgoedniveau: Bouwlaag | Z1: Vervallen | AA1: Gewijzigd
B3: Gebouwdeel code | C3: Gebouwdeel naam | D3: Gebouwdeel bouwjaar | E3: Gebouwdeel soort | F3: Bouwlaagsoort omschrijving | G3: Bruto bouwlaag hoogte | H3: Bouwlaag plafond richtgetal | J3: Bouwlaagsoort omschrijving | K3: Mutatie | M3: Ruimte voor opmerking (mutatie)
B4: GBDL_CODE | C4: GBDL_NAAM | D4: GBDL_BOUWJAAR | E4: GBST_BESCHRIJVING | F4: BLST_BESCHRIJVING | G4: BWLG_BRUTO_BOUWHOOGTE | H4: BWLG_PH_RICHTGETAL
F5: 1e Verdieping | G5: 3100 | H5: 2800
F6: 2e Verdieping | G6: 3100 | H6: 2800
F7: Begane grond | G7: 3100 | H7: 2800

Sheet Vastgoedgeg. Ruimte (BRV)
B1: Vastgoed- en hoeveelheidsgegevens per vastgoedniveau: Ruimte | AC1: Vervallen | AD1: Gewijzigd
B3: Gebouwdeel code | C3: Gebouwdeel naam | D3: Gebouwdeel bouwjaar | E3: Gebouwdeel soort | F3: Bouwlaagsoort omschrijving | G3: Bruto bouwlaag hoogte | H3: Bouwlaag plafond richtgetal | I3: Ruimte code | J3: Ruimte beschrijving | K3: Ruimte plafond hoogte | M3: Ruimtesoort | N3: Mutatie | P3: Ruimte voor opmerking (mutatie)
B4: GBDL_CODE | C4: GBDL_NAAM | D4: GBDL_BOUWJAAR | E4: GBST_BESCHRIJVING | F4: BLST_BESCHRIJVING | G4: BWLG_BRUTO_BOUWHOOGTE | H4: BWLG_PH_RICHTGETAL | I4: RMTE_CODE | J4: RMST_BESCHRIJVING | K4: RMTE_PLAFOND_HOOGTE
F5: 1e Verdieping | G5: 3100 | H5: 2800 | I5: 101 | J5: Trappenhuis | K5: 2800
F6: 1e Verdieping | G6: 3100 | H6: 2800 | I6: 101A | J6: Hal | K6: 2800
F7: 1e Verdieping | G7: 3100 | H7: 2800 | I7: 101B | J7: Technische Ruimte | K7: 2800
F8: 1e Verdieping | G8: 3100 | H8: 2800 | I8: 102 | J8: Gang | K8: 2800
F9: 1e Verdieping | G9: 3100 | H9: 2800 | I9: 103 | J9: Gang | K9: 2800
F10: 1e Verdieping | G10: 3100 | H10: 2800 | I10: 104 | J10: Gang | K10: 2800
F11: 1e Verdieping | G11: 3100 | H11: 2800 | I11: 105 | J11: Legering 3P | K11: 2800
F12: 1e Verdieping | G12: 3100 | H12: 2800 | I12: 106 | J12: Legering 3P | K12: 2800
F13: 1e Verdieping | G13: 3100 | H13: 2800 | I13: 107 | J13: Legering 3P | K13: 2800
F14: 1e Verdieping | G14: 3100 | H14: 2800 | I14: 108 | J14: Legering 3P | K14: 2800
F15: 1e Verdieping | G15: 3100 | H15: 2800 | I15: 109 | J15: Wasruimte Heren | K15: 2800
F16: 1e Verdieping | G16: 3100 | H16: 2800 | I16: 109A | J16: Doucheruimte Heren | K16: 2800
... F178: Begane grond | G178: 3100 | H178: 2800 | I178: 9C | J178: Doucheruimte Dames | K178: 2800

Sheet Geregistreerde installaties 
B1: Informatie van in het gebouw aanwezige installaties | N1: * Vul deze kolommen, waar dit van toepassing is.
B2: Component | C2: Object code | D2: Objectnaam | E2: Gebouw code | F2: Gebouw naam | G2: Bouwlaag soort | H2: Ruimte code | I2: Ruimtesoort | J2: Volg nr | K2: Attribuutnaam | L2: Attribuutwaarde | M2: Mutatie* | N2: Ruimte voor gemuteerde attribuutwaarde of opmerking* | Z2: Vervallen | AA2: Gewijzigd
B3: RBI_COMP_NAAM | C3: OBJECTNUMMER | D3: OBJECTNAAM | E3: GBUW_NUMMER | F3: GBUW_NAAM | G3: BWLG_OMSCHRIJVING | H3: RMTE_NUMMER | I3: RMTE_OMSCHRIJVING | J3: VOLGNR | K3: RBI_ATTR_NAAM | L3: WAARDE
B4: Dak vlak | C4: 51B12 | D4: GENM DE R V S KAZERNE | E4: 248 | F4: Legeringsgebouw , Kantoorgebouw | J4: 1 | K4: Aantal | L4: 1
B5: Laagspanning | C5: 51B12 | D5: GENM DE R V S KAZERNE | E5: 248 | F5: Legeringsgebouw , Kantoorgebouw | J5: 1 | K5: Aantal | L5: 1
B6: Laagspanning | C6: 51B12 | D6: GENM DE R V S KAZERNE | E6: 248 | F6: Legeringsgebouw , Kantoorgebouw | J6: 2 | K6: Bouwjaar | L6: 1974
B7: Leidingwaterinstallatie in gebouw | C7: 51B12 | D7: GENM DE R V S KAZERNE | E7: 248 | F7: Legeringsgebouw , Kantoorgebouw | J7: 1 | K7: DVD-code | L7: 1
B8: Leidingwaterinstallatie in gebouw | C8: 51B12 | D8: GENM DE R V S KAZERNE | E8: 248 | F8: Legeringsgebouw , Kantoorgebouw | J8: 2 | K8: BI code | L8: 1
B9: Leidingwaterinstallatie in gebouw | C9: 51B12 | D9: GENM DE R V S KAZERNE | E9: 248 | F9: Legeringsgebouw , Kantoorgebouw | J9: 3 | K9: Aantal | L9: 1
B10: Leidingwaterinstallatie in gebouw | C10: 51B12 | D10: GENM DE R V S KAZERNE | E10: 248 | F10: Legeringsgebouw , Kantoorgebouw | J10: 4 | K10: Bouwjaar | L10: 1974
B11: Leidingwaterinstallatie in gebouw | C11: 51B12 | D11: GENM DE R V S KAZERNE | E11: 248 | F11: Legeringsgebouw , Kantoorgebouw | J11: 5 | K11: Risicoklasse lwi | L11: Zorgplicht Defensie
B12: Leidingwaterinstallatie in gebouw | C12: 51B12 | D12: GENM DE R V S KAZERNE | E12: 248 | F12: Legeringsgebouw , Kantoorgebouw | J12: 6 | K12: Warmwatercirculatiesysteem | L12: Nee
B13: Leidingwaterinstallatie in gebouw | C13: 51B12 | D13: GENM DE R V S KAZERNE | E13: 248 | F13: Legeringsgebouw , Kantoorgebouw | J13: 7 | K13: Aerosolvormende tappunten | L13: Ja
B14: Leidingwaterinstallatie in gebouw | C14: 51B12 | D14: GENM DE R V S KAZERNE | E14: 248 | F14: Legeringsgebouw , Kantoorgebouw | J14: 8 | K14: Meter | L14: Nee
B15: Leidingwaterinstallatie in gebouw | C15: 51B12 | D15: GENM DE R V S KAZERNE | E15: 248 | F15: Legeringsgebouw , Kantoorgebouw | J15: 9 | K15: Aantal niet contr. keerkleppen
B16: Leidingwaterinstallatie in gebouw | C16: 51B12 | D16: GENM DE R V S KAZERNE | E16: 248 | F16: Legeringsgebouw , Kantoorgebouw | J16: 10 | K16: Onderhoudsplicht | L16: Ja, vastgoedbeh.
B17: Leidingwaterinstallatie in gebouw | C17: 51B12 | D17: GENM DE R V S KAZERNE | E17: 248 | F17: Legeringsgebouw , Kantoorgebouw | J17: 11 | K17: Buiten gebruik gesteld | L17: Nee
B18: Noodverlichting decentraal | C18: 51B12 | D18: GENM DE R V S KAZERNE | E18: 248 | F18: Legeringsgebouw , Kantoorgebouw | J18: 1 | K18: Aantal | L18: 1
B19: Noodverlichting decentraal | C19: 51B12 | D19: GENM DE R V S KAZERNE | E19: 248 | F19: Legeringsgebouw , Kantoorgebouw | J19: 2 | K19: Nadere specificatie bwd/instl | L19: 1 armatuur
B20: Noodverlichting decentraal | C20: 51B12 | D20: GENM DE R V S KAZERNE | E20: 248 | F20: Legeringsgebouw , Kantoorgebouw | J20: 3 | K20: Centraal testsysteem | L20: Ja
B21: Noodverlichting decentraal | C21: 51B12 | D21: GENM DE R V S KAZERNE | E21: 248 | F21: Legeringsgebouw , Kantoorgebouw | J21: 4 | K21: Onderhoudsplicht | L21: Ja, vastgoedbeh.
B22: Noodverlichting decentraal | C22: 51B12 | D22: GENM DE R V S KAZERNE | E22: 248 | F22: Legeringsgebouw , Kantoorgebouw | J22: 5 | K22: Buiten gebruik gesteld | L22: Nee
B23: Valbeveiliging | C23: 51B12 | D23: GENM DE R V S KAZERNE | E23: 248 | F23: Legeringsgebouw , Kantoorgebouw | J23: 1 | K23: BI code | L23: 1
B24: Valbeveiliging | C24: 51B12 | D24: GENM DE R V S KAZERNE | E24: 248 | F24: Legeringsgebouw , Kantoorgebouw | J24: 2 | K24: Aantal | L24: 1
B25: Valbeveiliging | C25: 51B12 | D25: GENM DE R V S KAZERNE | E25: 248 | F25: Legeringsgebouw , Kantoorgebouw | J25: 3 | K25: Fabrikant | L25: Latchways PLC
B26: Valbeveiliging | C26: 51B12 | D26: GENM DE R V S KAZERNE | E26: 248 | F26: Legeringsgebouw , Kantoorgebouw | J26: 4 | K26: Type
B27: Valbeveiliging | C27: 51B12 | D27: GENM DE R V S KAZERNE | E27: 248 | F27: Legeringsgebouw , Kantoorgebouw | J27: 5 | K27: Nadere locatiebepaling
B28: Valbeveiliging | C28: 51B12 | D28: GENM DE R V S KAZERNE | E28: 248 | F28: Legeringsgebouw , Kantoorgebouw | J28: 6 | K28: Bouwjaar
B29: Valbeveiliging | C29: 51B12 | D29: GENM DE R V S KAZERNE | E29: 248 | F29: Legeringsgebouw , Kantoorgebouw | J29: 7 | K29: Nadere specificatie bwd/instl
B30: Valbeveiliging | C30: 51B12 | D30: GENM DE R V S KAZERNE | E30: 248 | F30: Legeringsgebouw , Kantoorgebouw | J30: 8 | K30: Aantal dakvlakken
B31: Valbeveiliging | C31: 51B12 | D31: GENM DE R V S KAZERNE | E31: 248 | F31: Legeringsgebouw , Kantoorgebouw | J31: 9 | K31: Type hekwerk | L31: Nader te bepalen
B32: Valbeveiliging | C32: 51B12 | D32: GENM DE R V S KAZERNE | E32: 248 | F32: Legeringsgebouw , Kantoorgebouw | J32: 10 | K32: Lengte hekwerk
B33: Valbeveiliging | C33: 51B12 | D33: GENM DE R V S KAZERNE | E33: 248 | F33: Legeringsgebouw , Kantoorgebouw | J33: 11 | K33: Type daktoegang | L33: Nader te bepalen
B34: Valbeveiliging | C34: 51B12 | D34: GENM DE R V S KAZERNE | E34: 248 | F34: Legeringsgebouw , Kantoorgebouw | J34: 12 | K34: Aantal daktoegangen
B35: Valbeveiliging | C35: 51B12 | D35: GENM DE R V S KAZERNE | E35: 248 | F35: Legeringsgebouw , Kantoorgebouw | J35: 13 | K35: Type markering | L35: Nader te bepalen
B36: Valbeveiliging | C36: 51B12 | D36: GENM DE R V S KAZERNE | E36: 248 | F36: Legeringsgebouw , Kantoorgebouw | J36: 14 | K36: Type lijnbeveiligingssysteem | L36: Nader te bepalen
B37: Valbeveiliging | C37: 51B12 | D37: GENM DE R V S KAZERNE | E37: 248 | F37: Legeringsgebouw , Kantoorgebouw | J37: 15 | K37: Aantal lijnbeveiligingssyst.
B38: Valbeveiliging | C38: 51B12 | D38: GENM DE R V S KAZERNE | E38: 248 | F38: Legeringsgebouw , Kantoorgebouw | J38: 16 | K38: Lengte kabelsysteem | L38: 59,00
B39: Valbeveiliging | C39: 51B12 | D39: GENM DE R V S KAZERNE | E39: 248 | F39: Legeringsgebouw , Kantoorgebouw | J39: 17 | K39: Type ankerpunten | L39: Nader te bepalen
B40: Valbeveiliging | C40: 51B12 | D40: GENM DE R V S KAZERNE | E40: 248 | F40: Legeringsgebouw , Kantoorgebouw | J40: 18 | K40: Aantal individuele ankerpunten
...

Sheet Gereg installaties object 
B1: Informatie over de op het object aanwezige installaties | I1: * Vul deze kolommen, waar dit van toepassing is.
B2: Component | C2: Object code | D2: Objectnaam | E2: Volg nr | F2: Attribuutnaam | G2: Attribuutwaarde | H2: Mutatie* | I2: Ruimte voor gemuteerde attribuutwaarde of opmerking* | U2: Vervallen | V2: Gewijzigd
B3: RBI_COMP_NAAM | C3: OBJECTNUMMER | D3: OBJECTNAAM | E3: VOLGNR | F3: RBI_ATTR_NAAM | G3: WAARDE
B4: Brandkraan | C4: 51B12 | D4: GENM DE R V S KAZERNE | E4: 4 | F4: Nadere specificatie bwd/instl
B5: Brandkraan | C5: 51B12 | D5: GENM DE R V S KAZERNE | E5: 5 | F5: Situatie brandkraan | G5: Ondergronds
B6: Brandkraan | C6: 51B12 | D6: GENM DE R V S KAZERNE | E6: 1 | F6: DVD-code | G6: B20
B7: Brandkraan | C7: 51B12 | D7: GENM DE R V S KAZERNE | E7: 2 | F7: Aantal | G7: 1
B8: Brandkraan | C8: 51B12 | D8: GENM DE R V S KAZERNE | E8: 3 | F8: Nadere locatiebepaling | G8: nabij geb 215
B9: Brandkraan | C9: 51B12 | D9: GENM DE R V S KAZERNE | E9: 4 | F9: Nadere specificatie bwd/instl
B10: Brandkraan | C10: 51B12 | D10: GENM DE R V S KAZERNE | E10: 5 | F10: Situatie brandkraan | G10: Ondergronds
B11: Brandkraan | C11: 51B12 | D11: GENM DE R V S KAZERNE | E11: 1 | F11: DVD-code | G11: B21
B12: Brandkraan | C12: 51B12 | D12: GENM DE R V S KAZERNE | E12: 2 | F12: Aantal | G12: 1
B13: Brandkraan | C13: 51B12 | D13: GENM DE R V S KAZERNE | E13: 3 | F13: Nadere locatiebepaling | G13: nabij geb 212 - 213
B14: Brandkraan | C14: 51B12 | D14: GENM DE R V S KAZERNE | E14: 4 | F14: Nadere specificatie bwd/instl
B15: Brandkraan | C15: 51B12 | D15: GENM DE R V S KAZERNE | E15: 5 | F15: Situatie brandkraan | G15: Ondergronds
B16: Brandkraan | C16: 51B12 | D16: GENM DE R V S KAZERNE | E16: 1 | F16: DVD-code | G16: B22
B17: Brandkraan | C17: 51B12 | D17: GENM DE R V S KAZERNE | E17: 2 | F17: Aantal | G17: 1
B18: Brandkraan | C18: 51B12 | D18: GENM DE R V S KAZERNE | E18: 3 | F18: Nadere locatiebepaling | G18: nabij geb 215 - 265
B19: Brandkraan | C19: 51B12 | D19: GENM DE R V S KAZERNE | E19: 4 | F19: Nadere specificatie bwd/instl
B20: Brandkraan | C20: 51B12 | D20: GENM DE R V S KAZERNE | E20: 5 | F20: Situatie brandkraan | G20: Ondergronds
B21: Brandkraan | C21: 51B12 | D21: GENM DE R V S KAZERNE | E21: 1 | F21: DVD-code | G21: B23
B22: Brandkraan | C22: 51B12 | D22: GENM DE R V S KAZERNE | E22: 2 | F22: Aantal | G22: 1
B23: Brandkraan | C23: 51B12 | D23: GENM DE R V S KAZERNE | E23: 3 | F23: Nadere locatiebepaling | G23: nabij geb 218 - 219 - 168
B24: Brandkraan | C24: 51B12 | D24: GENM DE R V S KAZERNE | E24: 4 | F24: Nadere specificatie bwd/instl
B25: Brandkraan | C25: 51B12 | D25: GENM DE R V S KAZERNE | E25: 5 | F25: Situatie brandkraan | G25: Ondergronds
B26: Brandkraan | C26: 51B12 | D26: GENM DE R V S KAZERNE | E26: 1 | F26: DVD-code | G26: B24
B27: Brandkraan | C27: 51B12 | D27: GENM DE R V S KAZERNE | E27: 2 | F27: Aantal | G27: 1
B28: Brandkraan | C28: 51B12 | D28: GENM DE R V S KAZERNE | E28: 3 | F28: Nadere locatiebepaling | G28: nabij geb 221 - 160
B29: Brandkraan | C29: 51B12 | D29: GENM DE R V S KAZERNE | E29: 4 | F29: Nadere specificatie bwd/instl
B30: Brandkraan | C30: 51B12 | D30: GENM DE R V S KAZERNE | E30: 5 | F30: Situatie brandkraan | G30: Ondergronds
B31: Brandkraan | C31: 51B12 | D31: GENM DE R V S KAZERNE | E31: 1 | F31: DVD-code | G31: B25
B32: Brandkraan | C32: 51B12 | D32: GENM DE R V S KAZERNE | E32: 2 | F32: Aantal | G32: 1
B33: Brandkraan | C33: 51B12 | D33: GENM DE R V S KAZERNE | E33: 3 | F33: Nadere locatiebepaling | G33: nabij geb 160 - 140
B34: Brandkraan | C34: 51B12 | D34: GENM DE R V S KAZERNE | E34: 4 | F34: Nadere specificatie bwd/instl
B35: Brandkraan | C35: 51B12 | D35: GENM DE R V S KAZERNE | E35: 5 | F35: Situatie brandkraan | G35: Ondergronds
B36: Brandkraan | C36: 51B12 | D36: GENM DE R V S KAZERNE | E36: 1 | F36: DVD-code | G36: B26
B37: Brandkraan | C37: 51B12 | D37: GENM DE R V S KAZERNE | E37: 2 | F37: Aantal | G37: 1
B38: Brandkraan | C38: 51B12 | D38: GENM DE R V S KAZERNE | E38: 3 | F38: Nadere locatiebepaling | G38: nabij geb 140 - 142
B39: Brandkraan | C39: 51B12 | D39: GENM DE R V S KAZERNE | E39: 4 | F39: Nadere specificatie bwd/instl
B40: Brandkraan | C40: 51B12 | D40: GENM DE R V S KAZERNE | E40: 5 | F40: Situatie brandkraan | G40: Ondergronds
...

Sheet Nieuwe installaties 
D1: Installatiegegevens
D3: Van toepassing op dit project:
B4: Vloeren op grondslag
B6: Trappen en hellingen
B7: Buitenwandopeningen
B8: Inbouwpakketten
B9: Dakafwerkingen
B11: Warmte-opwekking
B19: Afvoeren
B22: Water
B34: Gassen
B36: Koude-opwekking
B39: Warmtedistributie
B40: Luchtbehandeling
... B104: Terreininrichting; bijzonder
D106: Nieuwe componenten worden toegevoegd nadat het landelijk overleg daar overeenstemming over bereikt heeft.

Sheet 22.10.00.00
B1: Component | D1: Beweegbare scheidingswand
B2: versie 1.1 dd 04-03-2019 | D2: 22.10.00.00 Beweegbare scheidingswand
B4: Datadefinitie | D4: Een beweegbare scheidingswand is een niet constructieve scheiding, bedoelt voor het opdelen van een ruimte in meerdere delen, die bij het ontbreken van periodiek onderhoud gevaar voor de mens of omgeving kan opleveren.
B6: Inwininstructie | D6: De scheidingswand registreren in de ruimte met het hoogste ruimtenummer waarin zich de scheidingswand bevindt.
B8: BRV
B10: Objectcode | D10: =IF(ISBLANK(Voorblad!B$16),"",(Voorblad!B$16)) -> 51B12
B12: Gebouwcode | D12: =IF(ISBLANK(Voorblad!B$17),"",(Voorblad!B$17)) -> 248
B14: Bouwlaagcode | C14: >
D15: 0
D16: 1
D17: 2
D18: 3
D19: 4
D20: 5
D21: 6
D22: 7
D23: 8
D24: 9
D25: 10
D26: 11
... D40: Z
B42: Ruimtecode | E42: Ruimtecode volgens registratie door VGI in BRV.
B44: RBI
B46: BI-code | D46: < intern VGI nummer > | E46: BI-code om component/toepassing uniek aan te duiden. Niet invullen. Het betreft een intern VGI nummer
E47: Een scheidingswand wordt ook vastgelegd op de basisplattegrond en met een bedrijfsdeurnummer
E48: de aangegeven BI code wordt hierop ook weergegeven. De BI code dient per bouwlaag uniek te zijn.
B50: Aantal | D50: < 1 >
B52: Fabrikaat
B54: Nadere locatiebepaling | E54: Vrij veld om de locatie van de installatie te verduidelijken.
B56: Bouwjaar
B58: Nadere specificatie bwd/instl | E58: Vrij veld om specifieke kenmerken van de installatie aan te geven.
B60: Specifiek
B62: Soort scheidingswand | C62: >
D63: Horizontaal beweegbaar
D64: Verticaal beweegbaar
E66: Horizontaal beweegbaar: een scheidingswand die bij bediening in horizontale richting oprolt, afrolt, opvouwt of uitvouwt met een snelheid van minimaal een meter per seconde.
E68: Vertikaal beweegbaar: een scheidingswand die bij bediening in verticale richting oprolt, afrolt, opvouwt of uitvouwt met een snelheid van minimaal een meter per seconde.
B70: Aandrijving | C70: >
D71: Elektrisch
D72: Handmatig
...

Sheet 13.22.01.00
B1: Component | D1: Vloeistofdichte voorziening in gebouw
B2: versie 6.0 dd 11-09-2009 | D2: 13.22.01.00 Vloeistofdichte voorziening in gebouw
B4: Datadefinitie | D4: Vloeistofdichte voorziening in gebouw is een betonnen calamiteitenvoorziening ter voorkoming van indringing van milieugevaarlijke stoffen in de bodem onder een gebouw.
B5: Inwininstructie | D5: Alleen die voorzieningen waarvoor een PBV-verklaring (Plan Bodembeschermende Voorzieningen) is afgegeven. Gegevens van certificaat overnemen.
B6: Inwininstructie | D6: Metalen lekbakken hoeven niet geinventariseerd te worden.
B8: BRV
B10: Objectcode | D10: =IF(ISBLANK(Voorblad!B$16),"",(Voorblad!B$16)) -> 51B12
B12: Gebouwcode | D12: =IF(ISBLANK(Voorblad!B$17),"",(Voorblad!B$17)) -> 248
B14: Bouwlaagcode | C14: >
D15: 0
D16: 1
D17: 2
D18: 3
D19: 4
D20: 5
D21: 6
D22: 7
D23: 8
D24: 9
D25: 10
D26: 11
... D40: Z
B42: Ruimtecode | E42: Ruimtecode volgens registratie door VGI in BRV.
B44: RBI
B46: BI-code | D46: < intern VGI nummer > | E46: BI-code om component/toepassing uniek aan te duiden. Niet invullen. Het betreft een intern VGI nummer
B48: Aantal | D48: < 1 >
B50: Nadere locatiebepaling | E50: Vrij veld om de locatie van de installatie te verduidelijken.
B52: Bouwjaar
B54: Nadere specificatie bwd/instl | E54: Vrij veld om specifieke kenmerken van de installatie aan te geven.
B56: Specifiek
B58: Soort vloeistofdichte voorziening in gebouw | C58: > | E58: Lekbak: ten behoeve van calamiteiten opvang van bodembedreigende stoffen.
D59: Lekbak
D60: Vloer
B62: Oppervlakte vloeistofdichte voorziening in m2 | C62: >
B64: Bodembedreigende activiteit | C64: > | E64: Activiteit op basis waarvan de vloeistofdichte voorziening noodzakelijk wordt geacht. Bij meerder in de volgorde van meest milieubelastend conform picklist.
D65: Werken met bodembedreigende stoffen
D66: Tanken van voertuigen en/of vliegtuigen
D67: Wassen van voertuigen en/of vliegtuigen
D68: Opslag van bodembedreigende stoffen
B70: Riolering aanwezig | C70: >
...

Sheet 24.30.01.00
B1: Component | D1: Sportaccommodatie gebouwgebonden
B2: versie 6.0 dd 02-10-2009 | D2: 24.30.01.00 Sportaccommodatie gebouwgebonden
B4: Datadefinitie | D4: Sportaccommodatie gebouwgebonden is een klimwand in of aan een gebouw om sport te kunnen beoefenen.
B5: Inwininstructie | D5: Geen.
B7: BRV
B9: Objectcode | D9: =IF(ISBLANK(Voorblad!B$16),"",(Voorblad!B$16)) -> 51B12
B11: Gebouwcode | D11: =IF(ISBLANK(Voorblad!B$17),"",(Voorblad!B$17)) -> 248
B13: Bouwlaagcode | C13: >
D14: 0
D15: 1
D16: 2
D17: 3
D18: 4
D19: 5
D20: 6
D21: 7
D22: 8
D23: 9
D24: 10
D25: 11
... D39: Z
B41: Ruimtecode | E41: De klimwand aan een gebouw dient te worden geregistreerd in de dichtstbijzijnde ruimte in het gebouw. Ruimtecode volgens registratie door VGI in BRV.
B43: RBI
B45: BI-code | D45: < intern VGI nummer > | E45: BI-code om component/toepassing uniek aan te duiden. Niet invullen. Het betreft een intern VGI nummer
B47: Aantal | D47: < 1 >
B49: Nadere locatiebepaling | E49: Vrij veld om de locatie van de installatie te verduidelijken.
B51: Bouwjaar
B53: Nadere specificatie bwd/instl | E53: Vrij veld om specifieke kenmerken van de installatie aan te geven.
B55: Specifiek
B57: Soort sportaccomodatie gebouw gebonden | C57: >
D58: Klimwand aan gebouw
D59: Klimwand in gebouw

Sheet 31.30.01.00
B1: Component | D1: Bedrijfsdeur
B2: versie 6.8 dd 25-02-2019 | D2: 31.30.01.00 Bedrijfsdeur
B4: Datadefinitie | D4: Bedrijfsdeur is een deur die bij het ontbreken van periodiek onderhoud gevaar voor de mens of omgeving kan opleveren.
B6: BRV
B8: Objectcode | D8: =IF(ISBLANK(Voorblad!B$16),"",(Voorblad!B$16)) -> 51B12
B10: Gebouwcode | D10: =IF(ISBLANK(Voorblad!B$17),"",(Voorblad!B$17)) -> 248
B12: Bouwlaagcode | C12: >
D13: 0
D14: 1
D15: 2
D16: 3
D17: 4
D18: 5
D19: 6
D20: 7
D21: 8
D22: 9
D23: 10
D24: 11
... D38: Z
B40: Ruimtecode | E40: Ruimtecode volgens registratie door VGI in BRV.
B42: RBI
B44: BI-code | D44: < intern VGI nummer > | E44: BI-code om component/toepassing uniek aan te duiden. Niet invullen. Het betreft een intern VGI nummer
E45: Een bedrijfsdeur wordt ook vastgelegd op de basisplattegrond en de aangegeven BI code wordt hierop ook weergegeven.
E46: De BI code dient per bouwlaag uniek te zijn.
B48: Aantal | D48: < 1 >
B50: Fabrikaat
B52: Nadere locatiebepaling | E52: Vrij veld om de locatie van de installatie te verduidelijken.
B54: Bouwjaar
B56: Nadere specificatie bwd/instl | E56: Vrij veld om specifieke kenmerken van de installatie aan te geven.
B58: Specifiek
B60: Soort Bedrijfsdeur | C60: > | E60: Alleen die deur waarvoor een opdracht van de klant ligt om deze te keuren.
D61: Nader te bepalen
D62: A-deuren
D63: EMP-deuren
D64: Hangardeur
D65: Harmonicadeur
D66: Hefdeur
D67: Kanteldeur
D68: Overheaddeur
...

Sheet 38.10.01.00
B1: Component | D1: Schietbaan in gebouw
B2: versie 6.1 dd 03-08-2010 | D2: 38.10.01.00 Schietbaan in gebouw
B4: Datadefinitie | D4: Schietbaan waar met scherp wordt geschoten in een gebouw, of een deel van een gebouw, zonder open zijden en met een geheel gesloten afdekking.
B5: Inwininstructie | D5: Geen.
B7: BRV
B9: Objectcode | D9: =IF(ISBLANK(Voorblad!B$16),"",(Voorblad!B$16)) -> 51B12
B11: Gebouwcode | D11: =IF(ISBLANK(Voorblad!B$17),"",(Voorblad!B$17)) -> 248
B13: Bouwlaagcode | C13: >
D14: 0
D15: 1
D16: 2
D17: 3
D18: 4
D19: 5
D20: 6
D21: 7
D22: 8
D23: 9
D24: 10
D25: 11
... D39: Z
B41: Ruimtecode | E41: Ruimtecode volgens registratie door VGI in BRV.
B43: RBI
B45: BI-code | D45: < intern VGI nummer > | E45: BI-code om component/toepassing uniek aan te duiden. Niet invullen. Het betreft een intern VGI nummer
B47: Aantal | D47: < 1 >
B49: Bouwjaar
B51: Nadere specificatie bwd/instl | E51: Vrij veld om specifieke kenmerken van de installatie aan te geven.
B53: Specifiek
B55: Aantal schietpunten in stuks
B57: Baanlengte in m1
B59: Soort kogelvanger | C59: >
D60: Zand
D61: Lamellen

Sheet 47.21.01.00
B1: Component | D1: Dakvlak
B2: versie 6.1 dd 04-05-2012 | D2: 47.21.01.00 Dak vlak
B4: Datadefinitie | D4: Dak vlak is een dak met een dakhelling <= 5 graden.
B5: Inwininstructie | D5: Geen.
B7: BRV
B9: Objectcode | D9: =IF(ISBLANK(Voorblad!B$16),"",(Voorblad!B$16)) -> 51B12
B11: Gebouwcode | D11: =IF(ISBLANK(Voorblad!B$17),"",(Voorblad!B$17)) -> 248
B13: RBI
B15: Aantal | D15: < 1 >
B17: Specifiek

Sheet 47.22.01.00
B1: Component | D1: Dak hellend
B2: versie 6.1 dd 04-05-2012 | D2: 47.22.01.00 Dak hellend
B4: Datadefinitie | D4: Dak hellend is een dak met een dakhelling > 5 graden.
B5: Inwininstructie | D5: Geen.
B7: BRV
B9: Objectcode | D9: =IF(ISBLANK(Voorblad!B$16),"",(Voorblad!B$16)) -> 51B12
B11: Gebouwcode | D11: =IF(ISBLANK(Voorblad!B$17),"",(Voorblad!B$17)) -> 248
B13: RBI
B15: Aantal | D15: < 1 >
B17: Specifiek
B19: Totale lengte goot in m1 | E19: Totale lengte van de goot van het dak hellend.

Sheet 51.10.01.00
B1: Component | D1: Kachel
B2: versie 6.1 dd 23-12-2011 | D2: 51.10.01.00 Kachel
B4: Datadefinitie | D4: Kachel is een decentrale installatie waarin door verbranding van brandstoffen warmte wordt opgewekt en direct ter beschikking wordt gesteld ten behoeve van het klimaat van een ruimte.
B5: Inwininstructie | D5: Geen.
B7: BRV
B9: Objectcode | D9: =IF(ISBLANK(Voorblad!B$16),"",(Voorblad!B$16)) -> 51B12
B11: Gebouwcode | D11: =IF(ISBLANK(Voorblad!B$17),"",(Voorblad!B$17)) -> 248
B13: Bouwlaagcode | C13: >
D14: 0
D15: 1
D16: 2
D17: 3
D18: 4
D19: 5
D20: 6
D21: 7
D22: 8
D23: 9
D24: 10
D25: 11
... D39: Z
B41: Ruimtecode | E41: Ruimtecode volgens registratie door VGI in BRV.
B43: RBI
B45: BI-code | D45: < intern VGI nummer > | E45: BI-code om component/toepassing uniek aan te duiden. Niet invullen. Het betreft een intern VGI nummer
B47: Aantal | D47: < 1 >
B49: Fabrikaat
B51: Type
B53: Serienummer
B55: Installatienummer
B57: Nadere locatiebepaling | E57: Vrij veld om de locatie van de installatie te verduidelijken.
B59: Bouwjaar
B61: Nadere specificatie bwd/instl | E61: Vrij veld om specifieke kenmerken van de installatie aan te geven.
B63: Specifiek
B65: Maximale nominale vermogen in kW | E65: Indien vermogen > 900 Kw dan gegeven registreren dat op installatie bij "Nominaal vermogen" staat.
B67: Max nom belasting bovenwaarde in kW | E67: Moet worden afgelezen van typeplaatje. Indien dit niet mogelijk is uit een stookrapport halen of anders schatten.
B69: Rendementscategorie | C69: >
D70: Conventioneel
D71: HR
D72: VR
B74: Brandstof | C74: > | E74: Soort gebruikte brandstof.
...

Sheet 51.10.02.00
B1: Component | D1: Luchtverhitter
B2: versie 6.3 dd 28-03-2012 | D2: 51.10.02.00 Luchtverhitter
B4: Datadefinitie | D4: Luchtverhitter is een decentrale installatie waarin lucht wordt verhit en met behulp van een ventilator direct ter beschikking wordt gesteld ten behoeve van het klimaat van een ruimte.
B5: Inwininstructie | D5: Indien (uitzonderingssituatie) een luchtverhitter uitblaasopeningen heeft in meerdere ruimten wordt de luchtverhitter geregistreerd in de ruimte met de laagste ruimte aanduiding.
B7: BRV
B9: Objectcode | D9: =IF(ISBLANK(Voorblad!B$16),"",(Voorblad!B$16)) -> 51B12
B11: Gebouwcode | D11: =IF(ISBLANK(Voorblad!B$17),"",(Voorblad!B$17)) -> 248
B13: Bouwlaagcode | C13: >
D14: 0
D15: 1
D16: 2
D17: 3
D18: 4
D19: 5
D20: 6
D21: 7
D22: 8
D23: 9
D24: 10
D25: 11
... D39: Z
B41: Ruimtecode | E41: Ruimtecode volgens registratie door VGI in BRV.
B43: RBI
B45: BI-code | D45: < intern VGI nummer > | E45: BI-code om component/toepassing uniek aan te duiden. Niet invullen. Het betreft een intern VGI nummer
B47: Aantal | D47: < 1 >
B49: Fabrikaat
B51: Type
B53: Serienummer
B55: Installatienummer
B57: Nadere locatiebepaling | E57: Vrij veld om de locatie van de installatie te verduidelijken.
B59: Bouwjaar
B61: Nadere specificatie bwd/instl | E61: Vrij veld om specifieke kenmerken van de installatie aan te geven.
B63: Specifiek
B65: Maximale nominale vermogen in kW | E65: Indien vermogen > 900 Kw dan gegeven registreren dat op installatie bij "Nominaal vermogen" staat.
B67: Max nom belasting bovenwaarde in kW | E67: Moet worden afgelezen van typeplaatje. Indien dit niet mogelijk is uit een stookrapport halen of anders schatten.
B69: Rendementscategorie | C69: >
D70: Conventioneel
D71: HR
D72: VR
B74: Brandstof | C74: > | E74: Soort gebruikte brandstof.
...

Sheet 51.20.01.00
B1: Component | D1: CV-ketel
B2: versie 6.1 dd 23-12-2011 | D2: 51.20.01.00 CV-ketel
B4: Datadefinitie | D4: CV-ketel is een centrale installatie t.b.v. het indirect verwarmen van meerdere ruimten, incl. combiketel.
B5: Inwininstructie | D5: Geen.
B7: BRV
B9: Objectcode | D9: =IF(ISBLANK(Voorblad!B$16),"",(Voorblad!B$16)) -> 51B12
B11: Gebouwcode | D11: =IF(ISBLANK(Voorblad!B$17),"",(Voorblad!B$17)) -> 248
B13: Bouwlaagcode | C13: >
D14: 0
D15: 1
D16: 2
D17: 3
D18: 4
D19: 5
D20: 6
D21: 7
D22: 8
D23: 9
D24: 10
D25: 11
... D39: Z
B41: Ruimtecode | E41: Ruimtecode volgens registratie door VGI in BRV.
B43: RBI
B45: BI-code | D45: < intern VGI nummer > | E45: BI-code om component/toepassing uniek aan te duiden. Niet invullen. Het betreft een intern VGI nummer
B47: Aantal | D47: < 1 >
B49: Fabrikaat
B51: Type
B53: Serienummer
B55: Installatienummer
B57: Nadere locatiebepaling | E57: Vrij veld om de locatie van de installatie te verduidelijken.
B59: Bouwjaar
B61: Nadere specificatie bwd/instl | E61: Vrij veld om specifieke kenmerken van de installatie aan te geven.
B63: Specifiek
B65: Maximale nominale vermogen in kW | C65: > | E65: Indien vermogen > 900 Kw dan gegeven registreren dat op installatie bij "Nominaal vermogen" staat.
B67: Max nom belasting bovenwaarde in kW | C67: > | E67: Moet worden afgelezen van typeplaatje. Indien dit niet mogelijk is uit een stookrapport halen of anders schatten.
B69: Cascade-opstelling | C69: >
D70: Ja
D71: Nee (default)
B73: Cascadenummer
E74: Alleen vullen indien CV-ketel onderdeel is van een cascade opstelling
...

Sheet 51.20.02.00
B1: Component | D1: Verwarmd waterinstallatie geiser
B2: versie 6.1 dd 23-12-2011 | D2: 51.20.02.00 Verwarmd waterinstallatie geiser
B4: Datadefinitie | D4: Verwarmd waterinstallatie geiser is een direct gestookt doorstroomapparaat voor de levering van verwarmd water zonder voorraadvat.
B5: Inwininstructie | D5: Geen.
B7: BRV
B9: Objectcode | D9: =IF(ISBLANK(Voorblad!B$16),"",(Voorblad!B$16)) -> 51B12
B11: Gebouwcode | D11: =IF(ISBLANK(Voorblad!B$17),"",(Voorblad!B$17)) -> 248
B13: Bouwlaagcode | C13: >
D14: 0
D15: 1
D16: 2
D17: 3
D18: 4
D19: 5
D20: 6
D21: 7
D22: 8
D23: 9
D24: 10
D25: 11
... D39: Z
B41: Ruimtecode | E41: Ruimtecode volgens registratie door VGI in BRV.
B43: RBI
B45: BI-code | D45: < intern VGI nummer > | E45: BI-code om component/toepassing uniek aan te duiden. Niet invullen. Het betreft een intern VGI nummer
B47: Aantal | D47: < 1 >
B49: Fabrikaat
B51: Type
B53: Serienummer
B55: Nadere locatiebepaling | E55: Vrij veld om de locatie van de installatie te verduidelijken.
B57: Bouwjaar
B59: Nadere specificatie bwd/instl | E59: Vrij veld om specifieke kenmerken van de installatie aan te geven.
B61: Specifiek
B63: Verwarmingsbron geiser | C63: > | E63: Indien doorstroomapparaat direct in waterleiding is opgenomen en elektrisch wordt gevoed, dan "Verwarmingsbron geiser" is "Elektrisch".
D64: Elektrisch
D65: Gas

Sheet 51.20.03.00
B1: Component | D1: Verwarmd waterinstallatie boiler
B2: versie 6.5 dd 05-11-2018 | D2: 51.20.03.00 Verwarmd waterinstallatie boiler
B4: Datadefinitie | D4: Verwarmd waterinstallatie boiler is een installatie voor de levering van verwarmd water vanuit een direct of indirect gestookt voorraadvat.
B5: Inwininstructie | D5: Voorraadvaten dienen niet te worden geregistreerd.
B7: BRV
B9: Objectcode | D9: =IF(ISBLANK(Voorblad!B$16),"",(Voorblad!B$16)) -> 51B12
B11: Gebouwcode | D11: =IF(ISBLANK(Voorblad!B$17),"",(Voorblad!B$17)) -> 248
B13: Bouwlaagcode | C13: >
D14: 0
D15: 1
D16: 2
D17: 3
D18: 4
D19: 5
D20: 6
D21: 7
D22: 8
D23: 9
D24: 10
D25: 11
... D39: Z
B41: Ruimtecode | E41: Ruimtecode volgens registratie door VGI in BRV.
B43: RBI
B45: BI-code | D45: < intern VGI nummer > | E45: BI-code om component/toepassing uniek aan te duiden. Niet invullen. Het betreft een intern VGI nummer
B47: Aantal | D47: < 1 >
B49: Fabrikaat
B51: Type
B53: Serienummer
B55: Nadere locatiebepaling | E55: Vrij veld om de locatie van de installatie te verduidelijken.
B57: Bouwjaar
B59: Nadere specificatie bwd/instl | E59: Vrij veld om specifieke kenmerken van de installatie aan te geven.
B61: Specifiek
B63: Stookwijze boiler | C63: > | E63: Als installatie indirect wordt gestookt met directe bijverwarming door elektrisch element dan "Stookwijze boiler" is "Direct / indirect gestookt".
D64: Direct gestookt
D65: Direct / indirect gestookt
D66: Indirect gestookt
B68: Verwarmingsbron boiler | C68: > | E68: Als "Stookwijze boiler" is " Indirect gestookt" dan "Verwarmingsbron boiler" is "Zonne-energie" of "Verwarmd water"
D69: Elektrisch
D70: Gas
D71: Zonne-energie
...

Sheet 51.41.01.00
B1: Component | D1: Warmte-krachtkoppeling
B2: versie 6.3 dd 23-12-2011 | D2: 51.41.01.00 Warmte-krachtkoppeling
B4: Datadefinitie | D4: Warmte-krachtkoppeling is een verzameling van centrale voorzieningen voor gecombineerd opwekken en ter beschikking stellen van enerzijds warmte en anderzijds kracht voor elektrische energie.
B5: Inwininstructie | D5: Geen.
B7: BRV
B9: Objectcode | D9: =IF(ISBLANK(Voorblad!B$16),"",(Voorblad!B$16)) -> 51B12
B11: Gebouwcode | D11: =IF(ISBLANK(Voorblad!B$17),"",(Voorblad!B$17)) -> 248
B13: Bouwlaagcode | C13: >
D14: 0
D15: 1
D16: 2
D17: 3
D18: 4
D19: 5
D20: 6
D21: 7
D22: 8
D23: 9
D24: 10
D25: 11
... D39: Z
B41: Ruimtecode | E41: Ruimtecode volgens registratie door VGI in BRV.
B43: RBI
B45: BI-code | D45: < intern VGI nummer > | E45: BI-code om component/toepassing uniek aan te duiden. Niet invullen. Het betreft een intern VGI nummer
B47: Aantal | D47: < 1 >
B49: Fabrikaat
B51: Type
B53: Installatienummer
B55: Nadere locatiebepaling | E55: Vrij veld om de locatie van de installatie te verduidelijken.
B57: Bouwjaar
B59: Nadere specificatie bwd/instl | E59: Vrij veld om specifieke kenmerken van de installatie aan te geven.
B61: Specifiek
B63: Vermogen in kW | E63: Betreft het vermogen van de aandrijfmotor.
B65: Brandstof | C65: > | E65: Soort gebruikte brandstof.
D66: Aardgas
D67: Diesel
D68: HBO
D69: HBO + aardgas
D70: HBO + propaan/LPG
D71: Propaan/LPG
...

Sheet 51.51.01.01
B1: Component | D1: Warmtepomp
B2: versie 6.2 dd 28-02-2017 | D2: 51.51.01.01 Warmtepomp
B4: Datadefinitie | D4: Een warmtepomp is een pomp die warmte onttrekt aan de elementen van de natuur (bodem, lucht, water) en naar het verwarmingssysteem voert.
B5: Inwininstructie | D5: Alleen warmtepompen registreren die koudemiddelen bevatten
B7: BRV
B9: Objectcode | D9: =IF(ISBLANK(Voorblad!B$16),"",(Voorblad!B$16)) -> 51B12
B11: Gebouwcode | D11: =IF(ISBLANK(Voorblad!B$17),"",(Voorblad!B$17)) -> 248
B13: Bouwlaagcode | C13: >
D14: 0
D15: 1
D16: 2
D17: 3
D18: 4
D19: 5
D20: 6
D21: 7
D22: 8
D23: 9
D24: 10
D25: 11
... D39: Z
B41: Ruimtecode | E41: Ruimtecode volgens registratie door VGI in BRV.
B43: RBI
B45: BI-code | D45: < intern VGI nummer > | E45: BI-code om component/toepassing uniek aan te duiden. Niet invullen. Het betreft een intern VGI nummer
B47: Aantal | D47: < 1 >
B49: Fabrikaat
B51: Type
B53: Serienummer
B55: Installatienummer
B57: Nadere locatiebepaling | E57: Vrij veld om de locatie van de installatie te verduidelijken.
B59: Bouwjaar
B61: Nadere specificatie bwd/instl | E61: Vrij veld om specifieke kenmerken van de installatie aan te geven.
B63: Specifiek
B65: Situatie warmtepomp | C65: > | E65: Lokatie van de condensor.
D66: Aan gevel
D67: In ruimte
D68: In terrein
D69: Op dak
B71: Hoeveelheid koelmiddel in kg | E71: Hoeveelheid koelmiddel moet vanuit het logboek ( >= 3 kg) dan wel vanaf de kenplaat (typeplaatje) (< 3 kg) worden geregistreerd. Hoeveelheid koelmiddel volgens logboek is maatgevend en betreft het gehele circuit, inclusief leidingen.
B73: Soort koelmiddel | C73: >
...

Sheet 51.54.00.00
B1: Component | D1: Bodemenergiesystemen
B2: versie 1.2 dd 14-04-2016 | D2: 90.50.00.00 Bodemenergiesystemen
B4: Datadefinitie | D4: Bodemenergiesysteem (BES) is eenamenstel van buizen, pompen, regelkast en warmtewisselaar(s) tot en met de warmtewisselaar direct boven het maaiveld waarbij van de bodem tot maximaak 500 m onder het maaiveld gebruik wordt gemaakt voor de levering of opslag van warmte of koude. Dit door grondwater aan de bodem te onttrekken en na gebruik in de bodem terug te brengen of door gebruikmaking van een gesloten circuit van leidingen.
B5: Inwininstructie | D5: Bodemenergiesysteem registreren in de ruimte waarin de regelkast zich bevindt
B7: BRV
B9: Objectcode | D9: =IF(ISBLANK(Voorblad!B$16),"",(Voorblad!B$16)) -> 51B12
B11: Gebouwcode | D11: =IF(ISBLANK(Voorblad!B$17),"",(Voorblad!B$17)) -> 248
B13: Bouwlaagcode | C13: >
D14: 0
D15: 1
D16: 2
D17: 3
D18: 4
D19: 5
D20: 6
D21: 7
D22: 8
D23: 9
D24: 10
D25: 11
... D39: Z
B41: Ruimtecode | E41: Ruimtecode volgens registratie door VGI in BRV.
B43: RBI
B45: BI-code | D45: < intern VGI nummer > | E45: BI-code om component/toepassing uniek aan te duiden. Niet invullen. Het betreft een intern VGI nummer
B47: Aantal | D47: < 1 >
B49: Installatienummer
B51: Bouwjaar
B53: Specifiek
B55: Soort BES | C55: > | E55: Installatiegegevens halen uit de vergunning (grondwateronttrekking)
D56: Open systeem
D57: Gesloten systeem
B59: Tot. verm. bodemzjidig circuit in in kW
B61: Aantal bronnen of strengen | C61: >
D62: AZ20
D63: AZ50
D64: DL36
D65: DL44
D66: FR12
D67: FX10
D68: FX56
...

Sheet 52.30.01.00
B1: Component | D1: Olieafscheider in gebouw
B2: versie 6.3 dd 23-12-2011 | D2: 52.30.01.00 Olieafscheider in gebouw
B4: Datadefinitie | D4: Olieafscheider in gebouw is een voorziening in een gebouw om olie te scheiden van het water.
B5: Inwininstructie | D5: Het deksel van de olieafscheider is meestal opgenomen in de vloer van de desbetreffende ruimte.
B6: Inwininstructie | D6: Veelal staat op het deksel om welk soort afscheider het gaat.
B8: BRV
B10: Objectcode | D10: =IF(ISBLANK(Voorblad!B$16),"",(Voorblad!B$16)) -> 51B12
B12: Gebouwcode | D12: =IF(ISBLANK(Voorblad!B$17),"",(Voorblad!B$17)) -> 248
B14: Bouwlaagcode | C14: >
D15: 0
D16: 1
D17: 2
D18: 3
D19: 4
D20: 5
D21: 6
D22: 7
D23: 8
D24: 9
D25: 10
D26: 11
... D40: Z
B42: Ruimtecode | E42: Ruimtecode volgens registratie door VGI in BRV.
B44: RBI
B46: BI-code | D46: < intern VGI nummer > | E46: BI-code om component/toepassing uniek aan te duiden. Niet invullen. Het betreft een intern VGI nummer
B48: Aantal | D48: < 1 >
B50: Fabrikaat
B52: Type
B54: Nadere locatiebepaling | E54: Vrij veld om de locatie van de installatie te verduidelijken.
B56: Bouwjaar
B58: Nadere specificatie bwd/instl | E58: Vrij veld om specifieke kenmerken van de installatie aan te geven.
B60: Inhoud in m3 | E60: Inhoud t.b.v. schoonmaakcontract.
B62: Specifiek
B64: Automatische doormelding | C64: > | E64: Indien zwaailamp van olieafscheider fysiek aanwezig is dan waarde in veld "Automatische doormelding" is "ja".
D65: Ja
D66: Nee
B68: Coalescentiefilter | C68: > | E68: Een filter welke d.m.v. cohesie ervoor zorgt dat oliedeeltjes grotere druppels vormen die gaan drijven en zodoende te verwijderen zijn.
D69: Ja
D70: Nee
B72: Zandvang | C72: > | E72: Ook wel slibvangput genoemd, is een put of goot waarin de zwaardere delen in het water door de zwaartekracht zinken naar de bodem en zodoende te verwijderen zijn.
...

Sheet 52.36.01.00
B1: Component | D1: Pomp in gebouw
B2: versie 6.4 dd 04-10-2018 | D2: 52.36.01.00 Pomp in gebouw
B4: Datadefinitie | D4: Pomp in gebouw is een voorziening in het terrein voor het transporteren en afvoeren van (vuil)water.
B5: Inwininstructie | D5: Het betreft hier geen pompen tbv voertuig- en vliegtuigwasinstallaties, waterzuiveringsinstallaties, drukverhogingsinstallaties, grondwateronttreking, bluswatervoorzieningen, beregeningsinstallaties, etc. Deze pompen worden separaat in RBI geregistreerd.
B7: BRV
B9: Objectcode | D9: =IF(ISBLANK(Voorblad!B$16),"",(Voorblad!B$16)) -> 51B12
B11: Gebouwcode | D11: =IF(ISBLANK(Voorblad!B$17),"",(Voorblad!B$17)) -> 248
B13: Bouwlaagcode | C13: >
D14: 0
D15: 1
D16: 2
D17: 3
D18: 4
D19: 5
D20: 6
D21: 7
D22: 8
D23: 9
D24: 10
D25: 11
... D39: Z
B41: Ruimtecode | E41: Ruimtecode volgens registratie door VGI in BRV.
B43: RBI
B45: BI-code | D45: < intern VGI nummer > | E45: BI-code om component/toepassing uniek aan te duiden. Niet invullen. Het betreft een intern VGI nummer
B47: Aantal | D47: < 1 >
B49: Fabrikaat
B51: Type | E51: Het typenummer overnemen van de kentekenplaat
B53: Serienummer | E53: Het serienummer overnemen van de kentekenplaat
B55: Installatienummer
B57: Nadere locatiebepaling | E57: Vrij veld om de locatie van de installatie te verduidelijken.
B59: Bouwjaar
B61: Nadere specificatie bwd/instl | E61: Vrij veld om specifieke kenmerken van de installatie aan te geven.
B63: Specifiek
B65: Soort vuilwaterpomp | C65: > | E65: Voor het soort vuilwaterpomp een keuze maken uit 'Picklist type systeem'.
D66: Nader te bepalen
D67: DWA
D68: RWA
D69: Drainage
D70: Lek- en condenswater
D71: Poldergemaal
...

Sheet 52.51.01.00
B1: Component | D1: Waterzuiveringsinstallatie
B2: versie 6.0 dd 11-09-2009 | D2: 52.51.01.00 Waterzuiveringsinstallatie
B4: Datadefinitie | D4: Waterzuiveringsinstallatie is een installatie voor het zuiveren van vuilwater.
B5: Inwininstructie | D5: Geen.
B7: BRV
B9: Objectcode | D9: =IF(ISBLANK(Voorblad!B$16),"",(Voorblad!B$16)) -> 51B12
B11: Gebouwcode | D11: =IF(ISBLANK(Voorblad!B$17),"",(Voorblad!B$17)) -> 248 | E11: De gebouwcode registreren van het gebouw waarin de pompen zich bevinden.
B13: RBI
B15: Aantal | D15: < 1 >
B17: Nadere locatiebepaling | E17: Vrij veld om de locatie van de installatie te verduidelijken.
B19: Nadere specificatie bwd/instl | E19: Vrij veld om specifieke kenmerken van de installatie aan te geven.
B21: Specifiek

Sheet 53.10.00.00
B1: Component | D1: Innamepunt drinkwater in gebouw
B2: versie 6.7 dd 06-11-2017 | D2: 53.10.00.00
B4: Datadefinitie | D4: Innamepunt drinkwater in gebouw is een meter die de inname meet van een NUTS bedrijf van drinkwater voor een deel of het gehele gebouw.
B5: Inwininstructie | D5: Geen.
B7: BRV
B9: Objectcode | D9: =IF(ISBLANK(Voorblad!B$16),"",(Voorblad!B$16)) -> 51B12
B11: Gebouwcode | D11: =IF(ISBLANK(Voorblad!B$17),"",(Voorblad!B$17)) -> 248
B13: Bouwlaagcode | C13: >
D14: 0
D15: 1
D16: 2
D17: 3
D18: 4
D19: 5
D20: 6
D21: 7
D22: 8
D23: 9
D24: 10
D25: 11
... D39: Z
B41: Ruimtecode | E41: Ruimtecode volgens registratie door VGI in BRV.
B43: RBI
B45: BI-code | D45: < intern VGI nummer > | E45: BI-code om component/toepassing uniek aan te duiden. Niet invullen. Het betreft een intern VGI nummer
B47: Aantal | D47: < 1 >
B49: Fabrikaat
B51: Installatienummer | E51: Dit betreft de meternummer.
B53: Nadere locatiebepaling | E53: Vrij veld om de locatie van de installatie te verduidelijken.
B55: Bouwjaar
B57: Nadere specificatie bwd/instl | E57: Vrij veld om specifieke kenmerken van de installatie aan te geven.
B59: Specifiek
B61: Verbruik >= 100 m3 (per dag) | C61: > | E61: Indien verbruik op jaarbasis minimaal 36500 m3 -10% is, dan is verbruik per dag meer dan 100 m3. Initiele opgave via KCK. Daarna de verbruikscijfers jaarlijks opvragen bij CD/VGM en indien nodig muteren.
D63: Ja
D64: Nee
B66: Uitlezing | C66: > | E66: Bij CD/VGM na te gaan.
D67: Van installatie
D68: Op afstand

Sheet 53.10.01.00
B1: Component | D1: Leidingwaterinstallatie in gebouw
B2: versie 6.6 dd 17-07-2019 | D2: 53.10.01.00 Leidingwaterinstallatie in gebouw
B4: Datadefinitie | D4: Leidingwaterinstallatie in gebouw is het geheel van leidingwaterleidingen in een afzonderlijk gebouw waarin in ieder geval een drinkwaterinstallatie is opgenomen.
B5: Inwininstructie | D5: Geen.
B7: BRV
B9: Objectcode | D9: =IF(ISBLANK(Voorblad!B$16),"",(Voorblad!B$16)) -> 51B12
B11: Gebouwcode | D11: =IF(ISBLANK(Voorblad!B$17),"",(Voorblad!B$17)) -> 248
B13: RBI
B15: BI-code | D15: < intern VGI nummer > | E15: BI-code om component/toepassing uniek aan te duiden. Niet invullen. Het betreft een intern VGI nummer
B17: Aantal | D17: < 1 >
B19: Bouwjaar
B21: Specifiek
B23: Risicoklasse lwi | C23: > | E23: De indeling per risicoklasse komt voor uit wet- en regelgeving en de Nota van Dien. Aanpassen van de risicoklasse kan na overleg
D24: Prioritair
D25: Zorgplicht Defensie
D26: Zorgplicht overig (default)
E27: met en goedkeuring door cluster Keuringen plaatsvinden.
B29: Warmwatercirculatiesysteem | C29: > | E29: Warmwater wordt via retourleiding teruggebracht naar warmwatervoorziening. Warmwatercirculatiesysteem kan alleen
D30: Ja
D31: Nee
E32: voorkomen bij een CV-ketel met attribuut tapwatervoorziening = ja, een boiler en een warmtewisselaar. Herkenbaar aan
E33: aanwezigheid van pomp in retourleiding.
B35: Aerosolvormende tappunten | C35: > | E35: Tappunt voor (drink)water waarbij het uitstromende water kan worden verneveld, bijvoorbeeld douches, brandslanghaspels etc,
E36: Indien in een gebouw één of meerdere aeorosolvormende tappunten aanwezig is/zijn, dient hier "Ja" te worden ingevuld.
D37: Ja
D38: Nee
B40: Meter | C40: > | E40: Met de "meter" wordt bedoeld de watermeter in het gebouw niet zijnde de hoofdmeter.
D41: Ja
D42: Nee
B44: Niet controleerbare keerkleppen (stuks) | E44: Voor het verplicht vervangen van niet controleerbare keerkleppen is het van belang te weten of deze in het gebouw aanwezig zijn.
E45: Het aantal niet controleerbare keerkleppen zal tijdens de uitvoering van het contract moeten worden bepaald.

Sheet 53.12.02.00
B1: Component | D1: Grondwateronttrekkingssysteem gebouwgebonden
B2: versie 6.2 dd 23-12-2011 | D2: 53.12.02.00 Grondwateronttrekkingssysteem gebouwgebonden
B4: Datadefinitie | D4: Grondwateronttrekkingssysteem gebouwgebonden is een voorziening in een gebouw om grondwater op te pompen.
B5: Inwininstructie | D5: De eventueel aanwezige drukverhogings (hydrofoor) installatie separaat registreren.
B7: BRV
B9: Objectcode | D9: =IF(ISBLANK(Voorblad!B$16),"",(Voorblad!B$16)) -> 51B12
B11: Gebouwcode | D11: =IF(ISBLANK(Voorblad!B$17),"",(Voorblad!B$17)) -> 248
B13: Bouwlaagcode | C13: >
D14: 0
D15: 1
D16: 2
D17: 3
D18: 4
D19: 5
D20: 6
D21: 7
D22: 8
D23: 9
D24: 10
D25: 11
... D39: Z
