Workbook
Name _: '62.10.01.00'!$D$87:$D$88
Name Bwlaag: Tabel_OVP_Beheerv1.accdb5[BLST_BESCHRIJVING]
Name Bwlaag: Tabel_OVP_Beheerv1.accdb5[BLST_BESCHRIJVING]
Name Bwlaag: Tabel_OVP_Beheerv1.accdb5[BLST_BESCHRIJVING]
Name Bwlaag: Tabel_OVP_Beheerv1.accdb5[BLST_BESCHRIJVING]
Name deel: 'Vastgoedgeg. Gebouwdeel (BRV)'!$G$6
Name Gebouwdeel_soort: Tabel_OVP_Beheerv1.accdb4[GBST_BESCHRIJVING]
Name Gebouwdeel_soort: Tabel_OVP_Beheerv1.accdb4[GBST_BESCHRIJVING]
Name Gebsoort: Tabel_OVP_Beheerv1.accdb4[GBST_BESCHRIJVING]
Name Gebsoort: Tabel_OVP_Beheerv1.accdb4[GBST_BESCHRIJVING]
Name Gebsoort: Tabel_OVP_Beheerv1.accdb4[GBST_BESCHRIJVING]
Name Gebsoort: Tabel_OVP_Beheerv1.accdb4[GBST_BESCHRIJVING]
Name LBK: '57.71.01.00'!$D$66:$E$80
Name Mutatie: Mutatie!$A$1:$A$3
Name Mutatie1: Mutatie!$A$1:$A$2
Name Objectcategorie__lijst: Tabel_OVP_Beheerv1.accdb[OBCT_BESCHRIJVING]
Name Objectcategorie__lijst: Tabel_OVP_Beheerv1.accdb[OBCT_BESCHRIJVING]
Name Ruimte: Tabel_OVP_Beheerv1.accdb6[RMST_BESCHRIJVING]
Name Ruimte: Tabel_OVP_Beheerv1.accdb6[RMST_BESCHRIJVING]
Name Ruimte: Tabel_OVP_Beheerv1.accdb6[RMST_BESCHRIJVING]
Name Ruimte: Tabel_OVP_Beheerv1.accdb6[RMST_BESCHRIJVING]
Name vervolg: '57.71.01.00'!$E$66:$E$80
Name Vulling: '62.10.01.00'!$D$69
Name water: '53.31.01.00'!$E$65:$E$69

Sheet Handleiding
B2: Instructie Database mutatie BRV / RBI | L2: Datum opgemaakt: | M2: 43726
L3: Versienummer: | M3: 1.2
B8: Algemene aanwijzingen voor het invullen:
B10: Tekst in blauw en onderstreept: Dit is een snelkoppeling naar een ander tabblad of locatie
B11: Tekst in blauw: Klik op het veld en er verschijnt een toelichting of opmerking.
C12: In een groen veld dienen gegevens gevuld te worden (indien van toepassing)
C13: Een grijs veld wordt automatisch ingevuld met de waarden.
C14: Een geel veld dient altijd te worden toegepast (= verplicht)
B16: 1. Per bouwwerk of systeem dient één (1) Database mutatie BRV / RBI document ingevuld te worden.
B17: 2. Als PL/AM op inhoud en aantallen documenten het correct en volledig ter revisie (in delen) kan aanbieden (conform VGI Paragraaf normering), dan kan de (deel) overdracht plaatsvinden.
B18: 3. De totale overdracht heeft plaatsgevonden binnen de binnen de RVB gestelde termijnen. Alvorens het Project afgesloten kan worden.
B19: 4. Na (deel) overdracht wordt via de Adviseur Overdracht binnen gestelde termijn(en) gereageerd met; A) een akkoord of B) afkeuring incl. argumentatie of C) de melding dat er voor de beoordeling meer tijd nodig is.

Sheet Voorblad
A15: Locatiegegevens | AB15: 05H02 - MMC BEETGUMERMOLEN
A16: Objectcode + Naam | B16: =Tabel_OVP_gebruikersv1.accdb[OBJT_CODE] -> 51B12 | C16: =OBJGEB!B2 -> GENM DE R V S KAZERNE | AB16: 05H08 - RADARPOST NOORD TE WIER
A17: Gebouwcode* + Naam | B17: =Tabel_OVP_gebruikersv1.accdb[GBUW_CODE] -> 248 | C17: =OBJGEB!J2 -> Legeringsgebouw , Kantoorgebouw | AB17: 05H09 - DEPOT LEEUWARDEN
AB18: 16H01 - OT HAVELTE OOST
AB19: 16H04 - BRIGADE DRENTHE-IJSSELSTREEK
AB20: 16H05 - KC OFF HOTEL JPK
AB21: 16H06 - DVD DIENSTKRING HAVELTE
AB22: 17C02 - MMC RUINEN
AB23: 17H01 - TOPOGRAFISCHE DIENST
AB24: 18A04 - AC TER APEL
AB25: 21D19 - OT DE ZANDE
AB26: 21F02 - MMC STAPHORST
AB27: 21G09 - KC MEPPELERSTRAATWEG 19
AB28: 21G16 - DVD DIRECTIE NOORD
AB29: 21G17 - DISTRICT NOORD-OOST
... AB147: DL144 - WONINGEN REGIO NEUSTADT

Sheet Vastgoedgegevens OBJ-GEB (BRV)
B1: Vastgoed- en hoeveelheidsgeg. per vastgoedniveau | AB1: Vervallen | AC1: Gewijzigd
C3: Vastgoedcomplex informatie | AB3: Ontwerp/Realisatie | AC3: In gebruik | AD3: Niet in gebruik | AE3: In afstoting | AF3: Afgestoten | AG3: Vervallen/Geamoveerd
E5: Mutatie | G5: Ruimte voor opmerking (mutatie)
B6: Objectcode | C6: =OBJGEB!A2 -> 51B12 | AB6: Forten en verdedigingswerken | AC6: Gedenkplaats | AD6: Havenlocatie | AE6: Kantoorlocatie | AF6: Kazerne | AG6: Logistieke locatie | AH6: Munitie opslaglocatie | AI6: Oefen en schietterrein | AJ6: Onderwijslocatie | AK6: Opslaglocatie | AL6: Technische locatie | AM6: Trainingslocatie | AN6: Vliegbasis | AO6: Woonlocatie | AP6: Zend en ontvangstlocatie
B7: Objectnaam | C7: =OBJGEB!B2 -> GENM DE R V S KAZERNE
B8: Objectcategorie | C8: =OBJGEB!C2 -> Kazerne
B9: Beheerstatus | C9: =OBJGEB!D2 -> In gebruik
B10: Straatnaam | C10: =OBJGEB!E2 -> Eindhovensedijk
B11: Huisnummer | C11: =OBJGEB!F2 -> 42
B12: Postcode | C12: =OBJGEB!G2 -> 5688GN
B13: Plaats | C13: =OBJGEB!H2 -> Oirschot
C15: Bouwwerk informatie
E17: Mutatie | G17: Ruimte voor opmerking (mutatie)
B18: Gebouwcode | C18: =OBJGEB!I2 -> 248 | AB18: Acculaadstation | AC18: BOS Laadstationgebouw | AD18: Brandweerkazerne | AE18: Bunker algemeen | AF18: Commandopost | AG18: Complex gebouw | AH18: Eetzaal | AI18: Eetzaal met keuken | AJ18: Film- en toneelzaal | AK18: Gasregelstation | AL18: Geneesk. inrichting | AM18: Gevechtopst.veldverst | AN18: Hangar | AO18: Hangar onderhoud | AP18: Hobbyclub | AQ18: Hoofdkwartier | AR18: Installatiegebouw alg | AS18: Instructiegebouw | AT18: Kantoor- en lesgebouw | AU18: Kantoorgebouw | AV18: Ketelhuis | AW18: Keuken | AX18: Keuken/eetz/kant.cplx | AY18: Korporaalskantine | AZ18: Legering meerdere cat | BA18: Lesgebouw | BB18: Magaz.brandgevaarlijk | BC18: Magazijn algemeen | BD18: Magazijn AS-opslag | BE18: Magazijn chemicaliën | BF18: Magazijn explosief | BG18: Magazijn levensmiddel | BH18: Magazijn MOB-opslag | BI18: Manschappenkantine | BJ18: Manschappenlegering | BK18: Noodstroomgebouw | BL18: Officierenlegering | BM18: Officiersmess | BN18: Onderhoudsgebouw munitie | BO18: Onderoff.legering | BP18: Onderofficiersmess | BQ18: Overdekt zwembad | BR18: Overig gebouw alg. | BS18: Personeelschuilplaats | BT18: POL gebouw | BU18: Pompgebouw | BV18: Recreatiegebouw alg. | BW18: Rijwielstalling | BX18: Sanitair gebouw | BY18: Simulatorgebouw | BZ18: Sportgebouw | CA18: Stalling | CB18: Stiltecentrum | CC18: Telefooncentrale | CD18: Trafogebouw | CE18: Verbindingscentrum | CF18: Verkeerstoren/meteog. | CG18: Vliegtuigshelter | CH18: Wachtgebouw | CI18: Wapenkamer | CJ18: Werkplaats algemeen | CK18: Werkplaats munitie | CL18: Woning | CM18: Zend/ontv. station | CN18: 2e Echelon werkplaats | CO18: 3e Echelon werkplaats | CP18: 5e Echelon werkplaats
B19: Gebouwnaam | C19: =OBJGEB!J2 -> Legeringsgebouw , Kantoorgebouw
B20: Gebouwsoort | C20: =OBJGEB!K2 -> Manschappenlegering
B21: Bouwjaar | C21: =OBJGEB!L2 -> 1974
B22: Gemeente | C22: =OBJGEB!M2 -> Oirschot
B23: Straatnaam | C23: =OBJGEB!N2 -> Eindhovensedijk
B24: Huisnr. | C24: =OBJGEB!O2 -> 42
B25: Postcode | C25: =OBJGEB!P2 -> 5688GN
B26: Plaats | C26: =OBJGEB!Q2 -> Oirschot
B27: BVO (m2) | C27: =OBJGEB!R2 -> 2862.23
B28: NVO (m2) | C28: =OBJGEB!S2 -> 2549.17
B29: Bruto inhoud (m3) | C29: =OBJGEB!T2 -> 9154
B30: Hoogste nok (m1) | C30: =OBJGEB!U2 -> 9.7
B31: Hoogste goot (m1) | C31: =OBJGEB!V2 -> 9.7
AB41: Begane grond | AC41: 1e Verdieping | AD41: 2e Verdieping | AE41: 3e Verdieping | AF41: 4e Verdieping | AG41: 5e Verdieping | AH41: 6e Verdieping | AI41: 7e Verdieping | AJ41: 8e Verdieping | AK41: 9e Verdieping | AL41: 10e Verdieping | AM41: 11e Verdieping | AN41: 12e Verdieping | AO41: 13e Verdieping | AP41: 14e Verdieping | AQ41: 15e Verdieping | AR41: 16e Verdieping | AS41: 17e Verdieping | AT41: 18e Verdieping | AU41: 19e Verdieping | AV41: 20e Verdieping | AW41: 21e Verdieping | AX41: 1e Kelder | AY41: 2e Kelder
AB55: Accuruimte | AC55: Afwasruimte | AD55: Aggregaatruimte | AE55: Apotheek | AF55: Arrestantencel | AG55: Arrestantenkamer | AH55: Atrium | AI55: Audioruimte | AJ55: Badkamer | AK55: Bar | AL55: Bedieningsruimte | AM55: Behandelkamer Medisch | AN55: Behandelkamer Tandarts | AO55: Beproevingsruimte Diversen | AP55: Beproevingsruimte Elektro | AQ55: Beproevingsruimte Explosieven | AR55: Beproevingsruimte Mechanisch | AS55: Berging Afval Chemisch | AT55: Berging Afval Keuken | AU55: Berging Algemeen | AV55: Berging Archief | AW55: Berging Brandstof | AX55: Berging Chemicalien | AY55: Berging Explosieven | AZ55: Berging Gasflessen | BA55: Berging Geneeskundig | BB55: Berging Gereedschappen | BC55: Berging Kleding | BD55: Berging Levensmiddel Algemeen | BE55: Berging Levensmiddel Bevroren | BF55: Berging Levensmiddel Gekoeld | BG55: Berging Linnen | BH55: Berging Onderdelen | BI55: Berging PGU | BJ55: Berging Sportartikelen | BK55: Berging Uitrusting | BL55: Berging Wapens | BM55: Berging Water | BN55: Bibliotheek | BO55: Bijkeuken | BP55: Briefingroom | BQ55: Bureauruimte | BR55: Chloordoseringsruimte | BS55: Codeerruimte | BT55: Collegezaal | BU55: Communicatieruimte | BV55: Compressorruimte | BW55: Computerruimte | BX55: Controleruimte | BY55: Dierenverblijf | BZ55: Diverse Bewerkingen | CA55: Doucheruimte | CB55: Doucheruimte Dames | CC55: Doucheruimte Heren | CD55: Doucheruimte Invalide | CE55: Droogruimte | CF55: Droogruimte Textiel | CG55: Eetzaal All-ranks | CH55: Eetzaal Korporaals | CI55: Eetzaal Manschappen | CJ55: Eetzaal Officieren | CK55: Eetzaal Onderofficieren | CL55: EHBO-ruimte | CM55: Expeditieruimte | CN55: Expositieruimte | CO55: Film- en TV Ruimte | CP55: Filmcabine | CQ55: Filmzaal | CR55: Fitnessruimte | CS55: Fotografische Ruimte | CT55: Fysiotherapieruimte | CU55: Galerij | CV55: Gamelruimte | CW55: Gamelwasruimte | CX55: Gang | CY55: Garderoberuimte | CZ55: Gespreksruimte | DA55: Goederenontvangst | DB55: Hal | DC55: Hoogspanningsruimte | DD55: Inkoop Nutsvoorziening | DE55: Instructieruimte Diversen | DF55: Kamersportruimte | DG55: Kantine | DH55: Kantine All-ranks | DI55: Kantine Korporaals | DJ55: Kantine Manschappen | DK55: Kantine Officieren | DL55: Kantine Onderofficieren | DM55: Kapsalon | DN55: Kast | DO55: Kast Schoonmaakdienst | DP55: Keuken | DQ55: Keuken Groenten | DR55: Keuken Koud | DS55: Keuken Vlees | DT55: Keuken Warm | DU55: Kinderopvangruimte | DV55: Kleedruimte | DW55: Kleedruimte Dames | DX55: Kleedruimte Heren | DY55: Laad/losperron | DZ55: Laad/losruimte | EA55: Laagspanningsruimte | EB55: Laboratorium | EC55: Legering < 1P | ED55: Legering > 4P | EE55: Legering 1P | EF55: Legering 2P | EG55: Legering 3P | EH55: Legering 4P | EI55: Leidingschacht | EJ55: Leslokaal | EK55: Liftschacht | EL55: Luchtplaats Arrestanten | EM55: Meterkast | EN55: Montageruimte | EO55: Mortuarium | EP55: Muziekruimte | EQ55: Nog Te Bepalen | ER55: Observatieruimte | ES55: Oefenruimte | ET55: Onderzoekkamer Arts | EU55: Onderzoeksruimte Medisch | EV55: Ontsmettingsruimte | EW55: Operatiekamer | EX55: Pantry | EY55: Passantenruimte | EZ55: Piketkamer | FA55: Plotterruimte | FB55: Podiumruimte | FC55: Portiersruimte | FD55: Postkamer | FE55: Preserveerruimte | FF55: RÃ¶ntgenruimte | FG55: Receptie | FH55: Religieuzeruimte | FI55: Reproductieruimte | FJ55: Restruimte | FK55: Rookruimte | FL55: Sauna | FM55: Schietruimte | FN55: Schuilruimte | FO55: Slaapkamer | FP55: Sleutelkamer | FQ55: Sluis | FR55: Solarium | FS55: Spoelruimte | FT55: Sportzaal | FU55: Spreekkamer | FV55: Stalling Brandweer | FW55: Stalling Rijwielen | FX55: Stalling Rupsvoertuigen | FY55: Stalling Vaartuigen | FZ55: Stalling Vliegtuigen | GA55: Stalling Wielvoertuigen | GB55: Stilteruimte | GC55: Straalruimte | GD55: Strijkruimte | GE55: Studieruimte | GF55: Talenpracticum | GG55: Technische Ruimte | GH55: Tekenzaal | GI55: Telefooncel | GJ55: Telematicaruimte | GK55: Toiletruimte | GL55: Toiletruimte Dames | GM55: Toiletruimte Heren | GN55: Toiletruimte Invalide | GO55: Trappenhuis | GP55: Tribuneruimte | GQ55: Uitgifteruimte | GR55: Verblijfsruimte | GS55: Vergaderruimte | GT55: Verhoorkamer | GU55: Verkeersleidingruimte | GV55: Verkoopruimte | GW55: Verpleegkamer | GX55: Voorlichtingslokaal | GY55: Vulruimte Brandblussers | GZ55: Vulruimte Zuurstofflessen | HA55: Wachtkamer | HB55: Wapenschoonmaakruimte | HC55: Wasruimte | HD55: Wasruimte Dames | HE55: Wasruimte Heren | HF55: Wasruimte Invalide | HG55: Wasruimte Textiel | HH55: Wasruimte Vliegtuigen | HI55: Wasruimte Voertuigen | HJ55: WC | HK55: WC Dames | HL55: WC Heren | HM55: Werkruimte Elektro | HN55: Werkruimte Galvano | HO55: Werkruimte Gevaarlijke Stoffen | HP55: Werkruimte Hout | HQ55: Werkruimte Kleding | HR55: Werkruimte Mechanisch | HS55: Werkruimte Optisch | HT55: Werkruimte Rupsvoertuigen | HU55: Werkruimte Schilder | HV55: Werkruimte Schoenen | HW55: Werkruimte Vliegtuigen | HX55: Werkruimte Wielvoertuigen | HY55: Woonkamer | HZ55: Zwemzaal | IA55: WC Dames | IB55: WC Heren | IC55: Werkruimte Elektro | ID55: Werkruimte Galvano | IE55: Werkruimte Gevaarlijke Stoffen | IF55: Werkruimte Hout | IG55: Werkruimte Kleding | IH55: Werkruimte Mechanisch | II55: Werkruimte Optisch | IJ55: Werkruimte Rupsvoertuigen | IK55: Werkruimte Schilder | IL55: Werkruimte Schoenen | IM55: Werkruimte Vliegtuigen | IN55: Werkruimte Wielvoertuigen | IO55: Woonkamer | IP55: Zwemzaal
I137: Terug naar boven.
I181: Terug naar boven.

Sheet Asbest
AL1: ê
C2: GMAS01
AM3: GEREEDMELDING ASBESTSANERING
O5: Saneringsnummer: | BF5: Inleveren bij :
BD6: ( Coördinator)
E7: 1. Lokatie gegevens:
G9: 1.1 | O9: object: | P9: =IF(ISBLANK(Voorblad!B16),"",(Voorblad!B16)) -> 51B12
G11: 1.3 | O11: G/ T/ W-nr.: | Y11: 1.4 | AH11: lokatie soort: | BB11: 1.5 | BJ11: dienstkring:
G13: 1.6 | O13: lokatienr. : | Y13: 1.7 | AH13: installatie ivt.: | BB13: 1.8 | BJ13: verz.bijlage:
E15: 2. Werkgegevens voorbereiding.
G17: 2.1 | S17: opdracht i.h.k.v.: | AN17: 2.2 | BA17: Woco- en Fondsnr:
G19: 2.3 | S19: naam saneerbedrijf: | AN19: 2.4 | BA19: sanerings kosten in: | BB19: € | BK19: (incl. BTW)
G21: 2.5 | S21: straat/ huisnummer: | AN21: 2.8 | BA21: postcode en plaats:
G23: 2.7 | S23: projectcoördinator: | AN23: 2.6 | BA23: DTA- saneerbedrijf:
E25: 3. Asbestgegevens na de sanering.
G27: 3.1 | S27: toegepast in: | AN27: 3.2 | BA27: hoeveelheid gesan.:
G29: 3.3 | S29: saneermethode: | AN29: 3.4 | BA29: datum v/d sanering: | BD29: - | BG29: -
G31: 3.5 | S31: laboratorium: | AN31: 3.6 | BA31: postcode en plaats:
G33: 3.7 | S33: wijzigingen: | AN33: 3.8 | BA33: categorie(urgentie):
E35: 4. Diversen
G37: 4.1 | S37: sloopvergunning: | AN37: 4.2 | BA37: briefnummer DVD:
G39: 4.3 | S39: arbeidsinspectie: | AN39: 4.4 | BA39: naam van inspecteur:
G41: 4.5 | S41: destructief onderz.: | X41: 4.6 | AL41: indien ja, welk resultaat:
G43: 4.7 | S43: opmerkingen:
BZ44: veldnr. | CA44: 1.3 | CB44: 1.4 | CC44: 2.1 | CD44: 3.2 | CE44: 3.3 | CF44: 3.8 | CG44: 4.5
E45: 5. Te verstrekken document(en) | BZ45: keuze 1 | CA45: gebouw | CB45: Leeuwarden | CC45: planbaar onderhoud | CD45: kg | CE45: containment | CF45: 1 | CG45: ja
BZ46: keuze 2 | CA46: werk | CB46: Havelte | CC46: niet planbaar onderhoud | CD46: m¹ | CE46: glove bag | CF46: 2 | CG46: nee
G47: 5.1 | R47: prestatieverklaring: | W47: 5.2 | AG47: eindmeting(en) : | AL47: 5.3 | AW47: prestatieverklaring: | BZ47: keuze 3 | CA47: terreindeel | CB47: 't Harde | CC47: commandanten voorziening | CD47: m² | CE47: openlucht | CF47: 3
BZ48: keuze 4 | CB48: Schaarsbergen | CC48: nader opgekomen urgentie | CD48: m³
G49: 5.4 | I49: Opgesteld door: | AD49: 5.5 | AF49: functie: | AU49: 5.6 | AW49: datum: | BC49: - | BF49: - | BZ49: keuze 5 | CC49: anders
BZ50: keuze 6
E51: Toelichting 1.6 per één lokatienummer. | BZ51: keuze 7
E52: uitvoer ? | I52: Meldcode | S52: lokatie + referentiepunt of gebouw soort | AK52: fase | AN52: stat | AQ52: soort | BA52: TNO | BC52: omv. | BF52: eenh | BH52: vindplaats | BZ52: keuze 8
BZ53: keuze 9
BZ54: keuze 10
BZ55: keuze 11
BZ56: keuze 12
BZ57: keuze 13
BZ58: keuze 14
BZ59: keuze 15
BZ60: keuze 16
BZ61: keuze 17
BZ62: keuze 18
BZ63: keuze 19
BZ64: keuze 20
... BZ68: keuze 24
E69: 6. Door uitvoeder in te vullen. | AP69: 6.2 | AZ69: handtekening of | BZ69: keuze 25
AZ70: geparafeerde | BZ70: keuze 26
G71: 6.1 | V71: Toezichthouder uitvoering: | AZ71: firma stempel: | BZ71: keuze 27
BZ72: keuze 28
G73: 6.3 | I73: Plaats: | AE73: 6.4 | AG73: datum: | AM73: - | AP73: - | BZ73: keuze 29
BZ74: keuze 30
AL76: é

Sheet Vastgoedgeg. Gebouwdeel (BRV)
B1: Vastgoed- en hoeveelheidsgegevens per vastgoedniveau: Gebouwdeel | W1: Vervallen | X1: Gewijzigd
B4: Gebouwdeel code | C4: Gebouwdeel naam | D4: Gebouwdeel bouwjaar | E4: Gebouwdeel soort | G4: Gebouwdeel soort | H4: Mutatie | J4: Ruimte voor opmerking (mutatie)
B5: GBDL_CODE | C5: GBDL_NAAM | D5: GBDL_BOUWJAAR | E5: GBST_BESCHRIJVING

Sheet Vastgoedgeg. Bouwlaag (BRV)
B1: Vastgoed- en hoeveelheidsgegevens per vastgoedniveau: Bouwlaag | Z1: Vervallen | AA1: Gewijzigd
B3: Gebouwdeel code | C3: Gebouwdeel naam | D3: Gebouwdeel bouwjaar | E3: Gebouwdeel soort | F3: Bouwlaagsoort omschrijving | G3: Bruto bouwlaag hoogte | H3: Bouwlaag plafond richtgetal | J3: Bouwlaagsoort omschrijving | K3: Mutatie | M3: Ruimte voor opmerking (mutatie)
B4: GBDL_CODE | C4: GBDL_NAAM | D4: GBDL_BOUWJAAR | E4: GBST_BESCHRIJVING | F4: BLST_BESCHRIJVING | G4: BWLG_BRUTO_BOUWHOOGTE | H4: BWLG_PH_RICHTGETAL
F5: 1e Verdieping | G5: 3100 | H5: 2800
F6: 2e Verdieping | G6: 3100 | H6: 2800
F7: Begane grond | G7: 3100 | H7: 2800

Sheet Vastgoedgeg. Ruimte (BRV)
B1: Vastgoed- en hoeveelheidsgegevens per vastgoedniveau: Ruimte | AC1: Vervallen | AD1: Gewijzigd
B3: Gebouwdeel code | C3: Gebouwdeel naam | D3: Gebouwdeel bouwjaar | E3: Gebouwdeel soort | F3: Bouwlaagsoort omschrijving | G3: Bruto bouwlaag hoogte | H3: Bouwlaag plafond richtgetal | I3: Ruimte code | J3: Ruimte beschrijving | K3: Ruimte plafond hoogte | M3: Ruimtesoort | N3: Mutatie | P3: Ruimte voor opmerking (mutatie)
B4: GBDL_CODE | C4: GBDL_NAAM | D4: GBDL_BOUWJAAR | E4: GBST_BESCHRIJVING | F4: BLST_BESCHRIJVING | G4: BWLG_BRUTO_BOUWHOOGTE | H4: BWLG_PH_RICHTGETAL | I4: RMTE_CODE | J4: RMST_BESCHRIJVING | K4: RMTE_PLAFOND_HOOGTE
F5: 1e Verdieping | G5: 3100 | H5: 2800 | I5: 101 | J5: Trappenhuis | K5: 2800
F6: 1e Verdieping | G6: 3100 | H6: 2800 | I6: 101A | J6: Hal | K6: 2800
F7: 1e Verdieping | G7: 3100 | H7: 2800 | I7: 101B | J7: Technische Ruimte | K7: 2800
F8: 1e Verdieping | G8: 3100 | H8: 2800 | I8: 102 | J8: Gang | K8: 2800
F9: 1e Verdieping | G9: 3100 | H9: 2800 | I9: 103 | J9: Gang | K9: 2800
F10: 1e Verdieping | G10: 3100 | H10: 2800 | I10: 104 | J10: Gang | K10: 2800
F11: 1e Verdieping | G11: 3100 | H11: 2800 | I11: 105 | J11: Legering 3P | K11: 2800
F12: 1e Verdieping | G12: 3100 | H12: 2800 | I12: 106 | J12: Legering 3P | K12: 2800
F13: 1e Verdieping | G13: 3100 | H13: 2800 | I13: 107 | J13: Legering 3P | K13: 2800
F14: 1e Verdieping | G14: 3100 | H14: 2800 | I14: 108 | J14: Legering 3P | K14: 2800
F15: 1e Verdieping | G15: 3100 | H15: 2800 | I15: 109 | J15: Wasruimte Heren | K15: 2800
F16: 1e Verdieping | G16: 3100 | H16: 2800 | I16: 109A | J16: Doucheruimte Heren | K16: 2800
... F178: Begane grond | G178: 3100 | H178: 2800 | I178: 9C | J178: Doucheruimte Dames | K178: 2800

Sheet Geregistreerde installaties 
B1: Informatie van in het gebouw aanwezige installaties | N1: * Vul deze kolommen, waar dit van toepassing is.
B2: Component | C2: Object code | D2: Objectnaam | E2: Gebouw code | F2: Gebouw naam | G2: Bouwlaag soort | H2: Ruimte code | I2: Ruimtesoort | J2: Volg nr | K2: Attribuutnaam | L2: Attribuutwaarde | M2: Mutatie* | N2: Ruimte voor gemuteerde attribuutwaarde of opmerking* | Z2: Vervallen | AA2: Gewijzigd
B3: RBI_COMP_NAAM | C3: OBJECTNUMMER | D3: OBJECTNAAM | E3: GBUW_NUMMER | F3: GBUW_NAAM | G3: BWLG_OMSCHRIJVING | H3: RMTE_NUMMER | I3: RMTE_OMSCHRIJVING | J3: VOLGNR | K3: RBI_ATTR_NAAM | L3: WAARDE
B4: Dak vlak | C4: 51B12 | D4: GENM DE R V S KAZERNE | E4: 248 | F4: Legeringsgebouw , Kantoorgebouw | J4: 1 | K4: Aantal | L4: 1
B5: Laagspanning | C5: 51B12 | D5: GENM DE R V S KAZERNE | E5: 248 | F5: Legeringsgebouw , Kantoorgebouw | J5: 1 | K5: Aantal | L5: 1
B6: Laagspanning | C6: 51B12 | D6: GENM DE R V S KAZERNE | E6: 248 | F6: Legeringsgebouw , Kantoorgebouw | J6: 2 | K6: Bouwjaar | L6: 1974
B7: Leidingwaterinstallatie in gebouw | C7: 51B12 | D7: GENM DE R V S KAZERNE | E7: 248 | F7: Legeringsgebouw , Kantoorgebouw | J7: 1 | K7: DVD-code | L7: 1
B8: Leidingwaterinstallatie in gebouw | C8: 51B12 | D8: GENM DE R V S KAZERNE | E8: 248 | F8: Legeringsgebouw , Kantoorgebouw | J8: 2 | K8: BI code | L8: 1
B9: Leidingwaterinstallatie in gebouw | C9: 51B12 | D9: GENM DE R V S KAZERNE | E9: 248 | F9: Legeringsgebouw , Kantoorgebouw | J9: 3 | K9: Aantal | L9: 1
B10: Leidingwaterinstallatie in gebouw | C10: 51B12 | D10: GENM DE R V S KAZERNE | E10: 248 | F10: Legeringsgebouw , Kantoorgebouw | J10: 4 | K10: Bouwjaar | L10: 1974
B11: Leidingwaterinstallatie in gebouw | C11: 51B12 | D11: GENM DE R V S KAZERNE | E11: 248 | F11: Legeringsgebouw , Kantoorgebouw | J11: 5 | K11: Risicoklasse lwi | L11: Zorgplicht Defensie
B12: Leidingwaterinstallatie in gebouw | C12: 51B12 | D12: GENM DE R V S KAZERNE | E12: 248 | F12: Legeringsgebouw , Kantoorgebouw | J12: 6 | K12: Warmwatercirculatiesysteem | L12: Nee
B13: Leidingwaterinstallatie in gebouw | C13: 51B12 | D13: GENM DE R V S KAZERNE | E13: 248 | F13: Legeringsgebouw , Kantoorgebouw | J13: 7 | K13: Aerosolvormende tappunten | L13: Ja
B14: Leidingwaterinstallatie in gebouw | C14: 51B12 | D14: GENM DE R V S KAZERNE | E14: 248 | F14: Legeringsgebouw , Kantoorgebouw | J14: 8 | K14: Meter | L14: Nee
B15: Leidingwaterinstallatie in gebouw | C15: 51B12 | D15: GENM DE R V S KAZERNE | E15: 248 | F15: Legeringsgebouw , Kantoorgebouw | J15: 9 | K15: Aantal niet contr. keerkleppen
B16: Leidingwaterinstallatie in gebouw | C16: 51B12 | D16: GENM DE R V S KAZERNE | E16: 248 | F16: Legeringsgebouw , Kantoorgebouw | J16: 10 | K16: Onderhoudsplicht | L16: Ja, vastgoedbeh.
B17: Leidingwaterinstallatie in gebouw | C17: 51B12 | D17: GENM DE R V S KAZERNE | E17: 248 | F17: Legeringsgebouw , Kantoorgebouw | J17: 11 | K17: Buiten gebruik gesteld | L17: Nee
B18: Noodverlichting decentraal | C18: 51B12 | D18: GENM DE R V S KAZERNE | E18: 248 | F18: Legeringsgebouw , Kantoorgebouw | J18: 1 | K18: Aantal | L18: 1
B19: Noodverlichting decentraal | C19: 51B12 | D19: GENM DE R V S KAZERNE | E19: 248 | F19: Legeringsgebouw , Kantoorgebouw | J19: 2 | K19: Nadere specificatie bwd/instl | L19: 1 armatuur
B20: Noodverlichting decentraal | C20: 51B12 | D20: GENM DE R V S KAZERNE | E20: 248 | F20: Legeringsgebouw , Kantoorgebouw | J20: 3 | K20: Centraal testsysteem | L20: Ja
B21: Noodverlichting decentraal | C21: 51B12 | D21: GENM DE R V S KAZERNE | E21: 248 | F21: Legeringsgebouw , Kantoorgebouw | J21: 4 | K21: Onderhoudsplicht | L21: Ja, vastgoedbeh.
B22: Noodverlichting decentraal | C22: 51B12 | D22: GENM DE R V S KAZERNE | E22: 248 | F22: Legeringsgebouw , Kantoorgebouw | J22: 5 | K22: Buiten gebruik gesteld | L22: Nee
B23: Valbeveiliging | C23: 51B12 | D23: GENM DE R V S KAZERNE | E23: 248 | F23: Legeringsgebouw , Kantoorgebouw | J23: 1 | K23: BI code | L23: 1
B24: Valbeveiliging | C24: 51B12 | D24: GENM DE R V S KAZERNE | E24: 248 | F24: Legeringsgebouw , Kantoorgebouw | J24: 2 | K24: Aantal | L24: 1
B25: Valbeveiliging | C25: 51B12 | D25: GENM DE R V S KAZERNE | E25: 248 | F25: Legeringsgebouw , Kantoorgebouw | J25: 3 | K25: Fabrikant | L25: Latchways PLC
B26: Valbeveiliging | C26: 51B12 | D26: GENM DE R V S KAZERNE | E26: 248 | F26: Legeringsgebouw , Kantoorgebouw | J26: 4 | K26: Type
B27: Valbeveiliging | C27: 51B12 | D27: GENM DE R V S KAZERNE | E27: 248 | F27: Legeringsgebouw , Kantoorgebouw | J27: 5 | K27: Nadere locatiebepaling
B28: Valbeveiliging | C28: 51B12 | D28: GENM DE R V S KAZERNE | E28: 248 | F28: Legeringsgebouw , Kantoorgebouw | J28: 6 | K28: Bouwjaar
B29: Valbeveiliging | C29: 51B12 | D29: GENM DE R V S KAZERNE | E29: 248 | F29: Legeringsgebouw , Kantoorgebouw | J29: 7 | K29: Nadere specificatie bwd/instl
B30: Valbeveiliging | C30: 51B12 | D30: GENM DE R V S KAZERNE | E30: 248 | F30: Legeringsgebouw , Kantoorgebouw | J30: 8 | K30: Aantal dakvlakken
B31: Valbeveiliging | C31: 51B12 | D31: GENM DE R V S KAZERNE | E31: 248 | F31: Legeringsgebouw , Kantoorgebouw | J31: 9 | K31: Type hekwerk | L31: Nader te bepalen
B32: Valbeveiliging | C32: 51B12 | D32: GENM DE R V S KAZERNE | E32: 248 | F32: Legeringsgebouw , Kantoorgebouw | J32: 10 | K32: Lengte hekwerk
B33: Valbeveiliging | C33: 51B12 | D33: GENM DE R V S KAZERNE | E33: 248 | F33: Legeringsgebouw , Kantoorgebouw | J33: 11 | K33: Type daktoegang | L33: Nader te bepalen
B34: Valbeveiliging | C34: 51B12 | D34: GENM DE R V S KAZERNE | E34: 248 | F34: Legeringsgebouw , Kantoorgebouw | J34: 12 | K34: Aantal daktoegangen
B35: Valbeveiliging | C35: 51B12 | D35: GENM DE R V S KAZERNE | E35: 248 | F35: Legeringsgebouw , Kantoorgebouw | J35: 13 | K35: Type markering | L35: Nader te bepalen
B36: Valbeveiliging | C36: 51B12 | D36: GENM DE R V S KAZERNE | E36: 248 | F36: Legeringsgebouw , Kantoorgebouw | J36: 14 | K36: Type lijnbeveiligingssysteem | L36: Nader te bepalen
B37: Valbeveiliging | C37: 51B12 | D37: GENM DE R V S KAZERNE | E37: 248 | F37: Legeringsgebouw , Kantoorgebouw | J37: 15 | K37: Aantal lijnbeveiligingssyst.
B38: Valbeveiliging | C38: 51B12 | D38: GENM DE R V S KAZERNE | E38: 248 | F38: Legeringsgebouw , Kantoorgebouw | J38: 16 | K38: Lengte kabelsysteem | L38: 59,00
B39: Valbeveiliging | C39: 51B12 | D39: GENM DE R V S KAZERNE | E39: 248 | F39: Legeringsgebouw , Kantoorgebouw | J39: 17 | K39: Type ankerpunten | L39: Nader te bepalen
B40: Valbeveiliging | C40: 51B12 | D40: GENM DE R V S KAZERNE | E40: 248 | F40: Legeringsgebouw , Kantoorgebouw | J40: 18 | K40: Aantal individuele ankerpunten
B41: Valbeveiliging | C41: 51B12 | D41: GENM DE R V S KAZERNE | E41: 248 | F41: Legeringsgebouw , Kantoorgebouw | J41: 19 | K41: Type klimvoorziening | L41: Nader te bepalen
B42: Valbeveiliging | C42: 51B12 | D42: GENM DE R V S KAZERNE | E42: 248 | F42: Legeringsgebouw , Kantoorgebouw | J42: 20 | K42: Aantal ladderopstelpunten
B43: Valbeveiliging | C43: 51B12 | D43: GENM DE R V S KAZERNE | E43: 248 | F43: Legeringsgebouw , Kantoorgebouw | J43: 21 | K43: Aantal kooiladders
B44: Valbeveiliging | C44: 51B12 | D44: GENM DE R V S KAZERNE | E44: 248 | F44: Legeringsgebouw , Kantoorgebouw | J44: 22 | K44: Aantal gevelladders
B45: Valbeveiliging | C45: 51B12 | D45: GENM DE R V S KAZERNE | E45: 248 | F45: Legeringsgebouw , Kantoorgebouw | J45: 23 | K45: Aantal vaste trappen
B46: Valbeveiliging | C46: 51B12 | D46: GENM DE R V S KAZERNE | E46: 248 | F46: Legeringsgebouw , Kantoorgebouw | J46: 24 | K46: Aantal vlizotrappen
B47: Valbeveiliging | C47: 51B12 | D47: GENM DE R V S KAZERNE | E47: 248 | F47: Legeringsgebouw , Kantoorgebouw | J47: 25 | K47: PBM | L47: Nader te bepalen
B48: Valbeveiliging | C48: 51B12 | D48: GENM DE R V S KAZERNE | E48: 248 | F48: Legeringsgebouw , Kantoorgebouw | J48: 26 | K48: Overige voorzieningen | L48: Nader te bepalen
B49: Valbeveiliging | C49: 51B12 | D49: GENM DE R V S KAZERNE | E49: 248 | F49: Legeringsgebouw , Kantoorgebouw | J49: 27 | K49: Onderhoudsplicht | L49: Ja, vastgoedbeh.
B50: Valbeveiliging | C50: 51B12 | D50: GENM DE R V S KAZERNE | E50: 248 | F50: Legeringsgebouw , Kantoorgebouw | J50: 28 | K50: Buiten gebruik gesteld | L50: Ja
B51: Brandmeldinstallatie | C51: 51B12 | D51: GENM DE R V S KAZERNE | E51: 248 | F51: Legeringsgebouw , Kantoorgebouw | G51: Begane grond | H51: 1 | I51: Hal | J51: 1 | K51: BI code | L51: 2
B52: Brandmeldinstallatie | C52: 51B12 | D52: GENM DE R V S KAZERNE | E52: 248 | F52: Legeringsgebouw , Kantoorgebouw | G52: Begane grond | H52: 1 | I52: Hal | J52: 2 | K52: Aantal | L52: 1
B53: Brandmeldinstallatie | C53: 51B12 | D53: GENM DE R V S KAZERNE | E53: 248 | F53: Legeringsgebouw , Kantoorgebouw | G53: Begane grond | H53: 1 | I53: Hal | J53: 3 | K53: Fabrikant | L53: Bosch
B54: Brandmeldinstallatie | C54: 51B12 | D54: GENM DE R V S KAZERNE | E54: 248 | F54: Legeringsgebouw , Kantoorgebouw | G54: Begane grond | H54: 1 | I54: Hal | J54: 4 | K54: Type | L54: FPA5000
B55: Brandmeldinstallatie | C55: 51B12 | D55: GENM DE R V S KAZERNE | E55: 248 | F55: Legeringsgebouw , Kantoorgebouw | G55: Begane grond | H55: 1 | I55: Hal | J55: 5 | K55: Installatienummer | L55: 02920
B56: Brandmeldinstallatie | C56: 51B12 | D56: GENM DE R V S KAZERNE | E56: 248 | F56: Legeringsgebouw , Kantoorgebouw | G56: Begane grond | H56: 1 | I56: Hal | J56: 6 | K56: Nadere locatiebepaling | L56: Portaal
B57: Brandmeldinstallatie | C57: 51B12 | D57: GENM DE R V S KAZERNE | E57: 248 | F57: Legeringsgebouw , Kantoorgebouw | G57: Begane grond | H57: 1 | I57: Hal | J57: 7 | K57: Bouwjaar | L57: 2015
B58: Brandmeldinstallatie | C58: 51B12 | D58: GENM DE R V S KAZERNE | E58: 248 | F58: Legeringsgebouw , Kantoorgebouw | G58: Begane grond | H58: 1 | I58: Hal | J58: 8 | K58: Nadere specificatie bwd/instl | L58: betreft een glasvezelnetwerk en kopernetwerk i.v.m redundant
B59: Brandmeldinstallatie | C59: 51B12 | D59: GENM DE R V S KAZERNE | E59: 248 | F59: Legeringsgebouw , Kantoorgebouw | G59: Begane grond | H59: 1 | I59: Hal | J59: 9 | K59: Gedeeltelijke bewaking | L59: Nee
B60: Brandmeldinstallatie | C60: 51B12 | D60: GENM DE R V S KAZERNE | E60: 248 | F60: Legeringsgebouw , Kantoorgebouw | G60: Begane grond | H60: 1 | I60: Hal | J60: 10 | K60: Object bewaking | L60: Nee
B61: Brandmeldinstallatie | C61: 51B12 | D61: GENM DE R V S KAZERNE | E61: 248 | F61: Legeringsgebouw , Kantoorgebouw | G61: Begane grond | H61: 1 | I61: Hal | J61: 11 | K61: Niet-automatische bewaking | L61: Nee
B62: Brandmeldinstallatie | C62: 51B12 | D62: GENM DE R V S KAZERNE | E62: 248 | F62: Legeringsgebouw , Kantoorgebouw | G62: Begane grond | H62: 1 | I62: Hal | J62: 12 | K62: Ruimte bewaking | L62: Nee
B63: Brandmeldinstallatie | C63: 51B12 | D63: GENM DE R V S KAZERNE | E63: 248 | F63: Legeringsgebouw , Kantoorgebouw | G63: Begane grond | H63: 1 | I63: Hal | J63: 13 | K63: Volledige bewaking | L63: Ja
B64: Brandmeldinstallatie | C64: 51B12 | D64: GENM DE R V S KAZERNE | E64: 248 | F64: Legeringsgebouw , Kantoorgebouw | G64: Begane grond | H64: 1 | I64: Hal | J64: 14 | K64: Ioniserende melder
B65: Brandmeldinstallatie | C65: 51B12 | D65: GENM DE R V S KAZERNE | E65: 248 | F65: Legeringsgebouw , Kantoorgebouw | G65: Begane grond | H65: 1 | I65: Hal | J65: 15 | K65: Automatische doormelding naar | L65: Brandmeldpost Object-Gemeente
B66: Brandmeldinstallatie | C66: 51B12 | D66: GENM DE R V S KAZERNE | E66: 248 | F66: Legeringsgebouw , Kantoorgebouw | G66: Begane grond | H66: 1 | I66: Hal | J66: 16 | K66: Incl. ontruimingsinstallatie | L66: Ja
B67: Brandmeldinstallatie | C67: 51B12 | D67: GENM DE R V S KAZERNE | E67: 248 | F67: Legeringsgebouw , Kantoorgebouw | G67: Begane grond | H67: 1 | I67: Hal | J67: 17 | K67: DVD-code | L67: 2
B68: Brandmeldinstallatie | C68: 51B12 | D68: GENM DE R V S KAZERNE | E68: 248 | F68: Legeringsgebouw , Kantoorgebouw | G68: Begane grond | H68: 1 | I68: Hal | J68: 18 | K68: Onderhoudsplicht | L68: Ja, vastgoedbeh.
B69: Brandmeldinstallatie | C69: 51B12 | D69: GENM DE R V S KAZERNE | E69: 248 | F69: Legeringsgebouw , Kantoorgebouw | G69: Begane grond | H69: 1 | I69: Hal | J69: 19 | K69: Buiten gebruik gesteld | L69: Nee
B70: Brandmeldinstallatie | C70: 51B12 | D70: GENM DE R V S KAZERNE | E70: 248 | F70: Legeringsgebouw , Kantoorgebouw | G70: Begane grond | H70: 1 | I70: Hal | J70: 20 | K70: Nevenpanelen | L70: 1
B71: Brandmeldinstallatie | C71: 51B12 | D71: GENM DE R V S KAZERNE | E71: 248 | F71: Legeringsgebouw , Kantoorgebouw | G71: Begane grond | H71: 1 | I71: Hal | J71: 21 | K71: Aspiratiesysteem aan BMI
B72: Brandmeldinstallatie | C72: 51B12 | D72: GENM DE R V S KAZERNE | E72: 248 | F72: Legeringsgebouw , Kantoorgebouw | G72: Begane grond | H72: 1 | I72: Hal | J72: 22 | K72: Grondslag BMI | L72: Wettelijk Bouwbesluit
B73: Brandmeldinstallatie | C73: 51B12 | D73: GENM DE R V S KAZERNE | E73: 248 | F73: Legeringsgebouw , Kantoorgebouw | G73: Begane grond | H73: 1 | I73: Hal | J73: 23 | K73: Automatische melders
B74: Brandmeldinstallatie | C74: 51B12 | D74: GENM DE R V S KAZERNE | E74: 248 | F74: Legeringsgebouw , Kantoorgebouw | G74: Begane grond | H74: 1 | I74: Hal | J74: 24 | K74: Handmelders
B75: Brandmeldinstallatie | C75: 51B12 | D75: GENM DE R V S KAZERNE | E75: 248 | F75: Legeringsgebouw , Kantoorgebouw | G75: Begane grond | H75: 1 | I75: Hal | J75: 25 | K75: Sturing ontruimingsalarminst. | L75: Ja
B76: Brandmeldinstallatie | C76: 51B12 | D76: GENM DE R V S KAZERNE | E76: 248 | F76: Legeringsgebouw , Kantoorgebouw | G76: Begane grond | H76: 1 | I76: Hal | J76: 26 | K76: Sturing brandblusinstallatie | L76: Ja
B77: Brandmeldinstallatie | C77: 51B12 | D77: GENM DE R V S KAZERNE | E77: 248 | F77: Legeringsgebouw , Kantoorgebouw | G77: Begane grond | H77: 1 | I77: Hal | J77: 27 | K77: Sturing branddeuren | L77: Ja
B78: Brandmeldinstallatie | C78: 51B12 | D78: GENM DE R V S KAZERNE | E78: 248 | F78: Legeringsgebouw , Kantoorgebouw | G78: Begane grond | H78: 1 | I78: Hal | J78: 28 | K78: Sturing brandschermen | L78: Nee
B79: Brandmeldinstallatie | C79: 51B12 | D79: GENM DE R V S KAZERNE | E79: 248 | F79: Legeringsgebouw , Kantoorgebouw | G79: Begane grond | H79: 1 | I79: Hal | J79: 29 | K79: Sturing noodverlichtingsinst. | L79: Ja
B80: Brandmeldinstallatie | C80: 51B12 | D80: GENM DE R V S KAZERNE | E80: 248 | F80: Legeringsgebouw , Kantoorgebouw | G80: Begane grond | H80: 1 | I80: Hal | J80: 30 | K80: Sturing luchtbeh en ventilatie | L80: Nee
B81: Brandmeldinstallatie | C81: 51B12 | D81: GENM DE R V S KAZERNE | E81: 248 | F81: Legeringsgebouw , Kantoorgebouw | G81: Begane grond | H81: 1 | I81: Hal | J81: 31 | K81: Sturing rook en warmte afv ins | L81: Nee
B82: Brandmeldinstallatie | C82: 51B12 | D82: GENM DE R V S KAZERNE | E82: 248 | F82: Legeringsgebouw , Kantoorgebouw | G82: Begane grond | H82: 1 | I82: Hal | J82: 32 | K82: Sturing (brandweer) lift | L82: Nee
B83: Brandmeldinstallatie | C83: 51B12 | D83: GENM DE R V S KAZERNE | E83: 248 | F83: Legeringsgebouw , Kantoorgebouw | G83: Begane grond | H83: 1 | I83: Hal | J83: 33 | K83: Sturing brandpomp | L83: Nee
B84: Brandmeldinstallatie | C84: 51B12 | D84: GENM DE R V S KAZERNE | E84: 248 | F84: Legeringsgebouw , Kantoorgebouw | G84: Begane grond | H84: 1 | I84: Hal | J84: 34 | K84: Sturing noodstroomvoorziening | L84: Nee
B85: Brandmeldinstallatie | C85: 51B12 | D85: GENM DE R V S KAZERNE | E85: 248 | F85: Legeringsgebouw , Kantoorgebouw | G85: Begane grond | H85: 1 | I85: Hal | J85: 35 | K85: Sturing overdrukinstallatie | L85: Nee
B86: Brandmeldinstallatie | C86: 51B12 | D86: GENM DE R V S KAZERNE | E86: 248 | F86: Legeringsgebouw , Kantoorgebouw | G86: Begane grond | H86: 1 | I86: Hal | J86: 36 | K86: Sturing sleutelkluis | L86: Nee
... B132: Innamepunt drinkwater in gebouw | C132: 51B12 | D132: GENM DE R V S KAZERNE | E132: 248 | F132: Legeringsgebouw , Kantoorgebouw | G132: Begane grond | H132: 16 | I132: Technische Ruimte | J132: 4 | K132: Installatienummer | L132: 95 WEF 13177
B133: Innamepunt drinkwater in gebouw | C133: 51B12 | D133: GENM DE R V S KAZERNE | E133: 248 | F133: Legeringsgebouw , Kantoorgebouw | G133: Begane grond | H133: 16 | I133: Technische Ruimte | J133: 5 | K133: Nadere locatiebepaling
B134: Innamepunt drinkwater in gebouw | C134: 51B12 | D134: GENM DE R V S KAZERNE | E134: 248 | F134: Legeringsgebouw , Kantoorgebouw | G134: Begane grond | H134: 16 | I134: Technische Ruimte | J134: 6 | K134: Bouwjaar
B135: Innamepunt drinkwater in gebouw | C135: 51B12 | D135: GENM DE R V S KAZERNE | E135: 248 | F135: Legeringsgebouw , Kantoorgebouw | G135: Begane grond | H135: 16 | I135: Technische Ruimte | J135: 7 | K135: Nadere specificatie bwd/instl
B136: Innamepunt drinkwater in gebouw | C136: 51B12 | D136: GENM DE R V S KAZERNE | E136: 248 | F136: Legeringsgebouw , Kantoorgebouw | G136: Begane grond | H136: 16 | I136: Technische Ruimte | J136: 8 | K136: Uitlezing | L136: Van installatie
B137: Innamepunt drinkwater in gebouw | C137: 51B12 | D137: GENM DE R V S KAZERNE | E137: 248 | F137: Legeringsgebouw , Kantoorgebouw | G137: Begane grond | H137: 16 | I137: Technische Ruimte | J137: 9 | K137: DVD-code | L137: 1
B138: Innamepunt drinkwater in gebouw | C138: 51B12 | D138: GENM DE R V S KAZERNE | E138: 248 | F138: Legeringsgebouw , Kantoorgebouw | G138: Begane grond | H138: 16 | I138: Technische Ruimte | J138: 10 | K138: Onderhoudsplicht | L138: Ja, vastgoedbeh.
B139: Innamepunt drinkwater in gebouw | C139: 51B12 | D139: GENM DE R V S KAZERNE | E139: 248 | F139: Legeringsgebouw , Kantoorgebouw | G139: Begane grond | H139: 16 | I139: Technische Ruimte | J139: 11 | K139: Buiten gebruik gesteld | L139: Nee
B140: Innamepunt drinkwater in gebouw | C140: 51B12 | D140: GENM DE R V S KAZERNE | E140: 248 | F140: Legeringsgebouw , Kantoorgebouw | G140: Begane grond | H140: 16 | I140: Technische Ruimte | J140: 12 | K140: Verbruik >= 100 m3 (per dag) | L140: Nee
B141: Bedrijfsdeur | C141: 51B12 | D141: GENM DE R V S KAZERNE | E141: 248 | F141: Legeringsgebouw , Kantoorgebouw | G141: Begane grond | H141: 19 | I141: Berging Wapens | J141: 1 | K141: BI code | L141: 2
B142: Bedrijfsdeur | C142: 51B12 | D142: GENM DE R V S KAZERNE | E142: 248 | F142: Legeringsgebouw , Kantoorgebouw | G142: Begane grond | H142: 19 | I142: Berging Wapens | J142: 2 | K142: Aantal | L142: 1
B143: Bedrijfsdeur | C143: 51B12 | D143: GENM DE R V S KAZERNE | E143: 248 | F143: Legeringsgebouw , Kantoorgebouw | G143: Begane grond | H143: 19 | I143: Berging Wapens | J143: 3 | K143: Fabrikant
B144: Bedrijfsdeur | C144: 51B12 | D144: GENM DE R V S KAZERNE | E144: 248 | F144: Legeringsgebouw , Kantoorgebouw | G144: Begane grond | H144: 19 | I144: Berging Wapens | J144: 4 | K144: Nadere locatiebepaling
B145: Bedrijfsdeur | C145: 51B12 | D145: GENM DE R V S KAZERNE | E145: 248 | F145: Legeringsgebouw , Kantoorgebouw | G145: Begane grond | H145: 19 | I145: Berging Wapens | J145: 5 | K145: Bouwjaar
...

Sheet Gereg installaties object 
B1: Informatie over de op het object aanwezige installaties | I1: * Vul deze kolommen, waar dit van toepassing is.
B2: Component | C2: Object code | D2: Objectnaam | E2: Volg nr | F2: Attribuutnaam | G2: Attribuutwaarde | H2: Mutatie* | I2: Ruimte voor gemuteerde attribuutwaarde of opmerking* | U2: Vervallen | V2: Gewijzigd
B3: RBI_COMP_NAAM | C3: OBJECTNUMMER | D3: OBJECTNAAM | E3: VOLGNR | F3: RBI_ATTR_NAAM | G3: WAARDE
B4: Brandkraan | C4: 51B12 | D4: GENM DE R V S KAZERNE | E4: 4 | F4: Nadere specificatie bwd/instl
B5: Brandkraan | C5: 51B12 | D5: GENM DE R V S KAZERNE | E5: 5 | F5: Situatie brandkraan | G5: Ondergronds
B6: Brandkraan | C6: 51B12 | D6: GENM DE R V S KAZERNE | E6: 1 | F6: DVD-code | G6: B20
B7: Brandkraan | C7: 51B12 | D7: GENM DE R V S KAZERNE | E7: 2 | F7: Aantal | G7: 1
B8: Brandkraan | C8: 51B12 | D8: GENM DE R V S KAZERNE | E8: 3 | F8: Nadere locatiebepaling | G8: nabij geb 215
B9: Brandkraan | C9: 51B12 | D9: GENM DE R V S KAZERNE | E9: 4 | F9: Nadere specificatie bwd/instl
B10: Brandkraan | C10: 51B12 | D10: GENM DE R V S KAZERNE | E10: 5 | F10: Situatie brandkraan | G10: Ondergronds
B11: Brandkraan | C11: 51B12 | D11: GENM DE R V S KAZERNE | E11: 1 | F11: DVD-code | G11: B21
B12: Brandkraan | C12: 51B12 | D12: GENM DE R V S KAZERNE | E12: 2 | F12: Aantal | G12: 1
B13: Brandkraan | C13: 51B12 | D13: GENM DE R V S KAZERNE | E13: 3 | F13: Nadere locatiebepaling | G13: nabij geb 212 - 213
B14: Brandkraan | C14: 51B12 | D14: GENM DE R V S KAZERNE | E14: 4 | F14: Nadere specificatie bwd/instl
B15: Brandkraan | C15: 51B12 | D15: GENM DE R V S KAZERNE | E15: 5 | F15: Situatie brandkraan | G15: Ondergronds
B16: Brandkraan | C16: 51B12 | D16: GENM DE R V S KAZERNE | E16: 1 | F16: DVD-code | G16: B22
B17: Brandkraan | C17: 51B12 | D17: GENM DE R V S KAZERNE | E17: 2 | F17: Aantal | G17: 1
B18: Brandkraan | C18: 51B12 | D18: GENM DE R V S KAZERNE | E18: 3 | F18: Nadere locatiebepaling | G18: nabij geb 215 - 265
B19: Brandkraan | C19: 51B12 | D19: GENM DE R V S KAZERNE | E19: 4 | F19: Nadere specificatie bwd/instl
B20: Brandkraan | C20: 51B12 | D20: GENM DE R V S KAZERNE | E20: 5 | F20: Situatie brandkraan | G20: Ondergronds
B21: Brandkraan | C21: 51B12 | D21: GENM DE R V S KAZERNE | E21: 1 | F21: DVD-code | G21: B23
B22: Brandkraan | C22: 51B12 | D22: GENM DE R V S KAZERNE | E22: 2 | F22: Aantal | G22: 1
B23: Brandkraan | C23: 51B12 | D23: GENM DE R V S KAZERNE | E23: 3 | F23: Nadere locatiebepaling | G23: nabij geb 218 - 219 - 168
B24: Brandkraan | C24: 51B12 | D24: GENM DE R V S KAZERNE | E24: 4 | F24: Nadere specificatie bwd/instl
B25: Brandkraan | C25: 51B12 | D25: GENM DE R V S KAZERNE | E25: 5 | F25: Situatie brandkraan | G25: Ondergronds
B26: Brandkraan | C26: 51B12 | D26: GENM DE R V S KAZERNE | E26: 1 | F26: DVD-code | G26: B24
B27: Brandkraan | C27: 51B12 | D27: GENM DE R V S KAZERNE | E27: 2 | F27: Aantal | G27: 1
B28: Brandkraan | C28: 51B12 | D28: GENM DE R V S KAZERNE | E28: 3 | F28: Nadere locatiebepaling | G28: nabij geb 221 - 160
B29: Brandkraan | C29: 51B12 | D29: GENM DE R V S KAZERNE | E29: 4 | F29: Nadere specificatie bwd/instl
B30: Brandkraan | C30: 51B12 | D30: GENM DE R V S KAZERNE | E30: 5 | F30: Situatie brandkraan | G30: Ondergronds
B31: Brandkraan | C31: 51B12 | D31: GENM DE R V S KAZERNE | E31: 1 | F31: DVD-code | G31: B25
B32: Brandkraan | C32: 51B12 | D32: GENM DE R V S KAZERNE | E32: 2 | F32: Aantal | G32: 1
B33: Brandkraan | C33: 51B12 | D33: GENM DE R V S KAZERNE | E33: 3 | F33: Nadere locatiebepaling | G33: nabij geb 160 - 140
B34: Brandkraan | C34: 51B12 | D34: GENM DE R V S KAZERNE | E34: 4 | F34: Nadere specificatie bwd/instl
B35: Brandkraan | C35: 51B12 | D35: GENM DE R V S KAZERNE | E35: 5 | F35: Situatie brandkraan | G35: Ondergronds
B36: Brandkraan | C36: 51B12 | D36: GENM DE R V S KAZERNE | E36: 1 | F36: DVD-code | G36: B26
B37: Brandkraan | C37: 51B12 | D37: GENM DE R V S KAZERNE | E37: 2 | F37: Aantal | G37: 1
B38: Brandkraan | C38: 51B12 | D38: GENM DE R V S KAZERNE | E38: 3 | F38: Nadere locatiebepaling | G38: nabij geb 140 - 142
B39: Brandkraan | C39: 51B12 | D39: GENM DE R V S KAZERNE | E39: 4 | F39: Nadere specificatie bwd/instl
B40: Brandkraan | C40: 51B12 | D40: GENM DE R V S KAZERNE | E40: 5 | F40: Situatie brandkraan | G40: Ondergronds
B41: Brandkraan | C41: 51B12 | D41: GENM DE R V S KAZERNE | E41: 1 | F41: DVD-code | G41: B27
B42: Brandkraan | C42: 51B12 | D42: GENM DE R V S KAZERNE | E42: 2 | F42: Aantal | G42: 1
B43: Brandkraan | C43: 51B12 | D43: GENM DE R V S KAZERNE | E43: 3 | F43: Nadere locatiebepaling | G43: nabij geb 142
B44: Brandkraan | C44: 51B12 | D44: GENM DE R V S KAZERNE | E44: 4 | F44: Nadere specificatie bwd/instl
B45: Brandkraan | C45: 51B12 | D45: GENM DE R V S KAZERNE | E45: 5 | F45: Situatie brandkraan | G45: Ondergronds
B46: Brandkraan | C46: 51B12 | D46: GENM DE R V S KAZERNE | E46: 1 | F46: DVD-code | G46: B28
B47: Brandkraan | C47: 51B12 | D47: GENM DE R V S KAZERNE | E47: 2 | F47: Aantal | G47: 1
B48: Brandkraan | C48: 51B12 | D48: GENM DE R V S KAZERNE | E48: 3 | F48: Nadere locatiebepaling | G48: nabij geb 147
B49: Brandkraan | C49: 51B12 | D49: GENM DE R V S KAZERNE | E49: 4 | F49: Nadere specificatie bwd/instl
B50: Brandkraan | C50: 51B12 | D50: GENM DE R V S KAZERNE | E50: 5 | F50: Situatie brandkraan | G50: Ondergronds
B51: Brandkraan | C51: 51B12 | D51: GENM DE R V S KAZERNE | E51: 1 | F51: DVD-code | G51: B29
B52: Brandkraan | C52: 51B12 | D52: GENM DE R V S KAZERNE | E52: 2 | F52: Aantal | G52: 1
B53: Brandkraan | C53: 51B12 | D53: GENM DE R V S KAZERNE | E53: 3 | F53: Nadere locatiebepaling | G53: nabij geb 151 - 168
B54: Brandkraan | C54: 51B12 | D54: GENM DE R V S KAZERNE | E54: 4 | F54: Nadere specificatie bwd/instl
B55: Brandkraan | C55: 51B12 | D55: GENM DE R V S KAZERNE | E55: 5 | F55: Situatie brandkraan | G55: Ondergronds
B56: Brandkraan | C56: 51B12 | D56: GENM DE R V S KAZERNE | E56: 1 | F56: DVD-code | G56: B30
B57: Brandkraan | C57: 51B12 | D57: GENM DE R V S KAZERNE | E57: 2 | F57: Aantal | G57: 1
B58: Brandkraan | C58: 51B12 | D58: GENM DE R V S KAZERNE | E58: 3 | F58: Nadere locatiebepaling | G58: nabij geb 142 - 148
B59: Brandkraan | C59: 51B12 | D59: GENM DE R V S KAZERNE | E59: 4 | F59: Nadere specificatie bwd/instl
B60: Brandkraan | C60: 51B12 | D60: GENM DE R V S KAZERNE | E60: 5 | F60: Situatie brandkraan | G60: Ondergronds
B61: Brandkraan | C61: 51B12 | D61: GENM DE R V S KAZERNE | E61: 1 | F61: DVD-code | G61: B31
B62: Brandkraan | C62: 51B12 | D62: GENM DE R V S KAZERNE | E62: 2 | F62: Aantal | G62: 1
B63: Brandkraan | C63: 51B12 | D63: GENM DE R V S KAZERNE | E63: 3 | F63: Nadere locatiebepaling | G63: nabij geb 153 - 146
B64: Brandkraan | C64: 51B12 | D64: GENM DE R V S KAZERNE | E64: 4 | F64: Nadere specificatie bwd/instl
B65: Brandkraan | C65: 51B12 | D65: GENM DE R V S KAZERNE | E65: 5 | F65: Situatie brandkraan | G65: Ondergronds
B66: Brandkraan | C66: 51B12 | D66: GENM DE R V S KAZERNE | E66: 1 | F66: DVD-code | G66: B32
B67: Brandkraan | C67: 51B12 | D67: GENM DE R V S KAZERNE | E67: 2 | F67: Aantal | G67: 1
B68: Brandkraan | C68: 51B12 | D68: GENM DE R V S KAZERNE | E68: 3 | F68: Nadere locatiebepaling | G68: nabij geb 153
B69: Brandkraan | C69: 51B12 | D69: GENM DE R V S KAZERNE | E69: 4 | F69: Nadere specificatie bwd/instl
B70: Brandkraan | C70: 51B12 | D70: GENM DE R V S KAZERNE | E70: 5 | F70: Situatie brandkraan | G70: Ondergronds
B71: Brandkraan | C71: 51B12 | D71: GENM DE R V S KAZERNE | E71: 1 | F71: DVD-code | G71: B33
B72: Brandkraan | C72: 51B12 | D72: GENM DE R V S KAZERNE | E72: 2 | F72: Aantal | G72: 1
B73: Brandkraan | C73: 51B12 | D73: GENM DE R V S KAZERNE | E73: 3 | F73: Nadere locatiebepaling | G73: nabij geb 22
B74: Brandkraan | C74: 51B12 | D74: GENM DE R V S KAZERNE | E74: 4 | F74: Nadere specificatie bwd/instl
B75: Brandkraan | C75: 51B12 | D75: GENM DE R V S KAZERNE | E75: 5 | F75: Situatie brandkraan | G75: Ondergronds
B76: Brandkraan | C76: 51B12 | D76: GENM DE R V S KAZERNE | E76: 1 | F76: DVD-code | G76: B34
B77: Brandkraan | C77: 51B12 | D77: GENM DE R V S KAZERNE | E77: 2 | F77: Aantal | G77: 1
B78: Brandkraan | C78: 51B12 | D78: GENM DE R V S KAZERNE | E78: 3 | F78: Nadere locatiebepaling | G78: nabij geb 26
B79: Brandkraan | C79: 51B12 | D79: GENM DE R V S KAZERNE | E79: 4 | F79: Nadere specificatie bwd/instl
B80: Brandkraan | C80: 51B12 | D80: GENM DE R V S KAZERNE | E80: 5 | F80: Situatie brandkraan | G80: Ondergronds
B81: Brandkraan | C81: 51B12 | D81: GENM DE R V S KAZERNE | E81: 1 | F81: DVD-code | G81: B001
B82: Brandkraan | C82: 51B12 | D82: GENM DE R V S KAZERNE | E82: 2 | F82: Aantal | G82: 1
B83: Brandkraan | C83: 51B12 | D83: GENM DE R V S KAZERNE | E83: 3 | F83: Nadere locatiebepaling | G83: nabij gebouw 7
B84: Brandkraan | C84: 51B12 | D84: GENM DE R V S KAZERNE | E84: 4 | F84: Nadere specificatie bwd/instl
B85: Brandkraan | C85: 51B12 | D85: GENM DE R V S KAZERNE | E85: 5 | F85: Situatie brandkraan | G85: Ondergronds
B86: Brandkraan | C86: 51B12 | D86: GENM DE R V S KAZERNE | E86: 1 | F86: DVD-code | G86: B002
B87: Brandkraan | C87: 51B12 | D87: GENM DE R V S KAZERNE | E87: 2 | F87: Aantal | G87: 1
B88: Brandkraan | C88: 51B12 | D88: GENM DE R V S KAZERNE | E88: 3 | F88: Nadere locatiebepaling | G88: nabij gebouw 4
B89: Brandkraan | C89: 51B12 | D89: GENM DE R V S KAZERNE | E89: 4 | F89: Nadere specificatie bwd/instl
B90: Brandkraan | C90: 51B12 | D90: GENM DE R V S KAZERNE | E90: 5 | F90: Situatie brandkraan | G90: Ondergronds
B91: Brandkraan | C91: 51B12 | D91: GENM DE R V S KAZERNE | E91: 1 | F91: DVD-code | G91: B1
B92: Brandkraan | C92: 51B12 | D92: GENM DE R V S KAZERNE | E92: 2 | F92: Aantal | G92: 1
B93: Brandkraan | C93: 51B12 | D93: GENM DE R V S KAZERNE | E93: 3 | F93: Nadere locatiebepaling | G93: nabij geb 95 - 1
B94: Brandkraan | C94: 51B12 | D94: GENM DE R V S KAZERNE | E94: 4 | F94: Nadere specificatie bwd/instl
B95: Brandkraan | C95: 51B12 | D95: GENM DE R V S KAZERNE | E95: 5 | F95: Situatie brandkraan | G95: Ondergronds
B96: Brandkraan | C96: 51B12 | D96: GENM DE R V S KAZERNE | E96: 1 | F96: DVD-code | G96: B2
B97: Brandkraan | C97: 51B12 | D97: GENM DE R V S KAZERNE | E97: 2 | F97: Aantal | G97: 1
B98: Brandkraan | C98: 51B12 | D98: GENM DE R V S KAZERNE | E98: 3 | F98: Nadere locatiebepaling | G98: nabij geb 3
B99: Brandkraan | C99: 51B12 | D99: GENM DE R V S KAZERNE | E99: 4 | F99: Nadere specificatie bwd/instl
B100: Brandkraan | C100: 51B12 | D100: GENM DE R V S KAZERNE | E100: 5 | F100: Situatie brandkraan | G100: Ondergronds
...

Sheet Nieuwe installaties 
D1: Installatiegegevens
D3: Van toepassing op dit project:
B4: Vloeren op grondslag
B6: Trappen en hellingen
B7: Buitenwandopeningen
B8: Inbouwpakketten
B9: Dakafwerkingen
B11: Warmte-opwekking
B19: Afvoeren
B22: Water
B34: Gassen
B36: Koude-opwekking
B39: Warmtedistributie
B40: Luchtbehandeling
... B104: Terreininrichting; bijzonder
D106: Nieuwe componenten worden toegevoegd nadat het landelijk overleg daar overeenstemming over bereikt heeft.

Sheet 22.10.00.00
B1: Component | D1: Beweegbare scheidingswand
B2: versie 1.1 dd 04-03-2019 | D2: 22.10.00.00 Beweegbare scheidingswand
B4: Datadefinitie | D4: Een beweegbare scheidingswand is een niet constructieve scheiding, bedoelt voor het opdelen van een ruimte in meerdere delen, die bij het ontbreken van periodiek onderhoud gevaar voor de mens of omgeving kan opleveren.
B6: Inwininstructie | D6: De scheidingswand registreren in de ruimte met het hoogste ruimtenummer waarin zich de scheidingswand bevindt.
B8: BRV
B10: Objectcode | D10: =IF(ISBLANK(Voorblad!B$16),"",(Voorblad!B$16)) -> 51B12
B12: Gebouwcode | D12: =IF(ISBLANK(Voorblad!B$17),"",(Voorblad!B$17)) -> 248
B14: Bouwlaagcode | C14: >
D15: 0
D16: 1
D17: 2
D18: 3
D19: 4
D20: 5
D21: 6
D22: 7
D23: 8
D24: 9
D25: 10
D26: 11
... D40: Z
B42: Ruimtecode | E42: Ruimtecode volgens registratie door VGI in BRV.
B44: RBI
B46: BI-code | D46: < intern VGI nummer > | E46: BI-code om component/toepassing uniek aan te duiden. Niet invullen. Het betreft een intern VGI nummer
E47: Een scheidingswand wordt ook vastgelegd op de basisplattegrond en met een bedrijfsdeurnummer
E48: de aangegeven BI code wordt hierop ook weergegeven. De BI code dient per bouwlaag uniek te zijn.
B50: Aantal | D50: < 1 >
B52: Fabrikaat
B54: Nadere locatiebepaling | E54: Vrij veld om de locatie van de installatie te verduidelijken.
B56: Bouwjaar
B58: Nadere specificatie bwd/instl | E58: Vrij veld om specifieke kenmerken van de installatie aan te geven.
B60: Specifiek
B62: Soort scheidingswand | C62: >
D63: Horizontaal beweegbaar
D64: Verticaal beweegbaar
E66: Horizontaal beweegbaar: een scheidingswand die bij bediening in horizontale richting oprolt, afrolt, opvouwt of uitvouwt met een snelheid van minimaal een meter per seconde.
E68: Vertikaal beweegbaar: een scheidingswand die bij bediening in verticale richting oprolt, afrolt, opvouwt of uitvouwt met een snelheid van minimaal een meter per seconde.
B70: Aandrijving | C70: >
D71: Elektrisch
D72: Handmatig
B74: Loopdeur | C74: >
D75: Ja
D76: Nee
B78: Hoogte in m1
B80: Breedte in m1

Sheet 13.22.01.00
B1: Component | D1: Vloeistofdichte voorziening in gebouw
B2: versie 6.0 dd 11-09-2009 | D2: 13.22.01.00 Vloeistofdichte voorziening in gebouw
B4: Datadefinitie | D4: Vloeistofdichte voorziening in gebouw is een betonnen calamiteitenvoorziening ter voorkoming van indringing van milieugevaarlijke stoffen in de bodem onder een gebouw.
B5: Inwininstructie | D5: Alleen die voorzieningen waarvoor een PBV-verklaring (Plan Bodembeschermende Voorzieningen) is afgegeven. Gegevens van certificaat overnemen.
B6: Inwininstructie | D6: Metalen lekbakken hoeven niet geinventariseerd te worden.
B8: BRV
B10: Objectcode | D10: =IF(ISBLANK(Voorblad!B$16),"",(Voorblad!B$16)) -> 51B12
B12: Gebouwcode | D12: =IF(ISBLANK(Voorblad!B$17),"",(Voorblad!B$17)) -> 248
B14: Bouwlaagcode | C14: >
D15: 0
D16: 1
D17: 2
D18: 3
D19: 4
D20: 5
D21: 6
D22: 7
D23: 8
D24: 9
D25: 10
D26: 11
... D40: Z
B42: Ruimtecode | E42: Ruimtecode volgens registratie door VGI in BRV.
B44: RBI
B46: BI-code | D46: < intern VGI nummer > | E46: BI-code om component/toepassing uniek aan te duiden. Niet invullen. Het betreft een intern VGI nummer
B48: Aantal | D48: < 1 >
B50: Nadere locatiebepaling | E50: Vrij veld om de locatie van de installatie te verduidelijken.
B52: Bouwjaar
B54: Nadere specificatie bwd/instl | E54: Vrij veld om specifieke kenmerken van de installatie aan te geven.
B56: Specifiek
B58: Soort vloeistofdichte voorziening in gebouw | C58: > | E58: Lekbak: ten behoeve van calamiteiten opvang van bodembedreigende stoffen.
D59: Lekbak
D60: Vloer
B62: Oppervlakte vloeistofdichte voorziening in m2 | C62: >
B64: Bodembedreigende activiteit | C64: > | E64: Activiteit op basis waarvan de vloeistofdichte voorziening noodzakelijk wordt geacht. Bij meerder in de volgorde van meest milieubelastend conform picklist.
D65: Werken met bodembedreigende stoffen
D66: Tanken van voertuigen en/of vliegtuigen
D67: Wassen van voertuigen en/of vliegtuigen
D68: Opslag van bodembedreigende stoffen
B70: Riolering aanwezig | C70: >
D71: Ja
D72: Nee
B74: Aanlegjaar riolering

Sheet 24.30.01.00
B1: Component | D1: Sportaccommodatie gebouwgebonden
B2: versie 6.0 dd 02-10-2009 | D2: 24.30.01.00 Sportaccommodatie gebouwgebonden
B4: Datadefinitie | D4: Sportaccommodatie gebouwgebonden is een klimwand in of aan een gebouw om sport te kunnen beoefenen.
B5: Inwininstructie | D5: Geen.
B7: BRV
B9: Objectcode | D9: =IF(ISBLANK(Voorblad!B$16),"",(Voorblad!B$16)) -> 51B12
B11: Gebouwcode | D11: =IF(ISBLANK(Voorblad!B$17),"",(Voorblad!B$17)) -> 248
B13: Bouwlaagcode | C13: >
D14: 0
D15: 1
D16: 2
D17: 3
D18: 4
D19: 5
D20: 6
D21: 7
D22: 8
D23: 9
D24: 10
D25: 11
... D39: Z
B41: Ruimtecode | E41: De klimwand aan een gebouw dient te worden geregistreerd in de dichtstbijzijnde ruimte in het gebouw. Ruimtecode volgens registratie door VGI in BRV.
B43: RBI
B45: BI-code | D45: < intern VGI nummer > | E45: BI-code om component/toepassing uniek aan te duiden. Niet invullen. Het betreft een intern VGI nummer
B47: Aantal | D47: < 1 >
B49: Nadere locatiebepaling | E49: Vrij veld om de locatie van de installatie te verduidelijken.
B51: Bouwjaar
B53: Nadere specificatie bwd/instl | E53: Vrij veld om specifieke kenmerken van de installatie aan te geven.
B55: Specifiek
B57: Soort sportaccomodatie gebouw gebonden | C57: >
D58: Klimwand aan gebouw
D59: Klimwand in gebouw

Sheet 31.30.01.00
B1: Component | D1: Bedrijfsdeur
B2: versie 6.8 dd 25-02-2019 | D2: 31.30.01.00 Bedrijfsdeur
B4: Datadefinitie | D4: Bedrijfsdeur is een deur die bij het ontbreken van periodiek onderhoud gevaar voor de mens of omgeving kan opleveren.
B6: BRV
B8: Objectcode | D8: =IF(ISBLANK(Voorblad!B$16),"",(Voorblad!B$16)) -> 51B12
B10: Gebouwcode | D10: =IF(ISBLANK(Voorblad!B$17),"",(Voorblad!B$17)) -> 248
B12: Bouwlaagcode | C12: >
D13: 0
D14: 1
D15: 2
D16: 3
D17: 4
D18: 5
D19: 6
D20: 7
D21: 8
D22: 9
D23: 10
D24: 11
... D38: Z
B40: Ruimtecode | E40: Ruimtecode volgens registratie door VGI in BRV.
B42: RBI
B44: BI-code | D44: < intern VGI nummer > | E44: BI-code om component/toepassing uniek aan te duiden. Niet invullen. Het betreft een intern VGI nummer
E45: Een bedrijfsdeur wordt ook vastgelegd op de basisplattegrond en de aangegeven BI code wordt hierop ook weergegeven.
E46: De BI code dient per bouwlaag uniek te zijn.
B48: Aantal | D48: < 1 >
B50: Fabrikaat
B52: Nadere locatiebepaling | E52: Vrij veld om de locatie van de installatie te verduidelijken.
B54: Bouwjaar
B56: Nadere specificatie bwd/instl | E56: Vrij veld om specifieke kenmerken van de installatie aan te geven.
B58: Specifiek
B60: Soort Bedrijfsdeur | C60: > | E60: Alleen die deur waarvoor een opdracht van de klant ligt om deze te keuren.
D61: Nader te bepalen
D62: A-deuren
D63: EMP-deuren
D64: Hangardeur
D65: Harmonicadeur
D66: Hefdeur
D67: Kanteldeur
D68: Overheaddeur
D69: Roldeur
D70: Schuifdeur
D71: Scharnierdeur
D72: Shelterdeur
... D74: Tourniquet
E76: A-deur: deur met elektronische melding t.b.v. een beveiligde ruimte
E78: EMP-deuren: EMI/RFI afgeschermde deuren
E79: ↗ Electromagnetische interferentie (EMI) / Radio Freqency Interference (RF)I afgeschermde deuren zijn deuren voor in Farady kooien en ruimten waarin stoorsignalen kunnen ontstaan
E81: Hangardeur: een elektrisch aangedreven, bovengemiddeld groot, deurblad met horizontale schuifgeleiding ten behoeve van toegang van vliegtuigen en/of helikopters in een hangar
E83: Harmonicadeur: deurblad dat bij bediening als een harmonica in en uit schuift, danwel wordt opgevouwen (vouwdeur)
E85: Hefdeur: deurblad met verticale deurgeleiding
E87: Kanteldeur: deurblad met seperate horizontale geleiding voor boven-bevestiging en verticale geleiding voor onderbevestiging
E89: Overheaddeur: gesegmenteerd deurblad met doorlopende geleiding van verticaal naar horizontaal
E91: Roldeur: oprollend flexibel deurblad met verticale geleiding
E92: ↗ Betreft roldeuren en -luiken die zijn opgenomen in de bouwkundige constructie van een gebouw. Rolluiken die onderdeel uitmaken van bijvoorbeeld een installatie dienen niet te worden geregistreerd.
E94: Schuifdeur: deurblad met horizontale schuifgeleiding, inclusief de shelterdeuren in de "Amerikaanse" vliegtuigshelters
E95: ↗ Deuren van amerikaanse shelters als schuifdeuren registreren
... E104: Tourniquet: een aantal om een verticale as draaiende deurbladen
B106: Aandrijving | C106: > | E106: Harmonica- en schuifdeur, scharnierdeur evenals tourniquet dient alleen te worden geregistreerd, indien aandrijving elektrisch is.
E107: Hydraulische aandrijving alleen voor shelterdeuren van vliegtuigshelters registreren.
D108: Elektrisch
D109: Hydraulisch
D110: Handmatig
B112: Loopdeur | C112: > | E112: Een loopdeur is een deur in een (bedrijfs)deur
D113: Ja
D114: Nee
B116: Brandwerende deur | C116: > | E116: Betreft een functionele eigenschap, die op alle deuren die voldoen aan de datadefinitie van een bedrijfsdeur van toepassing kan zijn.
D117: Ja
D118: Nee
B120: Slotkast aanwezig | C120: > | E120: Slotkasten maken onderdeel uit van een MIPSS voorziening bij deuren van munitiebunkers en bestaan uit een slotmechanisme met
E121: klavierslot en een omkasting.
D122: Ja
D123: Nee
B125: Hoogte in m1 | E125: Hoogte dagmaat gevelopening.
B127: Breedte in m1 | E127: Breedte dagmaat gevelopening.

Sheet 38.10.01.00
B1: Component | D1: Schietbaan in gebouw
B2: versie 6.1 dd 03-08-2010 | D2: 38.10.01.00 Schietbaan in gebouw
B4: Datadefinitie | D4: Schietbaan waar met scherp wordt geschoten in een gebouw, of een deel van een gebouw, zonder open zijden en met een geheel gesloten afdekking.
B5: Inwininstructie | D5: Geen.
B7: BRV
B9: Objectcode | D9: =IF(ISBLANK(Voorblad!B$16),"",(Voorblad!B$16)) -> 51B12
B11: Gebouwcode | D11: =IF(ISBLANK(Voorblad!B$17),"",(Voorblad!B$17)) -> 248
B13: Bouwlaagcode | C13: >
D14: 0
D15: 1
D16: 2
D17: 3
D18: 4
D19: 5
D20: 6
D21: 7
D22: 8
D23: 9
D24: 10
D25: 11
... D39: Z
B41: Ruimtecode | E41: Ruimtecode volgens registratie door VGI in BRV.
B43: RBI
B45: BI-code | D45: < intern VGI nummer > | E45: BI-code om component/toepassing uniek aan te duiden. Niet invullen. Het betreft een intern VGI nummer
B47: Aantal | D47: < 1 >
B49: Bouwjaar
B51: Nadere specificatie bwd/instl | E51: Vrij veld om specifieke kenmerken van de installatie aan te geven.
B53: Specifiek
B55: Aantal schietpunten in stuks
B57: Baanlengte in m1
B59: Soort kogelvanger | C59: >
D60: Zand
D61: Lamellen

Sheet 47.21.01.00
B1: Component | D1: Dakvlak
B2: versie 6.1 dd 04-05-2012 | D2: 47.21.01.00 Dak vlak
B4: Datadefinitie | D4: Dak vlak is een dak met een dakhelling <= 5 graden.
B5: Inwininstructie | D5: Geen.
B7: BRV
B9: Objectcode | D9: =IF(ISBLANK(Voorblad!B$16),"",(Voorblad!B$16)) -> 51B12
B11: Gebouwcode | D11: =IF(ISBLANK(Voorblad!B$17),"",(Voorblad!B$17)) -> 248
B13: RBI
B15: Aantal | D15: < 1 >
B17: Specifiek

Sheet 47.22.01.00
B1: Component | D1: Dak hellend
B2: versie 6.1 dd 04-05-2012 | D2: 47.22.01.00 Dak hellend
B4: Datadefinitie | D4: Dak hellend is een dak met een dakhelling > 5 graden.
B5: Inwininstructie | D5: Geen.
B7: BRV
B9: Objectcode | D9: =IF(ISBLANK(Voorblad!B$16),"",(Voorblad!B$16)) -> 51B12
B11: Gebouwcode | D11: =IF(ISBLANK(Voorblad!B$17),"",(Voorblad!B$17)) -> 248
B13: RBI
B15: Aantal | D15: < 1 >
B17: Specifiek
B19: Totale lengte goot in m1 | E19: Totale lengte van de goot van het dak hellend.

Sheet 51.10.01.00
B1: Component | D1: Kachel
B2: versie 6.1 dd 23-12-2011 | D2: 51.10.01.00 Kachel
B4: Datadefinitie | D4: Kachel is een decentrale installatie waarin door verbranding van brandstoffen warmte wordt opgewekt en direct ter beschikking wordt gesteld ten behoeve van het klimaat van een ruimte.
B5: Inwininstructie | D5: Geen.
B7: BRV
B9: Objectcode | D9: =IF(ISBLANK(Voorblad!B$16),"",(Voorblad!B$16)) -> 51B12
B11: Gebouwcode | D11: =IF(ISBLANK(Voorblad!B$17),"",(Voorblad!B$17)) -> 248
B13: Bouwlaagcode | C13: >
D14: 0
D15: 1
D16: 2
D17: 3
D18: 4
D19: 5
D20: 6
D21: 7
D22: 8
D23: 9
D24: 10
D25: 11
... D39: Z
B41: Ruimtecode | E41: Ruimtecode volgens registratie door VGI in BRV.
B43: RBI
B45: BI-code | D45: < intern VGI nummer > | E45: BI-code om component/toepassing uniek aan te duiden. Niet invullen. Het betreft een intern VGI nummer
B47: Aantal | D47: < 1 >
B49: Fabrikaat
B51: Type
B53: Serienummer
B55: Installatienummer
B57: Nadere locatiebepaling | E57: Vrij veld om de locatie van de installatie te verduidelijken.
B59: Bouwjaar
B61: Nadere specificatie bwd/instl | E61: Vrij veld om specifieke kenmerken van de installatie aan te geven.
B63: Specifiek
B65: Maximale nominale vermogen in kW | E65: Indien vermogen > 900 Kw dan gegeven registreren dat op installatie bij "Nominaal vermogen" staat.
B67: Max nom belasting bovenwaarde in kW | E67: Moet worden afgelezen van typeplaatje. Indien dit niet mogelijk is uit een stookrapport halen of anders schatten.
B69: Rendementscategorie | C69: >
D70: Conventioneel
D71: HR
D72: VR
B74: Brandstof | C74: > | E74: Soort gebruikte brandstof.
D75: Aardgas
D76: HBO
D77: HBO + aardgas
D78: HBO + propaan/LPG
D79: Propaan/LPG
B81: Stenen rookgasafvoer | C81: > | E81: Indien metalen rookgasafvoer zich boven het dak bevindt , dan bij "Stenen rookgasafvoer", "nee" invullen.
D82: Ja
D83: Nee

Sheet 51.10.02.00
B1: Component | D1: Luchtverhitter
B2: versie 6.3 dd 28-03-2012 | D2: 51.10.02.00 Luchtverhitter
B4: Datadefinitie | D4: Luchtverhitter is een decentrale installatie waarin lucht wordt verhit en met behulp van een ventilator direct ter beschikking wordt gesteld ten behoeve van het klimaat van een ruimte.
B5: Inwininstructie | D5: Indien (uitzonderingssituatie) een luchtverhitter uitblaasopeningen heeft in meerdere ruimten wordt de luchtverhitter geregistreerd in de ruimte met de laagste ruimte aanduiding.
B7: BRV
B9: Objectcode | D9: =IF(ISBLANK(Voorblad!B$16),"",(Voorblad!B$16)) -> 51B12
B11: Gebouwcode | D11: =IF(ISBLANK(Voorblad!B$17),"",(Voorblad!B$17)) -> 248
B13: Bouwlaagcode | C13: >
D14: 0
D15: 1
D16: 2
D17: 3
D18: 4
D19: 5
D20: 6
D21: 7
D22: 8
D23: 9
D24: 10
D25: 11
... D39: Z
B41: Ruimtecode | E41: Ruimtecode volgens registratie door VGI in BRV.
B43: RBI
B45: BI-code | D45: < intern VGI nummer > | E45: BI-code om component/toepassing uniek aan te duiden. Niet invullen. Het betreft een intern VGI nummer
B47: Aantal | D47: < 1 >
B49: Fabrikaat
B51: Type
B53: Serienummer
B55: Installatienummer
B57: Nadere locatiebepaling | E57: Vrij veld om de locatie van de installatie te verduidelijken.
B59: Bouwjaar
B61: Nadere specificatie bwd/instl | E61: Vrij veld om specifieke kenmerken van de installatie aan te geven.
B63: Specifiek
B65: Maximale nominale vermogen in kW | E65: Indien vermogen > 900 Kw dan gegeven registreren dat op installatie bij "Nominaal vermogen" staat.
B67: Max nom belasting bovenwaarde in kW | E67: Moet worden afgelezen van typeplaatje. Indien dit niet mogelijk is uit een stookrapport halen of anders schatten.
B69: Rendementscategorie | C69: >
D70: Conventioneel
D71: HR
D72: VR
B74: Brandstof | C74: > | E74: Soort gebruikte brandstof.
D75: Aardgas
D76: HBO
D77: HBO + aardgas
D78: HBO + propaan/LPG
D79: Propaan/LPG

Sheet 51.20.01.00
B1: Component | D1: CV-ketel
B2: versie 6.1 dd 23-12-2011 | D2: 51.20.01.00 CV-ketel
B4: Datadefinitie | D4: CV-ketel is een centrale installatie t.b.v. het indirect verwarmen van meerdere ruimten, incl. combiketel.
B5: Inwininstructie | D5: Geen.
B7: BRV
B9: Objectcode | D9: =IF(ISBLANK(Voorblad!B$16),"",(Voorblad!B$16)) -> 51B12
B11: Gebouwcode | D11: =IF(ISBLANK(Voorblad!B$17),"",(Voorblad!B$17)) -> 248
B13: Bouwlaagcode | C13: >
D14: 0
D15: 1
D16: 2
D17: 3
D18: 4
D19: 5
D20: 6
D21: 7
D22: 8
D23: 9
D24: 10
D25: 11
... D39: Z
B41: Ruimtecode | E41: Ruimtecode volgens registratie door VGI in BRV.
B43: RBI
B45: BI-code | D45: < intern VGI nummer > | E45: BI-code om component/toepassing uniek aan te duiden. Niet invullen. Het betreft een intern VGI nummer
B47: Aantal | D47: < 1 >
B49: Fabrikaat
B51: Type
B53: Serienummer
B55: Installatienummer
B57: Nadere locatiebepaling | E57: Vrij veld om de locatie van de installatie te verduidelijken.
B59: Bouwjaar
B61: Nadere specificatie bwd/instl | E61: Vrij veld om specifieke kenmerken van de installatie aan te geven.
B63: Specifiek
B65: Maximale nominale vermogen in kW | C65: > | E65: Indien vermogen > 900 Kw dan gegeven registreren dat op installatie bij "Nominaal vermogen" staat.
B67: Max nom belasting bovenwaarde in kW | C67: > | E67: Moet worden afgelezen van typeplaatje. Indien dit niet mogelijk is uit een stookrapport halen of anders schatten.
B69: Cascade-opstelling | C69: >
D70: Ja
D71: Nee (default)
B73: Cascadenummer
E74: Alleen vullen indien CV-ketel onderdeel is van een cascade opstelling
E75: Als "cascade opstelling" is "Ja", dan moet "Cascade nummer" verplicht gevuld worden. Per cascade combinatie wordt dezelfde codering ingevuld met eerst C1 en vervolgens C2 etc.etc.
B77: Cascadevermogen
E78: Dit veld wordt in de keuringsapplicatie gebruik om het opgetelde vermogen van alle in de cascade opgenomen cv-ketels te registreren
B80: Rendementscategorie | C80: >
D81: Conventioneel
D82: HR
D83: VR
B85: Brandstof | C85: > | E85: Soort gebruikte brandstof.
D86: Aardgas
D87: HBO
D88: HBO + aardgas
D89: HBO + propaan/LPG
D90: Propaan/LPG
B92: Tapwatervoorziening | C92: >
D93: Ja
D94: Nee
B96: Voorzetbrander fabrikaat
B98: Voorzetbrander type
B100: Voorzetbrander serienummer
B102: Voorzetbrander bouwjaar
B104: Stenen rookgasafvoer | C104: > | E104: Indien metalen rookgasafvoer zich boven het dak bevindt , dan bij "Stenen rookgasafvoer", "nee" invullen.
D105: Ja
D106: Nee

Sheet 51.20.02.00
B1: Component | D1: Verwarmd waterinstallatie geiser
B2: versie 6.1 dd 23-12-2011 | D2: 51.20.02.00 Verwarmd waterinstallatie geiser
B4: Datadefinitie | D4: Verwarmd waterinstallatie geiser is een direct gestookt doorstroomapparaat voor de levering van verwarmd water zonder voorraadvat.
B5: Inwininstructie | D5: Geen.
B7: BRV
B9: Objectcode | D9: =IF(ISBLANK(Voorblad!B$16),"",(Voorblad!B$16)) -> 51B12
B11: Gebouwcode | D11: =IF(ISBLANK(Voorblad!B$17),"",(Voorblad!B$17)) -> 248
B13: Bouwlaagcode | C13: >
D14: 0
D15: 1
D16: 2
D17: 3
D18: 4
D19: 5
D20: 6
D21: 7
D22: 8
D23: 9
D24: 10
D25: 11
... D39: Z
B41: Ruimtecode | E41: Ruimtecode volgens registratie door VGI in BRV.
B43: RBI
B45: BI-code | D45: < intern VGI nummer > | E45: BI-code om component/toepassing uniek aan te duiden. Niet invullen. Het betreft een intern VGI nummer
B47: Aantal | D47: < 1 >
B49: Fabrikaat
B51: Type
B53: Serienummer
B55: Nadere locatiebepaling | E55: Vrij veld om de locatie van de installatie te verduidelijken.
B57: Bouwjaar
B59: Nadere specificatie bwd/instl | E59: Vrij veld om specifieke kenmerken van de installatie aan te geven.
B61: Specifiek
B63: Verwarmingsbron geiser | C63: > | E63: Indien doorstroomapparaat direct in waterleiding is opgenomen en elektrisch wordt gevoed, dan "Verwarmingsbron geiser" is "Elektrisch".
D64: Elektrisch
D65: Gas

Sheet 51.20.03.00
B1: Component | D1: Verwarmd waterinstallatie boiler
B2: versie 6.5 dd 05-11-2018 | D2: 51.20.03.00 Verwarmd waterinstallatie boiler
B4: Datadefinitie | D4: Verwarmd waterinstallatie boiler is een installatie voor de levering van verwarmd water vanuit een direct of indirect gestookt voorraadvat.
B5: Inwininstructie | D5: Voorraadvaten dienen niet te worden geregistreerd.
B7: BRV
B9: Objectcode | D9: =IF(ISBLANK(Voorblad!B$16),"",(Voorblad!B$16)) -> 51B12
B11: Gebouwcode | D11: =IF(ISBLANK(Voorblad!B$17),"",(Voorblad!B$17)) -> 248
B13: Bouwlaagcode | C13: >
D14: 0
D15: 1
D16: 2
D17: 3
D18: 4
D19: 5
D20: 6
D21: 7
D22: 8
D23: 9
D24: 10
D25: 11
... D39: Z
B41: Ruimtecode | E41: Ruimtecode volgens registratie door VGI in BRV.
B43: RBI
B45: BI-code | D45: < intern VGI nummer > | E45: BI-code om component/toepassing uniek aan te duiden. Niet invullen. Het betreft een intern VGI nummer
B47: Aantal | D47: < 1 >
B49: Fabrikaat
B51: Type
B53: Serienummer
B55: Nadere locatiebepaling | E55: Vrij veld om de locatie van de installatie te verduidelijken.
B57: Bouwjaar
B59: Nadere specificatie bwd/instl | E59: Vrij veld om specifieke kenmerken van de installatie aan te geven.
B61: Specifiek
B63: Stookwijze boiler | C63: > | E63: Als installatie indirect wordt gestookt met directe bijverwarming door elektrisch element dan "Stookwijze boiler" is "Direct / indirect gestookt".
D64: Direct gestookt
D65: Direct / indirect gestookt
D66: Indirect gestookt
B68: Verwarmingsbron boiler | C68: > | E68: Als "Stookwijze boiler" is " Indirect gestookt" dan "Verwarmingsbron boiler" is "Zonne-energie" of "Verwarmd water"
D69: Elektrisch
D70: Gas
D71: Zonne-energie
D72: Verwarmd water
B74: Inhoud boiler in liters
B76: Nominaal vermogen in kW | E76: Als "Stookwijze boiler" is " direct gestookt" en "Verwarmingsbron"is "Gas"" dan "Nominaal vermogen" invullen"
E77: Deze gegevens werden in het verleden nu geregistrreerd in het veld "Nadere Specificatie bwd/instl". Hierop kan niet worden geselecteerd in het kader van wettelijke verplichtingen

Sheet 51.41.01.00
B1: Component | D1: Warmte-krachtkoppeling
B2: versie 6.3 dd 23-12-2011 | D2: 51.41.01.00 Warmte-krachtkoppeling
B4: Datadefinitie | D4: Warmte-krachtkoppeling is een verzameling van centrale voorzieningen voor gecombineerd opwekken en ter beschikking stellen van enerzijds warmte en anderzijds kracht voor elektrische energie.
B5: Inwininstructie | D5: Geen.
B7: BRV
B9: Objectcode | D9: =IF(ISBLANK(Voorblad!B$16),"",(Voorblad!B$16)) -> 51B12
B11: Gebouwcode | D11: =IF(ISBLANK(Voorblad!B$17),"",(Voorblad!B$17)) -> 248
B13: Bouwlaagcode | C13: >
D14: 0
D15: 1
D16: 2
D17: 3
D18: 4
D19: 5
D20: 6
D21: 7
D22: 8
D23: 9
D24: 10
D25: 11
... D39: Z
B41: Ruimtecode | E41: Ruimtecode volgens registratie door VGI in BRV.
B43: RBI
B45: BI-code | D45: < intern VGI nummer > | E45: BI-code om component/toepassing uniek aan te duiden. Niet invullen. Het betreft een intern VGI nummer
B47: Aantal | D47: < 1 >
B49: Fabrikaat
B51: Type
B53: Installatienummer
B55: Nadere locatiebepaling | E55: Vrij veld om de locatie van de installatie te verduidelijken.
B57: Bouwjaar
B59: Nadere specificatie bwd/instl | E59: Vrij veld om specifieke kenmerken van de installatie aan te geven.
B61: Specifiek
B63: Vermogen in kW | E63: Betreft het vermogen van de aandrijfmotor.
B65: Brandstof | C65: > | E65: Soort gebruikte brandstof.
D66: Aardgas
D67: Diesel
D68: HBO
D69: HBO + aardgas
D70: HBO + propaan/LPG
D71: Propaan/LPG
B73: Noodkoeler aanwezig | C73: > | E73: De noodkoeler is een onderdeel van de installatie en is te herkennen aan een frame waardoor leidingen lopen die gekoeld worden door één of meerdere ventilatoren.
D74: Ja
D75: Nee

Sheet 51.51.01.01
B1: Component | D1: Warmtepomp
B2: versie 6.2 dd 28-02-2017 | D2: 51.51.01.01 Warmtepomp
B4: Datadefinitie | D4: Een warmtepomp is een pomp die warmte onttrekt aan de elementen van de natuur (bodem, lucht, water) en naar het verwarmingssysteem voert.
B5: Inwininstructie | D5: Alleen warmtepompen registreren die koudemiddelen bevatten
B7: BRV
B9: Objectcode | D9: =IF(ISBLANK(Voorblad!B$16),"",(Voorblad!B$16)) -> 51B12
B11: Gebouwcode | D11: =IF(ISBLANK(Voorblad!B$17),"",(Voorblad!B$17)) -> 248
B13: Bouwlaagcode | C13: >
D14: 0
D15: 1
D16: 2
D17: 3
D18: 4
D19: 5
D20: 6
D21: 7
D22: 8
D23: 9
D24: 10
D25: 11
... D39: Z
B41: Ruimtecode | E41: Ruimtecode volgens registratie door VGI in BRV.
B43: RBI
B45: BI-code | D45: < intern VGI nummer > | E45: BI-code om component/toepassing uniek aan te duiden. Niet invullen. Het betreft een intern VGI nummer
B47: Aantal | D47: < 1 >
B49: Fabrikaat
B51: Type
B53: Serienummer
B55: Installatienummer
B57: Nadere locatiebepaling | E57: Vrij veld om de locatie van de installatie te verduidelijken.
B59: Bouwjaar
B61: Nadere specificatie bwd/instl | E61: Vrij veld om specifieke kenmerken van de installatie aan te geven.
B63: Specifiek
B65: Situatie warmtepomp | C65: > | E65: Lokatie van de condensor.
D66: Aan gevel
D67: In ruimte
D68: In terrein
D69: Op dak
B71: Hoeveelheid koelmiddel in kg | E71: Hoeveelheid koelmiddel moet vanuit het logboek ( >= 3 kg) dan wel vanaf de kenplaat (typeplaatje) (< 3 kg) worden geregistreerd. Hoeveelheid koelmiddel volgens logboek is maatgevend en betreft het gehele circuit, inclusief leidingen.
B73: Soort koelmiddel | C73: >
D74: AZ20
D75: AZ50
D76: DL36
D77: DL44
D78: FR12
D79: FX10
D80: FX56
D81: FX70
D82: HP62
D83: HP80
D84: HP81
D85: KLEA60
... D190: R142B
B192: GWP-waarde (ton) | E192: Relatie met soort koelmiddel, opgenomen in de F-gassenverordening (EU) nr. 517/2014. Bij nieuwe installaties moet de GWP waarde worden vermeld op de kenplaat (typeplaatje). Bij bestaande installaties kan een sticker met de gegevens worden bijgeplakt.
B194: CO2-equivalent inhoud (ton) | E194: Het CO2 equivalent wordt berekend door de GWP waarde van het koudemiddel x hoeveelheid koelmiddel. Bij nieuwe installaties moet de CO2 equivalent worden vermeld op de kenplaat (typeplaatje). Bij bestaande installatie kan een sticker met de gegevens worden bijgeplakt.
B196: Hermetisch gesloten | C196: > | E196: Moet op installatie zijn aangegeven
D197: Ja
D198: Nee
B200: Lekdetectie aanwezig | C200: > | E200: Boven 500 ton CO2 equivalent automatische lekdetectie verplicht
D201: Ja
D202: Nee
B204: Locatie logboek | E204: Als "hoeveelheid koelmiddel" > 2,99 kg moet het veld "lokatie logboek" een tekst bevatten.
B206: Nominaal koelvermogen in kW
B208: STEK-nummer | E208: STEK-nummer van installateur 1e inbedrijfstelling.

Sheet 51.54.00.00
B1: Component | D1: Bodemenergiesystemen
B2: versie 1.2 dd 14-04-2016 | D2: 90.50.00.00 Bodemenergiesystemen
B4: Datadefinitie | D4: Bodemenergiesysteem (BES) is eenamenstel van buizen, pompen, regelkast en warmtewisselaar(s) tot en met de warmtewisselaar direct boven het maaiveld waarbij van de bodem tot maximaak 500 m onder het maaiveld gebruik wordt gemaakt voor de levering of opslag van warmte of koude. Dit door grondwater aan de bodem te onttrekken en na gebruik in de bodem terug te brengen of door gebruikmaking van een gesloten circuit van leidingen.
B5: Inwininstructie | D5: Bodemenergiesysteem registreren in de ruimte waarin de regelkast zich bevindt
B7: BRV
B9: Objectcode | D9: =IF(ISBLANK(Voorblad!B$16),"",(Voorblad!B$16)) -> 51B12
B11: Gebouwcode | D11: =IF(ISBLANK(Voorblad!B$17),"",(Voorblad!B$17)) -> 248
B13: Bouwlaagcode | C13: >
D14: 0
D15: 1
D16: 2
D17: 3
D18: 4
D19: 5
D20: 6
D21: 7
D22: 8
D23: 9
D24: 10
D25: 11
... D39: Z
B41: Ruimtecode | E41: Ruimtecode volgens registratie door VGI in BRV.
B43: RBI
B45: BI-code | D45: < intern VGI nummer > | E45: BI-code om component/toepassing uniek aan te duiden. Niet invullen. Het betreft een intern VGI nummer
B47: Aantal | D47: < 1 >
B49: Installatienummer
B51: Bouwjaar
B53: Specifiek
B55: Soort BES | C55: > | E55: Installatiegegevens halen uit de vergunning (grondwateronttrekking)
D56: Open systeem
D57: Gesloten systeem
B59: Tot. verm. bodemzjidig circuit in in kW
B61: Aantal bronnen of strengen | C61: >
D62: AZ20
D63: AZ50
D64: DL36
D65: DL44
D66: FR12
D67: FX10
D68: FX56
D69: FX70
D70: HP62
D71: HP80
D72: HP81
D73: KLEA60
... D175: R142B
B177: Max diepte in m1 | E177: diepte tov maaiveld
B179: Aantal pompen
B181: Tot cap pompen in m3/h

Sheet 52.30.01.00
B1: Component | D1: Olieafscheider in gebouw
B2: versie 6.3 dd 23-12-2011 | D2: 52.30.01.00 Olieafscheider in gebouw
B4: Datadefinitie | D4: Olieafscheider in gebouw is een voorziening in een gebouw om olie te scheiden van het water.
B5: Inwininstructie | D5: Het deksel van de olieafscheider is meestal opgenomen in de vloer van de desbetreffende ruimte.
B6: Inwininstructie | D6: Veelal staat op het deksel om welk soort afscheider het gaat.
B8: BRV
B10: Objectcode | D10: =IF(ISBLANK(Voorblad!B$16),"",(Voorblad!B$16)) -> 51B12
B12: Gebouwcode | D12: =IF(ISBLANK(Voorblad!B$17),"",(Voorblad!B$17)) -> 248
B14: Bouwlaagcode | C14: >
D15: 0
D16: 1
D17: 2
D18: 3
D19: 4
D20: 5
D21: 6
D22: 7
D23: 8
D24: 9
D25: 10
D26: 11
... D40: Z
B42: Ruimtecode | E42: Ruimtecode volgens registratie door VGI in BRV.
B44: RBI
B46: BI-code | D46: < intern VGI nummer > | E46: BI-code om component/toepassing uniek aan te duiden. Niet invullen. Het betreft een intern VGI nummer
B48: Aantal | D48: < 1 >
B50: Fabrikaat
B52: Type
B54: Nadere locatiebepaling | E54: Vrij veld om de locatie van de installatie te verduidelijken.
B56: Bouwjaar
B58: Nadere specificatie bwd/instl | E58: Vrij veld om specifieke kenmerken van de installatie aan te geven.
B60: Inhoud in m3 | E60: Inhoud t.b.v. schoonmaakcontract.
B62: Specifiek
B64: Automatische doormelding | C64: > | E64: Indien zwaailamp van olieafscheider fysiek aanwezig is dan waarde in veld "Automatische doormelding" is "ja".
D65: Ja
D66: Nee
B68: Coalescentiefilter | C68: > | E68: Een filter welke d.m.v. cohesie ervoor zorgt dat oliedeeltjes grotere druppels vormen die gaan drijven en zodoende te verwijderen zijn.
D69: Ja
D70: Nee
B72: Zandvang | C72: > | E72: Ook wel slibvangput genoemd, is een put of goot waarin de zwaardere delen in het water door de zwaartekracht zinken naar de bodem en zodoende te verwijderen zijn.
D73: Ja
D74: Nee
B76: Capaciteit in l/s

Sheet 52.36.01.00
B1: Component | D1: Pomp in gebouw
B2: versie 6.4 dd 04-10-2018 | D2: 52.36.01.00 Pomp in gebouw
B4: Datadefinitie | D4: Pomp in gebouw is een voorziening in het terrein voor het transporteren en afvoeren van (vuil)water.
B5: Inwininstructie | D5: Het betreft hier geen pompen tbv voertuig- en vliegtuigwasinstallaties, waterzuiveringsinstallaties, drukverhogingsinstallaties, grondwateronttreking, bluswatervoorzieningen, beregeningsinstallaties, etc. Deze pompen worden separaat in RBI geregistreerd.
B7: BRV
B9: Objectcode | D9: =IF(ISBLANK(Voorblad!B$16),"",(Voorblad!B$16)) -> 51B12
B11: Gebouwcode | D11: =IF(ISBLANK(Voorblad!B$17),"",(Voorblad!B$17)) -> 248
B13: Bouwlaagcode | C13: >
D14: 0
D15: 1
D16: 2
D17: 3
D18: 4
D19: 5
D20: 6
D21: 7
D22: 8
D23: 9
D24: 10
D25: 11
... D39: Z
B41: Ruimtecode | E41: Ruimtecode volgens registratie door VGI in BRV.
B43: RBI
B45: BI-code | D45: < intern VGI nummer > | E45: BI-code om component/toepassing uniek aan te duiden. Niet invullen. Het betreft een intern VGI nummer
B47: Aantal | D47: < 1 >
B49: Fabrikaat
B51: Type | E51: Het typenummer overnemen van de kentekenplaat
B53: Serienummer | E53: Het serienummer overnemen van de kentekenplaat
B55: Installatienummer
B57: Nadere locatiebepaling | E57: Vrij veld om de locatie van de installatie te verduidelijken.
B59: Bouwjaar
B61: Nadere specificatie bwd/instl | E61: Vrij veld om specifieke kenmerken van de installatie aan te geven.
B63: Specifiek
B65: Soort vuilwaterpomp | C65: > | E65: Voor het soort vuilwaterpomp een keuze maken uit 'Picklist type systeem'.
D66: Nader te bepalen
D67: DWA
D68: RWA
D69: Drainage
D70: Lek- en condenswater
D71: Poldergemaal
D72: Grijswater
B74: Meerpompssysteem | C74: > | E74: Een meerpompsopstelling is een opstelling waarin meerdere pompen water uit hetzelfde circuit transporteren en/of afvoeren.
B76: Configuratie pompsysteem (stuks) | E76: Van elke pomp dienen wel alle gegevens apart te worden geregistreerd.
E77: Als "meerpompssysteem" is "Ja", dan moet "systeemnummer" verplicht gevuld worden. Per systeem wordt dezelfde codering ingevuld met eerst S1 en vervolgens S2 etc.etc.
B79: Systeemnummer | E79: Alleen vullen indien de pomp onderdeel is van een meerpompssysteem. Alle pompen die tot hetzelfde systeem behoren krijgen dezelfde systeemcode
E80: Als "meerpompssysteem" is "Ja", dan moet "systeemnummer" verplicht gevuld worden. Per systeem wordt dezelfde codering ingevuld met eerst S1 en vervolgens S2 etc.etc.
B82: Verantwoordelijk vakgebied | C82: > | E82: Het vakgebied dat verantwoordelijk is voor het onderhoud en functioneren van het systeem.
D83: Ondergrondse Infra
D84: Waterbouw
D85: Werktuigbouw
B87: Automatische doormelding | C87: >
D88: Ja
D89: Nee
B91: Pompcapaciteit in m3/h | E91: Hier de capaciteit van de individuele pomp registreren.
B93: Vermogen in kW | E93: Hier het vermogen van de individuele pomp registreren.
B95: Debietmeter | C95: > | E95: Indien meerdere pompen aanwezig zijn, de debietmeter alleen registreren bij de pomp met laagste DVD code.
D96: Ja
D97: Nee
B99: Locatie schakelkast | E99: De schakelkast van de pomp (het pompsysteem) bevindt zich meestal in de nabijheid van de pomp, maar kan zich ook in een naastgelegen ruimte bevinden.
E100: Indien meerdere pompen aanwezig zijn, de schakelkast alleen registreren bij de pomp met laagste DVD code. Indien schakelkast in naastgelegen ruimte als nadere locatiebepaling, bouwlaag en ruimtenummer vermelden.
B102: Type niveausignalering | C102: > | E102: Indien meerdere pompen aanwezig zijn, de niveausignalering alleen registreren bij de pomp met laagste DVD code.
E103: Voor het type niveausignalering een keuze maken uit de 'Picklist type niveausignalering'.
D104: Vlotterbal
D105: Drukdoos
D106: Ultrasoon
D107: Overig

Sheet 52.51.01.00
B1: Component | D1: Waterzuiveringsinstallatie
B2: versie 6.0 dd 11-09-2009 | D2: 52.51.01.00 Waterzuiveringsinstallatie
B4: Datadefinitie | D4: Waterzuiveringsinstallatie is een installatie voor het zuiveren van vuilwater.
B5: Inwininstructie | D5: Geen.
B7: BRV
B9: Objectcode | D9: =IF(ISBLANK(Voorblad!B$16),"",(Voorblad!B$16)) -> 51B12
B11: Gebouwcode | D11: =IF(ISBLANK(Voorblad!B$17),"",(Voorblad!B$17)) -> 248 | E11: De gebouwcode registreren van het gebouw waarin de pompen zich bevinden.
B13: RBI
B15: Aantal | D15: < 1 >
B17: Nadere locatiebepaling | E17: Vrij veld om de locatie van de installatie te verduidelijken.
B19: Nadere specificatie bwd/instl | E19: Vrij veld om specifieke kenmerken van de installatie aan te geven.
B21: Specifiek

Sheet 53.10.00.00
B1: Component | D1: Innamepunt drinkwater in gebouw
B2: versie 6.7 dd 06-11-2017 | D2: 53.10.00.00
B4: Datadefinitie | D4: Innamepunt drinkwater in gebouw is een meter die de inname meet van een NUTS bedrijf van drinkwater voor een deel of het gehele gebouw.
B5: Inwininstructie | D5: Geen.
B7: BRV
B9: Objectcode | D9: =IF(ISBLANK(Voorblad!B$16),"",(Voorblad!B$16)) -> 51B12
B11: Gebouwcode | D11: =IF(ISBLANK(Voorblad!B$17),"",(Voorblad!B$17)) -> 248
B13: Bouwlaagcode | C13: >
D14: 0
D15: 1
D16: 2
D17: 3
D18: 4
D19: 5
D20: 6
D21: 7
D22: 8
D23: 9
D24: 10
D25: 11
... D39: Z
B41: Ruimtecode | E41: Ruimtecode volgens registratie door VGI in BRV.
B43: RBI
B45: BI-code | D45: < intern VGI nummer > | E45: BI-code om component/toepassing uniek aan te duiden. Niet invullen. Het betreft een intern VGI nummer
B47: Aantal | D47: < 1 >
B49: Fabrikaat
B51: Installatienummer | E51: Dit betreft de meternummer.
B53: Nadere locatiebepaling | E53: Vrij veld om de locatie van de installatie te verduidelijken.
B55: Bouwjaar
B57: Nadere specificatie bwd/instl | E57: Vrij veld om specifieke kenmerken van de installatie aan te geven.
B59: Specifiek
B61: Verbruik >= 100 m3 (per dag) | C61: > | E61: Indien verbruik op jaarbasis minimaal 36500 m3 -10% is, dan is verbruik per dag meer dan 100 m3. Initiele opgave via KCK. Daarna de verbruikscijfers jaarlijks opvragen bij CD/VGM en indien nodig muteren.
D63: Ja
D64: Nee
B66: Uitlezing | C66: > | E66: Bij CD/VGM na te gaan.
D67: Van installatie
D68: Op afstand

Sheet 53.10.01.00
B1: Component | D1: Leidingwaterinstallatie in gebouw
B2: versie 6.6 dd 17-07-2019 | D2: 53.10.01.00 Leidingwaterinstallatie in gebouw
B4: Datadefinitie | D4: Leidingwaterinstallatie in gebouw is het geheel van leidingwaterleidingen in een afzonderlijk gebouw waarin in ieder geval een drinkwaterinstallatie is opgenomen.
B5: Inwininstructie | D5: Geen.
B7: BRV
B9: Objectcode | D9: =IF(ISBLANK(Voorblad!B$16),"",(Voorblad!B$16)) -> 51B12
B11: Gebouwcode | D11: =IF(ISBLANK(Voorblad!B$17),"",(Voorblad!B$17)) -> 248
B13: RBI
B15: BI-code | D15: < intern VGI nummer > | E15: BI-code om component/toepassing uniek aan te duiden. Niet invullen. Het betreft een intern VGI nummer
B17: Aantal | D17: < 1 >
B19: Bouwjaar
B21: Specifiek
B23: Risicoklasse lwi | C23: > | E23: De indeling per risicoklasse komt voor uit wet- en regelgeving en de Nota van Dien. Aanpassen van de risicoklasse kan na overleg
D24: Prioritair
D25: Zorgplicht Defensie
D26: Zorgplicht overig (default)
E27: met en goedkeuring door cluster Keuringen plaatsvinden.
B29: Warmwatercirculatiesysteem | C29: > | E29: Warmwater wordt via retourleiding teruggebracht naar warmwatervoorziening. Warmwatercirculatiesysteem kan alleen
D30: Ja
D31: Nee
E32: voorkomen bij een CV-ketel met attribuut tapwatervoorziening = ja, een boiler en een warmtewisselaar. Herkenbaar aan
E33: aanwezigheid van pomp in retourleiding.
B35: Aerosolvormende tappunten | C35: > | E35: Tappunt voor (drink)water waarbij het uitstromende water kan worden verneveld, bijvoorbeeld douches, brandslanghaspels etc,
E36: Indien in een gebouw één of meerdere aeorosolvormende tappunten aanwezig is/zijn, dient hier "Ja" te worden ingevuld.
D37: Ja
D38: Nee
B40: Meter | C40: > | E40: Met de "meter" wordt bedoeld de watermeter in het gebouw niet zijnde de hoofdmeter.
D41: Ja
D42: Nee
B44: Niet controleerbare keerkleppen (stuks) | E44: Voor het verplicht vervangen van niet controleerbare keerkleppen is het van belang te weten of deze in het gebouw aanwezig zijn.
E45: Het aantal niet controleerbare keerkleppen zal tijdens de uitvoering van het contract moeten worden bepaald.

Sheet 53.12.02.00
B1: Component | D1: Grondwateronttrekkingssysteem gebouwgebonden
B2: versie 6.2 dd 23-12-2011 | D2: 53.12.02.00 Grondwateronttrekkingssysteem gebouwgebonden
B4: Datadefinitie | D4: Grondwateronttrekkingssysteem gebouwgebonden is een voorziening in een gebouw om grondwater op te pompen.
B5: Inwininstructie | D5: De eventueel aanwezige drukverhogings (hydrofoor) installatie separaat registreren.
B7: BRV
B9: Objectcode | D9: =IF(ISBLANK(Voorblad!B$16),"",(Voorblad!B$16)) -> 51B12
B11: Gebouwcode | D11: =IF(ISBLANK(Voorblad!B$17),"",(Voorblad!B$17)) -> 248
B13: Bouwlaagcode | C13: >
D14: 0
D15: 1
D16: 2
D17: 3
D18: 4
D19: 5
D20: 6
D21: 7
D22: 8
D23: 9
D24: 10
D25: 11
... D39: Z
B41: Ruimtecode | E41: Ruimtecode volgens registratie door VGI in BRV.
B43: RBI
B45: BI-code | C45: > | D45: < intern VGI nummer > | E45: BI-code om component/toepassing uniek aan te duiden. Niet invullen. Het betreft een intern VGI nummer
D46: Retour in bodem
D47: Retour vuilwaterriolering
D48: Retour hemelwaterriolering
B50: Aantal | D50: < 1 >
B52: Fabrikaat
B54: Type
B56: Serienummer
B58: Installatienummer
B60: Nadere locatiebepaling | E60: Vrij veld om de locatie van de installatie te verduidelijken.
B62: Bouwjaar
B64: Nadere specificatie bwd/instl | E64: Vrij veld om specifieke kenmerken van de installatie aan te geven.
B66: Specifiek
B68: Afvoerwijze grondwater | C68: > | E68: Gegevens halen uit de melding of vergunning (onttrekking/lozing).
D69: Retour in bodem
D70: Retour vuilwaterriolering
D71: Retour hemelwaterriolering
B73: Capaciteit in m3/h | C73: >
B75: Diepte onttrekking in m | E75: Diepte t.o.v. maaiveld.
B77: Soort grondwateronttrekkingssysteem | C77: >
D78: Koeling/verwarming
D79: Koude-warmte opslag
B81: Verbruiksmeter aanwezig | C81: >
D82: Ja
D83: Nee

Sheet 53.13.01.00
B1: Component | D1: Drinkwaterreservoir
B2: versie 6.2 dd 07-04-2016 | D2: 53.13.01.00 Drinkwaterreservoir
B4: Datadefinitie | D4: Drinkwaterreservoir is een bufferopslag van leidingwater met continue of afsluitbare doorstroom naar het achterliggende leidingwaternet.
B5: Inwininstructie | D5: Opslagruimte voor drinkwater dient in BRV te worden geregistreerd als "Berging drinkwater".
B6: Inwininstructie | D6: Bluswaterkelders dienen niet onder deze component te worden geregistreerd. Dit zijn waterreservoirs die op geen enkele wijze het drinkwaterleidingnet voeden.
B8: BRV
B10: Objectcode | D10: =IF(ISBLANK(Voorblad!B$16),"",(Voorblad!B$16)) -> 51B12
B12: Gebouwcode | D12: =IF(ISBLANK(Voorblad!B$17),"",(Voorblad!B$17)) -> 248
B14: Bouwlaagcode | C14: >
D15: 0
D16: 1
D17: 2
D18: 3
D19: 4
D20: 5
D21: 6
D22: 7
D23: 8
D24: 9
D25: 10
D26: 11
... D40: Z
B42: Ruimtecode | E42: Ruimtecode volgens registratie door VGI in BRV.
B44: RBI
B46: BI-code | D46: < intern VGI nummer > | E46: BI-code om component/toepassing uniek aan te duiden. Niet invullen. Het betreft een intern VGI nummer
B48: Aantal | D48: < 1 >
B50: Nadere locatiebepaling | E50: Vrij veld om de locatie van de installatie te verduidelijken.
B52: Nadere specificatie bwd/instl | E52: Vrij veld om specifieke kenmerken van de installatie aan te geven.
B54: Inhoud in m3
B56: Specifiek
B58: Soort drinkwaterreservoir | C58: >
D59: Breektank
D60: Reinwaterkelder
D61: Nooddrinkwaterkelder
D62: Nooddrinkwatertank
E64: Breektank: Vrije uitstroming vanuit drinkwaterleidingnet of bron boven een hoogst mogelijk waterniveau in het reservoir naar het achterliggende drinkwaterleidingnet
E66: Reinwaterkelder: permanente doorstroom vanuit drinkwaterleidingnet of bron door reservoir naar achterliggende drinkwaterleidingnet
E68: Nooddrinkwaterkelder: geen permanente doorstroom van drinkwater. In geval van nood doorstroom te regelen d.m.v. afsluiters.
E70: Nooddrinkwatertank: meestal geplaatst in bunker. Geen doorstroom. Gevoed door drinkwaterleidingnet of eigen bron.
B72: Materiaal drinkwaterreservoir | C72: >
D73: Beton
D74: Staal
D75: Staal in beton
D76: Kunststof

Sheet 53.14.01.00
B1: Component | D1: Drukverhogingsinstallatie gebouw gebonden
B2: versie 6.1 dd 23-12-2011 | D2: 53.14.01.00 Drukverhogingsinstallatie gebouw gebonden
B4: Datadefinitie | D4: Drukverhogingsinstallatie gebouw gebonden is een installatie ten behoeve van het verkrijgen van de gewenste druk in een (bepaald deel van de) waterleidingsinstallatie.
B5: Inwininstructie | D5: Het eventueel aanwezige grondwaterontrekkingssysteem separaat registreren.
B7: BRV
B9: Objectcode | D9: =IF(ISBLANK(Voorblad!B$16),"",(Voorblad!B$16)) -> 51B12
B11: Gebouwcode | D11: =IF(ISBLANK(Voorblad!B$17),"",(Voorblad!B$17)) -> 248
B13: Bouwlaagcode | C13: >
D14: 0
D15: 1
D16: 2
D17: 3
D18: 4
D19: 5
D20: 6
D21: 7
D22: 8
D23: 9
D24: 10
D25: 11
... D39: Z
B41: Ruimtecode | E41: Ruimtecode volgens registratie door VGI in BRV.
B43: RBI
B45: BI-code | D45: < intern VGI nummer > | E45: BI-code om component/toepassing uniek aan te duiden. Niet invullen. Het betreft een intern VGI nummer
B47: Aantal | D47: < 1 >
B49: Fabrikaat
B51: Type
B53: Serienummer
B55: Installatienummer
B57: Nadere locatiebepaling | E57: Vrij veld om de locatie van de installatie te verduidelijken.
B59: Bouwjaar
B61: Nadere specificatie bwd/instl | E61: Vrij veld om specifieke kenmerken van de installatie aan te geven.
B63: Specifiek
B65: Brandblusvoorziening aangesloten | C65: >
D66: Ja
D67: Nee
B69: Capaciteit drukverhogingsinstallatie in l/s

Sheet 53.20.01.00
B1: Component | D1: Zonnecollector
B2: versie 6.3 dd 05-12-2018 | D2: 53.20.01.00 Zonnecollector
B4: Datadefinitie | D4: Een zonnecollector is een installatie, bestaande uit een of meerdere collectoren inclusief bijbehorend leidingwerk, ten behoeve van het indirect opwarmen van tapwater
B5: Inwininstructie | D5: Allleen de zonnecollector(en) dienen hier te worden geregistreerd. De tapwaterinstallatie wordt separaat geregistreerd.
B7: BRV
B9: Objectcode | D9: =IF(ISBLANK(Voorblad!B$16),"",(Voorblad!B$16)) -> 51B12
B11: Gebouwcode | D11: =IF(ISBLANK(Voorblad!B$17),"",(Voorblad!B$17)) -> 248
B13: RBI
B15: BI-code | D15: < intern VGI nummer > | E15: BI-code om component/toepassing uniek aan te duiden. Niet invullen. Het betreft een intern VGI nummer
B17: Aantal | D17: < 1 >
B19: Fabrikaat
B21: Type
B23: Serienummer | E23: Van identieke collectoren het serienummer van 1 zonnecollector registreren.
B25: Installatienummer | E25: Van identieke collectoren het installatienummer van 1 zonnecollector registreren.
B27: Nadere locatiebepaling | E27: Vrij veld om de locatie van de installatie te verduidelijken.
B29: Bouwjaar
B31: Nadere specificatie bwd/instl
B33: Oppervlakte in m2 | E33: Totale oppervlakte van alle identieke panelen (is van belang voor de milieurapportage)
B35: Specifiek
B37: Meter | C37: >
D38: Ja
D39: Nee
B41: Aantal collectoren | E41: Het aantal identieke collectoren registreren met afmetingen. <aantal (N,0), b<m1> (N,3) x h<m1> (N,3)>

Sheet 53.30.01.00
B1: Component | D1: Voertuig- en vliegtuigwasinstallatie in gebouw
B2: versie 6.1 dd 23-12-2011 | D2: 53.30.01.00 Voertuig- en vliegtuigwasinstallatie in gebouw
B4: Datadefinitie | D4: Voertuig- en vliegtuigwasinstallatie in gebouw is een installatie om voertuigen of vliegtuigen te wassen in een gebouw.
B5: Inwininstructie | D5: Alleen permanent opgestelde installaties registreren.
B7: BRV
B9: Objectcode | D9: =IF(ISBLANK(Voorblad!B$16),"",(Voorblad!B$16)) -> 51B12
B11: Gebouwcode | D11: =IF(ISBLANK(Voorblad!B$17),"",(Voorblad!B$17)) -> 248
B13: Bouwlaagcode | C13: >
D14: 0
D15: 1
D16: 2
D17: 3
D18: 4
D19: 5
D20: 6
D21: 7
D22: 8
D23: 9
D24: 10
D25: 11
... D39: Z
B41: Ruimtecode | E41: Ruimtecode volgens registratie door VGI in BRV.
B43: RBI
B45: BI-code | D45: < intern VGI nummer > | E45: BI-code om component/toepassing uniek aan te duiden. Niet invullen. Het betreft een intern VGI nummer
B47: Aantal | D47: < 1 >
B49: Fabrikaat
B51: Type
B53: Nadere locatiebepaling | E53: Vrij veld om de locatie van de installatie te verduidelijken.
B55: Bouwjaar
B57: Nadere specificatie bwd/instl | E57: Vrij veld om specifieke kenmerken van de installatie aan te geven.
B59: Specifiek
B61: Recirculatiesysteem | C61: >
D62: Ja
D63: Nee

Sheet 53.31.01.00
B1: Component | D1: Waterbehandelingsinstallatie
B2: versie 6.4 dd 05-08-2019 | D2: 53.31.01.00 Waterbehandelingsinstallatie
B4: Datadefinitie | D4: Waterbehandelingsinstallatie is een installatie om (leiding)water te behandelen zodat het geschikt is voor gebruik als drinkwater (voor consumptie) of proceswater (bedrijfswater voor o.a. wassen en spoelen)
B6: Inwininstructie | D6: Waterzuiveringsinstallaties die bedoeld zijn voor het zuiveren van water voordat het op het riool (of open water) wordt geloosd, dienen separaat als Afvalwaterzuiveringsinstallaties te worden geregistreerd.
B8: BRV
B10: Objectcode | D10: =IF(ISBLANK(Voorblad!B$16),"",(Voorblad!B$16)) -> 51B12
B12: Gebouwcode | D12: =IF(ISBLANK(Voorblad!B$17),"",(Voorblad!B$17)) -> 248
B14: Bouwlaagcode | C14: >
D15: 0
D16: 1
D17: 2
D18: 3
D19: 4
D20: 5
D21: 6
D22: 7
D23: 8
D24: 9
D25: 10
D26: 11
... D40: Z
B42: Ruimtecode | E42: Ruimtecode volgens registratie door VGI in BRV.
B44: RBI
B46: BI-code | E46: BI-code om component/toepassing uniek aan te duiden
B48: Aantal | D48: < 1 >
B50: Fabrikaat
B52: Type
B54: Nadere locatiebepaling | E54: Vrij veld om de locatie van de installatie te verduidelijken.
B56: Bouwjaar
B58: Nadere specificatie bwd/instl | E58: Vrij veld om specifieke kenmerken van de installatie aan te geven.
B60: Inhoud in m3
B62: Specifiek
B64: Soort waterbehandeling | E64: =INDEX(water,B67) -> Hier kan het type waterbehandelingsinstallatie worden ingevuld. De inwininstructie is op het tabblad keuzelijsten terug te vinden
D65: Nader te bepalen (Default) | E65: Hier kan het type waterbehandelingsinstallatie worden ingevuld. De inwininstructie is op het tabblad keuzelijsten terug te vinden
D66: Waterontharding | E66: Water-onthardinstallatie is een installatie om leidingwater te ontdoen van kalk
B67: 1 | D67: Demi waterinstallatie | E67: Demi-waterinstallatie is een installatie om leidingwater te ontdoen van zouten/ionen.
D68: Waterzuivering | E68: Waterzuiveringsinstallatie is een installatie voor het zuiveren van leidingwater of bronwater tbv consumptie of van vuilwater tbv hergebruik
D69: Alternatieve techniek legionella | E69: Installatie om groei van legionella tegen te gaan.
B71: Gebruiksdoel waterbehandeling | C71: > | E71: Hier dient te worden ingevuld voor welk gebruiksdoel het behandelde water is
D72: Nader te bepalen (Default)
D73: Drinkwater
D74: Vaatwasinstallatie
D75: Voertuig- of vliegtuigwasinstallatie
D76: Hogedrukreinigingsinstallatie
D77: Koelwater luchtbehandeling
D78: Natte koeltoren
B80: Proces waterontharding | C80: > | E80: Hier kan het proces voor het ontharden van het water worden aangegeven. Zie picklist
D81: Nader te bepalen (Default)
D82: Niet van toepassing
D83: Ionenwisselaar
D84: Omgekeerde osmose
D85: Elektromagnetisme
E86: Wanneer soort waterbehandeling is 'Waterontharding', alleen Proces waterontharding invullen. Voor overige behandelingen 'Niet van toepassing' invullen.
B88: Proces demineraliseren | C88: > | E88: Hier kan het proces voor het demineraliseren van het water worden aangegeven. Zie picklist
D89: Nader te bepalen (Default)
D90: Niet van toepassing
D91: Ionenwisselaar
D92: Omgekeerde osmose
D93: Ultrafiltratie
D94: Membraanfiltratie
D95: Koolstoffiltratie
E96: Wanneer soort waterbehandeling is 'Demineraliseren', alleen Proces demi-waterinstallatie invullen. Voor overige behandelingen 'Niet van toepassing' invullen.
B98: Proces waterzuivering | C98: > | E98: Met water zuivering wordt het proces bedoeld, waarmee water geschikt wordt gemaakt voor (her)gebruik).
E99: Waterzuivering kan zowel vooraf als na gebruik plaatsvinden . Voor het proeces voor waterzuivering kan een keuze worden gemaakt uit de picklist
E100: Wanneer soort waterbehandeling is 'Waterzuivering', alleen Proces waterzuivering invullen. Voor overige behandelingen 'Niet van toepassing' invullen.
D101: Nader te bepalen (Default)
D102: Niet van toepassing
D103: Regeneratie
D104: Beluchting
D105: Zandfiltratie
D106: Membraanfiltratie
D107: Actieve koolstoffiltratie
D108: Desinfectie
B110: Type alternatieve techniek legionella | C110: > | E110: Hier kan het type alternatieve techniek tbv legionellabeheersing worden aangegeven . Zie picklist
D111: Nader te bepalen (Default)
D112: Niet van toepassing
D113: Thermische desinfectie
D114: Verwarmingslint
D115: Circulerend water
D116: Ultrafiltratie
D117: Pasteurisatie
D118: UV licht
D119: Foto chemisch beheer (AOT)
D120: Koper-zilver ionisatie
D121: Anodische oxidatie
E122: Wanneer soort waterbehandeling is 'Álternatieve techniek legiolnella', alleen Type alternatieve techniek invullen. Voor overige behandelingen 'Niet van toepassing' invullen.
B124: Alternatieve techniek Gecertificeerd | C124: > | E124: Alternatieve technieken moeten wettelijk verplicht gecertificeerd zijn.
D125: Nader te bepalen (Default)
D126: Ja
D127: Nee
B129: Soort water | C129: > | E129: Drinkwater is water bedoeld voor consumptie. Wettelijk PO, Proceswater is bedoeld voor spoelen en wassen. Niet wettelijk PO
D130: Nader te bepalen (Default)
D131: Drinkwater
D132: Proceswater

Sheet 53.34.01.00
B1: Component | D1: Zwembadwaterinstallatie
B2: versie 6.0 dd 17-09-2009 | D2: 53.34.01.00 Zwembadwaterinstallatie
B4: Datadefinitie | D4: Zwembadwaterinstallatie is een installatie ten behoeve van het instand houden van de optimale waterkwaliteit van het zwembadwater.
B5: Inwininstructie | D5: Betekent dat alleen geregistreerd wordt dat er een Zwembadwaterinstallatie is. De ruimte (machinekamer) registreren waarin de installatie zich (in hoofdzaak) bevindt.
B7: BRV
B9: Objectcode | D9: =IF(ISBLANK(Voorblad!B$16),"",(Voorblad!B$16)) -> 51B12
B11: Gebouwcode | D11: =IF(ISBLANK(Voorblad!B$17),"",(Voorblad!B$17)) -> 248
B13: Bouwlaagcode | C13: >
D14: 0
D15: 1
D16: 2
D17: 3
D18: 4
D19: 5
D20: 6
D21: 7
D22: 8
D23: 9
D24: 10
D25: 11
... D39: Z
B41: Ruimtecode | E41: Ruimtecode volgens registratie door VGI in BRV.
B43: RBI
B45: Aantal | D45: < 1 >
B47: Bouwjaar
B49: Nadere specificatie bwd/instl | E49: Vrij veld om specifieke kenmerken van de installatie aan te geven.
B51: Specifiek

Sheet 53.34.02.00
B1: Component | D1: Zwembadvoorziening algemeen
B2: versie 6.0 dd 27-05-2019 | D2: 53.34.02.00 Zwembadvoorziening algemeen
B4: Datadefinitie | D4: Zwembadvoorziening algemeen is een voorzieningen die specifiek voor de bedrijfsvoering in een zwembad van toepassing is.
B5: Inwininstructie | D5: Onder deze componentsoort kunnen één of meerdere voorzieningen worden geregistreerd die specifiek op het gebruik van het zwembad van toepassing zijn.
B7: BRV
B9: Objectcode | D9: =IF(ISBLANK(Voorblad!B$16),"",(Voorblad!B$16)) -> 51B12
B11: Gebouwcode | D11: =IF(ISBLANK(Voorblad!B$17),"",(Voorblad!B$17)) -> 248
B13: Bouwlaagcode | C13: >
D14: 0
D15: 1
D16: 2
D17: 3
D18: 4
D19: 5
D20: 6
D21: 7
D22: 8
D23: 9
D24: 10
D25: 11
... D39: Z
B41: Ruimtecode | E41: Ruimtecode volgens registratie door VGI in BRV.
B43: RBI
B45: BI-code | D45: < intern VGI nummer > | E45: BI-code om component/toepassing uniek aan te duiden. Niet invullen. Het betreft een intern VGI nummer
B47: Aantal | D47: < 1 >
B49: Bouwjaar
B51: Nadere specificatie bwd/instl | E51: Vrij veld om specifieke kenmerken van de installatie aan te geven.
B53: Specifiek
B55: Beweegbare bodem | C55: > | E55: Om het onderhoud aan deze voorzieningen in te kunnen regelen is er voor gekozen deze tijdelijk als attribuut bij het component
E56: zwembadwaterinstallatie onder te brengen
D57: Ja
D58: Nee
B59: Soort waterbehandeling | C59: > | E59: De soort waterbehandeling
D60: Nader te bepalen (Default)
D61: Geen
D62: Chloor
D63: Ultraviolet (UV)
D64: Zout-elektrolyse (ZE)
D65: Ozon (O)
D66: Advanced Oxydation System (AOS)
B68: RVS toepassingen | C68: > | E68: Met RVS toepassingen worden voorzieningen bedoeld van niet-resistent RVS met een dragende functie in de spatwaterzone van
E69: een zwembad.
D70: Ja
D71: Nee
B73: Voorzieningen mindervaliden | C73: > | E73: Om het onderhoud aan deze voorzieningen in te kunnen regelen is er voor gekozen deze tijdelijk als attribuut bij het component
E74: zwembadwaterinstallatie onder te brengen
D75: Ja
D76: Nee

Sheet 53.40.01.00
B1: Component | D1: Stoomketel
B2: versie 6.2 dd 23-12-2011 | D2: 53.40.01.00 Stoomketel
B4: Datadefinitie | D4: Stoomketel is een installatie voor het opwekken van gebruiksstoom.
B5: Inwininstructie | D5: Geen.
B7: BRV
B9: Objectcode | D9: =IF(ISBLANK(Voorblad!B$16),"",(Voorblad!B$16)) -> 51B12
B11: Gebouwcode | D11: =IF(ISBLANK(Voorblad!B$17),"",(Voorblad!B$17)) -> 248
B13: Bouwlaagcode | C13: >
D14: 0
D15: 1
D16: 2
D17: 3
D18: 4
D19: 5
D20: 6
D21: 7
D22: 8
D23: 9
D24: 10
D25: 11
... D39: Z
B41: Ruimtecode | E41: Ruimtecode volgens registratie door VGI in BRV.
B43: RBI
B45: BI-code | D45: < intern VGI nummer > | E45: BI-code om component/toepassing uniek aan te duiden. Niet invullen. Het betreft een intern VGI nummer
B47: Aantal | D47: < 1 >
B49: Fabrikaat
B51: Type
B53: Serienummer
B55: Installatienummer
B57: Nadere locatiebepaling | E57: Vrij veld om de locatie van de installatie te verduidelijken.
B59: Bouwjaar
B61: Nadere specificatie bwd/instl | E61: Vrij veld om specifieke kenmerken van de installatie aan te geven.
B63: Inhoud in m3
B65: Specifiek
B67: Maximale nominale vermogen in kW | E67: Indien vermogen > 900 Kw dan gegeven registreren dat op installatie bij "Nominaal vermogen" staat.
B69: Max nom belasting bovenwaarde in kW
B71: Werktemperatuur in graden C | E71: Aflezen van typeplaatje.
B73: Werkdruk in bar | E73: Aflezen van typeplaatje.
B75: Brandstof | C75: > | E75: Soort gebruikte brandstof.
D76: Aardgas
D77: HBO
D78: HBO+aardgas
B80: Voorzetbrander fabrikaat
B82: Voorzetbrander type
B84: Voorzetbrander serienummer
B86: Voorzetbrander bouwjaar
B88: Stenen rookgasafvoer | C88: > | E88: Indien metalen rookgasafvoer zich boven het dak bevindt , dan bij "Stenen rookgasafvoer", "nee" invullen.
D89: Ja
D90: Nee
B92: T.b.v. het verwarmen van ruimte(n) | C92: >
D93: Ja
D94: Nee

Sheet 53.40.02.00
B1: Component | D1: Heetwaterketel
B2: versie 6.1 dd 23-12-2011 | D2: 53.40.02.00 Heetwaterketel
B4: Datadefinitie | D4: Heetwaterketel is een installatie voor het opwekken van heetwater > 110 graden celcius
B5: Inwininstructie | D5: Geen.
B7: BRV
B9: Objectcode | D9: =IF(ISBLANK(Voorblad!B$16),"",(Voorblad!B$16)) -> 51B12
B11: Gebouwcode | D11: =IF(ISBLANK(Voorblad!B$17),"",(Voorblad!B$17)) -> 248
B13: Bouwlaagcode | C13: >
D14: 0
D15: 1
D16: 2
D17: 3
D18: 4
D19: 5
D20: 6
D21: 7
D22: 8
D23: 9
D24: 10
D25: 11
... D39: Z
B41: Ruimtecode | E41: Ruimtecode volgens registratie door VGI in BRV.
B43: RBI
B45: BI-code | D45: < intern VGI nummer > | E45: BI-code om component/toepassing uniek aan te duiden. Niet invullen. Het betreft een intern VGI nummer
B47: Aantal | D47: < 1 >
B49: Fabrikaat
B51: Type
B53: Serienummer
B55: Installatienummer
B57: Nadere locatiebepaling | E57: Vrij veld om de locatie van de installatie te verduidelijken.
B59: Bouwjaar
B61: Nadere specificatie bwd/instl | E61: Vrij veld om specifieke kenmerken van de installatie aan te geven.
B63: Inhoud in m3
B65: Specifiek
B67: Maximale nominale vermogen in kW | E67: Indien vermogen > 900 Kw dan gegeven registreren dat op installatie bij "Nominaal vermogen" staat.
B69: Max nom belasting bovenwaarde in kW
B71: Werktemperatuur in graden C | E71: Aflezen van typeplaatje.
B73: Brandstof | C73: > | E73: Soort gebruikte brandstof.
D74: Aardgas
D75: HBO
D76: HBO+aardgas
B78: Voorzetbrander fabrikaat
B80: Voorzetbrander type
B82: Voorzetbrander serienummer
B84: Voorzetbrander bouwjaar
B86: Stenen rookgasafvoer | C86: > | E86: Indien metalen rookgasafvoer zich boven het dak bevindt , dan bij "Stenen rookgasafvoer", "nee" invullen.
D87: Ja
D88: Nee
B90: T.b.v. het verwarmen van ruimte(n) | C90: >
D91: Ja
D92: Nee

Sheet 54.10.00.00
B1: Component | D1: Innamepunt aardgas in gebouw
B2: versie 6.4 dd 23-12-2011 | D2: 54.10.00.00
B4: Datadefinitie | D4: Innamepunt aardgas in gebouw is een meter die de inname meet van een NUTS bedrijf van aardgas voor een deel of het gehele gebouw.
B5: Inwininstructie | D5: Geen.
B7: BRV
B9: Objectcode | D9: =IF(ISBLANK(Voorblad!B$16),"",(Voorblad!B$16)) -> 51B12
B11: Gebouwcode | D11: =IF(ISBLANK(Voorblad!B$17),"",(Voorblad!B$17)) -> 248
B13: Bouwlaagcode | C13: >
D14: 0
D15: 1
D16: 2
D17: 3
D18: 4
D19: 5
D20: 6
D21: 7
D22: 8
D23: 9
D24: 10
D25: 11
... D39: Z
B41: Ruimtecode | E41: Ruimtecode volgens registratie door VGI in BRV.
B43: RBI
B45: BI-code | D45: < intern VGI nummer > | E45: BI-code om component/toepassing uniek aan te duiden. Niet invullen. Het betreft een intern VGI nummer
B47: Aantal | D47: < 1 >
B49: Fabrikaat
B51: Nadere locatiebepaling | E51: Vrij veld om de locatie van de installatie te verduidelijken.
B53: Bouwjaar
B55: Nadere specificatie bwd/instl | E55: Vrij veld om specifieke kenmerken van de installatie aan te geven.
B57: Specifiek
B59: Uitlezing | C59: >
D60: Op afstand
D61: Van installatie

Sheet 54.40.01.00
B1: Component | D1: Drukinstallatie
B2: versie x.x dd xx.xx.xxxx | D2: 54.40.01.00 Drukinstallatie
B4: Datadefinitie | D4: N.n.b.
B5: Inwininstructie | D5: Geen.
B7: BRV
B9: Objectcode | D9: =IF(ISBLANK(#REF!),"",(#REF!)) -> #REF!
B11: Gebouwcode | D11: =IF(ISBLANK(#REF!),"",(#REF!)) -> #REF!
B13: Bouwlaagcode
D14: 0
D15: 1
D16: 2
D17: 3
D18: 4
D19: 5
D20: 6
D21: 7
D22: 8
D23: 9
D24: 10
D25: 11
... D39: Z
B41: Ruimtecode | E41: Ruimtecode volgens registratie door VGI in BRV.
B43: RBI
B45: DVD-code | E45: Indien 2 of meer installaties voorkomen in 1 ruimte, dient bij de DVD-code een volgnummer ingevuld te worden.
B47: Aantal | D47: < 1 >
B49: Fabrikaat
B51: Type
B53: Serienummer
B55: Installatienummer
B57: Nadere locatiebepaling | E57: Vrij veld om de locatie van de installatie te verduidelijken.
B59: Bouwjaar
B61: Nadere specificatie bwd/instl | E61: Vrij veld om specifieke kenmerken van de installatie aan te geven.
B63: Specifiek

Sheet 55.10.01.00
B1: Component | D1: Koelinstallatie lokaal
B2: versie 6.13 dd 28-05-2019 | D2: 55.10.01.00 Koelinstallatie lokaal
B4: Datadefinitie | D4: Koelinstallatie lokaal is een decentrale voorziening voor lokaal opwekken van koude, welke aard- of nagelvast is verbonden met de ondergrond.
B5: Inwininstructie | D5: Een koelinstallatie die slechts met een stekker is verbonden met het vastgoed en die vrij verplaatsbaar en vervangbaar is door een willekeurige gebruiker, zonder installatietechnische handelingen, wordt niet geregistreerd. In de praktijk zal dit apparaat ook minder dan 3 kg koelmiddel hebben en niet worden onderhouden maar bij uitval worden vervangen.
B6: Inwininstructie | D6: Uitsluitend de buitenunit dient te worden geregistreerd, dit bij de dichtstbijzijnde ruimte.
B8: BRV
B10: Objectcode | D10: =IF(ISBLANK(Voorblad!B$16),"",(Voorblad!B$16)) -> 51B12
B12: Gebouwcode | D12: =IF(ISBLANK(Voorblad!B$17),"",(Voorblad!B$17)) -> 248
B14: Bouwlaagcode | C14: >
D15: 0
D16: 1
D17: 2
D18: 3
D19: 4
D20: 5
D21: 6
D22: 7
D23: 8
D24: 9
D25: 10
D26: 11
... D40: Z
B42: Ruimtecode | E42: Ruimtecode volgens registratie door VGI in BRV.
B44: RBI
B46: BI-code | D46: < intern VGI nummer > | E46: BI-code om component/toepassing uniek aan te duiden. Niet invullen. Het betreft een intern VGI nummer
B48: Aantal | D48: < 1 >
B50: Fabrikaat
B52: Type
B54: Serienummer
B56: Installatienummer
B58: Nadere locatiebepaling | E58: Vrij veld om de locatie van de installatie te verduidelijken.
B60: Bouwjaar
B62: Nadere specificatie bwd/instl | E62: Vrij veld om specifieke kenmerken van de installatie aan te geven.
B64: Specifiek
B66: Soort koelinstallatie lokaal | C66: > | E66: Alleen de drankkoelers registreren die bestaan uit een buiten- en een binnen unit. De buitenunit registreren bij dichstbijzijnde ruimte.
D67: Airco-unit
D68: Drankkoeler
D69: Koel - of vriescel
D70: Uitgiftebalie gekoeld
B72: Categorie koelinstallatie lokaal | C72: >
D73: Comfortkoeling
D74: Computer/apparatuurkoeling
D75: Horecakoeling
D76: Klimaatbeheersing
E78: Alleen de drankkoelers registreren die bestaan uit een buiten- en een binnenunit.
E79: Alleen de computerkoelers registreren die bestaan uit een buiten- en een binnenunit.
E80: Het gaat om bedrijfsprocessen niet zijnde, het bewaren van eet- en drinkwaren of het be-/ of verwerken van voedsel
B82: Nominaal koelvermogen installatie in kW
B84: Nominaal koelvermogen gebouw (comfort) in kW
B86: Split-unit | C86: >
D87: Ja
D88: Nee
B90: Aantal binnen units (stuks)
B92: Hoeveelheid koelmiddel in kg | E92: Hoeveelheid koelmiddel moet vanuit het logboek ( >= 3 kg) dan wel vanaf de kenplaat (typeplaatje) (< 3 kg) worden geregistreerd. Hoeveelheid koelmiddel volgens logboek is maatgevend en betreft het gehele circuit, inclusief leidingen.
B94: Soort koelmiddel | C94: >
D95: AZ20
D96: AZ50
D97: DL36
D98: DL44
D99: FR12
D100: FX10
D101: FX56
D102: FX70
D103: HP62
D104: HP80
D105: HP81
D106: KLEA60
... D211: R142B
B213: GWP-waarde in ton | D213: < intern VGI waarde > | E213: Relatie met soort koelmiddel, opgenomen in de F-gassenverordening (EU) nr. 517/2014
B215: CO2-equivalent inhoud in ton | E215: Het CO2 equivalent wordt berekend door de GWP waarde van het koudemiddel x hoeveelheid koelmiddel.
B217: Hermetisch gesloten | C217: >
D218: Ja
D219: Nee
B221: Lekdetectie aanwezig | C221: >
D222: Ja
D223: Nee
B225: Locatie logboek | E225: Als "CO2 equivalent inhoud" >= 5 ton moet het veld "lokatie logboek" een tekst bevatten
B227: STEK-nummer | E227: STEK-nummer van installateur 1e inbedrijfstelling.

Sheet 55.20.01.00
B1: Component | D1: Koelinstallatie centraal
B2: versie 6.11 dd 28-05-2019 | D2: 55.20.01.00 Koelinstallatie centraal
B4: Datadefinitie | D4: Koelinstallatie centraal is een centrale voorziening ten behoeve van de koeling van meerdere ruimten of het gehele gebouw welke aard- of nagelvast is verbonden met de ondergrond.
B5: Inwininstructie | D5: Uitsluitend de buitenunit dient te worden geregistreerd, dit bij de dichtstbijzijnde ruimte.
B7: BRV
B9: Objectcode | D9: =IF(ISBLANK(Voorblad!B$16),"",(Voorblad!B$16)) -> 51B12
B11: Gebouwcode | D11: =IF(ISBLANK(Voorblad!B$17),"",(Voorblad!B$17)) -> 248
B13: Bouwlaagcode | C13: >
D14: 0
D15: 1
D16: 2
D17: 3
D18: 4
D19: 5
D20: 6
D21: 7
D22: 8
D23: 9
D24: 10
D25: 11
... D39: Z
B41: Ruimtecode | E41: Ruimtecode volgens registratie door VGI in BRV.
B43: RBI
B45: BI-code | D45: < intern VGI nummer > | E45: BI-code om component/toepassing uniek aan te duiden. Niet invullen. Het betreft een intern VGI nummer
B47: Aantal | D47: < 1 >
B49: Fabrikaat
B51: Type
B53: Serienummer
B55: Installatienummer
B57: Nadere locatiebepaling | E57: Vrij veld om de locatie van de installatie te verduidelijken.
B59: Bouwjaar
B61: Nadere specificatie bwd/instl | E61: Vrij veld om specifieke kenmerken van de installatie aan te geven.
B63: Specifiek
B65: Situatie koelinstallatie centraal | C65: > | E65: Lokatie van de condensor.
D66: Aan gevel
D67: In ruimte
D68: In terrein
D69: Op dak
D70: Nader te bepalen
B72: Categorie koelinstallatie | C72: >
D73: Comfortkoeling
D74: Computer/apparatuurkoeling
D75: Horecakoeling
D76: Klimaatbeheersing
E78: Alleen de drankkoelers registreren die bestaan uit een buiten- en een binnenunit.
E79: Alleen de computerkoelers registreren die bestaan uit een buiten- en een binnenunit.
E80: Het gaat om bedrijfsprocessen niet zijnde, het bewaren van eet- en drinkwaren of het be-/ of verwerken van voedsel
B82: Nominaal koelvermogen installatie in kW
B84: Nominaal koelvermogen gebouw (comfort) in kW
B86: Aantal multisplit-units(stuks)
B88: Aantal VRV-units (stuks)
B90: Hoeveelheid koelmiddel in kg | E90: Hoeveelheid koelmiddel moet vanuit het logboek ( >= 3 kg) dan wel vanaf de kenplaat (typeplaatje) (< 3 kg) worden geregistreerd. Hoeveelheid koelmiddel volgens logboek is maatgevend en betreft het gehele circuit, inclusief leidingen.
B92: Soort koelmiddel | C92: > | E92: Bij gemengd systeem het zwaarste koelmiddel registreren
D93: AZ20
D94: AZ50
D95: DL36
D96: DL44
D97: FR12
D98: FX10
D99: FX56
D100: FX70
D101: HP62
D102: HP80
D103: HP81
D104: KLEA60
... D209: R142B
B211: GWP-waarde in ton | D211: < intern VGI waarde > | E211: Relatie met soort koelmiddel, opgenomen in de F-gassenverordening (EU) nr. 517/2014
B213: CO2-equivalent inhoud in ton | E213: Het CO2 equivalent wordt berekend door de GWP waarde van het koudemiddel x hoeveelheid koelmiddel.
B215: Hermetisch gesloten | C215: >
D216: Ja
D217: Nee
B219: Lekdetectie aanwezig | C219: >
D220: Ja
D221: Nee
B223: Locatie logboek | E223: Als "CO2 equivalent inhoud" >= 5 ton moet het veld "lokatie logboek" een tekst bevatten
B225: STEK-nummer | E225: STEK-nummer van installateur 1e inbedrijfstelling.

Sheet 55.20.02.00
B1: Component | D1: Natte koeltoren
B2: versie 6.2 dd 23-12-2011 | D2: 55.20.02.00 Natte koeltoren
B4: Datadefinitie | D4: Natte koeltoren is een installatie waarin warmte wordt onttrokken aan het water d.m.v. verdamping, om te gebruiken als koelmiddel voor allerlei processen in de industrie (waaronder chemie).
B5: Inwininstructie | D5: Een natte koeltoren is een gebouwgebonden installatie dus registreren bij het gebouw waarvoor koeling wordt geleverd.
B7: BRV
B9: Objectcode | D9: =IF(ISBLANK(Voorblad!B$16),"",(Voorblad!B$16)) -> 51B12
B11: Gebouwcode | D11: =IF(ISBLANK(Voorblad!B$17),"",(Voorblad!B$17)) -> 248
B14: RBI
B16: BI-code | D16: < intern VGI nummer > | E16: BI-code om component/toepassing uniek aan te duiden. Niet invullen. Het betreft een intern VGI nummer
B18: Aantal | D18: < 1 >
B20: Fabrikaat
B22: Nadere locatiebepaling | E22: Vrij veld om de locatie van de installatie te verduidelijken.
B24: Bouwjaar
B26: Nadere specificatie bwd/instl | E26: Vrij veld om specifieke kenmerken van de installatie aan te geven.

Sheet 56.10.00.00
B1: Component | D1: Innamepunt stadswarmte in gebouw
B2: versie 6.4 dd 23-12-2011 | D2: 56.10.00.00
B4: Datadefinitie | D4: Innamepunt stadswarmte in gebouw is een meter die de inname meet van een NUTS bedrijf van drinkwater voor een deel of het gehele gebouw.
B5: Inwininstructie | D5: Geen.
B7: BRV
B9: Objectcode | D9: =IF(ISBLANK(Voorblad!B$16),"",(Voorblad!B$16)) -> 51B12
B11: Gebouwcode | D11: =IF(ISBLANK(Voorblad!B$17),"",(Voorblad!B$17)) -> 248
B13: Bouwlaagcode | C13: >
D14: 0
D15: 1
D16: 2
D17: 3
D18: 4
D19: 5
D20: 6
D21: 7
D22: 8
D23: 9
D24: 10
D25: 11
... D39: Z
B41: Ruimtecode | E41: Ruimtecode volgens registratie door VGI in BRV.
B43: RBI
B45: BI-code | D45: < intern VGI nummer > | E45: BI-code om component/toepassing uniek aan te duiden. Niet invullen. Het betreft een intern VGI nummer
B47: Aantal | D47: < 1 >
B49: Fabrikaat
B51: Nadere locatiebepaling | E51: Vrij veld om de locatie van de installatie te verduidelijken.
B53: Bouwjaar
B55: Nadere specificatie bwd/instl | E55: Vrij veld om specifieke kenmerken van de installatie aan te geven.
B57: Specifiek
B59: Uitlezing | C59: >
D60: Op afstand
D61: Van installatie

Sheet 57.71.01.00
B1: Component | D1: Mechanische luchtbehandeling
B2: versie 6.7 dd 15-07-2019 | D2: 57.71.01.00 Mechanische luchtbehandeling
B4: Datadefinitie | D4: Mechanische luchtbehandeling is een verzameling van voorzieningen voor behandeling van lucht t.b.v het binnenklimaat, danwel het afvoeren van al dan niet verontreinigde lucht naar buiten.
B5: Inwininstructie | D5: Geen.
B7: BRV
B9: Objectcode | D9: =IF(ISBLANK(Voorblad!B$16),"",(Voorblad!B$16)) -> 51B12
B11: Gebouwcode | D11: =IF(ISBLANK(Voorblad!B$17),"",(Voorblad!B$17)) -> 248
B13: Bouwlaagcode | C13: >
D14: 0
D15: 1
D16: 2
D17: 3
D18: 4
D19: 5
D20: 6
D21: 7
D22: 8
D23: 9
D24: 10
D25: 11
... D39: Z
B41: Ruimtecode | E41: Een installatie aan of op een gebouw dient te worden geregistreerd in de dichtstbijzijnde ruimte in het gebouw.
E42: Ruimtecode volgens registratie door VGI in BRV.
B43: RBI
B45: BI-code | D45: < intern VGI nummer > | E45: BI-code om component/toepassing uniek aan te duiden. Niet invullen. Het betreft een intern VGI nummer
B47: Aantal | D47: < 1 >
B49: Fabrikaat
B51: Type
B53: Serienummer
B55: Installatienummer
B57: Nadere locatiebepaling | E57: Vrij veld om de locatie van de installatie te verduidelijken.
B59: Bouwjaar
B61: Nadere specificatie bwd/instl | E61: Dit veld gebruiken als op het component een aanduiding staat, zoals code met bestemming. Vb: "4-1 Restaurant e.d."
B63: Specifiek
B65: Soort luchtbehandeling | E65: =INDEX(vervolg,B66) -> Voor de soort luchtbehandeling kan een keuze worden gemaakt uit de <picklist soort luchtbehandeling> Wanneer geen keuze wordt gemaakt wordt 'Nader te bepalen' als defaultwaarde ingevuld.
B66: 1 | D66: Nader te bepalen (Default) | E66: Voor de soort luchtbehandeling kan een keuze worden gemaakt uit de <picklist soort luchtbehandeling> Wanneer geen keuze wordt gemaakt wordt 'Nader te bepalen' als defaultwaarde ingevuld.
D67: LBK luchttoevoer | E67: Apparaat voor de centrale behandeling van, van buitenaf aangevoerde, lucht ten behoeve van ruimtes in een gebouw
D68: LBK lucht afvoer/retour | E68: Apparaat voor de centrale behandeling van, naar buiten af te voeren, lucht ten behoeve van ruimtes in een gebouw
D69: LBK combinatie van toevoer én afvoer | E69: Apparaat voor de centrale behandeling van, zowel aangevoerde, als af te voeren, lucht ten behoeve van ruimtes in een gebouw
D70: (Lucht)droger (buiten LBK gemonteerd) | E70: Apparaat voor het ontvochtigen van lucht, waarna deze wordt ingeblazen. Alleen registreren wanneer het een op zichzelf staande installatie is. Zowel bij op zichzelf staande systemen, als geintegreerde systemen,aangeven welke systeem van drogen wordt toegepast. (zie picklist drogen)
D71: (Lucht)bevochtiger (Buiten LBK gemonteerd) | E71: Apparaat voor het ontvochtigen van lucht, waarna deze wordt ingeblazen. Alleen registreren wanneer het een op zichzelf staande installatie is. Zowel bij op zichzelf staande systemen, als geintegreerde systemen, aangeven welke systeem van bevochtigen wordt toegepast. (zie picklist bevochtigen)
D72: Luchtfilter (Buiten LBK gemonteerd) | E72: Apparaat voor het reinigen van lucht voordat deze naar buiten wordt geblazen. Alleen registreren wanneer het een op zichzelf staande installatie is.
D73: Warmteterugwinunit (buiten LBK gemonteerd) | E73: Apparaat voor het terugwinnen van warmte uit de retourlucht van een gebouw. Alleen registreren wanneer het een op zichzelf staande installatie is. Zowel bij opzichzelf staande als geintregreerde systemen, aangeven welke manier van warmteterugwinning wordt toegepast. (zie picklist warmteterugwinning)
D74: Brandklep
D75: Ventilatorconvector/Airconditioner | E75: Apparaat voor het inblazen van lucht in een ruimte waarbij de lucht in de unit wordt verwarmd/gekoeld en is voorzien van een ventilator. Alleen registreren wanneer het een op zichzelf staande installatie is. Zowel bij opzichzelf staande als geintregreerde systemen welke manier van verwarmen/koelen wordt toegepast. (zie picklist verwarmen en/of picklict koelen)
D76: Inductieunit | E76: Apparaat voor het inblazen van lucht in een ruimte waarbij de lucht in de unit wordt verwarmd/gekoeld. Alleen registreren wanneer het een op zichzelf staande installatie is. Zowel bij opzichzelf staande als geintregreerde systemen welke manier van verwarmen/koelen wordt toegepast. (zie picklist verwarmen en/of picklict koelen)
D77: Inblaas/afzuigrooster met filter
D78: Luchtverdeelslang
D79: Luchtgordijn | E79: Apparaat voor het verwarmen van lucht, veelal bij de centrale ingang van een gebouw. Alleen registreren wanneer het een op zichzelf staande installatie is. Zowel bij opzichzelf staande als geintregreerde systemen welke manier van verwarmen wordt toegepast. (zie picklist verwarmen)
D80: Afzuiging | E80: Apparaat voor het afzuigen van een ruimte of specifieke vervuilingsbronnen zoals stof of uitlaatgassen. Hiermee wordt geen afzuiging van toiletten of sanitaire ruimtes bedoeld.
B82: Interne circulatie | C82: >
D83: Nader te bepalen (Default)
D84: Nee, 100% buitenlucht
D85: Ja, 100% recirculatie
D86: Deels buitenlucht deels recirculatie
B88: Verversen | C88: >
D89: Ja
D90: Nee
B92: Warmteterugwinning | C92: >
D93: Nader te bepalen (Default)
D94: Nee/NVT
D95: Warmtewiel
D96: Kruisstroomwisselaar
D97: Twin Coil
D98: Kantelkleppen
D99: Heatpipe
B101: Koelen | C101: >
D102: Nader te bepalen (Default)
D103: Nee/NVT
D104: Gekoeld waterbatterij
D105: Verdamper (Koelmachine extern)
D106: Geïntegreerde koelmachine
B108: Verwarmen | C108: >
D109: Nader te bepalen (Default)
D110: Nee/NVT
D111: Warmwaterbatterij
D112: Condensor (warmtepomp extern)
D113: Geïntegreerde warmtepomp
D114: Direct gestookt gas
D115: Direct gestookt olie
D116: Elektrisch
B118: Bevochtigen | C118: >
D119: Nader te bepalen (Default)
D120: Nee/NVT
D121: Stoom
D122: Adiabatisch vernevelen
D123: Infrarood
D124: Ultrasoon
B126: Drogen | C126: >
D127: Nader te bepalen (Default)
D128: Nee/NVT
D129: Gekoeld waterbatterij
D130: Verdamper (koelmachine extern)
D131: Geïntegreerde koelmachine
D132: Absorptie
B134: Capaciteit in m3/s
B136: Filter aanwezig | C136: > | E136: Gegevens uit logboek overnemen
D137: Ja
D138: Nee
B140: Soort filter | C140: > | E140: Voor de soort filter kan een keuze worden gemaakt uit de <picklist soort filter>. Wanneer geen keuze wordt gemaakt wordt
...

Sheet 59.10.01.00
B1: Component | D1: Opslagtank in gebouw
B2: versie 6.3 dd 11-02-2019 | D2: 59.10.01.00 Opslagtank in gebouw
B4: Datadefinitie | D4: Opslagtank in gebouw is een opslagtank voor vloeibare brandstoffen, afgewerkte olie of chemicalien in een gebouw.
B5: Inwininstructie | D5: Metalen lekbakken hoeven niet geinventariseerd te worden.
B7: BRV
B9: Objectcode | D9: =IF(ISBLANK(Voorblad!B$16),"",(Voorblad!B$16)) -> 51B12
B11: Gebouwcode | D11: =IF(ISBLANK(Voorblad!B$17),"",(Voorblad!B$17)) -> 248
B13: Bouwlaagcode | C13: >
D14: 0
D15: 1
D16: 2
D17: 3
D18: 4
D19: 5
D20: 6
D21: 7
D22: 8
D23: 9
D24: 10
D25: 11
... D39: Z
B41: Ruimtecode | E41: Ruimtecode volgens registratie door VGI in BRV.
B43: RBI
B45: BI-code | D45: < intern VGI nummer > | E45: BI-code om component/toepassing uniek aan te duiden. Niet invullen. Het betreft een intern VGI nummer
B47: Aantal | D47: < 1 >
B49: Serienummer
B51: Installatienummer
B53: Nadere locatiebepaling | E53: Vrij veld om de locatie van de installatie te verduidelijken.
B55: Bouwjaar
B57: Nadere specificatie bwd/instl | E57: Vrij veld om specifieke kenmerken van de installatie aan te geven.
B59: Inhoud in m3
B61: Specifiek
B63: Situatie opslagtank gebouw | C63: >
D64: Bovengronds in beton
D65: Bovengronds vrijstaand
E67: Bovengronds in beton: tank is in beton gestort
E69: Bovengronds vijstaand: tank heeft geen direct contact met de grond
B71: Materiaal opslagtank gebouw | C71: >
D72: Beton
D73: Kunststof
D74: Staal
B76: Brandstof opslagtank gebouw | C76: >
D77: Afgewerkte olie
D78: Chemicaliën
D79: Afvalbrandstof (min. 50% kerosine of benzine)
D80: Diesel
D81: Inert (onklaar)
D82: HBO
D83: Smeerolie
B85: Kathodische bescherming | C85: > | E85: Indien tank en leidingen zich bovengronds bevinden is de kathodische bescherming "nvt"
D86: Ja
D87: Nee
D88: Nvt
E89: Als de bodemweerstand minder is dan 100 ohmmeter is moet kathodische bescherming zijn aangebracht.
E90: Meetwaarde is in bodemweertandsrapport terug te vinden.
B92: Dubbelwandig | C92: > | E92: Als "Materiaal opslagtank gebouw" is "Beton" of "Kunststof" dan moet waarde "Dubbelwandig", "Nee" zijn..
D93: Ja
D94: Nee
B96: Lekdetectie | C96: > | E96: Indien tank is dubbelwandig, lekdetectie is altijd "ja". Bij enkelwandige tanks lekdetectie is facultatief
B100: Overvulbeveiliging | C100: > | E100: Als "Brandstof opslagtank gebouw" is "Afgewerkte olie of chemicalien" dan moet "Overvulbeveiliging", "Nee" zijn.
D101: Ja
D102: Nee
B104: Inwendige coating | C104: > | E104: Ja, als coating overeenkomstig BRL 779, 790 of K548 is.
D105: Ja
D106: Nee
E107: Nee, als geen coating is aangebracht of coating niet overeenkomstig BRL 779, 790 of K548 is.
B109: Betonnen lekbak | C109: > | E109: Alleen indien lekbak vloeistofkerend moet zijn, anders lekbak opnemen onder component "Vloeistofdichte voorziening in gebouw".
D110: Ja
D111: Nee
E112: Betonnen lekbak ten behoeve van calamiteiten opvang van bodembedreigende stoffen

Sheet 61.10.00.00
B1: Component | D1: Innamepunt elektriciteit in gebouw
B2: versie 6.4 dd 23-12-2011 | D2: 61.10.00.00
B4: Datadefinitie | D4: Innamepunt elektriciteit in gebouw is een meter die de inname meet van een NUTS bedrijf van elektriciteit voor een deel of het gehele gebouw.
B5: Inwininstructie | D5: Geen.
B7: BRV
B9: Objectcode | D9: =IF(ISBLANK(Voorblad!B$16),"",(Voorblad!B$16)) -> 51B12
B11: Gebouwcode | D11: =IF(ISBLANK(Voorblad!B$17),"",(Voorblad!B$17)) -> 248
B13: Bouwlaagcode | C13: >
D14: 0
D15: 1
D16: 2
D17: 3
D18: 4
D19: 5
D20: 6
D21: 7
D22: 8
D23: 9
D24: 10
D25: 11
... D39: Z
B41: Ruimtecode | E41: Ruimtecode volgens registratie door VGI in BRV.
B43: RBI
B45: BI-code | D45: < intern VGI nummer > | E45: BI-code om component/toepassing uniek aan te duiden. Niet invullen. Het betreft een intern VGI nummer
B47: Aantal | D47: < 1 >
B49: Fabrikaat
B51: Nadere locatiebepaling | E51: Vrij veld om de locatie van de installatie te verduidelijken.
B53: Bouwjaar
B55: Nadere specificatie bwd/instl | E55: Vrij veld om specifieke kenmerken van de installatie aan te geven.
B57: Specifiek
B59: Uitlezing | C59: >
D60: Op afstand EDB
D61: Van installatie

Sheet 61.10.01.00
B1: Component | D1: Noodaggregaat in gebouw
B2: versie 6.5 dd 02-10-2017 | D2: 61.10.01.00 Noodaggregaat in gebouw
B4: Datadefinitie | D4: Noodaggregaat is een installatie, gevoed met brandstof, ten behoeve van de opwekking van elektrische energie bij stroomuitval op de voedingleiding.
B5: Inwininstructie | D5: Formeel wordt dit een Noodaggregaat genoemd. In de volksmond wordt het ook "Noodstroomaggregaat" gebruikt.
B6: Inwininstructie | D6: "Synchronisatie" en " Start/stop automatiek" (ook wel"Automatische start") zijn standaard voorzieningen bij een modern nood(stroom)aggregaat en het testen behoort bij de standaard onderhoudsprocedure.
B8: BRV
B10: Objectcode | D10: =IF(ISBLANK(Voorblad!B$16),"",(Voorblad!B$16)) -> 51B12 | E10: Indien in uitzonderingsgevallen het nood(stroom)aggregaat naast de gevel van een gebouw staat dan wordt deze geregistreerd bij de dichtstbijzijnde ruimte van het gebouw.
B12: Gebouwcode | D12: =IF(ISBLANK(Voorblad!B$17),"",(Voorblad!B$17)) -> 248
B14: Bouwlaagcode | C14: >
D15: 0
D16: 1
D17: 2
D18: 3
D19: 4
D20: 5
D21: 6
D22: 7
D23: 8
D24: 9
D25: 10
D26: 11
... D40: Z
B42: Ruimtecode | E42: Ruimtecode volgens registratie door VGI in BRV.
B44: RBI
B46: BI-code | D46: < intern VGI nummer > | E46: BI-code om component/toepassing uniek aan te duiden. Niet invullen. Het betreft een intern VGI nummer
B48: Aantal | D48: < 1 >
B50: Fabrikaat
B52: Type
B54: Serienummer
B56: Installatienummer
B58: Nadere locatiebepaling | E58: Vrij veld om de locatie van de installatie te verduidelijken.
B60: Bouwjaar
B62: Nadere specificatie bwd/instl | E62: Vrij veld om specifieke kenmerken van de installatie aan te geven.
B64: Specifiek
B66: Schijnbaar vermogen in kVA | E66: Met schijnbaar vermogen wordt het vermogen dat aan stroom kan worden opgewekt bedoeld.
B68: Werkelijk vermogen in kW | E68: Met werkelijk vermogen wordt het vermogen dat de verbrandingsmotor levert bedoeld. Het werkelijk vermogen dient te worden geregistreerd in het kader van de wettelijke PI keuring.
E70: Het werkelijke vermogen bij bestaande installaties kan worden berekend door het schijnbaar vermogen te vermenigvuldigen met de arbeidsfactor cos phi.. Bij nieuwe installaties moet het werkelijkvermogen worden vermeld in de specificaties van de installatie

Sheet 61.10.02.00
B1: Component | D1: No-break
B2: versie 6.3 dd 23-12-2011 | D2: 61.10.02.00 No-break
B4: Datadefinitie | D4: No-break is een installatie, direct gevoed door accu's of indirect gevoed door een vliegwiel met generator, ten behoeve van de opwekking van elektrische energie voor vitale delen bij stroomuitval op de voedingleiding.
B5: Inwininstructie | D5: Geen.
B7: BRV
B9: Objectcode | D9: =IF(ISBLANK(Voorblad!B$16),"",(Voorblad!B$16)) -> 51B12 | E9: Indien in uitzonderingsgevallen het nood(stroom)aggregaat naast de gevel van een gebouw staat dan wordt deze geregistreerd bij de dichtstbijzijnde ruimte van het gebouw.
B11: Gebouwcode | D11: =IF(ISBLANK(Voorblad!B$17),"",(Voorblad!B$17)) -> 248
B13: Bouwlaagcode | C13: >
D14: 0
D15: 1
D16: 2
D17: 3
D18: 4
D19: 5
D20: 6
D21: 7
D22: 8
D23: 9
D24: 10
D25: 11
... D39: Z
B41: Ruimtecode | E41: Ruimtecode volgens registratie door VGI in BRV.
B43: RBI
B45: BI-code | D45: < intern VGI nummer > | E45: BI-code om component/toepassing uniek aan te duiden. Niet invullen. Het betreft een intern VGI nummer
B47: Aantal | D47: < 1 >
B49: Fabrikaat
B51: Type
B53: Serienummer
B55: Installatienummer
B57: Bouwjaar
B59: Nadere specificatie bwd/instl | E59: Het type van de accu wordt niet geregistreerd.
B61: Specifiek
B63: Soort No-break | C63: >
D64: Roterend
D65: Statisch
E67: Roterend: uitgevoerd met vliegwiel en generator
E69: Statisch: uitgevoerd met accupack
B71: Schijnbaar vermogen in kVA

Sheet 61.50.01.00
B1: Component | D1: Mechanische omvormers
B2: versie x.x dd xx-xx-xxxx | D2: 61.50.01.00 Mechanische omvormers
B4: Datadefinitie | D4: N.n.b.
B5: Inwininstructie | D5: Geen.
B7: BRV
B9: Objectcode | D9: =IF(ISBLANK(#REF!),"",(#REF!)) -> #REF!
B11: Gebouwcode | D11: =IF(ISBLANK(#REF!),"",(#REF!)) -> #REF!
B13: Bouwlaagcode
D14: 0
D15: 1
D16: 2
D17: 3
D18: 4
D19: 5
D20: 6
D21: 7
D22: 8
D23: 9
D24: 10
D25: 11
... D39: Z
B41: Ruimtecode | E41: Ruimtecode volgens registratie door VGI in BRV.
B43: RBI
B45: DVD-code | E45: Indien 2 of meer installaties voorkomen in 1 ruimte, dient bij de DVD-code een volgnummer ingevuld te worden.
B47: Aantal | D47: < 1 >
B49: Fabrikaat
B51: Type
B53: Serienummer
B55: Installatienummer
B57: Bouwjaar
B59: Nadere specificatie bwd/instl
B61: Specifiek

Sheet 61.50.02.00
B1: Component | D1: Gelijkrichters
B2: versie x.x dd xx-xx-xxxx | D2: 61.50.02.00 Gelijkrichters
B4: Datadefinitie | D4: N.n.b.
B5: Inwininstructie | D5: Geen.
B7: BRV
B9: Objectcode | D9: =IF(ISBLANK(#REF!),"",(#REF!)) -> #REF!
B11: Gebouwcode | D11: =IF(ISBLANK(#REF!),"",(#REF!)) -> #REF!
B13: Bouwlaagcode
D14: 0
D15: 1
D16: 2
D17: 3
D18: 4
D19: 5
D20: 6
D21: 7
D22: 8
D23: 9
D24: 10
D25: 11
... D39: Z
B41: Ruimtecode | E41: Ruimtecode volgens registratie door VGI in BRV.
B43: RBI
B45: DVD-code | E45: Indien 2 of meer installaties voorkomen in 1 ruimte, dient bij de DVD-code een volgnummer ingevuld te worden.
B47: Aantal | D47: < 1 >
B49: Fabrikaat
B51: Type
B53: Serienummer
B55: Installatienummer
B57: Bouwjaar
B59: Nadere specificatie bwd/instl
B61: Specifiek

Sheet 61.50.03.00
B1: Component | D1: Photovoltaisch paneel gebouwgebonden
B2: versie 6.1 dd 20-01-2012 | D2: 61.50.03.00 Photovoltaisch paneel gebouwgebonden
B4: Datadefinitie | D4: Photovoltaisch paneel gebouwgebonden is een installatie bestaande uit zonnecellen op een gebouw waarbij lichtenergie wordt omgezet naar elektrische energie.
B5: Inwininstructie | D5: Geen.
B7: BRV
B9: Objectcode | D9: =IF(ISBLANK(Voorblad!B$16),"",(Voorblad!B$16)) -> 51B12
B11: Gebouwcode | D11: =IF(ISBLANK(Voorblad!B$17),"",(Voorblad!B$17)) -> 248
B13: RBI
B15: BI-code | D15: < intern VGI nummer > | E15: BI-code om component/toepassing uniek aan te duiden. Niet invullen. Het betreft een intern VGI nummer
B17: Aantal | D17: < 1 >
B19: Fabrikaat
B21: Type
B23: Serienummer | E23: Van identieke panelen het serienummer van 1 pv-paneel registreren
B25: Installatienummer | E25: Van identieke panelen het installatienummer van 1 pv-paneel registreren
B27: Nadere locatiebepaling | E27: Vrij veld om de locatie van de installatie te verduidelijken.
B29: Bouwjaar
B31: Nadere specificatie bwd/instl | E31: Vermeld hier het aantal identieke panelen, breedte in m1 (N,3) x hoogte in m1 (N,3).
B33: Oppervlakte in m2 | E33: Totale oppervlakte van alle identieke panelen.
B35: Specifiek
B37: Meter aanwezig | C37: >
D38: Ja
D39: Nee

Sheet 61.70.01.00
B1: Component | D1: Bliksemafleiding gebouwgebonden
B2: versie 6.0 dd 17-09-2009 | D2: 61.70.01.00 Bliksemafleiding gebouwgebonden
B4: Datadefinitie | D4: Bliksemafleiding gebouwgebonden is een installatie ten behoeve van het afvoeren van een elektrische lading als gevolg van blikseminslag in of op een gebouw.
B5: Inwininstructie | D5: Vangnet en aantal meetkoppelingen registreren bij gebouw met de laagste gebouwcode. Eventuele andere gebouwen onder het zelfde vangnet registreren onder "Nadere locatie bepaling".
B6: Inwininstructie | D6: Bij de eerste inventarisatie de gegevens overnemen van het laatste keuringsrapport.
B8: BRV
B10: Objectcode | D10: =IF(ISBLANK(Voorblad!B$16),"",(Voorblad!B$16)) -> 51B12
B12: Gebouwcode | D12: =IF(ISBLANK(Voorblad!B$17),"",(Voorblad!B$17)) -> 248
B14: RBI
B16: Aantal | D16: < 1 >
B18: Nadere locatiebepaling | E18: Vrij veld om de locatie van de installatie te verduidelijken.
B20: Bouwjaar
B22: Nadere specificatie bwd/instl | E22: Vrij veld om specifieke kenmerken van de installatie aan te geven.
B24: Specifiek
B26: Soort bliksemafleiding gebouw gebonden | C26: > | E26: Indien bij een gebouw zowel daknet als vangnet afleiding voorkomt, registreren als vangnet.
D27: Daknet
D28: Vangnet
E30: Daknet: op het dak van het gebouw aangebrachte bliksemafleidingsinstallatie
E32: Vangnet: boven het gebouw aangebrachte bliksemafleidingsinstallatie
B34: Meetkoppelingen ondergronds in stuks
B36: Meetkoppelingen bovengronds in stuks

Sheet 62.10.01.00
B1: Component | D1: Hoogspanning in gebouw
B2: versie 6.5 dd 11-10-2018 | D2: 62.10.01.00 Hoogspanning in gebouw
B4: Datadefinitie | D4: Hoogspanning in gebouw is de installatie in een gebouw waarmee hoogspanning wordt omgevormd naar laagspanning. De installatie kan bestaan uit een of meerdere transformatoren en een of meerdere schakelaars, of alleen uit een of meerdere schakelaars.
B5: Inwininstructie | D5: Elke transformator dient als separate installatie te worden geregistreerd. Dit geld ook voor de schakelaars. Van de schakelaar dient het veld 'Schijnbaar vermogen" te worden gevuld met een fictieve waarde van 0,1. Op sommige objecten wordt de hoogspanning in het inkoopstation zonder tussenkomst van een transformator verdeeld. In deze gebouwen dienen alleen een of meerdere schakelaars te worden geregistreerd.
B7: BRV
B9: Objectcode | D9: =IF(ISBLANK(Voorblad!B$16),"",(Voorblad!B$16)) -> 51B12
B11: Gebouwcode | D11: =IF(ISBLANK(Voorblad!B$17),"",(Voorblad!B$17)) -> 248
B13: Bouwlaagcode | C13: >
D14: 0
D15: 1
D16: 2
D17: 3
D18: 4
D19: 5
D20: 6
D21: 7
D22: 8
D23: 9
D24: 10
D25: 11
... D39: Z
B41: Ruimtecode | E41: Ruimtecode volgens registratie door VGI in BRV.
B43: RBI
B45: BI-code | D45: < intern VGI nummer > | E45: BI-code om component/toepassing uniek aan te duiden. Niet invullen. Het betreft een intern VGI nummer
B47: Aantal | D47: < 1 >
B49: Fabrikaat
B51: Type
B53: Serienummer
B55: Installatienummer
B57: Nadere locatiebepaling | E57: Vrij veld om de locatie van de installatie te verduidelijken.
B59: Bouwjaar
B61: Nadere specificatie bwd/instl | E61: Vrij veld om specifieke kenmerken van de installatie aan te geven.
B63: Specifiek
B65: Schijnbaar vermogen transformator in kVA | E65: Het vermogen per transformator aangeven.
D66: Ja
D67: Nee (default)
B69: Vulling transformator | C69: >
D70: Oliegevuld
D71: Giethars
D72: Nader te bepalen
B74: Fabrikant schakelaar | C74: > | E74: Hiermee wordt het merk van de schakelaar bedoeld.
D75: Nader te bepalen
D76: COQ
D77: Eaton
D78: Krone
D79: Schneider
D80: Siemens
B82: Type schakelaar | E82: Hier dient het type schakelaar te worden aangegeven
B84: Bouwjaar schakelaar | E84: Het bouwjaar van de schakelaar kan afwijken van het bouwjaar van de transformator
B86: Schakelaar gekoppeld | C86: > | E86: Indien meerdere transormatoren gekoppeld zijn, de schakelaar alleen registreren bij de eerst geregistreerde transformator.
D87: Ja
D88: Nee
B90: Aantal gekoppelde transformatoren
B92: HS Velden | E92: De velden van een schakelaar worden aangeduid met een K voor kabelveld en T voor transformatorveld.
E93: Aangeven hoeveel en welk type velden (K= kabelveld en T =trafoveld) aan de verdeler zijn gekoppeld.
E94: (Voorbeeld KKTT betekent 2 x kabelveld en 2 x trafoveld)

Sheet 62.20.01.00
B1: Component | D1: Laagspanning
B2: versie 6.2 dd 13-02-2017 | D2: 62.20.01.00 Laagspanning
B4: Datadefinitie | D4: Laagspanning is een installatie die de electrische energie tussen 100 en 1000 Volt levert in een gebouw
B5: Inwininstructie | D5: Geen.
B7: BRV
B9: Objectcode | D9: =IF(ISBLANK(Voorblad!B$16),"",(Voorblad!B$16)) -> 51B12
B11: Gebouwcode | D11: =IF(ISBLANK(Voorblad!B$17),"",(Voorblad!B$17)) -> 248
B13: RBI
B15: Aantal | D15: < 1 >
B17: Bouwjaar
B19: Lokatie verdeelinrichting | C19: > | E19: Indien verdeelinrichting in naastgelegenbgebouw aangeven in welk gebouw de verdeelinrichting zich bevindt.
D20: Eigen verdeelinrichting
D21: Verdeelinrichting naastgelegen gebouw
D22: Verdeelinrichting terreinverlichting in gebouw
D23: Verdeelinrichitng terreinverlichting
E24: Indien verdeelinrichting = terreinverlichting de lokatie van de verdeelinrcihting aangeven.

Sheet 63.20.01.00
B1: Component | D1: Noodverlichting decentraal
B2: versie 6.2 dd 09-08-2019 | D2: 63.20.01.00 Noodverlichting decentraal
B4: Datadefinitie | D4: Noodverlichting decentraal is een verzameling van decentraal gevoede verlichtingsvoorzieningen voor calamiteitenverlichting, eventueel uitgerust met centraal testsysteem.
B5: Inwininstructie | D5: Het overgrote deel van de armaturen is zelftestend.
B7: BRV
B9: Objectcode | D9: =IF(ISBLANK(Voorblad!B$16),"",(Voorblad!B$16)) -> 51B12
B11: Gebouwcode | D11: =IF(ISBLANK(Voorblad!B$17),"",(Voorblad!B$17)) -> 248
B13: RBI
B15: Aantal | D15: < 1 >
B17: Nadere specificatie bwd/instl | E17: Vrij veld om specifieke kenmerken van de installatie aan te geven.
B19: Specifiek
B21: Centraal testsysteem | C21: > | E21: Een centraal testsysteem is een installatie welke alle decentrale noodverlichtingarmaturen controleert op de goede werking.
D22: Ja
D23: Nee
B25: Accu's (stuks) | E25: Aantal accu's hoeft niet gelijk te zijn aan het aantal armaturen . Sommige armaturen hebben meer dan een accu
B27: Verlichtingsarmaturen (stuks)

Sheet 63.30.01.00
B1: Component | C1: 480 | D1: Speciale verlichting
B2: versie x.x dd xx-xx-xxxx | D2: 63.30.01.00 Speciale verlichting
B4: Datadefinitie | D4: N.n.b.
B5: Inwininstructie | D5: Geen.
B7: BRV
B9: Objectcode | D9: =IF(ISBLANK(#REF!),"",(#REF!)) -> #REF!
B11: Gebouwcode | D11: =IF(ISBLANK(#REF!),"",(#REF!)) -> #REF!
B13: RBI
B15: DVD-code | E15: Indien 2 of meer installaties voorkomen in 1 gebouw, dient bij de DVD-code een volgnummer ingevuld te worden.
B17: Aantal | D17: < 1 >
B19: Nadere locatiebepaling | E19: Vrij veld om de locatie van de installatie te verduidelijken.
B21: Bouwjaar
B23: Nadere specificatie bwd/instl | E23: Vrij veld om specifieke kenmerken van de installatie aan te geven.
B25: Specifiek

Sheet 63.50.01.00
B1: Component | D1: Noodverlichting centraal
B2: versie 6.1 dd 23-11-2011 | D2: 63.50.01.00 Noodverlichting centraal
B4: Datadefinitie | D4: Noodverlichting centraal is een installatie die bij calamiteiten de daarvoor bestemde verlichtingsvoorzieningen voedt.
B5: Inwininstructie | D5: Geen.
B7: BRV
B9: Objectcode | D9: =IF(ISBLANK(Voorblad!B$16),"",(Voorblad!B$16)) -> 51B12
B11: Gebouwcode | D11: =IF(ISBLANK(Voorblad!B$17),"",(Voorblad!B$17)) -> 248
B13: Bouwlaagcode | C13: >
D14: 0
D15: 1
D16: 2
D17: 3
D18: 4
D19: 5
D20: 6
D21: 7
D22: 8
D23: 9
D24: 10
D25: 11
... D39: Z
B41: Ruimtecode | E41: Ruimtecode volgens registratie door VGI in BRV.
B43: RBI
B45: BI-code | D45: < intern VGI nummer > | E45: BI-code om component/toepassing uniek aan te duiden. Niet invullen. Het betreft een intern VGI nummer
B47: Aantal | D47: < 1 >
B49: Fabrikaat
B51: Type
B53: Serienummer
B55: Installatienummer
B57: Bouwjaar
B59: Nadere specificatie bwd/instl | E59: Vrij veld om specifieke kenmerken van de installatie aan te geven.
B61: Specifiek
B63: Accu's in stuks
B65: Verlichtingsarmaturen in stuks

Sheet 65.11.01.00
B1: Component | D1: Brandmeldinstallatie
B2: versie 6.7 dd 04-03-2019 | D2: 65.11.01.00 Brandmeldinstallatie
B4: Datadefinitie | D4: Brandmeldinstallatie is een samenstel van aan elkaar aangepaste apparatuur, leidingen en toebehoren van leidingen, welke nodig zijn voor het ontdekken van brand, het melden van brand en eventueel het geven van stuursignalen ten behoeve van andere installaties.
B5: Inwininstructie | D5: Geen.
B7: BRV
B9: Objectcode | D9: =IF(ISBLANK(Voorblad!B$16),"",(Voorblad!B$16)) -> 51B12
B11: Gebouwcode | D11: =IF(ISBLANK(Voorblad!B$17),"",(Voorblad!B$17)) -> 248
B13: Bouwlaagcode | C13: >
D14: 0
D15: 1
D16: 2
D17: 3
D18: 4
D19: 5
D20: 6
D21: 7
D22: 8
D23: 9
D24: 10
D25: 11
... D39: Z
B41: Ruimtecode | E41: De locatie van de centrale moet worden geregistreerd. Ruimtecode volgens registratie door VGI in BRV.
B43: RBI
B45: BI-code | D45: < intern VGI nummer > | E45: BI-code om component/toepassing uniek aan te duiden. Niet invullen. Het betreft een intern VGI nummer
E46: Een BMI wordt ook vastgelegd op de preventietekening. de aangegeven BI code wordt hierop ook weergegeven.
B48: Aantal | D48: < 1 >
B50: Fabrikaat
B52: Type
B54: Installatienummer
B56: Nadere locatiebepaling | E56: Vrij veld om de locatie van de installatie te verduidelijken.
B58: Bouwjaar
B60: Nadere specificatie bwd/instl | E60: Vrij veld om specifieke kenmerken van de installatie aan te geven.
B62: Specifiek
B64: Gedeeltelijke bewaking | C64: > | E64: Alleen beveiligde vluchtwegen
D65: Ja
D66: Nee
B68: Object bewaking | C68: > | E68: Alleen beveiliging van een brandgevaarlijke installatie
D69: Ja
D70: Nee
B72: Niet-automatische bewaking | C72: > | E72: Alleen in geval van handbrandmelders
D73: Ja
D74: Nee
B76: Ruimte bewaking | C76: > | E76: Alleen beveiliging van bepaalde ruimte
D77: Ja
D78: Nee
B80: Volledige bewaking | C80: > | E80: Beveiliging van totale gebouw m.u.v. toiletten e.d.
D81: Ja
D82: Nee
B84: Ioniserende melders (stuks) | E84: Informatie kan worden verkregen bij Vergunningen
B86: Nevenpanelen (stuks) | C86: > | E86: Bij een BMI is altijd een brandweerpaneel aanwezig, bij grotere installaties soms ook nevenpanelen
B88: Aspiratiesysteem aan BMI (stuks) | E88: Totaal van alle aan de BMI gekoppelde aspiratiesytemen in het gebouw
B90: Grondslag BMI | C90: >
D91: Wettelijjk Bouwbesluit
D92: Wettelijk Gelijkwaardigheid
D93: Wettelijk PGS
D94: Wettelijk Archief
D95: Gebruikerseis
D96: Geen
B98: Automatische melders (stuks) | E98: Totaal van alle soorten automatische melders in het gebouw
B100: Handmelders (stuks) | E100: Totaal van alle soorten handmelders in het gebouw
B102: Sturing ontruimingsalarminst. | C102: >
D103: Ja
D104: Nee
B106: Sturing brandblusinstallatie | C106: >
D107: Ja
D108: Nee
B110: Sturing branddeuren | C110: >
D111: Ja
D112: Nee
B114: Sturing brandschermen | C114: >
D115: Ja
D116: Nee
B118: Sturing noodverlichtingsinst. | C118: >
D119: Ja
D120: Nee
B122: Sturing luchtbeh en ventilatie | C122: >
D123: Ja
D124: Nee
B126: Sturing rook en warmte afv ins | C126: >
D127: Ja
D128: Nee
B130: Sturing (brandweerl)lift | C130: >
D131: Ja
D132: Nee
B134: Sturing brandpomp | C134: >
D135: Ja
D136: Nee
B138: Sturing noodstroomvoorziening | C138: >
D139: Ja
D140: Nee
B142: Sturing overdrukinstallatie | C142: >
D143: Ja
D144: Nee
B146: Sturing sleutelkluis | C146: >
D147: Ja
D148: Nee
B150: Sturing brandweeringang | C150: >
D151: Ja
D152: Nee
B154: Sturing flitslicht | C154: >
...

Sheet 65.11.20.01
B1: Component | D1: Ontruimingsalarminstallatie (alleenstaand)
B2: versie 6.4 dd 23-12-2011 | D2: 65.11.20.01 Ontruimingsalarminstallatie (alleenstaand)
B4: Datadefinitie | D4: Ontruimingalarmsinstallatie (alleenstaand) is een installatie t.b.v. alarmering van aanwezigen zodat deze bij calamiteiten binnen redelijke tijd uit het bouwwerk kunnen vluchten.
B5: Inwininstructie | D5: Alleenstaand houdt in dat deze niet is geintegreerd is in de brandmeldinstallatie, maar kan wel gekoppeld zijn. De locatie van de centrale moet worden geregistreerd.
B6: Inwininstructie | D6: Indien de installatie tevens een brandmeldinstallatie bevat, het geheel registreren onder 65.11.01.00 Brandmeldinstallatie.
B8: BRV
B10: Objectcode | D10: =IF(ISBLANK(Voorblad!B$16),"",(Voorblad!B$16)) -> 51B12
B12: Gebouwcode | D12: =IF(ISBLANK(Voorblad!B$17),"",(Voorblad!B$17)) -> 248
B14: Bouwlaagcode | C14: >
D15: 0
D16: 1
D17: 2
D18: 3
D19: 4
D20: 5
D21: 6
D22: 7
D23: 8
D24: 9
D25: 10
D26: 11
... D40: Z
B42: Ruimtecode | E42: Ruimtecode volgens registratie door VGI in BRV.
B44: RBI
B46: BI-code | D46: < intern VGI nummer > | E46: BI-code om component/toepassing uniek aan te duiden. Niet invullen. Het betreft een intern VGI nummer
B48: Aantal | D48: < 1 >
B50: Fabrikaat
B52: Type
B54: Nadere locatiebepaling | E54: Vrij veld om de locatie van de installatie te verduidelijken.
B56: Bouwjaar
B58: Nadere specificatie bwd/instl | E58: Vrij veld om specifieke kenmerken van de installatie aan te geven.
B60: Specifiek
B62: Soort ontruimingsalarminstallatie | C62: > | E62: De attribuutgegevens kunnen worden verzameld vanuit het logboek en/of de gebruiksvergunning.
D63: Nader te bepalen
D64: Type A: Omroepinstallatie
D65: Type B: Slow-whoop installatie

Sheet 65.13.01.00
B1: Component | D1: Brandslanghaspel
B2: versie 6.4 dd 04-03-2019 | D2: 65.13.01.00 Brandslanghaspel
B4: Datadefinitie | D4: Brandslanghaspel is een blusslang op een haspel in of aan een gebouw, ten behoeve van bestrijding van een brand.
B5: Inwininstructie | D5: Geen.
B7: BRV
B9: Objectcode | D9: =IF(ISBLANK(Voorblad!B$16),"",(Voorblad!B$16)) -> 51B12
B11: Gebouwcode | D11: =IF(ISBLANK(Voorblad!B$17),"",(Voorblad!B$17)) -> 248
B13: Bouwlaagcode | C13: >
D14: 0
D15: 1
D16: 2
D17: 3
D18: 4
D19: 5
D20: 6
D21: 7
D22: 8
D23: 9
D24: 10
D25: 11
... D39: Z
B41: Ruimtecode | E41: Ruimtecode volgens registratie door VGI in BRV.
B43: RBI
B45: BI-code | C45: > | D45: < intern VGI nummer > | E45: BI-code om component/toepassing uniek aan te duiden. Niet invullen. Het betreft een intern VGI nummer
E46: Een Brandslanghaspel wordt ook vastgelegd op de preventietekening, de aangegeven BI code wordt hierop ook weergegeven.
B48: Aantal | D48: < 1 >
B50: Fabrikaat
B52: Nadere locatiebepaling | E52: Vrij veld om de locatie van de installatie te verduidelijken.
B54: Bouwjaar
B56: Specifiek
B58: Slanglengte in m

Sheet 65.13.02.00
B1: Component | D1: Droge blusleiding
B2: versie 6.5 dd 14-11-2018 | D2: 65.13.02.00 Droge blusleiding
B4: Datadefinitie | D4: Droge blusleiding is een vaste niet permanent op een watervoorziening aangesloten pijpleiding in of aan een gebouw voor het transport van bluswater naar de verdiepingen.
B5: Inwininstructie | D5: Geen.
B7: BRV
B9: Objectcode | D9: =IF(ISBLANK(Voorblad!B$16),"",(Voorblad!B$16)) -> 51B12
B11: Gebouwcode | D11: =IF(ISBLANK(Voorblad!B$17),"",(Voorblad!B$17)) -> 248
B13: Bouwlaagcode | C13: >
D14: 0
D15: 1
D16: 2
D17: 3
D18: 4
D19: 5
D20: 6
D21: 7
D22: 8
D23: 9
D24: 10
D25: 11
... D39: Z
B41: Ruimtecode | E41: Ruimtecode volgens registratie door VGI in BRV.
B43: RBI
B45: BI-code | D45: < intern VGI nummer > | E45: BI-code om component/toepassing uniek aan te duiden. Niet invullen. Het betreft een intern VGI nummer
B47: Aantal | D47: < 1 >
B49: Nadere locatiebepaling | E49: Aangeven waar het (laagst gelegen) aanlsuitpunt voor de brandweer zich bevindt.
B51: Bouwjaar
B53: Nadere specificatie bwd/instl | E53: Vrij veld om specifieke kenmerken van de installatie aan te geven.
B55: Specifiek

Sheet 65.13.03.00
B1: Component | D1: Automatisch werkende blusinstallatie centraal
B2: versie 6.4 dd 14-02-2017 | D2: 65.13.03.00 Automatisch werkende blusinstallatie centraal
B4: Datadefinitie | D4: Automatisch werkende blusinstallatie centraal is een installatie voor het blussen van branden in een ruimte die in werking treedt naar aanleiding van een signaal van een of meerdere detectie- en/of meldeenheden.
B5: Inwininstructie | D5: Geen.
B7: BRV
B9: Objectcode | D9: =IF(ISBLANK(Voorblad!B$16),"",(Voorblad!B$16)) -> 51B12
B11: Gebouwcode | D11: =IF(ISBLANK(Voorblad!B$17),"",(Voorblad!B$17)) -> 248
B13: Bouwlaagcode | C13: >
D14: 0
D15: 1
D16: 2
D17: 3
D18: 4
D19: 5
D20: 6
D21: 7
D22: 8
D23: 9
D24: 10
D25: 11
... D39: Z
B41: Ruimtecode | E41: Ruimtecode volgens registratie door VGI in BRV.
B43: RBI
B45: BI-code | D45: < intern VGI nummer > | E45: BI-code om component/toepassing uniek aan te duiden. Niet invullen. Het betreft een intern VGI nummer
B47: Aantal | D47: < 1 >
B49: Fabrikaat | E49: Hiermee wordt de fabrikant van de blusstuurcentrale bedoeld.
B51: Type | E51: Hiermee wordt de typeaanduiding van de fabrikant op de blusstuurcentrale bedoeld.
B53: Serienummer
B55: Installatienummer
B57: Nadere locatiebepaling | E57: Vrij veld om de locatie van de installatie te verduidelijken.
B59: Bouwjaar
B61: Nadere specificatie bwd/instl | E61: Vrij veld om specifieke kenmerken van de installatie aan te geven.
B63: Specifiek
B65: Soort blusinstallatie | C65: >
D66: Gasblusinstallatie
D67: Aerosolblusinstallatie
D68: Vetbrandblusinstallatie
D69: Sprinklerinstallatie, droog systeem
D70: Sprinklerinstallatie, nat systeem
D71: Sprinklerinstallatie, gemengd systeem
D72: Sprinklerinstallatie, schuimblussysteem
D73: Watermistinstallatie
E75: Gasblusinstallatie: een installatie die door inbrengen van gas in een ruimte het vuur dooft. Dit wordt met name gebruikt insituaties waar het gevaarlijk of erg schadelijk is om met water te blussen
E77: Aerosolblussystemen gebruiken een droge stof die een reactie aangaat met stoffen die tijdens een brand ontstaan.
E79: Vetbrandblusinstallatie is een automatisch brandblussysteem, meestal in keukensystemen, dat gebruik maakt van een chemische vloeistof als blusmiddel voor aan kookvet of -olie gerelateerde branden.
E81: Sprinklerinstallatie, droog: indien de installatie niet is geactiveerd staat er geen water in de leidingen vanaf de waterleiding naar de sproeikoppen van de sprinklerinstallatie
E83: Sprinklerinstallatie, nat: hoewel de installatie niet is geactiveerd zijn alle leidingen van het systeem met water gevuld tot aan de sproeikoppen
E85: Sprinklerinstallatie, gemengd systeem: Een combinatie van zowel natte, als droge leidingen en sprinklerkoppen
E87: Sprinklerinstallatie, schuimblussysteem: Een installatie die door inbrengen van schuim in een ruimte het vuur dooft. De installatie kan zowel volledig in schuim als als sprinklerinstallatie met bijmenging van schuim zijn uitgevoerd
E89: Watermistinstallatie: Een installatie die door inbrengen van een fijne nevelvan minuscule waterdeeltjes in een ruimte het vuur dooft.
B91: Type watervoorziening | C91: > | E91: Indien "Soort blusinstallatie" is "Sprinklerinstallatie" dan "Type Watervoorziening" is "wateropslagreservoir, waterleiding of grondwater" Wateropslagreservoir als separaat component registreren
D92: Wateropslagreservoir
D93: Waterleiding
D94: Grondwater
D95: Open water
B97: Schuimbijmenging | C97: > | E97: Indien "Soort blusinstallatie" is "Sprinklerinstallatie nat, door of gemengd systeem " dan "Schuimbijmenging" is "Ja of Nee"
D98: Ja
D99: Nee
B101: Brandweeraansluiting | C101: > | E101: Indien "Soort blusinstallatie" is "Sprinklerinstallatie" dan "Brandweeraansluiting" is "Ja of Nee"
D102: Ja
D103: Nee
B105: Pomp/drukverhogingsinstallatie aanwezig | C105: > | E105: Indien "Soort blusinstallatie" is "Sprinklerinstallatie" dan "Pomp/drukverhoginsinstallatie aanwezig" is "Ja of Nee"
D106: Ja
D107: Nee
B109: Alarmkleppen (stuks)
B111: Stromingsschakelaars (stuks)
B113: Sprinklers droog (stuks)
B115: Sprinklers nat (stuks)
B117: Soort blusmiddel | C117: > | E117: Indien "Soort blusinstallatie" is "Sprinklerinstallatie" dan "Soort blusmiddel" is "Water". Indien "Soort blusinstallatie" is "Gasblusinstallatie" dan "Soort blusmiddel" is "CO2, Halon, Inerte gassen, Stikstof, Chemische gassen of HFK".
D118: CO2
D119: Chemische gassen
D120: Halon
D121: Inerte gassen
D122: Stikstof
D123: Chemische blusvloeistof
D124: Water
D125: Watermist
D126: Schuim
D127: Aerosol
E129: Halon: Indien "Soort blusinstallatie" is "Gasblusinstallatie" dan "Soort blusmiddel" is "CO2, Halon, Inerte gassen, Stikstof, Chemische gassen"
E131: Inerte gassen: dit zijn gassen (zoals Argon e.d.) die niet of nauwelijks reacties met andere stoffen aangaan
E133: Chemische blusvloeistof: mengsel van organische zouten(schuim) bedoeld voor een snelle vlammenbestrijding en beheersing van vetbranden. A: indien "Soort blusinstallatie" is "Vetbrandblusinstallatie" dan "Soort blusmiddel" is "Chemische blusvloeistof"
E135: Water: indien "Soort blusinstallatie" is "Sprinklerinstallatie droog, nat of gemengd systeem", dan "Soort blusmiddel" is "Water"
E137: Watermist: indien "Soort blusinstallatie" is "Watermistinstallatie" dan "Soort blusmiddel" is "Watermist"
E139: Schuim: indien "Soort blusinstallatie" is "Sprinklerinstallatie schuimblussysteem" dan "Soort blusmiddel" is "Schuim"
E141: Aerosol: indien "Soort blusinstallatie is Aerosolblusinstallatie" dan "Soort blusmiddel" is "Aerosol"
B143: Aantal gasflessen | E143: Indien soort blusmiddel is CO2, chemisch gas, Halon, Inerte gassen of stikstof, aantal gasfglessen en inhoud in kg aangeven.
B145: Inhoud gasflessen (kg)
B147: Blusmiddel HFK houdend | C147: >
D148: Ja
D149: Nee
B151: Soort HFK | C151: >
D152: NOVEC1230
D153: FM200
D154: FE 25
E156: NOVEC1230: Blusgas (heptafluoroisopropyl)
E158: FM200: Blusgas (heptafluoropropaan) ook bekend als R227
E160: FE 25: Blusgas (pentafluoroethaan) ook bekend als R125
B162: GWP-waarde (ton) | E162: Relatie met soort HFK, opgenomen in de F-gassenverordening (EU) nr. 517/2014. Bij nieuwe installaties moet de GWP waarde worden vermeld op de kenplaat (typeplaatje). Bij bestaande installaties kan een sticker met de gegevens worden bijgeplakt.
B164: CO2-equivalent inhoud (ton) | E164: Het CO2 equivalent wordt berekend door de GWP waarde van het blusmiddel x hoeveelheid blusmiddel.
...

Sheet 65.13.03.01
B1: Component | D1: Automatisch werkende blusinstallatie decentraal
B2: versie 6.4 dd 14-02-2017 | D2: 65.13.03.01 Automatisch werkende blusinstallatie decentraal
B4: Datadefinitie | D4: Automatisch werkende blusinstallatie decentraal is een installatie met de mogelijkheid tot het blussen van branden in meerdere ruimtes die in werking treedt naar aanleiding van een signaal van een of meerdere detectie- en/of meldeenheden.
B5: Inwininstructie | D5: Geen.
B7: BRV
B9: Objectcode | D9: =IF(ISBLANK(Voorblad!B$16),"",(Voorblad!B$16)) -> 51B12
B11: Gebouwcode | D11: =IF(ISBLANK(Voorblad!B$17),"",(Voorblad!B$17)) -> 248
B13: Bouwlaagcode | C13: >
D14: 0
D15: 1
D16: 2
D17: 3
D18: 4
D19: 5
D20: 6
D21: 7
D22: 8
D23: 9
D24: 10
D25: 11
... D39: Z
B41: Ruimtecode | E41: Registreren in de ruimte waar de regeleenheidblusstuurcentrale staat
B43: RBI
B45: BI-code | D45: < intern VGI nummer > | E45: BI-code om component/toepassing uniek aan te duiden. Niet invullen. Het betreft een intern VGI nummer
B47: Aantal | D47: < 1 >
B49: Fabrikaat | E49: Hiermee wordt de fabrikant van de blusstuurcentrale bedoeld.
B51: Type | E51: Hiermee wordt de typeaanduiding van de fabrikant op de blusstuurcentrale bedoeld.
B53: Serienummer
B55: Installatienummer
B57: Nadere locatiebepaling | E57: Vrij veld om de locatie van de installatie te verduidelijken.
B59: Bouwjaar
B61: Nadere specificatie bwd/instl | E61: Vrij veld om specifieke kenmerken van de installatie aan te geven.
B63: Specifiek
B65: Soort blusinstallatie | C65: >
D66: Gasblusinstallatie
D67: Aerosolblusinstallatie
D68: Vetbrandblusinstallatie
D69: Sprinklerinstallatie, droog systeem
D70: Sprinklerinstallatie, nat systeem
D71: Sprinklerinstallatie, gemengd systeem
D72: Sprinklerinstallatie, schuimblussysteem
D73: Watermistinstallatie
E75: Gasblusinstallatie: een installatie die door inbrengen van gas in een ruimte het vuur dooft. Dit wordt met name gebruikt insituaties waar het gevaarlijk of erg schadelijk is om met water te blussen
E77: Aerosolblussystemen gebruiken een droge stof die een reactie aangaat met stoffen die tijdens een brand ontstaan.
E79: Vetbrandblusinstallatie is een automatisch brandblussysteem, meestal in keukensystemen, dat gebruik maakt van een chemische vloeistof als blusmiddel voor aan kookvet of -olie gerelateerde branden.
E81: Sprinklerinstallatie, droog: indien de installatie niet is geactiveerd staat er geen water in de leidingen vanaf de waterleiding naar de sproeikoppen van de sprinklerinstallatie
E83: Sprinklerinstallatie, nat: hoewel de installatie niet is geactiveerd zijn alle leidingen van het systeem met water gevuld tot aan de sproeikoppen
E85: Sprinklerinstallatie, gemengd systeem: Een combinatie van zowel natte, als droge leidingen en sprinklerkoppen
E87: Sprinklerinstallatie, schuimblussysteem: Een installatie die door inbrengen van schuim in een ruimte het vuur dooft. De installatie kan zowel volledig in schuim als als sprinklerinstallatie met bijmenging van schuim zijn uitgevoerd
E89: Watermistinstallatie: Een installatie die door inbrengen van een fijne nevelvan minuscule waterdeeltjes in een ruimte het vuur dooft.
B91: Type watervoorziening | C91: > | E91: Indien "Soort blusinstallatie" is "Sprinklerinstallatie" dan "Type Watervoorziening" is "wateropslagreservoir, waterleiding of grondwater" Wateropslagreservoir als separaat component registreren
D92: Wateropslagreservoir
D93: Waterleiding
D94: Grondwater
D95: Open water
B97: Schuimbijmenging | C97: > | E97: Indien "Soort blusinstallatie" is "Sprinklerinstallatie nat, door of gemengd systeem " dan "Schuimbijmenging" is "Ja of Nee"
D98: Ja
D99: Nee
B101: Brandweeraansluiting | C101: > | E101: Indien "Soort blusinstallatie" is "Sprinklerinstallatie" dan "Brandweeraansluiting" is "Ja of Nee"
D102: Ja
D103: Nee
B105: Pomp/drukverhogingsinstallatie aanwezig | C105: > | E105: Indien "Soort blusinstallatie" is "Sprinklerinstallatie" dan "Pomp/drukverhoginsinstallatie aanwezig" is "Ja of Nee"
D106: Ja
D107: Nee
B109: Alarmkleppen (stuks)
B111: Stromingsschakelaars (stuks)
B113: Sprinklers droog (stuks)
B115: Sprinklers nat (stuks)
B117: Soort blusmiddel | C117: > | E117: Indien "Soort blusinstallatie" is "Sprinklerinstallatie" dan "Soort blusmiddel" is "Water". Indien "Soort blusinstallatie" is "Gasblusinstallatie" dan "Soort blusmiddel" is "CO2, Halon, Inerte gassen, Stikstof, Chemische gassen of HFK".
D118: CO2
D119: Chemische gassen
D120: Halon
D121: Inerte gassen
D122: Stikstof
D123: Chemische blusvloeistof
D124: Water
D125: Watermist
D126: Schuim
D127: Aerosol
E129: Halon: Indien "Soort blusinstallatie" is "Gasblusinstallatie" dan "Soort blusmiddel" is "CO2, Halon, Inerte gassen, Stikstof, Chemische gassen"
E131: Inerte gassen: dit zijn gassen (zoals Argon e.d.) die niet of nauwelijks reacties met andere stoffen aangaan
E133: Chemische blusvloeistof: mengsel van organische zouten(schuim) bedoeld voor een snelle vlammenbestrijding en beheersing van vetbranden. A: indien "Soort blusinstallatie" is "Vetbrandblusinstallatie" dan "Soort blusmiddel" is "Chemische blusvloeistof"
E135: Water: indien "Soort blusinstallatie" is "Sprinklerinstallatie droog, nat of gemengd systeem", dan "Soort blusmiddel" is "Water"
E137: Watermist: indien "Soort blusinstallatie" is "Watermistinstallatie" dan "Soort blusmiddel" is "Watermist"
E139: Schuim: indien "Soort blusinstallatie" is "Sprinklerinstallatie schuimblussysteem" dan "Soort blusmiddel" is "Schuim"
E141: Aerosol: indien "Soort blusinstallatie is Aerosolblusinstallatie" dan "Soort blusmiddel" is "Aerosol"
B143: Aantal gasflessen | E143: Indien soort blusmiddel is CO2, chemisch gas, Halon, Inerte gassen of stikstof, aantal gasfglessen en inhoud in kg aangeven.
B145: Inhoud gasflessen (kg)
B147: Blusmiddel HFK houdend | C147: >
D148: Ja
D149: Nee
B151: Soort HFK | C151: >
D152: NOVEC1230
D153: FM200
D154: FE 25
E156: NOVEC1230: Blusgas (heptafluoroisopropyl)
E158: FM200: Blusgas (heptafluoropropaan) ook bekend als R227
E160: FE 25: Blusgas (pentafluoroethaan) ook bekend als R125
B162: GWP-waarde (ton) | E162: Relatie met soort HFK, opgenomen in de F-gassenverordening (EU) nr. 517/2014. Bij nieuwe installaties moet de GWP waarde worden vermeld op de kenplaat (typeplaatje). Bij bestaande installaties kan een sticker met de gegevens worden bijgeplakt.
B164: CO2-equivalent inhoud (ton) | E164: Het CO2 equivalent wordt berekend door de GWP waarde van het blusmiddel x hoeveelheid blusmiddel.
...

Sheet 65.13.04.00
B1: Component | D1: Rookbeheersingsinstallatie
B2: versie 6.0 dd 14-11-2016 | D2: 65.13.04.00 Rookbeheersingsinstallatie
B4: Datadefinitie | D4: Een rookbeheersingsinstallatie is een installatie voor het tijdig in voldoende mate afvoeren van rook en warmte of het tegenhouden van rook, om veilig te kunnen vluchten of een binnenaanval door de brandweer mogelijk te maken, die in werking treedt naar aanleiding van een signaal van brand door een of meerdere detectie- en/of meldeenheden
B5: Inwininstructie | D5: Geen.
B7: BRV
B9: Objectcode | D9: =IF(ISBLANK(Voorblad!B$16),"",(Voorblad!B$16)) -> 51B12
B11: Gebouwcode | D11: =IF(ISBLANK(Voorblad!B$17),"",(Voorblad!B$17)) -> 248
B13: Bouwlaagcode | C13: >
D14: 0
D15: 1
D16: 2
D17: 3
D18: 4
D19: 5
D20: 6
D21: 7
D22: 8
D23: 9
D24: 10
D25: 11
... D39: Z
B41: Ruimtecode | E41: Ruimtecode volgens registratie door VGI in BRV.
B43: RBI
B45: BI-code | C45: > | D45: < intern VGI nummer > | E45: BI-code om component/toepassing uniek aan te duiden. Niet invullen. Het betreft een intern VGI nummer
B47: Aantal | D47: < 1 >
B49: Fabrikaat
B51: Type
B53: Serienummer
B55: Installatienummer
B57: Nadere locatiebepaling | E57: Vrij veld om de locatie van de installatie te verduidelijken.
B59: Bouwjaar
B61: Nadere specificatie bwd/instl | E61: Vrij veld om specifieke kenmerken van de installatie aan te geven.
B63: Specifiek
B65: Soort rookbeheersingsinstallatie | C65: > | E65: Rookbeheersinginstallaties kunnen in verschillende vormen voorkomen. Separaat in een van de drie hiernaast omschreven vormen,.maar ook een cmbinatie van deze systemene is mogelijk. In het laatste geval dienen alle systemen separaat te worden geinventariseerd.
D66: RWA natuurlijk
D67: RWA mechanisch
D68: Overdruk
D69: Stuwdruk
E71: Een RWA installatie is een installatie die via openingen in het dak, zgn rookluiken, zorgt voor de afvoer van rook en warmte op een natuurlijke wijze.
E73: Een RWA installatie is een installatie die via openingen in het dak, zgn rookluiken, zorgt voor de afvoer van rook en warmte op mechanische wijze dmv rookgasventilatoren.
E75: Een overdrukinstallatie is een installatie die er dmv ventilatoren voor zorgt dat bepaalde ruimtes van een gebouw op een hogere druk worden gebracht waardoor wordt voorkomen dat rook doordringt in bijvoorbeeld trappenhuizen en liftschachten.
E77: Een stuwdrukinstallatie is een installatie die dmv ventilatoren zorgt voor een gecontroleerde afvoer van rook en warmte in bijvoorbeeld tunnels en parkeergarages.
B79: Ventilatoren (stuks) | E79: Indien soort rookbeheersingssysteem is overdruk of stuwdruk of RWA mechanisch aantal ventilatoren registreren
B81: Brandluiken (stuks) | E81: Indien soort rookbeheersingssysteem is RWA natuurlijk of mechanisch aantal brandluiken registreren

Sheet 65.21.01.00
B1: Component | D1: Braakdetectie- en alarmeringssysteem
B2: versie x.x dd xx-xx-xxxx | D2: 65.21.01.00 Braakdetectie- en alarmeringssysteem
B4: Datadefinitie | D4: N.n.b.
B5: Inwininstructie | D5: Geen.
B7: BRV
B9: Objectcode | D9: =IF(ISBLANK(#REF!),"",(#REF!)) -> #REF!
B11: Gebouwcode | D11: =IF(ISBLANK(#REF!),"",(#REF!)) -> #REF!
B13: RBI
B15: DVD-code | E15: Indien 2 of meer installaties voorkomen in 1 gebouw, dient bij de DVD-code een volgnummer ingevuld te worden.
B17: Aantal | D17: < 1 >
B19: Fabrikaat
B21: Type
B23: Serienummer
B25: Nadere locatiebepaling | E25: Vrij veld om de locatie van de installatie te verduidelijken.
B27: Bouwjaar
B29: Nadere specificatie bwd/instl | E29: Vrij veld om specifieke kenmerken van de installatie aan te geven.
B31: Specifiek

Sheet 65.22.01.00
B1: Component | D1: Toegangscontrolesysteem gebouw
B2: versie x.x dd xx-xx-xxxx | D2: 65.22.01.00 Toegangscontrolesysteem gebouw
B4: Datadefinitie | D4: N.n.b.
B5: Inwininstructie | D5: Geen.
B7: BRV
B9: Objectcode | D9: =IF(ISBLANK(#REF!),"",(#REF!)) -> #REF!
B11: Gebouwcode | D11: =IF(ISBLANK(#REF!),"",(#REF!)) -> #REF!
B13: RBI
B15: DVD-code | E15: Indien 2 of meer installaties voorkomen in 1 gebouw, dient bij de DVD-code een volgnummer ingevuld te worden.
B17: Aantal | D17: < 1 >
B19: Fabrikaat
B21: Type
B23: Serienummer
B25: Nadere locatiebepaling | E25: Vrij veld om de locatie van de installatie te verduidelijken.
B27: Bouwjaar
B29: Nadere specificatie bwd/instl | E29: Vrij veld om specifieke kenmerken van de installatie aan te geven.
B31: Specifiek

Sheet 65.30.01.00
B1: Component | D1: Lichtwering
B2: versie 6.0 dd 02-10-2009 | D2: 65.30.01.00 Lichtwering
B4: Datadefinitie | D4: Lichtwering is een elektrisch aangedreven installatie aan de buitenzijde van een gebouw om de lichttoetreding en/of de verduistering van een gebouw te kunnen regelen.
B5: Inwininstructie | D5: Geen.
B7: BRV
B9: Objectcode | D9: =IF(ISBLANK(Voorblad!B$16),"",(Voorblad!B$16)) -> 51B12
B11: Gebouwcode | D11: =IF(ISBLANK(Voorblad!B$17),"",(Voorblad!B$17)) -> 248
B13: RBI
B15: Aantal | D15: < 1 >
B17: Nadere locatiebepaling | E17: Vrij veld om de locatie van de installatie te verduidelijken.
B19: Bouwjaar
B21: Nadere specificatie bwd/instl | E21: Vrij veld om specifieke kenmerken van de installatie aan te geven.
B23: Specifiek
B25: Aantal afzonderlijke lichtweringen in stuks | E25: Indicatie van het aantal elektrisch aangedreven afzonderlijke lichtweringen per gebouw.

Sheet 65.35.01.00
B1: Component | D1: Gasdetectiesysteem
B2: versie 6.1 dd 23-12-2011 | D2: 65.35.01.00 Gasdetectiesysteem
B4: Datadefinitie | D4: Gasdetectiesysteem is een installatie t.b.v. de detectie op aanwezigheid van niet gewenste gassen.
B5: Inwininstructie | D5: Geen.
B7: BRV
B9: Objectcode | D9: =IF(ISBLANK(Voorblad!B$16),"",(Voorblad!B$16)) -> 51B12
B11: Gebouwcode | D11: =IF(ISBLANK(Voorblad!B$17),"",(Voorblad!B$17)) -> 248
B13: Bouwlaagcode | C13: >
D14: 0
D15: 1
D16: 2
D17: 3
D18: 4
D19: 5
D20: 6
D21: 7
D22: 8
D23: 9
D24: 10
D25: 11
... D39: Z
B41: Ruimtecode | E41: Registreren in de ruimte waarin de centrale van het systeem is. Ruimtecode volgens registratie door VGI in BRV.
B43: RBI
B45: BI-code | D45: < intern VGI nummer > | E45: BI-code om component/toepassing uniek aan te duiden. Niet invullen. Het betreft een intern VGI nummer
B47: Aantal | D47: < 1 >
B49: Fabrikaat
B51: Type
B53: Serienummer
B55: Installatienummer
B57: Nadere locatiebepaling | E57: Vrij veld om de locatie van de installatie te verduidelijken.
B59: Bouwjaar
B61: Nadere specificatie bwd/instl | E61: Vrij veld om specifieke kenmerken van de installatie aan te geven.
B63: Specifiek
B65: Soort gasdetectiesysteem | C65: >
D66: Aardgas
D67: Blauwzuurgas
D68: CO
D69: CO2
D70: Freon
D71: Hydrazine
D72: NO2

Sheet 66.10.01.00
B1: Component | D1: Lift
B2: versie 6.3 dd 23-12-2011 | D2: 66.10.01.00 Lift
B4: Datadefinitie | D4: Lift is een gesloten kooi ten behoeve van het vertikaal verplaatsen van goederen en/of personen.
B5: Inwininstructie | D5: Geen.
B7: BRV
B9: Objectcode | D9: =IF(ISBLANK(Voorblad!B$16),"",(Voorblad!B$16)) -> 51B12
B11: Gebouwcode | D11: =IF(ISBLANK(Voorblad!B$17),"",(Voorblad!B$17)) -> 248
B13: Bouwlaagcode | C13: >
D14: 0
D15: 1
D16: 2
D17: 3
D18: 4
D19: 5
D20: 6
D21: 7
D22: 8
D23: 9
D24: 10
D25: 11
... D39: Z
B41: Ruimtecode | E41: Lift in beginsel registreren in de ruimte waarin de liftdeur zich bevindt op de stopplaats op de begane grond. Ruimtecode volgens registratie door VGI in BRV.
B43: RBI
B45: BI-code | D45: < intern VGI nummer > | E45: BI-code om component/toepassing uniek aan te duiden. Niet invullen. Het betreft een intern VGI nummer
B47: Aantal | D47: < 1 >
B49: Fabrikaat
B51: Type
B53: Serienummer
B55: Installatienummer
B57: Nadere locatiebepaling | E57: Vrij veld om de locatie van de installatie te verduidelijken.
B59: Bouwjaar
B61: Nadere specificatie bwd/instl | E61: Vrij veld om specifieke kenmerken van de installatie aan te geven.
B63: Specifiek
B65: Soort lift | C65: >
E66: Een brandweerlift is een personenlift die bij een calamiteit aan de brandweer beschikbaar gesteld kan worden. Deze kan worden herkend aan het pictogram en de brandweerschakelaar op de beganegrond.
D67: Goederen
D68: Personen
D69: Brandweerlift
D70: Traplift
B72: Maximale draagvermogen in kg
B74: Stopplaatsen in stuks

Sheet 66.30.01.00
B1: Component | D1: Hefplateau
B2: versie 6.1 dd 23-11-2011 | D2: 66.30.01.00 Hefplateau
B4: Datadefinitie | D4: Hefplateau is een open installatie (plateau) ten behoeve van het vertikaal verplaatsten van goederen of mindervalide personen.
B5: Inwininstructie | D5: Indien het hefplateau zich buiten het gebouw bevindt, dan registreren bij de dichtstbijzijnde ruimte.
B7: BRV
B9: Objectcode | D9: =IF(ISBLANK(Voorblad!B$16),"",(Voorblad!B$16)) -> 51B12
B11: Gebouwcode | D11: =IF(ISBLANK(Voorblad!B$17),"",(Voorblad!B$17)) -> 248
B13: Bouwlaagcode | C13: >
D14: 0
D15: 1
D16: 2
D17: 3
D18: 4
D19: 5
D20: 6
D21: 7
D22: 8
D23: 9
D24: 10
D25: 11
... D39: Z
B41: Ruimtecode | E41: Ruimtecode volgens registratie door VGI in BRV.
B43: RBI
B45: BI-code | D45: < intern VGI nummer > | E45: BI-code om component/toepassing uniek aan te duiden. Niet invullen. Het betreft een intern VGI nummer
B47: Aantal | D47: < 1 >
B49: Fabrikaat
B51: Type
B53: Serienummer
B55: Installatienummer
B57: Nadere locatiebepaling | E57: Vrij veld om de locatie van de installatie te verduidelijken.
B59: Bouwjaar
B61: Nadere specificatie bwd/instl | E61: Vrij veld om specifieke kenmerken van de installatie aan te geven.
B63: Specifiek
B65: Soort hefplateau | C65: >
D66: Goederen
D67: Personen
B69: Maximale draagvermogen in kg

Sheet 66.36.01.00
B1: Component | D1: Hijswerktuig in gebouw
B2: versie 6.2 dd 23-12-2011 | D2: 66.36.01.00 Hijswerktuig in gebouw
B4: Datadefinitie | D4: Hijswerktuig in gebouw is een voorziening in of aan een gebouw om goederen tijdelijk op te takelen.
B5: Inwininstructie | D5: Geen.
B7: BRV
B9: Objectcode | D9: =IF(ISBLANK(Voorblad!B$16),"",(Voorblad!B$16)) -> 51B12
B11: Gebouwcode | D11: =IF(ISBLANK(Voorblad!B$17),"",(Voorblad!B$17)) -> 248
B13: Bouwlaagcode | C13: >
D14: 0
D15: 1
D16: 2
D17: 3
D18: 4
D19: 5
D20: 6
D21: 7
D22: 8
D23: 9
D24: 10
D25: 11
... D39: Z
B41: Ruimtecode | E41: Ruimtecode volgens registratie door VGI in BRV.
B43: RBI
B45: BI-code | D45: < intern VGI nummer > | E45: BI-code om component/toepassing uniek aan te duiden. Niet invullen. Het betreft een intern VGI nummer
B47: Aantal | D47: < 1 >
B49: Fabrikaat | E49: Registreer hier de leveranciersnaam.
B51: Type | E51: Type van de kraan/loopkat
B53: Serienummer | E53: Serienummer van de kraan/loopkat
B55: Installatienummer | E55: Installatienummer van de kraan/loopkat
B57: Nadere locatiebepaling | E57: Vrij veld om de locatie van de installatie te verduidelijken.
B59: Bouwjaar
B61: Nadere specificatie bwd/instl | E61: Vrij veld om specifieke kenmerken van de installatie aan te geven.
B63: Specifiek
B66: Maximaal hefvermogen in kg | C66: >
B68: Soort hijswerktuig in gebouw | C68: >
D69: Kraan aan rails
D70: Vaste kraan
E72: Kraan aan rails: verrijdbare kraan welke beweegt aan een railbaan
E74: Vaste kraan: niet verrijdbare kraan met of zonder arm
B76: Hijshoogte in m | E76: Hijshoogte is de afstand van de onderkant van het hijspunt (haak) tot aan bovenkant van de afgewerkte vloer.

Sheet 72.22.01.00
B1: Component | D1: Tandartsstoel
B2: versie 1.1 dd 08-03-2016 | D2: 72.22.1.00 Tandartsstoel
B4: Datadefinitie | D4: Een tandartstoel is een voorziening ten behoeve van het uitvoeren van tandtechnische medische behandelingen.
B5: Inwininstructie | D5: Geen.
B7: BRV
B9: Objectcode | D9: =IF(ISBLANK(Voorblad!B$16),"",(Voorblad!B$16)) -> 51B12
B11: Gebouwcode | D11: =IF(ISBLANK(Voorblad!B$17),"",(Voorblad!B$17)) -> 248
B13: Bouwlaagcode | C13: >
D14: 0
D15: 1
D16: 2
D17: 3
D18: 4
D19: 5
D20: 6
D21: 7
D22: 8
D23: 9
D24: 10
D25: 11
... D39: Z
B41: Ruimtecode
B43: RBI
B45: BI-code | D45: < intern VGI nummer > | E45: BI-code om component/toepassing uniek aan te duiden. Niet invullen. Het betreft een intern VGI nummer
B47: Aantal | D47: < 1 >
B49: Fabrikaat
B51: Type
B53: Nadere locatiebepaling | E53: Vrij veld om de locatie van de installatie te verduidelijken.
B55: Bouwjaar
B57: Nadere specificatie bwd/instl | E57: Vrij veld om specifieke kenmerken van de installatie aan te geven.
B59: Specifiek
B61: aangesloten op leidingwater | C61: >
D62: Ja
D63: Nee

Sheet 75.10.01.00
B1: Component | D1: Valbeveiliging
B2: versie 6.5 dd 20-03-2019 | D2: 75.10.01.00 Valbeveiliging
B4: Datadefinitie | D4: Valbeveiliging is een voorziening bestaande uit een of meerdere onderdelen ter voorkoming van valgevaar van daken, bij inspecties of onderhoud van installaties en/of bouwdelen
B5: Inwininstructie | D5: Valbeveiliging wordt alleen daar aangebracht waar dit noodzakelijk is om onderhoud en/of reparaties, danwel inspecties te laten uitvoeren aan bouwdelen of installaties die op daken zijn geplaatst. Valbeveiliging kan in verschillende vormen voorkomen. Meestal gaat het om een geintegreerd syteem, waarin verschillende voorzieningen zijn gecombineerd. Het systeem kan bestaan uit individuele ankerpunten of een kabel-, c.q. railsysteem waaraan men zich middels een vallijn en een harnas kan vastmaken. E.e.a. kan worden gecombineerd met een hekwerk op gedeelten van het dak, bijv. alleen ter plaatse van de dakopgang of een leuning om de omtrek van het gehele dakvlak. De toegang tot het dak maakt ook onderdeel uit van de de valbeveiliging. De toegang tot het dak kan op verschillende manieren zijn geregeld. Van buitenaf met een losse ladder waarbij het gebouw voorzien moet zijn van een of meerdere ladderopstelpunten of ladderbeugels, via een gevelladder (al dan niet draaibaar) of kooiladder. Van binnenuit kan de toegang via een inpandige (technische) ruimte plaatsvinden rechtstreeks via een deur die toegang geeft tot het dak of via een luik door middel van een losse trap/ladder of een vlizotrap. De aantallen van de aanwezige voorzieningen dienen per soort voorziening worden geregistreerd.
B7: BRV
B9: Objectcode | D9: =IF(ISBLANK(Voorblad!B$16),"",(Voorblad!B$16)) -> 51B12
B11: Gebouwcode | D11: =IF(ISBLANK(Voorblad!B$17),"",(Voorblad!B$17)) -> 248
B13: RBI
B15: BI-code | D15: < intern VGI nummer > | E15: BI-code om component/toepassing uniek aan te duiden. Niet invullen. Het betreft een intern VGI nummer
B17: Aantal | D17: < 1 >
B19: Fabrikaat
B21: Type
B23: Nadere locatiebepaling | E23: Vrij veld om de locatie van de installatie te verduidelijken.
B25: Bouwjaar
B27: Nadere specificatie bwd/instl | E27: Indien er sprake is van combinaties van voorzieningen kan hier nadere informatie over deze combinaties worden vermeld.
B29: Specifiek
B31: Soort valbeveiliging | C31: >
D32: Integraal veiligheidssysteem
E34: Integraal veiligheidssysteem: Systeem van kabels en/of rails waaraan DVD-medewerkers zich kunnen zekeren bij het werken op een vlak dak Een systeem van voorzieningen om veilig werken op hoogte mogelijk te maken. Dit syteem kan bestaan uit een samenstelling van de diverse losse componenten.
B36: Aantal dakvlakken
B38: Hoogste dakvlak (in m1)
B40: Type hekwerk | C40: > | E40: Een hekwerk is een voorziening om vallen over de dakrand te voorkomen. Als een hekwerk onderdeel uitmaakt van een "Integraal
E41: veiligheidssysteem" moet hier het type hekwerk worden aangegeven. Wanneer meerdere types hekwerk voorkomen dient gekozen
E42: te worden voor de optie "combinatie" van verschillende types.
D43: Nader te bepalen
D44: Hekwerk los opgelegd
D45: Hekwerk vast verankerd
D46: Combinatie los opgelegd/vast verankerd hekwerk
B48: Lengte hekwerk (in m1) | E48: Als een hekwerk aanwezig is moet dewaarde in veld "Lengte hekwerk" > 0 zijn
E49: De totale lengte van alle op het gebouw aanwezige hekwerken registreren
B51: Type Daktoegang | C51: > | E51: Als "Daktoegang" onderdeel uitmaakt van een "Integraal veiligheidssysteem", dient het type daktoegang te worden aangegeven. Wanneer meerdere types daktoegang voorkomen dient gekozen te worden voor de optie "combinatie" van verschillende types.
E52: Wanneer meerdere types daktoegang voorkomen dient gekozen te worden voor de optie "combinatie" van verschillende types.
D53: Nader te bepalen
D54: Lichtkoepel of -straat
D55: Luik
D56: Deur
D57: Loopbrug los opgelegd
D58: Loopbrug vast verankerd
D59: Op- en afstapvoorziening
D60: Combinatie diverse daktoegangen
B62: Aantal daktoegangen | E62: Als daktoegang onderdeel uitmaakt van een "integraal veiligheidssysteem" moet de waarde in veld "Aantal daktoegangen" > 0 zijn.
E63: Het totaal aantal op het gebouw aanwezige daktoegangen registreren
B65: Type markering | C65: > | E65: Als "Markering" onderdeel uitmaakt van een "Integraal veiligheidssysteem" moet hier het "Type markering" worden aangegeven.
E66: Wanneer meerdere types markering aanwezig zijn dient gekozen te worden voor de "combinatie" van verschillende types.
D67: Nader te bepalen
D68: Fysieke afscheiding
D69: Gebiedsmarkering
D70: Pictogram
D71: Combinatie diverse markeringen
B73: Type lijnbeveiligingssysteem | C73: > | E73: Als een lijnbeveiligingssysteem onderdeel uitmaakt van een "Integraal veiligheidssysteem" moet hier het "Type
E74: Lijnbeveiligingssysteem" worden aangegeven. Wanneer meerdere types lijnbeveiliging aanwezig zijn dient gekozen te worden voor
E75: de optie "combinatie" van verschillende types.
D76: Nader te bepalen
D77: Lijnbeveiliging hellend dak
D78: Lijnbeveiliging op betonnen ondergrond
D79: Lijnbeveiliging op houten ondergrond
D80: Lijnbeveiliging op stalen ondergrond
D81: Combinatie verschillende systemen
B83: Aantal lijnbeveilgingssystemen | E83: Als een "lijnbeveiligingssysteem" onderdeel uitmaakt van een "integraal veiligheidssysteem" moet de waarde in veld "Aantal
E84: lijnbeveiligingssystemen" > 0 zijn.
E85: Het totaal aantal op het gebouw aanwezige kabelsystemen registreren
B87: Lengte kabelsysteem in (m1) | E87: Als "lijnbeveiligingssysteem" onderdeel uitmaakt van een "integraal veiligheidssysteem" moet de waarde in veld "Lengte
E88: kabelsysteem" > 0 zijn
E89: De totale lengte van alle op het gebouw aanwezige kabelsystemen registreren
B91: Type ankerpunten | C91: > | E91: Als "Ankerpunten" onderdeel uitmaken van een "Integraal veiligheidssysteem" moet hier het "Type ankerpunten" worden
E92: aangegeven. Wanneer meerdere types ankerpunten aanwezig zijn dient gekozen te worden voor de optie "combinatie" van
E93: verschillende types..
D94: Nader te bepalen
D95: Ankerpunt op betonnen ondergrond
D96: Ankerpunt op houten ondergrond
D97: Ankerpunt op stalen ondergrond
D98: Anti pendule ankerpunt
D99: Muurankerpunt
D100: Dak (ladder of klim) haak
D101: Combinatie diverse ankerpunten
B103: Aantal individuele ankerpunten | E103: Als "ankerpunt" onderdeel uitmaaken van een "Integraal veiligheidssysteem" moet de waarde in veld "Aantal individuele
E104: ankerpunten" > 0 zijn
E105: Het totaal aantal op/aan het gebouw aanwezige ankerpunten registreren
B107: Type klimvoorziening | C107: > | E107: Om het dak te bereiken is in de meeste gevallen een klimvoorziening aanwezig. Deze maakt onderdeel uit van een "Integraal
E108: veiligheidssysteem". Het type klimvoorziening dient hier te worden aangegeven. Wanneer meerdere types klimvoorziening
E109: aanwezig zijn dient gekozen te worden voor de optie "combinatie" van verschillende types.
D110: Nader te bepalen
D111: Ladderopstelplaats tbv losse ladder
D112: Kooiladder los opgelegd
D113: Kooiladder vast verankerd
D114: Bordestrap verrijdbaar
D115: Gevelladder los opgelegd
D116: Gevelladder vast verankerd
D117: Vaste trap vast verankerd
D118: Vlizotrap
D119: Combinatie diverse klimvoorzieningen
B121: Aantal ladderopstelpunten | E121: Als "Type Klimvoorziening" is "Losse ladder met ladderopstelpunt" moet de waarde in veld "Aantal ladderopstelpunten" > 0 zijn
E122: Het totaal aantal op/aan het gebouw aanwezige ladderopstelpunten registreren
B124: Aantal kooiladders | E124: Een kooiladder is een vast aan de gevel bevestige klimvoorziening, geheel of gedeeltelijk omgeven door een kooiconstructie Als
E125: "Type Klimvoorziening" is "Kooiladder" dan moet de waarde in veld "Aantal kooiladders" > 0 zijn
E126: Het totaal aantal op/aan het gebouw aanwezige kooiladders registreren
B128: Aantal gevelladders | E128: Een gevelladderis een vast aan de gevel bevestigde klimvoorziening. Als "Type Klimvoorziening" is "Gevelladder" moet de waarde in
E129: veld "Aantal gevelladders" > 0 zijn
E130: Het totaal aantal op/aan het gebouw aanwezige gevelladders registreren
B132: Aantal vaste trappen | E132: Een vaste trap is vast aan het gebouw bevestigde voorziening om het dak te kunnen betreden. Als "Type Klimvoorziening" is "Vaste
...

Sheet 75.13.01.00
B1: Component | D1: Gevelonderhoudsvoorziening
B2: versie 6.1 dd 23-12-2011 | D2: 75.13.01.00 Gevelonderhoudsvoorziening
B4: Datadefinitie | D4: Gevelonderhoudsvoorziening is een voorziening waardoor onderhoud en reiniging aan de gevel kan worden uitgevoerd.
B5: Inwininstructie | D5: Geen.
B7: BRV
B9: Objectcode | D9: =IF(ISBLANK(Voorblad!B$16),"",(Voorblad!B$16)) -> 51B12
B11: Gebouwcode | D11: =IF(ISBLANK(Voorblad!B$17),"",(Voorblad!B$17)) -> 248
B13: RBI
B15: BI-code | D15: < intern VGI nummer > | E15: BI-code om component/toepassing uniek aan te duiden. Niet invullen. Het betreft een intern VGI nummer
B17: Aantal | D17: < 1 >
B19: Fabrikaat
B21: Type
B23: Serienummer
B25: Installatienummer
B27: Nadere locatiebepaling | E27: Vrij veld om de locatie van de installatie te verduidelijken.
B29: Bouwjaar
B31: Nadere specificatie bwd/instl | E31: Vrij veld om specifieke kenmerken van de installatie aan te geven.

Sheet 90.38.10.01
B1: Component | D1: Schietbaan in terrein
B2: versie 6.0 dd 02-10-2009 | D2: 90.38.10.01 Schietbaan in terrein
B4: Datadefinitie | D4: Schietbaan waar met scherp wordt geschoten in een gebouw, of een deel van een gebouw, zonder open zijden en met een geheel gesloten afdekking.
B5: Inwininstructie | D5: Geen.
B7: BRV
B9: Objectcode | D9: =IF(ISBLANK(Voorblad!B$16),"",(Voorblad!B$16)) -> 51B12
B11: RBI
B13: RVB-code | E13: Indien 2 of meer installaties voorkomen op 1 object, dient bij de RVB-code een volgnummer ingevuld te worden.
B15: Aantal | D15: < 1 >
B17: Bouwjaar
B19: Nadere specificatie bwd/instl | E19: Vrij veld om specifieke kenmerken van de installatie aan te geven.
B21: Specifiek
B23: Aantal schietpunten in stuks
B25: Baanlengte in m1
B27: Soort schietbaan | C27: >
D28: Kokerbaan
D29: Miniatuurschietbaan
D30: Poortbaan
D31: Poortkokerbaan
D32: Schermenbaan
D33: Vrije schietbaan
D34: Gevechtsschietbaan
E36: Kokerbaan: Schietbaan met slechts enen open zijde achter de standplaats van de schutter(s)
E38: Miniatuurschietbaan: Schietbaan waarbij geschoten wordt met geweren bevestigd aan of in boordkanonnen van voertuigen
E40: Poortbaan: Schietbaan waar door openingen (poorten) in een met hout beklede betonnen constructie wordt geschoten
E42: Poortkokerbaan: Schietbaan waarbij d.m.v. een poort en een koker wordt voorkomen dat direct schot en/of een ricochet de baan kan verlaten , zonder onveilige strook
E44: Schermenbaan: Schietbaan met horizontale geplaatste schermen boven de baan altijd voorzien van zijwanden of -wallen en een overdekte kogelvanger
E46: Vrije schietbaan: Schietbaan zonder voorzieningen ter beperking van de onveilige strook
E48: Gevechtsschietbaan: Schietbaan waarbij schutters en/of voertuigen zich verplaatsen over een schietbaan met wisselende opkomende doelen
B50: Soort kogelvanger | C50: >
D51: Zand
D52: Lamellen
B54: Electrische doelvoorstellingsapparatuur | C54: >
D55: Ja
D56: Nee

Sheet 90.41.01.00
B1: Component | D1: Vloeistofdichte voorziening in terrein
B2: versie 6.3 dd 04-03-2019 | D2: 90.41.01.00 Vloeistofdichte voorziening in terrein
B4: Datadefinitie | D4: Vloeistofdichte voorziening in terrein is een betonnen calamiteitenvoorziening ter voorkoming van indringing van milieugevaarlijke stoffen in de bodem in een terrein.
B5: Inwininstructie | D5: Alleen die voorzieningen waarvoor een PBV-verklaring (Plan Bodembeschermende Voorzieningen) is afgegeven. Gegevens van certificaat en/of rapport overnemen.
B6: Inwininstructie | D6: Metalen lekbakken hoeven niet geinventariseerd te worden.
B8: BRV
B10: Objectcode | D10: =IF(ISBLANK(Voorblad!B$16),"",(Voorblad!B$16)) -> 51B12
B12: RBI
B14: RVB-code | E14: Indien 2 of meer installaties voorkomen in 1 object, dient bij de RVB-code een volgnummer ingevuld te worden.
E15: De voorziening wordt ook weergeven in Bastion met dezelfde codering. Deze codering dient per object uniek te zijn.
B17: Aantal | D17: < 1 >
B19: Nadere locatiebepaling | E19: Vrij veld om de locatie van de installatie te verduidelijken.
B21: Bouwjaar
B23: Nadere specificatie bwd/instl | E23: Vrij veld om specifieke kenmerken van de installatie aan te geven.
B25: Specifiek
B27: Soort vloeistofdichte voorziening in gebouw | C27: > | E27: Lekbak: ten behoeve van calamiteiten opvang van bodembedreigende stoffen.
D28: Lekbak
D29: Verharding
B31: Oppervlakte vloeistofdichte voorziening in m2
B33: Bodembedreigende activiteit | C33: > | E33: Activiteit op basis waarvan de vloeistofdichte voorziening noodzakelijk wordt geacht.
D34: Opslag van bodembedreigende stoffen
D35: Tanken van voertuigen en/of vliegtuigen
D36: Wassen van voertuigen en/of vliegtuigen
D37: Werken met bodembedreigende stoffen
B39: Riolering aanwezig | C39: >
D40: Ja
D41: Nee
B43: Aanlegjaar riolering

Sheet 90.42.01.00
B1: Component | D1: Wegen en algemene voorzieningen op en langs wegen
B2: versie 6.0 dd 02-10-2009 | D2: 90.42.01.00 Wegen en algemene voorzieningen op en langs wegen
B4: Datadefinitie | D4: Wegen en algemene voorzieningen op en langs wegen zijn voorzieningen die onderhoud behoeven ter voorkoming van gevaarlijke situaties.
B5: Inwininstructie | D5: Alleen de wegen en algemene voorzieningen die in onderhoud zijn bij Defensie.
B7: BRV
B9: Objectcode | D9: =IF(ISBLANK(Voorblad!B$16),"",(Voorblad!B$16)) -> 51B12
B11: RBI
B13: Aantal | D13: < 1 >
B15: Nadere locatiebepaling | E15: Vrij veld om de locatie van de installatie te verduidelijken.
B17: Nadere specificatie bwd/instl | E17: Vrij veld om specifieke kenmerken van de installatie aan te geven.
B19: Specifiek

Sheet 90.43.01.00
B1: Component | D1: Blusvijver
B2: versie 2.1 dd 04-03-2019 | D2: 90.53.01.00 Blusvijver
B4: Datadefinitie | D4: Blusvijver is een waterpartij op een Defensieterrein, waaruit de brandweer een voorgeschreven hoeveelheid bluswater kan onttrekken. Deze waterpartij staat opgenomen in het brandbestrijdingsplan van de brandweer.
B5: Inwininstructie | D5: De gegevens worden 1 keer per jaar geupdate op basis van de bevraging van de MGE database.
B7: BRV
B9: Objectcode | D9: =IF(ISBLANK(Voorblad!B$16),"",(Voorblad!B$16)) -> 51B12
B11: RBI
B13: RVB-code | E13: Indien 2 of meer installaties voorkomen in 1 object, dient bij de RVB-code een volgnummer ingevuld te worden.
E14: De blusvijver wordt ook weergeven in Bastion met dezelfde codering. Deze codering dient per object uniek te zijn.
B16: Aantal | D16: < 1 >
B18: Nadere locatiebepaling | E18: Vrij veld om de locatie van de installatie te verduidelijken.
B20: Nadere specificatie bwd/instl | E20: Vrij veld om specifieke kenmerken van de installatie aan te geven.
B22: Oppervlakte (m²)
B24: Inhoud (liter)
B26: Specifiek
B28: Soort blusvijver | C28: >
D29: Folievijver
D30: Rubbervijver
D31: Natuurvijver
D32: Open water
B34: Constructie blusvijver | C34: >
D35: Gegraven
D36: Dijklichaam
B38: Prioriteit | C38: >
D39: Primair
D40: Secundair (defaultwaarde)
D41: Tertiair
E43: Een primaire bluswatervoorziening is een bluswatervoorziening die: - de mogelijkheid biedt om binnen anderhalve m inuut aan te sluiten - na aansluitingdirect en onafgebroken 60 m3/h kan leveren
E45: Een secundaire bluswatervoorziening is een bluswatervoorziening naast de primaire bluswatervoorziening, (Continu beschikbare capaciteit 90 m3/h, duur 5 uur)
E47: Een tertiaire bluswatervoorziening is een bluswatervoorziening ten behoeve van rampenbestrijding (Continu beschikbare capaciteit 300 m3/h, continu)
B49: Inhoud blusvijver (m³)
B51: Brandweeropstelplaats | C51: >
D52: Ja
D53: Nee
B55: Pompvoorziening | C55: >
D56: Ja
D57: Nee
B59: Zuighoogte (meter) | E59: Hoogteverschil waterniveau en hoogste opstelplaats

Sheet 90.50.10.01
B1: Component | D1: Leiding
B2: versie x.x dd xx-xx-xxxx | D2: 90.50.10.01 Leiding
B4: Datadefinitie | D4: N.n.b.
B5: Inwininstructie | D5: geen.
B7: BRV
B9: Objectcode | D9: =IF(ISBLANK(#REF!),"",(#REF!)) -> #REF!
B11: RBI
B13: DVD-code | E13: Indien 2 of meer installaties voorkomen op 1 object, dient bij de DVD-code een volgnummer ingevuld te worden.
B15: Aantal | D15: < 1 >
B17: Fabrikaat
B19: Serienummer
B21: Installatienummer
B23: Nadere locatiebepaling | E23: Vrij veld om de locatie van de installatie te verduidelijken.
B25: Bouwjaar
B27: Nadere specificatie bwd/instl | E27: Vrij veld om specifieke kenmerken van de installatie aan te geven.
B29: Specifiek

Sheet 90.50.10.02
B1: Component | D1: Tank-pomp installatie BOS-pomp
B2: versie 6.0 dd 02-10-2009 | D2: 90.50.10.02 Tank-pompinstallatie BOS-pomp
B4: Datadefinitie | D4: Tank-pomp installatie BOS-pomp is een voorziening, bestaande uit tankautomaten, pompen en slanghaspels incl. tankpistolen, om voertuigen te voorzien van brandstof.
B5: Inwininstructie | D5: Opslagtanks en vloeistofdichte voorzieningen worden bij een andere component geregistreerd.
B7: BRV
B9: Objectcode | D9: =IF(ISBLANK(Voorblad!B$16),"",(Voorblad!B$16)) -> 51B12
B11: RBI
B13: RVB-code | E13: Indien 2 of meer installaties voorkomen op 1 object, dient bij de RVB-code een volgnummer ingevuld te worden.
B15: Aantal | D15: < 1 >
B17: Installatienummer
B19: Nadere locatiebepaling | E19: Vrij veld om de locatie van de installatie te verduidelijken.
B21: Bouwjaar
B23: Nadere specificatie bwd/instl | E23: Vrij veld om specifieke kenmerken van de installatie aan te geven.
B25: Specifiek
B27: Aantal tankpistolen in stuks
B29: Te leveren brandstof | C29: >
D30: Benzine
D31: Benzine en diesel
D32: Diesel

Sheet 90.50.10.03
B1: Component | D1: Tank-pomp installatie Jet Fuel Storage Installation
B2: versie 6.0 dd 02-10-2009 | D2: 90.50.10.03 Tank-pompinstallatie BOS-pomp
B4: Datadefinitie | D4: Tank-pomp installatie Jet Fuel Storage Installation is een voorziening voor het behandelen en verpompen en leveren van brandstof t.b.v. vliegtuigen.
B5: Inwininstructie | D5: De tanks en AFS-leidingen worden bij een andere component geregistreerd.
B7: BRV
B9: Objectcode | D9: =IF(ISBLANK(Voorblad!B$16),"",(Voorblad!B$16)) -> 51B12
B11: RBI
B13: RVB-code | E13: Indien 2 of meer installaties voorkomen op 1 object, dient bij de RVB-code een volgnummer ingevuld te worden.
B15: Aantal | D15: < 1 >
B17: Installatienummer
B19: Nadere locatiebepaling | E19: Vrij veld om de locatie van de installatie te verduidelijken.
B21: Bouwjaar
B23: Nadere specificatie bwd/instl | E23: Vrij veld om specifieke kenmerken van de installatie aan te geven.
B25: Specifiek

Sheet 90.52.20.01
B1: Component | D1: Septictank
B2: versie 6.5 dd 04-03-2019 | D2: 90.52.20.01 Septictank
B4: Datadefinitie | D4: Septictank is een put waarin vuilwater door rotting gereinigd wordt.
B5: Inwininstructie | D5: Geen.
B7: BRV
B9: Objectcode | D9: =IF(ISBLANK(Voorblad!B$16),"",(Voorblad!B$16)) -> 51B12
B12: RBI
B14: RVB-code | E14: Indien 2 of meer installaties voorkomen in 1 gebouw, dient bij de RVB-code een volgnummer ingevuld te worden.
E15: De sceptictank wordt ook weergeven in Bastion met dezelfde codering. Deze codering dient per object uniek te zijn.
B17: Aantal | D17: < 1 >
B19: Fabrikaat
B21: Type
B23: Installatienummer
B25: Nadere locatiebepaling | E25: Vrij veld om de locatie van de installatie te verduidelijken.
B27: Bouwjaar
B29: Nadere specificatie bwd/instl | E29: Vrij veld om specifieke kenmerken van de installatie aan te geven.
B31: Inhoud in m3
B33: Specifiek

Sheet 90.52.30.01
B1: Component | D1: Olieafscheider in terrein
B2: versie 6.7 dd 04-03-2019 | D2: 90.52.30.01 Olieafscheider in terrein
B4: Datadefinitie | D4: Olieafscheider in terrein is een voorziening in het terrein om olie te scheiden van het water.
B5: Inwininstructie | D5: Veelal staat op het deksel om welk soort afscheider het gaat.
B7: BRV
B9: Objectcode | D9: =IF(ISBLANK(Voorblad!B$16),"",(Voorblad!B$16)) -> 51B12
B11: RBI
B13: RVB-code | E13: Indien 2 of meer installaties voorkomen in 1 ruimte, dient bij de RVB-code een volgnummer ingevuld te worden.
E14: De olieafscheider wordt ook weergeven in Bastion met dezelfde codering. Deze codering dient per object uniek te zijn.
B16: Aantal | D16: < 1 >
B18: Fabrikaat
B20: Type
B22: Nadere locatiebepaling | E22: Vrij veld om de locatie van de installatie te verduidelijken.
B24: Bouwjaar
B26: Nadere specificatie bwd/instl | E26: Vrij veld om specifieke kenmerken van de installatie aan te geven.
B28: Inhoud in m3 | E28: Inhoud t.b.v. schoonmaakcontract.
B30: Specifiek
B32: Materiaal | C32: >
D33: Beton
D34: Gietijzer
D35: Kunststof
D36: Plaatstaal
B38: Inhoud integraal slibvang in m3 | E38: Dit is de inhoud tbv schoonmaakcontract van het slibvanggedeelte van een integraal afscheider, waarde tussen 0 en 100.
B40: Inhoud olieopvang | E40: Dit is de inhoud tbv schoonmaakcontract van het oliebergende gedeelte van een integraal afscheider.
B42: Niveausignalering | C42: > | E42: Wordt ook wel automatische doormelding genoemd. Indien zwaailamp fysiek aanwezig is dan "Ja".
D43: Ja
D44: Nee
B46: Coalescentiefilter | C46: > | E46: Een filter welke d.m.v. cohesie ervoor zorgt dat oliedeeltjes grotere druppels vormen die gaan drijven en zodoende te verwijderen zijn.
D47: Ja
D48: Nee
B50: Capaciteit in l/s | E50: Capaciteit is af te lezen van het RVS-plaatje die in de olieafscheider te vinden moet zijn.
B52: Lozing op | C52: >
D53: DWA-riool
D54: Gemengd riool
D55: HWA-riool
D56: Infiltratie in bodem
D57: Oppervlaktewater

Sheet 90.52.30.02
B1: Component | D1: Slibvang in terrein
B2: versie 6.4 dd 04-03-2019 | D2: 90.52.30.02 Slibvang in terrein
B4: Datadefinitie | D4: Slibvang in terrein is een put behorende bij een olieafscheider, waarin slibdeeltjes < 63 µm in het water door de zwaartekracht naar de bodem zinken en zodoende te verwijderen zijn.
B5: Inwininstructie | D5: Niet zijnde integraal slibvang.
B7: BRV
B9: Objectcode | D9: =IF(ISBLANK(Voorblad!B$16),"",(Voorblad!B$16)) -> 51B12
B11: RBI
B13: RVB-code | E13: Indien 2 of meer installaties voorkomen in 1 ruimte, dient bij de RVB-code een volgnummer ingevuld te worden.
E14: De slibvanger wordt ook weergeven in Bastion met dezelfde codering. Deze codering dient per object uniek te zijn.
B16: Aantal | D16: < 1 >
B18: Fabrikaat
B20: Type
B22: Nadere locatiebepaling | E22: Vrij veld om de locatie van de installatie te verduidelijken.
B24: Bouwjaar
B26: Nadere specificatie bwd/instl | E26: Vrij veld om specifieke kenmerken van de installatie aan te geven.
B28: Inhoud in m3 | E28: Inhoud t.b.v. schoonmaakcontract.
B30: Specifiek
B32: Materiaal | C32: >
D33: Beton
D34: Gietijzer
D35: Kunststof
D36: Plaatstaal
D38: DWA-riool
D39: Gemengd riool
D40: HWA-riool
D41: Infiltratie in bodem
D42: Oppervlaktewater

Sheet 90.52.30.03
B1: Component | D1: Monsternameput in terrein
B2: versie 6.4 dd 04-03-2019 | D2: 90.52.30.03 Monsternameput in terrein
B4: Datadefinitie | D4: Monsternameput in terrein is een put, behorende bij een olieafscheider, waarin men monsters kan nemen om de kwaliteit van het afvalwater te bepalen.
B5: Inwininstructie | D5: Nvt.
B7: BRV
B9: Objectcode | D9: =IF(ISBLANK(Voorblad!B$16),"",(Voorblad!B$16)) -> 51B12
B11: RBI
B13: RVB-code | E13: Indien 2 of meer installaties voorkomen in 1 ruimte, dient bij de RVB-code een volgnummer ingevuld te worden.
E14: De monstername voorziening wordt ook weergeven in Bastion met dezelfde codering. Deze codering dient per object uniek te zijn.
B16: Aantal | D16: < 1 >
B18: Fabrikaat
B20: Type
B22: Nadere locatiebepaling | E22: Vrij veld om de locatie van de installatie te verduidelijken.
B24: Bouwjaar
B26: Nadere specificatie bwd/instl | E26: Vrij veld om specifieke kenmerken van de installatie aan te geven.
B28: Inhoud in m3 | E28: Inhoud t.b.v. schoonmaakcontract.
B30: Specifiek
B32: Materiaal
D33: Beton
D34: Gietijzer
D35: Kunststof
D36: Plaatstaal
D38: DWA-riool
D39: Gemengd riool
D40: HWA-riool
D41: Infiltratie in bodem
D42: Oppervlaktewater

Sheet 90.52.30.04
B1: Component | D1: Vetafscheider
B2: versie 6.3 dd 04-03-2019 | D2: 90.52.30.04 Vetafscheider
B4: Datadefinitie | D4: Vetafscheider is een voorziening in of nabij een gebouw, om vet te scheiden van water.
B5: Inwininstructie | D5: Het deksel van de vetafscheider is meestal opgenomen in de vloer van de desbetreffende ruimte.
B6: Inwininstructie | D6: Veelal staat op het deksel om welk soort afscheider het gaat.
B8: BRV
B10: Objectcode | D10: =IF(ISBLANK(Voorblad!B$16),"",(Voorblad!B$16)) -> 51B12
B12: Gebouwcode | D12: =IF(ISBLANK(Voorblad!B$17),"",(Voorblad!B$17)) -> 248
B14: Bouwlaagcode | C14: >
D15: 0
D16: 1
D17: 2
D18: 3
D19: 4
D20: 5
D21: 6
D22: 7
D23: 8
D24: 9
D25: 10
D26: 11
... D40: Z
B42: Ruimtecode | E42: Indien de vetafscheider zich buiten het gebouw bevindt dan deze registreren in de dichtstbijzijnde ruimte in het gebouw. Ruimtecode volgens registratie door VGI in BRV.
B44: RBI
B46: RVB-code | E46: Indien 2 of meer installaties voorkomen in 1 ruimte, dient bij de RVB-code een volgnummer ingevuld te worden.
E47: De vetafscheider wordt ook weergeven in Bastion met dezelfde codering. Deze codering dient per object uniek te zijn.
B49: Aantal | D49: < 1 >
B51: Fabrikaat
B53: Type
