Workbook
Name offerteuur: 'Offerte uurtarief'!$E$39
Name offerteuurolga: 'Offerte uurtarief OLGA'!$E$42
Name qc: #REF!
Name qcolga: #REF!
Name totkol: Parameters!$C$18
Name tUren: Normenblad!$CI$9
Name tUrenOlga: Normenblad!A1048558

Sheet Inventarisatiestaat
A1: Klantnaam | B1: Locatie | C1: Ruimtesoort | D1: Etage | E1: Ruimtenr | F1: Ruimte | G1: Vloerafwerking | H1: Opp. in m² | I1: Freq
A2: Design Academy Eindhoven | B2: Emmasingel | C2: Verkeersruimte | D2: Begane Grond | E2: 0.01 | F2: Entree | G2: Lino | H2: 25 | I2: 245 | AA2: Design Academy Eindhoven, Emmasingel, 0.01 | AB2: =COUNTIF(AA:AA,AA2) -> 1
A3: Design Academy Eindhoven | B3: Emmasingel | C3: Verkeersruimte | D3: Begane Grond | E3: 0.02 | F3: Trappenhuis | G3: Steen | H3: 10 | I3: 245 | AA3: Design Academy Eindhoven, Emmasingel, 0.02 | AB3: =COUNTIF(AA:AA,AA3) -> 1
A4: Design Academy Eindhoven | B4: Emmasingel | C4: Verkeersruimte | D4: Begane Grond | E4: 0.03 | F4: Gang | G4: Lino | H4: 116 | I4: 245 | AA4: Design Academy Eindhoven, Emmasingel, 0.03 | AB4: =COUNTIF(AA:AA,AA4) -> 1
A5: Design Academy Eindhoven | B5: Emmasingel | C5: Verkeersruimte | D5: Begane Grond | E5: 0.04 | F5: Trappenhuis | G5: Steen | H5: 32.5 | I5: 245 | AA5: Design Academy Eindhoven, Emmasingel, 0.04 | AB5: =COUNTIF(AA:AA,AA5) -> 1
A6: Design Academy Eindhoven | B6: Emmasingel | C6: Niet In Onderhoud | D6: Begane Grond | E6: 0.05 | F6: Magazijn | G6: Lino | H6: 49 | I6: 0 | AA6: Design Academy Eindhoven, Emmasingel, 0.05 | AB6: =COUNTIF(AA:AA,AA6) -> 1
A7: Design Academy Eindhoven | B7: Emmasingel | C7: Kantoor | D7: Begane Grond | E7: 0.06 | F7: Conciërge | G7: Lino | H7: 49 | I7: 245 | AA7: Design Academy Eindhoven, Emmasingel, 0.06 | AB7: =COUNTIF(AA:AA,AA7) -> 1
A8: Design Academy Eindhoven | B8: Emmasingel | C8: Verkeersruimte | D8: Begane Grond | E8: 0.07 | F8: Lift | G8: Metaal | H8: 3.6 | I8: 245 | AA8: Design Academy Eindhoven, Emmasingel, 0.07 | AB8: =COUNTIF(AA:AA,AA8) -> 1
A9: Design Academy Eindhoven | B9: Emmasingel | C9: Verkeersruimte | D9: Begane Grond | E9: 0.08 | F9: Lift | G9: Metaal | H9: 3.6 | I9: 245 | AA9: Design Academy Eindhoven, Emmasingel, 0.08 | AB9: =COUNTIF(AA:AA,AA9) -> 1
A10: Design Academy Eindhoven | B10: Emmasingel | C10: Verkeersruimte | D10: Begane Grond | E10: 0.09 | F10: Gang Tussenverdieping | G10: Lino | H10: 21.5 | I10: 245 | AA10: Design Academy Eindhoven, Emmasingel, 0.09 | AB10: =COUNTIF(AA:AA,AA10) -> 1
A11: Design Academy Eindhoven | B11: Emmasingel | C11: Verkeersruimte | D11: Begane Grond | E11: 0.10 | F11: Trappenhuis Tussenverdieping | G11: Steen | H11: 32.5 | I11: 245 | AA11: Design Academy Eindhoven, Emmasingel, 0.10 | AB11: =COUNTIF(AA:AA,AA11) -> 1
A12: Design Academy Eindhoven | B12: Emmasingel | C12: Niet In Onderhoud | D12: Begane Grond | E12: 0.11 | F12: Opslag Tussenverdieping | G12: Steen | H12: 39 | I12: 0 | AA12: Design Academy Eindhoven, Emmasingel, 0.11 | AB12: =COUNTIF(AA:AA,AA12) -> 1
A13: Design Academy Eindhoven | B13: Emmasingel | C13: Verkeersruimte | D13: Eerste Etage | E13: 1.01 | F13: Gang | G13: Lino | H13: 21.5 | I13: 245 | AA13: Design Academy Eindhoven, Emmasingel, 1.01 | AB13: =COUNTIF(AA:AA,AA13) -> 1
... A125: Design Academy Eindhoven | B125: Emmasingel | C125: Restauratief | D125: Zesde Etage | E125: 6.02 | F125: Restaurant | G125: Gietvloer | H125: 222 | I125: 245 | AA125: Design Academy Eindhoven, Emmasingel, 6.02 | AB125: =COUNTIF(AA:AA,AA125) -> 1

Sheet Controlegegevens SMC
A4: Overzicht SMC Calculatie
A6: Gecalculeerde uren:
B7: Uren SMO | D7: =tUren -> 0
B8: Uren Olga | D8: =tUrenOlga-tUren -> 0
A10: Overzicht kosten
B11: Kosten SMO | D11: =D7*offerteuur -> 0
B12: Kosten Olga | D12: =D8*offerteuurolga -> 0
A14: Overzicht kosten Kwaliteit
B15: QC SMO | D15: =qc -> #REF!
B16: QC Olga | D16: =qcolga -> #REF!
A18: Kosten per uur
B19: Kwaliteit SMO per uur | D19: =IF(ISERROR(D15/D7),0,D15/D7) -> 0 | E19: 0
B20: Kwaliteit Olga per uur | D20: =IF(ISERROR(D16/D8),0,D16/D8) -> 0 | E20: 0
A22: Overzicht kosten Beheer
B23: SMO | D23: =IF(ISERROR((5%*D11)/D7),0,(5%*D11)/D7) -> 0 | E23: 0
B24: Olga | D24: =IF(ISERROR((5%*D12)/D8),0,(5%*D12)/D8) -> 0 | E24: 0
A27: Uurtarief | D27: Incl | E27: Excl QC | F27: Excl FS | G27: Excl QC/FS
B28: Offerte | D28: =offerteuur -> 0 | E28: =D28-D19 -> 0 | F28: =D28-D23 -> 0 | G28: =D28-D19-D23 -> 0
B29: Offerte Olga | D29: =offerteuurolga -> 0 | E29: =D29-D20 -> 0 | F29: =D29-D24 -> 0 | G29: =D29-D20-D24 -> 0

Sheet Parameters
A1: Ruimtesoorten | B1: inhoud kolom wel/niet zichtbaar
A2: Entree | B2: =IF(ISERROR(SUM(Ruimtestaat!#REF!)),0,SUM(Ruimtestaat!#REF!)) -> 0 | C2: =IF(B2>0,"Zichtbaar","Verborgen") -> Verborgen
A3: Groepsruimte | B3: =IF(ISERROR(SUM(Ruimtestaat!#REF!)),0,SUM(Ruimtestaat!#REF!)) -> 0 | C3: =IF(B3>0,"Zichtbaar","Verborgen") -> Verborgen
A4: Kantoor | B4: =IF(ISERROR(SUM(Ruimtestaat!D:D)),0,SUM(Ruimtestaat!D:D)) -> 2166 | C4: =IF(B4>0,"Zichtbaar","Verborgen") -> Zichtbaar
A5: Lokaal | B5: =IF(ISERROR(SUM(Ruimtestaat!E:E)),0,SUM(Ruimtestaat!E:E)) -> 9740 | C5: =IF(B5>0,"Zichtbaar","Verborgen") -> Zichtbaar
A6: Pantry | B6: =IF(ISERROR(SUM(Ruimtestaat!#REF!)),0,SUM(Ruimtestaat!#REF!)) -> 0 | C6: =IF(B6>0,"Zichtbaar","Verborgen") -> Verborgen
A7: Publieksruimte | B7: =IF(ISERROR(SUM(Ruimtestaat!F:F)),0,SUM(Ruimtestaat!F:F)) -> 850 | C7: =IF(B7>0,"Zichtbaar","Verborgen") -> Zichtbaar
A8: Representatief | B8: =IF(ISERROR(SUM(Ruimtestaat!G:G)),0,SUM(Ruimtestaat!G:G)) -> 1556.8 | C8: =IF(B8>0,"Zichtbaar","Verborgen") -> Zichtbaar
A9: Restauratief | B9: =IF(ISERROR(SUM(Ruimtestaat!H:H)),0,SUM(Ruimtestaat!H:H)) -> 580 | C9: =IF(B9>0,"Zichtbaar","Verborgen") -> Zichtbaar
A10: Sanitair | B10: =IF(ISERROR(SUM(Ruimtestaat!I:I)),0,SUM(Ruimtestaat!I:I)) -> 532.2 | C10: =IF(B10>0,"Zichtbaar","Verborgen") -> Zichtbaar
A11: Sportzaal | B11: =IF(ISERROR(SUM(Ruimtestaat!#REF!)),0,SUM(Ruimtestaat!#REF!)) -> 0 | C11: =IF(B11>0,"Zichtbaar","Verborgen") -> Verborgen
A12: Verkeersruimte | B12: =IF(ISERROR(SUM(Ruimtestaat!J:J)),0,SUM(Ruimtestaat!J:J)) -> 4999.4 | C12: =IF(B12>0,"Zichtbaar","Verborgen") -> Zichtbaar
A13: Woonunit | B13: =IF(ISERROR(SUM(Ruimtestaat!#REF!)),0,SUM(Ruimtestaat!#REF!)) -> 0 | C13: =IF(B13>0,"Zichtbaar","Verborgen") -> Verborgen
A14: Werkplaats | B14: =IF(ISERROR(SUM(Ruimtestaat!K:K)),0,SUM(Ruimtestaat!K:K)) -> 2402 | C14: =IF(B14>0,"Zichtbaar","Verborgen") -> Zichtbaar
A15: Niet in Onderhoud | B15: =IF(ISERROR(SUM(Ruimtestaat!#REF!)),0,SUM(Ruimtestaat!#REF!)) -> 0 | C15: =IF(B15>0,"Zichtbaar","Verborgen") -> Verborgen
A16: Totaal | B16: 1 | C16: =IF(B16>0,"Zichtbaar","Verborgen") -> Zichtbaar
A17: tbv Ruimtestaat
C18: =COUNTIF(C2:C15,"Zichtbaar")+3 -> 11
A21: Naam klant | B21: =Inventarisatiestaat!A2 -> Design Academy Eindhoven
A22: Eerste letter | B22: =MID(B21,1,1) -> D

Sheet Ruimtestaat
B2: =UPPER(CONCATENATE("Ruimtestaat ",Inventarisatiestaat!A2)) -> RUIMTESTAAT DESIGN ACADEMY EINDHOVEN
B4: Locatie | C4: Acceptatie frequentie | D4: Kantoor | E4: Lokaal | F4: Publieksruimte | G4: Representatief | H4: Restauratief | I4: Sanitair | J4: Verkeersruimte | K4: Werkplaats | L4: TOTAAL M² locatie
B6: Emmasingel | C6: 490 | D6: =SUMIFS(Inventarisatiestaat!$H:$H,Inventarisatiestaat!$B:$B,$AU6,Inventarisatiestaat!$C:$C,D$4,Inventarisatiestaat!$I:$I,$C6) -> 0 | E6: =SUMIFS(Inventarisatiestaat!$H:$H,Inventarisatiestaat!$B:$B,$AU6,Inventarisatiestaat!$C:$C,E$4,Inventarisatiestaat!$I:$I,$C6) -> 0 | F6: =SUMIFS(Inventarisatiestaat!$H:$H,Inventarisatiestaat!$B:$B,$AU6,Inventarisatiestaat!$C:$C,F$4,Inventarisatiestaat!$I:$I,$C6) -> 0 | G6: =SUMIFS(Inventarisatiestaat!$H:$H,Inventarisatiestaat!$B:$B,$AU6,Inventarisatiestaat!$C:$C,G$4,Inventarisatiestaat!$I:$I,$C6) -> 0 | H6: =SUMIFS(Inventarisatiestaat!$H:$H,Inventarisatiestaat!$B:$B,$AU6,Inventarisatiestaat!$C:$C,H$4,Inventarisatiestaat!$I:$I,$C6) -> 0 | I6: =SUMIFS(Inventarisatiestaat!$H:$H,Inventarisatiestaat!$B:$B,$AU6,Inventarisatiestaat!$C:$C,I$4,Inventarisatiestaat!$I:$I,$C6) -> 266.1 | J6: =SUMIFS(Inventarisatiestaat!$H:$H,Inventarisatiestaat!$B:$B,$AU6,Inventarisatiestaat!$C:$C,J$4,Inventarisatiestaat!$I:$I,$C6) -> 0 | K6: =SUMIFS(Inventarisatiestaat!$H:$H,Inventarisatiestaat!$B:$B,$AU6,Inventarisatiestaat!$C:$C,K$4,Inventarisatiestaat!$I:$I,$C6) -> 0 | L6: =SUM(D6:K8) -> 11413.2 | AU6: Emmasingel | AV6: =COUNTIF($AU$6:$AU$8, AU6) -> 3
C7: 245 | D7: =SUMIFS(Inventarisatiestaat!$H:$H,Inventarisatiestaat!$B:$B,$AU7,Inventarisatiestaat!$C:$C,D$4,Inventarisatiestaat!$I:$I,$C7) -> 1083 | E7: =SUMIFS(Inventarisatiestaat!$H:$H,Inventarisatiestaat!$B:$B,$AU7,Inventarisatiestaat!$C:$C,E$4,Inventarisatiestaat!$I:$I,$C7) -> 4870 | F7: =SUMIFS(Inventarisatiestaat!$H:$H,Inventarisatiestaat!$B:$B,$AU7,Inventarisatiestaat!$C:$C,F$4,Inventarisatiestaat!$I:$I,$C7) -> 425 | G7: =SUMIFS(Inventarisatiestaat!$H:$H,Inventarisatiestaat!$B:$B,$AU7,Inventarisatiestaat!$C:$C,G$4,Inventarisatiestaat!$I:$I,$C7) -> 778.4 | H7: =SUMIFS(Inventarisatiestaat!$H:$H,Inventarisatiestaat!$B:$B,$AU7,Inventarisatiestaat!$C:$C,H$4,Inventarisatiestaat!$I:$I,$C7) -> 290 | I7: =SUMIFS(Inventarisatiestaat!$H:$H,Inventarisatiestaat!$B:$B,$AU7,Inventarisatiestaat!$C:$C,I$4,Inventarisatiestaat!$I:$I,$C7) -> 0 | J7: =SUMIFS(Inventarisatiestaat!$H:$H,Inventarisatiestaat!$B:$B,$AU7,Inventarisatiestaat!$C:$C,J$4,Inventarisatiestaat!$I:$I,$C7) -> 2301.7 | K7: =SUMIFS(Inventarisatiestaat!$H:$H,Inventarisatiestaat!$B:$B,$AU7,Inventarisatiestaat!$C:$C,K$4,Inventarisatiestaat!$I:$I,$C7) -> 1201 | AU7: Emmasingel | AV7: =COUNTIF($AU$6:$AU$8, AU7) -> 3
C8: 49 | D8: =SUMIFS(Inventarisatiestaat!$H:$H,Inventarisatiestaat!$B:$B,$AU8,Inventarisatiestaat!$C:$C,D$4,Inventarisatiestaat!$I:$I,$C8) -> 0 | E8: =SUMIFS(Inventarisatiestaat!$H:$H,Inventarisatiestaat!$B:$B,$AU8,Inventarisatiestaat!$C:$C,E$4,Inventarisatiestaat!$I:$I,$C8) -> 0 | F8: =SUMIFS(Inventarisatiestaat!$H:$H,Inventarisatiestaat!$B:$B,$AU8,Inventarisatiestaat!$C:$C,F$4,Inventarisatiestaat!$I:$I,$C8) -> 0 | G8: =SUMIFS(Inventarisatiestaat!$H:$H,Inventarisatiestaat!$B:$B,$AU8,Inventarisatiestaat!$C:$C,G$4,Inventarisatiestaat!$I:$I,$C8) -> 0 | H8: =SUMIFS(Inventarisatiestaat!$H:$H,Inventarisatiestaat!$B:$B,$AU8,Inventarisatiestaat!$C:$C,H$4,Inventarisatiestaat!$I:$I,$C8) -> 0 | I8: =SUMIFS(Inventarisatiestaat!$H:$H,Inventarisatiestaat!$B:$B,$AU8,Inventarisatiestaat!$C:$C,I$4,Inventarisatiestaat!$I:$I,$C8) -> 0 | J8: =SUMIFS(Inventarisatiestaat!$H:$H,Inventarisatiestaat!$B:$B,$AU8,Inventarisatiestaat!$C:$C,J$4,Inventarisatiestaat!$I:$I,$C8) -> 198 | K8: =SUMIFS(Inventarisatiestaat!$H:$H,Inventarisatiestaat!$B:$B,$AU8,Inventarisatiestaat!$C:$C,K$4,Inventarisatiestaat!$I:$I,$C8) -> 0 | AU8: Emmasingel | AV8: =COUNTIF($AU$6:$AU$8, AU8) -> 3
B9: Totaal | D9: =SUM(D$6:D8) -> 1083 | E9: =SUM(E$6:E8) -> 4870 | F9: =SUM(F$6:F8) -> 425 | G9: =SUM(G$6:G8) -> 778.4 | H9: =SUM(H$6:H8) -> 290 | I9: =SUM(I$6:I8) -> 266.1 | J9: =SUM(J$6:J8) -> 2499.7 | K9: =SUM(K$6:K8) -> 1201 | L9: =SUM(L$6:L8) -> 11413.2

Sheet Normenblad
B2: =UPPER(CONCATENATE("Normenblad ",Inventarisatiestaat!A2)) -> NORMENBLAD DESIGN ACADEMY EINDHOVEN
B4: Locatie | C4: Acceptatie frequentie | D4: Kantoor | E4: Lokaal | F4: Publieksruimte | G4: Representatief | H4: Restauratief | I4: Sanitair | J4: Verkeersruimte | K4: Werkplaats | L4: Minimale taakgrootte | AV4: loca | AW4: Uniek | AZ4: Kantoor | BA4: Lokaal | BB4: Publieksruimte | BC4: Representatief | BD4: Restauratief | BE4: Sanitair | BF4: Verkeersruimte | BG4: Werkplaats | BH4: Minimale taak | BI4: Gemiddelde norm | BM4: Kantoor | BN4: Lokaal | BO4: Publieksruimte | BP4: Representatief | BQ4: Restauratief | BR4: Sanitair | BS4: Verkeersruimte | BT4: Werkplaats | BU4: Minimale taak | BV4: Totale m2 per jaar | BZ4: Kantoor | CA4: Lokaal | CB4: Publieksruimte | CC4: Representatief | CD4: Restauratief | CE4: Sanitair | CF4: Verkeersruimte | CG4: Werkplaats | CH4: Minimale taak | CI4: totaal uren per jaar
B6: Emmasingel | C6: 490 | D6: =IF(AZ6=0,"","in m2/uur") | E6: =IF(BA6=0,"","in m2/uur") | F6: =IF(BB6=0,"","in m2/uur") | G6: =IF(BC6=0,"","in m2/uur") | H6: =IF(BD6=0,"","in m2/uur") | I6: =IF(BE6=0,"","in m2/uur") -> in m2/uur | J6: =IF(BF6=0,"","in m2/uur") | K6: =IF(BG6=0,"","in m2/uur") | L6: =IF(BH6=0,"","in uren/dag") -> in uren/dag | M6: =IF(AY6>=BI6,BV6/CI6,"Alles invullen") -> Alles invullen | AV6: Emmasingel | AW6: =COUNTIF($AV$6:$AV$8, AV6) -> 3 | AY6: =COUNTIF(D6:K8,">0") -> 0 | AZ6: =IF(ISERROR(Ruimtestaat!D6),0,IF(Ruimtestaat!D6>0,1,0)) -> 0 | BA6: =IF(ISERROR(Ruimtestaat!E6),0,IF(Ruimtestaat!E6>0,1,0)) -> 0 | BB6: =IF(ISERROR(Ruimtestaat!F6),0,IF(Ruimtestaat!F6>0,1,0)) -> 0 | BC6: =IF(ISERROR(Ruimtestaat!G6),0,IF(Ruimtestaat!G6>0,1,0)) -> 0 | BD6: =IF(ISERROR(Ruimtestaat!H6),0,IF(Ruimtestaat!H6>0,1,0)) -> 0 | BE6: =IF(ISERROR(Ruimtestaat!I6),0,IF(Ruimtestaat!I6>0,1,0)) -> 1 | BF6: =IF(ISERROR(Ruimtestaat!J6),0,IF(Ruimtestaat!J6>0,1,0)) -> 0 | BG6: =IF(ISERROR(Ruimtestaat!K6),0,IF(Ruimtestaat!K6>0,1,0)) -> 0 | BH6: 1 | BI6: =SUM(AZ6:BG8) -> 9 | BM6: =IF(AZ6=0,0,Ruimtestaat!D6*Ruimtestaat!$C6) -> 0 | BN6: =IF(BA6=0,0,Ruimtestaat!E6*Ruimtestaat!$C6) -> 0 | BO6: =IF(BB6=0,0,Ruimtestaat!F6*Ruimtestaat!$C6) -> 0 | BP6: =IF(BC6=0,0,Ruimtestaat!G6*Ruimtestaat!$C6) -> 0 | BQ6: =IF(BD6=0,0,Ruimtestaat!H6*Ruimtestaat!$C6) -> 0 | BR6: =IF(BE6=0,0,Ruimtestaat!I6*Ruimtestaat!$C6) -> 130389 | BS6: =IF(BF6=0,0,Ruimtestaat!J6*Ruimtestaat!$C6) -> 0 | BT6: =IF(BG6=0,0,Ruimtestaat!K6*Ruimtestaat!$C6) -> 0 | BV6: =SUM(BM6:BT8) -> 2822620.5 | BZ6: =IF(AZ6=0,0,IF(ISTEXT(D6),0,BM6/D6)) -> 0 | CA6: =IF(BA6=0,0,IF(ISTEXT(E6),0,BN6/E6)) -> 0 | CB6: =IF(BB6=0,0,IF(ISTEXT(F6),0,BO6/F6)) -> 0 | CC6: =IF(BC6=0,0,IF(ISTEXT(G6),0,BP6/G6)) -> 0 | CD6: =IF(BD6=0,0,IF(ISTEXT(H6),0,BQ6/H6)) -> 0 | CE6: =IF(BE6=0,0,IF(ISTEXT(I6),0,BR6/I6)) -> 0 | CF6: =IF(BF6=0,0,IF(ISTEXT(J6),0,BS6/J6)) -> 0 | CG6: =IF(BG6=0,0,IF(ISTEXT(K6),0,BT6/K6)) -> 0 | CH6: =IF(ISNUMBER(L6),IF(SUM(BZ6:CG8)<C6*L6,(C6*L6)-SUM(BZ6:CG8),0),0) -> 0 | CI6: =SUM(BZ6:CH8) -> 0
C7: 245 | D7: =IF(AZ7=0,"","in m2/uur") -> in m2/uur | E7: =IF(BA7=0,"","in m2/uur") -> in m2/uur | F7: =IF(BB7=0,"","in m2/uur") -> in m2/uur | G7: =IF(BC7=0,"","in m2/uur") -> in m2/uur | H7: =IF(BD7=0,"","in m2/uur") -> in m2/uur | I7: =IF(BE7=0,"","in m2/uur") | J7: =IF(BF7=0,"","in m2/uur") -> in m2/uur | K7: =IF(BG7=0,"","in m2/uur") -> in m2/uur | AV7: Emmasingel | AW7: =COUNTIF($AV$6:$AV$8, AV7) -> 3 | AZ7: =IF(ISERROR(Ruimtestaat!D7),0,IF(Ruimtestaat!D7>0,1,0)) -> 1 | BA7: =IF(ISERROR(Ruimtestaat!E7),0,IF(Ruimtestaat!E7>0,1,0)) -> 1 | BB7: =IF(ISERROR(Ruimtestaat!F7),0,IF(Ruimtestaat!F7>0,1,0)) -> 1 | BC7: =IF(ISERROR(Ruimtestaat!G7),0,IF(Ruimtestaat!G7>0,1,0)) -> 1 | BD7: =IF(ISERROR(Ruimtestaat!H7),0,IF(Ruimtestaat!H7>0,1,0)) -> 1 | BE7: =IF(ISERROR(Ruimtestaat!I7),0,IF(Ruimtestaat!I7>0,1,0)) -> 0 | BF7: =IF(ISERROR(Ruimtestaat!J7),0,IF(Ruimtestaat!J7>0,1,0)) -> 1 | BG7: =IF(ISERROR(Ruimtestaat!K7),0,IF(Ruimtestaat!K7>0,1,0)) -> 1 | BM7: =IF(AZ7=0,0,Ruimtestaat!D7*Ruimtestaat!$C7) -> 265335 | BN7: =IF(BA7=0,0,Ruimtestaat!E7*Ruimtestaat!$C7) -> 1193150 | BO7: =IF(BB7=0,0,Ruimtestaat!F7*Ruimtestaat!$C7) -> 104125 | BP7: =IF(BC7=0,0,Ruimtestaat!G7*Ruimtestaat!$C7) -> 190708 | BQ7: =IF(BD7=0,0,Ruimtestaat!H7*Ruimtestaat!$C7) -> 71050 | BR7: =IF(BE7=0,0,Ruimtestaat!I7*Ruimtestaat!$C7) -> 0 | BS7: =IF(BF7=0,0,Ruimtestaat!J7*Ruimtestaat!$C7) -> 563916.5 | BT7: =IF(BG7=0,0,Ruimtestaat!K7*Ruimtestaat!$C7) -> 294245 | BZ7: =IF(AZ7=0,0,IF(ISTEXT(D7),0,BM7/D7)) -> 0 | CA7: =IF(BA7=0,0,IF(ISTEXT(E7),0,BN7/E7)) -> 0 | CB7: =IF(BB7=0,0,IF(ISTEXT(F7),0,BO7/F7)) -> 0 | CC7: =IF(BC7=0,0,IF(ISTEXT(G7),0,BP7/G7)) -> 0 | CD7: =IF(BD7=0,0,IF(ISTEXT(H7),0,BQ7/H7)) -> 0 | CE7: =IF(BE7=0,0,IF(ISTEXT(I7),0,BR7/I7)) -> 0 | CF7: =IF(BF7=0,0,IF(ISTEXT(J7),0,BS7/J7)) -> 0 | CG7: =IF(BG7=0,0,IF(ISTEXT(K7),0,BT7/K7)) -> 0
C8: 49 | D8: =IF(AZ8=0,"","in m2/uur") | E8: =IF(BA8=0,"","in m2/uur") | F8: =IF(BB8=0,"","in m2/uur") | G8: =IF(BC8=0,"","in m2/uur") | H8: =IF(BD8=0,"","in m2/uur") | I8: =IF(BE8=0,"","in m2/uur") | J8: =IF(BF8=0,"","in m2/uur") -> in m2/uur | K8: =IF(BG8=0,"","in m2/uur") | AV8: Emmasingel | AW8: =COUNTIF($AV$6:$AV$8, AV8) -> 3 | AZ8: =IF(ISERROR(Ruimtestaat!D8),0,IF(Ruimtestaat!D8>0,1,0)) -> 0 | BA8: =IF(ISERROR(Ruimtestaat!E8),0,IF(Ruimtestaat!E8>0,1,0)) -> 0 | BB8: =IF(ISERROR(Ruimtestaat!F8),0,IF(Ruimtestaat!F8>0,1,0)) -> 0 | BC8: =IF(ISERROR(Ruimtestaat!G8),0,IF(Ruimtestaat!G8>0,1,0)) -> 0 | BD8: =IF(ISERROR(Ruimtestaat!H8),0,IF(Ruimtestaat!H8>0,1,0)) -> 0 | BE8: =IF(ISERROR(Ruimtestaat!I8),0,IF(Ruimtestaat!I8>0,1,0)) -> 0 | BF8: =IF(ISERROR(Ruimtestaat!J8),0,IF(Ruimtestaat!J8>0,1,0)) -> 1 | BG8: =IF(ISERROR(Ruimtestaat!K8),0,IF(Ruimtestaat!K8>0,1,0)) -> 0 | BM8: =IF(AZ8=0,0,Ruimtestaat!D8*Ruimtestaat!$C8) -> 0 | BN8: =IF(BA8=0,0,Ruimtestaat!E8*Ruimtestaat!$C8) -> 0 | BO8: =IF(BB8=0,0,Ruimtestaat!F8*Ruimtestaat!$C8) -> 0 | BP8: =IF(BC8=0,0,Ruimtestaat!G8*Ruimtestaat!$C8) -> 0 | BQ8: =IF(BD8=0,0,Ruimtestaat!H8*Ruimtestaat!$C8) -> 0 | BR8: =IF(BE8=0,0,Ruimtestaat!I8*Ruimtestaat!$C8) -> 0 | BS8: =IF(BF8=0,0,Ruimtestaat!J8*Ruimtestaat!$C8) -> 9702 | BT8: =IF(BG8=0,0,Ruimtestaat!K8*Ruimtestaat!$C8) -> 0 | BZ8: =IF(AZ8=0,0,IF(ISTEXT(D8),0,BM8/D8)) -> 0 | CA8: =IF(BA8=0,0,IF(ISTEXT(E8),0,BN8/E8)) -> 0 | CB8: =IF(BB8=0,0,IF(ISTEXT(F8),0,BO8/F8)) -> 0 | CC8: =IF(BC8=0,0,IF(ISTEXT(G8),0,BP8/G8)) -> 0 | CD8: =IF(BD8=0,0,IF(ISTEXT(H8),0,BQ8/H8)) -> 0 | CE8: =IF(BE8=0,0,IF(ISTEXT(I8),0,BR8/I8)) -> 0 | CF8: =IF(BF8=0,0,IF(ISTEXT(J8),0,BS8/J8)) -> 0 | CG8: =IF(BG8=0,0,IF(ISTEXT(K8),0,BT8/K8)) -> 0
B9: Gemiddelde | M9: =IF(AY9>=BI9,BV9/CI9,"Alles invullen") -> Alles invullen | AY9: =SUM(AY$6:AY8) -> 0 | BI9: =SUM(BI$6:BI8) -> 9 | BV9: =SUM(BV$6:BV8) -> 2822620.5 | CI9: =SUM(CI$6:CI8) -> 0

Sheet Offerte uurtarief
B2: =CONCATENATE("Offerte uurtarief - ",UPPER(Inventarisatiestaat!A2)) -> Offerte uurtarief - DESIGN ACADEMY EINDHOVEN
D3: % | E3: €
B4: Basis uurloon Nulsituatie | J4: =COUNTBLANK(E4) -> 1
B7: Vakantietoeslag | E7: =E4*D7 -> 0 | F7: =E7/E4 -> #DIV/0! | I7: =COUNTBLANK(D7) -> 1
B8: Eindejaars uitkering | E8: =E4*D8 -> 0 | F8: =E8/E4 -> #DIV/0! | I8: =COUNTBLANK(D8) -> 1
B9: Bruto uurloon inclusief toeslagen | E9: =SUM(E4:E8) -> 0
B11: SV-loon grondslag voor berekening sociale verzekeringen | J11: =COUNTBLANK(E11) -> 1
B12: Premies Sociale Verzekeringen | E12: =D12*E11 -> 0 | F12: =E12/E11 -> #DIV/0! | I12: =COUNTBLANK(D12) -> 1
B13: Subtotaal loonkosten per uur inclusief sociale verzekeringen | E13: =SUM(E9,E12) -> 0
B15: Opslag niet werkbare dagen | E15: =E13*D15 -> 0 | F15: =E15/E13 -> #DIV/0! | I15: =COUNTBLANK(D15) -> 1
B16: Totaal loonkosten per uur | E16: =E13+E15 -> 0
B18: Materiaal/- en middelen | E18: =IF(D18="","",D18*$E$16) | F18: =E18/$E$16 -> #VALUE! | I18: =COUNTBLANK(D18) -> 1 | J18: =COUNTBLANK(E18) -> 1
B19: Afvalzakken | E19: =IF(D19="","",D19*$E$16) | F19: =E19/$E$16 -> #VALUE! | I19: =COUNTBLANK(D19) -> 1 | J19: =COUNTBLANK(E19) -> 1
B20: Werkkleding en uitrusting | E20: =IF(D20="","",D20*$E$16) | F20: =E20/$E$16 -> #VALUE! | I20: =COUNTBLANK(D20) -> 1 | J20: =COUNTBLANK(E20) -> 1
B21: Machinekosten | E21: =IF(D21="","",D21*$E$16) | F21: =E21/$E$16 -> #VALUE! | I21: =COUNTBLANK(D21) -> 1 | J21: =COUNTBLANK(E21) -> 1
B22: Eventueel zelf invullen | E22: =IF(D22="","",D22*$E$16) | F22: =E22/$E$16 -> #VALUE! | H22: =IF(B22="Eventueel zelf invullen",1,0) -> 1 | I22: =COUNTBLANK(D22) -> 1 | J22: =COUNTBLANK(E22) -> 1
B24: Totaal directe kosten | E24: =SUM(E18:E22)+E16 -> 0
B26: Toezicht ( objectleiding / niet meewerkend toezicht ) | E26: =IF(D26="","",D26*$E$24) | F26: =E26/$E$24 -> #VALUE! | I26: =COUNTBLANK(D26) -> 1 | J26: =COUNTBLANK(E26) -> 1
B27: Managementkosten | E27: =IF(D27="","",D27*$E$24) | F27: =E27/$E$24 -> #VALUE! | I27: =COUNTBLANK(D27) -> 1 | J27: =COUNTBLANK(E27) -> 1
B28: P.Z. kosten | E28: =IF(D28="","",D28*$E$24) | F28: =E28/$E$24 -> #VALUE! | I28: =COUNTBLANK(D28) -> 1 | J28: =COUNTBLANK(E28) -> 1
B29: Opleiding | E29: =IF(D29="","",D29*$E$24) | F29: =E29/$E$24 -> #VALUE! | I29: =COUNTBLANK(D29) -> 1 | J29: =COUNTBLANK(E29) -> 1
B30: Administratiekosten | E30: =IF(D30="","",D30*$E$24) | F30: =E30/$E$24 -> #VALUE! | I30: =COUNTBLANK(D30) -> 1 | J30: =COUNTBLANK(E30) -> 1
B31: Huisvestingskosten | E31: =IF(D31="","",D31*$E$24) | F31: =E31/$E$24 -> #VALUE! | I31: =COUNTBLANK(D31) -> 1 | J31: =COUNTBLANK(E31) -> 1
B32: Kosten verzuimbegeleiding | E32: =IF(D32="","",D32*$E$24) | F32: =E32/$E$24 -> #VALUE! | I32: =COUNTBLANK(D32) -> 1 | J32: =COUNTBLANK(E32) -> 1
B33: Eventueel zelf invullen | E33: =IF(D33="","",D33*$E$24) | F33: =E33/$E$24 -> #VALUE! | H33: =IF(B33="Eventueel zelf invullen",1,0) -> 1 | I33: =COUNTBLANK(D33) -> 1 | J33: =COUNTBLANK(E33) -> 1
B35: Totaal indirecte kosten | E35: =IF(ISERROR(IF(#REF!>#REF!,SUM(E26:E32,#REF!,E33:E33),SUM(E26:E33))),SUM(E26:E33),IF(#REF!>#REF!,SUM(E26:E32,#REF!,E33:E33),SUM(E26:E33))) -> 0
B37: Risico en winst | E37: =IF(D37="","",D37*(E24+E35)) | F37: =E37/E35 -> #VALUE! | I37: =COUNTBLANK(D37) -> 1 | J37: =COUNTBLANK(E37) -> 1
B39: Offerte tarief | E39: =SUM(E24,E35,E37) -> 0

Sheet Offerte uurtarief OLGA
B2: =CONCATENATE("Offerte uurtarief OLGA's - ",UPPER(Inventarisatiestaat!A2)) -> Offerte uurtarief OLGA's - DESIGN ACADEMY EINDHOVEN
D3: % | E3: €
B4: Basis uurloon Nulsituatie | J4: =COUNTBLANK(E4) -> 1
B7: Vakantietoeslag | E7: =E4*D7 -> 0 | F7: =E7/E4 -> #DIV/0! | I7: =COUNTBLANK(D7) -> 1
B8: Eindejaars uitkering | E8: =E4*D8 -> 0 | F8: =E8/E4 -> #DIV/0! | I8: =COUNTBLANK(D8) -> 1
B9: Bruto uurloon inclusief toeslagen | E9: =SUM(E4:E8) -> 0
B11: SV-loon grondslag voor berekening sociale verzekeringen | J11: =COUNTBLANK(E11) -> 1
B12: Premies Sociale Verzekeringen | E12: =D12*E11 -> 0 | F12: =E12/E11 -> #DIV/0! | I12: =COUNTBLANK(D12) -> 1
B13: Subtotaal loonkosten per uur inclusief sociale verzekeringen | E13: =SUM(E9,E12) -> 0
B15: Opslag niet werkbare dagen | E15: =E13*D15 -> 0 | F15: =E15/E13 -> #DIV/0! | I15: =COUNTBLANK(D15) -> 1
B16: Totaal loonkosten per uur | E16: =E13+E15 -> 0
B18: Materiaal/- en middelen | E18: =IF(D18="","",D18*$E$16) | F18: =E18/$E$16 -> #VALUE! | I18: =COUNTBLANK(D18) -> 1 | J18: =COUNTBLANK(E18) -> 1
B19: Afvalzakken | E19: =IF(D19="","",D19*$E$16) | F19: =E19/$E$16 -> #VALUE! | I19: =COUNTBLANK(D19) -> 1 | J19: =COUNTBLANK(E19) -> 1
B20: Werkkleding en uitrusting | E20: =IF(D20="","",D20*$E$16) | F20: =E20/$E$16 -> #VALUE! | I20: =COUNTBLANK(D20) -> 1 | J20: =COUNTBLANK(E20) -> 1
B21: Machinekosten | E21: =IF(D21="","",D21*$E$16) | F21: =E21/$E$16 -> #VALUE! | I21: =COUNTBLANK(D21) -> 1 | J21: =COUNTBLANK(E21) -> 1
B22: Reiskosten | E22: =IF(D22="","",D22*$E$16) | I22: =COUNTBLANK(D22) -> 1 | J22: =COUNTBLANK(E22) -> 1
B23: Eventueel zelf invullen | E23: =IF(D23="","",D23*$E$16) | F23: =E23/$E$16 -> #VALUE! | H23: =IF(B23="Eventueel zelf invullen",1,0) -> 1 | I23: =COUNTBLANK(D23) -> 1 | J23: =COUNTBLANK(E23) -> 1
B25: Totaal directe kosten | E25: =SUM(E18:E23)+E16 -> 0
B27: Toezicht ( objectleiding / niet meewerkend toezicht ) | E27: =IF(D27="","",D27*$E$25) | F27: =E27/$E$25 -> #VALUE! | I27: =COUNTBLANK(D27) -> 1 | J27: =COUNTBLANK(E27) -> 1
B28: Managementkosten | E28: =IF(D28="","",D28*$E$25) | F28: =E28/$E$25 -> #VALUE! | I28: =COUNTBLANK(D28) -> 1 | J28: =COUNTBLANK(E28) -> 1
B29: P.Z. kosten | E29: =IF(D29="","",D29*$E$25) | F29: =E29/$E$25 -> #VALUE! | I29: =COUNTBLANK(D29) -> 1 | J29: =COUNTBLANK(E29) -> 1
B30: Opleiding | E30: =IF(D30="","",D30*$E$25) | F30: =E30/$E$25 -> #VALUE! | I30: =COUNTBLANK(D30) -> 1 | J30: =COUNTBLANK(E30) -> 1
B31: Administratiekosten | E31: =IF(D31="","",D31*$E$25) | F31: =E31/$E$25 -> #VALUE! | I31: =COUNTBLANK(D31) -> 1 | J31: =COUNTBLANK(E31) -> 1
B32: Huisvestingskosten | E32: =IF(D32="","",D32*$E$25) | F32: =E32/$E$25 -> #VALUE! | I32: =COUNTBLANK(D32) -> 1 | J32: =COUNTBLANK(E32) -> 1
B33: Kosten verzuimbegeleiding | E33: =IF(D33="","",D33*$E$25) | F33: =E33/$E$25 -> #VALUE! | I33: =COUNTBLANK(D33) -> 1 | J33: =COUNTBLANK(E33) -> 1
B34: Kosten SMC Kwaliteit | C34: =IF(K34>ROUNDUP(L34,2),"Overschrijdt max.kosten","") | E34: =IF(D34="","",D34*$E$25) | F34: =E34/$E$26 -> #VALUE! | I34: =COUNTBLANK(D34) -> 1 | J34: =COUNTBLANK(E34) -> 1 | K34: =IF(E34="",0,E34) -> 0 | L34: =IF(tUrenOlga=0,0,M34/tUrenOlga) -> 0 | M34: =qcolga -> #REF!
B35: Kosten SMC Beheer | C35: =IF(K35>L35,"Overschrijdt max. kosten","") | E35: =IF(D35="","",D35*$E$25) | F35: =E35/$E$25 -> #VALUE! | I35: =COUNTBLANK(D35) -> 1 | J35: =COUNTBLANK(E35) -> 1 | K35: =IF(E35="",0,E35) -> 0 | L35: =5%*E42 -> 0
B36: Eventueel zelf invullen | E36: =IF(D36="","",D36*$E$25) | F36: =E36/$E$25 -> #VALUE! | H36: =IF(B36="Eventueel zelf invullen",1,0) -> 1 | I36: =COUNTBLANK(D36) -> 1 | J36: =COUNTBLANK(E36) -> 1
B38: Totaal indirecte kosten | E38: =IF(ISERROR(IF(K34>L34,SUM(E27:E33,L34,E35:E36),SUM(E27:E36))),SUM(E27:E36),IF(K34>L34,SUM(E27:E33,L34,E35:E36),SUM(E27:E36))) -> 0
B40: Risico en winst | E40: =IF(D40="","",D40*(E25+E38)) | F40: =E40/E38 -> #VALUE! | I40: =COUNTBLANK(D40) -> 1 | J40: =COUNTBLANK(E40) -> 1
B42: Offerte tarief | E42: =SUM(E25,E38,E40) -> 0

Sheet Kostenblad
B2: =UPPER(CONCATENATE("Kostenblad ",Inventarisatiestaat!A2)) -> KOSTENBLAD DESIGN ACADEMY EINDHOVEN
B4: Locatie | C4: Acceptatie frequentie | D4: Kantoor | E4: Lokaal | F4: Publieksruimte | G4: Representatief | H4: Restauratief | I4: Sanitair | J4: Verkeersruimte | K4: Werkplaats | L4: Aanvulling tot minimale taak | M4: TOTAAL PER LOCATIE
B6: Emmasingel | C6: 490 | D6: =Normenblad!BZ6*offerteuur -> 0 | E6: =Normenblad!CA6*offerteuur -> 0 | F6: =Normenblad!CB6*offerteuur -> 0 | G6: =Normenblad!CC6*offerteuur -> 0 | H6: =Normenblad!CD6*offerteuur -> 0 | I6: =Normenblad!CE6*offerteuur -> 0 | J6: =Normenblad!CF6*offerteuur -> 0 | K6: =Normenblad!CG6*offerteuur -> 0 | L6: =Normenblad!CH6*offerteuur -> 0 | M6: =SUM(D6:L8) -> 0 | AV6: Emmasingel | AW6: =COUNTIF($AV$6:$AV$8, AV6) -> 3 | AZ6: =IF(ISERROR(Ruimtestaat!#REF!),0,IF(Ruimtestaat!#REF!>0,1,0)) -> 0 | BA6: =IF(ISERROR(Ruimtestaat!#REF!),0,IF(Ruimtestaat!#REF!>0,1,0)) -> 0 | BB6: =IF(ISERROR(Ruimtestaat!D6),0,IF(Ruimtestaat!D6>0,1,0)) -> 0 | BC6: =IF(ISERROR(Ruimtestaat!E6),0,IF(Ruimtestaat!E6>0,1,0)) -> 0 | BD6: =IF(ISERROR(Ruimtestaat!#REF!),0,IF(Ruimtestaat!#REF!>0,1,0)) -> 0 | BE6: =IF(ISERROR(Ruimtestaat!F6),0,IF(Ruimtestaat!F6>0,1,0)) -> 0 | BF6: =IF(ISERROR(Ruimtestaat!G6),0,IF(Ruimtestaat!G6>0,1,0)) -> 0 | BG6: =IF(ISERROR(Ruimtestaat!H6),0,IF(Ruimtestaat!H6>0,1,0)) -> 0 | BH6: =IF(ISERROR(Ruimtestaat!I6),0,IF(Ruimtestaat!I6>0,1,0)) -> 1 | BI6: =IF(ISERROR(Ruimtestaat!#REF!),0,IF(Ruimtestaat!#REF!>0,1,0)) -> 0 | BJ6: =IF(ISERROR(Ruimtestaat!J6),0,IF(Ruimtestaat!J6>0,1,0)) -> 0 | BK6: =IF(ISERROR(Ruimtestaat!#REF!),0,IF(Ruimtestaat!#REF!>0,1,0)) -> 0 | BL6: =IF(ISERROR(Ruimtestaat!K6),0,IF(Ruimtestaat!K6>0,1,0)) -> 0
C7: 245 | D7: =Normenblad!BZ7*offerteuur -> 0 | E7: =Normenblad!CA7*offerteuur -> 0 | F7: =Normenblad!CB7*offerteuur -> 0 | G7: =Normenblad!CC7*offerteuur -> 0 | H7: =Normenblad!CD7*offerteuur -> 0 | I7: =Normenblad!CE7*offerteuur -> 0 | J7: =Normenblad!CF7*offerteuur -> 0 | K7: =Normenblad!CG7*offerteuur -> 0 | L7: =Normenblad!CH7*offerteuur -> 0 | AV7: Emmasingel | AW7: =COUNTIF($AV$6:$AV$8, AV7) -> 3 | AZ7: =IF(ISERROR(Ruimtestaat!#REF!),0,IF(Ruimtestaat!#REF!>0,1,0)) -> 0 | BA7: =IF(ISERROR(Ruimtestaat!#REF!),0,IF(Ruimtestaat!#REF!>0,1,0)) -> 0 | BB7: =IF(ISERROR(Ruimtestaat!D7),0,IF(Ruimtestaat!D7>0,1,0)) -> 1 | BC7: =IF(ISERROR(Ruimtestaat!E7),0,IF(Ruimtestaat!E7>0,1,0)) -> 1 | BD7: =IF(ISERROR(Ruimtestaat!#REF!),0,IF(Ruimtestaat!#REF!>0,1,0)) -> 0 | BE7: =IF(ISERROR(Ruimtestaat!F7),0,IF(Ruimtestaat!F7>0,1,0)) -> 1 | BF7: =IF(ISERROR(Ruimtestaat!G7),0,IF(Ruimtestaat!G7>0,1,0)) -> 1 | BG7: =IF(ISERROR(Ruimtestaat!H7),0,IF(Ruimtestaat!H7>0,1,0)) -> 1 | BH7: =IF(ISERROR(Ruimtestaat!I7),0,IF(Ruimtestaat!I7>0,1,0)) -> 0 | BI7: =IF(ISERROR(Ruimtestaat!#REF!),0,IF(Ruimtestaat!#REF!>0,1,0)) -> 0 | BJ7: =IF(ISERROR(Ruimtestaat!J7),0,IF(Ruimtestaat!J7>0,1,0)) -> 1 | BK7: =IF(ISERROR(Ruimtestaat!#REF!),0,IF(Ruimtestaat!#REF!>0,1,0)) -> 0 | BL7: =IF(ISERROR(Ruimtestaat!K7),0,IF(Ruimtestaat!K7>0,1,0)) -> 1
C8: 49 | D8: =Normenblad!BZ8*offerteuur -> 0 | E8: =Normenblad!CA8*offerteuur -> 0 | F8: =Normenblad!CB8*offerteuur -> 0 | G8: =Normenblad!CC8*offerteuur -> 0 | H8: =Normenblad!CD8*offerteuur -> 0 | I8: =Normenblad!CE8*offerteuur -> 0 | J8: =Normenblad!CF8*offerteuur -> 0 | K8: =Normenblad!CG8*offerteuur -> 0 | L8: =Normenblad!CH8*offerteuur -> 0 | AV8: Emmasingel | AW8: =COUNTIF($AV$6:$AV$8, AV8) -> 3 | AZ8: =IF(ISERROR(Ruimtestaat!#REF!),0,IF(Ruimtestaat!#REF!>0,1,0)) -> 0 | BA8: =IF(ISERROR(Ruimtestaat!#REF!),0,IF(Ruimtestaat!#REF!>0,1,0)) -> 0 | BB8: =IF(ISERROR(Ruimtestaat!D8),0,IF(Ruimtestaat!D8>0,1,0)) -> 0 | BC8: =IF(ISERROR(Ruimtestaat!E8),0,IF(Ruimtestaat!E8>0,1,0)) -> 0 | BD8: =IF(ISERROR(Ruimtestaat!#REF!),0,IF(Ruimtestaat!#REF!>0,1,0)) -> 0 | BE8: =IF(ISERROR(Ruimtestaat!F8),0,IF(Ruimtestaat!F8>0,1,0)) -> 0 | BF8: =IF(ISERROR(Ruimtestaat!G8),0,IF(Ruimtestaat!G8>0,1,0)) -> 0 | BG8: =IF(ISERROR(Ruimtestaat!H8),0,IF(Ruimtestaat!H8>0,1,0)) -> 0 | BH8: =IF(ISERROR(Ruimtestaat!I8),0,IF(Ruimtestaat!I8>0,1,0)) -> 0 | BI8: =IF(ISERROR(Ruimtestaat!#REF!),0,IF(Ruimtestaat!#REF!>0,1,0)) -> 0 | BJ8: =IF(ISERROR(Ruimtestaat!J8),0,IF(Ruimtestaat!J8>0,1,0)) -> 1 | BK8: =IF(ISERROR(Ruimtestaat!#REF!),0,IF(Ruimtestaat!#REF!>0,1,0)) -> 0 | BL8: =IF(ISERROR(Ruimtestaat!K8),0,IF(Ruimtestaat!K8>0,1,0)) -> 0
B9: Totaal | D9: =SUM(D$6:D8) -> 0 | E9: =SUM(E$6:E8) -> 0 | F9: =SUM(F$6:F8) -> 0 | G9: =SUM(G$6:G8) -> 0 | H9: =SUM(H$6:H8) -> 0 | I9: =SUM(I$6:I8) -> 0 | J9: =SUM(J$6:J8) -> 0 | K9: =SUM(K$6:K8) -> 0 | ... M9: =SUM(M$6:M8) -> 0
