Workbook

Sheet Te gebruiken Rein
A1: Container | B1: Latitude | C1: Longitude | D1: Street | E1: HouseNumber | F1: Postalcode | G1: City | H1: Fraction | I1: Description | J1: Manufacturer | K1: datum reinigen gereed | L1: jaartal container | M1: graffiti ja/nee | N1: onderhoud nodig | O1: status algemeen og | P1: omgeving schoon | Q1: status lak | R1: opmerking
A2: RO656 | B2: =VLOOKUP($A2,Basis!$A:$P,4,FALSE) -> 52.22791 | C2: =VLOOKUP($A2,Basis!$A:$P,5,FALSE) -> 5.1794229 | D2: =VLOOKUP($A2,Basis!$A:$P,6,FALSE) -> Koninginneweg | E2: =VLOOKUP($A2,Basis!$A:$P,7,FALSE) -> 74 | F2: =VLOOKUP($A2,Basis!$A:$P,8,FALSE) -> 1211AT | G2: =VLOOKUP($A2,Basis!$A:$P,9,FALSE) -> Hilversum | H2: =VLOOKUP($A2,Basis!$A:$P,11,FALSE) -> REST | I2: =VLOOKUP($A2,Basis!$A:$P,13,FALSE) -> Ondergronds | J2: =VLOOKUP($A2,Basis!$A:$P,16,FALSE) -> HMISOL2017
A3: VO110 | B3: =VLOOKUP($A3,Basis!$A:$P,4,FALSE) -> 52.22791 | C3: =VLOOKUP($A3,Basis!$A:$P,5,FALSE) -> 5.1794229 | D3: =VLOOKUP($A3,Basis!$A:$P,6,FALSE) -> Koninginneweg | E3: =VLOOKUP($A3,Basis!$A:$P,7,FALSE) -> 74 | F3: =VLOOKUP($A3,Basis!$A:$P,8,FALSE) -> 1211AT | G3: =VLOOKUP($A3,Basis!$A:$P,9,FALSE) -> Hilversum | H3: =VLOOKUP($A3,Basis!$A:$P,11,FALSE) -> PMD | I3: =VLOOKUP($A3,Basis!$A:$P,13,FALSE) -> Ondergronds | J3: =VLOOKUP($A3,Basis!$A:$P,16,FALSE) -> HMISOL2017
A4: RO757 | B4: =VLOOKUP($A4,Basis!$A:$P,4,FALSE) -> 52.228532 | C4: =VLOOKUP($A4,Basis!$A:$P,5,FALSE) -> 5.177884 | D4: =VLOOKUP($A4,Basis!$A:$P,6,FALSE) -> Schoolstraat | E4: =VLOOKUP($A4,Basis!$A:$P,7,FALSE) -> 2 | F4: =VLOOKUP($A4,Basis!$A:$P,8,FALSE) -> 1211AZ | G4: =VLOOKUP($A4,Basis!$A:$P,9,FALSE) -> Hilversum | H4: =VLOOKUP($A4,Basis!$A:$P,11,FALSE) -> REST | I4: =VLOOKUP($A4,Basis!$A:$P,13,FALSE) -> Ondergronds | J4: =VLOOKUP($A4,Basis!$A:$P,16,FALSE) -> HMISOL2017
A5: GFE0253 | B5: =VLOOKUP($A5,Basis!$A:$P,4,FALSE) -> 52.227835 | C5: =VLOOKUP($A5,Basis!$A:$P,5,FALSE) -> 5.1771808 | D5: =VLOOKUP($A5,Basis!$A:$P,6,FALSE) -> Langgewenst | E5: =VLOOKUP($A5,Basis!$A:$P,7,FALSE) -> 1 | F5: =VLOOKUP($A5,Basis!$A:$P,8,FALSE) -> 1211BA | G5: =VLOOKUP($A5,Basis!$A:$P,9,FALSE) -> Hilversum | H5: =VLOOKUP($A5,Basis!$A:$P,11,FALSE) -> GFT | I5: =VLOOKUP($A5,Basis!$A:$P,13,FALSE) -> Bovengronds | J5: =VLOOKUP($A5,Basis!$A:$P,16,FALSE) -> MCBG242022
A6: GFE0254 | B6: =VLOOKUP($A6,Basis!$A:$P,4,FALSE) -> 52.228381 | C6: =VLOOKUP($A6,Basis!$A:$P,5,FALSE) -> 5.1779692 | D6: =VLOOKUP($A6,Basis!$A:$P,6,FALSE) -> Langgewenst | E6: =VLOOKUP($A6,Basis!$A:$P,7,FALSE) -> 21 | F6: =VLOOKUP($A6,Basis!$A:$P,8,FALSE) -> 1211BA | G6: =VLOOKUP($A6,Basis!$A:$P,9,FALSE) -> Hilversum | H6: =VLOOKUP($A6,Basis!$A:$P,11,FALSE) -> GFT | I6: =VLOOKUP($A6,Basis!$A:$P,13,FALSE) -> Bovengronds | J6: =VLOOKUP($A6,Basis!$A:$P,16,FALSE) -> MCBG242022
A7: GO168 | B7: =VLOOKUP($A7,Basis!$A:$P,4,FALSE) -> 52.228172 | C7: =VLOOKUP($A7,Basis!$A:$P,5,FALSE) -> 5.1771722 | D7: =VLOOKUP($A7,Basis!$A:$P,6,FALSE) -> Langgewenst | E7: =VLOOKUP($A7,Basis!$A:$P,7,FALSE) -> 21 | F7: =VLOOKUP($A7,Basis!$A:$P,8,FALSE) -> 1211BA | G7: =VLOOKUP($A7,Basis!$A:$P,9,FALSE) -> Hilversum | H7: =VLOOKUP($A7,Basis!$A:$P,11,FALSE) -> GLAS | I7: =VLOOKUP($A7,Basis!$A:$P,13,FALSE) -> Ondergronds | J7: =VLOOKUP($A7,Basis!$A:$P,16,FALSE) -> Onbekend
A8: PO080 | B8: =VLOOKUP($A8,Basis!$A:$P,4,FALSE) -> 52.228381 | C8: =VLOOKUP($A8,Basis!$A:$P,5,FALSE) -> 5.1779692 | D8: =VLOOKUP($A8,Basis!$A:$P,6,FALSE) -> Langgewenst | E8: =VLOOKUP($A8,Basis!$A:$P,7,FALSE) -> 21 | F8: =VLOOKUP($A8,Basis!$A:$P,8,FALSE) -> 1211BA | G8: =VLOOKUP($A8,Basis!$A:$P,9,FALSE) -> Hilversum | H8: =VLOOKUP($A8,Basis!$A:$P,11,FALSE) -> OPK | I8: =VLOOKUP($A8,Basis!$A:$P,13,FALSE) -> Ondergronds | J8: =VLOOKUP($A8,Basis!$A:$P,16,FALSE) -> BAMRUB2016
A9: RO630 | B9: =VLOOKUP($A9,Basis!$A:$P,4,FALSE) -> 52.228381 | C9: =VLOOKUP($A9,Basis!$A:$P,5,FALSE) -> 5.1779692 | D9: =VLOOKUP($A9,Basis!$A:$P,6,FALSE) -> Langgewenst | E9: =VLOOKUP($A9,Basis!$A:$P,7,FALSE) -> 21 | F9: =VLOOKUP($A9,Basis!$A:$P,8,FALSE) -> 1211BA | G9: =VLOOKUP($A9,Basis!$A:$P,9,FALSE) -> Hilversum | H9: =VLOOKUP($A9,Basis!$A:$P,11,FALSE) -> REST | I9: =VLOOKUP($A9,Basis!$A:$P,13,FALSE) -> Ondergronds | J9: =VLOOKUP($A9,Basis!$A:$P,16,FALSE) -> BAMRUB2016
A10: RO631 | B10: =VLOOKUP($A10,Basis!$A:$P,4,FALSE) -> 52.228381 | C10: =VLOOKUP($A10,Basis!$A:$P,5,FALSE) -> 5.1779692 | D10: =VLOOKUP($A10,Basis!$A:$P,6,FALSE) -> Langgewenst | E10: =VLOOKUP($A10,Basis!$A:$P,7,FALSE) -> 21 | F10: =VLOOKUP($A10,Basis!$A:$P,8,FALSE) -> 1211BA | G10: =VLOOKUP($A10,Basis!$A:$P,9,FALSE) -> Hilversum | H10: =VLOOKUP($A10,Basis!$A:$P,11,FALSE) -> REST | I10: =VLOOKUP($A10,Basis!$A:$P,13,FALSE) -> Ondergronds | J10: =VLOOKUP($A10,Basis!$A:$P,16,FALSE) -> BAMRUB2016
A11: RO632 | B11: =VLOOKUP($A11,Basis!$A:$P,4,FALSE) -> 52.227749 | C11: =VLOOKUP($A11,Basis!$A:$P,5,FALSE) -> 5.17706 | D11: =VLOOKUP($A11,Basis!$A:$P,6,FALSE) -> Langgewenst | E11: =VLOOKUP($A11,Basis!$A:$P,7,FALSE) -> 1 | F11: =VLOOKUP($A11,Basis!$A:$P,8,FALSE) -> 1211BA | G11: =VLOOKUP($A11,Basis!$A:$P,9,FALSE) -> Hilversum | H11: =VLOOKUP($A11,Basis!$A:$P,11,FALSE) -> REST | I11: =VLOOKUP($A11,Basis!$A:$P,13,FALSE) -> Ondergronds | J11: =VLOOKUP($A11,Basis!$A:$P,16,FALSE) -> HMISOL2017
A12: VO094 | B12: =VLOOKUP($A12,Basis!$A:$P,4,FALSE) -> 52.228381 | C12: =VLOOKUP($A12,Basis!$A:$P,5,FALSE) -> 5.1779692 | D12: =VLOOKUP($A12,Basis!$A:$P,6,FALSE) -> Langgewenst | E12: =VLOOKUP($A12,Basis!$A:$P,7,FALSE) -> 21 | F12: =VLOOKUP($A12,Basis!$A:$P,8,FALSE) -> 1211BA | G12: =VLOOKUP($A12,Basis!$A:$P,9,FALSE) -> Hilversum | H12: =VLOOKUP($A12,Basis!$A:$P,11,FALSE) -> PMD | I12: =VLOOKUP($A12,Basis!$A:$P,13,FALSE) -> Ondergronds | J12: =VLOOKUP($A12,Basis!$A:$P,16,FALSE) -> HMISOL2017
A13: VO095 | B13: =VLOOKUP($A13,Basis!$A:$P,4,FALSE) -> 52.228381 | C13: =VLOOKUP($A13,Basis!$A:$P,5,FALSE) -> 5.1779692 | D13: =VLOOKUP($A13,Basis!$A:$P,6,FALSE) -> Langgewenst | E13: =VLOOKUP($A13,Basis!$A:$P,7,FALSE) -> 21 | F13: =VLOOKUP($A13,Basis!$A:$P,8,FALSE) -> 1211BA | G13: =VLOOKUP($A13,Basis!$A:$P,9,FALSE) -> Hilversum | H13: =VLOOKUP($A13,Basis!$A:$P,11,FALSE) -> PMD | I13: =VLOOKUP($A13,Basis!$A:$P,13,FALSE) -> Ondergronds | J13: =VLOOKUP($A13,Basis!$A:$P,16,FALSE) -> HMISOL2017
... A1871: GO070 | B1871: =VLOOKUP($A1871,Basis!$A:$P,4,FALSE) -> 52.285634 | C1871: =VLOOKUP($A1871,Basis!$A:$P,5,FALSE) -> 5.272453 | D1871: =VLOOKUP($A1871,Basis!$A:$P,6,FALSE) -> De Noord | E1871: =VLOOKUP($A1871,Basis!$A:$P,7,FALSE) -> 999 | F1871: =VLOOKUP($A1871,Basis!$A:$P,8,FALSE) -> 9999AA | G1871: =VLOOKUP($A1871,Basis!$A:$P,9,FALSE) -> Blaricum | H1871: =VLOOKUP($A1871,Basis!$A:$P,11,FALSE) -> GLAS | I1871: =VLOOKUP($A1871,Basis!$A:$P,13,FALSE) -> Ondergronds | J1871: =VLOOKUP($A1871,Basis!$A:$P,16,FALSE) -> Onbekend

Sheet Basis
A1: Container | B1: check dump | C1: DumpLocationName | D1: Latitude | E1: Longitude | F1: Street | G1: HouseNumber | H1: Postalcode | I1: City | J1: Capacity | K1: Fraction | L1: LiftFrameType | M1: Description | N1: Litres | O1: MaxDumpCount | P1: Manufacturer | Q1: datum reinigen | R1: graffiti ja/nee | S1: onderhoud nodig | T1: status algemeen og | U1: omgeving schoon | V1: status lak | W1: opmerking
A2: BKC0003 | B2: =VLOOKUP(A2,'dump '!A:C,1,FALSE) -> BKC0003 | C2: =VLOOKUP(A2,'dump '!A:AF,2,FALSE) -> 1217DA101 | D2: =VLOOKUP($A2,'dump '!$A:$AF,17,FALSE) -> 52.23836 | E2: =VLOOKUP($A2,'dump '!$A:$AF,18,FALSE) -> 5.141668 | F2: =VLOOKUP(A2,'dump '!$A:$AF,11,FALSE) -> Oude Meentweg | G2: =VLOOKUP($A2,'dump '!$A:$AF,12,FALSE) -> 1 | H2: =VLOOKUP($A2,'dump '!$A:$AF,13,FALSE) -> 1217DA | I2: =VLOOKUP($A2,'dump '!$A:$AF,14,FALSE) -> Hilversum | J2: =VLOOKUP($A2,'dump '!$A:$AF,15,FALSE) -> 5 | K2: =VLOOKUP($A2,'dump '!$A:$AF,3,FALSE) -> PMD | L2: =VLOOKUP($A2,'dump '!$A:$AF,31,FALSE) -> 3-haak | M2: =VLOOKUP($A2,'containers '!$A:$AA,12,FALSE) -> Bovengronds | N2: =VLOOKUP($A2,'containers '!$A:$AA,14,FALSE) -> 0 | O2: =VLOOKUP($A2,'containers '!$A:$AA,15,FALSE) -> 100 | P2: =VLOOKUP($A2,'containers '!$A:$AA,16,FALSE) -> BAMBOV2012
A3: BKC0009 | B3: =VLOOKUP(A3,'dump '!A:C,1,FALSE) -> BKC0009 | C3: =VLOOKUP(A3,'dump '!A:AF,2,FALSE) -> 1402TH5701 | D3: =VLOOKUP($A3,'dump '!$A:$AF,17,FALSE) -> 52.273351 | E3: =VLOOKUP($A3,'dump '!$A:$AF,18,FALSE) -> 5.175915 | F3: =VLOOKUP(A3,'dump '!$A:$AF,11,FALSE) -> Voormeulenweg | G3: =VLOOKUP($A3,'dump '!$A:$AF,12,FALSE) -> 57 | H3: =VLOOKUP($A3,'dump '!$A:$AF,13,FALSE) -> 1402TH | I3: =VLOOKUP($A3,'dump '!$A:$AF,14,FALSE) -> Bussum | J3: =VLOOKUP($A3,'dump '!$A:$AF,15,FALSE) -> 5 | K3: =VLOOKUP($A3,'dump '!$A:$AF,3,FALSE) -> PMD | L3: =VLOOKUP($A3,'dump '!$A:$AF,31,FALSE) -> 3-haak | M3: =VLOOKUP($A3,'containers '!$A:$AA,12,FALSE) -> Bovengronds | N3: =VLOOKUP($A3,'containers '!$A:$AA,14,FALSE) -> 0 | O3: =VLOOKUP($A3,'containers '!$A:$AA,15,FALSE) -> 100 | P3: =VLOOKUP($A3,'containers '!$A:$AA,16,FALSE) -> BAMBOV2012
A4: BKC0010 | B4: =VLOOKUP(A4,'dump '!A:C,1,FALSE) -> BKC0010 | C4: =VLOOKUP(A4,'dump '!A:AF,2,FALSE) -> 1215HM16401 | D4: =VLOOKUP($A4,'dump '!$A:$AF,17,FALSE) -> 52.214898 | E4: =VLOOKUP($A4,'dump '!$A:$AF,18,FALSE) -> 5.15176 | F4: =VLOOKUP(A4,'dump '!$A:$AF,11,FALSE) -> Oude Loosdrechtseweg | G4: =VLOOKUP($A4,'dump '!$A:$AF,12,FALSE) -> 164 | H4: =VLOOKUP($A4,'dump '!$A:$AF,13,FALSE) -> 1215HM | I4: =VLOOKUP($A4,'dump '!$A:$AF,14,FALSE) -> Hilversum | J4: =VLOOKUP($A4,'dump '!$A:$AF,15,FALSE) -> 5 | K4: =VLOOKUP($A4,'dump '!$A:$AF,3,FALSE) -> PMD | L4: =VLOOKUP($A4,'dump '!$A:$AF,31,FALSE) -> 3-haak | M4: =VLOOKUP($A4,'containers '!$A:$AA,12,FALSE) -> Bovengronds | N4: =VLOOKUP($A4,'containers '!$A:$AA,14,FALSE) -> 0 | O4: =VLOOKUP($A4,'containers '!$A:$AA,15,FALSE) -> 100 | P4: =VLOOKUP($A4,'containers '!$A:$AA,16,FALSE) -> BAMBOV2012
A5: BKC0012 | B5: =VLOOKUP(A5,'dump '!A:C,1,FALSE) -> BKC0012 | C5: =VLOOKUP(A5,'dump '!A:AF,2,FALSE) -> 1218GW801 | D5: =VLOOKUP($A5,'dump '!$A:$AF,17,FALSE) -> 52.271117 | E5: =VLOOKUP($A5,'dump '!$A:$AF,18,FALSE) -> 5.138253 | F5: =VLOOKUP(A5,'dump '!$A:$AF,11,FALSE) -> Zuidermeent | G5: =VLOOKUP($A5,'dump '!$A:$AF,12,FALSE) -> 8 | H5: =VLOOKUP($A5,'dump '!$A:$AF,13,FALSE) -> 1218GW | I5: =VLOOKUP($A5,'dump '!$A:$AF,14,FALSE) -> Hilversum | J5: =VLOOKUP($A5,'dump '!$A:$AF,15,FALSE) -> 5 | K5: =VLOOKUP($A5,'dump '!$A:$AF,3,FALSE) -> PMD | L5: =VLOOKUP($A5,'dump '!$A:$AF,31,FALSE) -> 3-haak | M5: =VLOOKUP($A5,'containers '!$A:$AA,12,FALSE) -> Bovengronds | N5: =VLOOKUP($A5,'containers '!$A:$AA,14,FALSE) -> 0 | O5: =VLOOKUP($A5,'containers '!$A:$AA,15,FALSE) -> 100 | P5: =VLOOKUP($A5,'containers '!$A:$AA,16,FALSE) -> BAMBOV2012
A6: BKC0015 | B6: =VLOOKUP(A6,'dump '!A:C,1,FALSE) -> BKC0015 | C6: =VLOOKUP(A6,'dump '!A:AF,2,FALSE) -> 1403JD4201 | D6: =VLOOKUP($A6,'dump '!$A:$AF,17,FALSE) -> 52.266281 | E6: =VLOOKUP($A6,'dump '!$A:$AF,18,FALSE) -> 5.186335 | F6: =VLOOKUP(A6,'dump '!$A:$AF,11,FALSE) -> Aaltje Noordewierlaan | G6: =VLOOKUP($A6,'dump '!$A:$AF,12,FALSE) -> 42 | H6: =VLOOKUP($A6,'dump '!$A:$AF,13,FALSE) -> 1403JD | I6: =VLOOKUP($A6,'dump '!$A:$AF,14,FALSE) -> Bussum | J6: =VLOOKUP($A6,'dump '!$A:$AF,15,FALSE) -> 5 | K6: =VLOOKUP($A6,'dump '!$A:$AF,3,FALSE) -> PMD | L6: =VLOOKUP($A6,'dump '!$A:$AF,31,FALSE) -> 3-haak | M6: =VLOOKUP($A6,'containers '!$A:$AA,12,FALSE) -> Bovengronds | N6: =VLOOKUP($A6,'containers '!$A:$AA,14,FALSE) -> 0 | O6: =VLOOKUP($A6,'containers '!$A:$AA,15,FALSE) -> 100 | P6: =VLOOKUP($A6,'containers '!$A:$AA,16,FALSE) -> BAMBOV2014
A7: BKC0018 | B7: =VLOOKUP(A7,'dump '!A:C,1,FALSE) -> BKC0018 | C7: =VLOOKUP(A7,'dump '!A:AF,2,FALSE) -> 1215LW5101 | D7: =VLOOKUP($A7,'dump '!$A:$AF,17,FALSE) -> 52.210567 | E7: =VLOOKUP($A7,'dump '!$A:$AF,18,FALSE) -> 5.156847 | F7: =VLOOKUP(A7,'dump '!$A:$AF,11,FALSE) -> Admiraal de Ruyterlaan | G7: =VLOOKUP($A7,'dump '!$A:$AF,12,FALSE) -> 51 | H7: =VLOOKUP($A7,'dump '!$A:$AF,13,FALSE) -> 1215LW | I7: =VLOOKUP($A7,'dump '!$A:$AF,14,FALSE) -> Hilversum | J7: =VLOOKUP($A7,'dump '!$A:$AF,15,FALSE) -> 5 | K7: =VLOOKUP($A7,'dump '!$A:$AF,3,FALSE) -> PMD | L7: =VLOOKUP($A7,'dump '!$A:$AF,31,FALSE) -> 3-haak | M7: =VLOOKUP($A7,'containers '!$A:$AA,12,FALSE) -> Bovengronds | N7: =VLOOKUP($A7,'containers '!$A:$AA,14,FALSE) -> 0 | O7: =VLOOKUP($A7,'containers '!$A:$AA,15,FALSE) -> 100 | P7: =VLOOKUP($A7,'containers '!$A:$AA,16,FALSE) -> BAMBOV2012
A8: BKC0019 | B8: =VLOOKUP(A8,'dump '!A:C,1,FALSE) -> BKC0019 | C8: =VLOOKUP(A8,'dump '!A:AF,2,FALSE) -> 1382MC1801 | D8: =VLOOKUP($A8,'dump '!$A:$AF,17,FALSE) -> 52.314534 | E8: =VLOOKUP($A8,'dump '!$A:$AF,18,FALSE) -> 5.041807 | F8: =VLOOKUP(A8,'dump '!$A:$AF,11,FALSE) -> Lobbrich Boudgerslaan | G8: =VLOOKUP($A8,'dump '!$A:$AF,12,FALSE) -> 18 | H8: =VLOOKUP($A8,'dump '!$A:$AF,13,FALSE) -> 1382MC | I8: =VLOOKUP($A8,'dump '!$A:$AF,14,FALSE) -> Weesp | J8: =VLOOKUP($A8,'dump '!$A:$AF,15,FALSE) -> 5 | K8: =VLOOKUP($A8,'dump '!$A:$AF,3,FALSE) -> PMD | L8: =VLOOKUP($A8,'dump '!$A:$AF,31,FALSE) -> 3-haak | M8: =VLOOKUP($A8,'containers '!$A:$AA,12,FALSE) -> Bovengronds | N8: =VLOOKUP($A8,'containers '!$A:$AA,14,FALSE) -> 0 | O8: =VLOOKUP($A8,'containers '!$A:$AA,15,FALSE) -> 100 | P8: =VLOOKUP($A8,'containers '!$A:$AA,16,FALSE) -> SULBOV204
A9: BKC0021 | B9: =VLOOKUP(A9,'dump '!A:C,1,FALSE) -> BKC0021 | C9: =VLOOKUP(A9,'dump '!A:AF,2,FALSE) -> 1394JJ1001 | D9: =VLOOKUP($A9,'dump '!$A:$AF,17,FALSE) -> 52.252726 | E9: =VLOOKUP($A9,'dump '!$A:$AF,18,FALSE) -> 5.0468785 | F9: =VLOOKUP(A9,'dump '!$A:$AF,11,FALSE) -> Meerhoekweg | G9: =VLOOKUP($A9,'dump '!$A:$AF,12,FALSE) -> 10A | H9: =VLOOKUP($A9,'dump '!$A:$AF,13,FALSE) -> 1394JJ | I9: =VLOOKUP($A9,'dump '!$A:$AF,14,FALSE) -> Nederhorst den Berg | J9: =VLOOKUP($A9,'dump '!$A:$AF,15,FALSE) -> 5 | K9: =VLOOKUP($A9,'dump '!$A:$AF,3,FALSE) -> PMD | L9: =VLOOKUP($A9,'dump '!$A:$AF,31,FALSE) -> 3-haak | M9: =VLOOKUP($A9,'containers '!$A:$AA,12,FALSE) -> Bovengronds | N9: =VLOOKUP($A9,'containers '!$A:$AA,14,FALSE) -> 0 | O9: =VLOOKUP($A9,'containers '!$A:$AA,15,FALSE) -> 100 | P9: =VLOOKUP($A9,'containers '!$A:$AA,16,FALSE) -> BAMBOV2014
A10: BKC0023 | B10: =VLOOKUP(A10,'dump '!A:C,1,FALSE) -> BKC0023 | C10: =VLOOKUP(A10,'dump '!A:AF,2,FALSE) -> 1381EV8501 | D10: =VLOOKUP($A10,'dump '!$A:$AF,17,FALSE) -> 52.301254 | E10: =VLOOKUP($A10,'dump '!$A:$AF,18,FALSE) -> 5.048674 | F10: =VLOOKUP(A10,'dump '!$A:$AF,11,FALSE) -> J.A.Fijnvandraatlaan | G10: =VLOOKUP($A10,'dump '!$A:$AF,12,FALSE) -> 85 | H10: =VLOOKUP($A10,'dump '!$A:$AF,13,FALSE) -> 1381EV | I10: =VLOOKUP($A10,'dump '!$A:$AF,14,FALSE) -> Weesp | J10: =VLOOKUP($A10,'dump '!$A:$AF,15,FALSE) -> 5 | K10: =VLOOKUP($A10,'dump '!$A:$AF,3,FALSE) -> PMD | L10: =VLOOKUP($A10,'dump '!$A:$AF,31,FALSE) -> 3-haak | M10: =VLOOKUP($A10,'containers '!$A:$AA,12,FALSE) -> Bovengronds | N10: =VLOOKUP($A10,'containers '!$A:$AA,14,FALSE) -> 0 | O10: =VLOOKUP($A10,'containers '!$A:$AA,15,FALSE) -> 100 | P10: =VLOOKUP($A10,'containers '!$A:$AA,16,FALSE) -> HMIBOV2012
A11: BKC0030 | B11: =VLOOKUP(A11,'dump '!A:C,1,FALSE) -> BKC0030 | C11: =VLOOKUP(A11,'dump '!A:AF,2,FALSE) -> 1412CA5001 | D11: =VLOOKUP($A11,'dump '!$A:$AF,17,FALSE) -> 52.284189 | E11: =VLOOKUP($A11,'dump '!$A:$AF,18,FALSE) -> 5.148462 | F11: =VLOOKUP(A11,'dump '!$A:$AF,11,FALSE) -> Cort van der Lindenlaan | G11: =VLOOKUP($A11,'dump '!$A:$AF,12,FALSE) -> 50 | H11: =VLOOKUP($A11,'dump '!$A:$AF,13,FALSE) -> 1412CA | I11: =VLOOKUP($A11,'dump '!$A:$AF,14,FALSE) -> Naarden | J11: =VLOOKUP($A11,'dump '!$A:$AF,15,FALSE) -> 5 | K11: =VLOOKUP($A11,'dump '!$A:$AF,3,FALSE) -> PMD | L11: =VLOOKUP($A11,'dump '!$A:$AF,31,FALSE) -> 3-haak | M11: =VLOOKUP($A11,'containers '!$A:$AA,12,FALSE) -> Bovengronds | N11: =VLOOKUP($A11,'containers '!$A:$AA,14,FALSE) -> 0 | O11: =VLOOKUP($A11,'containers '!$A:$AA,15,FALSE) -> 100 | P11: =VLOOKUP($A11,'containers '!$A:$AA,16,FALSE) -> KLIBOV2010
A12: BKC0036 | B12: =VLOOKUP(A12,'dump '!A:C,1,FALSE) -> BKC0036 | C12: =VLOOKUP(A12,'dump '!A:AF,2,FALSE) -> 1244PC201 | D12: =VLOOKUP($A12,'dump '!$A:$AF,17,FALSE) -> 52.265765 | E12: =VLOOKUP($A12,'dump '!$A:$AF,18,FALSE) -> 5.0985859 | F12: =VLOOKUP(A12,'dump '!$A:$AF,11,FALSE) -> Elisabeth de Walelaan | G12: =VLOOKUP($A12,'dump '!$A:$AF,12,FALSE) -> 2 | H12: =VLOOKUP($A12,'dump '!$A:$AF,13,FALSE) -> 1244PC | I12: =VLOOKUP($A12,'dump '!$A:$AF,14,FALSE) -> Ankeveen | J12: =VLOOKUP($A12,'dump '!$A:$AF,15,FALSE) -> 5 | K12: =VLOOKUP($A12,'dump '!$A:$AF,3,FALSE) -> PMD | L12: =VLOOKUP($A12,'dump '!$A:$AF,31,FALSE) -> 3-haak | M12: =VLOOKUP($A12,'containers '!$A:$AA,12,FALSE) -> Bovengronds | N12: =VLOOKUP($A12,'containers '!$A:$AA,14,FALSE) -> 0 | O12: =VLOOKUP($A12,'containers '!$A:$AA,15,FALSE) -> 100 | P12: =VLOOKUP($A12,'containers '!$A:$AA,16,FALSE) -> HMIBOV2016
A13: BKC0039 | B13: =VLOOKUP(A13,'dump '!A:C,1,FALSE) -> BKC0039 | C13: =VLOOKUP(A13,'dump '!A:AF,2,FALSE) -> 1403EK13201 | D13: =VLOOKUP($A13,'dump '!$A:$AF,17,FALSE) -> 52.269471 | E13: =VLOOKUP($A13,'dump '!$A:$AF,18,FALSE) -> 5.1916379 | F13: =VLOOKUP(A13,'dump '!$A:$AF,11,FALSE) -> Koekoeklaan | G13: =VLOOKUP($A13,'dump '!$A:$AF,12,FALSE) -> 132 | H13: =VLOOKUP($A13,'dump '!$A:$AF,13,FALSE) -> 1403EK | I13: =VLOOKUP($A13,'dump '!$A:$AF,14,FALSE) -> Bussum | J13: =VLOOKUP($A13,'dump '!$A:$AF,15,FALSE) -> 5 | K13: =VLOOKUP($A13,'dump '!$A:$AF,3,FALSE) -> PMD | L13: =VLOOKUP($A13,'dump '!$A:$AF,31,FALSE) -> 3-haak | M13: =VLOOKUP($A13,'containers '!$A:$AA,12,FALSE) -> Bovengronds | N13: =VLOOKUP($A13,'containers '!$A:$AA,14,FALSE) -> 0 | O13: =VLOOKUP($A13,'containers '!$A:$AA,15,FALSE) -> 100 | P13: =VLOOKUP($A13,'containers '!$A:$AA,16,FALSE) -> BAMBOV2012
... A1871: X22 | B1871: =VLOOKUP(A1871,'dump '!A:C,1,FALSE) -> X22 | C1871: =VLOOKUP(A1871,'dump '!A:AF,2,FALSE) -> 1271BM1702 | D1871: =VLOOKUP($A1871,'dump '!$A:$AF,17,FALSE) -> 52.297189 | E1871: =VLOOKUP($A1871,'dump '!$A:$AF,18,FALSE) -> 5.233557 | F1871: =VLOOKUP(A1871,'dump '!$A:$AF,11,FALSE) -> Keucheniusstraat | G1871: =VLOOKUP($A1871,'dump '!$A:$AF,12,FALSE) -> 17 | H1871: =VLOOKUP($A1871,'dump '!$A:$AF,13,FALSE) -> 1271BM | I1871: =VLOOKUP($A1871,'dump '!$A:$AF,14,FALSE) -> Huizen | J1871: =VLOOKUP($A1871,'dump '!$A:$AF,15,FALSE) -> 5 | K1871: =VLOOKUP($A1871,'dump '!$A:$AF,3,FALSE) -> OPK | L1871: =VLOOKUP($A1871,'dump '!$A:$AF,31,FALSE) -> 3-haak | M1871: =VLOOKUP($A1871,'containers '!$A:$AA,12,FALSE) -> DEPOTCONTAINER | N1871: =VLOOKUP($A1871,'containers '!$A:$AA,14,FALSE) -> 60 | O1871: =VLOOKUP($A1871,'containers '!$A:$AA,15,FALSE) -> 100 | P1871: =VLOOKUP($A1871,'containers '!$A:$AA,16,FALSE) -> VDL HMI

Sheet dump 
A1: Container | B1: DumpLocationName | C1: Fractie | D1: check basis | E1: DeviceType | F1: Unit_Id | G1: LinkedOn | H1: UnlinkedOn | I1: Description | J1: CustomerName | K1: Street | L1: HouseNumber | M1: Postalcode | N1: City | O1: PitCapacity | P1: VolumeCorrectionFactor | Q1: Latitude | R1: Longitude | S1: ConnectOnTime | T1: LimitFull | U1: LimitNearFull | V1: LockTimeout | W1: LockWhenFull | X1: SafetyPrecautions | Y1: HandlingTimeInSeconds | Z1: ClusterName | AA1: CreatedOn | AB1: CreatedByPerson | AC1: UpdatedOn | AD1: UpdatedByPerson | AE1: LiftFrameType
B2: 1398DG401 | D2: =VLOOKUP(A2,Basis!A:A,1,FALSE) -> #N/A | K2: Muyderban | L2: 4 | M2: 1398DG | N2: Muiden | O2: 6 | P2: 1 | Q2: 52.333931 | R2: 5.0617599 | S2: 00:00:00 | T2: 100 | U2: 80 | V2: 10 | W2: 0 | Y2: 180 | Z2: CL1398DG4 | AA2: 43973.427 | AB2: Marco Broekhoff | AC2: 43973.427
B3: 1398DG402 | D3: =VLOOKUP(A3,Basis!A:A,1,FALSE) -> #N/A | K3: Muyderban | L3: 4 | M3: 1398DG | N3: Muiden | O3: 6 | P3: 1 | Q3: 52.333931 | R3: 5.506176 | S3: 00:00:00 | T3: 100 | U3: 80 | V3: 10 | W3: 0 | Y3: 180 | Z3: CL1398DG4 | AA3: 43973.428 | AB3: Marco Broekhoff | AC3: 43973.428
B4: 1252AK3403 | D4: =VLOOKUP(A4,Basis!A:A,1,FALSE) -> #N/A | K4: De Bazelweg | L4: 34 | M4: 1252AK | N4: Laren | O4: 6 | P4: 1 | Q4: 52.246479 | R4: 5.2353702 | S4: 00:00:00 | T4: 100 | U4: 80 | V4: 10 | W4: 0 | Y4: 180 | Z4: CL1252AK34 | AA4: 43976.634 | AB4: Marco Broekhoff | AC4: 43976.634
A5: BKC0070 | B5: 1412GV702 | C5: PMD | D5: =VLOOKUP(A5,Basis!A:A,1,FALSE) -> BKC0070 | K5: Lambertus Hortensiuslaan | L5: 7 | M5: 1412GV | N5: Naarden | O5: 5 | P5: 1 | Q5: 52.285593 | R5: 5.160914 | S5: 03:41:00 | T5: 100 | U5: 80 | V5: 10 | W5: 0 | Y5: 180 | Z5: CL1412GV7 | AA5: 43635.497 | AB5: Marco Broekhoff | AC5: 44903.429 | AD5: Corrie Maathuis | AE5: 3-haak
A6: VO164 | B6: 1277AG4702 | C6: PMD | D6: =VLOOKUP(A6,Basis!A:A,1,FALSE) -> VO164 | E6: TBSU | F6: 1017212 | G6: 43670.466 | K6: Goethehof | L6: 47 | M6: 1277AG | N6: Huizen | O6: 6 | P6: 1 | Q6: 52.295181 | R6: 5.2747688 | S6: 04:00:00 | T6: 100 | U6: 80 | V6: 15 | W6: 0 | Y6: 180 | Z6: CL1277AG47 | AA6: 43636.493 | AB6: Marco Broekhoff | AC6: 44907.647 | AD6: Corrie Maathuis | AE6: 3-haak
A7: VO160 | B7: 1276NJ8803 | C7: PMD | D7: =VLOOKUP(A7,Basis!A:A,1,FALSE) -> VO160 | E7: TBSU | F7: 1017214 | G7: 43670.466 | K7: Ambonlaan | L7: 88 | M7: 1276NJ | N7: Huizen | O7: 6 | P7: 1 | Q7: 52.291775 | R7: 5.245996 | S7: 04:00:00 | T7: 100 | U7: 80 | V7: 15 | W7: 0 | Y7: 180 | Z7: CL1276NJ88 | AA7: 43636.487 | AB7: Marco Broekhoff | AC7: 44907.647 | AD7: Corrie Maathuis | AE7: 3-haak
A8: VO166 | B8: 1275AJ4502 | C8: PMD | D8: =VLOOKUP(A8,Basis!A:A,1,FALSE) -> VO166 | E8: TBSU | F8: 1017215 | G8: 43670.465 | K8: Brasem | L8: 45 | M8: 1275AJ | N8: Huizen | O8: 6 | P8: 1 | Q8: 52.291439 | R8: 5.2647653 | S8: 04:00:00 | T8: 100 | U8: 80 | V8: 15 | W8: 0 | Y8: 180 | Z8: CL1275AJ45 | AA8: 43636.471 | AB8: Marco Broekhoff | AC8: 44907.647 | AD8: Corrie Maathuis | AE8: 3-haak
A9: RO655 | B9: 1273JA4401 | C9: REST | D9: =VLOOKUP(A9,Basis!A:A,1,FALSE) -> RO655 | E9: TBSU | F9: 1017216 | G9: 43670.462 | K9: Zadelrob | L9: 44 | M9: 1273JA | N9: Huizen | O9: 6 | P9: 1 | Q9: 52.296909 | R9: 5.26408 | S9: 04:00:00 | T9: 100 | U9: 80 | V9: 15 | W9: 0 | Y9: 180 | Z9: CL1273JA44 | AA9: 43635.662 | AB9: Marco Broekhoff | AC9: 44907.647 | AD9: Corrie Maathuis | AE9: 3-haak
A10: VO176 | B10: 1276MH20802 | C10: PMD | D10: =VLOOKUP(A10,Basis!A:A,1,FALSE) -> VO176 | E10: TBSU | F10: 1017218 | G10: 43670.453 | K10: Huizermaatweg | L10: 208 | M10: 1276MH | N10: Huizen | O10: 6 | P10: 1 | Q10: 52.297344 | R10: 5.2494717 | S10: 04:00:00 | T10: 100 | U10: 80 | V10: 15 | W10: 0 | Y10: 180 | Z10: CL1276MH208 | AA10: 43630.489 | AB10: Marco Broekhoff | AC10: 44907.647 | AD10: Corrie Maathuis | AE10: 3-haak
A11: VO154 | B11: 1274PD202 | C11: PMD | D11: =VLOOKUP(A11,Basis!A:A,1,FALSE) -> VO154 | E11: TBSU | F11: 1017244 | G11: 43670.465 | K11: Damwand | L11: 2 | M11: 1274PD | N11: Huizen | O11: 6 | P11: 1 | Q11: 52.297173 | R11: 5.2670727 | S11: 04:00:00 | T11: 100 | U11: 80 | V11: 15 | W11: 0 | Y11: 180 | Z11: CL1274PD2 | AA11: 43635.694 | AB11: Marco Broekhoff | AC11: 44907.647 | AD11: Corrie Maathuis | AE11: 3-haak
A12: VO174 | B12: 1273MD19602 | C12: PMD | D12: =VLOOKUP(A12,Basis!A:A,1,FALSE) -> VO174 | E12: TBSU | F12: 1017245 | G12: 43670.454 | K12: Delta | L12: 196 | M12: 1273MD | N12: Huizen | O12: 6 | P12: 1 | Q12: 52.304753 | R12: 5.2556472 | S12: 04:00:00 | T12: 100 | U12: 80 | V12: 15 | W12: 0 | Y12: 180 | Z12: CL1273MD196 | AA12: 43635.372 | AB12: Marco Broekhoff | AC12: 44907.647 | AD12: Corrie Maathuis | AE12: 3-haak
A13: RO704 | B13: 1261ZP2501 | C13: REST | D13: =VLOOKUP(A13,Basis!A:A,1,FALSE) -> RO704 | E13: TBSU | F13: 1017229 | G13: 43670.436 | K13: Erfgooiersdreef | L13: 25 | M13: 1261ZP | N13: Blaricum | O13: 5 | P13: 1 | Q13: 52.293137 | R13: 5.2751608 | S13: 04:00:00 | T13: 100 | U13: 80 | V13: 15 | W13: 0 | Y13: 180 | Z13: CL1261ZP25 | AA13: 43629.431 | AB13: Marco Broekhoff | AC13: 44907.647 | AD13: Corrie Maathuis | AE13: 3-haak
A14: RO705 | B14: 1261WH1201 | C14: REST | D14: =VLOOKUP(A14,Basis!A:A,1,FALSE) -> RO705 | E14: TBSU | F14: 1017230 | G14: 43670.453 | K14: Gooischedreef | L14: 12 | M14: 1261WH | N14: Blaricum | O14: 6 | P14: 1 | Q14: 52.290653 | R14: 5.276679 | S14: 04:00:00 | T14: 100 | U14: 80 | V14: 15 | W14: 0 | Y14: 180 | Z14: CL1261WH12 | AA14: 43633.683 | AB14: Marco Broekhoff | AC14: 44907.647 | AD14: Corrie Maathuis | AE14: 3-haak
A15: VO155 | B15: 1274NK1302 | C15: PMD | D15: =VLOOKUP(A15,Basis!A:A,1,FALSE) -> VO155 | E15: TBSU | F15: 1017242 | G15: 43670.465 | K15: Draaikom | L15: 13 | M15: 1274NK | N15: Huizen | O15: 6 | P15: 1 | Q15: 52.297585 | R15: 5.2686644 | S15: 04:00:00 | T15: 100 | U15: 80 | V15: 15 | W15: 0 | Y15: 180 | Z15: CL1274NK13 | AA15: 43635.692 | AB15: Marco Broekhoff | AC15: 44907.647 | AD15: Corrie Maathuis | AE15: 3-haak
A16: VO142 | B16: 1261WH1202 | C16: PMD | D16: =VLOOKUP(A16,Basis!A:A,1,FALSE) -> VO142 | E16: TBSU | F16: 1017234 | G16: 43670.454 | K16: Gooischedreef | L16: 12 | M16: 1261WH | N16: Blaricum | O16: 6 | P16: 1 | Q16: 52.290653 | R16: 5.276679 | S16: 04:00:00 | T16: 100 | U16: 80 | V16: 15 | W16: 0 | Y16: 180 | Z16: CL1261WH12 | AA16: 43633.684 | AB16: Marco Broekhoff | AC16: 44907.647 | AD16: Corrie Maathuis | AE16: 3-haak
A17: VO153 | B17: 1252AL5902 | C17: PMD | D17: =VLOOKUP(A17,Basis!A:A,1,FALSE) -> VO153 | E17: TBSU | F17: 1017235 | G17: 43670.468 | K17: Van Erven Dorenspark | L17: 59 | M17: 1252AL | N17: Laren | O17: 6 | P17: 1 | Q17: 52.245716 | R17: 5.2369895 | S17: 04:00:00 | T17: 100 | U17: 80 | V17: 15 | W17: 0 | Y17: 180 | Z17: CL1252AL59 | AA17: 43636.673 | AB17: Marco Broekhoff | AC17: 44907.648 | AD17: Corrie Maathuis | AE17: 3-haak
... A111: RO1026 | B111: 1215HX4001 | C111: REST | D111: =VLOOKUP(A111,Basis!A:A,1,FALSE) -> RO1026 | E111: TBSU | F111: 1048933 | G111: 44894.502 | K111: Jacob van Maerlantlaan | L111: 40 | M111: 1215HX | N111: Hilversum | O111: 6 | P111: 1 | Q111: 52.21446 | R111: 5.15519 | S111: 00:00:00 | T111: 100 | U111: 75 | V111: 10 | W111: 0 | Y111: 180 | Z111: CL1215HX40 | AA111: 44201.428 | AB111: Rob Markesteijn | AC111: 44907.648 | AD111: Corrie Maathuis | AE111: 3-haak
A112: X01 | B112: 1277AG4703 | C112: OPK | D112: =VLOOKUP(A112,Basis!A:A,1,FALSE) -> X01 | K112: Goethehof | L112: 47 | M112: 1277AG | N112: Huizen | O112: 3 | P112: 1 | Q112: 52.29518 | R112: 5.27476 | S112: 04:00:00 | T112: 100 | U112: 80 | V112: 10 | W112: 0 | Y112: 180 | Z112: CL1277AG47 | AA112: 43732.478 | AB112: Marco Broekhoff | AC112: 44903.429 | AD112: Corrie Maathuis | AE112: 3-haak
A113: RO734 | B113: 1275DM2401 | C113: REST | D113: =VLOOKUP(A113,Basis!A:A,1,FALSE) -> RO734 | E113: TBSU | F113: 1017867 | G113: 43670.461 | K113: Brederode | L113: 24 | M113: 1275DM | N113: Huizen | O113: 6 | P113: 1 | Q113: 52.292141 | R113: 5.262744 | S113: 04:00:00 | T113: 100 | U113: 80 | V113: 15 | W113: 0 | Y113: 180 | Z113: CL1275DM24 | AA113: 43635.608 | AB113: Marco Broekhoff | AC113: 44907.647 | AD113: Corrie Maathuis | AE113: 3-haak
A114: RO702 | B114: 1215PP201 | C114: REST | D114: =VLOOKUP(A114,Basis!A:A,1,FALSE) -> RO702 | E114: TBSU | F114: 1017877 | G114: 43753.694 | K114: Van Ghentlaan | L114: 2 | M114: 1215PP | N114: Hilversum | O114: 6 | P114: 1 | Q114: 52.213013 | R114: 5.152595 | S114: 04:00:00 | T114: 100 | U114: 80 | V114: 15 | W114: 0 | Y114: 180 | Z114: CL1215PP2 | AA114: 43629.674 | AB114: Marco Broekhoff | AC114: 44907.647 | AD114: Corrie Maathuis | AE114: 3-haak
A115: VO445 | B115: 1222LH5402 | C115: PMD | D115: =VLOOKUP(A115,Basis!A:A,1,FALSE) -> VO445 | E115: TBSU | F115: 1015802 | G115: 44637.5 | K115: Lieven de Keylaan | L115: 54 | M115: 1222LH | N115: Hilversum | O115: 6 | P115: 1 | Q115: 52.236492 | R115: 5.1851192 | S115: 00:00:00 | T115: 100 | U115: 80 | V115: 10 | W115: 0 | Y115: 180 | Z115: CL1222LH54 | AA115: 44634.492 | AB115: Marco Broekhoff | AC115: 44907.648 | AD115: Corrie Maathuis | AE115: 3-haak
A116: RO737 | B116: 1212EC13201 | C116: REST | D116: =VLOOKUP(A116,Basis!A:A,1,FALSE) -> RO737 | E116: TBSU | F116: 1017870 | G116: 43670.646 | K116: Compagnieweg | L116: 132 | M116: 1212EC | N116: Hilversum | O116: 6 | P116: 1 | Q116: 52.217476 | R116: 5.1976609 | S116: 04:00:00 | T116: 100 | U116: 80 | V116: 15 | W116: 0 | Y116: 180 | Z116: CL1212EC132 | AA116: 43670.643 | AB116: Marco Broekhoff | AC116: 44907.648 | AD116: Corrie Maathuis | AE116: 3-haak
A117: VO227 | B117: 1212EA2603 | C117: PMD | D117: =VLOOKUP(A117,Basis!A:A,1,FALSE) -> VO227 | E117: TBSU | F117: 1017978 | G117: 44909.409 | K117: Compagnieweg | L117: 26 | M117: 1212EA | N117: Hilversum | O117: 6 | P117: 1 | Q117: 52.218853 | R117: 5.1968021 | S117: 04:00:00 | T117: 100 | U117: 80 | V117: 15 | W117: 0 | Y117: 180 | Z117: CL1212EA26 | AA117: 43670.635 | AB117: Marco Broekhoff | AC117: 44879.616 | AD117: Corrie Maathuis | AE117: 3-haak
A118: VO298 | B118: 1403JX10003 | C118: PMD | D118: =VLOOKUP(A118,Basis!A:A,1,FALSE) -> VO298 | E118: TBSU | F118: 1017969 | G118: 44463.574 | K118: Dorotheagaarde | L118: 100 | M118: 1403JX | N118: Bussum | O118: 6 | P118: 1 | Q118: 52.266033 | R118: 5.1882324 | S118: 00:00:00 | T118: 100 | U118: 80 | V118: 10 | W118: 0 | Y118: 180 | Z118: CL1403JX100 | AA118: 43892.565 | AB118: Marco Broekhoff | AC118: 44907.648 | AD118: Corrie Maathuis | AE118: 3-haak
A119: RO694 | B119: 1223MB1902 | C119: REST | D119: =VLOOKUP(A119,Basis!A:A,1,FALSE) -> RO694 | E119: TBSU | F119: 1018047 | G119: 44515.478 | K119: Dolf van der Lindenstraat | L119: 19 | M119: 1223MB | N119: Hilversum | O119: 6 | P119: 1 | Q119: 52.225674 | R119: 5.2035599 | S119: 04:00:00 | T119: 100 | U119: 80 | V119: 10 | W119: 0 | Y119: 180 | Z119: CL1223MB19 | AA119: 43636.581 | AB119: Marco Broekhoff | AC119: 44907.647 | AD119: Corrie Maathuis | AE119: 3-haak
A120: RO735 | B120: 1261AH9a01 | C120: REST | D120: =VLOOKUP(A120,Basis!A:A,1,FALSE) -> RO735 | E120: TBSU | F120: 1018009 | G120: 44048.496 | K120: Prins Hendriklaan | L120: 9a | M120: 1261AH | N120: Blaricum | O120: 6 | P120: 1 | Q120: 52.269081 | R120: 5.2121987 | S120: 04:00:00 | T120: 100 | U120: 80 | V120: 15 | W120: 0 | Y120: 180 | Z120: CL1261AH9a | AA120: 43669.651 | AB120: Marco Broekhoff | AC120: 44907.648 | AD120: Corrie Maathuis | AE120: 3-haak
A121: PO113 | B121: 1276DD5903 | C121: OPK | D121: =VLOOKUP(A121,Basis!A:A,1,FALSE) -> PO113 | E121: TBSU | F121: 1018030 | G121: 44160.62 | K121: Akkerweg | L121: 59 | M121: 1276DD | N121: Huizen | O121: 6 | P121: 1 | Q121: 52.29475 | R121: 5.2515302 | S121: 00:00:00 | T121: 100 | U121: 80 | V121: 10 | W121: 0 | Y121: 180 | Z121: CL1276DD59 | AA121: 43832.679 | AB121: Marco Broekhoff | AC121: 44907.648 | AD121: Corrie Maathuis | AE121: 3-haak
A122: RO736 | B122: 1398DG2601 | C122: REST | D122: =VLOOKUP(A122,Basis!A:A,1,FALSE) -> RO736 | E122: TBSU | F122: 1018472 | G122: 43699.599 | K122: Muyderban | L122: 26 | M122: 1398DG | N122: Muiden | O122: 6 | P122: 1 | Q122: 52.334442 | R122: 5.0619078 | S122: 00:00:00 | T122: 100 | U122: 80 | V122: 10 | W122: 0 | Y122: 180 | Z122: CL1398DG26 | AA122: 44013.442 | AB122: Marco Broekhoff | AC122: 44907.648 | AD122: Corrie Maathuis | AE122: 3-haak
A123: VO266 | B123: 1216JE202 | C123: PMD | D123: =VLOOKUP(A123,Basis!A:A,1,FALSE) -> VO266 | E123: TBSU | F123: 1018060 | G123: 44301.494 | K123: Kapittelweg | L123: 2 | M123: 1216JE | N123: Hilversum | O123: 6 | P123: 1 | Q123: 52.215141 | R123: 5.1431251 | S123: 04:00:00 | T123: 100 | U123: 80 | V123: 15 | W123: 0 | Y123: 180 | Z123: CL1216JE2 | AA123: 43713.424 | AB123: Marco Broekhoff | AC123: 44907.648 | AD123: Corrie Maathuis | AE123: 3-haak
A124: PO116 | B124: 1243JG380103 | C124: OPK | D124: =VLOOKUP(A124,Basis!A:A,1,FALSE) -> PO116 | E124: TBSU | F124: 1018063 | G124: 44831.583 | K124: Noordereinde | L124: 38ap01 | M124: 1243JG | N124: 's-Graveland | O124: 6 | P124: 1 | Q124: 52.245205 | R124: 5.1223125 | S124: 04:00:00 | T124: 100 | U124: 80 | V124: 15 | W124: 0 | Y124: 180 | Z124: CL1243JG3801 | AA124: 43669.632 | AB124: Marco Broekhoff | AC124: 44907.648 | AD124: Corrie Maathuis | AE124: 3-haak
... A459: VO181 | B459: 1274SV3602 | C459: PMD | D459: =VLOOKUP(A459,Basis!A:A,1,FALSE) -> VO181 | E459: TBSU | F459: 1016852 | G459: 43732.482 | K459: Oostermeent-Zuid | L459: 36 | M459: 1274SV | N459: Huizen | O459: 6 | P459: 1 | Q459: 52.294178 | R459: 5.2644792 | S459: 04:00:00 | T459: 100 | U459: 70 | V459: 15 | W459: 0 | Y459: 180 | Z459: CL1274SV36 | AA459: 43630.443 | AB459: Marco Broekhoff | AC459: 44907.647 | AD459: Corrie Maathuis | AE459: 3-haak
A460: PO110 | B460: 1273RR6401 | C460: OPK | D460: =VLOOKUP(A460,Basis!A:A,1,FALSE) -> PO110 | E460: TBSU | F460: 1017296 | G460: 43670.385 | K460: Westkade | L460: 64 | M460: 1273RR | N460: Huizen | O460: 5 | P460: 1 | Q460: 52.298621 | R460: 5.2672579 | S460: 04:00:00 | T460: 95 | U460: 75 | V460: 15 | W460: 0 | Y460: 180 | Z460: CL1273RR64 | AA460: 43474.374 | AC460: 44907.647 | AD460: Corrie Maathuis | AE460: 3-haak
A461: VO247 | B461: 1216LT101 | C461: PMD | D461: =VLOOKUP(A461,Basis!A:A,1,FALSE) -> VO247 | E461: TBSU | F461: 1017298 | G461: 43670.569 | K461: Erasmuslaan | L461: 1 | M461: 1216LT | N461: Hilversum | O461: 6 | P461: 1 | Q461: 52.217529 | R461: 5.132164 | S461: 04:00:00 | T461: 95 | U461: 75 | V461: 15 | W461: 0 | Y461: 180 | Z461: CL1216LT1 | AA461: 43474.374 | AC461: 44907.647 | AD461: Corrie Maathuis | AE461: 3-haak
A462: PO123 | B462: 1403JX10001 | C462: OPK | D462: =VLOOKUP(A462,Basis!A:A,1,FALSE) -> PO123 | E462: TBSU | F462: 1017289 | G462: 44420.423 | K462: Dorotheagaarde | L462: 100 | M462: 1403JX | N462: Bussum | O462: 5 | P462: 1 | Q462: 52.265905 | R462: 5.1882603 | S462: 04:00:00 | T462: 95 | U462: 75 | V462: 15 | W462: 0 | Y462: 180 | Z462: CL1403JX100 | AA462: 43474.374 | AC462: 44907.647 | AD462: Corrie Maathuis | AE462: 3-haak
A463: RO878 | B463: 1216SP15301 | C463: REST | D463: =VLOOKUP(A463,Basis!A:A,1,FALSE) -> RO878 | E463: TBSU | F463: 1017290 | G463: 44231.386 | K463: Willibrorduslaan | L463: 153 | M463: 1216SP | N463: Hilversum | O463: 6 | P463: 1 | Q463: 52.219007 | R463: 5.127648 | S463: 04:00:00 | T463: 95 | U463: 75 | V463: 15 | W463: 0 | Y463: 180 | Z463: CL1216SP153 | AA463: 43474.374 | AC463: 44907.647 | AD463: Corrie Maathuis | AE463: 3-haak
A464: PO103 | B464: 1261MR9101 | C464: OPK | D464: =VLOOKUP(A464,Basis!A:A,1,FALSE) -> PO103 | E464: TBSU | F464: 1017307 | G464: 43670.427 | K464: 't Schaar | L464: 91 | M464: 1261MR | N464: Blaricum | O464: 5 | P464: 1 | Q464: 52.285954 | R464: 5.269312 | S464: 04:00:00 | T464: 95 | U464: 75 | V464: 15 | W464: 0 | Y464: 180 | Z464: CL1261MR91 | AA464: 43474.374 | AC464: 44907.647 | AD464: Corrie Maathuis | AE464: 3-haak
A465: RO880 | B465: 1221CX1201 | C465: REST | D465: =VLOOKUP(A465,Basis!A:A,1,FALSE) -> RO880 | E465: TBSU | F465: 1017317 | G465: 44257.52 | K465: Eemnesserweg | L465: 12A | M465: 1221CX | N465: Hilversum | O465: 5 | P465: 1 | Q465: 52.227738 | R465: 5.184015 | S465: 04:00:00 | T465: 95 | U465: 75 | V465: 15 | W465: 0 | Y465: 180 | Z465: CL1221CX12 | AA465: 43474.374 | AC465: 44907.647 | AD465: Corrie Maathuis | AE465: 3-haak
A466: VO093 | B466: 1211EG13602 | C466: PMD | D466: =VLOOKUP(A466,Basis!A:A,1,FALSE) -> VO093 | E466: TBSU | F466: 1017878 | G466: 43507.389 | K466: Groest | L466: 136 | M466: 1211EG | N466: Hilversum | O466: 5 | P466: 1 | Q466: 52.223174 | R466: 5.178231 | S466: 04:00:00 | T466: 95 | U466: 75 | V466: 15 | W466: 0 | Y466: 180 | Z466: CL1211EG136 | AA466: 43474.374 | AC466: 44907.647 | AD466: Corrie Maathuis | AE466: 3-haak
A467: VO092 | B467: 1211EZ103 | C467: PMD | D467: =VLOOKUP(A467,Basis!A:A,1,FALSE) -> VO092 | E467: TBSU | F467: 1017879 | G467: 43507.389 | K467: Spoorstraat | L467: 1A | M467: 1211EZ | N467: Hilversum | O467: 5 | P467: 1 | Q467: 52.225234 | R467: 5.1801749 | S467: 04:00:00 | T467: 95 | U467: 75 | V467: 15 | W467: 0 | Y467: 180 | Z467: CL1211EZ1 | AA467: 43474.374 | AC467: 44907.647 | AD467: Corrie Maathuis | AE467: 3-haak
...

Sheet containers 
A1: ContainerName | C1: DumpLocationName | D1: Street | E1: HouseNumber | F1: Postalcode | G1: City | H1: DeviceType | I1: Unit_Id | J1: Capacity | K1: Fraction | L1: Description | M1: LiftFrameType | N1: Litres | O1: MaxDumpCount | P1: Manufacturer | Q1: ContainerHeightInMM | R1: FillSensorFullDistanceMarginInMM | S1: FillSensorInstallationHeightInMM | T1: SensorType | U1: SerialNumber | V1: Type | W1: CreatedOn | X1: CreatedByPerson | Y1: UpdatedOn | Z1: UpdatedByPerson
A2: BKC0003 | B2: =VLOOKUP(A2,'dump '!A:A,1,FALSE) -> BKC0003 | C2: 1217DA101 | D2: Oude Meentweg | E2: 1 | F2: 1217DA | G2: Hilversum | H2: TFSU | J2: 3 | K2: PMD | L2: Bovengronds | M2: 3-haak | N2: 0 | O2: 100 | P2: BAMBOV2012 | Q2: 1600 | R2: 50 | S2: 300 | V2: BVC | W2: 43474.374 | Y2: 44683.484 | Z2: Rob Markesteijn
A3: BKC0005 | B3: =VLOOKUP(A3,'dump '!A:A,1,FALSE) -> #N/A | H3: TFSU | I3: 3004393 | J3: 3 | K3: PMD | L3: Bovengronds | M3: 3-haak | N3: 0 | O3: 100 | P3: HMIBOV2012 | Q3: 1600 | R3: 50 | S3: 300 | V3: BVC | W3: 43474.374 | Y3: 44683.485 | Z3: Rob Markesteijn
A4: BKC0007 | B4: =VLOOKUP(A4,'dump '!A:A,1,FALSE) -> #N/A | H4: TBS | J4: 3 | K4: PMD | L4: Bovengronds | M4: 3-haak | N4: 0 | O4: 100 | P4: KLIBOV2010 | Q4: 1600 | R4: 50 | S4: 301 | V4: BVC | W4: 43636.569 | X4: Marco Broekhoff | Y4: 44683.485 | Z4: Rob Markesteijn
A5: BKC0009 | B5: =VLOOKUP(A5,'dump '!A:A,1,FALSE) -> BKC0009 | C5: 1402TH5701 | D5: Voormeulenweg | E5: 57 | F5: 1402TH | G5: Bussum | H5: TFSU | I5: 3004080 | J5: 3 | K5: PMD | L5: Bovengronds | M5: 3-haak | N5: 0 | O5: 100 | P5: BAMBOV2012 | Q5: 1590 | R5: 50 | S5: 300 | V5: BVC | W5: 43474.374 | Y5: 44683.485 | Z5: Rob Markesteijn
A6: BKC0010 | B6: =VLOOKUP(A6,'dump '!A:A,1,FALSE) -> BKC0010 | C6: 1215HM16401 | D6: Oude Loosdrechtseweg | E6: 164 | F6: 1215HM | G6: Hilversum | H6: TFSU | I6: 3004602 | J6: 3 | K6: PMD | L6: Bovengronds | M6: 3-haak | N6: 0 | O6: 100 | P6: BAMBOV2012 | Q6: 1600 | R6: 50 | S6: 300 | V6: BVC | W6: 43474.374 | Y6: 44683.485 | Z6: Rob Markesteijn
A7: BKC0012 | B7: =VLOOKUP(A7,'dump '!A:A,1,FALSE) -> BKC0012 | C7: 1218GW801 | D7: Zuidermeent | E7: 8 | F7: 1218GW | G7: Hilversum | H7: TFSU | I7: 3004545 | J7: 3 | K7: PMD | L7: Bovengronds | M7: 3-haak | N7: 0 | O7: 100 | P7: BAMBOV2012 | Q7: 1600 | R7: 50 | S7: 300 | V7: BVC | W7: 43474.374 | Y7: 44683.485 | Z7: Rob Markesteijn
A8: BKC0014 | B8: =VLOOKUP(A8,'dump '!A:A,1,FALSE) -> #N/A | H8: TFSU | I8: 3004671 | J8: 3 | K8: PMD | L8: Bovengronds | M8: 3-haak | N8: 0 | O8: 100 | P8: BAMBOV2012 | Q8: 1600 | R8: 50 | S8: 300 | V8: BVC | W8: 43474.374 | Y8: 44683.485 | Z8: Rob Markesteijn
A9: BKC0015 | B9: =VLOOKUP(A9,'dump '!A:A,1,FALSE) -> BKC0015 | C9: 1403JD4201 | D9: Aaltje Noordewierlaan | E9: 42 | F9: 1403JD | G9: Bussum | H9: TFSU | I9: 3004660 | J9: 3 | K9: PMD | L9: Bovengronds | M9: 3-haak | N9: 0 | O9: 100 | P9: BAMBOV2014 | Q9: 1930 | R9: 50 | S9: 300 | V9: BVC | W9: 43474.374 | Y9: 44683.486 | Z9: Rob Markesteijn
A10: BKC0018 | B10: =VLOOKUP(A10,'dump '!A:A,1,FALSE) -> BKC0018 | C10: 1215LW5101 | D10: Admiraal de Ruyterlaan | E10: 51 | F10: 1215LW | G10: Hilversum | H10: TFSU | I10: 3004538 | J10: 3 | K10: PMD | L10: Bovengronds | M10: 3-haak | N10: 0 | O10: 100 | P10: BAMBOV2012 | Q10: 1600 | R10: 50 | S10: 300 | V10: BVC | W10: 43474.374 | Y10: 44683.486 | Z10: Rob Markesteijn
A11: BKC0019 | B11: =VLOOKUP(A11,'dump '!A:A,1,FALSE) -> BKC0019 | C11: 1382MC1801 | D11: Lobbrich Boudgerslaan | E11: 18 | F11: 1382MC | G11: Weesp | H11: TFSU | I11: 3004673 | J11: 3 | K11: PMD | L11: Bovengronds | M11: 3-haak | N11: 0 | O11: 100 | P11: SULBOV204 | Q11: 1600 | R11: 50 | S11: 300 | V11: BVC | W11: 43474.374 | Y11: 44683.486 | Z11: Rob Markesteijn
A12: BKC0021 | B12: =VLOOKUP(A12,'dump '!A:A,1,FALSE) -> BKC0021 | C12: 1394JJ1001 | D12: Meerhoekweg | E12: 10A | F12: 1394JJ | G12: Nederhorst den Berg | H12: TFSU | J12: 3 | K12: PMD | L12: Bovengronds | M12: 3-haak | N12: 0 | O12: 100 | P12: BAMBOV2014 | Q12: 1600 | R12: 50 | S12: 301 | V12: BVC | W12: 43474.374 | Y12: 44683.486 | Z12: Rob Markesteijn
A13: BKC0022 | B13: =VLOOKUP(A13,'dump '!A:A,1,FALSE) -> #N/A | H13: TFSU | I13: 3004691 | J13: 3 | K13: PMD | L13: Bovengronds | M13: 3-haak | N13: 0 | O13: 100 | P13: BAMBOV2012 | Q13: 1600 | R13: 50 | S13: 300 | V13: BVC | W13: 43474.374 | Y13: 44683.486 | Z13: Rob Markesteijn
A14: BKC0023 | B14: =VLOOKUP(A14,'dump '!A:A,1,FALSE) -> BKC0023 | C14: 1381EV8501 | D14: J.A.Fijnvandraatlaan | E14: 85 | F14: 1381EV | G14: Weesp | H14: TFSU | I14: 3004084 | J14: 3 | K14: PMD | L14: Bovengronds | M14: 3-haak | N14: 0 | O14: 100 | P14: HMIBOV2012 | Q14: 1600 | R14: 50 | S14: 300 | V14: BVC | W14: 43474.374 | Y14: 44683.486 | Z14: Rob Markesteijn
A15: BKC0026 | B15: =VLOOKUP(A15,'dump '!A:A,1,FALSE) -> #N/A | H15: TFSU | I15: 3004081 | J15: 3 | K15: PMD | L15: Bovengronds | M15: 3-haak | N15: 0 | O15: 100 | P15: BAMBOV2012 | Q15: 1600 | R15: 50 | S15: 300 | V15: BVC | W15: 43474.374 | Y15: 44683.487 | Z15: Rob Markesteijn
A16: BKC0030 | B16: =VLOOKUP(A16,'dump '!A:A,1,FALSE) -> BKC0030 | C16: 1412CA5001 | D16: Cort van der Lindenlaan | E16: 50 | F16: 1412CA | G16: Naarden | H16: TFSU | I16: 3004106 | J16: 3 | K16: PMD | L16: Bovengronds | M16: 3-haak | N16: 0 | O16: 100 | P16: KLIBOV2010 | Q16: 1590 | R16: 50 | S16: 300 | V16: BVC | W16: 43474.374 | Y16: 44683.487 | Z16: Rob Markesteijn
A17: BKC0031 | B17: =VLOOKUP(A17,'dump '!A:A,1,FALSE) -> #N/A | H17: TFSU | I17: 3004406 | J17: 3 | K17: PMD | L17: Bovengronds | M17: 3-haak | N17: 0 | O17: 100 | P17: BAMBOV2012 | Q17: 1600 | R17: 50 | S17: 300 | V17: BVC | W17: 43474.374 | Y17: 44683.487 | Z17: Rob Markesteijn
A18: BKC0032 | B18: =VLOOKUP(A18,'dump '!A:A,1,FALSE) -> #N/A | H18: TFSU | I18: 3004355 | J18: 3 | K18: PMD | L18: Bovengronds | M18: 3-haak | N18: 0 | O18: 100 | P18: HMIBOV2014 | Q18: 1600 | R18: 50 | S18: 301 | V18: BVC | W18: 43474.374 | Y18: 44683.487 | Z18: Rob Markesteijn
A19: BKC0036 | B19: =VLOOKUP(A19,'dump '!A:A,1,FALSE) -> BKC0036 | C19: 1244PC201 | D19: Elisabeth de Walelaan | E19: 2 | F19: 1244PC | G19: Ankeveen | H19: TBSU | J19: 3 | K19: PMD | L19: Bovengronds | M19: 3-haak | N19: 0 | O19: 100 | P19: HMIBOV2016 | Q19: 1600 | R19: 50 | S19: 302 | V19: BVC | W19: 43474.374 | Y19: 44683.507 | Z19: Rob Markesteijn
A20: BKC0039 | B20: =VLOOKUP(A20,'dump '!A:A,1,FALSE) -> BKC0039 | C20: 1403EK13201 | D20: Koekoeklaan | E20: 132 | F20: 1403EK | G20: Bussum | H20: TFSU | I20: 3004072 | J20: 3 | K20: PMD | L20: Bovengronds | M20: 3-haak | N20: 0 | O20: 100 | P20: BAMBOV2012 | Q20: 1590 | R20: 50 | S20: 300 | V20: BVC | W20: 43474.374 | Y20: 44683.487 | Z20: Rob Markesteijn
A21: BKC0040 | B21: =VLOOKUP(A21,'dump '!A:A,1,FALSE) -> BKC0040 | C21: 1215HM16402 | D21: Oude Loosdrechtseweg | E21: 164 | F21: 1215HM | G21: Hilversum | H21: TFSU | I21: 3004688 | J21: 3 | K21: PMD | L21: Bovengronds | M21: 3-haak | N21: 0 | O21: 100 | P21: BAMBOV2012 | Q21: 1600 | R21: 50 | S21: 300 | V21: BVC | W21: 43474.374 | Y21: 44683.487 | Z21: Rob Markesteijn
A22: BKC0041 | B22: =VLOOKUP(A22,'dump '!A:A,1,FALSE) -> BKC0041 | C22: 1222EL402 | D22: Bonnikestraat | E22: 4 | F22: 1222EL | G22: Hilversum | H22: TFSU | I22: 3004693 | J22: 3 | K22: PMD | L22: Bovengronds | M22: 3-haak | N22: 0 | O22: 100 | P22: BAMBOV2012 | Q22: 1600 | R22: 50 | S22: 300 | V22: BVC | W22: 43474.374 | Y22: 44683.488 | Z22: Rob Markesteijn
A23: BKC0042 | B23: =VLOOKUP(A23,'dump '!A:A,1,FALSE) -> #N/A | H23: TFSU | J23: 3 | K23: PMD | L23: Bovengronds | M23: 3-haak | N23: 0 | O23: 100 | P23: HMIBOV2012 | Q23: 1600 | R23: 50 | S23: 300 | V23: BVC | W23: 43474.374 | Y23: 44683.488 | Z23: Rob Markesteijn
A24: BKC0044 | B24: =VLOOKUP(A24,'dump '!A:A,1,FALSE) -> #N/A | H24: TBSU | J24: 3 | K24: PMD | L24: Bovengronds | M24: 3-haak | N24: 0 | O24: 100 | P24: BAMBOV2012 | Q24: 1600 | R24: 50 | S24: 300 | V24: BVC | W24: 43474.374 | Y24: 44683.488 | Z24: Rob Markesteijn
A25: BKC0046 | B25: =VLOOKUP(A25,'dump '!A:A,1,FALSE) -> BKC0046 | C25: 1381BL4501 | D25: Achtergracht | E25: 45 | F25: 1381BL | G25: Weesp | H25: TFSU | I25: 3004087 | J25: 3 | K25: PMD | L25: Bovengronds | M25: 3-haak | N25: 0 | O25: 100 | P25: HMIBOV2012 | Q25: 1600 | R25: 50 | S25: 300 | V25: BVC | W25: 43474.374 | Y25: 44683.488 | Z25: Rob Markesteijn
A26: BKC0047 | B26: =VLOOKUP(A26,'dump '!A:A,1,FALSE) -> BKC0047 | C26: 1382CT902 | D26: Lageweyselaan | E26: 9 | F26: 1382CT | G26: Weesp | H26: TFSU | I26: 3004073 | J26: 3 | K26: PMD | L26: Bovengronds | M26: 3-haak | N26: 0 | O26: 100 | P26: BAMBOV2012 | Q26: 1600 | R26: 50 | S26: 300 | V26: BVC | W26: 43474.374 | Y26: 44683.488 | Z26: Rob Markesteijn
A27: BKC0049 | B27: =VLOOKUP(A27,'dump '!A:A,1,FALSE) -> #N/A | H27: TFSU | I27: 3004692 | J27: 3 | K27: PMD | L27: Bovengronds | M27: 3-haak | N27: 0 | O27: 100 | P27: HMIBOV2012 | Q27: 1591 | R27: 50 | S27: 301 | V27: BVC | W27: 43474.374 | Y27: 44683.488 | Z27: Rob Markesteijn
A28: BKC0051 | B28: =VLOOKUP(A28,'dump '!A:A,1,FALSE) -> #N/A | H28: TBSU | J28: 3 | K28: PMD | L28: Bovengronds | M28: 3-haak | N28: 0 | O28: 100 | P28: BAMBOV2012 | Q28: 1600 | R28: 50 | S28: 300 | V28: BVC | W28: 43474.374 | Y28: 44683.488 | Z28: Rob Markesteijn
A29: BKC0053 | B29: =VLOOKUP(A29,'dump '!A:A,1,FALSE) -> BKC0053 | C29: 1223MV1303 | D29: Joop Stokkermansstraat | E29: 13 | F29: 1223MV | G29: Hilversum | H29: TFSU | I29: 3004682 | J29: 3 | K29: PMD | L29: Bovengronds | M29: 3-haak | N29: 0 | O29: 100 | P29: SULBOV204 | Q29: 1600 | R29: 50 | S29: 300 | V29: BVC | W29: 43474.374 | Y29: 44683.488 | Z29: Rob Markesteijn
A30: BKC0054 | B30: =VLOOKUP(A30,'dump '!A:A,1,FALSE) -> BKC0054 | C30: 1382SZ1601 | D30: E. du Perronstraat | E30: 16 | F30: 1382SZ | G30: Weesp | H30: TFSU | I30: 3004351 | J30: 3 | K30: PMD | L30: Bovengronds | M30: 3-haak | N30: 0 | O30: 100 | P30: HMIBOV2012 | Q30: 1590 | R30: 50 | S30: 300 | V30: BVC | W30: 43474.374 | Y30: 44683.488 | Z30: Rob Markesteijn
A31: BKC0055 | B31: =VLOOKUP(A31,'dump '!A:A,1,FALSE) -> #N/A | H31: TFSU | I31: 3004350 | J31: 3 | K31: PMD | L31: Bovengronds | M31: 3-haak | N31: 0 | O31: 100 | P31: BAMBOV2013 | Q31: 1600 | R31: 50 | S31: 302 | V31: BVC | W31: 43474.374 | Y31: 44683.489 | Z31: Rob Markesteijn
A32: BKC0056 | B32: =VLOOKUP(A32,'dump '!A:A,1,FALSE) -> BKC0056 | C32: 1231CN9601 | D32: Lindelaan | E32: 96B | F32: 1231CN | G32: Loosdrecht | H32: TFSU | I32: 3004607 | J32: 3 | K32: PMD | L32: Bovengronds | M32: 3-haak | N32: 0 | O32: 100 | P32: BAMBOV2012 | Q32: 1600 | R32: 50 | S32: 300 | V32: BVC | W32: 43636.617 | X32: Marco Broekhoff | Y32: 44683.489 | Z32: Rob Markesteijn
A33: BKC0057 | B33: =VLOOKUP(A33,'dump '!A:A,1,FALSE) -> BKC0057 | C33: 1398XD101 | D33: Weesperweg | E33: 1 | F33: 1398XD | G33: Muiden | H33: TFSU | I33: 3004079 | J33: 3 | K33: PMD | L33: Bovengronds | M33: 3-haak | N33: 0 | O33: 100 | P33: KLIBOV2010 | Q33: 1590 | R33: 50 | S33: 300 | V33: BVC | W33: 43474.374 | Y33: 44683.489 | Z33: Rob Markesteijn
A34: BKC0058 | B34: =VLOOKUP(A34,'dump '!A:A,1,FALSE) -> BKC0058 | C34: 1381BL4502 | D34: Achtergracht | E34: 45 | F34: 1381BL | G34: Weesp | H34: TFSU | I34: 3004677 | J34: 3 | K34: PMD | L34: Bovengronds | M34: 3-haak | N34: 0 | O34: 100 | P34: SULBOV204 | Q34: 1600 | R34: 50 | S34: 300 | V34: BVC | W34: 43474.374 | Y34: 44683.489 | Z34: Rob Markesteijn
A35: BKC0059 | B35: =VLOOKUP(A35,'dump '!A:A,1,FALSE) -> BKC0059 | C35: 1218GW802 | D35: Zuidermeent | E35: 8 | F35: 1218GW | G35: Hilversum | H35: TFSU | I35: 3004532 | J35: 3 | K35: PMD | L35: Bovengronds | M35: 3-haak | N35: 0 | O35: 100 | P35: BAMBOV2012 | Q35: 1600 | R35: 50 | S35: 300 | V35: BVC | W35: 43474.374 | Y35: 44683.489 | Z35: Rob Markesteijn
A36: BKC0060 | B36: =VLOOKUP(A36,'dump '!A:A,1,FALSE) -> #N/A | H36: TFSU | I36: 3004104 | J36: 3 | K36: PMD | L36: Bovengronds | M36: 3-haak | N36: 0 | O36: 100 | P36: HMIBOV2017 | Q36: 1600 | R36: 50 | S36: 301 | V36: BVC | W36: 43474.374 | Y36: 44683.489 | Z36: Rob Markesteijn
A37: BKC0061 | B37: =VLOOKUP(A37,'dump '!A:A,1,FALSE) -> BKC0061 | C37: 1403GA3401 | D37: Top Naefflaan | E37: 34 | F37: 1403GA | G37: Bussum | H37: TFSU | I37: 3004078 | J37: 3 | K37: PMD | L37: Bovengronds | M37: 3-haak | N37: 0 | O37: 100 | P37: BAMBOV2012 | Q37: 1590 | R37: 50 | S37: 300 | V37: BVC | W37: 43474.374 | Y37: 44683.489 | Z37: Rob Markesteijn
A38: BKC0062 | B38: =VLOOKUP(A38,'dump '!A:A,1,FALSE) -> #N/A | H38: TFSU | I38: 3004670 | J38: 3 | K38: PMD | L38: Bovengronds | M38: 3-haak | N38: 0 | O38: 100 | P38: SULBOV204 | Q38: 1600 | R38: 50 | S38: 300 | V38: BVC | W38: 43474.374 | Y38: 44683.489 | Z38: Rob Markesteijn
A39: BKC0063 | B39: =VLOOKUP(A39,'dump '!A:A,1,FALSE) -> BKC0063 | C39: 1231XK201 | D39: Prinses Marijkestraat | E39: 2 | F39: 1231XK | G39: Loosdrecht | H39: TFSU | I39: 3004347 | J39: 3 | K39: PMD | L39: Bovengronds | M39: 3-haak | N39: 0 | O39: 100 | P39: WTLBOV2011 | Q39: 1400 | R39: 50 | S39: 300 | V39: BVC | W39: 43474.374 | Y39: 44683.49 | Z39: Rob Markesteijn
A40: BKC0064 | B40: =VLOOKUP(A40,'dump '!A:A,1,FALSE) -> BKC0064 | C40: 1223KZ202 | D40: Cor Steijnstraat | E40: 2 | F40: 1223KZ | G40: Hilversum | H40: TFSU | I40: 3004669 | J40: 3 | K40: PMD | L40: Bovengronds | M40: 3-haak | N40: 0 | O40: 100 | P40: BAMBOV2012 | Q40: 1600 | R40: 50 | S40: 300 | V40: BVC | W40: 43677.425 | X40: Marco Broekhoff | Y40: 44683.49 | Z40: Rob Markesteijn
...

Sheet Uitleg
C1: aantal
A2: Basis | B2: is begin aantal nu 1870 LOCATIE NRS | C2: 1870 | E2: =COUNTA('Te gebruiken Rein'!J2:J1950) -> 1870 | F2: totaal
A3: Dump | B3: export uit Tardif dumplocations overzicht van alle apparaten nu 1940 | C3: 1940 | E3: =COUNTIF('Te gebruiken Rein'!$G2:$G1900,"Ankeveen") -> 5 | F3: Ankeveen
E4: =COUNTIF('Te gebruiken Rein'!$G2:$G1900,"Blaricum") -> 59 | F4: Blaricum
B5: containers zonder nummer (space) | C5: =SUM(C3-C2) -> 70 | E5: =COUNTIF('Te gebruiken Rein'!$G2:$G1900,"Bussum") -> 280 | F5: Bussum
A6: containers | C6: 2007 | E6: =COUNTIF('Te gebruiken Rein'!$G2:$G1900,"Hilversum") -> 675 | F6: Hilversum
B7: verschil containers met dump | C7: =SUM(C6-C3) -> 67 | E7: =COUNTIF('Te gebruiken Rein'!$G2:$G1804,"Huizen") -> 354 | F7: Huizen
E8: =COUNTIF('Te gebruiken Rein'!$G2:$G1900,"Kortenhoef") -> 19 | F8: Kortenhoef
E9: =COUNTIF('Te gebruiken Rein'!$G2:$G1900,"Laren") -> 84 | F9: Laren
A10: dump | B10: verplaatst kolom dumplocation na loctienr | E10: =COUNTIF('Te gebruiken Rein'!$G2:$G1900,"Loosdrecht") -> 48 | F10: Loosdrecht
E11: =COUNTIF('Te gebruiken Rein'!$G2:$G1900,"Muiden") -> 54 | F11: Muiden
E12: =COUNTIF('Te gebruiken Rein'!$G2:$G1809,"Muiderberg") -> 13 | F12: Muiderberg
E13: =COUNTIF('Te gebruiken Rein'!$G2:$G1900,"Naarden") -> 105 | F13: Naarden
E14: =COUNTIF('Te gebruiken Rein'!$G2:$G1900,"Nederhorst den Berg") -> 24 | F14: Nederhorst den Berg
E15: =COUNTIF('Te gebruiken Rein'!$G2:$G1900,"'s-Graveland") -> 6 | F15: 's-Graveland
E16: =COUNTIF('Te gebruiken Rein'!$G2:$G1900,"Weesp") -> 144 | F16: Weesp
E18: =SUM(E3:E16) -> 1870 | F18: totaal

Sheet VB Vincent
A1: ContainerName | B1: DumpLocationName | C1: Street | D1: HouseNumber | E1: Postalcode | F1: City | G1: DeviceType | H1: Unit_Id | I1: Capacity | J1: Fraction | K1: Description | L1: LiftFrameType | M1: Litres | N1: MaxDumpCount | O1: Manufacturer | P1: ContainerHeightInMM | Q1: FillSensorFullDistanceMarginInMM | R1: FillSensorInstallationHeightInMM | S1: SensorType | T1: SerialNumber | U1: Type | V1: CreatedOn | W1: CreatedByPerson | X1: UpdatedOn | Y1: UpdatedByPerson | AA1: datum reinigen | AB1: graffiti ja/nee | AC1: onderhoud nodig | AD1: status algemeen og | AE1: opmerking | AF1: omgeving schoon | AG1: status lak
A2: VO125 | G2: TBSU | I2: 5 | J2: PMD | K2: Ondergronds | L2: 3-haak | M2: 80 | N2: 100 | O2: HMISOL2017 | P2: 2600 | Q2: 50 | R2: 304 | U2: OVC | V2: 43474.374 | X2: 43474.374
A3: RO358 | G3: TBSU | I3: 5 | J3: REST | K3: Ondergronds | L3: 3-haak | M3: 80 | N3: 100 | O3: BAMRUB2014 | P3: 2500 | Q3: 50 | R3: 403 | U3: OVC | V3: 43474.374 | X3: 43474.374
A4: RO359 | G4: TBSU | I4: 5 | J4: REST | K4: Ondergronds | L4: 3-haak | M4: 80 | N4: 100 | O4: WTLBOV2011 | P4: 1400 | Q4: 50 | R4: 300 | U4: OVC | V4: 43474.374 | X4: 43474.374
A5: RO323 | G5: TBSU | I5: 5 | J5: REST | K5: Ondergronds | L5: 3-haak | M5: 80 | N5: 100 | O5: BAMRUB2014 | P5: 2500 | Q5: 50 | R5: 403 | U5: OVC | V5: 43474.374 | X5: 43474.374
A6: RO413 | G6: TBSU | I6: 5 | J6: REST | K6: Ondergronds | L6: 3-haak | M6: 80 | N6: 100 | O6: HMISOL2017 | P6: 2600 | Q6: 50 | R6: 302 | U6: OVC | V6: 43474.374 | X6: 43474.374
A7: RO476 | G7: TBSU | I7: 5 | J7: REST | K7: Ondergronds | L7: 3-haak | M7: 80 | N7: 100 | O7: HMISOL2017 | P7: 2600 | Q7: 50 | R7: 300 | U7: OVC | V7: 43474.374 | X7: 43474.374
A8: RO475 | G8: TBSU | I8: 5 | J8: REST | K8: Ondergronds | L8: 3-haak | M8: 80 | N8: 100 | O8: HMISOL2017 | P8: 2600 | Q8: 50 | R8: 300 | U8: OVC | V8: 43474.374 | X8: 43474.374
A9: RO477 | G9: TBSU | I9: 5 | J9: REST | K9: Ondergronds | L9: 3-haak | M9: 80 | N9: 100 | O9: HMISOL2017 | P9: 2600 | Q9: 50 | R9: 300 | U9: OVC | V9: 43474.374 | X9: 43474.374
A10: RO478 | G10: TBSU | I10: 5 | J10: REST | K10: Ondergronds | L10: 3-haak | M10: 80 | N10: 100 | O10: HMISOL2017 | P10: 2600 | Q10: 50 | R10: 300 | U10: OVC | V10: 43474.374 | X10: 43474.374
A11: RO401 | G11: TBSU | I11: 5 | J11: REST | K11: Ondergronds | L11: 3-haak | M11: 80 | N11: 100 | O11: HMISOL2016 | P11: 2600 | Q11: 50 | R11: 300 | U11: OVC | V11: 43474.374 | X11: 43474.374
A12: RO458 | G12: TBSU | I12: 5 | J12: REST | K12: Ondergronds | L12: 3-haak | M12: 80 | N12: 100 | O12: HMISOL2017 | P12: 2600 | Q12: 50 | R12: 302 | U12: OVC | V12: 43474.374 | X12: 43474.374
A13: RO460 | G13: TBSU | I13: 5 | J13: REST | K13: Ondergronds | L13: 3-haak | M13: 80 | N13: 100 | O13: HMISOL2017 | P13: 2600 | Q13: 50 | R13: 302 | U13: OVC | V13: 43474.374 | X13: 43474.374
... A21: VO073 | G21: TBSU | I21: 5 | J21: PMD | K21: Ondergronds | L21: 3-haak | M21: 80 | N21: 100 | O21: HMISOL2017 | P21: 2600 | Q21: 50 | R21: 301 | U21: OVC | V21: 43474.374 | X21: 43474.374
A22: VO024 | B22: 1211LZ1203 | C22: Kapelstraat | D22: 12 | E22: 1211LZ | F22: Hilversum | G22: TBS | I22: 5 | J22: PMD | K22: Ondergronds | L22: Pers | M22: 80 | N22: 100 | O22: SIDCON_PERS | U22: OVC-Pers | V22: 43474.374 | X22: 43474.374
A23: VO025 | B23: 1212AR14101 | C23: Olivier van Noortstraat | D23: 141 | E23: 1212AR | F23: Hilversum | G23: TBS | I23: 5 | J23: PMD | K23: Ondergronds | L23: Pers | M23: 80 | N23: 100 | O23: SIDCON_PERS | U23: OVC-Pers | V23: 43474.374 | X23: 43474.374
A24: RO1010 | B24: 1403HE20901 | C24: Aagje Dekenlaan | D24: 209 | E24: 1403HE | F24: Bussum | G24: TBSU | H24: 1038398 | I24: 6 | J24: REST | K24: OGDUO | L24: 3-haak | M24: 60 | N24: 100 | O24: HMIDUO2022 | P24: 2500 | Q24: 50 | R24: 300 | U24: OVC-DUO | V24: 44852.526 | W24: Rob Markesteijn | X24: 44858.434 | Y24: Rob Markesteijn
A25: VO493 | B25: 1403HE20902 | C25: Aagje Dekenlaan | D25: 209 | E25: 1403HE | F25: Bussum | G25: TBSU | H25: 1038401 | I25: 6 | J25: PMD | K25: OGDUO | L25: 3-haak | M25: 60 | N25: 100 | O25: HMIDUO2022 | P25: 2600 | Q25: 50 | R25: 300 | U25: OVC-DUO | V25: 44852.527 | W25: Rob Markesteijn | X25: 44858.434 | Y25: Rob Markesteijn
A26: GFE0294 | B26: 1403HE20903 | C26: Aagje Dekenlaan | D26: 209 | E26: 1043HE | F26: Bussum | G26: TBS | H26: 1050279 | I26: 1 | J26: GFT | K26: Bovengronds | L26: VC | M26: 20 | N26: 100 | O26: MCBG242022 | U26: BVC GFT Behuizing | V26: 44858.469 | W26: Rob Markesteijn | X26: 44858.469 | Y26: Rob Markesteijn
A27: GFE0027 | B27: 1403HJ5203 | C27: Aagje Dekenlaan | D27: 52 | E27: 1403HJ | F27: Bussum | G27: TBS | H27: 1034645 | I27: 0.24 | J27: GFT | K27: Bovengronds | L27: VC | M27: 20 | N27: 100 | O27: MCBG242019 | P27: 1400 | Q27: 50 | R27: 301 | U27: BVC GFT behuizing | V27: 43892.397 | W27: Marco Broekhoff | X27: 43892.397 | Y27: Marco Broekhoff
A28: GFE0026 | B28: 1403HH403 | C28: Aagje Dekenlaan | D28: 4 | E28: 1403HH | F28: Bussum | G28: TBS | H28: 1034723 | I28: 0.24 | J28: GFT | K28: Bovengronds | L28: VC | M28: 20 | N28: 100 | O28: MCBG242019 | P28: 1400 | Q28: 50 | R28: 301 | U28: BVC GFT behuizing | V28: 43892.393 | W28: Marco Broekhoff | X28: 43892.393 | Y28: Marco Broekhoff
A29: VO006 | B29: 1411GG102 | C29: Godelindeweg | D29: 1A 1 | E29: 1411GG | F29: Naarden | G29: TBS | I29: 5 | J29: PMD | K29: Ondergronds | L29: 3-haak | M29: 80 | N29: 100 | O29: BAMRUB2013 | P29: 2500 | Q29: 50 | R29: 300 | U29: OVC | V29: 43474.374 | X29: 43474.374
A30: RO511 | B30: 1411RC204 | C30: Adriaan Dortsmanplein | D30: 2 | E30: 1411RC | F30: Naarden | G30: TBSU | H30: 1015860 | I30: 5 | J30: REST | K30: Ondergronds | L30: 3-haak | M30: 80 | N30: 100 | O30: HMISOL2017 | P30: 2500 | Q30: 50 | R30: 300 | U30: OVC | V30: 43474.374 | X30: 43474.374
A31: RO016 | B31: 1382DC89901 | C31: Kostverlorenstraat | D31: 899 | E31: 1382DC | F31: Weesp | G31: TBSU | I31: 5 | J31: REST | K31: Ondergronds | L31: 3-haak | M31: 80 | N31: 100 | O31: BAMRUB2012 | P31: 2500 | Q31: 50 | R31: 300 | U31: OVC | V31: 43474.374 | X31: 43474.374
A32: RO017 | B32: 1382DC89902 | C32: Kostverlorenstraat | D32: 899 | E32: 1382DC | F32: Weesp | G32: TBSU | I32: 5 | J32: REST | K32: Ondergronds | L32: 3-haak | M32: 80 | N32: 100 | O32: BAMRUB2012 | P32: 2500 | Q32: 50 | R32: 300 | U32: OVC | V32: 43474.374 | X32: 43474.374
A33: RO018 | B33: 1382DC89903 | C33: Kostverlorenstraat | D33: 899 | E33: 1382DC | F33: Weesp | G33: TBSU | I33: 5 | J33: REST | K33: Ondergronds | L33: 3-haak | M33: 80 | N33: 100 | O33: BAMRUB2012 | P33: 2500 | Q33: 50 | R33: 300 | U33: OVC | V33: 43474.374 | X33: 43474.374
A34: VO010 | B34: 1383CC202 | C34: G.J.Wiefferingdreef | D34: 2 | E34: 1383CC | F34: Weesp | G34: TBSU | I34: 5 | J34: PMD | K34: Ondergronds | L34: 3-haak | M34: 80 | N34: 100 | O34: HMISOL2018 | P34: 2600 | Q34: 50 | R34: 550 | U34: OVC | V34: 43474.374 | X34: 43474.374
A35: PO076 | B35: 1411RC202 | C35: Adriaan Dortsmanplein | D35: 2 | E35: 1411RC | F35: Naarden | G35: TBSU | H35: 1015855 | I35: 5 | J35: OPK | K35: Ondergronds | L35: 3-haak | M35: 80 | N35: 100 | O35: HMISOL2017 | P35: 2600 | Q35: 50 | R35: 300 | U35: OVC | V35: 43474.374 | X35: 43474.374
A36: PO082 | B36: 1411RA102 | C36: Peperstraat | D36: 1 | E36: 1411RA | F36: Naarden | G36: TBSU | H36: 1016703 | I36: 5 | J36: OPK | K36: Ondergronds | L36: 3-haak | M36: 80 | N36: 100 | O36: HMISOL2017 | P36: 2600 | Q36: 50 | R36: 300 | U36: OVC | V36: 43474.374 | X36: 43474.374
A37: VO098 | B37: 1411RA104 | C37: Peperstraat | D37: 1 | E37: 1411RA | F37: Naarden | G37: TBSU | H37: 1015864 | I37: 5 | J37: PMD | K37: Ondergronds | L37: 3-haak | M37: 80 | N37: 100 | O37: HMISOL2017 | P37: 2550 | Q37: 50 | R37: 300 | U37: OVC | V37: 43474.374 | X37: 43474.374
A38: RO618 | B38: 1411PC2704 | C38: Westwalstraat | D38: 27 | E38: 1411PC | F38: Naarden | G38: TBSU | H38: 1015862 | I38: 5 | J38: REST | K38: Ondergronds | L38: 3-haak | M38: 80 | N38: 100 | O38: HMISOL2017 | P38: 2600 | Q38: 50 | R38: 300 | U38: OVC | V38: 43474.374 | X38: 43474.374
A39: VO082 | B39: 1411PC2701 | C39: Westwalstraat | D39: 27 | E39: 1411PC | F39: Naarden | G39: TBSU | H39: 1016709 | I39: 5 | J39: PMD | K39: Ondergronds | L39: 3-haak | M39: 80 | N39: 100 | O39: HMISOL2017 | P39: 2600 | Q39: 50 | R39: 300 | U39: OVC | V39: 43474.374 | X39: 43474.374
A40: PO057 | B40: 1411PC2703 | C40: Westwalstraat | D40: 27 | E40: 1411PC | F40: Naarden | G40: TBSU | H40: 1016702 | I40: 5 | J40: OPK | K40: Ondergronds | L40: 3-haak | M40: 80 | N40: 100 | O40: HMISOL2017 | P40: 2600 | Q40: 50 | R40: 300 | U40: OVC | V40: 43474.374 | X40: 43474.374
A41: RO601 | B41: 1411RZ503 | C41: Kooltjesbuurt | D41: 5 | E41: 1411RZ | F41: Naarden | G41: TBSU | H41: 1015863 | I41: 5 | J41: REST | K41: Ondergronds | L41: 3-haak | M41: 80 | N41: 100 | O41: HMISOL2017 | P41: 2600 | Q41: 50 | R41: 300 | U41: OVC | V41: 43474.374 | X41: 43474.374
A42: RO602 | B42: 1411RZ504 | C42: Kooltjesbuurt | D42: 5 | E42: 1411RZ | F42: Naarden | G42: TBSU | H42: 1016659 | I42: 5 | J42: REST | K42: Ondergronds | L42: 3-haak | M42: 80 | N42: 100 | O42: HMISOL2017 | P42: 2600 | Q42: 50 | R42: 300 | U42: OVC | V42: 43474.374 | X42: 43474.374
A43: VO084 | B43: 1411RZ505 | C43: Kooltjesbuurt | D43: 5 | E43: 1411RZ | F43: Naarden | G43: TBSU | H43: 1016710 | I43: 5 | J43: PMD | K43: Ondergronds | L43: 3-haak | M43: 80 | N43: 100 | O43: HMISOL2017 | P43: 2600 | Q43: 50 | R43: 300 | U43: OVC | V43: 43474.374 | X43: 43474.374
