Workbook

Sheet Te gebruiken Rein
A1: Container | B1: Latitude | C1: Longitude | D1: Street | E1: HouseNumber | F1: Postalcode | G1: City | H1: Fraction | I1: Description | J1: Manufacturer | K1: datum reinigen gereed | L1: jaartal container | M1: graffiti ja/nee | N1: onderhoud nodig | O1: status algemeen og | P1: omgeving schoon | Q1: status lak | R1: opmerking
A2: RO656 | B2: =VLOOKUP($A2,Basis!$A:$P,4,FALSE) -> 52.22791 | C2: =VLOOKUP($A2,Basis!$A:$P,5,FALSE) -> 5.1794229 | D2: =VLOOKUP($A2,Basis!$A:$P,6,FALSE) -> Koninginneweg | E2: =VLOOKUP($A2,Basis!$A:$P,7,FALSE) -> 74 | F2: =VLOOKUP($A2,Basis!$A:$P,8,FALSE) -> 1211AT | G2: =VLOOKUP($A2,Basis!$A:$P,9,FALSE) -> Hilversum | H2: =VLOOKUP($A2,Basis!$A:$P,11,FALSE) -> REST | I2: =VLOOKUP($A2,Basis!$A:$P,13,FALSE) -> Ondergronds | J2: =VLOOKUP($A2,Basis!$A:$P,16,FALSE) -> HMISOL2017
A3: VO110 | B3: =VLOOKUP($A3,Basis!$A:$P,4,FALSE) -> 52.22791 | C3: =VLOOKUP($A3,Basis!$A:$P,5,FALSE) -> 5.1794229 | D3: =VLOOKUP($A3,Basis!$A:$P,6,FALSE) -> Koninginneweg | E3: =VLOOKUP($A3,Basis!$A:$P,7,FALSE) -> 74 | F3: =VLOOKUP($A3,Basis!$A:$P,8,FALSE) -> 1211AT | G3: =VLOOKUP($A3,Basis!$A:$P,9,FALSE) -> Hilversum | H3: =VLOOKUP($A3,Basis!$A:$P,11,FALSE) -> PMD | I3: =VLOOKUP($A3,Basis!$A:$P,13,FALSE) -> Ondergronds | J3: =VLOOKUP($A3,Basis!$A:$P,16,FALSE) -> HMISOL2017
A4: RO757 | B4: =VLOOKUP($A4,Basis!$A:$P,4,FALSE) -> 52.228532 | C4: =VLOOKUP($A4,Basis!$A:$P,5,FALSE) -> 5.177884 | D4: =VLOOKUP($A4,Basis!$A:$P,6,FALSE) -> Schoolstraat | E4: =VLOOKUP($A4,Basis!$A:$P,7,FALSE) -> 2 | F4: =VLOOKUP($A4,Basis!$A:$P,8,FALSE) -> 1211AZ | G4: =VLOOKUP($A4,Basis!$A:$P,9,FALSE) -> Hilversum | H4: =VLOOKUP($A4,Basis!$A:$P,11,FALSE) -> REST | I4: =VLOOKUP($A4,Basis!$A:$P,13,FALSE) -> Ondergronds | J4: =VLOOKUP($A4,Basis!$A:$P,16,FALSE) -> HMISOL2017
A5: GFE0253 | B5: =VLOOKUP($A5,Basis!$A:$P,4,FALSE) -> 52.227835 | C5: =VLOOKUP($A5,Basis!$A:$P,5,FALSE) -> 5.1771808 | D5: =VLOOKUP($A5,Basis!$A:$P,6,FALSE) -> Langgewenst | E5: =VLOOKUP($A5,Basis!$A:$P,7,FALSE) -> 1 | F5: =VLOOKUP($A5,Basis!$A:$P,8,FALSE) -> 1211BA | G5: =VLOOKUP($A5,Basis!$A:$P,9,FALSE) -> Hilversum | H5: =VLOOKUP($A5,Basis!$A:$P,11,FALSE) -> GFT | I5: =VLOOKUP($A5,Basis!$A:$P,13,FALSE) -> Bovengronds | J5: =VLOOKUP($A5,Basis!$A:$P,16,FALSE) -> MCBG242022
A6: GFE0254 | B6: =VLOOKUP($A6,Basis!$A:$P,4,FALSE) -> 52.228381 | C6: =VLOOKUP($A6,Basis!$A:$P,5,FALSE) -> 5.1779692 | D6: =VLOOKUP($A6,Basis!$A:$P,6,FALSE) -> Langgewenst | E6: =VLOOKUP($A6,Basis!$A:$P,7,FALSE) -> 21 | F6: =VLOOKUP($A6,Basis!$A:$P,8,FALSE) -> 1211BA | G6: =VLOOKUP($A6,Basis!$A:$P,9,FALSE) -> Hilversum | H6: =VLOOKUP($A6,Basis!$A:$P,11,FALSE) -> GFT | I6: =VLOOKUP($A6,Basis!$A:$P,13,FALSE) -> Bovengronds | J6: =VLOOKUP($A6,Basis!$A:$P,16,FALSE) -> MCBG242022
A7: GO168 | B7: =VLOOKUP($A7,Basis!$A:$P,4,FALSE) -> 52.228172 | C7: =VLOOKUP($A7,Basis!$A:$P,5,FALSE) -> 5.1771722 | D7: =VLOOKUP($A7,Basis!$A:$P,6,FALSE) -> Langgewenst | E7: =VLOOKUP($A7,Basis!$A:$P,7,FALSE) -> 21 | F7: =VLOOKUP($A7,Basis!$A:$P,8,FALSE) -> 1211BA | G7: =VLOOKUP($A7,Basis!$A:$P,9,FALSE) -> Hilversum | H7: =VLOOKUP($A7,Basis!$A:$P,11,FALSE) -> GLAS | I7: =VLOOKUP($A7,Basis!$A:$P,13,FALSE) -> Ondergronds | J7: =VLOOKUP($A7,Basis!$A:$P,16,FALSE) -> Onbekend
A8: PO080 | B8: =VLOOKUP($A8,Basis!$A:$P,4,FALSE) -> 52.228381 | C8: =VLOOKUP($A8,Basis!$A:$P,5,FALSE) -> 5.1779692 | D8: =VLOOKUP($A8,Basis!$A:$P,6,FALSE) -> Langgewenst | E8: =VLOOKUP($A8,Basis!$A:$P,7,FALSE) -> 21 | F8: =VLOOKUP($A8,Basis!$A:$P,8,FALSE) -> 1211BA | G8: =VLOOKUP($A8,Basis!$A:$P,9,FALSE) -> Hilversum | H8: =VLOOKUP($A8,Basis!$A:$P,11,FALSE) -> OPK | I8: =VLOOKUP($A8,Basis!$A:$P,13,FALSE) -> Ondergronds | J8: =VLOOKUP($A8,Basis!$A:$P,16,FALSE) -> BAMRUB2016
A9: RO630 | B9: =VLOOKUP($A9,Basis!$A:$P,4,FALSE) -> 52.228381 | C9: =VLOOKUP($A9,Basis!$A:$P,5,FALSE) -> 5.1779692 | D9: =VLOOKUP($A9,Basis!$A:$P,6,FALSE) -> Langgewenst | E9: =VLOOKUP($A9,Basis!$A:$P,7,FALSE) -> 21 | F9: =VLOOKUP($A9,Basis!$A:$P,8,FALSE) -> 1211BA | G9: =VLOOKUP($A9,Basis!$A:$P,9,FALSE) -> Hilversum | H9: =VLOOKUP($A9,Basis!$A:$P,11,FALSE) -> REST | I9: =VLOOKUP($A9,Basis!$A:$P,13,FALSE) -> Ondergronds | J9: =VLOOKUP($A9,Basis!$A:$P,16,FALSE) -> BAMRUB2016
A10: RO631 | B10: =VLOOKUP($A10,Basis!$A:$P,4,FALSE) -> 52.228381 | C10: =VLOOKUP($A10,Basis!$A:$P,5,FALSE) -> 5.1779692 | D10: =VLOOKUP($A10,Basis!$A:$P,6,FALSE) -> Langgewenst | E10: =VLOOKUP($A10,Basis!$A:$P,7,FALSE) -> 21 | F10: =VLOOKUP($A10,Basis!$A:$P,8,FALSE) -> 1211BA | G10: =VLOOKUP($A10,Basis!$A:$P,9,FALSE) -> Hilversum | H10: =VLOOKUP($A10,Basis!$A:$P,11,FALSE) -> REST | I10: =VLOOKUP($A10,Basis!$A:$P,13,FALSE) -> Ondergronds | J10: =VLOOKUP($A10,Basis!$A:$P,16,FALSE) -> BAMRUB2016
A11: RO632 | B11: =VLOOKUP($A11,Basis!$A:$P,4,FALSE) -> 52.227749 | C11: =VLOOKUP($A11,Basis!$A:$P,5,FALSE) -> 5.17706 | D11: =VLOOKUP($A11,Basis!$A:$P,6,FALSE) -> Langgewenst | E11: =VLOOKUP($A11,Basis!$A:$P,7,FALSE) -> 1 | F11: =VLOOKUP($A11,Basis!$A:$P,8,FALSE) -> 1211BA | G11: =VLOOKUP($A11,Basis!$A:$P,9,FALSE) -> Hilversum | H11: =VLOOKUP($A11,Basis!$A:$P,11,FALSE) -> REST | I11: =VLOOKUP($A11,Basis!$A:$P,13,FALSE) -> Ondergronds | J11: =VLOOKUP($A11,Basis!$A:$P,16,FALSE) -> HMISOL2017
A12: VO094 | B12: =VLOOKUP($A12,Basis!$A:$P,4,FALSE) -> 52.228381 | C12: =VLOOKUP($A12,Basis!$A:$P,5,FALSE) -> 5.1779692 | D12: =VLOOKUP($A12,Basis!$A:$P,6,FALSE) -> Langgewenst | E12: =VLOOKUP($A12,Basis!$A:$P,7,FALSE) -> 21 | F12: =VLOOKUP($A12,Basis!$A:$P,8,FALSE) -> 1211BA | G12: =VLOOKUP($A12,Basis!$A:$P,9,FALSE) -> Hilversum | H12: =VLOOKUP($A12,Basis!$A:$P,11,FALSE) -> PMD | I12: =VLOOKUP($A12,Basis!$A:$P,13,FALSE) -> Ondergronds | J12: =VLOOKUP($A12,Basis!$A:$P,16,FALSE) -> HMISOL2017
A13: VO095 | B13: =VLOOKUP($A13,Basis!$A:$P,4,FALSE) -> 52.228381 | C13: =VLOOKUP($A13,Basis!$A:$P,5,FALSE) -> 5.1779692 | D13: =VLOOKUP($A13,Basis!$A:$P,6,FALSE) -> Langgewenst | E13: =VLOOKUP($A13,Basis!$A:$P,7,FALSE) -> 21 | F13: =VLOOKUP($A13,Basis!$A:$P,8,FALSE) -> 1211BA | G13: =VLOOKUP($A13,Basis!$A:$P,9,FALSE) -> Hilversum | H13: =VLOOKUP($A13,Basis!$A:$P,11,FALSE) -> PMD | I13: =VLOOKUP($A13,Basis!$A:$P,13,FALSE) -> Ondergronds | J13: =VLOOKUP($A13,Basis!$A:$P,16,FALSE) -> HMISOL2017
... A1871: GO070 | B1871: =VLOOKUP($A1871,Basis!$A:$P,4,FALSE) -> 52.285634 | C1871: =VLOOKUP($A1871,Basis!$A:$P,5,FALSE) -> 5.272453 | D1871: =VLOOKUP($A1871,Basis!$A:$P,6,FALSE) -> De Noord | E1871: =VLOOKUP($A1871,Basis!$A:$P,7,FALSE) -> 999 | F1871: =VLOOKUP($A1871,Basis!$A:$P,8,FALSE) -> 9999AA | G1871: =VLOOKUP($A1871,Basis!$A:$P,9,FALSE) -> Blaricum | H1871: =VLOOKUP($A1871,Basis!$A:$P,11,FALSE) -> GLAS | I1871: =VLOOKUP($A1871,Basis!$A:$P,13,FALSE) -> Ondergronds | J1871: =VLOOKUP($A1871,Basis!$A:$P,16,FALSE) -> Onbekend

Sheet Basis
A1: Container | B1: check dump | C1: DumpLocationName | D1: Latitude | E1: Longitude | F1: Street | G1: HouseNumber | H1: Postalcode | I1: City | J1: Capacity | K1: Fraction | L1: LiftFrameType | M1: Description | N1: Litres | O1: MaxDumpCount | P1: Manufacturer | Q1: datum reinigen | R1: graffiti ja/nee | S1: onderhoud nodig | T1: status algemeen og | U1: omgeving schoon | V1: status lak | W1: opmerking
A2: BKC0003 | B2: =VLOOKUP(A2,'dump '!A:C,1,FALSE) -> BKC0003 | C2: =VLOOKUP(A2,'dump '!A:AF,2,FALSE) -> 1217DA101 | D2: =VLOOKUP($A2,'dump '!$A:$AF,17,FALSE) -> 52.23836 | E2: =VLOOKUP($A2,'dump '!$A:$AF,18,FALSE) -> 5.141668 | F2: =VLOOKUP(A2,'dump '!$A:$AF,11,FALSE) -> Oude Meentweg | G2: =VLOOKUP($A2,'dump '!$A:$AF,12,FALSE) -> 1 | H2: =VLOOKUP($A2,'dump '!$A:$AF,13,FALSE) -> 1217DA | I2: =VLOOKUP($A2,'dump '!$A:$AF,14,FALSE) -> Hilversum | J2: =VLOOKUP($A2,'dump '!$A:$AF,15,FALSE) -> 5 | K2: =VLOOKUP($A2,'dump '!$A:$AF,3,FALSE) -> PMD | L2: =VLOOKUP($A2,'dump '!$A:$AF,31,FALSE) -> 3-haak | M2: =VLOOKUP($A2,'containers '!$A:$AA,12,FALSE) -> Bovengronds | N2: =VLOOKUP($A2,'containers '!$A:$AA,14,FALSE) -> 0 | O2: =VLOOKUP($A2,'containers '!$A:$AA,15,FALSE) -> 100 | P2: =VLOOKUP($A2,'containers '!$A:$AA,16,FALSE) -> BAMBOV2012
A3: BKC0009 | B3: =VLOOKUP(A3,'dump '!A:C,1,FALSE) -> BKC0009 | C3: =VLOOKUP(A3,'dump '!A:AF,2,FALSE) -> 1402TH5701 | D3: =VLOOKUP($A3,'dump '!$A:$AF,17,FALSE) -> 52.273351 | E3: =VLOOKUP($A3,'dump '!$A:$AF,18,FALSE) -> 5.175915 | F3: =VLOOKUP(A3,'dump '!$A:$AF,11,FALSE) -> Voormeulenweg | G3: =VLOOKUP($A3,'dump '!$A:$AF,12,FALSE) -> 57 | H3: =VLOOKUP($A3,'dump '!$A:$AF,13,FALSE) -> 1402TH | I3: =VLOOKUP($A3,'dump '!$A:$AF,14,FALSE) -> Bussum | J3: =VLOOKUP($A3,'dump '!$A:$AF,15,FALSE) -> 5 | K3: =VLOOKUP($A3,'dump '!$A:$AF,3,FALSE) -> PMD | L3: =VLOOKUP($A3,'dump '!$A:$AF,31,FALSE) -> 3-haak | M3: =VLOOKUP($A3,'containers '!$A:$AA,12,FALSE) -> Bovengronds | N3: =VLOOKUP($A3,'containers '!$A:$AA,14,FALSE) -> 0 | O3: =VLOOKUP($A3,'containers '!$A:$AA,15,FALSE) -> 100 | P3: =VLOOKUP($A3,'containers '!$A:$AA,16,FALSE) -> BAMBOV2012
A4: BKC0010 | B4: =VLOOKUP(A4,'dump '!A:C,1,FALSE) -> BKC0010 | C4: =VLOOKUP(A4,'dump '!A:AF,2,FALSE) -> 1215HM16401 | D4: =VLOOKUP($A4,'dump '!$A:$AF,17,FALSE) -> 52.214898 | E4: =VLOOKUP($A4,'dump '!$A:$AF,18,FALSE) -> 5.15176 | F4: =VLOOKUP(A4,'dump '!$A:$AF,11,FALSE) -> Oude Loosdrechtseweg | G4: =VLOOKUP($A4,'dump '!$A:$AF,12,FALSE) -> 164 | H4: =VLOOKUP($A4,'dump '!$A:$AF,13,FALSE) -> 1215HM | I4: =VLOOKUP($A4,'dump '!$A:$AF,14,FALSE) -> Hilversum | J4: =VLOOKUP($A4,'dump '!$A:$AF,15,FALSE) -> 5 | K4: =VLOOKUP($A4,'dump '!$A:$AF,3,FALSE) -> PMD | L4: =VLOOKUP($A4,'dump '!$A:$AF,31,FALSE) -> 3-haak | M4: =VLOOKUP($A4,'containers '!$A:$AA,12,FALSE) -> Bovengronds | N4: =VLOOKUP($A4,'containers '!$A:$AA,14,FALSE) -> 0 | O4: =VLOOKUP($A4,'containers '!$A:$AA,15,FALSE) -> 100 | P4: =VLOOKUP($A4,'containers '!$A:$AA,16,FALSE) -> BAMBOV2012
A5: BKC0012 | B5: =VLOOKUP(A5,'dump '!A:C,1,FALSE) -> BKC0012 | C5: =VLOOKUP(A5,'dump '!A:AF,2,FALSE) -> 1218GW801 | D5: =VLOOKUP($A5,'dump '!$A:$AF,17,FALSE) -> 52.271117 | E5: =VLOOKUP($A5,'dump '!$A:$AF,18,FALSE) -> 5.138253 | F5: =VLOOKUP(A5,'dump '!$A:$AF,11,FALSE) -> Zuidermeent | G5: =VLOOKUP($A5,'dump '!$A:$AF,12,FALSE) -> 8 | H5: =VLOOKUP($A5,'dump '!$A:$AF,13,FALSE) -> 1218GW | I5: =VLOOKUP($A5,'dump '!$A:$AF,14,FALSE) -> Hilversum | J5: =VLOOKUP($A5,'dump '!$A:$AF,15,FALSE) -> 5 | K5: =VLOOKUP($A5,'dump '!$A:$AF,3,FALSE) -> PMD | L5: =VLOOKUP($A5,'dump '!$A:$AF,31,FALSE) -> 3-haak | M5: =VLOOKUP($A5,'containers '!$A:$AA,12,FALSE) -> Bovengronds | N5: =VLOOKUP($A5,'containers '!$A:$AA,14,FALSE) -> 0 | O5: =VLOOKUP($A5,'containers '!$A:$AA,15,FALSE) -> 100 | P5: =VLOOKUP($A5,'containers '!$A:$AA,16,FALSE) -> BAMBOV2012
A6: BKC0015 | B6: =VLOOKUP(A6,'dump '!A:C,1,FALSE) -> BKC0015 | C6: =VLOOKUP(A6,'dump '!A:AF,2,FALSE) -> 1403JD4201 | D6: =VLOOKUP($A6,'dump '!$A:$AF,17,FALSE) -> 52.266281 | E6: =VLOOKUP($A6,'dump '!$A:$AF,18,FALSE) -> 5.186335 | F6: =VLOOKUP(A6,'dump '!$A:$AF,11,FALSE) -> Aaltje Noordewierlaan | G6: =VLOOKUP($A6,'dump '!$A:$AF,12,FALSE) -> 42 | H6: =VLOOKUP($A6,'dump '!$A:$AF,13,FALSE) -> 1403JD | I6: =VLOOKUP($A6,'dump '!$A:$AF,14,FALSE) -> Bussum | J6: =VLOOKUP($A6,'dump '!$A:$AF,15,FALSE) -> 5 | K6: =VLOOKUP($A6,'dump '!$A:$AF,3,FALSE) -> PMD | L6: =VLOOKUP($A6,'dump '!$A:$AF,31,FALSE) -> 3-haak | M6: =VLOOKUP($A6,'containers '!$A:$AA,12,FALSE) -> Bovengronds | N6: =VLOOKUP($A6,'containers '!$A:$AA,14,FALSE) -> 0 | O6: =VLOOKUP($A6,'containers '!$A:$AA,15,FALSE) -> 100 | P6: =VLOOKUP($A6,'containers '!$A:$AA,16,FALSE) -> BAMBOV2014
A7: BKC0018 | B7: =VLOOKUP(A7,'dump '!A:C,1,FALSE) -> BKC0018 | C7: =VLOOKUP(A7,'dump '!A:AF,2,FALSE) -> 1215LW5101 | D7: =VLOOKUP($A7,'dump '!$A:$AF,17,FALSE) -> 52.210567 | E7: =VLOOKUP($A7,'dump '!$A:$AF,18,FALSE) -> 5.156847 | F7: =VLOOKUP(A7,'dump '!$A:$AF,11,FALSE) -> Admiraal de Ruyterlaan | G7: =VLOOKUP($A7,'dump '!$A:$AF,12,FALSE) -> 51 | H7: =VLOOKUP($A7,'dump '!$A:$AF,13,FALSE) -> 1215LW | I7: =VLOOKUP($A7,'dump '!$A:$AF,14,FALSE) -> Hilversum | J7: =VLOOKUP($A7,'dump '!$A:$AF,15,FALSE) -> 5 | K7: =VLOOKUP($A7,'dump '!$A:$AF,3,FALSE) -> PMD | L7: =VLOOKUP($A7,'dump '!$A:$AF,31,FALSE) -> 3-haak | M7: =VLOOKUP($A7,'containers '!$A:$AA,12,FALSE) -> Bovengronds | N7: =VLOOKUP($A7,'containers '!$A:$AA,14,FALSE) -> 0 | O7: =VLOOKUP($A7,'containers '!$A:$AA,15,FALSE) -> 100 | P7: =VLOOKUP($A7,'containers '!$A:$AA,16,FALSE) -> BAMBOV2012
A8: BKC0019 | B8: =VLOOKUP(A8,'dump '!A:C,1,FALSE) -> BKC0019 | C8: =VLOOKUP(A8,'dump '!A:AF,2,FALSE) -> 1382MC1801 | D8: =VLOOKUP($A8,'dump '!$A:$AF,17,FALSE) -> 52.314534 | E8: =VLOOKUP($A8,'dump '!$A:$AF,18,FALSE) -> 5.041807 | F8: =VLOOKUP(A8,'dump '!$A:$AF,11,FALSE) -> Lobbrich Boudgerslaan | G8: =VLOOKUP($A8,'dump '!$A:$AF,12,FALSE) -> 18 | H8: =VLOOKUP($A8,'dump '!$A:$AF,13,FALSE) -> 1382MC | I8: =VLOOKUP($A8,'dump '!$A:$AF,14,FALSE) -> Weesp | J8: =VLOOKUP($A8,'dump '!$A:$AF,15,FALSE) -> 5 | K8: =VLOOKUP($A8,'dump '!$A:$AF,3,FALSE) -> PMD | L8: =VLOOKUP($A8,'dump '!$A:$AF,31,FALSE) -> 3-haak | M8: =VLOOKUP($A8,'containers '!$A:$AA,12,FALSE) -> Bovengronds | N8: =VLOOKUP($A8,'containers '!$A:$AA,14,FALSE) -> 0 | O8: =VLOOKUP($A8,'containers '!$A:$AA,15,FALSE) -> 100 | P8: =VLOOKUP($A8,'containers '!$A:$AA,16,FALSE) -> SULBOV204
A9: BKC0021 | B9: =VLOOKUP(A9,'dump '!A:C,1,FALSE) -> BKC0021 | C9: =VLOOKUP(A9,'dump '!A:AF,2,FALSE) -> 1394JJ1001 | D9: =VLOOKUP($A9,'dump '!$A:$AF,17,FALSE) -> 52.252726 | E9: =VLOOKUP($A9,'dump '!$A:$AF,18,FALSE) -> 5.0468785 | F9: =VLOOKUP(A9,'dump '!$A:$AF,11,FALSE) -> Meerhoekweg | G9: =VLOOKUP($A9,'dump '!$A:$AF,12,FALSE) -> 10A | H9: =VLOOKUP($A9,'dump '!$A:$AF,13,FALSE) -> 1394JJ | I9: =VLOOKUP($A9,'dump '!$A:$AF,14,FALSE) -> Nederhorst den Berg | J9: =VLOOKUP($A9,'dump '!$A:$AF,15,FALSE) -> 5 | K9: =VLOOKUP($A9,'dump '!$A:$AF,3,FALSE) -> PMD | L9: =VLOOKUP($A9,'dump '!$A:$AF,31,FALSE) -> 3-haak | M9: =VLOOKUP($A9,'containers '!$A:$AA,12,FALSE) -> Bovengronds | N9: =VLOOKUP($A9,'containers '!$A:$AA,14,FALSE) -> 0 | O9: =VLOOKUP($A9,'containers '!$A:$AA,15,FALSE) -> 100 | P9: =VLOOKUP($A9,'containers '!$A:$AA,16,FALSE) -> BAMBOV2014
A10: BKC0023 | B10: =VLOOKUP(A10,'dump '!A:C,1,FALSE) -> BKC0023 | C10: =VLOOKUP(A10,'dump '!A:AF,2,FALSE) -> 1381EV8501 | D10: =VLOOKUP($A10,'dump '!$A:$AF,17,FALSE) -> 52.301254 | E10: =VLOOKUP($A10,'dump '!$A:$AF,18,FALSE) -> 5.048674 | F10: =VLOOKUP(A10,'dump '!$A:$AF,11,FALSE) -> J.A.Fijnvandraatlaan | G10: =VLOOKUP($A10,'dump '!$A:$AF,12,FALSE) -> 85 | H10: =VLOOKUP($A10,'dump '!$A:$AF,13,FALSE) -> 1381EV | I10: =VLOOKUP($A10,'dump '!$A:$AF,14,FALSE) -> Weesp | J10: =VLOOKUP($A10,'dump '!$A:$AF,15,FALSE) -> 5 | K10: =VLOOKUP($A10,'dump '!$A:$AF,3,FALSE) -> PMD | L10: =VLOOKUP($A10,'dump '!$A:$AF,31,FALSE) -> 3-haak | M10: =VLOOKUP($A10,'containers '!$A:$AA,12,FALSE) -> Bovengronds | N10: =VLOOKUP($A10,'containers '!$A:$AA,14,FALSE) -> 0 | O10: =VLOOKUP($A10,'containers '!$A:$AA,15,FALSE) -> 100 | P10: =VLOOKUP($A10,'containers '!$A:$AA,16,FALSE) -> HMIBOV2012
A11: BKC0030 | B11: =VLOOKUP(A11,'dump '!A:C,1,FALSE) -> BKC0030 | C11: =VLOOKUP(A11,'dump '!A:AF,2,FALSE) -> 1412CA5001 | D11: =VLOOKUP($A11,'dump '!$A:$AF,17,FALSE) -> 52.284189 | E11: =VLOOKUP($A11,'dump '!$A:$AF,18,FALSE) -> 5.148462 | F11: =VLOOKUP(A11,'dump '!$A:$AF,11,FALSE) -> Cort van der Lindenlaan | G11: =VLOOKUP($A11,'dump '!$A:$AF,12,FALSE) -> 50 | H11: =VLOOKUP($A11,'dump '!$A:$AF,13,FALSE) -> 1412CA | I11: =VLOOKUP($A11,'dump '!$A:$AF,14,FALSE) -> Naarden | J11: =VLOOKUP($A11,'dump '!$A:$AF,15,FALSE) -> 5 | K11: =VLOOKUP($A11,'dump '!$A:$AF,3,FALSE) -> PMD | L11: =VLOOKUP($A11,'dump '!$A:$AF,31,FALSE) -> 3-haak | M11: =VLOOKUP($A11,'containers '!$A:$AA,12,FALSE) -> Bovengronds | N11: =VLOOKUP($A11,'containers '!$A:$AA,14,FALSE) -> 0 | O11: =VLOOKUP($A11,'containers '!$A:$AA,15,FALSE) -> 100 | P11: =VLOOKUP($A11,'containers '!$A:$AA,16,FALSE) -> KLIBOV2010
A12: BKC0036 | B12: =VLOOKUP(A12,'dump '!A:C,1,FALSE) -> BKC0036 | C12: =VLOOKUP(A12,'dump '!A:AF,2,FALSE) -> 1244PC201 | D12: =VLOOKUP($A12,'dump '!$A:$AF,17,FALSE) -> 52.265765 | E12: =VLOOKUP($A12,'dump '!$A:$AF,18,FALSE) -> 5.0985859 | F12: =VLOOKUP(A12,'dump '!$A:$AF,11,FALSE) -> Elisabeth de Walelaan | G12: =VLOOKUP($A12,'dump '!$A:$AF,12,FALSE) -> 2 | H12: =VLOOKUP($A12,'dump '!$A:$AF,13,FALSE) -> 1244PC | I12: =VLOOKUP($A12,'dump '!$A:$AF,14,FALSE) -> Ankeveen | J12: =VLOOKUP($A12,'dump '!$A:$AF,15,FALSE) -> 5 | K12: =VLOOKUP($A12,'dump '!$A:$AF,3,FALSE) -> PMD | L12: =VLOOKUP($A12,'dump '!$A:$AF,31,FALSE) -> 3-haak | M12: =VLOOKUP($A12,'containers '!$A:$AA,12,FALSE) -> Bovengronds | N12: =VLOOKUP($A12,'containers '!$A:$AA,14,FALSE) -> 0 | O12: =VLOOKUP($A12,'containers '!$A:$AA,15,FALSE) -> 100 | P12: =VLOOKUP($A12,'containers '!$A:$AA,16,FALSE) -> HMIBOV2016
A13: BKC0039 | B13: =VLOOKUP(A13,'dump '!A:C,1,FALSE) -> BKC0039 | C13: =VLOOKUP(A13,'dump '!A:AF,2,FALSE) -> 1403EK13201 | D13: =VLOOKUP($A13,'dump '!$A:$AF,17,FALSE) -> 52.269471 | E13: =VLOOKUP($A13,'dump '!$A:$AF,18,FALSE) -> 5.1916379 | F13: =VLOOKUP(A13,'dump '!$A:$AF,11,FALSE) -> Koekoeklaan | G13: =VLOOKUP($A13,'dump '!$A:$AF,12,FALSE) -> 132 | H13: =VLOOKUP($A13,'dump '!$A:$AF,13,FALSE) -> 1403EK | I13: =VLOOKUP($A13,'dump '!$A:$AF,14,FALSE) -> Bussum | J13: =VLOOKUP($A13,'dump '!$A:$AF,15,FALSE) -> 5 | K13: =VLOOKUP($A13,'dump '!$A:$AF,3,FALSE) -> PMD | L13: =VLOOKUP($A13,'dump '!$A:$AF,31,FALSE) -> 3-haak | M13: =VLOOKUP($A13,'containers '!$A:$AA,12,FALSE) -> Bovengronds | N13: =VLOOKUP($A13,'containers '!$A:$AA,14,FALSE) -> 0 | O13: =VLOOKUP($A13,'containers '!$A:$AA,15,FALSE) -> 100 | P13: =VLOOKUP($A13,'containers '!$A:$AA,16,FALSE) -> BAMBOV2012
... A1871: X22 | B1871: =VLOOKUP(A1871,'dump '!A:C,1,FALSE) -> X22 | C1871: =VLOOKUP(A1871,'dump '!A:AF,2,FALSE) -> 1271BM1702 | D1871: =VLOOKUP($A1871,'dump '!$A:$AF,17,FALSE) -> 52.297189 | E1871: =VLOOKUP($A1871,'dump '!$A:$AF,18,FALSE) -> 5.233557 | F1871: =VLOOKUP(A1871,'dump '!$A:$AF,11,FALSE) -> Keucheniusstraat | G1871: =VLOOKUP($A1871,'dump '!$A:$AF,12,FALSE) -> 17 | H1871: =VLOOKUP($A1871,'dump '!$A:$AF,13,FALSE) -> 1271BM | I1871: =VLOOKUP($A1871,'dump '!$A:$AF,14,FALSE) -> Huizen | J1871: =VLOOKUP($A1871,'dump '!$A:$AF,15,FALSE) -> 5 | K1871: =VLOOKUP($A1871,'dump '!$A:$AF,3,FALSE) -> OPK | L1871: =VLOOKUP($A1871,'dump '!$A:$AF,31,FALSE) -> 3-haak | M1871: =VLOOKUP($A1871,'containers '!$A:$AA,12,FALSE) -> DEPOTCONTAINER | N1871: =VLOOKUP($A1871,'containers '!$A:$AA,14,FALSE) -> 60 | O1871: =VLOOKUP($A1871,'containers '!$A:$AA,15,FALSE) -> 100 | P1871: =VLOOKUP($A1871,'containers '!$A:$AA,16,FALSE) -> VDL HMI

Sheet dump 
A1: Container | B1: DumpLocationName | C1: Fractie | D1: check basis | E1: DeviceType | F1: Unit_Id | G1: LinkedOn | H1: UnlinkedOn | I1: Description | J1: CustomerName | K1: Street | L1: HouseNumber | M1: Postalcode | N1: City | O1: PitCapacity | P1: VolumeCorrectionFactor | Q1: Latitude | R1: Longitude | S1: ConnectOnTime | T1: LimitFull | U1: LimitNearFull | V1: LockTimeout | W1: LockWhenFull | X1: SafetyPrecautions | Y1: HandlingTimeInSeconds | Z1: ClusterName | AA1: CreatedOn | AB1: CreatedByPerson | AC1: UpdatedOn | AD1: UpdatedByPerson | AE1: LiftFrameType
B2: 1398DG401 | D2: =VLOOKUP(A2,Basis!A:A,1,FALSE) -> #N/A | K2: Muyderban | L2: 4 | M2: 1398DG | N2: Muiden | O2: 6 | P2: 1 | Q2: 52.333931 | R2: 5.0617599 | S2: 00:00:00 | T2: 100 | U2: 80 | V2: 10 | W2: 0 | Y2: 180 | Z2: CL1398DG4 | AA2: 43973.427 | AB2: Marco Broekhoff | AC2: 43973.427
B3: 1398DG402 | D3: =VLOOKUP(A3,Basis!A:A,1,FALSE) -> #N/A | K3: Muyderban | L3: 4 | M3: 1398DG | N3: Muiden | O3: 6 | P3: 1 | Q3: 52.333931 | R3: 5.506176 | S3: 00:00:00 | T3: 100 | U3: 80 | V3: 10 | W3: 0 | Y3: 180 | Z3: CL1398DG4 | AA3: 43973.428 | AB3: Marco Broekhoff | AC3: 43973.428
B4: 1252AK3403 | D4: =VLOOKUP(A4,Basis!A:A,1,FALSE) -> #N/A | K4: De Bazelweg | L4: 34 | M4: 1252AK | N4: Laren | O4: 6 | P4: 1 | Q4: 52.246479 | R4: 5.2353702 | S4: 00:00:00 | T4: 100 | U4: 80 | V4: 10 | W4: 0 | Y4: 180 | Z4: CL1252AK34 | AA4: 43976.634 | AB4: Marco Broekhoff | AC4: 43976.634
A5: BKC0070 | B5: 1412GV702 | C5: PMD | D5: =VLOOKUP(A5,Basis!A:A,1,FALSE) -> BKC0070 | K5: Lambertus Hortensiuslaan | L5: 7 | M5: 1412GV | N5: Naarden | O5: 5 | P5: 1 | Q5: 52.285593 | R5: 5.160914 | S5: 03:41:00 | T5: 100 | U5: 80 | V5: 10 | W5: 0 | Y5: 180 | Z5: CL1412GV7 | AA5: 43635.497 | AB5: Marco Broekhoff | AC5: 44903.429 | AD5: Corrie Maathuis | AE5: 3-haak
A6: VO164 | B6: 1277AG4702 | C6: PMD | D6: =VLOOKUP(A6,Basis!A:A,1,FALSE) -> VO164 | E6: TBSU | F6: 1017212 | G6: 43670.466 | K6: Goethehof | L6: 47 | M6: 1277AG | N6: Huizen | O6: 6 | P6: 1 | Q6: 52.295181 | R6: 5.2747688 | S6: 04:00:00 | T6: 100 | U6: 80 | V6: 15 | W6: 0 | Y6: 180 | Z6: CL1277AG47 | AA6: 43636.493 | AB6: Marco Broekhoff | AC6: 44907.647 | AD6: Corrie Maathuis | AE6: 3-haak
A7: VO160 | B7: 1276NJ8803 | C7: PMD | D7: =VLOOKUP(A7,Basis!A:A,1,FALSE) -> VO160 | E7: TBSU | F7: 1017214 | G7: 43670.466 | K7: Ambonlaan | L7: 88 | M7: 1276NJ | N7: Huizen | O7: 6 | P7: 1 | Q7: 52.291775 | R7: 5.245996 | S7: 04:00:00 | T7: 100 | U7: 80 | V7: 15 | W7: 0 | Y7: 180 | Z7: CL1276NJ88 | AA7: 43636.487 | AB7: Marco Broekhoff | AC7: 44907.647 | AD7: Corrie Maathuis | AE7: 3-haak
A8: VO166 | B8: 1275AJ4502 | C8: PMD | D8: =VLOOKUP(A8,Basis!A:A,1,FALSE) -> VO166 | E8: TBSU | F8: 1017215 | G8: 43670.465 | K8: Brasem | L8: 45 | M8: 1275AJ | N8: Huizen | O8: 6 | P8: 1 | Q8: 52.291439 | R8: 5.2647653 | S8: 04:00:00 | T8: 100 | U8: 80 | V8: 15 | W8: 0 | Y8: 180 | Z8: CL1275AJ45 | AA8: 43636.471 | AB8: Marco Broekhoff | AC8: 44907.647 | AD8: Corrie Maathuis | AE8: 3-haak
A9: RO655 | B9: 1273JA4401 | C9: REST | D9: =VLOOKUP(A9,Basis!A:A,1,FALSE) -> RO655 | E9: TBSU | F9: 1017216 | G9: 43670.462 | K9: Zadelrob | L9: 44 | M9: 1273JA | N9: Huizen | O9: 6 | P9: 1 | Q9: 52.296909 | R9: 5.26408 | S9: 04:00:00 | T9: 100 | U9: 80 | V9: 15 | W9: 0 | Y9: 180 | Z9: CL1273JA44 | AA9: 43635.662 | AB9: Marco Broekhoff | AC9: 44907.647 | AD9: Corrie Maathuis | AE9: 3-haak
A10: VO176 | B10: 1276MH20802 | C10: PMD | D10: =VLOOKUP(A10,Basis!A:A,1,FALSE) -> VO176 | E10: TBSU | F10: 1017218 | G10: 43670.453 | K10: Huizermaatweg | L10: 208 | M10: 1276MH | N10: Huizen | O10: 6 | P10: 1 | Q10: 52.297344 | R10: 5.2494717 | S10: 04:00:00 | T10: 100 | U10: 80 | V10: 15 | W10: 0 | Y10: 180 | Z10: CL1276MH208 | AA10: 43630.489 | AB10: Marco Broekhoff | AC10: 44907.647 | AD10: Corrie Maathuis | AE10: 3-haak
A11: VO154 | B11: 1274PD202 | C11: PMD | D11: =VLOOKUP(A11,Basis!A:A,1,FALSE) -> VO154 | E11: TBSU | F11: 1017244 | G11: 43670.465 | K11: Damwand | L11: 2 | M11: 1274PD | N11: Huizen | O11: 6 | P11: 1 | Q11: 52.297173 | R11: 5.2670727 | S11: 04:00:00 | T11: 100 | U11: 80 | V11: 15 | W11: 0 | Y11: 180 | Z11: CL1274PD2 | AA11: 43635.694 | AB11: Marco Broekhoff | AC11: 44907.647 | AD11: Corrie Maathuis | AE11: 3-haak
A12: VO174 | B12: 1273MD19602 | C12: PMD | D12: =VLOOKUP(A12,Basis!A:A,1,FALSE) -> VO174 | E12: TBSU | F12: 1017245 | G12: 43670.454 | K12: Delta | L12: 196 | M12: 1273MD | N12: Huizen | O12: 6 | P12: 1 | Q12: 52.304753 | R12: 5.2556472 | S12: 04:00:00 | T12: 100 | U12: 80 | V12: 15 | W12: 0 | Y12: 180 | Z12: CL1273MD196 | AA12: 43635.372 | AB12: Marco Broekhoff | AC12: 44907.647 | AD12: Corrie Maathuis | AE12: 3-haak
A13: RO704 | B13: 1261ZP2501 | C13: REST | D13: =VLOOKUP(A13,Basis!A:A,1,FALSE) -> RO704 | E13: TBSU | F13: 1017229 | G13: 43670.436 | K13: Erfgooiersdreef | L13: 25 | M13: 1261ZP | N13: Blaricum | O13: 5 | P13: 1 | Q13: 52.293137 | R13: 5.2751608 | S13: 04:00:00 | T13: 100 | U13: 80 | V13: 15 | W13: 0 | Y13: 180 | Z13: CL1261ZP25 | AA13: 43629.431 | AB13: Marco Broekhoff | AC13: 44907.647 | AD13: Corrie Maathuis | AE13: 3-haak
A14: RO705 | B14: 1261WH1201 | C14: REST | D14: =VLOOKUP(A14,Basis!A:A,1,FALSE) -> RO705 | E14: TBSU | F14: 1017230 | G14: 43670.453 | K14: Gooischedreef | L14: 12 | M14: 1261WH | N14: Blaricum | O14: 6 | P14: 1 | Q14: 52.290653 | R14: 5.276679 | S14: 04:00:00 | T14: 100 | U14: 80 | V14: 15 | W14: 0 | Y14: 180 | Z14: CL1261WH12 | AA14: 43633.683 | AB14: Marco Broekhoff | AC14: 44907.647 | AD14: Corrie Maathuis | AE14: 3-haak
A15: VO155 | B15: 1274NK1302 | C15: PMD | D15: =VLOOKUP(A15,Basis!A:A,1,FALSE) -> VO155 | E15: TBSU | F15: 1017242 | G15: 43670.465 | K15: Draaikom | L15: 13 | M15: 1274NK | N15: Huizen | O15: 6 | P15: 1 | Q15: 52.297585 | R15: 5.2686644 | S15: 04:00:00 | T15: 100 | U15: 80 | V15: 15 | W15: 0 | Y15: 180 | Z15: CL1274NK13 | AA15: 43635.692 | AB15: Marco Broekhoff | AC15: 44907.647 | AD15: Corrie Maathuis | AE15: 3-haak
A16: VO142 | B16: 1261WH1202 | C16: PMD | D16: =VLOOKUP(A16,Basis!A:A,1,FALSE) -> VO142 | E16: TBSU | F16: 1017234 | G16: 43670.454 | K16: Gooischedreef | L16: 12 | M16: 1261WH | N16: Blaricum | O16: 6 | P16: 1 | Q16: 52.290653 | R16: 5.276679 | S16: 04:00:00 | T16: 100 | U16: 80 | V16: 15 | W16: 0 | Y16: 180 | Z16: CL1261WH12 | AA16: 43633.684 | AB16: Marco Broekhoff | AC16: 44907.647 | AD16: Corrie Maathuis | AE16: 3-haak
A17: VO153 | B17: 1252AL5902 | C17: PMD | D17: =VLOOKUP(A17,Basis!A:A,1,FALSE) -> VO153 | E17: TBSU | F17: 1017235 | G17: 43670.468 | K17: Van Erven Dorenspark | L17: 59 | M17: 1252AL | N17: Laren | O17: 6 | P17: 1 | Q17: 52.245716 | R17: 5.2369895 | S17: 04:00:00 | T17: 100 | U17: 80 | V17: 15 | W17: 0 | Y17: 180 | Z17: CL1252AL59 | AA17: 43636.673 | AB17: Marco Broekhoff | AC17: 44907.648 | AD17: Corrie Maathuis | AE17: 3-haak
... A111: RO1026 | B111: 1215HX4001 | C111: REST | D111: =VLOOKUP(A111,Basis!A:A,1,FALSE) -> RO1026 | E111: TBSU | F111: 1048933 | G111: 44894.502 | K111: Jacob van Maerlantlaan | L111: 40 | M111: 1215HX | N111: Hilversum | O111: 6 | P111: 1 | Q111: 52.21446 | R111: 5.15519 | S111: 00:00:00 | T111: 100 | U111: 75 | V111: 10 | W111: 0 | Y111: 180 | Z111: CL1215HX40 | AA111: 44201.428 | AB111: Rob Markesteijn | AC111: 44907.648 | AD111: Corrie Maathuis | AE111: 3-haak
A112: X01 | B112: 1277AG4703 | C112: OPK | D112: =VLOOKUP(A112,Basis!A:A,1,FALSE) -> X01 | K112: Goethehof | L112: 47 | M112: 1277AG | N112: Huizen | O112: 3 | P112: 1 | Q112: 52.29518 | R112: 5.27476 | S112: 04:00:00 | T112: 100 | U112: 80 | V112: 10 | W112: 0 | Y112: 180 | Z112: CL1277AG47 | AA112: 43732.478 | AB112: Marco Broekhoff | AC112: 44903.429 | AD112: Corrie Maathuis | AE112: 3-haak
A113: RO734 | B113: 1275DM2401 | C113: REST | D113: =VLOOKUP(A113,Basis!A:A,1,FALSE) -> RO734 | E113: TBSU | F113: 1017867 | G113: 43670.461 | K113: Brederode | L113: 24 | M113: 1275DM | N113: Huizen | O113: 6 | P113: 1 | Q113: 52.292141 | R113: 5.262744 | S113: 04:00:00 | T113: 100 | U113: 80 | V113: 15 | W113: 0 | Y113: 180 | Z113: CL1275DM24 | AA113: 43635.608 | AB113: Marco Broekhoff | AC113: 44907.647 | AD113: Corrie Maathuis | AE113: 3-haak
A114: RO702 | B114: 1215PP201 | C114: REST | D114: =VLOOKUP(A114,Basis!A:A,1,FALSE) -> RO702 | E114: TBSU | F114: 1017877 | G114: 43753.694 | K114: Van Ghentlaan | L114: 2 | M114: 1215PP | N114: Hilversum | O114: 6 | P114: 1 | Q114: 52.213013 | R114: 5.152595 | S114: 04:00:00 | T114: 100 | U114: 80 | V114: 15 | W114: 0 | Y114: 180 | Z114: CL1215PP2 | AA114: 43629.674 | AB114: Marco Broekhoff | AC114: 44907.647 | AD114: Corrie Maathuis | AE114: 3-haak
A115: VO445 | B115: 1222LH5402 | C115: PMD | D115: =VLOOKUP(A115,Basis!A:A,1,FALSE) -> VO445 | E115: TBSU | F115: 1015802 | G115: 44637.5 | K115: Lieven de Keylaan | L115: 54 | M115: 1222LH | N115: Hilversum | O115: 6 | P115: 1 | Q115: 52.236492 | R115: 5.1851192 | S115: 00:00:00 | T115: 100 | U115: 80 | V115: 10 | W115: 0 | Y115: 180 | Z115: CL1222LH54 | AA115: 44634.492 | AB115: Marco Broekhoff | AC115: 44907.648 | AD115: Corrie Maathuis | AE115: 3-haak
A116: RO737 | B116: 1212EC13201 | C116: REST | D116: =VLOOKUP(A116,Basis!A:A,1,FALSE) -> RO737 | E116: TBSU | F116: 1017870 | G116: 43670.646 | K116: Compagnieweg | L116: 132 | M116: 1212EC | N116: Hilversum | O116: 6 | P116: 1 | Q116: 52.217476 | R116: 5.1976609 | S116: 04:00:00 | T116: 100 | U116: 80 | V116: 15 | W116: 0 | Y116: 180 | Z116: CL1212EC132 | AA116: 43670.643 | AB116: Marco Broekhoff | AC116: 44907.648 | AD116: Corrie Maathuis | AE116: 3-haak
A117: VO227 | B117: 1212EA2603 | C117: PMD | D117: =VLOOKUP(A117,Basis!A:A,1,FALSE) -> VO227 | E117: TBSU | F117: 1017978 | G117: 44909.409 | K117: Compagnieweg | L117: 26 | M117: 1212EA | N117: Hilversum | O117: 6 | P117: 1 | Q117: 52.218853 | R117: 5.1968021 | S117: 04:00:00 | T117: 100 | U117: 80 | V117: 15 | W117: 0 | Y117: 180 | Z117: CL1212EA26 | AA117: 43670.635 | AB117: Marco Broekhoff | AC117: 44879.616 | AD117: Corrie Maathuis | AE117: 3-haak
A118: VO298 | B118: 1403JX10003 | C118: PMD | D118: =VLOOKUP(A118,Basis!A:A,1,FALSE) -> VO298 | E118: TBSU | F118: 1017969 | G118: 44463.574 | K118: Dorotheagaarde | L118: 100 | M118: 1403JX | N118: Bussum | O118: 6 | P118: 1 | Q118: 52.266033 | R118: 5.1882324 | S118: 00:00:00 | T118: 100 | U118: 80 | V118: 10 | W118: 0 | Y118: 180 | Z118: CL1403JX100 | AA118: 43892.565 | AB118: Marco Broekhoff | AC118: 44907.648 | AD118: Corrie Maathuis | AE118: 3-haak
A119: RO694 | B119: 1223MB1902 | C119: REST | D119: =VLOOKUP(A119,Basis!A:A,1,FALSE) -> RO694 | E119: TBSU | F119: 1018047 | G119: 44515.478 | K119: Dolf van der Lindenstraat | L119: 19 | M119: 1223MB | N119: Hilversum | O119: 6 | P119: 1 | Q119: 52.225674 | R119: 5.2035599 | S119: 04:00:00 | T119: 100 | U119: 80 | V119: 10 | W119: 0 | Y119: 180 | Z119: CL1223MB19 | AA119: 43636.581 | AB119: Marco Broekhoff | AC119: 44907.647 | AD119: Corrie Maathuis | AE119: 3-haak
A120: RO735 | B120: 1261AH9a01 | C120: REST | D120: =VLOOKUP(A120,Basis!A:A,1,FALSE) -> RO735 | E120: TBSU | F120: 1018009 | G120: 44048.496 | K120: Prins Hendriklaan | L120: 9a | M120: 1261AH | N120: Blaricum | O120: 6 | P120: 1 | Q120: 52.269081 | R120: 5.2121987 | S120: 04:00:00 | T120: 100 | U120: 80 | V120: 15 | W120: 0 | Y120: 180 | Z120: CL1261AH9a | AA120: 43669.651 | AB120: Marco Broekhoff | AC120: 44907.648 | AD120: Corrie Maathuis | AE120: 3-haak
A121: PO113 | B121: 1276DD5903 | C121: OPK | D121: =VLOOKUP(A121,Basis!A:A,1,FALSE) -> PO113 | E121: TBSU | F121: 1018030 | G121: 44160.62 | K121: Akkerweg | L121: 59 | M121: 1276DD | N121: Huizen | O121: 6 | P121: 1 | Q121: 52.29475 | R121: 5.2515302 | S121: 00:00:00 | T121: 100 | U121: 80 | V121: 10 | W121: 0 | Y121: 180 | Z121: CL1276DD59 | AA121: 43832.679 | AB121: Marco Broekhoff | AC121: 44907.648 | AD121: Corrie Maathuis | AE121: 3-haak
A122: RO736 | B122: 1398DG2601 | C122: REST | D122: =VLOOKUP(A122,Basis!A:A,1,FALSE) -> RO736 | E122: TBSU | F122: 1018472 | G122: 43699.599 | K122: Muyderban | L122: 26 | M122: 1398DG | N122: Muiden | O122: 6 | P122: 1 | Q122: 52.334442 | R122: 5.0619078 | S122: 00:00:00 | T122: 100 | U122: 80 | V122: 10 | W122: 0 | Y122: 180 | Z122: CL1398DG26 | AA122: 44013.442 | AB122: Marco Broekhoff | AC122: 44907.648 | AD122: Corrie Maathuis | AE122: 3-haak
A123: VO266 | B123: 1216JE202 | C123: PMD | D123: =VLOOKUP(A123,Basis!A:A,1,FALSE) -> VO266 | E123: TBSU | F123: 1018060 | G123: 44301.494 | K123: Kapittelweg | L123: 2 | M123: 1216JE | N123: Hilversum | O123: 6 | P123: 1 | Q123: 52.215141 | R123: 5.1431251 | S123: 04:00:00 | T123: 100 | U123: 80 | V123: 15 | W123: 0 | Y123: 180 | Z123: CL1216JE2 | AA123: 43713.424 | AB123: Marco Broekhoff | AC123: 44907.648 | AD123: Corrie Maathuis | AE123: 3-haak
A124: PO116 | B124: 1243JG380103 | C124: OPK | D124: =VLOOKUP(A124,Basis!A:A,1,FALSE) -> PO116 | E124: TBSU | F124: 1018063 | G124: 44831.583 | K124: Noordereinde | L124: 38ap01 | M124: 1243JG | N124: 's-Graveland | O124: 6 | P124: 1 | Q124: 52.245205 | R124: 5.1223125 | S124: 04:00:00 | T124: 100 | U124: 80 | V124: 15 | W124: 0 | Y124: 180 | Z124: CL1243JG3801 | AA124: 43669.632 | AB124: Marco Broekhoff | AC124: 44907.648 | AD124: Corrie Maathuis | AE124: 3-haak
... A459: VO181 | B459: 1274SV3602 | C459: PMD | D459: =VLOOKUP(A459,Basis!A:A,1,FALSE) -> VO181 | E459: TBSU | F459: 1016852 | G459: 43732.482 | K459: Oostermeent-Zuid | L459: 36 | M459: 1274SV | N459: Huizen | O459: 6 | P459: 1 | Q459: 52.294178 | R459: 5.2644792 | S459: 04:00:00 | T459: 100 | U459: 70 | V459: 15 | W459: 0 | Y459: 180 | Z459: CL1274SV36 | AA459: 43630.443 | AB459: Marco Broekhoff | AC459: 44907.647 | AD459: Corrie Maathuis | AE459: 3-haak
A460: PO110 | B460: 1273RR6401 | C460: OPK | D460: =VLOOKUP(A460,Basis!A:A,1,FALSE) -> PO110 | E460: TBSU | F460: 1017296 | G460: 43670.385 | K460: Westkade | L460: 64 | M460: 1273RR | N460: Huizen | O460: 5 | P460: 1 | Q460: 52.298621 | R460: 5.2672579 | S460: 04:00:00 | T460: 95 | U460: 75 | V460: 15 | W460: 0 | Y460: 180 | Z460: CL1273RR64 | AA460: 43474.374 | AC460: 44907.647 | AD460: Corrie Maathuis | AE460: 3-haak
A461: VO247 | B461: 1216LT101 | C461: PMD | D461: =VLOOKUP(A461,Basis!A:A,1,FALSE) -> VO247 | E461: TBSU | F461: 1017298 | G461: 43670.569 | K461: Erasmuslaan | L461: 1 | M461: 1216LT | N461: Hilversum | O461: 6 | P461: 1 | Q461: 52.217529 | R461: 5.132164 | S461: 04:00:00 | T461: 95 | U461: 75 | V461: 15 | W461: 0 | Y461: 180 | Z461: CL1216LT1 | AA461: 43474.374 | AC461: 44907.647 | AD461: Corrie Maathuis | AE461: 3-haak
A462: PO123 | B462: 1403JX10001 | C462: OPK | D462: =VLOOKUP(A462,Basis!A:A,1,FALSE) -> PO123 | E462: TBSU | F462: 1017289 | G462: 44420.423 | K462: Dorotheagaarde | L462: 100 | M462: 1403JX | N462: Bussum | O462: 5 | P462: 1 | Q462: 52.265905 | R462: 5.1882603 | S462: 04:00:00 | T462: 95 | U462: 75 | V462: 15 | W462: 0 | Y462: 180 | Z462: CL1403JX100 | AA462: 43474.374 | AC462: 44907.647 | AD462: Corrie Maathuis | AE462: 3-haak
A463: RO878 | B463: 1216SP15301 | C463: REST | D463: =VLOOKUP(A463,Basis!A:A,1,FALSE) -> RO878 | E463: TBSU | F463: 1017290 | G463: 44231.386 | K463: Willibrorduslaan | L463: 153 | M463: 1216SP | N463: Hilversum | O463: 6 | P463: 1 | Q463: 52.219007 | R463: 5.127648 | S463: 04:00:00 | T463: 95 | U463: 75 | V463: 15 | W463: 0 | Y463: 180 | Z463: CL1216SP153 | AA463: 43474.374 | AC463: 44907.647 | AD463: Corrie Maathuis | AE463: 3-haak
A464: PO103 | B464: 1261MR9101 | C464: OPK | D464: =VLOOKUP(A464,Basis!A:A,1,FALSE) -> PO103 | E464: TBSU | F464: 1017307 | G464: 43670.427 | K464: 't Schaar | L464: 91 | M464: 1261MR | N464: Blaricum | O464: 5 | P464: 1 | Q464: 52.285954 | R464: 5.269312 | S464: 04:00:00 | T464: 95 | U464: 75 | V464: 15 | W464: 0 | Y464: 180 | Z464: CL1261MR91 | AA464: 43474.374 | AC464: 44907.647 | AD464: Corrie Maathuis | AE464: 3-haak
A465: RO880 | B465: 1221CX1201 | C465: REST | D465: =VLOOKUP(A465,Basis!A:A,1,FALSE) -> RO880 | E465: TBSU | F465: 1017317 | G465: 44257.52 | K465: Eemnesserweg | L465: 12A | M465: 1221CX | N465: Hilversum | O465: 5 | P465: 1 | Q465: 52.227738 | R465: 5.184015 | S465: 04:00:00 | T465: 95 | U465: 75 | V465: 15 | W465: 0 | Y465: 180 | Z465: CL1221CX12 | AA465: 43474.374 | AC465: 44907.647 | AD465: Corrie Maathuis | AE465: 3-haak
A466: VO093 | B466: 1211EG13602 | C466: PMD | D466: =VLOOKUP(A466,Basis!A:A,1,FALSE) -> VO093 | E466: TBSU | F466: 1017878 | G466: 43507.389 | K466: Groest | L466: 136 | M466: 1211EG | N466: Hilversum | O466: 5 | P466: 1 | Q466: 52.223174 | R466: 5.178231 | S466: 04:00:00 | T466: 95 | U466: 75 | V466: 15 | W466: 0 | Y466: 180 | Z466: CL1211EG136 | AA466: 43474.374 | AC466: 44907.647 | AD466: Corrie Maathuis | AE466: 3-haak
A467: VO092 | B467: 1211EZ103 | C467: PMD | D467: =VLOOKUP(A467,Basis!A:A,1,FALSE) -> VO092 | E467: TBSU | F467: 1017879 | G467: 43507.389 | K467: Spoorstraat | L467: 1A | M467: 1211EZ | N467: Hilversum | O467: 5 | P467: 1 | Q467: 52.225234 | R467: 5.1801749 | S467: 04:00:00 | T467: 95 | U467: 75 | V467: 15 | W467: 0 | Y467: 180 | Z467: CL1211EZ1 | AA467: 43474.374 | AC467: 44907.647 | AD467: Corrie Maathuis | AE467: 3-haak
A468: VO103 | B468: 1214AW12702 | C468: PMD | D468: =VLOOKUP(A468,Basis!A:A,1,FALSE) -> VO103 | E468: TBSU | F468: 1017880 | G468: 43521.672 | K468: Gijsbrecht van Amstelstraat | L468: 127A | M468: 1214AW | N468: Hilversum | O468: 5 | P468: 1 | Q468: 52.215958 | R468: 5.170479 | S468: 04:00:00 | T468: 95 | U468: 75 | V468: 15 | W468: 0 | Y468: 180 | Z468: CL1214AW127 | AA468: 43474.374 | AC468: 44907.647 | AD468: Corrie Maathuis | AE468: 3-haak
A469: RO606 | B469: 1406TX903 | C469: REST | D469: =VLOOKUP(A469,Basis!A:A,1,FALSE) -> RO606 | E469: TBSU | F469: 1017883 | G469: 43606.356 | K469: Waldenlaan | L469: 9 | M469: 1406TX | N469: Bussum | O469: 5 | P469: 1 | Q469: 52.262874 | R469: 5.1466952 | S469: 04:00:00 | T469: 95 | U469: 75 | V469: 15 | W469: 0 | Y469: 180 | Z469: CL1406TX9 | AA469: 43474.374 | AC469: 44907.647 | AD469: Corrie Maathuis | AE469: 3-haak
A470: VO118 | B470: 1211KG4302 | C470: PMD | D470: =VLOOKUP(A470,Basis!A:A,1,FALSE) -> VO118 | E470: TBSU | F470: 1017884 | G470: 43510.689 | K470: Havenstraat | L470: 43A 1 | M470: 1211KG | N470: Hilversum | O470: 5 | P470: 1 | Q470: 52.222315 | R470: 5.169281 | S470: 04:00:00 | T470: 95 | U470: 75 | V470: 15 | W470: 0 | Y470: 180 | Z470: CL1211KG43 | AA470: 43474.374 | AC470: 44907.647 | AD470: Corrie Maathuis | AE470: 3-haak
A471: RO673 | B471: 1211KG4301 | C471: REST | D471: =VLOOKUP(A471,Basis!A:A,1,FALSE) -> RO673 | E471: TBSU | F471: 1017885 | G471: 43510.69 | K471: Havenstraat | L471: 43A 1 | M471: 1211KG | N471: Hilversum | O471: 5 | P471: 1 | Q471: 52.222315 | R471: 5.169281 | S471: 04:00:00 | T471: 95 | U471: 75 | V471: 15 | W471: 0 | Y471: 180 | Z471: CL1211KG43 | AA471: 43474.374 | AC471: 44907.647 | AD471: Corrie Maathuis | AE471: 3-haak
... A753: RO128 | B753: 1403HW18201 | C753: REST | D753: =VLOOKUP(A753,Basis!A:A,1,FALSE) -> RO128 | E753: TBSU | F753: 1020011 | G753: 43602.528 | K753: Anne Franklaan | L753: 182 | M753: 1403HW | N753: Bussum | O753: 5 | P753: 1 | Q753: 52.266598 | R753: 5.191651 | S753: 04:00:00 | T753: 95 | U753: 75 | V753: 15 | W753: 0 | Y753: 180 | Z753: CL1403HW182 | AA753: 43474.374 | AC753: 44907.647 | AD753: Corrie Maathuis | AE753: 3-haak
A754: VO024 | B754: 1211LZ1203 | C754: PMD | D754: =VLOOKUP(A754,Basis!A:A,1,FALSE) -> VO024 | K754: Kapelstraat | L754: 12 | M754: 1211LZ | N754: Hilversum | O754: 5 | P754: 1 | Q754: 52.221613 | R754: 5.176156 | S754: 04:00:00 | T754: 95 | U754: 75 | V754: 15 | W754: 0 | Y754: 180 | Z754: CL1211LZ12 | AA754: 43474.374 | AC754: 44903.429 | AD754: Corrie Maathuis | AE754: Pers
A755: VO025 | B755: 1212AR14101 | C755: PMD | D755: =VLOOKUP(A755,Basis!A:A,1,FALSE) -> VO025 | K755: Olivier van Noortstraat | L755: 141 | M755: 1212AR | N755: Hilversum | O755: 5 | P755: 1 | Q755: 52.218816 | R755: 5.1940336 | S755: 04:00:00 | T755: 95 | U755: 75 | V755: 15 | W755: 0 | Y755: 180 | Z755: CL1212AR141 | AA755: 43474.374 | AC755: 44903.429 | AD755: Corrie Maathuis | AE755: Pers
A756: VO015 | B756: 1216JJ11407 | C756: PMD | D756: =VLOOKUP(A756,Basis!A:A,1,FALSE) -> VO015 | K756: Kapittelweg | L756: 114 | M756: 1216JJ | N756: Hilversum | O756: 6 | P756: 1 | Q756: 52.215855 | R756: 5.1425866 | S756: 04:00:00 | T756: 95 | U756: 75 | V756: 15 | W756: 0 | Y756: 180 | Z756: CL1216JJ114 | AA756: 43474.374 | AC756: 44903.429 | AD756: Corrie Maathuis | AE756: Pers
A757: RB009 | B757: 1217KN501 | C757: REST | D757: =VLOOKUP(A757,Basis!A:A,1,FALSE) -> RB009 | K757: Koninginneweg | L757: 5A | M757: 1217KN | N757: Hilversum | O757: 5 | P757: 1 | Q757: 52.229904 | R757: 5.166396 | S757: 04:00:00 | T757: 95 | U757: 75 | V757: 15 | W757: 1 | Y757: 180 | Z757: CL1217KN5 | AA757: 43474.374 | AC757: 44879.615 | AD757: Corrie Maathuis | AE757: 3-haak
A758: BKC0036 | B758: 1244PC201 | C758: PMD | D758: =VLOOKUP(A758,Basis!A:A,1,FALSE) -> BKC0036 | K758: Elisabeth de Walelaan | L758: 2 | M758: 1244PC | N758: Ankeveen | O758: 5 | P758: 1 | Q758: 52.265765 | R758: 5.0985859 | S758: 04:00:00 | T758: 95 | U758: 75 | V758: 15 | W758: 1 | Y758: 180 | Z758: CL1244PC2 | AA758: 43474.374 | AC758: 44879.615 | AD758: Corrie Maathuis | AE758: 3-haak
A759: VO019 | B759: 1273TA1701 | C759: PMD | D759: =VLOOKUP(A759,Basis!A:A,1,FALSE) -> VO019 | K759: Onderwei | L759: 17 | M759: 1273TA | N759: Huizen | O759: 5 | P759: 1 | Q759: 52.302585 | R759: 5.252844 | S759: 04:00:00 | T759: 95 | U759: 75 | V759: 15 | W759: 0 | Y759: 180 | Z759: CL1273TA17 | AA759: 43474.374 | AC759: 44903.429 | AD759: Corrie Maathuis | AE759: Pers
A760: VO023 | B760: 1274PA902 | C760: PMD | D760: =VLOOKUP(A760,Basis!A:A,1,FALSE) -> VO023 | K760: Betuining | L760: 9 | M760: 1274PA | N760: Huizen | O760: 6 | P760: 1 | Q760: 52.294787 | R760: 5.265597 | S760: 04:00:00 | T760: 95 | U760: 75 | V760: 15 | W760: 0 | Y760: 180 | Z760: CL1274PA9 | AA760: 43474.374 | AC760: 44903.429 | AD760: Corrie Maathuis | AE760: Pers
A761: RO016 | B761: 1382DC89901 | C761: REST | D761: =VLOOKUP(A761,Basis!A:A,1,FALSE) -> RO016 | K761: Kostverlorenstraat | L761: 899 | M761: 1382DC | N761: Weesp | O761: 5 | P761: 1 | Q761: 52.311415 | R761: 5.0332903 | S761: 04:00:00 | T761: 100 | U761: 80 | V761: 15 | W761: 1 | Y761: 180 | Z761: CL1382DC899 | AA761: 43474.374 | AC761: 44879.615 | AD761: Corrie Maathuis | AE761: 3-haak
A762: RO017 | B762: 1382DC89902 | C762: REST | D762: =VLOOKUP(A762,Basis!A:A,1,FALSE) -> RO017 | K762: Kostverlorenstraat | L762: 899 | M762: 1382DC | N762: Weesp | O762: 5 | P762: 1 | Q762: 52.311415 | R762: 5.0332635 | S762: 04:00:00 | T762: 95 | U762: 75 | V762: 15 | W762: 1 | Y762: 180 | Z762: CL1382DC899 | AA762: 43474.374 | AC762: 44879.615 | AD762: Corrie Maathuis | AE762: 3-haak
A763: RO018 | B763: 1382DC89903 | C763: REST | D763: =VLOOKUP(A763,Basis!A:A,1,FALSE) -> RO018 | K763: Kostverlorenstraat | L763: 899 | M763: 1382DC | N763: Weesp | O763: 5 | P763: 1 | Q763: 52.311395 | R763: 5.0332171 | S763: 04:00:00 | T763: 95 | U763: 75 | V763: 15 | W763: 1 | Y763: 180 | Z763: CL1382DC899 | AA763: 43474.374 | AC763: 44879.615 | AD763: Corrie Maathuis | AE763: 3-haak
A764: RO1037 | B764: 1411RC204 | C764: REST | D764: =VLOOKUP(A764,Basis!A:A,1,FALSE) -> RO1037 | E764: TBSU | F764: 1015860 | G764: 44965.415 | K764: Adriaan Dortsmanplein | L764: 2 | M764: 1411RC | N764: Naarden | O764: 5 | P764: 1 | Q764: 52.294929 | R764: 5.1644056 | S764: 04:00:00 | T764: 95 | U764: 75 | V764: 15 | W764: 0 | Y764: 180 | Z764: CL1411RC2 | AA764: 43474.374 | AC764: 44907.647 | AD764: Corrie Maathuis | AE764: 3-haak
A765: VO087 | B765: 1411RC203 | C765: PMD | D765: =VLOOKUP(A765,Basis!A:A,1,FALSE) -> VO087 | E765: TBSU | F765: 1015856 | G765: 43496.423 | K765: Adriaan Dortsmanplein | L765: 2 | M765: 1411RC | N765: Naarden | O765: 5 | P765: 1 | Q765: 52.29493 | R765: 5.164408 | S765: 04:00:00 | T765: 95 | U765: 75 | V765: 15 | W765: 0 | Y765: 180 | Z765: CL1411RC2 | AA765: 43474.374 | AC765: 44907.647 | AD765: Corrie Maathuis | AE765: 3-haak
A766: PO215 | B766: 1411RC202 | C766: OPK | D766: =VLOOKUP(A766,Basis!A:A,1,FALSE) -> PO215 | E766: TBSU | F766: 1015855 | G766: 44965.418 | K766: Adriaan Dortsmanplein | L766: 2 | M766: 1411RC | N766: Naarden | O766: 5 | P766: 1 | Q766: 52.294942 | R766: 5.1644256 | S766: 04:00:00 | T766: 95 | U766: 75 | V766: 15 | W766: 0 | Y766: 180 | Z766: CL1411RC2 | AA766: 43474.374 | AC766: 44907.647 | AD766: Corrie Maathuis | AE766: 3-haak
A767: BO060 | B767: 1411RC201 | C767: GFT | D767: =VLOOKUP(A767,Basis!A:A,1,FALSE) -> BO060 | E767: TBSU | F767: 1016211 | G767: 43496.422 | K767: Adriaan Dortsmanplein | L767: 2 | M767: 1411RC | N767: Naarden | O767: 5 | P767: 1 | Q767: 52.294964 | R767: 5.164396 | S767: 04:00:00 | T767: 95 | U767: 75 | V767: 15 | W767: 0 | Y767: 180 | Z767: CL1411RC2 | AA767: 43474.374 | AC767: 44879.615 | AD767: Corrie Maathuis | AE767: 3-haak
A768: PO082 | B768: 1411RA102 | C768: OPK | D768: =VLOOKUP(A768,Basis!A:A,1,FALSE) -> PO082 | E768: TBSU | F768: 1016703 | G768: 44838.556 | K768: Peperstraat | L768: 1 | M768: 1411RA | N768: Naarden | O768: 5 | P768: 1 | Q768: 52.29395 | R768: 5.1630629 | S768: 04:00:00 | T768: 95 | U768: 75 | V768: 15 | W768: 0 | Y768: 180 | Z768: CL1411RA1 | AA768: 43474.374 | AC768: 44907.647 | AD768: Corrie Maathuis | AE768: 3-haak
A769: VO098 | B769: 1411RA104 | C769: PMD | D769: =VLOOKUP(A769,Basis!A:A,1,FALSE) -> VO098 | E769: TBSU | F769: 1015864 | G769: 44838.557 | K769: Peperstraat | L769: 1 | M769: 1411RA | N769: Naarden | O769: 5 | P769: 1 | Q769: 52.29395 | R769: 5.1630629 | S769: 04:00:00 | T769: 95 | U769: 75 | V769: 15 | W769: 0 | Y769: 180 | Z769: CL1411RA1 | AA769: 43474.374 | AC769: 44907.647 | AD769: Corrie Maathuis | AE769: 3-haak
A770: RO618 | B770: 1411PC2704 | C770: REST | D770: =VLOOKUP(A770,Basis!A:A,1,FALSE) -> RO618 | E770: TBSU | F770: 1015862 | G770: 43496.427 | K770: Westwalstraat | L770: 27 | M770: 1411PC | N770: Naarden | O770: 5 | P770: 1 | Q770: 52.294984 | R770: 5.1586192 | S770: 04:00:00 | T770: 95 | U770: 75 | V770: 15 | W770: 0 | Y770: 180 | Z770: CL1411PC27 | AA770: 43474.374 | AC770: 44907.647 | AD770: Corrie Maathuis | AE770: 3-haak
A771: VO082 | B771: 1411PC2701 | C771: PMD | D771: =VLOOKUP(A771,Basis!A:A,1,FALSE) -> VO082 | E771: TBSU | F771: 1016709 | G771: 43496.425 | K771: Westwalstraat | L771: 27 | M771: 1411PC | N771: Naarden | O771: 5 | P771: 1 | Q771: 52.294993 | R771: 5.1585124 | S771: 04:00:00 | T771: 95 | U771: 75 | V771: 15 | W771: 0 | Y771: 180 | Z771: CL1411PC27 | AA771: 43474.374 | AC771: 44907.647 | AD771: Corrie Maathuis | AE771: 3-haak
A772: PO057 | B772: 1411PC2703 | C772: OPK | D772: =VLOOKUP(A772,Basis!A:A,1,FALSE) -> PO057 | E772: TBSU | F772: 1016702 | G772: 43496.426 | K772: Westwalstraat | L772: 27 | M772: 1411PC | N772: Naarden | O772: 5 | P772: 1 | Q772: 52.294992 | R772: 5.1586389 | S772: 04:00:00 | T772: 95 | U772: 75 | V772: 15 | W772: 0 | Y772: 180 | Z772: CL1411PC27 | AA772: 43474.374 | AC772: 44907.647 | AD772: Corrie Maathuis | AE772: 3-haak
A773: BO053 | B773: 1411PC2702 | C773: GFT | D773: =VLOOKUP(A773,Basis!A:A,1,FALSE) -> BO053 | E773: TBSU | F773: 1016708 | G773: 43496.426 | K773: Westwalstraat | L773: 27 | M773: 1411PC | N773: Naarden | O773: 5 | P773: 1 | Q773: 52.294847 | R773: 5.1586768 | S773: 04:00:00 | T773: 95 | U773: 75 | V773: 15 | W773: 0 | Y773: 180 | Z773: CL1411PC27 | AA773: 43474.374 | AC773: 44907.647 | AD773: Corrie Maathuis | AE773: 3-haak
A774: RO601 | B774: 1411RZ503 | C774: REST | D774: =VLOOKUP(A774,Basis!A:A,1,FALSE) -> RO601 | E774: TBSU | F774: 1015863 | G774: 43496.428 | K774: Kooltjesbuurt | L774: 5 | M774: 1411RZ | N774: Naarden | O774: 5 | P774: 1 | Q774: 52.296512 | R774: 5.1597662 | S774: 04:00:00 | T774: 95 | U774: 75 | V774: 15 | W774: 0 | Y774: 180 | Z774: CL1411RZ5 | AA774: 43474.374 | AC774: 44907.647 | AD774: Corrie Maathuis | AE774: 3-haak
A775: RO602 | B775: 1411RZ504 | C775: REST | D775: =VLOOKUP(A775,Basis!A:A,1,FALSE) -> RO602 | E775: TBSU | F775: 1016659 | G775: 43496.428 | K775: Kooltjesbuurt | L775: 5 | M775: 1411RZ | N775: Naarden | O775: 5 | P775: 1 | Q775: 52.296575 | R775: 5.1596672 | S775: 04:00:00 | T775: 95 | U775: 75 | V775: 15 | W775: 0 | Y775: 180 | Z775: CL1411RZ5 | AA775: 43474.374 | AC775: 44907.647 | AD775: Corrie Maathuis | AE775: 3-haak
... A783: VO112 | B783: 1411RM1202 | C783: PMD | D783: =VLOOKUP(A783,Basis!A:A,1,FALSE) -> VO112 | E783: TBSU | F783: 1016658 | G783: 43496.429 | K783: Oostwalstraat | L783: 12 | M783: 1411RM | N783: Naarden | O783: 5 | P783: 1 | Q783: 52.296967 | R783: 5.1669948 | S783: 04:00:00 | T783: 95 | U783: 75 | V783: 15 | W783: 0 | Y783: 180 | Z783: CL1411RM12 | AA783: 43474.374 | AC783: 44907.647 | AD783: Corrie Maathuis | AE783: 3-haak
A784: VO006 | B784: 1411GG102 | C784: PMD | D784: =VLOOKUP(A784,Basis!A:A,1,FALSE) -> VO006 | K784: Godelindeweg | L784: 1A 1 | M784: 1411GG | N784: Naarden | O784: 5 | P784: 1 | Q784: 52.288143 | R784: 5.171997 | S784: 04:00:00 | T784: 95 | U784: 75 | V784: 15 | W784: 0 | Y784: 180 | Z784: CL1411GG1 | AA784: 43474.374 | AC784: 44903.429 | AD784: Corrie Maathuis | AE784: 3-haak
A785: RO624 | B785: 1251DC1001 | C785: REST | D785: =VLOOKUP(A785,Basis!A:A,1,FALSE) -> RO624 | E785: TBSU | F785: 1017213 | G785: 43563.363 | K785: Jean-Landrehof | L785: 10 | M785: 1251DC | N785: Laren | O785: 5 | P785: 1 | Q785: 52.260765 | R785: 5.233294 | S785: 04:00:00 | T785: 95 | U785: 75 | V785: 15 | W785: 0 | Y785: 180 | Z785: CL1251DC10 | AA785: 43474.374 | AC785: 44907.647 | AD785: Corrie Maathuis | AE785: 3-haak
A786: RO246 | B786: 1276MH20801 | C786: REST | D786: =VLOOKUP(A786,Basis!A:A,1,FALSE) -> RO246 | E786: TBSU | F786: 1017220 | G786: 43670.345 | K786: Huizermaatweg | L786: 208 | M786: 1276MH | N786: Huizen | O786: 5 | P786: 1 | Q786: 52.297343 | R786: 5.2494715 | S786: 04:00:00 | T786: 95 | U786: 75 | V786: 15 | W786: 0 | Y786: 180 | Z786: CL1276MH208 | AA786: 43474.374 | AC786: 44907.647 | AD786: Corrie Maathuis | AE786: 3-haak
A787: RO627 | B787: 1252AL5901 | C787: REST | D787: =VLOOKUP(A787,Basis!A:A,1,FALSE) -> RO627 | E787: TBSU | F787: 1017231 | G787: 43563.367 | K787: Van Erven Dorenspark | L787: 59 | M787: 1252AL | N787: Laren | O787: 5 | P787: 1 | Q787: 52.245716 | R787: 5.2369893 | S787: 04:00:00 | T787: 95 | U787: 75 | V787: 15 | W787: 0 | Y787: 180 | Z787: CL1252AL59 | AA787: 43474.374 | AC787: 44907.647 | AD787: Corrie Maathuis | AE787: 3-haak
A788: RO262 | B788: 1261TG2701 | C788: REST | D788: =VLOOKUP(A788,Basis!A:A,1,FALSE) -> RO262 | E788: TBSU | F788: 1017232 | G788: 43648.686 | K788: Molenveenweg | L788: 27 | M788: 1261TG | N788: Blaricum | O788: 5 | P788: 1 | Q788: 52.269968 | R788: 5.2499559 | S788: 04:00:00 | T788: 95 | U788: 75 | V788: 15 | W788: 0 | Y788: 180 | Z788: CL1261TG27 | AA788: 43474.374 | AC788: 44907.647 | AD788: Corrie Maathuis | AE788: 3-haak
A789: RO625 | B789: 1251TC2701 | C789: REST | D789: =VLOOKUP(A789,Basis!A:A,1,FALSE) -> RO625 | E789: TBSU | F789: 1017233 | G789: 43563.364 | K789: Ferry-Oversteegenhof | L789: 27 | M789: 1251TC | N789: Laren | O789: 5 | P789: 1 | Q789: 52.260093 | R789: 5.2309625 | S789: 04:00:00 | T789: 95 | U789: 75 | V789: 15 | W789: 0 | Y789: 180 | Z789: CL1251TC27 | AA789: 43474.374 | AC789: 44907.647 | AD789: Corrie Maathuis | AE789: 3-haak
A790: RO671 | B790: 1274NK1301 | C790: REST | D790: =VLOOKUP(A790,Basis!A:A,1,FALSE) -> RO671 | E790: TBSU | F790: 1017238 | G790: 43670.429 | K790: Draaikom | L790: 13 | M790: 1274NK | N790: Huizen | O790: 5 | P790: 1 | Q790: 52.297586 | R790: 5.2686642 | S790: 04:00:00 | T790: 95 | U790: 75 | V790: 15 | W790: 0 | Y790: 180 | Z790: CL1274NK13 | AA790: 43474.374 | AC790: 44907.647 | AD790: Corrie Maathuis | AE790: 3-haak
A791: RO668 | B791: 1274PD201 | C791: REST | D791: =VLOOKUP(A791,Basis!A:A,1,FALSE) -> RO668 | E791: TBSU | F791: 1017239 | G791: 44098.349 | K791: Damwand | L791: 2 | M791: 1274PD | N791: Huizen | O791: 5 | P791: 1 | Q791: 52.297174 | R791: 5.2670728 | S791: 04:00:00 | T791: 95 | U791: 75 | V791: 15 | W791: 0 | Y791: 180 | Z791: CL1274PD2 | AA791: 43474.374 | AC791: 44907.647 | AD791: Corrie Maathuis | AE791: 3-haak
A792: RO687 | B792: 1273SP13801 | C792: REST | D792: =VLOOKUP(A792,Basis!A:A,1,FALSE) -> RO687 | E792: TBSU | F792: 1017240 | G792: 43670.34 | K792: Zomerkade | L792: 138 | M792: 1273SP | N792: Huizen | O792: 5 | P792: 1 | Q792: 52.30607 | R792: 5.257203 | S792: 04:00:00 | T792: 95 | U792: 75 | V792: 15 | W792: 0 | Y792: 180 | Z792: CL1273SP138 | AA792: 43474.374 | AC792: 44907.647 | AD792: Corrie Maathuis | AE792: 3-haak
A793: RO680 | B793: 1273MD19601 | C793: REST | D793: =VLOOKUP(A793,Basis!A:A,1,FALSE) -> RO680 | E793: TBSU | F793: 1017241 | G793: 44097.577 | K793: Delta | L793: 196 | M793: 1273MD | N793: Huizen | O793: 6 | P793: 1 | Q793: 52.30481 | R793: 5.25562 | S793: 04:00:00 | T793: 95 | U793: 75 | V793: 15 | W793: 0 | Y793: 180 | Z793: CL1273MD196 | AA793: 43474.374 | AC793: 44907.647 | AD793: Corrie Maathuis | AE793: 3-haak
A794: RO616 | B794: 1261ZJ901 | C794: REST | D794: =VLOOKUP(A794,Basis!A:A,1,FALSE) -> RO616 | E794: TBSU | F794: 1017227 | G794: 43670.427 | K794: Rode Beukplein | L794: 9 | M794: 1261ZJ | N794: Blaricum | O794: 5 | P794: 1 | Q794: 52.295621 | R794: 5.277396 | S794: 04:00:00 | T794: 95 | U794: 75 | V794: 15 | W794: 0 | Y794: 180 | Z794: CL1261ZJ9 | AA794: 43474.374 | AC794: 44907.647 | AD794: Corrie Maathuis | AE794: 3-haak
A795: RO657 | B795: 1262AE901 | C795: REST | D795: =VLOOKUP(A795,Basis!A:A,1,FALSE) -> RO657 | E795: TBSU | F795: 1017243 | G795: 43556.598 | K795: Zuiderzeedreef | L795: 9A | M795: 1262AE | N795: Blaricum | O795: 5 | P795: 1 | Q795: 52.292691 | R795: 5.280245 | S795: 04:00:00 | T795: 95 | U795: 75 | V795: 15 | W795: 0 | Y795: 180 | Z795: CL1262AE9 | AA795: 43474.374 | AC795: 44907.647 | AD795: Corrie Maathuis | AE795: 3-haak
A796: RO661 | B796: 1276NJ8802 | C796: REST | D796: =VLOOKUP(A796,Basis!A:A,1,FALSE) -> RO661 | E796: TBSU | F796: 1017249 | G796: 43733.381 | K796: Ambonlaan | L796: 88 | M796: 1276NJ | N796: Huizen | O796: 5 | P796: 1 | Q796: 52.291775 | R796: 5.2459962 | S796: 04:00:00 | T796: 95 | U796: 75 | V796: 15 | W796: 0 | Y796: 180 | Z796: CL1276NJ88 | AA796: 43474.374 | AC796: 44907.647 | AD796: Corrie Maathuis | AE796: 3-haak
... A940: VO334 | B940: 1221EN18205 | C940: PMD | D940: =VLOOKUP(A940,Basis!A:A,1,FALSE) -> VO334 | E940: TBSU | F940: 1019878 | G940: 44075.636 | K940: Jan van der Heijdenstraat | L940: 182A | M940: 1221EN | N940: Hilversum | O940: 5 | P940: 1 | Q940: 52.225691 | R940: 5.192754 | S940: 04:00:00 | T940: 95 | U940: 75 | V940: 15 | W940: 0 | Y940: 180 | Z940: CL1221EN182 | AA940: 43474.374 | AC940: 44907.647 | AD940: Corrie Maathuis | AE940: 3-haak
A941: VO010 | B941: 1383CC202 | C941: PMD | D941: =VLOOKUP(A941,Basis!A:A,1,FALSE) -> VO010 | K941: G.J.Wiefferingdreef | L941: 2 | M941: 1383CC | N941: Weesp | O941: 5 | P941: 1 | Q941: 52.298344 | R941: 5.0431308 | S941: 04:00:00 | T941: 95 | U941: 75 | V941: 15 | W941: 1 | Y941: 180 | Z941: CL1383CC2 | AA941: 43474.374 | AC941: 44879.615 | AD941: Corrie Maathuis | AE941: 3-haak
A942: VO030 | B942: 1403NV28201 | C942: PMD | D942: =VLOOKUP(A942,Basis!A:A,1,FALSE) -> VO030 | K942: Lange Heul | L942: 282 | M942: 1403NV | N942: Bussum | O942: 5 | P942: 1 | Q942: 52.263328 | R942: 5.1676478 | S942: 04:00:00 | T942: 95 | U942: 75 | V942: 15 | W942: 0 | Y942: 180 | Z942: CL1403NV282 | AA942: 43474.374 | AC942: 44903.429 | AD942: Corrie Maathuis | AE942: 3-haak
A943: RO151 | B943: 1403PB54201 | C943: REST | D943: =VLOOKUP(A943,Basis!A:A,1,FALSE) -> RO151 | K943: Lange Heul | L943: 542 | M943: 1403PB | N943: Bussum | O943: 5 | P943: 1 | Q943: 52.261684 | R943: 5.170687 | S943: 04:00:00 | T943: 95 | U943: 75 | V943: 15 | W943: 0 | Y943: 180 | Z943: CL1403PB542 | AA943: 43474.374 | AC943: 44903.429 | AD943: Corrie Maathuis | AE943: 3-haak
A944: RO150 | B944: 1403PC61201 | C944: REST | D944: =VLOOKUP(A944,Basis!A:A,1,FALSE) -> RO150 | K944: Lange Heul | L944: 612 | M944: 1403PC | N944: Bussum | O944: 5 | P944: 1 | Q944: 52.261667 | R944: 5.1714416 | S944: 04:00:00 | T944: 95 | U944: 75 | V944: 15 | W944: 0 | Y944: 180 | Z944: CL1403PC612 | AA944: 43474.374 | AC944: 44903.429 | AD944: Corrie Maathuis | AE944: 3-haak
A945: RO149 | B945: 1403PD68201 | C945: REST | D945: =VLOOKUP(A945,Basis!A:A,1,FALSE) -> RO149 | K945: Lange Heul | L945: 682 | M945: 1403PD | N945: Bussum | O945: 5 | P945: 1 | Q945: 52.261757 | R945: 5.1720193 | S945: 04:00:00 | T945: 95 | U945: 75 | V945: 15 | W945: 0 | Y945: 180 | Z945: CL1403PD682 | AA945: 43474.374 | AC945: 44903.429 | AD945: Corrie Maathuis | AE945: 3-haak
A946: RO173 | B946: 1402KM10601 | C946: REST | D946: =VLOOKUP(A946,Basis!A:A,1,FALSE) -> RO173 | K946: De Dennen | L946: 106 | M946: 1402KM | N946: Bussum | O946: 5 | P946: 1 | Q946: 52.267384 | R946: 5.1661784 | S946: 04:00:00 | T946: 95 | U946: 75 | V946: 15 | W946: 0 | Y946: 180 | Z946: CL1402KM106 | AA946: 43474.374 | AC946: 44903.429 | AD946: Corrie Maathuis | AE946: 3-haak
A947: RO928 | B947: 1231NP701 | C947: REST | D947: =VLOOKUP(A947,Basis!A:A,1,FALSE) -> RO928 | E947: TBSU | F947: 1020029 | G947: 44383.523 | K947: Vuntuslaan | L947: 7 | M947: 1231NP | N947: Loosdrecht | O947: 5 | P947: 1 | Q947: 52.20705 | R947: 5.080849 | S947: 04:00:00 | T947: 95 | U947: 75 | V947: 15 | W947: 0 | Y947: 180 | Z947: CL1231NP7 | AA947: 43474.374 | AC947: 44907.647 | AD947: Corrie Maathuis | AE947: 3-haak
A948: RO498 | B948: 1382HE11101 | C948: REST | D948: =VLOOKUP(A948,Basis!A:A,1,FALSE) -> RO498 | E948: TBSU | F948: 1019847 | G948: 43592.379 | K948: Heemraadweg | L948: 111 | M948: 1382HE | N948: Weesp | O948: 5 | P948: 1 | Q948: 52.316097 | R948: 5.0288079 | S948: 04:00:00 | T948: 95 | U948: 75 | V948: 15 | W948: 0 | Y948: 180 | Z948: CL1382HE111 | AA948: 43474.374 | AC948: 44907.647 | AD948: Corrie Maathuis | AE948: 3-haak
A949: RO008 | B949: 1382KE101 | C949: REST | D949: =VLOOKUP(A949,Basis!A:A,1,FALSE) -> RO008 | E949: TBSU | F949: 1019850 | G949: 43592.38 | K949: Casparushof | L949: 1 | M949: 1382KE | N949: Weesp | O949: 5 | P949: 1 | Q949: 52.310015 | R949: 5.0329252 | S949: 04:00:00 | T949: 95 | U949: 75 | V949: 15 | W949: 0 | Y949: 180 | Z949: CL1382KE1 | AA949: 43474.374 | AC949: 44907.647 | AD949: Corrie Maathuis | AE949: 3-haak
A950: GFE0037 | B950: 1411DZ2401 | C950: GFT | D950: =VLOOKUP(A950,Basis!A:A,1,FALSE) -> GFE0037 | E950: TBS | F950: 1031083 | G950: 43976.641 | K950: Thierenshof | L950: 24 | M950: 1411DZ | N950: Naarden | O950: 5 | P950: 1 | Q950: 52.289334 | R950: 5.1608132 | S950: 04:00:00 | T950: 95 | U950: 75 | V950: 15 | W950: 0 | Y950: 180 | Z950: CL1411DZ24 | AA950: 43474.374 | AC950: 44880.676 | AD950: Corrie Maathuis | AE950: VC
A951: GFE0149 | B951: 1216JM27204 | C951: GFT | D951: =VLOOKUP(A951,Basis!A:A,1,FALSE) -> GFE0149 | E951: TBS | F951: 1031101 | G951: 44095.609 | K951: Kapittelweg | L951: 272 | M951: 1216JM | N951: Hilversum | O951: 5 | P951: 1 | Q951: 52.216183 | R951: 5.143357 | S951: 04:00:00 | T951: 95 | U951: 75 | V951: 15 | W951: 0 | Y951: 180 | Z951: CL1216JM272 | AA951: 43474.374 | AC951: 44880.676 | AD951: Corrie Maathuis | AE951: VC
A952: RB035 | B952: 1382KN8601 | C952: REST | D952: =VLOOKUP(A952,Basis!A:A,1,FALSE) -> RB035 | E952: TBSU | F952: 1034651 | G952: 43753.945 | K952: Aquamarin | L952: 86 | M952: 1382KN | N952: Weesp | O952: 5 | P952: 1 | Q952: 52.310254 | R952: 5.0225278 | S952: 04:00:00 | T952: 95 | U952: 75 | V952: 15 | W952: 0 | Y952: 180 | Z952: CL1382KN86 | AA952: 43474.374 | AC952: 44907.647 | AD952: Corrie Maathuis | AE952: 3-haak
A953: RB029 | B953: 1223NH8802 | C953: REST | D953: =VLOOKUP(A953,Basis!A:A,1,FALSE) -> RB029 | E953: TBSU | F953: 1034654 | G953: 43748.493 | K953: Anthony Fokkerweg | L953: 88 | M953: 1223NH | N953: Hilversum | O953: 5 | P953: 1 | Q953: 52.223296 | R953: 5.2014159 | S953: 04:00:00 | T953: 95 | U953: 75 | V953: 15 | W953: 0 | Y953: 180 | Z953: CL1223NH88 | AA953: 43474.374 | AC953: 44907.647 | AD953: Corrie Maathuis | AE953: 3-haak
A954: RB003 | B954: 1411EL1701 | C954: REST | D954: =VLOOKUP(A954,Basis!A:A,1,FALSE) -> RB003 | E954: TBSU | F954: 1034662 | G954: 43753.946 | K954: Koningin Wilhelminalaan | L954: 17F | M954: 1411EL | N954: Naarden | O954: 5 | P954: 1 | Q954: 52.290472 | R954: 5.1518831 | S954: 04:00:00 | T954: 95 | U954: 75 | V954: 15 | W954: 0 | Y954: 180 | Z954: CL1411EL17 | AA954: 43474.374 | AC954: 44907.647 | AD954: Corrie Maathuis | AE954: 3-haak
A955: RB033 | B955: 1223NK17802 | C955: REST | D955: =VLOOKUP(A955,Basis!A:A,1,FALSE) -> RB033 | E955: TBSU | F955: 1034896 | G955: 43748.495 | K955: Anthony Fokkerweg | L955: 178 | M955: 1223NK | N955: Hilversum | O955: 5 | P955: 1 | Q955: 52.221901 | R955: 5.2008489 | S955: 04:00:00 | T955: 95 | U955: 75 | V955: 15 | W955: 0 | Y955: 180 | Z955: CL1223NK178 | AA955: 43474.374 | AC955: 44907.647 | AD955: Corrie Maathuis | AE955: 3-haak
A956: RB034 | B956: 1394EK1801 | C956: REST | D956: =VLOOKUP(A956,Basis!A:A,1,FALSE) -> RB034 | E956: TBSU | F956: 1034911 | G956: 43748.537 | K956: Jozef Israelslaan | L956: 18 | M956: 1394EK | N956: Nederhorst den Berg | O956: 5 | P956: 1 | Q956: 52.263581 | R956: 5.041641 | S956: 04:00:00 | T956: 95 | U956: 75 | V956: 15 | W956: 0 | Y956: 180 | Z956: CL1394EK18 | AA956: 43474.374 | AC956: 44907.647 | AD956: Corrie Maathuis | AE956: 3-haak
A957: RB028 | B957: 1223NH8801 | C957: REST | D957: =VLOOKUP(A957,Basis!A:A,1,FALSE) -> RB028 | E957: TBSU | F957: 1034958 | G957: 43748.493 | K957: Anthony Fokkerweg | L957: 88 | M957: 1223NH | N957: Hilversum | O957: 5 | P957: 1 | Q957: 52.223262 | R957: 5.2014246 | S957: 04:00:00 | T957: 95 | U957: 75 | V957: 15 | W957: 0 | Y957: 180 | Z957: CL1223NH88 | AA957: 43474.374 | AC957: 44907.647 | AD957: Corrie Maathuis | AE957: 3-haak
A958: RB027 | B958: 1222CJ1401 | C958: REST | D958: =VLOOKUP(A958,Basis!A:A,1,FALSE) -> RB027 | E958: TBSU | F958: 1034959 | G958: 43748.49 | K958: De Kupstraat | L958: 14 | M958: 1222CJ | N958: Hilversum | O958: 5 | P958: 1 | Q958: 52.242294 | R958: 5.177755 | S958: 04:00:00 | T958: 95 | U958: 75 | V958: 15 | W958: 0 | Y958: 180 | Z958: CL1222CJ14 | AA958: 43474.374 | AC958: 44907.647 | AD958: Corrie Maathuis | AE958: 3-haak
...

Sheet containers 
A1: ContainerName | C1: DumpLocationName | D1: Street | E1: HouseNumber | F1: Postalcode | G1: City | H1: DeviceType | I1: Unit_Id | J1: Capacity | K1: Fraction | L1: Description | M1: LiftFrameType | N1: Litres | O1: MaxDumpCount | P1: Manufacturer | Q1: ContainerHeightInMM | R1: FillSensorFullDistanceMarginInMM | S1: FillSensorInstallationHeightInMM | T1: SensorType | U1: SerialNumber | V1: Type | W1: CreatedOn | X1: CreatedByPerson | Y1: UpdatedOn | Z1: UpdatedByPerson
A2: BKC0003 | B2: =VLOOKUP(A2,'dump '!A:A,1,FALSE) -> BKC0003 | C2: 1217DA101 | D2: Oude Meentweg | E2: 1 | F2: 1217DA | G2: Hilversum | H2: TFSU | J2: 3 | K2: PMD | L2: Bovengronds | M2: 3-haak | N2: 0 | O2: 100 | P2: BAMBOV2012 | Q2: 1600 | R2: 50 | S2: 300 | V2: BVC | W2: 43474.374 | Y2: 44683.484 | Z2: Rob Markesteijn
A3: BKC0005 | B3: =VLOOKUP(A3,'dump '!A:A,1,FALSE) -> #N/A | H3: TFSU | I3: 3004393 | J3: 3 | K3: PMD | L3: Bovengronds | M3: 3-haak | N3: 0 | O3: 100 | P3: HMIBOV2012 | Q3: 1600 | R3: 50 | S3: 300 | V3: BVC | W3: 43474.374 | Y3: 44683.485 | Z3: Rob Markesteijn
A4: BKC0007 | B4: =VLOOKUP(A4,'dump '!A:A,1,FALSE) -> #N/A | H4: TBS | J4: 3 | K4: PMD | L4: Bovengronds | M4: 3-haak | N4: 0 | O4: 100 | P4: KLIBOV2010 | Q4: 1600 | R4: 50 | S4: 301 | V4: BVC | W4: 43636.569 | X4: Marco Broekhoff | Y4: 44683.485 | Z4: Rob Markesteijn
A5: BKC0009 | B5: =VLOOKUP(A5,'dump '!A:A,1,FALSE) -> BKC0009 | C5: 1402TH5701 | D5: Voormeulenweg | E5: 57 | F5: 1402TH | G5: Bussum | H5: TFSU | I5: 3004080 | J5: 3 | K5: PMD | L5: Bovengronds | M5: 3-haak | N5: 0 | O5: 100 | P5: BAMBOV2012 | Q5: 1590 | R5: 50 | S5: 300 | V5: BVC | W5: 43474.374 | Y5: 44683.485 | Z5: Rob Markesteijn
A6: BKC0010 | B6: =VLOOKUP(A6,'dump '!A:A,1,FALSE) -> BKC0010 | C6: 1215HM16401 | D6: Oude Loosdrechtseweg | E6: 164 | F6: 1215HM | G6: Hilversum | H6: TFSU | I6: 3004602 | J6: 3 | K6: PMD | L6: Bovengronds | M6: 3-haak | N6: 0 | O6: 100 | P6: BAMBOV2012 | Q6: 1600 | R6: 50 | S6: 300 | V6: BVC | W6: 43474.374 | Y6: 44683.485 | Z6: Rob Markesteijn
A7: BKC0012 | B7: =VLOOKUP(A7,'dump '!A:A,1,FALSE) -> BKC0012 | C7: 1218GW801 | D7: Zuidermeent | E7: 8 | F7: 1218GW | G7: Hilversum | H7: TFSU | I7: 3004545 | J7: 3 | K7: PMD | L7: Bovengronds | M7: 3-haak | N7: 0 | O7: 100 | P7: BAMBOV2012 | Q7: 1600 | R7: 50 | S7: 300 | V7: BVC | W7: 43474.374 | Y7: 44683.485 | Z7: Rob Markesteijn
A8: BKC0014 | B8: =VLOOKUP(A8,'dump '!A:A,1,FALSE) -> #N/A | H8: TFSU | I8: 3004671 | J8: 3 | K8: PMD | L8: Bovengronds | M8: 3-haak | N8: 0 | O8: 100 | P8: BAMBOV2012 | Q8: 1600 | R8: 50 | S8: 300 | V8: BVC | W8: 43474.374 | Y8: 44683.485 | Z8: Rob Markesteijn
A9: BKC0015 | B9: =VLOOKUP(A9,'dump '!A:A,1,FALSE) -> BKC0015 | C9: 1403JD4201 | D9: Aaltje Noordewierlaan | E9: 42 | F9: 1403JD | G9: Bussum | H9: TFSU | I9: 3004660 | J9: 3 | K9: PMD | L9: Bovengronds | M9: 3-haak | N9: 0 | O9: 100 | P9: BAMBOV2014 | Q9: 1930 | R9: 50 | S9: 300 | V9: BVC | W9: 43474.374 | Y9: 44683.486 | Z9: Rob Markesteijn
A10: BKC0018 | B10: =VLOOKUP(A10,'dump '!A:A,1,FALSE) -> BKC0018 | C10: 1215LW5101 | D10: Admiraal de Ruyterlaan | E10: 51 | F10: 1215LW | G10: Hilversum | H10: TFSU | I10: 3004538 | J10: 3 | K10: PMD | L10: Bovengronds | M10: 3-haak | N10: 0 | O10: 100 | P10: BAMBOV2012 | Q10: 1600 | R10: 50 | S10: 300 | V10: BVC | W10: 43474.374 | Y10: 44683.486 | Z10: Rob Markesteijn
A11: BKC0019 | B11: =VLOOKUP(A11,'dump '!A:A,1,FALSE) -> BKC0019 | C11: 1382MC1801 | D11: Lobbrich Boudgerslaan | E11: 18 | F11: 1382MC | G11: Weesp | H11: TFSU | I11: 3004673 | J11: 3 | K11: PMD | L11: Bovengronds | M11: 3-haak | N11: 0 | O11: 100 | P11: SULBOV204 | Q11: 1600 | R11: 50 | S11: 300 | V11: BVC | W11: 43474.374 | Y11: 44683.486 | Z11: Rob Markesteijn
A12: BKC0021 | B12: =VLOOKUP(A12,'dump '!A:A,1,FALSE) -> BKC0021 | C12: 1394JJ1001 | D12: Meerhoekweg | E12: 10A | F12: 1394JJ | G12: Nederhorst den Berg | H12: TFSU | J12: 3 | K12: PMD | L12: Bovengronds | M12: 3-haak | N12: 0 | O12: 100 | P12: BAMBOV2014 | Q12: 1600 | R12: 50 | S12: 301 | V12: BVC | W12: 43474.374 | Y12: 44683.486 | Z12: Rob Markesteijn
A13: BKC0022 | B13: =VLOOKUP(A13,'dump '!A:A,1,FALSE) -> #N/A | H13: TFSU | I13: 3004691 | J13: 3 | K13: PMD | L13: Bovengronds | M13: 3-haak | N13: 0 | O13: 100 | P13: BAMBOV2012 | Q13: 1600 | R13: 50 | S13: 300 | V13: BVC | W13: 43474.374 | Y13: 44683.486 | Z13: Rob Markesteijn
A14: BKC0023 | B14: =VLOOKUP(A14,'dump '!A:A,1,FALSE) -> BKC0023 | C14: 1381EV8501 | D14: J.A.Fijnvandraatlaan | E14: 85 | F14: 1381EV | G14: Weesp | H14: TFSU | I14: 3004084 | J14: 3 | K14: PMD | L14: Bovengronds | M14: 3-haak | N14: 0 | O14: 100 | P14: HMIBOV2012 | Q14: 1600 | R14: 50 | S14: 300 | V14: BVC | W14: 43474.374 | Y14: 44683.486 | Z14: Rob Markesteijn
A15: BKC0026 | B15: =VLOOKUP(A15,'dump '!A:A,1,FALSE) -> #N/A | H15: TFSU | I15: 3004081 | J15: 3 | K15: PMD | L15: Bovengronds | M15: 3-haak | N15: 0 | O15: 100 | P15: BAMBOV2012 | Q15: 1600 | R15: 50 | S15: 300 | V15: BVC | W15: 43474.374 | Y15: 44683.487 | Z15: Rob Markesteijn
A16: BKC0030 | B16: =VLOOKUP(A16,'dump '!A:A,1,FALSE) -> BKC0030 | C16: 1412CA5001 | D16: Cort van der Lindenlaan | E16: 50 | F16: 1412CA | G16: Naarden | H16: TFSU | I16: 3004106 | J16: 3 | K16: PMD | L16: Bovengronds | M16: 3-haak | N16: 0 | O16: 100 | P16: KLIBOV2010 | Q16: 1590 | R16: 50 | S16: 300 | V16: BVC | W16: 43474.374 | Y16: 44683.487 | Z16: Rob Markesteijn
A17: BKC0031 | B17: =VLOOKUP(A17,'dump '!A:A,1,FALSE) -> #N/A | H17: TFSU | I17: 3004406 | J17: 3 | K17: PMD | L17: Bovengronds | M17: 3-haak | N17: 0 | O17: 100 | P17: BAMBOV2012 | Q17: 1600 | R17: 50 | S17: 300 | V17: BVC | W17: 43474.374 | Y17: 44683.487 | Z17: Rob Markesteijn
A18: BKC0032 | B18: =VLOOKUP(A18,'dump '!A:A,1,FALSE) -> #N/A | H18: TFSU | I18: 3004355 | J18: 3 | K18: PMD | L18: Bovengronds | M18: 3-haak | N18: 0 | O18: 100 | P18: HMIBOV2014 | Q18: 1600 | R18: 50 | S18: 301 | V18: BVC | W18: 43474.374 | Y18: 44683.487 | Z18: Rob Markesteijn
A19: BKC0036 | B19: =VLOOKUP(A19,'dump '!A:A,1,FALSE) -> BKC0036 | C19: 1244PC201 | D19: Elisabeth de Walelaan | E19: 2 | F19: 1244PC | G19: Ankeveen | H19: TBSU | J19: 3 | K19: PMD | L19: Bovengronds | M19: 3-haak | N19: 0 | O19: 100 | P19: HMIBOV2016 | Q19: 1600 | R19: 50 | S19: 302 | V19: BVC | W19: 43474.374 | Y19: 44683.507 | Z19: Rob Markesteijn
A20: BKC0039 | B20: =VLOOKUP(A20,'dump '!A:A,1,FALSE) -> BKC0039 | C20: 1403EK13201 | D20: Koekoeklaan | E20: 132 | F20: 1403EK | G20: Bussum | H20: TFSU | I20: 3004072 | J20: 3 | K20: PMD | L20: Bovengronds | M20: 3-haak | N20: 0 | O20: 100 | P20: BAMBOV2012 | Q20: 1590 | R20: 50 | S20: 300 | V20: BVC | W20: 43474.374 | Y20: 44683.487 | Z20: Rob Markesteijn
A21: BKC0040 | B21: =VLOOKUP(A21,'dump '!A:A,1,FALSE) -> BKC0040 | C21: 1215HM16402 | D21: Oude Loosdrechtseweg | E21: 164 | F21: 1215HM | G21: Hilversum | H21: TFSU | I21: 3004688 | J21: 3 | K21: PMD | L21: Bovengronds | M21: 3-haak | N21: 0 | O21: 100 | P21: BAMBOV2012 | Q21: 1600 | R21: 50 | S21: 300 | V21: BVC | W21: 43474.374 | Y21: 44683.487 | Z21: Rob Markesteijn
A22: BKC0041 | B22: =VLOOKUP(A22,'dump '!A:A,1,FALSE) -> BKC0041 | C22: 1222EL402 | D22: Bonnikestraat | E22: 4 | F22: 1222EL | G22: Hilversum | H22: TFSU | I22: 3004693 | J22: 3 | K22: PMD | L22: Bovengronds | M22: 3-haak | N22: 0 | O22: 100 | P22: BAMBOV2012 | Q22: 1600 | R22: 50 | S22: 300 | V22: BVC | W22: 43474.374 | Y22: 44683.488 | Z22: Rob Markesteijn
A23: BKC0042 | B23: =VLOOKUP(A23,'dump '!A:A,1,FALSE) -> #N/A | H23: TFSU | J23: 3 | K23: PMD | L23: Bovengronds | M23: 3-haak | N23: 0 | O23: 100 | P23: HMIBOV2012 | Q23: 1600 | R23: 50 | S23: 300 | V23: BVC | W23: 43474.374 | Y23: 44683.488 | Z23: Rob Markesteijn
A24: BKC0044 | B24: =VLOOKUP(A24,'dump '!A:A,1,FALSE) -> #N/A | H24: TBSU | J24: 3 | K24: PMD | L24: Bovengronds | M24: 3-haak | N24: 0 | O24: 100 | P24: BAMBOV2012 | Q24: 1600 | R24: 50 | S24: 300 | V24: BVC | W24: 43474.374 | Y24: 44683.488 | Z24: Rob Markesteijn
A25: BKC0046 | B25: =VLOOKUP(A25,'dump '!A:A,1,FALSE) -> BKC0046 | C25: 1381BL4501 | D25: Achtergracht | E25: 45 | F25: 1381BL | G25: Weesp | H25: TFSU | I25: 3004087 | J25: 3 | K25: PMD | L25: Bovengronds | M25: 3-haak | N25: 0 | O25: 100 | P25: HMIBOV2012 | Q25: 1600 | R25: 50 | S25: 300 | V25: BVC | W25: 43474.374 | Y25: 44683.488 | Z25: Rob Markesteijn
A26: BKC0047 | B26: =VLOOKUP(A26,'dump '!A:A,1,FALSE) -> BKC0047 | C26: 1382CT902 | D26: Lageweyselaan | E26: 9 | F26: 1382CT | G26: Weesp | H26: TFSU | I26: 3004073 | J26: 3 | K26: PMD | L26: Bovengronds | M26: 3-haak | N26: 0 | O26: 100 | P26: BAMBOV2012 | Q26: 1600 | R26: 50 | S26: 300 | V26: BVC | W26: 43474.374 | Y26: 44683.488 | Z26: Rob Markesteijn
A27: BKC0049 | B27: =VLOOKUP(A27,'dump '!A:A,1,FALSE) -> #N/A | H27: TFSU | I27: 3004692 | J27: 3 | K27: PMD | L27: Bovengronds | M27: 3-haak | N27: 0 | O27: 100 | P27: HMIBOV2012 | Q27: 1591 | R27: 50 | S27: 301 | V27: BVC | W27: 43474.374 | Y27: 44683.488 | Z27: Rob Markesteijn
A28: BKC0051 | B28: =VLOOKUP(A28,'dump '!A:A,1,FALSE) -> #N/A | H28: TBSU | J28: 3 | K28: PMD | L28: Bovengronds | M28: 3-haak | N28: 0 | O28: 100 | P28: BAMBOV2012 | Q28: 1600 | R28: 50 | S28: 300 | V28: BVC | W28: 43474.374 | Y28: 44683.488 | Z28: Rob Markesteijn
A29: BKC0053 | B29: =VLOOKUP(A29,'dump '!A:A,1,FALSE) -> BKC0053 | C29: 1223MV1303 | D29: Joop Stokkermansstraat | E29: 13 | F29: 1223MV | G29: Hilversum | H29: TFSU | I29: 3004682 | J29: 3 | K29: PMD | L29: Bovengronds | M29: 3-haak | N29: 0 | O29: 100 | P29: SULBOV204 | Q29: 1600 | R29: 50 | S29: 300 | V29: BVC | W29: 43474.374 | Y29: 44683.488 | Z29: Rob Markesteijn
A30: BKC0054 | B30: =VLOOKUP(A30,'dump '!A:A,1,FALSE) -> BKC0054 | C30: 1382SZ1601 | D30: E. du Perronstraat | E30: 16 | F30: 1382SZ | G30: Weesp | H30: TFSU | I30: 3004351 | J30: 3 | K30: PMD | L30: Bovengronds | M30: 3-haak | N30: 0 | O30: 100 | P30: HMIBOV2012 | Q30: 1590 | R30: 50 | S30: 300 | V30: BVC | W30: 43474.374 | Y30: 44683.488 | Z30: Rob Markesteijn
A31: BKC0055 | B31: =VLOOKUP(A31,'dump '!A:A,1,FALSE) -> #N/A | H31: TFSU | I31: 3004350 | J31: 3 | K31: PMD | L31: Bovengronds | M31: 3-haak | N31: 0 | O31: 100 | P31: BAMBOV2013 | Q31: 1600 | R31: 50 | S31: 302 | V31: BVC | W31: 43474.374 | Y31: 44683.489 | Z31: Rob Markesteijn
A32: BKC0056 | B32: =VLOOKUP(A32,'dump '!A:A,1,FALSE) -> BKC0056 | C32: 1231CN9601 | D32: Lindelaan | E32: 96B | F32: 1231CN | G32: Loosdrecht | H32: TFSU | I32: 3004607 | J32: 3 | K32: PMD | L32: Bovengronds | M32: 3-haak | N32: 0 | O32: 100 | P32: BAMBOV2012 | Q32: 1600 | R32: 50 | S32: 300 | V32: BVC | W32: 43636.617 | X32: Marco Broekhoff | Y32: 44683.489 | Z32: Rob Markesteijn
A33: BKC0057 | B33: =VLOOKUP(A33,'dump '!A:A,1,FALSE) -> BKC0057 | C33: 1398XD101 | D33: Weesperweg | E33: 1 | F33: 1398XD | G33: Muiden | H33: TFSU | I33: 3004079 | J33: 3 | K33: PMD | L33: Bovengronds | M33: 3-haak | N33: 0 | O33: 100 | P33: KLIBOV2010 | Q33: 1590 | R33: 50 | S33: 300 | V33: BVC | W33: 43474.374 | Y33: 44683.489 | Z33: Rob Markesteijn
A34: BKC0058 | B34: =VLOOKUP(A34,'dump '!A:A,1,FALSE) -> BKC0058 | C34: 1381BL4502 | D34: Achtergracht | E34: 45 | F34: 1381BL | G34: Weesp | H34: TFSU | I34: 3004677 | J34: 3 | K34: PMD | L34: Bovengronds | M34: 3-haak | N34: 0 | O34: 100 | P34: SULBOV204 | Q34: 1600 | R34: 50 | S34: 300 | V34: BVC | W34: 43474.374 | Y34: 44683.489 | Z34: Rob Markesteijn
A35: BKC0059 | B35: =VLOOKUP(A35,'dump '!A:A,1,FALSE) -> BKC0059 | C35: 1218GW802 | D35: Zuidermeent | E35: 8 | F35: 1218GW | G35: Hilversum | H35: TFSU | I35: 3004532 | J35: 3 | K35: PMD | L35: Bovengronds | M35: 3-haak | N35: 0 | O35: 100 | P35: BAMBOV2012 | Q35: 1600 | R35: 50 | S35: 300 | V35: BVC | W35: 43474.374 | Y35: 44683.489 | Z35: Rob Markesteijn
A36: BKC0060 | B36: =VLOOKUP(A36,'dump '!A:A,1,FALSE) -> #N/A | H36: TFSU | I36: 3004104 | J36: 3 | K36: PMD | L36: Bovengronds | M36: 3-haak | N36: 0 | O36: 100 | P36: HMIBOV2017 | Q36: 1600 | R36: 50 | S36: 301 | V36: BVC | W36: 43474.374 | Y36: 44683.489 | Z36: Rob Markesteijn
A37: BKC0061 | B37: =VLOOKUP(A37,'dump '!A:A,1,FALSE) -> BKC0061 | C37: 1403GA3401 | D37: Top Naefflaan | E37: 34 | F37: 1403GA | G37: Bussum | H37: TFSU | I37: 3004078 | J37: 3 | K37: PMD | L37: Bovengronds | M37: 3-haak | N37: 0 | O37: 100 | P37: BAMBOV2012 | Q37: 1590 | R37: 50 | S37: 300 | V37: BVC | W37: 43474.374 | Y37: 44683.489 | Z37: Rob Markesteijn
A38: BKC0062 | B38: =VLOOKUP(A38,'dump '!A:A,1,FALSE) -> #N/A | H38: TFSU | I38: 3004670 | J38: 3 | K38: PMD | L38: Bovengronds | M38: 3-haak | N38: 0 | O38: 100 | P38: SULBOV204 | Q38: 1600 | R38: 50 | S38: 300 | V38: BVC | W38: 43474.374 | Y38: 44683.489 | Z38: Rob Markesteijn
A39: BKC0063 | B39: =VLOOKUP(A39,'dump '!A:A,1,FALSE) -> BKC0063 | C39: 1231XK201 | D39: Prinses Marijkestraat | E39: 2 | F39: 1231XK | G39: Loosdrecht | H39: TFSU | I39: 3004347 | J39: 3 | K39: PMD | L39: Bovengronds | M39: 3-haak | N39: 0 | O39: 100 | P39: WTLBOV2011 | Q39: 1400 | R39: 50 | S39: 300 | V39: BVC | W39: 43474.374 | Y39: 44683.49 | Z39: Rob Markesteijn
A40: BKC0064 | B40: =VLOOKUP(A40,'dump '!A:A,1,FALSE) -> BKC0064 | C40: 1223KZ202 | D40: Cor Steijnstraat | E40: 2 | F40: 1223KZ | G40: Hilversum | H40: TFSU | I40: 3004669 | J40: 3 | K40: PMD | L40: Bovengronds | M40: 3-haak | N40: 0 | O40: 100 | P40: BAMBOV2012 | Q40: 1600 | R40: 50 | S40: 300 | V40: BVC | W40: 43677.425 | X40: Marco Broekhoff | Y40: 44683.49 | Z40: Rob Markesteijn
A41: BKC0065 | B41: =VLOOKUP(A41,'dump '!A:A,1,FALSE) -> BKC0065 | C41: 1401GP202 | D41: De Nieuwe Vaart | E41: 2 | F41: 1401GP | G41: Bussum | H41: TFSU | J41: 3 | K41: PMD | L41: Bovengronds | M41: 3-haak | N41: 0 | O41: 100 | P41: BAMBOV2012 | W41: 44719.325 | X41: Rob Markesteijn | Y41: 44719.325 | Z41: Rob Markesteijn
A42: BKC0066 | B42: =VLOOKUP(A42,'dump '!A:A,1,FALSE) -> BKC0066 | C42: 1382CT901 | D42: Lageweyselaan | E42: 9 | F42: 1382CT | G42: Weesp | H42: TFSU | J42: 3 | K42: PMD | L42: Bovengronds | M42: 3-haak | N42: 0 | O42: 100 | P42: ECOBOV2021 | W42: 44369.585 | X42: Rob Markesteijn | Y42: 44683.49 | Z42: Rob Markesteijn
A43: BKC0068 | B43: =VLOOKUP(A43,'dump '!A:A,1,FALSE) -> BKC0068 | C43: 1382EA101 | D43: Boternesserstraat | E43: 1A | F43: 1382EA | G43: Weesp | H43: TFSU | J43: 3 | K43: PMD | L43: Bovengronds | M43: 3-haak | N43: 5 | O43: 100 | P43: ECOBOV2021 | V43: BVC | W43: 44369.587 | X43: Rob Markesteijn | Y43: 44683.49 | Z43: Rob Markesteijn
A44: BKC0069 | B44: =VLOOKUP(A44,'dump '!A:A,1,FALSE) -> BKC0069 | C44: 1403GA3402 | D44: Top Naefflaan | E44: 34 | F44: 1403GA | G44: Bussum | H44: TFSU | I44: 3004683 | J44: 3 | K44: PMD | L44: Bovengronds | M44: 3-haak | N44: 0 | O44: 100 | P44: BAMBOV2012 | Q44: 1590 | R44: 50 | S44: 300 | V44: BVC | W44: 43474.374 | Y44: 44683.49 | Z44: Rob Markesteijn
A45: BKC0070 | B45: =VLOOKUP(A45,'dump '!A:A,1,FALSE) -> BKC0070 | C45: 1412GV702 | D45: Lambertus Hortensiuslaan | E45: 7 | F45: 1412GV | G45: Naarden | H45: TBS | J45: 3 | K45: PMD | L45: Bovengronds | M45: 3-haak | N45: 0 | O45: 100 | P45: KLIBOV2010 | Q45: 1600 | R45: 50 | S45: 301 | V45: BVC | W45: 43635.498 | X45: Marco Broekhoff | Y45: 44683.49 | Z45: Rob Markesteijn
A46: BKC0081 | B46: =VLOOKUP(A46,'dump '!A:A,1,FALSE) -> BKC0081 | C46: 1251MA501 | D46: Plein 1945 | E46: 5 | F46: 1251MA | G46: Laren | H46: TFSU | J46: 3 | K46: PMD | L46: Bovengronds | M46: 3-haak | N46: 0 | O46: 100 | P46: ECOBOV2022 | W46: 44931.401 | X46: Rob Markesteijn | Y46: 44931.401 | Z46: Rob Markesteijn
A47: BO051 | B47: =VLOOKUP(A47,'dump '!A:A,1,FALSE) -> BO051 | C47: 1406TX901 | D47: Waldenlaan | E47: 9 | F47: 1406TX | G47: Bussum | H47: TBSU | I47: 1031019 | J47: 5 | K47: GFT | L47: Ondergronds | M47: 3-haak | N47: 80 | O47: 100 | P47: HMISOL2016 | Q47: 2600 | R47: 50 | S47: 300 | V47: OVC | W47: 43474.374 | Y47: 43474.374
A48: BO052 | B48: =VLOOKUP(A48,'dump '!A:A,1,FALSE) -> #N/A | H48: TBSU | I48: 1017873 | J48: 5 | K48: GFT | L48: Ondergronds | M48: 3-haak | N48: 80 | O48: 100 | P48: HMISOL2017 | Q48: 2550 | R48: 50 | S48: 1000 | V48: OVC | W48: 43474.374 | Y48: 43474.374
A49: BO053 | B49: =VLOOKUP(A49,'dump '!A:A,1,FALSE) -> BO053 | C49: 1411PC2702 | D49: Westwalstraat | E49: 27 | F49: 1411PC | G49: Naarden | H49: TBSU | I49: 1016708 | J49: 5 | K49: GFT | L49: Ondergronds | M49: 3-haak | N49: 80 | O49: 100 | P49: HMISOL2017 | Q49: 2600 | R49: 50 | S49: 300 | V49: OVC | W49: 43474.374 | Y49: 44746.607 | Z49: Rob Markesteijn
A50: BO054 | B50: =VLOOKUP(A50,'dump '!A:A,1,FALSE) -> BO054 | C50: 1411RZ501 | D50: Kooltjesbuurt | E50: 5 | F50: 1411RZ | G50: Naarden | H50: TBSU | I50: 1015857 | J50: 5 | K50: GFT | L50: Ondergronds | M50: 3-haak | N50: 80 | O50: 100 | P50: HMISOL2017 | Q50: 2600 | R50: 50 | S50: 300 | V50: OVC | W50: 43474.374 | Y50: 44746.607 | Z50: Rob Markesteijn
A51: BO055 | B51: =VLOOKUP(A51,'dump '!A:A,1,FALSE) -> BO055 | C51: 1398GA101 | D51: Ton Kootsingel | E51: 1 | F51: 1398GA | G51: Muiden | H51: TBSU | I51: 1018946 | J51: 5 | K51: GFT | L51: Ondergronds | M51: 3-haak | N51: 80 | O51: 100 | P51: HMISOL2017 | Q51: 2600 | R51: 50 | S51: 300 | V51: OVC | W51: 43474.374 | Y51: 44683.49 | Z51: Rob Markesteijn
A52: BO056 | B52: =VLOOKUP(A52,'dump '!A:A,1,FALSE) -> BO056 | C52: 1211GJ4101 | D52: Prins Bernhardstraat | E52: 41 | F52: 1211GJ | G52: Hilversum | H52: TBSU | I52: 1034632 | J52: 5 | K52: GFT | L52: Ondergronds | M52: 3-haak | N52: 80 | O52: 100 | P52: BAMRUB2014 | Q52: 2500 | R52: 50 | S52: 300 | V52: OVC | W52: 43474.374 | Y52: 43474.374
A53: BO057 | B53: =VLOOKUP(A53,'dump '!A:A,1,FALSE) -> BO057 | C53: 1403RE5801 | D53: Beeklaan | E53: 58 | F53: 1403RE | G53: Bussum | H53: TBSU | I53: 1031049 | J53: 5 | K53: GFT | L53: Ondergronds | M53: 3-haak | N53: 80 | O53: 100 | P53: HMISOL2016 | Q53: 1300 | R53: 50 | S53: 300 | V53: OVC | W53: 43474.374 | Y53: 43474.374
A54: BO058 | B54: =VLOOKUP(A54,'dump '!A:A,1,FALSE) -> BO058 | C54: 1211RZ7401 | D54: Brinkweg | E54: 74 | F54: 1211RZ | G54: Hilversum | H54: TBSU | I54: 1031015 | J54: 5 | K54: GFT | L54: Ondergronds | M54: 3-haak | N54: 80 | O54: 100 | P54: HMISOL2017 | Q54: 1300 | R54: 50 | S54: 300 | V54: OVC | W54: 43474.374 | Y54: 44683.491 | Z54: Rob Markesteijn
A55: BO059 | B55: =VLOOKUP(A55,'dump '!A:A,1,FALSE) -> BO059 | C55: 1403PJ10901 | D55: Weidehof | E55: 109 | F55: 1403PJ | G55: Bussum | H55: TBSU | I55: 1018902 | J55: 5 | K55: GFT | L55: Ondergronds | M55: 3-haak | N55: 80 | O55: 100 | P55: HMISOL2016 | Q55: 1300 | R55: 50 | S55: 300 | V55: OVC | W55: 43474.374 | Y55: 43474.374
A56: BO060 | B56: =VLOOKUP(A56,'dump '!A:A,1,FALSE) -> BO060 | C56: 1411RC201 | D56: Adriaan Dortsmanplein | E56: 2 | F56: 1411RC | G56: Naarden | H56: TBSU | I56: 1016211 | J56: 5 | K56: GFT | L56: Ondergronds | M56: 3-haak | N56: 80 | O56: 100 | P56: HMISOL2017 | Q56: 2600 | R56: 50 | S56: 300 | V56: OVC | W56: 43474.374 | Y56: 44746.607 | Z56: Rob Markesteijn
A57: BO061 | B57: =VLOOKUP(A57,'dump '!A:A,1,FALSE) -> BO061 | C57: 1211BG202 | D57: Noordse Bosje | E57: 2B | F57: 1211BG | G57: Hilversum | H57: TBSU | I57: 1017889 | J57: 5 | K57: GFT | L57: Ondergronds | M57: 3-haak | N57: 80 | O57: 100 | P57: BAMRUB2016 | Q57: 1300 | R57: 50 | S57: 300 | V57: OVC | W57: 43474.374 | Y57: 43474.374
A58: BO062 | B58: =VLOOKUP(A58,'dump '!A:A,1,FALSE) -> BO062 | C58: 1411RA101 | D58: Peperstraat | E58: 1 | F58: 1411RA | G58: Naarden | H58: TBSU | I58: 1019862 | J58: 5 | K58: GFT | L58: Ondergronds | M58: 3-haak | N58: 80 | O58: 100 | P58: HMISOL2017 | Q58: 1300 | R58: 50 | S58: 300 | V58: OVC | W58: 43474.374 | Y58: 44746.607 | Z58: Rob Markesteijn
A59: BO063 | B59: =VLOOKUP(A59,'dump '!A:A,1,FALSE) -> BO063 | C59: 1211BS1601 | D59: 's-Gravelandseweg | E59: 16B | F59: 1211BS | G59: Hilversum | H59: TBSU | I59: 1017876 | J59: 5 | K59: GFT | L59: Ondergronds | M59: 3-haak | N59: 80 | O59: 100 | P59: HMISOL2016 | Q59: 2600 | R59: 50 | S59: 300 | V59: OVC | W59: 43474.374 | Y59: 43474.374
A60: BO064 | B60: =VLOOKUP(A60,'dump '!A:A,1,FALSE) -> BO064 | C60: 1211KW3804 | D60: Ruitersweg | E60: 38 | F60: 1211KW | G60: Hilversum | H60: TBSU | I60: 1017315 | J60: 5 | K60: GFT | L60: Ondergronds | M60: 3-haak | N60: 80 | O60: 100 | P60: HMISOL2017 | Q60: 2600 | R60: 50 | S60: 300 | V60: OVC | W60: 43669.644 | X60: Marco Broekhoff | Y60: 43669.644 | Z60: Marco Broekhoff
A61: BO065 | B61: =VLOOKUP(A61,'dump '!A:A,1,FALSE) -> BO065 | C61: 1398DL304 | D61: Waterlinie | E61: 3 | F61: 1398DL | G61: Muiden | H61: TBSU | I61: 1030351 | J61: 5 | K61: GFT | L61: OGDUO | M61: 3-haak | N61: 60 | O61: 100 | P61: HMIDUO2020 | Q61: 1300 | R61: 50 | S61: 300 | V61: OVC-DUO | W61: 44145.637 | X61: Rob Markesteijn | Y61: 44145.638 | Z61: Rob Markesteijn
A62: BO066 | B62: =VLOOKUP(A62,'dump '!A:A,1,FALSE) -> BO066 | C62: 1221CD11505 | D62: Verbindingslaan | E62: 115 | F62: 1221CD | G62: Hilversum | H62: TBSU | I62: 1030543 | J62: 5 | K62: GFT | L62: OGDUO | M62: 3-haak | N62: 60 | O62: 100 | P62: HMIDUO2021 | Q62: 2700 | R62: 50 | S62: 300 | V62: OVC-DUO | W62: 44328.595 | X62: Rob Markesteijn | Y62: 44328.595 | Z62: Rob Markesteijn
A63: BO067 | B63: =VLOOKUP(A63,'dump '!A:A,1,FALSE) -> BO067 | C63: 1221CD205 | D63: Verbindingslaan | E63: 2 | F63: 1221CD | G63: Hilversum | H63: TBSU | I63: 1036997 | J63: 5 | K63: GFT | L63: OGDUO | M63: 3-haak | N63: 60 | O63: 100 | P63: HMIDUO2021 | Q63: 2600 | R63: 50 | S63: 300 | V63: OVC-DUO | W63: 44328.599 | X63: Rob Markesteijn | Y63: 44328.599 | Z63: Rob Markesteijn
A64: BO071 | B64: =VLOOKUP(A64,'dump '!A:A,1,FALSE) -> BO071 | C64: 1398DC4602 | D64: Rietpolderlaan | E64: 46 | F64: 1398DC | G64: Muiden | H64: TBSU | I64: 1030326 | J64: 5 | K64: GFT | L64: OGDUO | M64: 3-haak | N64: 60 | O64: 100 | P64: HMIDUO2020 | Q64: 2700 | R64: 50 | S64: 300 | V64: OVC-DUO | W64: 43973.434 | X64: Marco Broekhoff | Y64: 43973.434 | Z64: Marco Broekhoff
A65: BO072 | B65: =VLOOKUP(A65,'dump '!A:A,1,FALSE) -> BO072 | C65: 1398DC4606 | D65: Rietpolderlaan | E65: 46 | F65: 1398DC | G65: Muiden | H65: TBSU | I65: 1030357 | J65: 5 | K65: GFT | L65: OGDUO | M65: 3-haak | N65: 60 | O65: 100 | P65: HMIDUO2020 | Q65: 2600 | R65: 50 | S65: 300 | V65: OVC-DUO | W65: 43973.435 | X65: Marco Broekhoff | Y65: 43973.435 | Z65: Marco Broekhoff
A66: Contrade 130 | B66: =VLOOKUP(A66,'dump '!A:A,1,FALSE) -> #N/A | H66: UNKN | J66: 3 | K66: GLAS | L66: Bovengronds | M66: 3-haak | N66: 0 | O66: 100 | P66: Onbekend | V66: Bol | W66: 44726.63 | X66: Rob Markesteijn | Y66: 44726.63 | Z66: Rob Markesteijn
A67: Contrade 131 | B67: =VLOOKUP(A67,'dump '!A:A,1,FALSE) -> #N/A | H67: UNKN | J67: 3 | K67: GLAS | L67: Bovengronds | M67: 3-haak | N67: 0 | O67: 100 | P67: Onbekend | V67: Bol | W67: 44726.63 | X67: Rob Markesteijn | Y67: 44726.63 | Z67: Rob Markesteijn
A68: GB002 | B68: =VLOOKUP(A68,'dump '!A:A,1,FALSE) -> GB002 | C68: 1383AX1801 | D68: Begijnepolderweg | E68: 18 | F68: 1383AX | G68: Weesp | H68: UNKN | J68: 3 | K68: GLAS | L68: Bovengronds | M68: 3-haak | N68: 0 | O68: 100 | P68: Onbekend | V68: Bol | W68: 44713.511 | X68: Rob Markesteijn | Y68: 44713.511 | Z68: Rob Markesteijn
A69: GB003 | B69: =VLOOKUP(A69,'dump '!A:A,1,FALSE) -> GB003 | C69: 1381ES501 | D69: J.A. Fijnvandraatlaan | E69: 5 | F69: 1381ES | G69: Weesp | H69: UNKN | J69: 3 | K69: GLAS | L69: Bovengronds | M69: 3-haak | N69: 0 | O69: 100 | P69: Onbekend | V69: Bol | W69: 44713.511 | X69: Rob Markesteijn | Y69: 44713.511 | Z69: Rob Markesteijn
A70: GB004 | B70: =VLOOKUP(A70,'dump '!A:A,1,FALSE) -> GB004 | C70: 1381GC1201 | D70: M. Dotingalaan | E70: 12 | F70: 1381GC | G70: Weesp | H70: UNKN | J70: 3 | K70: GLAS | L70: Bovengronds | M70: 3-haak | N70: 0 | O70: 100 | P70: Onbekend | V70: Bol | W70: 44713.511 | X70: Rob Markesteijn | Y70: 44713.511 | Z70: Rob Markesteijn
A71: GB008 | B71: =VLOOKUP(A71,'dump '!A:A,1,FALSE) -> GB008 | C71: 1381VV7003 | D71: Hoogstraat | E71: 70 | F71: 1381VV | G71: Weesp | H71: UNKN | J71: 3 | K71: GLAS | L71: Bovengronds | M71: 3-haak | N71: 0 | O71: 100 | P71: Onbekend | V71: Bol | W71: 44713.511 | X71: Rob Markesteijn | Y71: 44713.511 | Z71: Rob Markesteijn
A72: GB012 | B72: =VLOOKUP(A72,'dump '!A:A,1,FALSE) -> GB012 | C72: 1382CS83102 | D72: Ingelandenstraat | E72: 831 | F72: 1382CS | G72: Weesp | H72: UNKN | J72: 3 | K72: GLAS | L72: Bovengronds | M72: 3-haak | N72: 0 | O72: 100 | P72: Onbekend | V72: Bol | W72: 44713.511 | X72: Rob Markesteijn | Y72: 44713.511 | Z72: Rob Markesteijn
A73: GB015 | B73: =VLOOKUP(A73,'dump '!A:A,1,FALSE) -> GB015 | C73: 1382LE101 | D73: Nijverheidslaan | E73: 1C | F73: 1382LE | G73: Weesp | H73: UNKN | J73: 3 | K73: GLAS | L73: Bovengronds | M73: 3-haak | N73: 0 | O73: 100 | P73: Onbekend | V73: Bol | W73: 44713.511 | X73: Rob Markesteijn | Y73: 44713.511 | Z73: Rob Markesteijn
A74: GB016 | B74: =VLOOKUP(A74,'dump '!A:A,1,FALSE) -> GB016 | C74: 1382LE102 | D74: Nijverheidslaan | E74: 1C | F74: 1382LE | G74: Weesp | H74: UNKN | J74: 3 | K74: GLAS | L74: Bovengronds | M74: 3-haak | N74: 0 | O74: 100 | P74: Onbekend | V74: Bol | W74: 44713.512 | X74: Rob Markesteijn | Y74: 44713.512 | Z74: Rob Markesteijn
A75: GB017 | B75: =VLOOKUP(A75,'dump '!A:A,1,FALSE) -> GB017 | C75: 1382LE103 | D75: Nijverheidslaan | E75: 1C | F75: 1382LE | G75: Weesp | H75: UNKN | J75: 3 | K75: GLAS | L75: Bovengronds | M75: 3-haak | N75: 0 | O75: 100 | P75: Onbekend | V75: Bol | W75: 44713.512 | X75: Rob Markesteijn | Y75: 44713.512 | Z75: Rob Markesteijn
A76: GB018 | B76: =VLOOKUP(A76,'dump '!A:A,1,FALSE) -> GB018 | C76: 1382MJ4801 | D76: Lobbrich Boudgerslaan | E76: 48 | F76: 1382MJ | G76: Weesp | H76: UNKN | J76: 3 | K76: GLAS | L76: Bovengronds | M76: 3-haak | N76: 0 | O76: 100 | P76: Onbekend | V76: Bol | W76: 44713.512 | X76: Rob Markesteijn | Y76: 44713.512 | Z76: Rob Markesteijn
A77: GB019 | B77: =VLOOKUP(A77,'dump '!A:A,1,FALSE) -> GB019 | C77: 1398XH201 | D77: Constantijn Huygenslaan | E77: 2 | F77: 1398XH | G77: Muiden | H77: UNKN | J77: 3 | K77: GLAS | L77: Bovengronds | M77: 3-haak | N77: 0 | O77: 100 | P77: Onbekend | V77: Bol | W77: 44683.509 | X77: Rob Markesteijn | Y77: 44684.601 | Z77: Rob Markesteijn
A78: GB020 | B78: =VLOOKUP(A78,'dump '!A:A,1,FALSE) -> GB020 | C78: 1399VR101 | D78: Naarderstraatweg | E78: 1 | F78: 1399VR | G78: Muiderberg | H78: UNKN | J78: 3 | K78: GLAS | L78: Bovengronds | M78: 3-haak | N78: 0 | O78: 100 | P78: Onbekend | V78: Bol | W78: 44705.553 | X78: Rob Markesteijn | Y78: 44705.553 | Z78: Rob Markesteijn
A79: GB022 | B79: =VLOOKUP(A79,'dump '!A:A,1,FALSE) -> GB022 | C79: 1399GE1501 | D79: Ruysdaellaan | E79: 15 | F79: 1399GE | G79: Muiderberg | H79: UNKN | J79: 3 | K79: GLAS | L79: Bovengronds | M79: 3-haak | N79: 0 | O79: 100 | P79: Onbekend | V79: Bol | W79: 44705.553 | X79: Rob Markesteijn | Y79: 44705.553 | Z79: Rob Markesteijn
... A84: GB029 | B84: =VLOOKUP(A84,'dump '!A:A,1,FALSE) -> GB029 | C84: 1401GP201 | D84: De Nieuwe Vaart | E84: 2 | F84: 1401GP | G84: Bussum | H84: UNKN | J84: 3 | K84: GLAS | L84: Bovengronds | M84: 3-haak | N84: 0 | O84: 100 | P84: Onbekend | V84: Bol | W84: 44684.472 | X84: Rob Markesteijn | Y84: 44684.472 | Z84: Rob Markesteijn
A85: GB030 | B85: =VLOOKUP(A85,'dump '!A:A,1,FALSE) -> #N/A | H85: UNKN | J85: 3 | K85: GLAS | L85: Bovengronds | M85: 3-haak | N85: 0 | O85: 100 | P85: Onbekend | V85: Bol | W85: 44684.472 | X85: Rob Markesteijn | Y85: 44684.472 | Z85: Rob Markesteijn
A86: GB031 | B86: =VLOOKUP(A86,'dump '!A:A,1,FALSE) -> GB031 | C86: 1401GP203 | D86: De Nieuwe Vaart | E86: 2 | F86: 1401GP | G86: Bussum | H86: UNKN | J86: 3 | K86: GLAS | L86: Bovengronds | M86: 3-haak | N86: 0 | O86: 100 | P86: Onbekend | V86: Bol | W86: 44684.472 | X86: Rob Markesteijn | Y86: 44684.472 | Z86: Rob Markesteijn
A87: GB033 | B87: =VLOOKUP(A87,'dump '!A:A,1,FALSE) -> GB033 | C87: 1402BJ2001 | D87: Laarderweg | E87: 20 | F87: 1402BJ | G87: Bussum | H87: UNKN | J87: 3 | K87: GLAS | L87: Bovengronds | M87: 3-haak | N87: 0 | O87: 100 | P87: Onbekend | V87: Bol | W87: 44684.476 | X87: Rob Markesteijn | Y87: 44684.476 | Z87: Rob Markesteijn
A88: GB034 | B88: =VLOOKUP(A88,'dump '!A:A,1,FALSE) -> GB034 | C88: 1402BJ2002 | D88: Laarderweg | E88: 20 | F88: 1402BJ | G88: Bussum | H88: UNKN | J88: 3 | K88: GLAS | L88: Bovengronds | M88: 3-haak | N88: 0 | O88: 100 | P88: Onbekend | V88: Bol | W88: 44684.477 | X88: Rob Markesteijn | Y88: 44684.477 | Z88: Rob Markesteijn
A89: GB036 | B89: =VLOOKUP(A89,'dump '!A:A,1,FALSE) -> GB036 | C89: 1404CV2901 | D89: Veldweg | E89: 29 | F89: 1404CV | G89: Bussum | H89: UNKN | J89: 3 | K89: GLAS | L89: Bovengronds | M89: 3-haak | N89: 0 | O89: 100 | P89: Onbekend | V89: Bol | W89: 44684.487 | X89: Rob Markesteijn | Y89: 44684.487 | Z89: Rob Markesteijn
A90: GB037 | B90: =VLOOKUP(A90,'dump '!A:A,1,FALSE) -> GB037 | C90: 1406NB5901 | D90: Nieuwe 's-Gravelandseweg | E90: 59 | F90: 1406NB | G90: Bussum | H90: UNKN | J90: 3 | K90: GLAS | L90: Bovengronds | M90: 3-haak | N90: 0 | O90: 100 | P90: Onbekend | V90: Bol | W90: 44684.493 | X90: Rob Markesteijn | Y90: 44684.493 | Z90: Rob Markesteijn
A91: GB038 | B91: =VLOOKUP(A91,'dump '!A:A,1,FALSE) -> GB038 | C91: 1398CP1501 | D91: Kruitpad | E91: 15 | F91: 1398CP | G91: Muiden | H91: UNKN | J91: 3 | K91: GLAS | L91: Bovengronds | M91: 3-haak | N91: 0 | O91: 100 | P91: Onbekend | V91: Bol | W91: 44684.505 | X91: Rob Markesteijn | Y91: 44684.505 | Z91: Rob Markesteijn
A92: GB042 | B92: =VLOOKUP(A92,'dump '!A:A,1,FALSE) -> GB042 | C92: 1276XZ201 | D92: Bovenweg | E92: 2 | F92: 1276XZ | G92: Huizen | H92: UNKN | J92: 3 | K92: GLAS | L92: Bovengronds | M92: 3-haak | N92: 0 | O92: 100 | P92: Onbekend | V92: Bol | W92: 44700.575 | X92: Rob Markesteijn | Y92: 44700.575 | Z92: Rob Markesteijn
A93: GB043 | B93: =VLOOKUP(A93,'dump '!A:A,1,FALSE) -> GB043 | C93: 1402TH5702 | D93: Voormeulenweg | E93: 57 | F93: 1402TH | G93: Bussum | H93: UNKN | J93: 3 | K93: GLAS | L93: Bovengronds | M93: 3-haak | N93: 0 | O93: 100 | P93: Onbekend | V93: Bol | W93: 44684.506 | X93: Rob Markesteijn | Y93: 44684.506 | Z93: Rob Markesteijn
A94: GB044 | B94: =VLOOKUP(A94,'dump '!A:A,1,FALSE) -> GB044 | C94: 1271AC4101 | D94: Havenstraat | E94: 41 | F94: 1271AC | G94: Huizen | H94: UNKN | J94: 3 | K94: GLAS | L94: Bovengronds | M94: 3-haak | N94: 0 | O94: 100 | P94: Onbekend | V94: Bol | W94: 44700.575 | X94: Rob Markesteijn | Y94: 44700.575 | Z94: Rob Markesteijn
A95: GB045 | B95: =VLOOKUP(A95,'dump '!A:A,1,FALSE) -> GB045 | C95: 1394JJ1002 | D95: Meerhoekweg | E95: 10A | F95: 1294JJ | G95: Nederhorst den Berg | H95: UNKN | J95: 3 | K95: GLAS | L95: Bovengronds | M95: 3-haak | N95: 0 | O95: 100 | P95: Onbekend | V95: Bol | W95: 44711.459 | X95: Rob Markesteijn | Y95: 44711.459 | Z95: Rob Markesteijn
A96: GB046 | B96: =VLOOKUP(A96,'dump '!A:A,1,FALSE) -> GB046 | C96: 1271AL1301 | D96: Ambachtsweg | E96: 13 | F96: 1271AL | G96: Huizen | H96: UNKN | J96: 3 | K96: GLAS | L96: Bovengronds | M96: 3-haak | N96: 0 | O96: 100 | P96: Onbekend | V96: Bol | W96: 44700.575 | X96: Rob Markesteijn | Y96: 44700.575 | Z96: Rob Markesteijn
A97: GB047 | B97: =VLOOKUP(A97,'dump '!A:A,1,FALSE) -> GB047 | C97: 1271AL1302 | D97: Ambachtsweg | E97: 13 | F97: 1271AL | G97: Huizen | H97: UNKN | J97: 3 | K97: GLAS | L97: Bovengronds | M97: 3-haak | N97: 0 | O97: 100 | P97: Onbekend | V97: Bol | W97: 44700.575 | X97: Rob Markesteijn | Y97: 44700.575 | Z97: Rob Markesteijn
... A123: GB076 | B123: =VLOOKUP(A123,'dump '!A:A,1,FALSE) -> GB076 | C123: 1213VJ101 | D123: Curacaolaan | E123: 1 | F123: 1213VJ | G123: Hilversum | H123: UNKN | J123: 3 | K123: GLAS | L123: Bovengronds | M123: 3-haak | N123: 0 | O123: 100 | P123: Onbekend | V123: Bol | W123: 44697.542 | X123: Rob Markesteijn | Y123: 44697.542 | Z123: Rob Markesteijn
A124: GB077 | B124: =VLOOKUP(A124,'dump '!A:A,1,FALSE) -> #N/A | H124: UNKN | J124: 3 | K124: GLAS | L124: Bovengronds | M124: 3-haak | N124: 0 | O124: 100 | P124: Onbekend | V124: Bol | W124: 44697.542 | X124: Rob Markesteijn | Y124: 44697.542 | Z124: Rob Markesteijn
A125: GB078 | B125: =VLOOKUP(A125,'dump '!A:A,1,FALSE) -> #N/A | H125: UNKN | J125: 3 | K125: GLAS | L125: Bovengronds | M125: 3-haak | N125: 0 | O125: 100 | P125: Onbekend | V125: Bol | W125: 44683.509 | X125: Rob Markesteijn | Y125: 44684.601 | Z125: Rob Markesteijn
A126: GB079 | B126: =VLOOKUP(A126,'dump '!A:A,1,FALSE) -> #N/A | H126: UNKN | J126: 3 | K126: GLAS | L126: Bovengronds | M126: 3-haak | N126: 0 | O126: 100 | P126: Onbekend | V126: Bol | W126: 44683.51 | X126: Rob Markesteijn | Y126: 44684.601 | Z126: Rob Markesteijn
A127: GB080 | B127: =VLOOKUP(A127,'dump '!A:A,1,FALSE) -> GB080 | C127: 1217BN6701 | D127: Bussummergrintweg | E127: 67 | F127: 1217BN | G127: Hilversum | H127: UNKN | J127: 3 | K127: GLAS | L127: Bovengronds | M127: 3-haak | N127: 0 | O127: 100 | P127: Onbekend | V127: Bol | W127: 44697.568 | X127: Rob Markesteijn | Y127: 44697.568 | Z127: Rob Markesteijn
A128: GB085 | B128: =VLOOKUP(A128,'dump '!A:A,1,FALSE) -> GB085 | C128: 1231VX2101 | D128: Godelindelaan | E128: 21 | F128: 1231VX | G128: Loosdrecht | H128: UNKN | J128: 3 | K128: GLAS | L128: Bovengronds | M128: 3-haak | N128: 0 | O128: 100 | P128: Onbekend | V128: Bol | W128: 44705.511 | X128: Rob Markesteijn | Y128: 44705.511 | Z128: Rob Markesteijn
A129: GB086 | B129: =VLOOKUP(A129,'dump '!A:A,1,FALSE) -> GB086 | C129: 1231CN6902 | D129: Lindelaan | E129: 96B | F129: 1231CN | G129: Loosdrecht | H129: UNKN | J129: 3 | K129: GLAS | L129: Bovengronds | M129: 3-haak | N129: 0 | O129: 100 | P129: Onbekend | V129: Bol | W129: 44705.511 | X129: Rob Markesteijn | Y129: 44705.511 | Z129: Rob Markesteijn
...

Sheet Uitleg
C1: aantal
A2: Basis | B2: is begin aantal nu 1870 LOCATIE NRS | C2: 1870 | E2: =COUNTA('Te gebruiken Rein'!J2:J1950) -> 1870 | F2: totaal
A3: Dump | B3: export uit Tardif dumplocations overzicht van alle apparaten nu 1940 | C3: 1940 | E3: =COUNTIF('Te gebruiken Rein'!$G2:$G1900,"Ankeveen") -> 5 | F3: Ankeveen
E4: =COUNTIF('Te gebruiken Rein'!$G2:$G1900,"Blaricum") -> 59 | F4: Blaricum
B5: containers zonder nummer (space) | C5: =SUM(C3-C2) -> 70 | E5: =COUNTIF('Te gebruiken Rein'!$G2:$G1900,"Bussum") -> 280 | F5: Bussum
A6: containers | C6: 2007 | E6: =COUNTIF('Te gebruiken Rein'!$G2:$G1900,"Hilversum") -> 675 | F6: Hilversum
B7: verschil containers met dump | C7: =SUM(C6-C3) -> 67 | E7: =COUNTIF('Te gebruiken Rein'!$G2:$G1804,"Huizen") -> 354 | F7: Huizen
E8: =COUNTIF('Te gebruiken Rein'!$G2:$G1900,"Kortenhoef") -> 19 | F8: Kortenhoef
E9: =COUNTIF('Te gebruiken Rein'!$G2:$G1900,"Laren") -> 84 | F9: Laren
A10: dump | B10: verplaatst kolom dumplocation na loctienr | E10: =COUNTIF('Te gebruiken Rein'!$G2:$G1900,"Loosdrecht") -> 48 | F10: Loosdrecht
E11: =COUNTIF('Te gebruiken Rein'!$G2:$G1900,"Muiden") -> 54 | F11: Muiden
E12: =COUNTIF('Te gebruiken Rein'!$G2:$G1809,"Muiderberg") -> 13 | F12: Muiderberg
E13: =COUNTIF('Te gebruiken Rein'!$G2:$G1900,"Naarden") -> 105 | F13: Naarden
E14: =COUNTIF('Te gebruiken Rein'!$G2:$G1900,"Nederhorst den Berg") -> 24 | F14: Nederhorst den Berg
E15: =COUNTIF('Te gebruiken Rein'!$G2:$G1900,"'s-Graveland") -> 6 | F15: 's-Graveland
E16: =COUNTIF('Te gebruiken Rein'!$G2:$G1900,"Weesp") -> 144 | F16: Weesp
E18: =SUM(E3:E16) -> 1870 | F18: totaal

Sheet VB Vincent
A1: ContainerName | B1: DumpLocationName | C1: Street | D1: HouseNumber | E1: Postalcode | F1: City | G1: DeviceType | H1: Unit_Id | I1: Capacity | J1: Fraction | K1: Description | L1: LiftFrameType | M1: Litres | N1: MaxDumpCount | O1: Manufacturer | P1: ContainerHeightInMM | Q1: FillSensorFullDistanceMarginInMM | R1: FillSensorInstallationHeightInMM | S1: SensorType | T1: SerialNumber | U1: Type | V1: CreatedOn | W1: CreatedByPerson | X1: UpdatedOn | Y1: UpdatedByPerson | AA1: datum reinigen | AB1: graffiti ja/nee | AC1: onderhoud nodig | AD1: status algemeen og | AE1: opmerking | AF1: omgeving schoon | AG1: status lak
A2: VO125 | G2: TBSU | I2: 5 | J2: PMD | K2: Ondergronds | L2: 3-haak | M2: 80 | N2: 100 | O2: HMISOL2017 | P2: 2600 | Q2: 50 | R2: 304 | U2: OVC | V2: 43474.374 | X2: 43474.374
A3: RO358 | G3: TBSU | I3: 5 | J3: REST | K3: Ondergronds | L3: 3-haak | M3: 80 | N3: 100 | O3: BAMRUB2014 | P3: 2500 | Q3: 50 | R3: 403 | U3: OVC | V3: 43474.374 | X3: 43474.374
A4: RO359 | G4: TBSU | I4: 5 | J4: REST | K4: Ondergronds | L4: 3-haak | M4: 80 | N4: 100 | O4: WTLBOV2011 | P4: 1400 | Q4: 50 | R4: 300 | U4: OVC | V4: 43474.374 | X4: 43474.374
A5: RO323 | G5: TBSU | I5: 5 | J5: REST | K5: Ondergronds | L5: 3-haak | M5: 80 | N5: 100 | O5: BAMRUB2014 | P5: 2500 | Q5: 50 | R5: 403 | U5: OVC | V5: 43474.374 | X5: 43474.374
A6: RO413 | G6: TBSU | I6: 5 | J6: REST | K6: Ondergronds | L6: 3-haak | M6: 80 | N6: 100 | O6: HMISOL2017 | P6: 2600 | Q6: 50 | R6: 302 | U6: OVC | V6: 43474.374 | X6: 43474.374
A7: RO476 | G7: TBSU | I7: 5 | J7: REST | K7: Ondergronds | L7: 3-haak | M7: 80 | N7: 100 | O7: HMISOL2017 | P7: 2600 | Q7: 50 | R7: 300 | U7: OVC | V7: 43474.374 | X7: 43474.374
A8: RO475 | G8: TBSU | I8: 5 | J8: REST | K8: Ondergronds | L8: 3-haak | M8: 80 | N8: 100 | O8: HMISOL2017 | P8: 2600 | Q8: 50 | R8: 300 | U8: OVC | V8: 43474.374 | X8: 43474.374
A9: RO477 | G9: TBSU | I9: 5 | J9: REST | K9: Ondergronds | L9: 3-haak | M9: 80 | N9: 100 | O9: HMISOL2017 | P9: 2600 | Q9: 50 | R9: 300 | U9: OVC | V9: 43474.374 | X9: 43474.374
A10: RO478 | G10: TBSU | I10: 5 | J10: REST | K10: Ondergronds | L10: 3-haak | M10: 80 | N10: 100 | O10: HMISOL2017 | P10: 2600 | Q10: 50 | R10: 300 | U10: OVC | V10: 43474.374 | X10: 43474.374
A11: RO401 | G11: TBSU | I11: 5 | J11: REST | K11: Ondergronds | L11: 3-haak | M11: 80 | N11: 100 | O11: HMISOL2016 | P11: 2600 | Q11: 50 | R11: 300 | U11: OVC | V11: 43474.374 | X11: 43474.374
A12: RO458 | G12: TBSU | I12: 5 | J12: REST | K12: Ondergronds | L12: 3-haak | M12: 80 | N12: 100 | O12: HMISOL2017 | P12: 2600 | Q12: 50 | R12: 302 | U12: OVC | V12: 43474.374 | X12: 43474.374
A13: RO460 | G13: TBSU | I13: 5 | J13: REST | K13: Ondergronds | L13: 3-haak | M13: 80 | N13: 100 | O13: HMISOL2017 | P13: 2600 | Q13: 50 | R13: 302 | U13: OVC | V13: 43474.374 | X13: 43474.374
... A21: VO073 | G21: TBSU | I21: 5 | J21: PMD | K21: Ondergronds | L21: 3-haak | M21: 80 | N21: 100 | O21: HMISOL2017 | P21: 2600 | Q21: 50 | R21: 301 | U21: OVC | V21: 43474.374 | X21: 43474.374
A22: VO024 | B22: 1211LZ1203 | C22: Kapelstraat | D22: 12 | E22: 1211LZ | F22: Hilversum | G22: TBS | I22: 5 | J22: PMD | K22: Ondergronds | L22: Pers | M22: 80 | N22: 100 | O22: SIDCON_PERS | U22: OVC-Pers | V22: 43474.374 | X22: 43474.374
A23: VO025 | B23: 1212AR14101 | C23: Olivier van Noortstraat | D23: 141 | E23: 1212AR | F23: Hilversum | G23: TBS | I23: 5 | J23: PMD | K23: Ondergronds | L23: Pers | M23: 80 | N23: 100 | O23: SIDCON_PERS | U23: OVC-Pers | V23: 43474.374 | X23: 43474.374
A24: RO1010 | B24: 1403HE20901 | C24: Aagje Dekenlaan | D24: 209 | E24: 1403HE | F24: Bussum | G24: TBSU | H24: 1038398 | I24: 6 | J24: REST | K24: OGDUO | L24: 3-haak | M24: 60 | N24: 100 | O24: HMIDUO2022 | P24: 2500 | Q24: 50 | R24: 300 | U24: OVC-DUO | V24: 44852.526 | W24: Rob Markesteijn | X24: 44858.434 | Y24: Rob Markesteijn
A25: VO493 | B25: 1403HE20902 | C25: Aagje Dekenlaan | D25: 209 | E25: 1403HE | F25: Bussum | G25: TBSU | H25: 1038401 | I25: 6 | J25: PMD | K25: OGDUO | L25: 3-haak | M25: 60 | N25: 100 | O25: HMIDUO2022 | P25: 2600 | Q25: 50 | R25: 300 | U25: OVC-DUO | V25: 44852.527 | W25: Rob Markesteijn | X25: 44858.434 | Y25: Rob Markesteijn
A26: GFE0294 | B26: 1403HE20903 | C26: Aagje Dekenlaan | D26: 209 | E26: 1043HE | F26: Bussum | G26: TBS | H26: 1050279 | I26: 1 | J26: GFT | K26: Bovengronds | L26: VC | M26: 20 | N26: 100 | O26: MCBG242022 | U26: BVC GFT Behuizing | V26: 44858.469 | W26: Rob Markesteijn | X26: 44858.469 | Y26: Rob Markesteijn
A27: GFE0027 | B27: 1403HJ5203 | C27: Aagje Dekenlaan | D27: 52 | E27: 1403HJ | F27: Bussum | G27: TBS | H27: 1034645 | I27: 0.24 | J27: GFT | K27: Bovengronds | L27: VC | M27: 20 | N27: 100 | O27: MCBG242019 | P27: 1400 | Q27: 50 | R27: 301 | U27: BVC GFT behuizing | V27: 43892.397 | W27: Marco Broekhoff | X27: 43892.397 | Y27: Marco Broekhoff
A28: GFE0026 | B28: 1403HH403 | C28: Aagje Dekenlaan | D28: 4 | E28: 1403HH | F28: Bussum | G28: TBS | H28: 1034723 | I28: 0.24 | J28: GFT | K28: Bovengronds | L28: VC | M28: 20 | N28: 100 | O28: MCBG242019 | P28: 1400 | Q28: 50 | R28: 301 | U28: BVC GFT behuizing | V28: 43892.393 | W28: Marco Broekhoff | X28: 43892.393 | Y28: Marco Broekhoff
A29: VO006 | B29: 1411GG102 | C29: Godelindeweg | D29: 1A 1 | E29: 1411GG | F29: Naarden | G29: TBS | I29: 5 | J29: PMD | K29: Ondergronds | L29: 3-haak | M29: 80 | N29: 100 | O29: BAMRUB2013 | P29: 2500 | Q29: 50 | R29: 300 | U29: OVC | V29: 43474.374 | X29: 43474.374
A30: RO511 | B30: 1411RC204 | C30: Adriaan Dortsmanplein | D30: 2 | E30: 1411RC | F30: Naarden | G30: TBSU | H30: 1015860 | I30: 5 | J30: REST | K30: Ondergronds | L30: 3-haak | M30: 80 | N30: 100 | O30: HMISOL2017 | P30: 2500 | Q30: 50 | R30: 300 | U30: OVC | V30: 43474.374 | X30: 43474.374
A31: RO016 | B31: 1382DC89901 | C31: Kostverlorenstraat | D31: 899 | E31: 1382DC | F31: Weesp | G31: TBSU | I31: 5 | J31: REST | K31: Ondergronds | L31: 3-haak | M31: 80 | N31: 100 | O31: BAMRUB2012 | P31: 2500 | Q31: 50 | R31: 300 | U31: OVC | V31: 43474.374 | X31: 43474.374
A32: RO017 | B32: 1382DC89902 | C32: Kostverlorenstraat | D32: 899 | E32: 1382DC | F32: Weesp | G32: TBSU | I32: 5 | J32: REST | K32: Ondergronds | L32: 3-haak | M32: 80 | N32: 100 | O32: BAMRUB2012 | P32: 2500 | Q32: 50 | R32: 300 | U32: OVC | V32: 43474.374 | X32: 43474.374
A33: RO018 | B33: 1382DC89903 | C33: Kostverlorenstraat | D33: 899 | E33: 1382DC | F33: Weesp | G33: TBSU | I33: 5 | J33: REST | K33: Ondergronds | L33: 3-haak | M33: 80 | N33: 100 | O33: BAMRUB2012 | P33: 2500 | Q33: 50 | R33: 300 | U33: OVC | V33: 43474.374 | X33: 43474.374
A34: VO010 | B34: 1383CC202 | C34: G.J.Wiefferingdreef | D34: 2 | E34: 1383CC | F34: Weesp | G34: TBSU | I34: 5 | J34: PMD | K34: Ondergronds | L34: 3-haak | M34: 80 | N34: 100 | O34: HMISOL2018 | P34: 2600 | Q34: 50 | R34: 550 | U34: OVC | V34: 43474.374 | X34: 43474.374
A35: PO076 | B35: 1411RC202 | C35: Adriaan Dortsmanplein | D35: 2 | E35: 1411RC | F35: Naarden | G35: TBSU | H35: 1015855 | I35: 5 | J35: OPK | K35: Ondergronds | L35: 3-haak | M35: 80 | N35: 100 | O35: HMISOL2017 | P35: 2600 | Q35: 50 | R35: 300 | U35: OVC | V35: 43474.374 | X35: 43474.374
A36: PO082 | B36: 1411RA102 | C36: Peperstraat | D36: 1 | E36: 1411RA | F36: Naarden | G36: TBSU | H36: 1016703 | I36: 5 | J36: OPK | K36: Ondergronds | L36: 3-haak | M36: 80 | N36: 100 | O36: HMISOL2017 | P36: 2600 | Q36: 50 | R36: 300 | U36: OVC | V36: 43474.374 | X36: 43474.374
A37: VO098 | B37: 1411RA104 | C37: Peperstraat | D37: 1 | E37: 1411RA | F37: Naarden | G37: TBSU | H37: 1015864 | I37: 5 | J37: PMD | K37: Ondergronds | L37: 3-haak | M37: 80 | N37: 100 | O37: HMISOL2017 | P37: 2550 | Q37: 50 | R37: 300 | U37: OVC | V37: 43474.374 | X37: 43474.374
A38: RO618 | B38: 1411PC2704 | C38: Westwalstraat | D38: 27 | E38: 1411PC | F38: Naarden | G38: TBSU | H38: 1015862 | I38: 5 | J38: REST | K38: Ondergronds | L38: 3-haak | M38: 80 | N38: 100 | O38: HMISOL2017 | P38: 2600 | Q38: 50 | R38: 300 | U38: OVC | V38: 43474.374 | X38: 43474.374
A39: VO082 | B39: 1411PC2701 | C39: Westwalstraat | D39: 27 | E39: 1411PC | F39: Naarden | G39: TBSU | H39: 1016709 | I39: 5 | J39: PMD | K39: Ondergronds | L39: 3-haak | M39: 80 | N39: 100 | O39: HMISOL2017 | P39: 2600 | Q39: 50 | R39: 300 | U39: OVC | V39: 43474.374 | X39: 43474.374
A40: PO057 | B40: 1411PC2703 | C40: Westwalstraat | D40: 27 | E40: 1411PC | F40: Naarden | G40: TBSU | H40: 1016702 | I40: 5 | J40: OPK | K40: Ondergronds | L40: 3-haak | M40: 80 | N40: 100 | O40: HMISOL2017 | P40: 2600 | Q40: 50 | R40: 300 | U40: OVC | V40: 43474.374 | X40: 43474.374
A41: RO601 | B41: 1411RZ503 | C41: Kooltjesbuurt | D41: 5 | E41: 1411RZ | F41: Naarden | G41: TBSU | H41: 1015863 | I41: 5 | J41: REST | K41: Ondergronds | L41: 3-haak | M41: 80 | N41: 100 | O41: HMISOL2017 | P41: 2600 | Q41: 50 | R41: 300 | U41: OVC | V41: 43474.374 | X41: 43474.374
A42: RO602 | B42: 1411RZ504 | C42: Kooltjesbuurt | D42: 5 | E42: 1411RZ | F42: Naarden | G42: TBSU | H42: 1016659 | I42: 5 | J42: REST | K42: Ondergronds | L42: 3-haak | M42: 80 | N42: 100 | O42: HMISOL2017 | P42: 2600 | Q42: 50 | R42: 300 | U42: OVC | V42: 43474.374 | X42: 43474.374
A43: VO084 | B43: 1411RZ505 | C43: Kooltjesbuurt | D43: 5 | E43: 1411RZ | F43: Naarden | G43: TBSU | H43: 1016710 | I43: 5 | J43: PMD | K43: Ondergronds | L43: 3-haak | M43: 80 | N43: 100 | O43: HMISOL2017 | P43: 2600 | Q43: 50 | R43: 300 | U43: OVC | V43: 43474.374 | X43: 43474.374
A44: RB009 | B44: 1217KN501 | C44: Koninginneweg | D44: 5A | E44: 1217KN | F44: Hilversum | G44: TBSU | I44: 3 | J44: REST | K44: Semi | L44: 3-haak | M44: 0 | N44: 100 | O44: KIKSOL2014 | P44: 1600 | Q44: 50 | R44: 302 | U44: Semi | V44: 43474.374 | X44: 43474.374
A45: RO619 | B45: 1411WB2602 | C45: Oude Haven | D45: 26 | E45: 1411WB | F45: Naarden | G45: TBSU | H45: 1016657 | I45: 5 | J45: REST | K45: Ondergronds | L45: 3-haak | M45: 80 | N45: 100 | O45: HMISOL2017 | P45: 2900 | Q45: 50 | R45: 300 | U45: OVC | V45: 43474.374 | X45: 43474.374
A46: VO083 | B46: 1411WB2603 | C46: Oude Haven | D46: 26 | E46: 1411WB | F46: Naarden | G46: TBSU | H46: 1016704 | I46: 5 | J46: PMD | K46: Ondergronds | L46: 3-haak | M46: 80 | N46: 100 | O46: HMISOL2017 | P46: 2600 | Q46: 50 | R46: 300 | U46: OVC | V46: 43474.374 | X46: 43474.374
A47: PO058 | B47: 1411WB2601 | C47: Oude Haven | D47: 26 | E47: 1411WB | F47: Naarden | G47: TBSU | H47: 1015859 | I47: 5 | J47: OPK | K47: Ondergronds | L47: 3-haak | M47: 80 | N47: 100 | O47: HMISOL2017 | P47: 2600 | Q47: 50 | R47: 300 | U47: OVC | V47: 43474.374 | X47: 43474.374
A48: RO659 | B48: 1411RM1201 | C48: Oostwalstraat | D48: 12 | E48: 1411RM | F48: Naarden | G48: TBSU | H48: 1015852 | I48: 5 | J48: REST | K48: Ondergronds | L48: 3-haak | M48: 80 | N48: 100 | O48: HMISOL2017 | P48: 2600 | Q48: 50 | R48: 300 | U48: OVC | V48: 43474.374 | X48: 43474.374
A49: VO112 | B49: 1411RM1202 | C49: Oostwalstraat | D49: 12 | E49: 1411RM | F49: Naarden | G49: TBSU | H49: 1016658 | I49: 5 | J49: PMD | K49: Ondergronds | L49: 3-haak | M49: 80 | N49: 100 | O49: HMISOL2017 | P49: 2600 | Q49: 50 | R49: 300 | U49: OVC | V49: 43474.374 | X49: 43474.374
A50: VO122 | B50: 1215LZ17303 | C50: Admiraal de Ruyterlaan | D50: 173 | E50: 1215LZ | F50: Hilversum | G50: TBSU | H50: 1017311 | I50: 5 | J50: PMD | K50: Ondergronds | L50: 3-haak | M50: 80 | N50: 100 | O50: HMISOL2018 | P50: 2600 | Q50: 50 | R50: 300 | U50: OVC | V50: 43474.374 | X50: 43474.374
A51: RO653 | B51: 1273JZ2502 | C51: De Regentesse | D51: 25 | E51: 1273JZ | F51: Huizen | G51: TBSU | H51: 1017328 | I51: 5 | J51: REST | K51: Ondergronds | L51: 3-haak | M51: 80 | N51: 100 | O51: HMISOL2018 | P51: 2600 | Q51: 50 | R51: 300 | U51: OVC | V51: 43474.374 | X51: 43474.374
A52: RO293 | G52: TBSU | H52: 1017871 | I52: 5 | J52: REST | K52: Ondergronds | L52: 3-haak | M52: 80 | N52: 100 | O52: HMISOL2017 | P52: 2600 | Q52: 50 | R52: 304 | U52: OVC | V52: 43474.374 | X52: 43474.374
A53: VO075 | B53: 1211RZ9201 | C53: Brinkweg | D53: 92 | E53: 1211RZ | F53: Hilversum | G53: TBSU | H53: 1017872 | I53: 5 | J53: PMD | K53: Ondergronds | L53: 3-haak | M53: 80 | N53: 100 | O53: HMISOL2017 | P53: 2550 | Q53: 50 | R53: 300 | U53: OVC | V53: 43474.374 | X53: 43474.374
A54: BO052 | G54: TBSU | H54: 1017873 | I54: 5 | J54: GFT | K54: Ondergronds | L54: 3-haak | M54: 80 | N54: 100 | O54: HMISOL2017 | P54: 2550 | Q54: 50 | R54: 1000 | U54: OVC | V54: 43474.374 | X54: 43474.374
A55: VO127 | B55: 1211HL6502 | C55: Schapenstraat | D55: 65 | E55: 1211HL | F55: Hilversum | G55: TBSU | H55: 1017875 | I55: 5 | J55: PMD | K55: Ondergronds | L55: 3-haak | M55: 80 | N55: 100 | O55: HMISOL2017 | P55: 2600 | Q55: 50 | R55: 300 | U55: OVC | V55: 43474.374 | X55: 43474.374
A56: BO063 | B56: 1211BS1601 | C56: 's-Gravelandseweg | D56: 16B | E56: 1211BS | F56: Hilversum | G56: TBSU | H56: 1017876 | I56: 5 | J56: GFT | K56: Ondergronds | L56: 3-haak | M56: 80 | N56: 100 | O56: HMISOL2016 | P56: 2600 | Q56: 50 | R56: 300 | U56: OVC | V56: 43474.374 | X56: 43474.374
A57: VO093 | B57: 1211EG13602 | C57: Groest | D57: 136 | E57: 1211EG | F57: Hilversum | G57: TBSU | H57: 1017878 | I57: 5 | J57: PMD | K57: Ondergronds | L57: 3-haak | M57: 80 | N57: 100 | O57: HMISOL2017 | P57: 2600 | Q57: 50 | R57: 300 | U57: OVC | V57: 43474.374 | X57: 43474.374
A58: VO103 | B58: 1214AW12702 | C58: Gijsbrecht van Amstelstraat | D58: 127A | E58: 1214AW | F58: Hilversum | G58: TBSU | H58: 1017880 | I58: 5 | J58: PMD | K58: Ondergronds | L58: 3-haak | M58: 80 | N58: 100 | O58: HMISOL2017 | P58: 2600 | Q58: 50 | R58: 300 | U58: OVC | V58: 43474.374 | X58: 43474.374
A59: VO110 | B59: 1211AT7402 | C59: Koninginneweg | D59: 74 | E59: 1211AT | F59: Hilversum | G59: TBSU | H59: 1017893 | I59: 5 | J59: PMD | K59: Ondergronds | L59: 3-haak | M59: 80 | N59: 100 | O59: HMISOL2017 | P59: 2550 | Q59: 50 | R59: 300 | U59: OVC | V59: 43474.374 | X59: 43474.374
A60: VO080 | B60: 1211BE4502 | C60: Noordse Bosje | D60: 45B | E60: 1211BE | F60: Hilversum | G60: TBSU | H60: 1017894 | I60: 5 | J60: PMD | K60: Ondergronds | L60: 3-haak | M60: 80 | N60: 100 | O60: BAMRUB2016 | P60: 2500 | Q60: 50 | R60: 300 | U60: OVC | V60: 43474.374 | X60: 43474.374
A61: VO094 | B61: 1211BA2102 | C61: Langgewenst | D61: 21 | E61: 1211BA | F61: Hilversum | G61: TBSU | H61: 1017895 | I61: 5 | J61: PMD | K61: Ondergronds | L61: 3-haak | M61: 80 | N61: 100 | O61: HMISOL2017 | P61: 2600 | Q61: 50 | R61: 300 | U61: OVC | V61: 43474.374 | X61: 43474.374
A62: VO096 | B62: 1211BG203 | C62: Noordse Bosje | D62: 2B | E62: 1211BG | F62: Hilversum | G62: TBSU | H62: 1017896 | I62: 5 | J62: PMD | K62: Ondergronds | L62: 3-haak | M62: 80 | N62: 100 | O62: HMISOL2017 | P62: 2600 | Q62: 50 | R62: 300 | U62: OVC | V62: 43474.374 | X62: 43474.374
A63: VO099 | B63: 1211KB101 | C63: Gasthuisstraat | D63: 1A | E63: 1211KB | F63: Hilversum | G63: TBSU | H63: 1017869 | I63: 5 | J63: PMD | K63: Ondergronds | L63: 3-haak | M63: 80 | N63: 100 | O63: HMISOL2017 | P63: 2600 | Q63: 50 | R63: 300 | U63: OVC | V63: 43474.374 | X63: 43474.374
A64: RO303 | B64: 1216SV101 | C64: Ludgeruslaan | D64: 1 | E64: 1216SV | F64: Hilversum | G64: TBSU | H64: 1015781 | I64: 5 | J64: REST | K64: Ondergronds | L64: 3-haak | M64: 80 | N64: 100 | O64: BAMRUB2016 | P64: 2500 | Q64: 50 | R64: 300 | U64: OVC | V64: 43474.374 | X64: 43474.374
A65: RB002 | B65: 1412BW701 | C65: Cort van der Lindenlaan | D65: 7 | E65: 1412BW | F65: Naarden | G65: TBSU | H65: 1015793 | I65: 3 | J65: REST | K65: Semi | L65: 3-haak | M65: 0 | N65: 100 | O65: KIKSOL2014 | P65: 1600 | Q65: 50 | R65: 300 | U65: Semi | V65: 43474.374 | X65: 43474.374
A66: RO277 | G66: TBSU | H66: 1015796 | I66: 5 | J66: REST | K66: Ondergronds | L66: 3-haak | M66: 80 | N66: 100 | O66: HMISOL2017 | P66: 2600 | Q66: 50 | R66: 302 | U66: OVC | V66: 43474.374 | X66: 43474.374
A67: RO320 | B67: 1216TE26101 | C67: Kerkelandenlaan | D67: 261 | E67: 1216TE | F67: Hilversum | G67: TBSU | H67: 1015803 | I67: 5 | J67: REST | K67: Ondergronds | L67: 3-haak | M67: 80 | N67: 100 | O67: HMISOL2017 | P67: 2600 | Q67: 50 | R67: 300 | U67: OVC | V67: 43474.374 | X67: 43474.374
A68: RO212 | B68: 1274RL2802 | C68: Bovenmaatweg | D68: 28 | E68: 1274RL | F68: Huizen | G68: TBSU | H68: 1015804 | I68: 5 | J68: REST | K68: Ondergronds | L68: 3-haak | M68: 80 | N68: 100 | O68: BAMRUB2018 | P68: 2500 | Q68: 50 | R68: 300 | U68: OVC | V68: 43474.374 | X68: 43474.374
A69: VO292 | B69: 1403HJ5202 | C69: Aagje Dekenlaan | D69: 52 | E69: 1403HJ | F69: Bussum | G69: TBSU | H69: 1030411 | I69: 5 | J69: PMD | K69: OGDUO | L69: 3-haak | M69: 60 | N69: 100 | O69: HMIDUO2019 | P69: 2550 | Q69: 50 | R69: 300 | U69: OVC-DUO | V69: 43866.639 | W69: Marco Broekhoff | X69: 43866.639 | Y69: Marco Broekhoff
A70: VO118 | B70: 1211KG4302 | C70: Havenstraat | D70: 43A 1 | E70: 1211KG | F70: Hilversum | G70: TBSU | H70: 1017884 | I70: 5 | J70: PMD | K70: Ondergronds | L70: 3-haak | M70: 80 | N70: 100 | O70: HMISOL2017 | P70: 2600 | Q70: 50 | R70: 300 | U70: OVC | V70: 43474.374 | X70: 43474.374
A71: RO673 | B71: 1211KG4301 | C71: Havenstraat | D71: 43A 1 | E71: 1211KG | F71: Hilversum | G71: TBSU | H71: 1017885 | I71: 5 | J71: REST | K71: Ondergronds | L71: 3-haak | M71: 80 | N71: 100 | O71: HMISOL2017 | P71: 2600 | Q71: 50 | R71: 300 | U71: OVC | V71: 43474.374 | X71: 43474.374
A72: RO638 | B72: 1212GB29601 | C72: Van Linschotenlaan | D72: 296 | E72: 1212GB | F72: Hilversum | G72: TBSU | H72: 1017886 | I72: 5 | J72: REST | K72: Ondergronds | L72: 3-haak | M72: 80 | N72: 100 | O72: HMISOL2017 | P72: 2600 | Q72: 50 | R72: 300 | U72: OVC | V72: 43474.374 | X72: 43474.374
A73: VO095 | B73: 1211BA2103 | C73: Langgewenst | D73: 21 | E73: 1211BA | F73: Hilversum | G73: TBSU | H73: 1017888 | I73: 5 | J73: PMD | K73: Ondergronds | L73: 3-haak | M73: 80 | N73: 100 | O73: HMISOL2017 | P73: 2600 | Q73: 50 | R73: 300 | U73: OVC | V73: 43474.374 | X73: 43474.374
A74: BO061 | B74: 1211BG202 | C74: Noordse Bosje | D74: 2B | E74: 1211BG | F74: Hilversum | G74: TBSU | H74: 1017889 | I74: 5 | J74: GFT | K74: Ondergronds | L74: 3-haak | M74: 80 | N74: 100 | O74: BAMRUB2016 | P74: 1300 | Q74: 50 | R74: 300 | U74: OVC | V74: 43474.374 | X74: 43474.374
A75: RO612 | B75: 1211GZ2202 | C75: Langestraat | D75: 22A | E75: 1211GZ | F75: Hilversum | G75: TBSU | H75: 1017903 | I75: 5 | J75: REST | K75: Ondergronds | L75: 3-haak | M75: 80 | N75: 100 | O75: BAMRUB2016 | P75: 2600 | Q75: 50 | R75: 300 | U75: OVC | V75: 43474.374 | X75: 43474.374
A76: VO003 | B76: 1222HP3902 | C76: Jan van der Heijdenstraat | D76: 39 | E76: 1222HP | F76: Hilversum | G76: TBSU | H76: 1017968 | I76: 5 | J76: PMD | K76: Ondergronds | L76: 3-haak | M76: 80 | N76: 100 | O76: HMISOL2017 | P76: 2600 | Q76: 50 | R76: 300 | U76: OVC | V76: 43474.374 | X76: 43474.374
A77: RO284 | B77: 1211MT7101 | C77: Laan van de Heelmeesters | D77: 71 | E77: 1211MT | F77: Hilversum | G77: TBSU | H77: 1017993 | I77: 5 | J77: REST | K77: Ondergronds | L77: 3-haak | M77: 80 | N77: 100 | O77: WTLBOV2011 | P77: 2600 | Q77: 50 | R77: 300 | U77: OVC | V77: 43474.374 | X77: 43474.374
A78: RO273 | B78: 1211BE4501 | C78: Noordse Bosje | D78: 45B | E78: 1211BE | F78: Hilversum | G78: TBSU | H78: 1017994 | I78: 5 | J78: REST | K78: Ondergronds | L78: 3-haak | M78: 80 | N78: 100 | O78: BAMRUB2016 | P78: 2600 | Q78: 50 | R78: 300 | U78: OVC | V78: 43474.374 | X78: 43474.374
A79: RO651 | B79: 1211BS1603 | C79: 's-Gravelandseweg | D79: 16B | E79: 1211BS | F79: Hilversum | G79: TBSU | H79: 1017998 | I79: 5 | J79: REST | K79: Ondergronds | L79: 3-haak | M79: 80 | N79: 100 | O79: HMISOL2018 | P79: 2600 | Q79: 50 | R79: 300 | U79: OVC | V79: 43474.374 | X79: 43474.374
A80: VO106 | B80: 1211BS1604 | C80: 's-Gravelandseweg | D80: 16B | E80: 1211BS | F80: Hilversum | G80: TBSU | H80: 1018000 | I80: 5 | J80: PMD | K80: Ondergronds | L80: 3-haak | M80: 80 | N80: 100 | O80: HMISOL2018 | P80: 2600 | Q80: 50 | R80: 300 | U80: OVC | V80: 43474.374 | X80: 43474.374
A81: RO633 | B81: 1211BG201 | C81: Noordse Bosje | D81: 2B | E81: 1211BG | F81: Hilversum | G81: TBSU | H81: 1018001 | I81: 5 | J81: REST | K81: Ondergronds | L81: 3-haak | M81: 80 | N81: 100 | O81: HMISOL2017 | P81: 2600 | Q81: 50 | R81: 300 | U81: OVC | V81: 43474.374 | X81: 43474.374
... A105: RO439 | B105: 1215JR13701 | C105: Loosdrechtseweg | D105: 137 | E105: 1215JR | F105: Hilversum | G105: TBSU | H105: 1018026 | I105: 5 | J105: REST | K105: Ondergronds | L105: 3-haak | M105: 80 | N105: 100 | O105: BAMRUB2014 | P105: 2500 | Q105: 50 | R105: 403 | U105: OVC | V105: 43474.374 | X105: 43474.374
A106: RO816 | B106: 1403HJ5201 | C106: Aagje Dekenlaan | D106: 52 | E106: 1403HJ | F106: Bussum | G106: TBSU | H106: 1030413 | I106: 5 | J106: REST | K106: OGDUO | L106: 3-haak | M106: 60 | N106: 100 | O106: HMIDUO2019 | P106: 2600 | Q106: 50 | R106: 300 | U106: OVC-DUO | V106: 43866.638 | W106: Marco Broekhoff | X106: 43866.638 | Y106: Marco Broekhoff
A107: VO111 | B107: 1261ZP3002 | C107: Erfgooiersdreef | D107: 30 | E107: 1261ZP | F107: Blaricum | G107: TBSU | H107: 1018052 | I107: 5 | J107: PMD | K107: Ondergronds | L107: 3-haak | M107: 80 | N107: 100 | O107: HMISOL2019 | P107: 2600 | Q107: 50 | R107: 300 | U107: OVC | V107: 43474.374 | X107: 43474.374
A108: RO479 | B108: 1212AR14102 | C108: Olivier van Noortstraat | D108: 141 | E108: 1212AR | F108: Hilversum | G108: TBSU | H108: 1018055 | I108: 5 | J108: REST | K108: Ondergronds | L108: 3-haak | M108: 80 | N108: 100 | O108: BAMRUB2014 | P108: 2500 | Q108: 50 | R108: 403 | U108: OVC | V108: 43474.374 | X108: 43474.374
A109: RO480 | B109: 1212AV8001 | C109: Olivier van Noortstraat | D109: 80 | E109: 1212AV | F109: Hilversum | G109: TBSU | H109: 1018056 | I109: 5 | J109: REST | K109: Ondergronds | L109: 3-haak | M109: 80 | N109: 100 | O109: BAMRUB2014 | P109: 2500 | Q109: 50 | R109: 403 | U109: OVC | V109: 43474.374 | X109: 43474.374
A110: RO481 | B110: 1212AV6601 | C110: Olivier van Noortstraat | D110: 66 | E110: 1212AV | F110: Hilversum | G110: TBSU | H110: 1018057 | I110: 5 | J110: REST | K110: Ondergronds | L110: 3-haak | M110: 80 | N110: 100 | O110: BAMRUB2014 | P110: 2500 | Q110: 50 | R110: 403 | U110: OVC | V110: 43474.374 | X110: 43474.374
A111: RO362 | B111: 1223RM202 | C111: Daltonstraat | D111: 2 | E111: 1223RM | F111: Hilversum | G111: TBSU | H111: 1018039 | I111: 5 | J111: REST | K111: Ondergronds | L111: 3-haak | M111: 80 | N111: 100 | O111: HMISOL2017 | P111: 2600 | Q111: 50 | R111: 300 | U111: OVC | V111: 43474.374 | X111: 43474.374
A112: RO368 | B112: 1223LV8101 | C112: Röntgenstraat | D112: 81 | E112: 1223LV | F112: Hilversum | G112: TBSU | H112: 1018040 | I112: 5 | J112: REST | K112: Ondergronds | L112: 3-haak | M112: 80 | N112: 100 | O112: HMISOL2017 | P112: 2600 | Q112: 50 | R112: 300 | U112: OVC | V112: 43474.374 | X112: 43474.374
A113: RO363 | B113: 1223RM201 | C113: Daltonstraat | D113: 2 | E113: 1223RM | F113: Hilversum | G113: TBSU | H113: 1018041 | I113: 5 | J113: REST | K113: Ondergronds | L113: 3-haak | M113: 80 | N113: 100 | O113: HMISOL2017 | P113: 2600 | Q113: 50 | R113: 300 | U113: OVC | V113: 43474.374 | X113: 43474.374
A114: RO490 | G114: TBSU | H114: 1018042 | I114: 5 | J114: REST | K114: Ondergronds | L114: 3-haak | M114: 80 | N114: 100 | O114: BAMRUB2014 | P114: 2500 | Q114: 50 | R114: 403 | U114: OVC | V114: 43474.374 | X114: 43474.374
A115: RO500 | B115: 1382HE11103 | C115: Heemraadweg | D115: 111 | E115: 1382HE | F115: Weesp | G115: TBSU | H115: 1018464 | I115: 5 | J115: REST | K115: Ondergronds | L115: 3-haak | M115: 80 | N115: 100 | O115: HMISOL2015 | P115: 2600 | Q115: 50 | R115: 550 | U115: OVC | V115: 43474.374 | X115: 43474.374
A116: RO075 | B116: 1398XA401 | C116: Broshuizen | D116: 4 | E116: 1398XA | F116: Muiden | G116: TBSU | H116: 1018465 | I116: 5 | J116: REST | K116: Ondergronds | L116: 3-haak | M116: 80 | N116: 100 | O116: BAMRUB2017 | P116: 2500 | Q116: 50 | R116: 300 | U116: OVC | V116: 43474.374 | X116: 43474.374
A117: RO499 | B117: 1382HE11102 | C117: Heemraadweg | D117: 111 | E117: 1382HE | F117: Weesp | G117: TBSU | H117: 1018466 | I117: 5 | J117: REST | K117: Ondergronds | L117: 3-haak | M117: 80 | N117: 100 | O117: HMISOL2015 | P117: 2600 | Q117: 50 | R117: 550 | U117: OVC | V117: 43474.374 | X117: 43474.374
A118: RO066 | B118: 1382DB401 | C118: Muiderhof | D118: 4 | E118: 1382DB | F118: Weesp | G118: TBSU | H118: 1018467 | I118: 5 | J118: REST | K118: Ondergronds | L118: 3-haak | M118: 80 | N118: 100 | O118: BAMRUB2012 | P118: 2500 | Q118: 50 | R118: 300 | U118: OVC | V118: 43474.374 | X118: 43474.374
A119: RO054 | B119: 1382DA10601 | C119: Simon Vestdijkstraat | D119: 106 | E119: 1382DA | F119: Weesp | G119: TBSU | H119: 1018484 | I119: 5 | J119: REST | K119: Ondergronds | L119: 3-haak | M119: 80 | N119: 100 | O119: HMISOL2015 | P119: 2600 | Q119: 50 | R119: 300 | U119: OVC | V119: 43474.374 | X119: 43474.374
A120: RO007 | B120: 1382KV101 | C120: Casparushof | D120: 1 | E120: 1382KV | F120: Weesp | G120: TBSU | H120: 1018486 | I120: 5 | J120: REST | K120: Ondergronds | L120: 3-haak | M120: 80 | N120: 100 | O120: HMISOL2015 | P120: 2600 | Q120: 50 | R120: 550 | U120: OVC | V120: 43474.374 | X120: 43474.374
A121: RO069 | B121: 1382MN201 | C121: Anna Horstinkstraat | D121: 2 | E121: 1382MN | F121: Weesp | G121: TBSU | H121: 1018489 | I121: 5 | J121: REST | K121: Ondergronds | L121: 3-haak | M121: 80 | N121: 100 | O121: HMISOL2016 | P121: 2600 | Q121: 50 | R121: 550 | U121: OVC | V121: 43474.374 | X121: 43474.374
A122: RO072 | B122: 1382ML102 | C122: Loes van Marlestraat | D122: 1 | E122: 1382ML | F122: Weesp | G122: TBSU | H122: 1018490 | I122: 5 | J122: REST | K122: Ondergronds | L122: 3-haak | M122: 80 | N122: 100 | O122: HMISOL2016 | P122: 2600 | Q122: 50 | R122: 550 | U122: OVC | V122: 43474.374 | X122: 43474.374
A123: RO071 | B123: 1382ML101 | C123: Loes van Marlestraat | D123: 1 | E123: 1382ML | F123: Weesp | G123: TBSU | H123: 1018491 | I123: 5 | J123: REST | K123: Ondergronds | L123: 3-haak | M123: 80 | N123: 100 | O123: HMISOL2015 | P123: 2600 | Q123: 50 | R123: 550 | U123: OVC | V123: 43474.374 | X123: 43474.374
A124: RO431 | B124: 1382ML1701 | C124: Aartje de Voseiland | D124: 17 | E124: 1382ML | F124: Weesp | G124: TBSU | H124: 1018492 | I124: 5 | J124: REST | K124: Ondergronds | L124: 3-haak | M124: 80 | N124: 100 | O124: HMISOL2015 | P124: 2600 | Q124: 50 | R124: 550 | U124: OVC | V124: 43474.374 | X124: 43474.374
A125: RO056 | B125: 1382AD4001 | C125: Stationsplein | D125: 40 | E125: 1382AD | F125: Weesp | G125: TBSU | H125: 1018493 | I125: 5 | J125: REST | K125: Ondergronds | L125: 3-haak | M125: 80 | N125: 100 | O125: BAMRUB2012 | P125: 2500 | Q125: 50 | R125: 300 | U125: OVC | V125: 43474.374 | X125: 43474.374
A126: VO008 | B126: 1382CJ11703 | C126: Ingelandenstraat | D126: 117 | E126: 1382CJ | F126: Weesp | G126: TBSU | H126: 1018494 | I126: 5 | J126: PMD | K126: Ondergronds | L126: 3-haak | M126: 80 | N126: 100 | O126: BAMRUB2012 | P126: 2500 | Q126: 50 | R126: 300 | U126: OVC | V126: 43474.374 | X126: 43474.374
... A139: VO090 | B139: 1398HA8802 | C139: Kruitmolen | D139: 88 | E139: 1398HA | F139: Muiden | G139: TBSU | H139: 1018536 | I139: 5 | J139: PMD | K139: Ondergronds | L139: 3-haak | M139: 80 | N139: 100 | O139: HMISOL2016 | P139: 2600 | Q139: 50 | R139: 300 | U139: OVC | V139: 43474.374 | X139: 43474.374
A140: RO626 | G140: TBSU | H140: 1018538 | I140: 5 | J140: REST | K140: Ondergronds | L140: 3-haak | M140: 80 | N140: 100 | O140: HMISOL2016 | P140: 2600 | Q140: 50 | R140: 301 | U140: OVC | V140: 43474.374 | X140: 43474.374
A141: RO038 | B141: 1382SJ4902 | C141: Henriette Roland Holsthof | D141: 49 | E141: 1382SJ | F141: Weesp | G141: TBSU | H141: 1018539 | I141: 5 | J141: REST | K141: Ondergronds | L141: 3-haak | M141: 80 | N141: 100 | O141: HMISOL2015 | P141: 2600 | Q141: 50 | R141: 550 | U141: OVC | V141: 43474.374 | X141: 43474.374
A142: RO378 | B142: 1223DJ8001 | C142: Zenderstraat | D142: 80 | E142: 1223DJ | F142: Hilversum | G142: TBSU | H142: 1018540 | I142: 5 | J142: REST | K142: Ondergronds | L142: 3-haak | M142: 80 | N142: 100 | O142: HMISOL2017 | P142: 2600 | Q142: 50 | R142: 300 | U142: OVC | V142: 43474.374 | X142: 43474.374
...
