Workbook

Sheet Tekenblad
B7: Door invulling en ondertekening van dit prijsformulier verklaart de inschrijver dat:
B8: 1. De inschrijving is geschied overeenkomstig de bepalingen van het programma van eisen 'Integrale Begeleiding Oekraiense ontheemden' en de eventuele Nota(s) van Inlichtingen.
B9: 2. De opgegeven tarieven zijn inclusief alle logischerwijs tot de opdracht behorende onderdelen en/of zaken zijn, waaronder bijvoorbeeld reiskosten,
B10: tol-, veer-, en parkeergelden, brandstoffen en verzekering.
B11: 3. Inschrijver dient reele marktconforme prijzen te offreren. De Aanbestedende dienst behoudt zich de mogelijkheid voor om conform artikel 2.116 Aw 2012 verificatie
B12: uit te voeren op de opgegeven tarieven. Een abnormaal lage, niet marktconforme dan wel manipulatieve inschrijving kan ongeldig worden verklaard.
B13: 4. Het is niet toegestaan om op de afzonderlijke posten, dan wel voor het integrale indicatieve tarief een negatief bedrag, of nul aan te bieden.
B14: Het is evenmin toegestaan om tarieven aan te bieden die hoger zijn dan het aangegeven maximum.
B15: 5. De aangeboden tarieven zijn in Euro’s exclusief, dan wel vrijgesteld van BTW.
B16: 6. De inschrijver is er mee bekend dat de genoemde aantallen indicatief zijn en bedoeld zijn om te komen tot het integrale indicatieve tarief.
B17: 7. Aan de genoemde aantallen kunnen op generlei wijze geen rechten worden ontleend.
B21: Aldus naar waarheid ingevuld en rechtsgeldig ondertekend:
... B36: NB: Het is niet toegestaan om op dit tabbad wijzigingen in het format aan te brengen, anders dan het invullen van het ondertekeningsblok.

Sheet Prijsopgave 
C4: Maximaal Tarief | D4: Aageboden | E4: Indicatief aantal uren 1e contractjaar | I4: PER MAAND
C5: per uur | D5: tarief per uur | E5: 2023 | N5: 2024 | S5: 1e contractjr
E6: apr | F6: mei | G6: jun | H6: jul | I6: aug | J6: sep | K6: okt | L6: nov | M6: dec | N6: jan | O6: feb | P6: mrt | Q6: Totaal
B8: Algemeen Coordinator | C8: 75 | E8: ='Indicatief aantal uren per week'!B7*'Indicatief aantal uren per week'!$B$19 -> 43.333333 | F8: ='Indicatief aantal uren per week'!C7*'Indicatief aantal uren per week'!$B$19 -> 43.333333 | G8: ='Indicatief aantal uren per week'!D7*'Indicatief aantal uren per week'!$B$19 -> 43.333333 | H8: ='Indicatief aantal uren per week'!E7*'Indicatief aantal uren per week'!$B$19 -> 43.333333 | I8: ='Indicatief aantal uren per week'!F7*'Indicatief aantal uren per week'!$B$19 -> 43.333333 | J8: ='Indicatief aantal uren per week'!G7*'Indicatief aantal uren per week'!$B$19 -> 43.333333 | K8: ='Indicatief aantal uren per week'!H7*'Indicatief aantal uren per week'!$B$19 -> 43.333333 | L8: ='Indicatief aantal uren per week'!I7*'Indicatief aantal uren per week'!$B$19 -> 43.333333 | ... P8: ='Indicatief aantal uren per week'!M7*'Indicatief aantal uren per week'!$B$19 -> 43.333333 | Q8: =SUM(E8:P8) -> 520 | S8: =Q8*D8 -> 0
B10: Dagelijkse Coordinatie | C10: 75 | E10: ='Indicatief aantal uren per week'!B9*'Indicatief aantal uren per week'!$B$19 -> 52 | F10: ='Indicatief aantal uren per week'!C9*'Indicatief aantal uren per week'!$B$19 -> 52 | G10: ='Indicatief aantal uren per week'!D9*'Indicatief aantal uren per week'!$B$19 -> 52 | H10: ='Indicatief aantal uren per week'!E9*'Indicatief aantal uren per week'!$B$19 -> 52 | I10: ='Indicatief aantal uren per week'!F9*'Indicatief aantal uren per week'!$B$19 -> 52 | J10: ='Indicatief aantal uren per week'!G9*'Indicatief aantal uren per week'!$B$19 -> 52 | K10: ='Indicatief aantal uren per week'!H9*'Indicatief aantal uren per week'!$B$19 -> 52 | L10: ='Indicatief aantal uren per week'!I9*'Indicatief aantal uren per week'!$B$19 -> 52 | ... P10: ='Indicatief aantal uren per week'!M9*'Indicatief aantal uren per week'!$B$19 -> 52 | Q10: =SUM(E10:P10) -> 624 | S10: =Q10*D10 -> 0
B12: Steunpunt Coordinatie | C12: 65 | E12: ='Indicatief aantal uren per week'!B11*'Indicatief aantal uren per week'!$B$19 -> 130 | F12: ='Indicatief aantal uren per week'!C11*'Indicatief aantal uren per week'!$B$19 -> 130 | G12: ='Indicatief aantal uren per week'!D11*'Indicatief aantal uren per week'!$B$19 -> 130 | H12: ='Indicatief aantal uren per week'!E11*'Indicatief aantal uren per week'!$B$19 -> 130 | I12: ='Indicatief aantal uren per week'!F11*'Indicatief aantal uren per week'!$B$19 -> 130 | J12: ='Indicatief aantal uren per week'!G11*'Indicatief aantal uren per week'!$B$19 -> 130 | K12: ='Indicatief aantal uren per week'!H11*'Indicatief aantal uren per week'!$B$19 -> 130 | L12: ='Indicatief aantal uren per week'!I11*'Indicatief aantal uren per week'!$B$19 -> 130 | ... P12: ='Indicatief aantal uren per week'!M11*'Indicatief aantal uren per week'!$B$19 -> 130 | Q12: =SUM(E12:P12) -> 1560 | S12: =Q12*D12 -> 0
B14: Wooonbegeleiding | C14: 65 | E14: ='Indicatief aantal uren per week'!B13*'Indicatief aantal uren per week'!$B$19 -> 312 | F14: ='Indicatief aantal uren per week'!C13*'Indicatief aantal uren per week'!$B$19 -> 312 | G14: ='Indicatief aantal uren per week'!D13*'Indicatief aantal uren per week'!$B$19 -> 312 | H14: ='Indicatief aantal uren per week'!E13*'Indicatief aantal uren per week'!$B$19 -> 312 | I14: ='Indicatief aantal uren per week'!F13*'Indicatief aantal uren per week'!$B$19 -> 312 | J14: ='Indicatief aantal uren per week'!G13*'Indicatief aantal uren per week'!$B$19 -> 312 | K14: ='Indicatief aantal uren per week'!H13*'Indicatief aantal uren per week'!$B$19 -> 312 | L14: ='Indicatief aantal uren per week'!I13*'Indicatief aantal uren per week'!$B$19 -> 312 | ... P14: ='Indicatief aantal uren per week'!M13*'Indicatief aantal uren per week'!$B$19 -> 312 | Q14: =SUM(E14:P14) -> 3744 | S14: =Q14*D14 -> 0
B16: Sociaal Werk | C16: 50 | E16: ='Indicatief aantal uren per week'!B15*'Indicatief aantal uren per week'!$B$19 -> 156 | F16: ='Indicatief aantal uren per week'!C15*'Indicatief aantal uren per week'!$B$19 -> 156 | G16: ='Indicatief aantal uren per week'!D15*'Indicatief aantal uren per week'!$B$19 -> 156 | H16: ='Indicatief aantal uren per week'!E15*'Indicatief aantal uren per week'!$B$19 -> 156 | I16: ='Indicatief aantal uren per week'!F15*'Indicatief aantal uren per week'!$B$19 -> 156 | J16: ='Indicatief aantal uren per week'!G15*'Indicatief aantal uren per week'!$B$19 -> 156 | K16: ='Indicatief aantal uren per week'!H15*'Indicatief aantal uren per week'!$B$19 -> 156 | L16: ='Indicatief aantal uren per week'!I15*'Indicatief aantal uren per week'!$B$19 -> 156 | ... P16: ='Indicatief aantal uren per week'!M15*'Indicatief aantal uren per week'!$B$19 -> 156 | Q16: =SUM(E16:P16) -> 1872 | S16: =Q16*D16 -> 0
B18: Administratief | C18: 50 | E18: ='Indicatief aantal uren per week'!B17*'Indicatief aantal uren per week'!$B$19 -> 43.333333 | F18: ='Indicatief aantal uren per week'!C17*'Indicatief aantal uren per week'!$B$19 -> 43.333333 | G18: ='Indicatief aantal uren per week'!D17*'Indicatief aantal uren per week'!$B$19 -> 43.333333 | H18: ='Indicatief aantal uren per week'!E17*'Indicatief aantal uren per week'!$B$19 -> 43.333333 | I18: ='Indicatief aantal uren per week'!F17*'Indicatief aantal uren per week'!$B$19 -> 43.333333 | J18: ='Indicatief aantal uren per week'!G17*'Indicatief aantal uren per week'!$B$19 -> 43.333333 | K18: ='Indicatief aantal uren per week'!H17*'Indicatief aantal uren per week'!$B$19 -> 43.333333 | L18: ='Indicatief aantal uren per week'!I17*'Indicatief aantal uren per week'!$B$19 -> 43.333333 | ... P18: ='Indicatief aantal uren per week'!M17*'Indicatief aantal uren per week'!$B$19 -> 43.333333 | Q18: =SUM(E18:P18) -> 520 | S18: =Q18*D18 -> 0
O20: Integraal indicatief tarief | S20: =SUM(S8:S18) -> 0
B21: In te vullen door aanbieder | O21: 1e contractjaar
B22: Opgave Aanbestedende Dienst
B23: Rekent vanzelf door
B26: NB: Het is niet toegestaan om op dit tabbad wijzigingen in het format aan te brengen, anders dan het invullen van de aangeboden tarieven.

Sheet Blad1

Sheet Indicatief aantal uren per week
B3: Indicatief aantal uren 1e contractjaar | F3: PER WEEK
B4: 2023 | K4: 2024
B5: apr | C5: mei | D5: jun | E5: jul | F5: aug | G5: sep | H5: okt | I5: nov | J5: dec | K5: jan | L5: feb | M5: mrt
A7: Algemeen Coordinator | B7: 10 | C7: 10 | D7: 10 | E7: 10 | F7: 10 | G7: 10 | H7: 10 | I7: 10 | J7: 10 | K7: 10 | L7: 10 | M7: 10
A9: Dagelijkse Coordinatie | B9: 12 | C9: 12 | D9: 12 | E9: 12 | F9: 12 | G9: 12 | H9: 12 | I9: 12 | J9: 12 | K9: 12 | L9: 12 | M9: 12
A11: Steunpunt Coordinatie | B11: 30 | C11: 30 | D11: 30 | E11: 30 | F11: 30 | G11: 30 | H11: 30 | I11: 30 | J11: 30 | K11: 30 | L11: 30 | M11: 30
A13: Wooonbegeleiding | B13: 72 | C13: 72 | D13: 72 | E13: 72 | F13: 72 | G13: 72 | H13: 72 | I13: 72 | J13: 72 | K13: 72 | L13: 72 | M13: 72
A15: Sociaal Werk | B15: 36 | C15: 36 | D15: 36 | E15: 36 | F15: 36 | G15: 36 | H15: 36 | I15: 36 | J15: 36 | K15: 36 | L15: 36 | M15: 36
A17: Administratief | B17: 10 | C17: 10 | D17: 10 | E17: 10 | F17: 10 | G17: 10 | H17: 10 | I17: 10 | J17: 10 | K17: 10 | L17: 10 | M17: 10
A19: Gemiddeld aantal | B19: =52/12 -> 4.3333333
A20: weken per maand
A23: NB: Het is niet toegestaan om op dit tabblad wijzigingen in het format aan te brengen.
