Workbook
Name Print_Area: Totaalblad!#REF!

Sheet Basisgegevens
A1: Basisgegevens Contract
A3: Aanbestedende Dienst
A4: Naam Opdrachtgever | B4: Stichting Achterhoek VO
A5: Vestigingsplaats Opdrachtgever | B5: Doetinchem
A6: Kvk-nummer | B6: 51614286
A7: Naam tekenbevoegde opdrachtgever voor contract
A8: Functie:
A10: Alpha Adviesbureau
A11: Contactpersoon | B11: Mitchel Vos
A12: Telefoonnummer | B12: 06 - 196 613 99
A13: Email adres | B13: mvos@alpha-adviesbureau.nl
A15: Inschrijver
A16: Volledige naam Inschrijver (Handelsnaam KvK)
A17: Vestigingsplaats Inschrijver (KvK)
A18: KvK-nummer
A19: Tekenbevoegde voor overeenkomt
A20: Functie
A22: Contactpersoon offerte
A23: Telefoonnummer Kantoor
A24: Postadres Kantoor
A25: PC + Woonplaats Kantoor
A26: Mobielnummer contactpersoon offerte
A27: E-mail adres contactpersoon offerte

Sheet Totaalblad
B1: Prijzenblad t.b.v. de gunning
B2: Instructie
B6: Onderdeel ICT Hardware | C6: Fictieve uitgave | D6: Korting- en/of Opslagpercentage | E6: Korting- en of Opslag bedrag | F6: Vergelijkingsprijs
A7: 1.1 | B7: ='1. Windows'!B3 -> Laptops | C7: 250000 | D7: ='1. Windows'!C10 -> 0 | E7: =SUM(C7*D7) -> 0 | F7: =SUM(C7+E7) -> 250000
A8: 1.2 | B8: ='1. Windows'!B12 -> Desktops | C8: 250000 | D8: ='1. Windows'!C20 -> 0 | E8: =SUM(C8*D8) -> 0 | F8: =SUM(C8+E8) -> 250000
A9: 1.3 | B9: ='1. Windows'!B22 -> All-in one | C9: 250000 | D9: ='1. Windows'!C30 -> 0 | E9: =SUM(C9*D9) -> 0 | F9: =SUM(C9+E9) -> 250000
A10: 1.3 | B10: ='1. Windows'!B32 -> Monitoren Desktop | C10: 50000 | D10: ='1. Windows'!C39 -> 0 | E10: =SUM(C10*D10) -> 0 | F10: =SUM(C10+E10) -> 50000
A11: 2.1 | B11: ='2. Apple'!B3 -> iPads | C11: 250000 | D11: ='2. Apple'!C10 -> 0 | E11: =SUM(C11*D11) -> 0 | F11: =SUM(C11-E11) -> 250000
A12: 2.2 | B12: ='2. Apple'!B12 -> Macbooks | C12: 50000 | D12: ='2. Apple'!C17 -> 0 | E12: =SUM(C12*D12) -> 0 | F12: =SUM(C12-E12) -> 50000
A13: 2.3 | B13: ='2. Apple'!B19 -> Oplaadkasten iPads | C13: 50000 | D13: ='2. Apple'!C28 -> 0 | E13: =SUM(C13*D13) -> 0 | F13: =SUM(C13+E13) -> 50000
A14: 3.1 | B14: ='3. Netwerk apparatuur'!B3 -> Switches | C14: 100000 | D14: ='3. Netwerk apparatuur'!C8 -> 0 | E14: =SUM(C14*D14) -> 0 | F14: =SUM(C14+E14) -> 100000
A15: 3.2 | B15: ='3. Netwerk apparatuur'!B10 -> Firewall | C15: 100000 | D15: ='3. Netwerk apparatuur'!C15 -> 0 | E15: =SUM(C15*D15) -> 0 | F15: =SUM(C15+E15) -> 100000
A16: 3.3 | B16: ='3. Netwerk apparatuur'!B17 -> Wi-Fi (Access Points) | C16: 100000 | D16: ='3. Netwerk apparatuur'!C22 -> 0 | E16: =SUM(C16*D16) -> 0 | F16: =SUM(C16+E16) -> 100000
A17: 3.4 | B17: ='3. Netwerk apparatuur'!B24 -> Servers en Storage | C17: 100000 | D17: ='3. Netwerk apparatuur'!C29 -> 0 | E17: =SUM(C17*D17) -> 0 | F17: =SUM(C17+E17) -> 100000
A18: 4.1 | B18: ='4. Accessoires'!B3 -> Accessoires | C18: 50000 | D18: ='4. Accessoires'!B7 -> 0 | E18: =SUM(C18*D18) -> 0 | F18: =SUM(C18+E18) -> 50000
B19: Onderdeel overige leveringen/diensten | F19: Vergelijkingsprijs
A20: 5.1 | B20: ='5. Reparatietarieven'!B3 -> Reparatietarieven | F20: ='5. Reparatietarieven'!E8 -> 10000
A21: 6.1 | B21: ='6. Overige diensten'!B3 -> Overige diensten | F21: ='6. Overige diensten'!E8 -> 0
D23: Totaal vergelijkingsprijs | F23: =SUM(F7:F18)+F20+F21 -> 1610000

Sheet 1. Windows
B1: Windows
A3: 1.1 | B3: Laptops
B4: Technische Specificatie | C4: Omschrijving
B5: Model | C5: De mogelijkheid om een leerkrachten model en leerlingen model te leveren
B6: Licentie | C6: Windows 10 Home 64-bit
B7: Merk | C7: A merk (zie het Programma van Eisen)
B8: Stroom | C8: Kabel voor stroomvoorziening is mee geleverd
B9: Prijzen Laptop
B10: Opslagpercentage
A12: 1.2 | B12: Desktops
B13: Technische Specificatie | C13: Omschrijving
B14: Model | C14: Klein model (mogelijkheid om aan de wand/scherm te bevestigen)
B15: Licentie | C15: Windows 10 Home 64-bit
B16: Merk | C16: A merk (zie het Programma van Eisen)
B17: Materiaal | C17: Metaal of soortgelijk
B18: Stroom | C18: Kabel voor stroomvoorziening is mee geleverd
B19: Prijzen Desktop
B20: Opslagpercentage
A22: 1.3 | B22: All-in one
B23: Technische Specificatie | C23: Omschrijving
B24: Model | C24: Non Touch
B25: Licentie | C25: Windows 10 Home 64-bit
B26: Merk | C26: A merk (zie het Programma van Eisen)
B27: Materiaal | C27: Metaal of soortgelijk
B28: Stroom | C28: Kabel voor stroomvoorziening is mee geleverd
B29: Prijzen Desktop
B30: Opslagpercentage
A32: 1.4 | B32: Monitoren Desktop
B33: Technische Specificatie | C33: Omschrijving
B34: Formaat | C34: Keuze uit 22, 23 of 24'' inch
B35: Merk | C35: A merk (zie het Programma van Eisen)
B36: Kijkhoek | C36: 178 graden
B37: Verstelbaarheid | C37: In hoogte verstelbaar
B38: Prijzen Monitor
B39: Opslagpercentage

Sheet 2. Apple
B1: Apple
A3: 2.1 | B3: iPads
B4: Technische Specificatie | C4: Omschrijving
B5: Model | C5: U kunt de meest actuele iPad leveren. De opdrachtgever maakt bij de aanschaf een keuze voor het model binnen deze overeenkomst.
B6: Opslag | C6: Minimaal 128 Gb
B7: Kleuren | C7: Alle beschikbare kleuren
B8: Oplevering | C8: in DEP
B9: Prijzen iPads
B10: Let op: kortingspercentage
A12: 2.2 | B12: Macbooks
B13: Technische Specificatie | C13: Omschrijving
B14: Model | C14: U kunt de meest actuele Macbooks leveren. De opdrachtgever maakt bij de aanschaf een keuze voor het model binnen deze overeenkomst.
B15: Kleuren | C15: Alle beschikbare kleuren
B16: Prijzen iPads
B17: Let op: kortingspercentage
A19: 2.3 | B19: Oplaadkasten iPads
B20: Technische Specificatie | C20: Omschrijving
B21: Omvang/grote | C21: Leverbaar in verschillende oplaadkasten: minimaal 10 en 20 iPads.
B22: Afsluitbaar | C22: De oplaadkast is afsluitbaar met een slot.
B23: Inclusief hoes | C23: De iPads passen inclusief hoes in de oplaadkast.
B24: Stroom | C24: Oplaadkast is voorzien van een 220V stopcontact (geaard en gezekerd).
B25: Aansluitingen | C25: Lightning aansluiting. Er dient een mogelijkheid te zijn om een verwisselbare aansluitkoppelstuk op de aansluiting te plaatsen, minimaal USB C.
B26: Kabels | C26: De kabels zijn volledig weggewerkt in de oplaadkast.
B27: Prijzen Oplaadkast
B28: Opslagpercentage

Sheet 3. Netwerk apparatuur
B1: Netwerk apparatuur
A3: 3.1 | B3: Switches
B4: Technische Specificatie | C4: Omschrijving
B5: Licentie | C5: De Licenties worden apart ingekocht coform de tarieven van de fabrikant
B6: Merk | C6: Minimaal de mogelijkheid om 1 van de volgende merken te leveren: - HP Aruba - Cisco - Juniper - Fortinet - Huawei
B7: Prijzen Switches
B8: Opslagpercentage
A10: 3.2 | B10: Firewall
B11: Technische Specificatie | C11: Omschrijving
B12: Licentie | C12: De Licenties worden apart ingekocht coform de tarieven van de fabrikant
B13: Merk | C13: Minimaal de mogelijkheid om 1 van de volgende merken te leveren: - Fortinet - Check Point - Palo Alto
B14: Prijzen Firewall
B15: Opslagpercentage
A17: 3.3 | B17: Wi-Fi (Access Points)
B18: Technische Specificatie | C18: Omschrijving
B19: Licentie | C19: De Licenties worden apart ingekocht coform de tarieven van de fabrikant
B20: Merk | C20: Minimaal de mogelijkheid om 1 van de volgende merken te leveren: - HP Aruba - Cisco - Juniper - Fortinet - Huawei - Extreem Networks
B21: Prijzen Wi-Fi (Access Points)
B22: Opslagpercentage
A24: 3.4 | B24: Servers en Storage
B25: Technische Specificatie | C25: Omschrijving
B26: Licentie | C26: De Licenties worden apart ingekocht coform de tarieven van de fabrikant
B27: Merk | C27: Minimaal de mogelijkheid om 1 van de volgende merken te leveren: - HP - Dell - Pure Storage - NetApp
B28: Prijzen Servers en Storage
B29: Opslagpercentage

Sheet 4. Accessoires
B1: Accessoires
A3: 4.1 | B3: Accessoires
B4: De opdrachtgever heeft de mogelijkheid om accessoires voor de alle Devices bij te bestellen tegen een vast opslagpercentage. Onder accessoires wordt verstaan maar niet beperkt tot: toetsenborden, muizen, beschermhoesen, dockingstations, headsets, webcams, opladers, laptopsteunen, kabels, monitor privacy filters.
B5: De accessoires kunnen besteld worden in de webshop van de leverancier, met de opgegeven opslagpercentage.
B6: Opslagpercentage accessoires

Sheet 5. Reparatietarieven
A1: Reparatietarieven
A3: 5.1 | B3: Reparatietarieven | C3: Fictieve aantallen / eenheden | D3: Uurtarief | E3: Totaal
B4: Uurtarief reparatiewerkzaamheden | C4: 50 | E4: =SUM(C4*D4) -> 0
B5: Onderzoekskosten | C5: 50 | E5: =SUM(C5*D5) -> 0
C6: Fictieve inkoopwaarde | D6: Opslagpercentage
B7: Opslagpercentage onderdelen | C7: 10000 | E7: =SUM(C7*D7)+C7 -> 10000
D8: Totaal | E8: =SUM(E4:E7) -> 10000

Sheet 6. Overige diensten
A1: Overige diensten (optioneel)
A3: 6.1 | B3: Overige diensten | C3: Fictief aantal | D3: Prijs per stuk | E3: Totaal
B4: Uitpakken en afvoeren verpakkingsmateriaal | C4: 100 | E4: =SUM(C4*D4) -> 0
B5: Afvoeren oude hardware inclusief het aanleveren van certificaten van vernietiging | C5: 100 | E5: =SUM(C5*D5) -> 0
B6: Volledig werkend opleveren Windows Devices (conform eis 2.2 van het Programma van Eisen) | C6: 100 | E6: =SUM(C6*D6) -> 0
B7: Implementatie kosten Topdesk koppeling (conform NVI vraag 88) | C7: 1 | E7: =SUM(C7*D7) -> 0
D8: Totaal | E8: =SUM(E4:E7) -> 0
