Workbook
Name Betrouwbaarheid: [1]Parameters!$C$21
Name Beveiligbaarheid: [1]Parameters!$C$26
Name Bruikbaarheid: [1]Parameters!$C$14
Name Functioneel: [1]Parameters!$C$3
Name Ja_Nee: Parameters!$A$4:$A$6
Name Onderhoudbaarheid: [1]Parameters!$C$32
Name Overdraagbaarheid: [1]Parameters!$C$38
Name Prestatie: [1]Parameters!$C$7
Name Uitwisselbaarheid: [1]Parameters!$C$11

Sheet Functionele eisen
B2: Functionele eisen en wensen
B4: Legenda | C4: Prioritering | F4: Weging | G4: Score
B5: E | C5: Deze functionaliteiten moeten in het eindresultaat terugkomen (dit zijn de knock-outs) | F5: K.O. | G5: oké
B6: W | C6: Deze functionaliteiten zijn gewenst | F6: 1 | G6: 1
B8: Burger -> Afspraak maken | F8: Totaalscore: | G8: =+SUM(G10:G22) -> 0
B9: Nr. | C9: Titel | D9: Omschrijving | E9: Eis / Wens | F9: Indien akkoord invullen met 'X' | G9: Score
B10: FU01 | C10: Activatie | D10: Burger komt bij het startscherm voor het maken van een afspraak door te klikken op link op een landingspagina (testenvoortoegang.org) | E10: W | G10: =IF(UPPER(F10)="X",IF(E10="",,VLOOKUP(E10,$B$5:$G$6,6,FALSE)),IF(E10=$B$5,"Niet oké",0)) -> 0
B11: FU02 | C11: Intelligente procesafhandeling | D11: De procesflow om al dan niet te komen tot een test afspraak is afhankelijk van de door de burger gegeven input. Er dient vermeden te worden dat de burger onnodig gegevens moet invullen. | E11: W | G11: =IF(UPPER(F11)="X",IF(E11="",,VLOOKUP(E11,$B$5:$G$6,6,FALSE)),IF(E11=$B$5,"Niet oké",0)) -> 0
B12: FU03 | C12: Vaststellen geschikt test tijdsinterval | D12: Portaal leidt a.d.h.v. door de burger ingevoerde datum en tijd van de activiteit of het evenement waar toegang voor gewenst is een geschikt test tijdsinterval af. | E12: W | G12: =IF(UPPER(F12)="X",IF(E12="",,VLOOKUP(E12,$B$5:$G$6,6,FALSE)),IF(E12=$B$5,"Niet oké",0)) -> 0
B13: FU04 | C13: Vaststelling geschikte beschikbare testlocaties | D13: Portaal zoekt a.d.h.v. door de burger ingevoerde gewenste locatie nabije testlocaties en beschikbare tijdsloten. | E13: E | G13: =IF(UPPER(F13)="X",IF(E13="",,VLOOKUP(E13,$B$5:$G$6,6,FALSE)),IF(E13=$B$5,"Niet oké",0)) -> Niet oké
B14: FU05 | C14: Reservering testlocatie en tijdslot | D14: Portaal reserveert door burger gekozen testlocatie en tijdslot | E14: E | G14: =IF(UPPER(F14)="X",IF(E14="",,VLOOKUP(E14,$B$5:$G$6,6,FALSE)),IF(E14=$B$5,"Niet oké",0)) -> Niet oké
B15: FU06 | C15: Unieke boeking | D15: Portaal waarborgt dat boekingen uniek zijn (voorkomt dat de capaciteit van de testlocatie op een specifiek tijdstip overschreden wordt). | E15: E | G15: =IF(UPPER(F15)="X",IF(E15="",,VLOOKUP(E15,$B$5:$G$6,6,FALSE)),IF(E15=$B$5,"Niet oké",0)) -> Niet oké
B16: FU07 | C16: SMS Verificatie | D16: Er wordt SMS verificatie toegepast voordat een burger verder kan met het proces. Hert portaal stuurt hiertoe een SMS met een verificatiecode naar de telefoon van de burger. De burger dient deze code op het Portaal in te vullen. | E16: E | G16: =IF(UPPER(F16)="X",IF(E16="",,VLOOKUP(E16,$B$5:$G$6,6,FALSE)),IF(E16=$B$5,"Niet oké",0)) -> Niet oké
B17: FU08 | C17: Invoer persoonsgegevens | D17: Na een positieve SMS verificatie laat het portaal de burger persoonsgegevens invullen. | E17: E | G17: =IF(UPPER(F17)="X",IF(E17="",,VLOOKUP(E17,$B$5:$G$6,6,FALSE)),IF(E17=$B$5,"Niet oké",0)) -> Niet oké
B18: FU09 | C18: Vastleggen afspraak | D18: Portaal stuurt de definitieve afspraakgegevens naar de testaanbieder (Koppelvlak met testaanbieder). | E18: E | G18: =IF(UPPER(F18)="X",IF(E18="",,VLOOKUP(E18,$B$5:$G$6,6,FALSE)),IF(E18=$B$5,"Niet oké",0)) -> Niet oké
B19: FU10 | C19: Registratie afspraak | D19: Portaal registreert de bij een testaanbieder gemaakte afspraak ook in eigen database | E19: E | G19: =IF(UPPER(F19)="X",IF(E19="",,VLOOKUP(E19,$B$5:$G$6,6,FALSE)),IF(E19=$B$5,"Niet oké",0)) -> Niet oké
B20: FU11 | C20: Afspraakbevestiging tonen | D20: Nadat de afspraak is gemaakt en naar de testaanbieder is gestuurd toont het Portaal de afspraakbevestiging op het scherm. | E20: W | G20: =IF(UPPER(F20)="X",IF(E20="",,VLOOKUP(E20,$B$5:$G$6,6,FALSE)),IF(E20=$B$5,"Niet oké",0)) -> 0
B21: FU12 | C21: Afspraakbevestiging mailen | D21: Portaal stuurt mail naar de burger met de afspraakinformatie (inclusief informatie hoe afspraak te annuleren en evt. te wijzigen is). | E21: E | G21: =IF(UPPER(F21)="X",IF(E21="",,VLOOKUP(E21,$B$5:$G$6,6,FALSE)),IF(E21=$B$5,"Niet oké",0)) -> Niet oké
B22: FU13 | C22: Afspraakbevestiging sms/whatsapp | D22: Portaal stuurt sms/whatsapp naar burger met de afspraakbevestiging. | E22: W | G22: =IF(UPPER(F22)="X",IF(E22="",,VLOOKUP(E22,$B$5:$G$6,6,FALSE)),IF(E22=$B$5,"Niet oké",0)) -> 0
B25: Burger -> Afspraak annuleren | F25: Totaalscore: | G25: =+SUM(G27:G35) -> 0
B26: Nr. | C26: Titel | D26: Omschrijving | E26: Eis / Wens | F26: Indien akkoord invullen met 'X' | G26: Score
B27: FU14 | C27: Activatie | D27: Burger kan m.b.v. informatie uit de afspraakbevestigingsmail het annuleringsproces activeren. | E27: E | G27: =IF(UPPER(F27)="X",IF(E27="",,VLOOKUP(E27,$B$5:$G$6,6,FALSE)),IF(E27=$B$5,"Niet oké",0)) -> Niet oké
B28: FU15 | C28: Tonen gegevens van te annuleren afspraak | D28: Portaal toont annulerings pagina met de boekingsgegevens van de te annuleren afspraak. | E28: E | G28: =IF(UPPER(F28)="X",IF(E28="",,VLOOKUP(E28,$B$5:$G$6,6,FALSE)),IF(E28=$B$5,"Niet oké",0)) -> Niet oké
B29: FU16 | C29: Daadwerkelijke keuze annuleren | D29: De burger dient bewust op een annuleringsknop te klikken om de afspraak te annuleren. | E29: E | G29: =IF(UPPER(F29)="X",IF(E29="",,VLOOKUP(E29,$B$5:$G$6,6,FALSE)),IF(E29=$B$5,"Niet oké",0)) -> Niet oké
B30: FU17 | C30: Bevestiging annuleren | D30: Portaal vraagt om bevestiging nadat burger op annuleringsknop heeft geklikt. De burger krijgt hierbij de opties om de afspraak definitief te annuleren of om het annuleringsproces af te breken (bestaande afspraak blijft intact). | E30: W | G30: =IF(UPPER(F30)="X",IF(E30="",,VLOOKUP(E30,$B$5:$G$6,6,FALSE)),IF(E30=$B$5,"Niet oké",0)) -> 0
B31: FU18 | C31: Definieve annulering | D31: Bij definitieve annulering stuurt het portaal een annuleringbericht naar de desbetreffende testaanbieder (Koppelvlak met testaanbieders) | E31: E | G31: =IF(UPPER(F31)="X",IF(E31="",,VLOOKUP(E31,$B$5:$G$6,6,FALSE)),IF(E31=$B$5,"Niet oké",0)) -> Niet oké
B32: FU19 | C32: Registratie verwijderen | D32: Portaal verwerkt annulering in eigen database. | E32: E | G32: =IF(UPPER(F32)="X",IF(E32="",,VLOOKUP(E32,$B$5:$G$6,6,FALSE)),IF(E32=$B$5,"Niet oké",0)) -> Niet oké
B33: FU20 | C33: Annuleringsbevestiging tonen | D33: Portaal toont annuleringsinformatie op scherm. | E33: W | G33: =IF(UPPER(F33)="X",IF(E33="",,VLOOKUP(E33,$B$5:$G$6,6,FALSE)),IF(E33=$B$5,"Niet oké",0)) -> 0
B34: FU21 | C34: Annuleringsbevestiging mail | D34: Portaal stuurt E-mail met annuleringsbevestiging naar de burger | E34: E | G34: =IF(UPPER(F34)="X",IF(E34="",,VLOOKUP(E34,$B$5:$G$6,6,FALSE)),IF(E34=$B$5,"Niet oké",0)) -> Niet oké
B35: FU22 | C35: Annuleringsbevestiging SMS/Whatsapp | D35: Portaal stuurt SMS/Whatsapp met annuleringsbevestiging naar de burger. | E35: W | G35: =IF(UPPER(F35)="X",IF(E35="",,VLOOKUP(E35,$B$5:$G$6,6,FALSE)),IF(E35=$B$5,"Niet oké",0)) -> 0
B38: Burger -> Afspraak wijzigen | F38: Totaalscore: | G38: =+SUM(G40:G40) -> 0
B39: Nr. | C39: Titel | D39: Omschrijving | E39: Eis / Wens | F39: Indien akkoord invullen met 'X' | G39: Score
B40: FU23 | C40: Afspraak wijzigen | D40: Burger kan m.b.v. informatie uit afspraakbevestigingsmail de afspraak wijzigen. Dit proces dient dan verder te voldoen aan de in "Afspraak maken" gestelde eisen, zie paragraaf 2.1 Huidige situatie kopje "2. Afsprakenportaal" van het Beschrijvend Document. | E40: W | G40: =IF(UPPER(F40)="X",IF(E40="",,VLOOKUP(E40,$B$5:$G$6,6,FALSE)),IF(E40=$B$5,"Niet oké",0)) -> 0
B43: Beheer -> algemeen | F43: Totaalscore: | G43: =+SUM(G45:G48) -> 0
B44: Nr. | C44: Titel | D44: Omschrijving | E44: Eis / Wens | F44: Indien akkoord invullen met 'X' | G44: Score
B45: FU24 | C45: Item toevoegen | D45: Alle items in de beheeroplossing dienen uniek identificeerbaar te zijn. De beheeroplossing dient te waarborgen dat een beheerder geen duplicaten kan toevoegen. | E45: E | G45: =IF(UPPER(F45)="X",IF(E45="",,VLOOKUP(E45,$B$5:$G$6,6,FALSE)),IF(E45=$B$5,"Niet oké",0)) -> Niet oké
B46: FU25 | C46: Item verwijderen | D46: In verschillende type items in de beheeroplossing zit een gelaagdheid en onderlinge afhankelijkheden. De beheeroplossing dient te waarborgen dat een beheerder niet een item verwijdert, waarvan andere items afhankelijk zijn. Een voorbeeld hiervan is dat een testlocatie niet mag worden verwijderd als voor de betreffende locatie nog uit te voeren testen gepland staan. | E46: E | G46: =IF(UPPER(F46)="X",IF(E46="",,VLOOKUP(E46,$B$5:$G$6,6,FALSE)),IF(E46=$B$5,"Niet oké",0)) -> Niet oké
B47: FU26 | C47: Item wijzigen | D47: In verschillende type items in de beheeroplossing zit een gelaagdheid en onderlinge afhankelijkheden. De beheeroplossing dient bij het wijzigen door een beheerder van (de inhoud van) een item de consistentie van- en met afhankelijke items te waarborgen. Een voorbeeld hiervan is dat bij het wijzigen van de mogelijke testcapaciteit van een specifieke testlocatie rekening gehouden moet worden met reeds gemaakte afspraken van nog uit te voeren testen. | E47: E | G47: =IF(UPPER(F47)="X",IF(E47="",,VLOOKUP(E47,$B$5:$G$6,6,FALSE)),IF(E47=$B$5,"Niet oké",0)) -> Niet oké
B48: FU27 | C48: Rapportages | D48: De oplossing biedt de mogelijkheid om (geautomatiseerde) rapportages te versturen naar hiervoor geautoriseerde personen. Bijvoorbeeld foutmeldingen e.d. | E48: W | G48: =IF(UPPER(F48)="X",IF(E48="",,VLOOKUP(E48,$B$5:$G$6,6,FALSE)),IF(E48=$B$5,"Niet oké",0)) -> 0
B51: Beheer -> Toegangsbeheer | F51: Totaalscore: | G51: =+SUM(G53:G58) -> 0
B52: Nr. | C52: Titel | D52: Omschrijving | E52: Eis / Wens | F52: Indien akkoord invullen met 'X' | G52: Score
B53: FU28 | C53: Inloggen | D53: Het inlogproces dient gebruik te maken van een tweestapsauthenticatie mechanisme. | E53: E | G53: =IF(UPPER(F53)="X",IF(E53="",,VLOOKUP(E53,$B$5:$G$6,6,FALSE)),IF(E53=$B$5,"Niet oké",0)) -> Niet oké
B54: FU29 | C54: Authorisatie gebaseerd op rollen | D54: De beheer oplossing kent verschillende rollen met bijbehorende authorisaties voor specifieke functionaliteit. Rollen die initieel in ieder geval worden onderkend zijn: - IT beheerder (admin) - Testaanbieder - Capaciteitsmedewerker - Helpdesk medewerker | E54: E | G54: =IF(UPPER(F54)="X",IF(E54="",,VLOOKUP(E54,$B$5:$G$6,6,FALSE)),IF(E54=$B$5,"Niet oké",0)) -> Niet oké
B55: FU30 | C55: Rollen toevoegen | D55: Een nieuwe rol met bijbehorende authorisaties kan zonder aanpassingen in de software van de oplossing worden toegevoegd door een gebruiker met de rechten hiervoor (admin user). | E55: W | G55: =IF(UPPER(F55)="X",IF(E55="",,VLOOKUP(E55,$B$5:$G$6,6,FALSE)),IF(E55=$B$5,"Niet oké",0)) -> 0
B56: FU31 | C56: Rollen wijzigen | D56: De bij een rol behorende authorisaties kunnen zonder aanpassingen in de software van de oplossing worden gewijzigd door een gebruiker met de rechten hiervoor (admin user). | E56: W | G56: =IF(UPPER(F56)="X",IF(E56="",,VLOOKUP(E56,$B$5:$G$6,6,FALSE)),IF(E56=$B$5,"Niet oké",0)) -> 0
B57: FU32 | C57: Rollen verwijderen | D57: Een bestaande rol met bijbehorende authorisaties kan zonder aanpassingen in de software van de oplossing worden verwijderd door een gebruiker met de rechten hiervoor (admin user). | E57: W | G57: =IF(UPPER(F57)="X",IF(E57="",,VLOOKUP(E57,$B$5:$G$6,6,FALSE)),IF(E57=$B$5,"Niet oké",0)) -> 0
B58: FU33 | C58: Gebruikers | D58: Gebruikers kunnen: - Worden toegevoegd (met een rol) - Worden verwijderd - Actief/inactief worden gezet | E58: E | G58: =IF(UPPER(F58)="X",IF(E58="",,VLOOKUP(E58,$B$5:$G$6,6,FALSE)),IF(E58=$B$5,"Niet oké",0)) -> Niet oké
B61: Beheerder -> Content | F61: Totaalscore: | G61: =+SUM(G63:G65) -> 0
B62: Nr. | C62: Titel | D62: Omschrijving | E62: Eis / Wens | F62: Indien akkoord invullen met 'X' | G62: Score
B63: FU34 | C63: Aanpasbaarheid | D63: De content op de pagina's van het Afsprakenportaal en de landingspagina dient door hiervoor geautoriseerde gebruikers aanpasbaar te zijn. | E63: E | G63: =IF(UPPER(F63)="X",IF(E63="",,VLOOKUP(E63,$B$5:$G$6,6,FALSE)),IF(E63=$B$5,"Niet oké",0)) -> Niet oké
B64: FU35 | C64: Meertaligheid, nederlands, engels | D64: De oplossing dient meerdere talen te ondersteunen mbt de aan de burger getoonde pagina's. In ieder geval nederlands en engels. | E64: E | G64: =IF(UPPER(F64)="X",IF(E64="",,VLOOKUP(E64,$B$5:$G$6,6,FALSE)),IF(E64=$B$5,"Niet oké",0)) -> Niet oké
B65: FU36 | C65: Meertaligheid, andere talen | D65: De oplossing ondersteunt ook minstens 1 andere taal mbt de aan de burger getoonde pagina's dan nederlands en engels. | E65: W | G65: =IF(UPPER(F65)="X",IF(E65="",,VLOOKUP(E65,$B$5:$G$6,6,FALSE)),IF(E65=$B$5,"Niet oké",0)) -> 0
B68: Beheerder -> Testaanbieders | F68: Totaalscore: | G68: =+SUM(G70:G73) -> 0
B69: Nr. | C69: Titel | D69: Omschrijving | E69: Eis / Wens | F69: Indien akkoord invullen met 'X' | G69: Score
B70: FU37 | C70: Informatie inzien | D70: Het kunnen inzien van de in de oplossing bekende informatie van een specifieke testaanbieder. | E70: E | G70: =IF(UPPER(F70)="X",IF(E70="",,VLOOKUP(E70,$B$5:$G$6,6,FALSE)),IF(E70=$B$5,"Niet oké",0)) -> Niet oké
B71: FU38 | C71: Toevoegen | D71: Het kunnen toevoegen van een specifieke testaanbieder. | E71: E | G71: =IF(UPPER(F71)="X",IF(E71="",,VLOOKUP(E71,$B$5:$G$6,6,FALSE)),IF(E71=$B$5,"Niet oké",0)) -> Niet oké
B72: FU39 | C72: Bewerken | D72: Het kunnen bewerken van de bij een specifieke testaanbieder behorende beschrijvende informatie. | E72: E | G72: =IF(UPPER(F72)="X",IF(E72="",,VLOOKUP(E72,$B$5:$G$6,6,FALSE)),IF(E72=$B$5,"Niet oké",0)) -> Niet oké
B73: FU40 | C73: Verwijderen | D73: Het kunnen verwijderen van een specifieke testaanbieder. | E73: E | G73: =IF(UPPER(F73)="X",IF(E73="",,VLOOKUP(E73,$B$5:$G$6,6,FALSE)),IF(E73=$B$5,"Niet oké",0)) -> Niet oké
B76: Beheerder -> Testlocaties | F76: Totaalscore: | G76: =+SUM(G78:G82) -> 0
B77: Nr. | C77: Titel | D77: Omschrijving | E77: Eis / Wens | F77: Indien akkoord invullen met 'X' | G77: Score
B78: FU41 | C78: Toevoegen | D78: Het kunnen toevoegen van een nieuwe testlocatie behorende bij een specifieke testaanbieder. | E78: E | G78: =IF(UPPER(F78)="X",IF(E78="",,VLOOKUP(E78,$B$5:$G$6,6,FALSE)),IF(E78=$B$5,"Niet oké",0)) -> Niet oké
B79: FU42 | C79: Wijzigen | D79: Het kunnen wijzigen van de in de oplossing bekende algemene informatie (zoals beschrijving, adresgegevens e.d.) behorend bij een specifieke testlocatie. | E79: E | G79: =IF(UPPER(F79)="X",IF(E79="",,VLOOKUP(E79,$B$5:$G$6,6,FALSE)),IF(E79=$B$5,"Niet oké",0)) -> Niet oké
B80: FU43 | C80: Verwijderen | D80: Het kunnen verwijderen van een specifieke testlocatie. | E80: E | G80: =IF(UPPER(F80)="X",IF(E80="",,VLOOKUP(E80,$B$5:$G$6,6,FALSE)),IF(E80=$B$5,"Niet oké",0)) -> Niet oké
B81: FU44 | C81: Openingstijden | D81: Het kunnen aanpassen van openingstijden van een testlocatie (zowel huidige als toekomstige). In laatste TVT situatie werd dit tot 4 weken in toekomst gedaan. Dit is afhankelijk van het dan geldende beleid. | E81: E | G81: =IF(UPPER(F81)="X",IF(E81="",,VLOOKUP(E81,$B$5:$G$6,6,FALSE)),IF(E81=$B$5,"Niet oké",0)) -> Niet oké
B82: FU45 | C82: Capaciteit | D82: Het kunnen aanpassen van beschikbare capaciteit van een testlocatie (volgens zelfde tijdsinterval als openingstijden). | E82: E | G82: =IF(UPPER(F82)="X",IF(E82="",,VLOOKUP(E82,$B$5:$G$6,6,FALSE)),IF(E82=$B$5,"Niet oké",0)) -> Niet oké
B85: Beheerder -> Afspraken | F85: Totaalscore: | G85: =+SUM(G87:G89) -> 0
B86: Nr. | C86: Titel | D86: Omschrijving | E86: Eis / Wens | F86: Indien akkoord invullen met 'X' | G86: Score
B87: FU46 | C87: Zoeken en tonen | D87: Het zoeken naar een specifieke testafspraak van een burger en het tonen van de gevonden afspraakinformatie. | E87: W | G87: =IF(UPPER(F87)="X",IF(E87="",,VLOOKUP(E87,$B$5:$G$6,6,FALSE)),IF(E87=$B$5,"Niet oké",0)) -> 0
B88: FU47 | C88: Bevestiging opnieuw sturen | D88: Het opnieuw kunnen sturen van een afspraakbevestiging naar een burger. (Verder analoog aan burger -> afspraakmaken: Afspraakbevestiging mailen en indien mogelijk Afspraakbevestiging sms/whatsapp) | E88: W | G88: =IF(UPPER(F88)="X",IF(E88="",,VLOOKUP(E88,$B$5:$G$6,6,FALSE)),IF(E88=$B$5,"Niet oké",0)) -> 0
B89: FU48 | C89: Annuleren | D89: Het kunnen annuleren van een specifieke testafspraak van een burger. (Verder analoog aan burger -> afspraak annuleren: Annuleringsbevestiging mail en indien mogelijk Annuleringsbevestiging SMS/Whatsapp) | E89: W | G89: =IF(UPPER(F89)="X",IF(E89="",,VLOOKUP(E89,$B$5:$G$6,6,FALSE)),IF(E89=$B$5,"Niet oké",0)) -> 0
B92: Beheerder -> Evenementcodes | F92: Totaalscore: | G92: =+SUM(G94:G97) -> 0
B93: Nr. | C93: Titel | D93: Omschrijving | E93: Eis / Wens | F93: Indien akkoord invullen met 'X' | G93: Score
B94: FU49 | C94: Overzicht | D94: Tonen overzicht van de in de oplossing bekende evenementcodes. | E94: W | G94: =IF(UPPER(F94)="X",IF(E94="",,VLOOKUP(E94,$B$5:$G$6,6,FALSE)),IF(E94=$B$5,"Niet oké",0)) -> 0
B95: FU50 | C95: Toevoegen | D95: Toevoegen van een evenementcode (en bijbehorende informatie). | E95: W | G95: =IF(UPPER(F95)="X",IF(E95="",,VLOOKUP(E95,$B$5:$G$6,6,FALSE)),IF(E95=$B$5,"Niet oké",0)) -> 0
B96: FU51 | C96: Bewerken | D96: Bewerken van de bij een evenementcode behorende informatie. | E96: W | G96: =IF(UPPER(F96)="X",IF(E96="",,VLOOKUP(E96,$B$5:$G$6,6,FALSE)),IF(E96=$B$5,"Niet oké",0)) -> 0
B97: FU52 | C97: Verwijderen | D97: Verwijderen van een evenementcode (en bijbehorende informatie). | E97: W | G97: =IF(UPPER(F97)="X",IF(E97="",,VLOOKUP(E97,$B$5:$G$6,6,FALSE)),IF(E97=$B$5,"Niet oké",0)) -> 0
B100: Beheerder -> Evenementtype | F100: Totaalscore: | G100: =+SUM(G102:G105) -> 0
B101: Nr. | C101: Titel | D101: Omschrijving | E101: Eis / Wens | F101: Indien akkoord invullen met 'X' | G101: Score
B102: FU53 | C102: Overzicht | D102: Tonen overzicht van de in de oplossing bekende evenementtypes. | E102: W | G102: =IF(UPPER(F102)="X",IF(E102="",,VLOOKUP(E102,$B$5:$G$6,6,FALSE)),IF(E102=$B$5,"Niet oké",0)) -> 0
B103: FU54 | C103: Toevoegen | D103: Toevoegen van een evenementtype met bijbehorende beschrijvende informatie.. | E103: W | G103: =IF(UPPER(F103)="X",IF(E103="",,VLOOKUP(E103,$B$5:$G$6,6,FALSE)),IF(E103=$B$5,"Niet oké",0)) -> 0
B104: FU55 | C104: Bewerken | D104: Bewerken van de bij een evenementtype behorende beschrijvende informatie. | E104: W | G104: =IF(UPPER(F104)="X",IF(E104="",,VLOOKUP(E104,$B$5:$G$6,6,FALSE)),IF(E104=$B$5,"Niet oké",0)) -> 0
B105: FU56 | C105: Verwijderen | D105: Verwijderen van een evenementtype. | E105: W | G105: =IF(UPPER(F105)="X",IF(E105="",,VLOOKUP(E105,$B$5:$G$6,6,FALSE)),IF(E105=$B$5,"Niet oké",0)) -> 0

Sheet Non-Functionele eisen
B2: Non-Functionele eisen en wensen
B4: Legenda | C4: Prioritering | F4: Weging | G4: Score
B5: E | C5: Deze functionaliteiten moeten in het eindresultaat terugkomen (dit zijn de knock-outs) | F5: K.O. | G5: oké
B6: W | C6: Deze functionaliteiten zijn gewenst | F6: 1 | G6: 1
B9: Veiligheid en privacy --> Normen en richtlijnen | F9: Totaalscore: | G9: =+SUM(G11:G12) -> 0
B10: Nr. | C10: Titel | D10: Omschrijving | E10: Eis / Wens | F10: Indien akkoord invullen met 'X' | G10: Score
B11: NF01 | C11: AVG | D11: De oplossing voldoet aan de AVG / GDPR wetgeving. | E11: E | G11: =IF(UPPER(F11)="X",IF(E11="",,VLOOKUP(E11,$B$5:$G$6,6,FALSE)),IF(E11=$B$5,"Niet oké",0)) -> Niet oké
B12: NF02 | C12: BIO (BBN2) | D12: De oplossing voldoet aan de beveiligingseisen (BBN2) van de Baseline Informatiebeveiliging Overheid (BIO). Zie https://bio-overheid.nl | E12: E | G12: =IF(UPPER(F12)="X",IF(E12="",,VLOOKUP(E12,$B$5:$G$6,6,FALSE)),IF(E12=$B$5,"Niet oké",0)) -> Niet oké
B15: Veiligheid en privacy -->Vertrouwen en integriteit | F15: Totaalscore: | G15: =+SUM(G17:G19) -> 0
B16: Nr. | C16: Titel | D16: Omschrijving | E16: Prio | F16: Indien akkoord invullen met 'X' | G16: Score
B17: NF03 | C17: HTTPS, TLS & certificaten | D17: Internet verkeer via de webbrowser verloopt via een beveiligde verbinding (https) en voldoet aan de verplichte eisen van het Forum voor standaardisatie: https://www.forumstandaardisatie.nl/open-standaarden/verplicht. | E17: E | G17: =IF(UPPER(F17)="X",IF(E17="",,VLOOKUP(E17,$B$5:$G$6,6,FALSE)),IF(E17=$B$5,"Niet oké",0)) -> Niet oké
B18: NF04 | C18: Versleutelde opslag persoonsgegevens | D18: De opslag van persoonsgegevens vindt versleuteld plaats en blijft fysiek binnen de Europese Economische Ruimte, waarbij voldaan wordt aan de AVG. | E18: E | G18: =IF(UPPER(F18)="X",IF(E18="",,VLOOKUP(E18,$B$5:$G$6,6,FALSE)),IF(E18=$B$5,"Niet oké",0)) -> Niet oké
B19: NF05 | C19: E-mail beveiliging | D19: Bij het sturen en ontvangen van e-mails wordt gebruik gemaakt van alle hiervoor relevante, voor overheden verplichte, beveiligingsstandaarden, zoals beschreven bij het Forum van standaardisatie: https://www.forumstandaardisatie.nl/open-standaarden/verplicht. | E19: E | G19: =IF(UPPER(F19)="X",IF(E19="",,VLOOKUP(E19,$B$5:$G$6,6,FALSE)),IF(E19=$B$5,"Niet oké",0)) -> Niet oké
B22: Veiligheid en privacy --> Continuïteit en beschikbaarheid | F22: Totaalscore: | G22: =+SUM(G26:G30) -> 0
B23: Nr. | C23: Titel | D23: Omschrijving | E23: Prio | F23: Indien akkoord invullen met 'X' | G23: Score
B24: NF06 | C24: Beschikbaarheid Afsprakenportaal | D24: Het Afsprakenportaal is 7 dagen per week tussen 7.00 en 23.00 minimaal 99,9% beschikbaar voor het maken van afspraken. Tussen 23.00 en 7.00 geldt in principe dezelfde beschikbaarheid, maar kan in onderling overleg besloten worden voor onderhoudswerkzaamheden, waardoor de beschikbaarheid in deze periode lager uit kan vallen. | E24: E | G24: =IF(UPPER(F24)="X",IF(E24="",,VLOOKUP(E24,$B$5:$G$6,6,FALSE)),IF(E24=$B$5,"Niet oké",0)) -> Niet oké
B25: NF07 | C25: Beschikbaarheid beheerfunctionaliteit Afsprakenportaal | D25: De beheerfunctionaliteit van het Afsprakenportaal is is 7 dagen per week tussen 7.00 en 23.00 minimaal 99,9% beschikbaar. Tussen 23.00 en 7.00 geldt in principe dezelfde beschikbaarheid, maar kan in onderling overleg besloten worden voor onderhoudswerkzaamheden, waardoor de beschikbaarheid in deze periode lager uit kan vallen. | E25: E | G25: =IF(UPPER(F25)="X",IF(E25="",,VLOOKUP(E25,$B$5:$G$6,6,FALSE)),IF(E25=$B$5,"Niet oké",0)) -> Niet oké
B26: NF08 | C26: Back-up & Restore | D26: De oplossing beschikt over goed werkende back-up- en restorevoorzieningen. Er dient te worden gewaarborgd dat in het geval van een calamiteit met dataverlies via een restore actie de volgende data kan worden hersteld: - Afsprakenportaal: reeds gemaakte afspraken voor testen die nog plaats moeten vinden. - Beheerfunctionaliteit: alle opgeslagen configuratiegegevens. | E26: E | G26: =IF(UPPER(F26)="X",IF(E26="",,VLOOKUP(E26,$B$5:$G$6,6,FALSE)),IF(E26=$B$5,"Niet oké",0)) -> Niet oké
B27: NF09 | C27: Retentiebeleid persoonsgegevens | D27: De oplossing hanteert een retentiebeleid m.b.t. de opslag van persoonsgegevens, waarbij voldaan wordt aan de AVG. | E27: E | G27: =IF(UPPER(F27)="X",IF(E27="",,VLOOKUP(E27,$B$5:$G$6,6,FALSE)),IF(E27=$B$5,"Niet oké",0)) -> Niet oké
B28: NF10 | C28: Impact functioneel beheer op performance | D28: Functioneel beheer kan worden uitgevoerd, zonder dat dit invloed heeft op de performance/werking van het Afsprakenportaal. Burgers kunnen afspraken blijven maken en/of annuleren. | E28: E | G28: =IF(UPPER(F28)="X",IF(E28="",,VLOOKUP(E28,$B$5:$G$6,6,FALSE)),IF(E28=$B$5,"Niet oké",0)) -> Niet oké
B29: NF11 | C29: Lifecycle management | D29: De oplossing wordt door de leverancier gesupport met updates t.a.v. security en verbeterde functionaliteit. Kritische security-updates / patches worden binnen 3 werkdagen (na publicatie) door inschrijver geïnstalleerd. | E29: E | G29: =IF(UPPER(F29)="X",IF(E29="",,VLOOKUP(E29,$B$5:$G$6,6,FALSE)),IF(E29=$B$5,"Niet oké",0)) -> Niet oké
B30: NF12 | C30: Testen, audits en verhelpen kwetsbaarheden | D30: Leverancier ondersteunt verleent medewerking aan door opdrachtgever geinitieerde PEN testen en audits. Indien hierbij kritische kwetsbaarheden gevonden worden zorgt leverancier voor het verhelpen (voor eigen rekening) hiervan zover deze in haar invloedsfeer liggen. | E30: E | G30: =IF(UPPER(F30)="X",IF(E30="",,VLOOKUP(E30,$B$5:$G$6,6,FALSE)),IF(E30=$B$5,"Niet oké",0)) -> Niet oké
B33: Generiek --> Koppelingen | F33: Totaalscore: | G33: =+SUM(G35:G38) -> 0
B34: Nr. | C34: Titel | D34: Omschrijving | E34: Prio | F34: Indien akkoord invullen met 'X' | G34: Score
B35: NF13 | C35: Afsprakenportaal met testaanbieders | D35: De oplossing heeft (beveiligde) koppelingen (API's) met de systemen van de testaanbieders voor synchronistatie/uitwisseling van afspraakinformatie met de volgende "endpoints": - Aanmaken van een afspraak; - Annuleren van een afspraak; - Zichtbaar maken van de beschikbaarheid van de API. Zie "20220107 Koppeling afsprakenportaal naar testaanbieders V2.0" voor nadere details. | E35: E | G35: =IF(UPPER(F35)="X",IF(E35="",,VLOOKUP(E35,$B$5:$G$6,6,FALSE)),IF(E35=$B$5,"Niet oké",0)) -> Niet oké
B36: NF14 | C36: Afsprakenportaal met DataLab DT | D36: Het afsprakenportaal heeft een koppeling met het DataLab DT tbv status informatie rapportage. Bij de huidige implementatie van dit koppelvlak is gebruik gemaakt van specifieke functionaliteit in de Azure omgeving. De implementatie van dit koppelvlak kan in onderling overleg worden gewijzigd indien dit beter aansluit bij de aangeboden oplossing voor het Afsprakenportaal. Zie Bijlage 14 (Afsprakenportaal tabellen naar Datalab Dienst Testen) voor nadere details. | E36: E | G36: =IF(UPPER(F36)="X",IF(E36="",,VLOOKUP(E36,$B$5:$G$6,6,FALSE)),IF(E36=$B$5,"Niet oké",0)) -> Niet oké
B37: NF15 | C37: Open-standaarden | D37: Voor koppelingen met andere systemen kan de oplossing open standaarden hanteren, zoals REST APIs (JSON en XML) en SOAP (XML) voor service-koppelingen, XML en CSV voor bestandsuitwisseling. | E37: W | G37: =IF(UPPER(F37)="X",IF(E37="",,VLOOKUP(E37,$B$5:$G$6,6,FALSE)),IF(E37=$B$5,"Niet oké",0)) -> 0
B38: NF16 | C38: RESTful API | D38: Informatie in de oplossing is veilig te benaderen en ontsluiten via een RESTful Application Programming Interface (API). | E38: W | G38: =IF(UPPER(F38)="X",IF(E38="",,VLOOKUP(E38,$B$5:$G$6,6,FALSE)),IF(E38=$B$5,"Niet oké",0)) -> 0
B41: Generiek --> Bruikbaarheid | F41: Totaalscore: | G41: =+SUM(G43:G46) -> 0
B42: Nr. | C42: Titel | D42: Omschrijving | E42: Prio | F42: Indien akkoord invullen met 'X' | G42: Score
B43: NF17 | C43: Rijkshuisstijl | D43: Het Afsprakenortaal kan zo worden ontworpen qua kleur, stijl, vormgeving en interactie dat het aansluit op de eisen van de Rijkshuisstijl. | E43: W | G43: =IF(UPPER(F43)="X",IF(E43="",,VLOOKUP(E43,$B$5:$G$6,6,FALSE)),IF(E43=$B$5,"Niet oké",0)) -> 0
B44: NF18 | C44: WCAG 2.1 / Webrichtlijnen | D44: De oplossing voldoet aan niveau A/ AA WCAG 2.1 webrichtlijnen. Zie ook: https://www.digitoegankelijk.nl | E44: E | G44: =IF(UPPER(F44)="X",IF(E44="",,VLOOKUP(E44,$B$5:$G$6,6,FALSE)),IF(E44=$B$5,"Niet oké",0)) -> Niet oké
B45: NF19 | C45: Responsiveness | D45: De GUI van de oplossing is responsive, ofwel past zich automatisch aan aan het scherm van het te gebruiken apparaat (desktop, laptop, tablet, mobiel). | E45: E | G45: =IF(UPPER(F45)="X",IF(E45="",,VLOOKUP(E45,$B$5:$G$6,6,FALSE)),IF(E45=$B$5,"Niet oké",0)) -> Niet oké
B46: NF20 | C46: Browserondersteuning | D46: De oplossing is volledig webbased te gebruiken met de meest gangbare en ondersteunde web-browsers. In ieder geval met Microsoft Edge, Chromium, Google Chrome, Apple Safari en Mozilla Firefox zonder gebruik te maken van plug-ins (zoals Flash, Silverlight, ActiveX, etc.). | E46: E | G46: =IF(UPPER(F46)="X",IF(E46="",,VLOOKUP(E46,$B$5:$G$6,6,FALSE)),IF(E46=$B$5,"Niet oké",0)) -> Niet oké
B49: Prestaties --> Belastbaarheid | F49: Totaalscore: | G49: =+SUM(G51:G52) -> 0
B50: Nr. | C50: Titel | D50: Omschrijving | E50: Prio | F50: Indien akkoord invullen met 'X' | G50: Score
B51: NF21 | C51: Belastbaarheid afsprakenportaal | D51: Een zwaardere belasting van het Afsprakenportaal (in opgeschaalde toestand) leidt niet tot merkbaar performance verlies bij het maken van afspraken. Kentallen hierbij zijn: - Er dienen 1 miljoen afspraken per dag gemaakt kunnen worden. - Er dienen 20 duizend burgers gelijktijdig bezig te kunnen zijn om een afspraak in te plannen. | E51: E | G51: =IF(UPPER(F51)="X",IF(E51="",,VLOOKUP(E51,$B$5:$G$6,6,FALSE)),IF(E51=$B$5,"Niet oké",0)) -> Niet oké
B52: NF22 | C52: Responsetijd | D52: Het laden van een pagina of een andere actie op het afsprakenportaal mag maximaal 2 seconden duren, ook bij maximale belasting zoals bij Belastbaarheid in bovenstaande eis beschreven. Vertraging aan de Client zijde wordt hierin niet meegenomen (meten op server-side). | E52: E | G52: =IF(UPPER(F52)="X",IF(E52="",,VLOOKUP(E52,$B$5:$G$6,6,FALSE)),IF(E52=$B$5,"Niet oké",0)) -> Niet oké
B55: Generieke Inkoop Eisen | G55: =+SUM(G57:G58) -> 0
B56: Nr. | C56: Omschrijving functionaliteit | E56: Prio | F56: Indien akkoord invullen met 'X' | G56: Score
B57: NF23 | C57: Volledige beschrijving oplossing | D57: Inschrijver levert een volledige beschrijving van de voorgestelde oplossing. | E57: E | G57: =IF(UPPER(F57)="X",IF(E57="",,VLOOKUP(E57,$B$5:$G$6,6,FALSE)),IF(E57=$B$5,"Niet oké",0)) -> Niet oké
B58: NF24 | C58: Volledige beschrijving van licentievoorwaarden | D58: Inschrijver levert een volledige beschrijving van licentievoorwaarden (inclusief type licentie). | E58: E | G58: =IF(UPPER(F58)="X",IF(E58="",,VLOOKUP(E58,$B$5:$G$6,6,FALSE)),IF(E58=$B$5,"Niet oké",0)) -> Niet oké
B61: Generiek --> Open Source | G61: =+SUM(G63:G64) -> 0
B62: Nr. | C62: Omschrijving functionaliteit | E62: Prio | F62: Indien akkoord invullen met 'X' | G62: Score
B63: NF25 | C63: Gebuik van Open Source | D63: Een groot deel van de software in de oplossing bestaat uit Open Source componenten. | E63: W | G63: =IF(UPPER(F63)="X",IF(E63="",,VLOOKUP(E63,$B$5:$G$6,6,FALSE)),IF(E63=$B$5,"Niet oké",0)) -> 0
B64: NF26 | C64: Beschikbaarstellen als Open Source | D64: Inschrijver is bereid een groot deel van de broncode van de oplossing als Open Source ter beschikking te stellen via de Github van VWS (https://github.com/minvws) zodat deze hergebruikt kan worden. | E64: W | G64: =IF(UPPER(F64)="X",IF(E64="",,VLOOKUP(E64,$B$5:$G$6,6,FALSE)),IF(E64=$B$5,"Niet oké",0)) -> 0

Sheet DO-eisen
B2: Dienstverleningsovereenkomst eisen en wensen
B4: Legenda | C4: Prioritering | F4: Weging | G4: Score
B5: E | C5: Deze functionaliteiten moeten in het eindresultaat terugkomen (dit zijn de knock-outs) | F5: K.O. | G5: oké
B6: W | C6: Deze functionaliteiten zijn gewenst | F6: 1 | G6: 1
B9: Definitie prio's in de tekst (prioriteitsklasse)
B10: Toelichting | D10: Onderstaande prioriteringen geven een indiciatie m.b.t. de verwachte prioriteitsklassen, maar kunnen in onderling overleg tussen Opdrachtnemer en Opdrachtgever later nog worden gedetailleerd en/of aangepast. In de operationele situatie behoudt opdrachtgever zich het recht voor om de prioriteit van een melding te kunnen wijzigen.
B11: Prio 1 | C11: P1 | D11: Dit betreft meldingen met de allerhoogste urgentie waaronder calamiteiten en/of ernstige verstoringen in de werking van de oplossing. Voorbeelden hiervan zijn: - Integriteit Afsprakenportaal is in gevaar, mogelijk datalek. - Groot aantal burgers kan geen afspraak meer inplannen doordat Afsprakenportaal niet of beperkt beschikbaar is. - Koppeling met een testaanbieder werkt niet meer, waardoor er geen afspraken meer met betreffende aanbieder zijn in te plannen.
B12: Prio 2 | C12: P2 | D12: Dit betreft meldingen met hoge prioriteit, waaronder verstoringen in de werking van de oplossing. Voorbeelden hiervan zijn: - Beheerfunctionaliteit niet/beperkt beschikbaar voor meerdere beheerders. - Beperkte beschikbaarheid Afsprakenportaal tijdens daluren, waardoor het voor een burger meer tijd kost dan normaal om een afspraak in te plannen.
B13: Prio 3 | C13: P3 | D13: Dit betreft meldingen (die niet onder P1 of P2 vallen) met een normale prioriteit.
B16: Personeel & organisatie | F16: Totaal score: | G16: =+SUM(G18:G25) -> 0
B17: Nr. | C17: Titel | D17: Omschrijving | E17: Eis/Wens | F17: Indien akkoord invullen met x | G17: Score
B18: DO01 | C18: Wettelijke voorschriften | D18: Conform de in Nederland geldende regels dient de Opdrachtnemer zeker te stellen dat de bij haar in dienst zijnde medewerkers aan alle wettelijke voorschriften voldoen. | E18: E | G18: =IF(UPPER(F18)="X",IF(E18="",,VLOOKUP(E18,$B$5:$G$6,6,FALSE)),IF(E18=$B$5,"Niet oké",0)) -> Niet oké
B19: DO02 | C19: Continuiteit dienstverlening | D19: De Opdrachtnemer is verantwoordelijk om, bij ziekte of vakantie van medewerkers, te borgen dat de Opdrachtgever een efficiënte en effectieve voortgang van de dienst ervaart. | E19: E | G19: =IF(UPPER(F19)="X",IF(E19="",,VLOOKUP(E19,$B$5:$G$6,6,FALSE)),IF(E19=$B$5,"Niet oké",0)) -> Niet oké
B20: DO03 | C20: Capaciteit en expertise | D20: Opdrachtnemer beschikt over de benodigde capaciteit en expertise om invulling te geven aan de uitvoering van de opdracht van deze aanbesteding. | E20: E | G20: =IF(UPPER(F20)="X",IF(E20="",,VLOOKUP(E20,$B$5:$G$6,6,FALSE)),IF(E20=$B$5,"Niet oké",0)) -> Niet oké
B21: DO04 | C21: Flexibiliteit inzet | D21: Calamiteiten, piekbelasting (gedurende openingstijden) en last minute wijzigingen in het coronabeleid van de rijksoverheid hebben een hoge prioriteit voor de Opdrachtgever. De Opdrachtnemer spant zich in om over voldoende capaciteit (ook buiten de reguliere openstellingstijden) te kunnen beschikken indien de situatie daar om vraagt. | E21: W | G21: =IF(UPPER(F21)="X",IF(E21="",,VLOOKUP(E21,$B$5:$G$6,6,FALSE)),IF(E21=$B$5,"Niet oké",0)) -> 0
B22: DO05 | C22: Vertrouwelijkheid | D22: Opdrachtnemer garandeert er actief op toe te zien dat alle medewerkers die in haar opdracht werkzaamheden verrichten t.b.v. Opdrachtgever de gegevens die zij bij de uitvoering van hun functie inzien, te allen tijde geheim zullen houden en van deze gegevens geen misbruik zullen maken. | E22: E | G22: =IF(UPPER(F22)="X",IF(E22="",,VLOOKUP(E22,$B$5:$G$6,6,FALSE)),IF(E22=$B$5,"Niet oké",0)) -> Niet oké
B23: DO06 | C23: Vervanging personeel | D23: Bij bezwaren van Opdrachtgever ten aanzien van het gedrag of prestatie/kwaliteit van een medewerker van Opdrachtnemer waarbij de dienstverlening in gevaar komt, heeft Opdrachtgever het uitdrukkelijke recht om bepaalde personen af te wijzen en zorgt de Opdrachtnemer direct voor vervanging, zonder daarvoor extra kosten in rekening te brengen. | E23: W | G23: =IF(UPPER(F23)="X",IF(E23="",,VLOOKUP(E23,$B$5:$G$6,6,FALSE)),IF(E23=$B$5,"Niet oké",0)) -> 0
B24: DO07 | C24: Persoonsgegevens personeel | D24: Indien de Opdrachtgever dit verzoekt, is Opdrachtnemer verplicht de persoonsgegevens van het in te zetten personeel voor screening beschikbaar te stellen. Opdrachtgever dient altijd inzage te kunnen krijgen in deze persoonsgegevens. Een en ander wordt vanzelfsprekend zeer vertrouwelijk behandeld. | E24: E | G24: =IF(UPPER(F24)="X",IF(E24="",,VLOOKUP(E24,$B$5:$G$6,6,FALSE)),IF(E24=$B$5,"Niet oké",0)) -> Niet oké
B25: DO08 | C25: Aanspreekpunt | D25: De Opdrachtnemer garandeert een aanspreekpunt die de contacten onderhoudt met Opdrachtgever over voortgang en kwaliteit van de gevraagde dienstverlening en zorgdraagt voor bijsturing indien dit nodig is. | E25: E | G25: =IF(UPPER(F25)="X",IF(E25="",,VLOOKUP(E25,$B$5:$G$6,6,FALSE)),IF(E25=$B$5,"Niet oké",0)) -> Niet oké
B28: Service & support | F28: Totaal score: | G28: =+SUM(G30:G44) -> 0
B29: Nr. | C29: Titel | D29: Omschrijving | E29: Eis/Wens | F29: Indien akkoord invullen met x | G29: Score
B30: DO09 | C30: Support desk | D30: Opdrachtnemer beschikt over een ticket systeem met een Nederlandstalig gebruikersinterface (TOPdesk of een vergelijkbaar systeem), dat 24/7 bereikbaar is voor de Opdrachtgever en de gebruikers (beheerders) t.b.v van vragen, meldingen, klachten, incidenten, verstoringen, wijzigingen. | E30: E | G30: =IF(UPPER(F30)="X",IF(E30="",,VLOOKUP(E30,$B$5:$G$6,6,FALSE)),IF(E30=$B$5,"Niet oké",0)) -> Niet oké
B31: DO10 | C31: IT-infrastructuur | D31: Opdrachtnemer zorgt voor het instandhouden en beheer van de oplossing ( IT-infrastructuur met bijbehorende applicaties en koppelingen) en richt hierbij zelf de processen in (als IT monitoring e.d.) om dit op een veilige en gecontroleerde manier uit te kunnen voeren (met inachtneming v/d overige gestelde eisen in dit PvE). | E31: E | G31: =IF(UPPER(F31)="X",IF(E31="",,VLOOKUP(E31,$B$5:$G$6,6,FALSE)),IF(E31=$B$5,"Niet oké",0)) -> Niet oké
B32: DO11 | C32: Faciliteren testaanbieders | D32: Opdrachtnemer dient testaanbieders technisch aan- en af te sluiten (onboarden, offboarden) en dit proces ook te faciliteren. | E32: E | G32: =IF(UPPER(F32)="X",IF(E32="",,VLOOKUP(E32,$B$5:$G$6,6,FALSE)),IF(E32=$B$5,"Niet oké",0)) -> Niet oké
B33: DO12 | C33: Opleiden beheerders | D33: Opdrachtnemer dient trainingen te verzorgen voor de gebruikers van de beheerfunctionaliteit van het Afsprakenportaal. | E33: E | G33: =IF(UPPER(F33)="X",IF(E33="",,VLOOKUP(E33,$B$5:$G$6,6,FALSE)),IF(E33=$B$5,"Niet oké",0)) -> Niet oké
B34: DO13 | C34: Capaciteit tbv Wijzigingen | D34: Opdrachtnemer heeft ontwikkelcapaciteit beschikbaar voor het implementeren van overeengekomen wijzigingen. | E34: E | G34: =IF(UPPER(F34)="X",IF(E34="",,VLOOKUP(E34,$B$5:$G$6,6,FALSE)),IF(E34=$B$5,"Niet oké",0)) -> Niet oké
B35: DO14 | C35: Kennisbeheer | D35: Opdrachtnemer beschikt over een systeem van kennisbeheer om kennis en vaardigheden optimaal beschikbaar te stellen aan de eigen medewerkers, ter bevordering van eenduidige ontsluiting en behandeling van de ontvangen vragen, meldingen, klachten, incidenten, verstoringen, wijzigingen.. | E35: W | G35: =IF(UPPER(F35)="X",IF(E35="",,VLOOKUP(E35,$B$5:$G$6,6,FALSE)),IF(E35=$B$5,"Niet oké",0)) -> 0
B36: DO15 | C36: Nederlandstalig support | D36: Inschrijver zorgt voor Nederlandstalige ondersteuning t.b.v. de Support desk. | E36: E | G36: =IF(UPPER(F36)="X",IF(E36="",,VLOOKUP(E36,$B$5:$G$6,6,FALSE)),IF(E36=$B$5,"Niet oké",0)) -> Niet oké
B37: DO16 | C37: Service window P2, P3 | D37: Maandag t/m vrijdag van 9:00 tot 17:00 uur, uitgezonderd erkende Nederlandse feestdagen. | E37: E | G37: =IF(UPPER(F37)="X",IF(E37="",,VLOOKUP(E37,$B$5:$G$6,6,FALSE)),IF(E37=$B$5,"Niet oké",0)) -> Niet oké
B38: DO17 | C38: Service window P1 | D38: Voor incidenten en kritieke storingen met prioritering 1 is support 7 dagen per week (inclusief erkende Nederlandse feestdagen) telefonisch bereikbaar tussen 7:00 en 23:00 uur. | E38: E | G38: =IF(UPPER(F38)="X",IF(E38="",,VLOOKUP(E38,$B$5:$G$6,6,FALSE)),IF(E38=$B$5,"Niet oké",0)) -> Niet oké
B39: DO18 | C39: Service levels responstijden | D39: Responsetijden worden gemeten vanaf ontvangst melding. prio 1: < 10 minuten prio 2: < 30 minuten prio 3: < 4 uur | E39: E | G39: =IF(UPPER(F39)="X",IF(E39="",,VLOOKUP(E39,$B$5:$G$6,6,FALSE)),IF(E39=$B$5,"Niet oké",0)) -> Niet oké
B40: DO19 | C40: Service levels oplostijden | D40: In overleg met opdrachtgever kunnen werkzaamheden n.a.v. een Prio 1 melding buiten de werktijden van het service-window worden voortgezet. Inschrijver zet zijn werkzaamheden ook buiten het service window voort. Prio 2 of Prio 3 worden binnen service window support afgehandeld. Oplostijden worden gemeten vanaf eerste response melding. prio 1: < 1 uur prio 2: < 4 uur prio 3: < 2 werkdagen | E40: E | G40: =IF(UPPER(F40)="X",IF(E40="",,VLOOKUP(E40,$B$5:$G$6,6,FALSE)),IF(E40=$B$5,"Niet oké",0)) -> Niet oké
B41: DO20 | C41: Bepalen prioriteiten | D41: Zie definitie prio's in de tekst. Opdrachtgever en Opdrachtnemer stellen samen standaard (sub-)categoriën per prioriteitsklasse op. | E41: W | G41: =IF(UPPER(F41)="X",IF(E41="",,VLOOKUP(E41,$B$5:$G$6,6,FALSE)),IF(E41=$B$5,"Niet oké",0)) -> 0
... B44: DO23 | C44: Wijzigingen en releases | D44: Opdrachtnemer informeert en bespreekt tijdig met de Opdrachtgever aankomende wijzigingen en release-updates. Als deze een effect kunnen hebben op het maken van afspraken door burgers in het afspraakportaal of op de beschikbaarheid van de beheerfunctionaliteit van het afsprakenportaal wordt implementatie datum/tijdstip in onderling overleg vastgesteld. Opdrachtgever gaat hierbij vanuit dat Opdrachtnemer zorg draagt voor de benodigde testen en security beoordelingen van de gewijzigde oplossing om te borgen dat deze aan de alle gestelde eisen blijft voldoen. | E44: E | G44: =IF(UPPER(F44)="X",IF(E44="",,VLOOKUP(E44,$B$5:$G$6,6,FALSE)),IF(E44=$B$5,"Niet oké",0)) -> Niet oké

Sheet Behaalde score
A1: Onderwerp | B1: Max aantal wensen | C1: Wensen akkoord | D1: Eisen
A3: Functionele eisen en wensen
A4: ='Functionele eisen'!$B$8 -> Burger -> Afspraak maken | B4: =COUNTIF('Functionele eisen'!E10:E22,"W") -> 5 | C4: ='Functionele eisen'!$G$8 -> 0 | D4: =IF(COUNTIF('Functionele eisen'!G10:G22,"Niet oké")>0,"KO","OK") -> KO
A5: ='Functionele eisen'!$B$25 -> Burger -> Afspraak annuleren | B5: =COUNTIF('Functionele eisen'!E27:E35,"W") -> 3 | C5: ='Functionele eisen'!$G$25 -> 0 | D5: =IF(COUNTIF('Functionele eisen'!G27:G35,"Niet oké")>0,"KO","OK") -> KO
A6: ='Functionele eisen'!$B$38 -> Burger -> Afspraak wijzigen | B6: =COUNTIF('Functionele eisen'!E40:E40,"W") -> 1 | C6: ='Functionele eisen'!$G$38 -> 0 | D6: =IF(COUNTIF('Functionele eisen'!G40:G40,"Niet oké")>0,"KO","OK") -> OK
A7: ='Functionele eisen'!$B$43 -> Beheer -> algemeen | B7: =COUNTIF('Functionele eisen'!E45:E48,"W") -> 1 | C7: ='Functionele eisen'!$G$43 -> 0 | D7: =IF(COUNTIF('Functionele eisen'!G45:G48,"Niet oké")>0,"KO","OK") -> KO
A8: ='Functionele eisen'!$B$51 -> Beheer -> Toegangsbeheer | B8: =COUNTIF('Functionele eisen'!E53:E58,"W") -> 3 | C8: ='Functionele eisen'!$G$51 -> 0 | D8: =IF(COUNTIF('Functionele eisen'!G53:G58,"Niet oké")>0,"KO","OK") -> KO
A9: ='Functionele eisen'!$B$61 -> Beheerder -> Content | B9: =COUNTIF('Functionele eisen'!E63:E65,"W") -> 1 | C9: ='Functionele eisen'!$G$61 -> 0 | D9: =IF(COUNTIF('Functionele eisen'!G63:G65,"Niet oké")>0,"KO","OK") -> KO
A10: ='Functionele eisen'!$B$68 -> Beheerder -> Testaanbieders | B10: =COUNTIF('Functionele eisen'!E70:E73,"W") -> 0 | C10: ='Functionele eisen'!$G$68 -> 0 | D10: =IF(COUNTIF('Functionele eisen'!G70:G73,"Niet oké")>0,"KO","OK") -> KO
A11: ='Functionele eisen'!$B$76 -> Beheerder -> Testlocaties | B11: =COUNTIF('Functionele eisen'!E78:E82,"W") -> 0 | C11: ='Functionele eisen'!$G$76 -> 0 | D11: =IF(COUNTIF('Functionele eisen'!G78:G82,"Niet oké")>0,"KO","OK") -> KO
A12: ='Functionele eisen'!$B$85 -> Beheerder -> Afspraken | B12: =COUNTIF('Functionele eisen'!E87:E89,"W") -> 3 | C12: ='Functionele eisen'!$G$85 -> 0 | D12: =IF(COUNTIF('Functionele eisen'!G87:G89,"Niet oké")>0,"KO","OK") -> OK
A13: ='Functionele eisen'!$B$92 -> Beheerder -> Evenementcodes | B13: =COUNTIF('Functionele eisen'!E94:E97,"W") -> 4 | C13: ='Functionele eisen'!$G$92 -> 0 | D13: =IF(COUNTIF('Functionele eisen'!G94:G97,"Niet oké")>0,"KO","OK") -> OK
A14: ='Functionele eisen'!$B$100 -> Beheerder -> Evenementtype | B14: =COUNTIF('Functionele eisen'!E102:E105,"W") -> 4 | C14: ='Functionele eisen'!$G$100 -> 0 | D14: =IF(COUNTIF('Functionele eisen'!G102:G105,"Niet oké")>0,"KO","OK") -> OK
A16: Non functionele eisen en wensen
A17: ='Non-Functionele eisen'!$B$9 -> Veiligheid en privacy --> Normen en richtlijnen | B17: =COUNTIF('Non-Functionele eisen'!E11:E12,"W") -> 0 | C17: ='Non-Functionele eisen'!$G$9 -> 0 | D17: =IF(COUNTIF('Non-Functionele eisen'!G11:G12,"Niet oké")>0,"KO","OK") -> KO
A18: ='Non-Functionele eisen'!$B$15 -> Veiligheid en privacy -->Vertrouwen en integriteit | B18: =COUNTIF('Functionele eisen'!E17:E19,"W") -> 0 | C18: ='Non-Functionele eisen'!$G$15 -> 0 | D18: =IF(COUNTIF('Non-Functionele eisen'!G17:G19,"Niet oké")>0,"KO","OK") -> KO
A19: ='Non-Functionele eisen'!$B$22 -> Veiligheid en privacy --> Continuïteit en beschikbaarheid | B19: =COUNTIF('Non-Functionele eisen'!E24:E30,"W") -> 0 | C19: ='Non-Functionele eisen'!$G$22 -> 0 | D19: =IF(COUNTIF('Non-Functionele eisen'!G24:G30,"Niet oké")>0,"KO","OK") -> KO
A20: ='Non-Functionele eisen'!$B$33 -> Generiek --> Koppelingen | B20: =COUNTIF('Non-Functionele eisen'!E35:E38,"W") -> 2 | C20: ='Non-Functionele eisen'!$G$33 -> 0 | D20: =IF(COUNTIF('Non-Functionele eisen'!G25:G31,"Niet oké")>0,"KO","OK") -> KO
A21: ='Non-Functionele eisen'!$B$41 -> Generiek --> Bruikbaarheid | B21: =COUNTIF('Non-Functionele eisen'!E43:E46,"W") -> 1 | C21: ='Non-Functionele eisen'!$G$41 -> 0 | D21: =IF(COUNTIF('Non-Functionele eisen'!G35:G38,"Niet oké")>0,"KO","OK") -> KO
A22: ='Non-Functionele eisen'!$B$49 -> Prestaties --> Belastbaarheid | B22: =COUNTIF('Non-Functionele eisen'!E51:E52,"W") -> 0 | C22: ='Non-Functionele eisen'!$G$49 -> 0 | D22: =IF(COUNTIF('Non-Functionele eisen'!G43:G46,"Niet oké")>0,"KO","OK") -> KO
A23: ='Non-Functionele eisen'!$B$55 -> Generieke Inkoop Eisen | B23: =COUNTIF('Non-Functionele eisen'!E57:E58,"W") -> 0 | C23: ='Non-Functionele eisen'!$G$55 -> 0 | D23: =IF(COUNTIF('Non-Functionele eisen'!G26:G38,"Niet oké")>0,"KO","OK") -> KO
A24: ='Non-Functionele eisen'!$B$61 -> Generiek --> Open Source | B24: =COUNTIF('Non-Functionele eisen'!E27:E39,"W") -> 2 | C24: ='Non-Functionele eisen'!$G$61 -> 0 | D24: =IF(COUNTIF('Non-Functionele eisen'!G27:G39,"Niet oké")>0,"KO","OK") -> KO
A26: DO eisen
A27: ='DO-eisen'!$B$16 -> Personeel & organisatie | B27: =COUNTIF('DO-eisen'!E18:E25,"W") -> 2 | C27: ='DO-eisen'!$G$16 -> 0 | D27: =IF(COUNTIF('DO-eisen'!G18:G25,"Niet oké")>0,"KO","OK") -> KO
A28: ='DO-eisen'!$B$28 -> Service & support | B28: =COUNTIF('DO-eisen'!E30:E44,"W") -> 3 | C28: ='DO-eisen'!$G$28 -> 0 | D28: =IF(COUNTIF('DO-eisen'!G30:G44,"Niet oké")>0,"KO","OK") -> KO
A31: Totaal | B31: =SUM(B4:B28) -> 35 | C31: =SUM(C4:C28) -> 0 | D31: =IF(COUNTIF(D4:D28,"KO")>0,"KO", "OK") -> KO
A36: Score K1 ([wensen akkoord / Max aantal wensen] * 10) | C36: =(C31/B31)*10 -> 0

Sheet Parameters
A3: Ja/Nee
A4: Ja
A5: Deels
A6: Nee
