Workbook

Sheet TOTAAL Inschrijfsom
A2: Toelichting Prijslijst
A3: - De prijslijst is gebaseerd op de gegevens van de afgelopen jaren en schattingen voor de komende jaren. Opdrachtgever gaat er vanuit dat deze representatief zijn.
A4: - Er kunnen aan de door de Opdrachtgever genoemde aantallen in deze prijslijst geen rechten worden ontleend.
A5: - Alle genoemde afvalstromen dient Inschrijver op alle locaties binnen het beheergebied van Opdrachtgever te kunnen afhalen en verwerken.
A6: - Inschrijver dient alle geel gearceerde velden in te vullen, Inschrijver dient de grijs/blauw gearceerde velden niet in te vullen.
A7: - Prijzen zijn excl. BTW, worden afgerond op twee decimalen nauwkeurig en dienen realistisch te zijn ten aanzien van de gevraagde dienst.
A9: Totaal inschrijfsom afvaldiensten per jaar
A10: Inschrijfsom verwerking | B10: ='Prijs verwerking'!D36 -> 0
A11: Inschrijfsom containerhuur | B11: ='Prijs huur containers'!F22 -> 0
A12: Inschrijfsom lediging | B12: ='Prijs lediging'!O183 -> 0
A13: Totale inschrijfsom per jaar* | B13: =SUM(B10:B12) -> 0
A14: Totale inschrijfsom gehele looptijd (4 jaar) | B14: =B13*4 -> 0

Sheet Prijs lediging
A1: Prijzen voor lediging, containerwisseling, handling, transport
A2: Toelichting: De verrekenprijs per type auto wordt automatisch berekend na invullen van de detailprijzen van de geel gearceerde cellen. Per type auto is de inschrijfsom voor alle containers en lokaties berekend en vervolgens gedeeld door de frequentie / aantal ledigingen. Deze verrekenprijs per type auto wordt in het contract opgenomen.
A3: Type Auto | B3: Frequentie / aantal ledigingen per jaar | D3: VERREKENPRIJS | E3: Inschrijfsom lediging
A4: Containerauto | B4: 1369 | D4: =E4/B4 -> 0 | E4: =SUM(O14:O72) -> 0
A5: Glasauto | B5: 1 | D5: =E5/B5 -> 0 | E5: =SUM(O73) -> 0
A6: Papierauto | B6: 193 | D6: =E6/B6 -> 0 | E6: =SUM(O132:O142) -> 0
A7: Kleine vrachtwagen/ auto + kar | B7: 174 | D7: =E7/B7 -> 0 | E7: =SUM(O74:O109) -> 0
A8: Vrachtwagen open laadbak | B8: 243 | D8: =E8/B8 -> 0 | E8: =SUM(O143:O178) -> 0
A9: Milieuauto | B9: 48 | D9: =E9/B9 -> 0 | E9: =SUM(O110:O131) -> 0
A10: Schoonmaken | B10: per keer | D10: =N182 -> 0 | E10: =O182 -> 0
A11: Inschrijfsom lediging | E11: =SUM(E4:E10) -> 0
A13: Locatie | B13: Adres | C13: Nr. | D13: Plaats | E13: Afvalstroom | F13: Inhoud | G13: Uitvoering | H13: Materiaal | I13: Aantal containers | J13: Autotype | K13: Route/afroep | L13: Frequentie: Aantal ledigingen per jaar (indicatief, aantal containers reeds vermenigvuldigd) | M13: Aantal ton per jaar (indicatief) | N13: Inschrijfprijs per lediging (gebaseerd op 1 container) | O13: Kosten van lediging (berekend) per jaar
A14: RWZI | B14: Aduarderdiep | C14: 1 | D14: Feerwerd | E14: Roostergoed | F14: 750 liter | G14: Rolcontainer | H14: Staal | I14: 1 | J14: Containerauto | K14: Afroep | L14: 2 | M14: 0.4 | N14: 0 | O14: =L14*N14 -> 0
A15: RWZI | B15: Bedumerweg | C15: 68A | D15: Onderdendam | E15: Roostergoed | F15: 750 liter | G15: Rolcontainer | H15: Staal | I15: 2 | J15: Containerauto | K15: Route | L15: 14 | M15: 4.2 | N15: 0 | O15: =L15*N15 -> 0
A16: RWZI | B16: Burg. J.G. Legroweg | C16: 82 | D16: Eelde | E16: Bedrijfsafval | F16: 1100 liter | G16: Rolcontainer | H16: Kunststof | I16: 3 | J16: Containerauto | K16: Route | L16: 34 | M16: 2.3 | N16: 0 | O16: =L16*N16 -> 0
A17: RWZI | B17: Burg. J.G. Legroweg | C17: 82 | D17: Eelde | E17: Bouw- en sloopafval | F17: 6 m3 | G17: Afzetcontainer | H17: Staal | I17: 1 | J17: Containerauto | K17: Afroep | L17: 2 | M17: 12 | N17: 0 | O17: =L17*N17 -> 0
A18: RWZI | B18: Burg. J.G. Legroweg | C18: 82 | D18: Eelde | E18: Roostergoed | F18: 10 m3 | G18: Afzetcontainer | H18: Staal | I18: 1 | J18: Containerauto | K18: Afroep | L18: 22 | M18: 58 | N18: 0 | O18: =L18*N18 -> 0
A19: RWZI | B19: Burg. J.G. Legroweg | C19: 82 | D19: Eelde | E19: Zandafval | F19: 10 m3 | G19: Afzetcontainer | H19: Staal | I19: 1 | J19: Containerauto | K19: Afroep | L19: 14 | M19: 89.6 | N19: 0 | O19: =L19*N19 -> 0
A20: Dijkmagazijn | B20: Dijksterweg | C20: 45-47 | D20: Kloosterburen | E20: Bedrijfsafval | F20: 1100 liter | G20: Rolcontainer | H20: Kunststof | I20: 1 | J20: Containerauto | K20: Route | L20: 26 | M20: 3 | N20: 0 | O20: =L20*N20 -> 0
A21: RWZI | B21: Grasdijkweg | C21: 2 | D21: Garmerwolde | E21: Aluminium | F21: 6 m3 | G21: Afzetcontainer | H21: Staal | I21: 1 | J21: Containerauto | K21: Afroep | L21: 2 | M21: 5 | N21: 0 | O21: =L21*N21 -> 0
A22: RWZI | B22: Grasdijkweg | C22: 2 | D22: Garmerwolde | E22: Bedrijfsafval | F22: 1100 liter | G22: Rolcontainer | H22: Kunststof | I22: 2 | J22: Containerauto | K22: Route | L22: 88 | M22: 9.6 | N22: 0 | O22: =L22*N22 -> 0
A23: RWZI | B23: Grasdijkweg | C23: 2 | D23: Garmerwolde | E23: Bouw- en sloopafval | F23: 6 m3 | G23: Afzetcontainer | H23: Staal | I23: 1 | J23: Containerauto | K23: Afroep | L23: 2 | M23: 5 | N23: 0 | O23: =L23*N23 -> 0
A24: RWZI | B24: Grasdijkweg | C24: 2 | D24: Garmerwolde | E24: Hout B | F24: 6 m3 | G24: Afzetcontainer | H24: Staal | I24: 1 | J24: Containerauto | K24: Afroep | L24: 3 | M24: 2.1 | N24: 0 | O24: =L24*N24 -> 0
A25: RWZI | B25: Grasdijkweg | C25: 2 | D25: Garmerwolde | E25: Oud ijzer | F25: 6 m3 | G25: Afzetcontainer | H25: Staal | I25: 1 | J25: Containerauto | K25: Afroep | L25: 2 | M25: 9.1 | N25: 0 | O25: =L25*N25 -> 0
A26: RWZI | B26: Grasdijkweg | C26: 2 | D26: Garmerwolde | E26: Roostergoed | F26: 12 m3 | G26: Afzetcontainer | H26: Staal | I26: 1 | J26: Containerauto | K26: Afroep | L26: 80 | M26: 141.5 | N26: 0 | O26: =L26*N26 -> 0
A27: RWZI | B27: Grasdijkweg | C27: 2 | D27: Garmerwolde | E27: RVS | F27: 6 m3 | G27: Afzetcontainer | H27: Staal | I27: 1 | J27: Containerauto | K27: Afroep | L27: 2 | M27: 1.5 | N27: 0 | O27: =L27*N27 -> 0
A28: RWZI | B28: Grasdijkweg | C28: 2 | D28: Garmerwolde | E28: TL-buizen | F28: 240 liter | G28: Rolcontainer | H28: Kunststof | I28: 1 | J28: Containerauto | K28: Afroep | L28: 2 | M28: 0.1 | N28: 0 | O28: =L28*N28 -> 0
A29: RWZI | B29: Grasdijkweg | C29: 2 | D29: Garmerwolde | E29: Vertrouwelijk papier | F29: 240 liter | G29: Rolcontainer | H29: Kunststof | I29: 1 | J29: Containerauto | K29: Afroep | L29: 1 | M29: 0.045 | N29: 0 | O29: =L29*N29 -> 0
A30: RWZI | B30: Grasdijkweg | C30: 2 | D30: Garmerwolde | E30: Zandafval | F30: 15 m3 | G30: Afzetcontainer | H30: Staal | I30: 2 | J30: Containerauto | K30: Afroep | L30: 98 | M30: 526.1 | N30: 0 | O30: =L30*N30 -> 0
A31: RWZI | B31: Hoendiep | C31: 7A | D31: Oldekerk | E31: Roostergoed | F31: 1000 liter | G31: Rolcontainer | H31: Staal | I31: 2 | J31: Containerauto | K31: Route | L31: 25 | M31: 4.3 | N31: 0 | O31: =L31*N31 -> 0
A32: RWZI | B32: Leuringslaan | C32: 116 | D32: Leek | E32: Bouw- en sloopafval | F32: 6 m3 | G32: Afzetcontainer | H32: Staal | I32: 1 | J32: Containerauto | K32: Afroep | L32: 1 | M32: 6.5 | N32: 0 | O32: =L32*N32 -> 0
A33: RWZI | B33: Leuringslaan | C33: 116 | D33: Leek | E33: Roostergoed | F33: 10 m3 | G33: Afzetcontainer | H33: Staal | I33: 1 | J33: Containerauto | K33: Afroep | L33: 4 | M33: 9.6 | N33: 0 | O33: =L33*N33 -> 0
A34: RWZI | B34: Leuringslaan | C34: 116 | D34: Leek | E34: Zandafval | F34: 10 m3 | G34: Afzetcontainer | H34: Staal | I34: 1 | J34: Containerauto | K34: Afroep | L34: 13 | M34: 56.8 | N34: 0 | O34: =L34*N34 -> 0
A35: Werkplaats | B35: Leuringslaan | C35: 61 | D35: Leek | E35: Bedrijfsafval | F35: 1100 liter | G35: Rolcontainer | H35: Kunststof | I35: 1 | J35: Containerauto | K35: Route | L35: 52 | M35: 1.6 | N35: 0 | O35: =L35*N35 -> 0
A36: Werkplaats | B36: Leuringslaan | C36: 61 | D36: Leek | E36: Bouw- en sloopafval | F36: 20 m3 | G36: Afzetcontainer | H36: Staal | I36: 1 | J36: Containerauto | K36: Afroep | L36: 4 | M36: 17.6 | N36: 0 | O36: =L36*N36 -> 0
A37: Werkplaats | B37: Leuringslaan | C37: 61 | D37: Leek | E37: Compost. tuinafval | F37: 15 m3 | G37: Afzetcontainer | H37: Staal | I37: 1 | J37: Containerauto | K37: Afroep | L37: 4 | M37: 28.3 | N37: 0 | O37: =L37*N37 -> 0
A38: Werkplaats | B38: Leuringslaan | C38: 61 | D38: Leek | E38: Hout C | F38: 20 m3 | G38: Afzetcontainer | H38: Staal | I38: 1 | J38: Containerauto | K38: Afroep | L38: 3 | M38: 11 | N38: 0 | O38: =L38*N38 -> 0
A39: Werkplaats | B39: Leuringslaan | C39: 61 | D39: Leek | E39: Oud ijzer | F39: 6 m3 | G39: Afzetcontainer | H39: Staal | I39: 1 | J39: Containerauto | K39: Afroep | L39: 2 | M39: 3.3 | N39: 0 | O39: =L39*N39 -> 0
A40: Dijkmagazijn | B40: Meeuwenstaartweg | C40: 8 | D40: Eemshaven | E40: Bedrijfsafval | F40: 1100 liter | G40: Rolcontainer | H40: Kunststof | I40: 2 | J40: Containerauto | K40: Route | L40: 52 | M40: 5.2 | N40: 0 | O40: =L40*N40 -> 0
A41: Dijkmagazijn | B41: Noorderdijk | C41: 4a | D41: Usquert | E41: Bedrijfsafval | F41: 1100 liter | G41: Rolcontainer | H41: Kunststof | I41: 1 | J41: Containerauto | K41: Route | L41: 12 | M41: 1.7 | N41: 0 | O41: =L41*N41 -> 0
...

Sheet Prijs verwerking
A1: Afvalstroom | B1: Afzet in ton per jaar (indicatief) | C1: Verwerkingsprijs per ton | D1: Totaalsom in €
A2: Bedrijfsafval | B2: 50.4 | D2: =B2*C2 -> 0
A3: Snoeiafval/groenafval | B3: 26.5 | D3: =B3*C3 -> 0
A4: Hout (C-hout) | B4: 16 | D4: =B4*C4 -> 0
A5: Papier | B5: 3.55 | D5: =B5*C5 -> 0
A6: Glas | B6: 0.3 | D6: =B6*C6 -> 0
A7: Vertrouwelijk papier | B7: 3.43 | D7: =B7*C7 -> 0
A8: Poetslappen | B8: 0.1 | D8: =B8*C8 -> 0
A9: Spuitbussen | B9: 0.03 | D9: =B9*C9 -> 0
A10: TL-lampen | B10: 0.2 | D10: =B10*C10 -> 0
A11: Loodaccu's, (inclusief accuzuur) | B11: 0.7 | D11: =B11*C11 -> 0
A12: Batterijen | B12: 0.14 | D12: =B12*C12 -> 0
A13: Verfafval | B13: 0.23 | D13: =B13*C13 -> 0
... A32: Zandafval | B32: 687.5 | D32: =B32*C32 -> 0
A33: Drijfvuil | B33: 880 | D33: ='Prijs organisch afval'!B8 -> 0
A34: Roostergoed | B34: 284 | D34: ='Prijs organisch afval'!D8 -> 0
A35: Maaisel Zeedijk | B35: 29 | D35: ='Prijs organisch afval'!F8 -> 0
A36: Inschrijfsom verwerking** | D36: =SUM(D2:D35) -> 0
A37: - Onder 'Verwerkingsprijs per ton' verstaat Opdrachtgever de prijs voor verwerking
A38: * Cellen D33, D34 en D35 worden automatisch ingevuld nadat het tabblad 'Prijs organisch afval' is ingevuld.
A40: Inschrijver dient de grijs gekleurde velden niet in te vullen | B40: Deze velden dienen ingevuld te worden door Inschrijver

Sheet Prijs organisch afval
B1: Drijfvuil (880 ton gemiddeld per jaar, indicatief) | D1: Roostergoed (284 ton gemiddeld per jaar, indicatief) | F1: Maaisel Zeedijk (29 ton gemiddeld per jaar, indicatief)
A2: Tonnen spreiding/jaar | B2: Verwerkingsprijs per ton incl. transport | C2: Verwerkingsprijs per ton excl. transport | D2: Verwerkingsprijs per ton incl. transport | E2: Verwerkingsprijs per ton excl. transport | F2: Verwerkingsprijs per ton incl. transport | G2: Verwerkingsprijs per ton excl. transport
A3: 0-500 ton
A4: 501 ton en meer
A5: Laadkosten per ton*
B6: =(B3+B4+B5)/2 -> 0 | C6: =(C3+C4)/2 -> 0 | D6: =(D3+D4+D5)/2 -> 0 | E6: =(E3+E4)/2 -> 0 | F6: =F3+F5 -> 0 | G6: =G3 -> 0
A7: Gemiddelde verwerkingsprijs per ton** | B7: =(B6+C6)/2 -> 0 | D7: =(D6+E6)/2 -> 0 | F7: =(F6+G6)/2 -> 0
A8: Inschrijfsom | B8: =880*B7 -> 0 | D8: =284*D7 -> 0 | F8: =29*F7 -> 0
A9: * Laadkosten per ton, inclusief opladen en afvoeren. Deze dienstverlening kan optioneel door Opdrachtgever worden afgenomen.
A10: ** Om een goede prijsvergelijking te kunnen bewerkstelligen wordt gebruik gemaakt van een formule waarbij een gemiddelde wordt genomen van de verwerkingskosten inclusief en exclusief laadkosten
A11: De inschrijfsom voor drijfvuil, roostergoed en maaisel wordt automatisch overgenomen in het tabblad "Prijs verwerking"
A12: Inschrijver dient de grijs gekleurde velden niet in te vullen | B12: Deze velden dienen ingevuld te worden door Inschrijver

Sheet Prijs huur containers
A1: CONTAINERHUUR
A2: Type container | B2: Aantal containers | C2: Inhoud | D2: Eenheid | E2: Huurprijs per container per maand | F2: Huurprijs per jaar in €
A3: afzet | B3: 11 | C3: 6 | D3: m3 | E3: 0 | F3: =B3*E3*12 -> 0
A4: afzet | B4: 9 | C4: 10 | D4: m3 | E4: 0 | F4: =B4*E4*12 -> 0
A5: afzet | B5: 1 | C5: 12 | D5: m3 | E5: 0 | F5: =B5*E5*12 -> 0
A6: afzet | B6: 4 | C6: 15 | D6: m3 | E6: 0 | F6: =B6*E6*12 -> 0
A7: afzet | B7: 6 | C7: 20 | D7: m3 | E7: 0 | F7: =B7*E7*12 -> 0
A8: afzet | B8: 1 | C8: 30 | D8: m3 | E8: 0 | F8: =B8*E8*12 -> 0
A9: Box | B9: 8 | C9: 30 | D9: liter | E9: 0 | F9: =B9*E9*12 -> 0
A10: Box | B10: 3 | C10: 120 | D10: liter | E10: 0 | F10: =B10*E10*12 -> 0
A11: Box | B11: 12 | C11: 240 | D11: liter | E11: 0 | F11: =B11*E11*12 -> 0
A12: rol | B12: 1 | C12: 60 | D12: liter | E12: 0 | F12: =B12*E12*12 -> 0
A13: rol | B13: 3 | C13: 120 | D13: liter | E13: 0 | F13: =B13*E13*12 -> 0
A14: rol | B14: 28 | C14: 240 | D14: liter | E14: 0 | F14: =B14*E14*12 -> 0
... A21: rol | B21: 4 | C21: 1300 | D21: liter | E21: 0 | F21: =B21*E21*12 -> 0
A22: Inschrijfsom huur | F22: =SUM(F3:F21) -> 0
A24: Inschrijver dient de grijs gekleurde velden niet in te vullen | B24: Deze velden dienen ingevuld te worden door Inschrijver
