Workbook

Sheet TOTAAL Inschrijfsom
A2: Toelichting Prijslijst
A3: - De prijslijst is gebaseerd op de gegevens van de afgelopen jaren en schattingen voor de komende jaren. Opdrachtgever gaat er vanuit dat deze representatief zijn.
A4: - Er kunnen aan de door de Opdrachtgever genoemde aantallen in deze prijslijst geen rechten worden ontleend.
A5: - Alle genoemde afvalstromen dient Inschrijver op alle locaties binnen het beheergebied van Opdrachtgever te kunnen afhalen en verwerken.
A6: - Inschrijver dient alle geel gearceerde velden in te vullen, Inschrijver dient de grijs/blauw gearceerde velden niet in te vullen.
A7: - Prijzen zijn excl. BTW, worden afgerond op twee decimalen nauwkeurig en dienen realistisch te zijn ten aanzien van de gevraagde dienst.
A9: Totaal inschrijfsom afvaldiensten per jaar
A10: Inschrijfsom verwerking | B10: ='Prijs verwerking'!D36 -> 0
A11: Inschrijfsom containerhuur | B11: ='Prijs huur containers'!F22 -> 0
A12: Inschrijfsom lediging | B12: ='Prijs lediging'!O183 -> 0
A13: Totale inschrijfsom per jaar* | B13: =SUM(B10:B12) -> 0
A14: Totale inschrijfsom gehele looptijd (4 jaar) | B14: =B13*4 -> 0

Sheet Prijs lediging
A1: Prijzen voor lediging, containerwisseling, handling, transport
A2: Toelichting: De verrekenprijs per type auto wordt automatisch berekend na invullen van de detailprijzen van de geel gearceerde cellen. Per type auto is de inschrijfsom voor alle containers en lokaties berekend en vervolgens gedeeld door de frequentie / aantal ledigingen. Deze verrekenprijs per type auto wordt in het contract opgenomen.
A3: Type Auto | B3: Frequentie / aantal ledigingen per jaar | D3: VERREKENPRIJS | E3: Inschrijfsom lediging
A4: Containerauto | B4: 1369 | D4: =E4/B4 -> 0 | E4: =SUM(O14:O72) -> 0
A5: Glasauto | B5: 1 | D5: =E5/B5 -> 0 | E5: =SUM(O73) -> 0
A6: Papierauto | B6: 193 | D6: =E6/B6 -> 0 | E6: =SUM(O132:O142) -> 0
A7: Kleine vrachtwagen/ auto + kar | B7: 174 | D7: =E7/B7 -> 0 | E7: =SUM(O74:O109) -> 0
A8: Vrachtwagen open laadbak | B8: 243 | D8: =E8/B8 -> 0 | E8: =SUM(O143:O178) -> 0
A9: Milieuauto | B9: 48 | D9: =E9/B9 -> 0 | E9: =SUM(O110:O131) -> 0
A10: Schoonmaken | B10: per keer | D10: =N182 -> 0 | E10: =O182 -> 0
A11: Inschrijfsom lediging | E11: =SUM(E4:E10) -> 0
A13: Locatie | B13: Adres | C13: Nr. | D13: Plaats | E13: Afvalstroom | F13: Inhoud | G13: Uitvoering | H13: Materiaal | I13: Aantal containers | J13: Autotype | K13: Route/afroep | L13: Frequentie: Aantal ledigingen per jaar (indicatief, aantal containers reeds vermenigvuldigd) | M13: Aantal ton per jaar (indicatief) | N13: Inschrijfprijs per lediging (gebaseerd op 1 container) | O13: Kosten van lediging (berekend) per jaar
A14: RWZI | B14: Aduarderdiep | C14: 1 | D14: Feerwerd | E14: Roostergoed | F14: 750 liter | G14: Rolcontainer | H14: Staal | I14: 1 | J14: Containerauto | K14: Afroep | L14: 2 | M14: 0.4 | N14: 0 | O14: =L14*N14 -> 0
A15: RWZI | B15: Bedumerweg | C15: 68A | D15: Onderdendam | E15: Roostergoed | F15: 750 liter | G15: Rolcontainer | H15: Staal | I15: 2 | J15: Containerauto | K15: Route | L15: 14 | M15: 4.2 | N15: 0 | O15: =L15*N15 -> 0
A16: RWZI | B16: Burg. J.G. Legroweg | C16: 82 | D16: Eelde | E16: Bedrijfsafval | F16: 1100 liter | G16: Rolcontainer | H16: Kunststof | I16: 3 | J16: Containerauto | K16: Route | L16: 34 | M16: 2.3 | N16: 0 | O16: =L16*N16 -> 0
A17: RWZI | B17: Burg. J.G. Legroweg | C17: 82 | D17: Eelde | E17: Bouw- en sloopafval | F17: 6 m3 | G17: Afzetcontainer | H17: Staal | I17: 1 | J17: Containerauto | K17: Afroep | L17: 2 | M17: 12 | N17: 0 | O17: =L17*N17 -> 0
A18: RWZI | B18: Burg. J.G. Legroweg | C18: 82 | D18: Eelde | E18: Roostergoed | F18: 10 m3 | G18: Afzetcontainer | H18: Staal | I18: 1 | J18: Containerauto | K18: Afroep | L18: 22 | M18: 58 | N18: 0 | O18: =L18*N18 -> 0
A19: RWZI | B19: Burg. J.G. Legroweg | C19: 82 | D19: Eelde | E19: Zandafval | F19: 10 m3 | G19: Afzetcontainer | H19: Staal | I19: 1 | J19: Containerauto | K19: Afroep | L19: 14 | M19: 89.6 | N19: 0 | O19: =L19*N19 -> 0
A20: Dijkmagazijn | B20: Dijksterweg | C20: 45-47 | D20: Kloosterburen | E20: Bedrijfsafval | F20: 1100 liter | G20: Rolcontainer | H20: Kunststof | I20: 1 | J20: Containerauto | K20: Route | L20: 26 | M20: 3 | N20: 0 | O20: =L20*N20 -> 0
A21: RWZI | B21: Grasdijkweg | C21: 2 | D21: Garmerwolde | E21: Aluminium | F21: 6 m3 | G21: Afzetcontainer | H21: Staal | I21: 1 | J21: Containerauto | K21: Afroep | L21: 2 | M21: 5 | N21: 0 | O21: =L21*N21 -> 0
A22: RWZI | B22: Grasdijkweg | C22: 2 | D22: Garmerwolde | E22: Bedrijfsafval | F22: 1100 liter | G22: Rolcontainer | H22: Kunststof | I22: 2 | J22: Containerauto | K22: Route | L22: 88 | M22: 9.6 | N22: 0 | O22: =L22*N22 -> 0
A23: RWZI | B23: Grasdijkweg | C23: 2 | D23: Garmerwolde | E23: Bouw- en sloopafval | F23: 6 m3 | G23: Afzetcontainer | H23: Staal | I23: 1 | J23: Containerauto | K23: Afroep | L23: 2 | M23: 5 | N23: 0 | O23: =L23*N23 -> 0
A24: RWZI | B24: Grasdijkweg | C24: 2 | D24: Garmerwolde | E24: Hout B | F24: 6 m3 | G24: Afzetcontainer | H24: Staal | I24: 1 | J24: Containerauto | K24: Afroep | L24: 3 | M24: 2.1 | N24: 0 | O24: =L24*N24 -> 0
A25: RWZI | B25: Grasdijkweg | C25: 2 | D25: Garmerwolde | E25: Oud ijzer | F25: 6 m3 | G25: Afzetcontainer | H25: Staal | I25: 1 | J25: Containerauto | K25: Afroep | L25: 2 | M25: 9.1 | N25: 0 | O25: =L25*N25 -> 0
A26: RWZI | B26: Grasdijkweg | C26: 2 | D26: Garmerwolde | E26: Roostergoed | F26: 12 m3 | G26: Afzetcontainer | H26: Staal | I26: 1 | J26: Containerauto | K26: Afroep | L26: 80 | M26: 141.5 | N26: 0 | O26: =L26*N26 -> 0
A27: RWZI | B27: Grasdijkweg | C27: 2 | D27: Garmerwolde | E27: RVS | F27: 6 m3 | G27: Afzetcontainer | H27: Staal | I27: 1 | J27: Containerauto | K27: Afroep | L27: 2 | M27: 1.5 | N27: 0 | O27: =L27*N27 -> 0
A28: RWZI | B28: Grasdijkweg | C28: 2 | D28: Garmerwolde | E28: TL-buizen | F28: 240 liter | G28: Rolcontainer | H28: Kunststof | I28: 1 | J28: Containerauto | K28: Afroep | L28: 2 | M28: 0.1 | N28: 0 | O28: =L28*N28 -> 0
A29: RWZI | B29: Grasdijkweg | C29: 2 | D29: Garmerwolde | E29: Vertrouwelijk papier | F29: 240 liter | G29: Rolcontainer | H29: Kunststof | I29: 1 | J29: Containerauto | K29: Afroep | L29: 1 | M29: 0.045 | N29: 0 | O29: =L29*N29 -> 0
A30: RWZI | B30: Grasdijkweg | C30: 2 | D30: Garmerwolde | E30: Zandafval | F30: 15 m3 | G30: Afzetcontainer | H30: Staal | I30: 2 | J30: Containerauto | K30: Afroep | L30: 98 | M30: 526.1 | N30: 0 | O30: =L30*N30 -> 0
A31: RWZI | B31: Hoendiep | C31: 7A | D31: Oldekerk | E31: Roostergoed | F31: 1000 liter | G31: Rolcontainer | H31: Staal | I31: 2 | J31: Containerauto | K31: Route | L31: 25 | M31: 4.3 | N31: 0 | O31: =L31*N31 -> 0
A32: RWZI | B32: Leuringslaan | C32: 116 | D32: Leek | E32: Bouw- en sloopafval | F32: 6 m3 | G32: Afzetcontainer | H32: Staal | I32: 1 | J32: Containerauto | K32: Afroep | L32: 1 | M32: 6.5 | N32: 0 | O32: =L32*N32 -> 0
A33: RWZI | B33: Leuringslaan | C33: 116 | D33: Leek | E33: Roostergoed | F33: 10 m3 | G33: Afzetcontainer | H33: Staal | I33: 1 | J33: Containerauto | K33: Afroep | L33: 4 | M33: 9.6 | N33: 0 | O33: =L33*N33 -> 0
A34: RWZI | B34: Leuringslaan | C34: 116 | D34: Leek | E34: Zandafval | F34: 10 m3 | G34: Afzetcontainer | H34: Staal | I34: 1 | J34: Containerauto | K34: Afroep | L34: 13 | M34: 56.8 | N34: 0 | O34: =L34*N34 -> 0
A35: Werkplaats | B35: Leuringslaan | C35: 61 | D35: Leek | E35: Bedrijfsafval | F35: 1100 liter | G35: Rolcontainer | H35: Kunststof | I35: 1 | J35: Containerauto | K35: Route | L35: 52 | M35: 1.6 | N35: 0 | O35: =L35*N35 -> 0
A36: Werkplaats | B36: Leuringslaan | C36: 61 | D36: Leek | E36: Bouw- en sloopafval | F36: 20 m3 | G36: Afzetcontainer | H36: Staal | I36: 1 | J36: Containerauto | K36: Afroep | L36: 4 | M36: 17.6 | N36: 0 | O36: =L36*N36 -> 0
A37: Werkplaats | B37: Leuringslaan | C37: 61 | D37: Leek | E37: Compost. tuinafval | F37: 15 m3 | G37: Afzetcontainer | H37: Staal | I37: 1 | J37: Containerauto | K37: Afroep | L37: 4 | M37: 28.3 | N37: 0 | O37: =L37*N37 -> 0
A38: Werkplaats | B38: Leuringslaan | C38: 61 | D38: Leek | E38: Hout C | F38: 20 m3 | G38: Afzetcontainer | H38: Staal | I38: 1 | J38: Containerauto | K38: Afroep | L38: 3 | M38: 11 | N38: 0 | O38: =L38*N38 -> 0
A39: Werkplaats | B39: Leuringslaan | C39: 61 | D39: Leek | E39: Oud ijzer | F39: 6 m3 | G39: Afzetcontainer | H39: Staal | I39: 1 | J39: Containerauto | K39: Afroep | L39: 2 | M39: 3.3 | N39: 0 | O39: =L39*N39 -> 0
A40: Dijkmagazijn | B40: Meeuwenstaartweg | C40: 8 | D40: Eemshaven | E40: Bedrijfsafval | F40: 1100 liter | G40: Rolcontainer | H40: Kunststof | I40: 2 | J40: Containerauto | K40: Route | L40: 52 | M40: 5.2 | N40: 0 | O40: =L40*N40 -> 0
A41: Dijkmagazijn | B41: Noorderdijk | C41: 4a | D41: Usquert | E41: Bedrijfsafval | F41: 1100 liter | G41: Rolcontainer | H41: Kunststof | I41: 1 | J41: Containerauto | K41: Route | L41: 12 | M41: 1.7 | N41: 0 | O41: =L41*N41 -> 0
A42: RWZI | B42: Oosternielands weg | C42: 4B | D42: Uithuizermeeden | E42: Roostergoed | F42: 1000 liter | G42: Rolcontainer | H42: Staal | I42: 2 | J42: Containerauto | K42: Route | L42: 11 | M42: 1.4 | N42: 0 | O42: =L42*N42 -> 0
A43: RWZI | B43: Oosterwierum | C43: 5 | D43: Farmsum | E43: Bedrijfsafval | F43: 1100 liter | G43: Rolcontainer | H43: Kunststof | I43: 1 | J43: Containerauto | K43: Afroep | L43: 6 | M43: 1.3 | N43: 0 | O43: =L43*N43 -> 0
A44: RWZI | B44: Oosterwierum | C44: 5 | D44: Farmsum | E44: Roostergoed | F44: 6 m3 | G44: Afzetcontainer | H44: Staal | I44: 2 | J44: Containerauto | K44: Afroep | L44: 10 | M44: 8.9 | N44: 0 | O44: =L44*N44 -> 0
A45: RWZI | B45: Oosterwierum | C45: 5 | D45: Farmsum | E45: Zandafval | F45: 6 m3 | G45: Afzetcontainer | H45: Staal | I45: 1 | J45: Containerauto | K45: Afroep | L45: 4 | M45: 15 | N45: 0 | O45: =L45*N45 -> 0
A46: RWZI | B46: Parallelweg | C46: 1 | D46: Marum | E46: Roostergoed | F46: 750 liter | G46: Rolcontainer | H46: Staal | I46: 2 | J46: Containerauto | K46: Route | L46: 38 | M46: 4 | N46: 0 | O46: =L46*N46 -> 0
A47: RWZI | B47: Raylandseweg | D47: Wehe den Hoorn | E47: Roostergoed | F47: 750 liter | G47: Rolcontainer | H47: Staal | I47: 1 | J47: Containerauto | K47: Route | L47: 23 | M47: 3.7 | N47: 0 | O47: =L47*N47 -> 0
A48: Dijkmagazijn | B48: Schaapweg | D48: Westernieland | E48: Bedrijfsafval | F48: 1100 liter | G48: Rolcontainer | H48: Kunststof | I48: 1 | J48: Containerauto | K48: Route | L48: 12 | M48: 0.7 | N48: 0 | O48: =L48*N48 -> 0
A49: RWZI | B49: Schouwerzijlsterweg | C49: 10 | D49: Winsum | E49: Roostergoed | F49: 1000 liter | G49: Rolcontainer | H49: Staal | I49: 2 | J49: Containerauto | K49: Route | L49: 40 | M49: 9.3 | N49: 0 | O49: =L49*N49 -> 0
A50: Hoofdkantoor | B50: Stedumermaar | C50: 1 | D50: Groningen | E50: Bedrijfsafval | F50: 1300 liter | G50: Rolcontainer | H50: Kunststof | I50: 4 | J50: Containerauto | K50: Route | L50: 208 | M50: 7 | N50: 0 | O50: =L50*N50 -> 0
A51: Hoofdkantoor | B51: Stedumermaar | C51: 1 | D51: Groningen | E51: Composteerbare bekers | F51: 240 liter | G51: Rolcontainer | H51: Kunststof | I51: 2 | J51: Containerauto | K51: Route | L51: 26 | M51: 8 | N51: 0 | O51: =L51*N51 -> 0
A52: Hoofdkantoor | B52: Stedumermaar | C52: 1 | D52: Groningen | E52: ICT materialen | F52: 240 liter | G52: Rolcontainer | H52: Kunststof | I52: 2 | J52: Containerauto | K52: Afroep | L52: 2 | M52: 0.3 | N52: 0 | O52: =L52*N52 -> 0
A53: Hoofdkantoor | B53: Stedumermaar | C53: 1 | D53: Groningen | E53: Frituurvet | F53: 60 liter | G53: Rolcontainer | H53: Kunststof | I53: 1 | J53: Containerauto | K53: Afroep | L53: 2 | M53: 0.225 | N53: 0 | O53: =L53*N53 -> 0
A54: Hoofdkantoor | B54: Stedumermaar | C54: 1 | D54: Groningen | E54: Karton/papier | F54: 500 liter | G54: Rolcontainer | H54: Kunststof | I54: 2 | J54: Containerauto | K54: Route | L54: 104 | M54: 0.02 | N54: 0 | O54: =L54*N54 -> 0
A55: Hoofdkantoor | B55: Stedumermaar | C55: 1 | D55: Groningen | E55: Swill / GFT | F55: 240 liter | G55: Rolcontainer | H55: Kunststof | I55: 2 | J55: Containerauto | K55: Route | L55: 104 | M55: 0.02 | N55: 0 | O55: =L55*N55 -> 0
A56: Hoofdkantoor | B56: Stedumermaar | C56: 1 | D56: Groningen | E56: Tonerafval | F56: 240 liter | G56: Rolcontainer | H56: Kunststof | I56: 1 | J56: Containerauto | K56: Afroep | L56: 1 | M56: 0.03 | N56: 0 | O56: =L56*N56 -> 0
A57: Gemaal | B57: Teenstraweg | C57: 2 | D57: Lauwerzijl | E57: Bedrijfsafval | F57: 750 liter | G57: Rolcontainer | H57: Kunststof | I57: 1 | J57: Containerauto | K57: Route | L57: 12 | M57: 1.5 | N57: 0 | O57: =L57*N57 -> 0
A58: Gemaal | B58: Teenstraweg | C58: 2 | D58: Lauwerzijl | E58: Bedrijfsafval | F58: 30 m3 | G58: Afzetcontainer | H58: Staal | I58: 1 | J58: Containerauto | K58: Afroep | L58: 3 | M58: 0.9 | N58: 0 | O58: =L58*N58 -> 0
A59: RWZI | B59: Tilweg | C59: 4 | D59: Ulrum | E59: Roostergoed | F59: 750 liter | G59: Rolcontainer | H59: Staal | I59: 1 | J59: Containerauto | K59: Afroep | L59: 13 | M59: 1.8 | N59: 0 | O59: =L59*N59 -> 0
A60: RWZI | B60: Van Starkenborghkanaal ZZ | C60: 4 | D60: Zuidhorn | E60: Roostergoed | F60: 1000 liter | G60: Rolcontainer | H60: Staal | I60: 3 | J60: Containerauto | K60: Route | L60: 50 | M60: 8.5 | N60: 0 | O60: =L60*N60 -> 0
... A73: Hoofdkantoor | B73: Stedumermaar | C73: 1 | D73: Groningen | E73: Glas | F73: 240 liter | G73: Rolcontainer | H73: Kunststof | I73: 1 | J73: Glasauto | K73: Afroep | L73: 1 | M73: 0.3 | N73: 0 | O73: =L73*N73 -> 0
A74: Gemaal | B74: Aduarderdiep | C74: Nabij 3 | D74: Den Ham | E74: Roostergoed | F74: n.v.t. | G74: Open laadbak | I74: n.v.t. | J74: Kleine vrachtwagen/ auto + kar | K74: Afroep | L74: 1 | M74: 0.7 | N74: 0 | O74: =L74*N74 -> 0
A75: Gemaal | B75: Boterdiep oz | C75: 3 | D75: Zuidwolde | E75: Roostergoed | F75: n.v.t. | G75: Open laadbak | I75: n.v.t. | J75: Kleine vrachtwagen/ auto + kar | K75: Afroep | L75: 8 | M75: 6.6 | N75: 0 | O75: =L75*N75 -> 0
A76: Gemaal | B76: Boterdiep oz | C76: Nabij 40 | D76: Zuidwolde | E76: Roostergoed | F76: n.v.t. | G76: Open laadbak | I76: n.v.t. | J76: Kleine vrachtwagen/ auto + kar | K76: Afroep | L76: 8 | M76: 1.3 | N76: 0 | O76: =L76*N76 -> 0
A77: Gemaal | B77: Boterdiep wz | C77: Nabij 2 | D77: Zuidwolde | E77: Roostergoed | F77: n.v.t. | G77: Open laadbak | I77: n.v.t. | J77: Kleine vrachtwagen/ auto + kar | K77: Afroep | L77: 6 | M77: 6.2 | N77: 0 | O77: =L77*N77 -> 0
A78: Gemaal | B78: Crangeweersterweg | C78: 6a | D78: Stedum | E78: Roostergoed | F78: n.v.t. | G78: Open laadbak | I78: n.v.t. | J78: Kleine vrachtwagen/ auto + kar | K78: Afroep | L78: 6 | M78: 3.1 | N78: 0 | O78: =L78*N78 -> 0
A79: Gemaal | B79: Eemskanaal NZ | C79: Nabij 1 | D79: Garmerwolde (vlakbij Gron.) | E79: Roostergoed | F79: n.v.t. | G79: Open laadbak | I79: n.v.t. | J79: Kleine vrachtwagen/ auto + kar | K79: Afroep | L79: 5 | M79: 0.75 | N79: 0 | O79: =L79*N79 -> 0
A80: Gemaal | B80: Eemskanaal NZ | C80: Nabij 7 | D80: Appingedam | E80: Roostergoed | F80: n.v.t. | G80: Open laadbak | I80: n.v.t. | J80: Kleine vrachtwagen/ auto + kar | K80: Afroep | L80: 2 | M80: 0.5 | N80: 0 | O80: =L80*N80 -> 0
A81: Gemaal | B81: Fiveldijk | C81: Nabij 19 | D81: Garsthuizen | E81: Roostergoed | F81: n.v.t. | G81: Open laadbak | I81: n.v.t. | J81: Kleine vrachtwagen/ auto + kar | K81: Afroep | L81: 2 | M81: 0.75 | N81: 0 | O81: =L81*N81 -> 0
A82: Gemaal | B82: Friesestraatweg | C82: Nabij 436 | D82: Groningen | E82: Roostergoed | F82: n.v.t. | G82: Open laadbak | I82: n.v.t. | J82: Kleine vrachtwagen/ auto + kar | K82: Afroep | L82: 4 | M82: 2.35 | N82: 0 | O82: =L82*N82 -> 0
A83: Gemaal | B83: Hoendiep | C83: Nabij 177aa | D83: Groningen | E83: Roostergoed | F83: n.v.t. | G83: Open laadbak | I83: n.v.t. | J83: Kleine vrachtwagen/ auto + kar | K83: Afroep | L83: 8 | M83: 11 | N83: 0 | O83: =L83*N83 -> 0
A84: Gemaal | B84: Huizengalaan | D84: Ten Boer | E84: Roostergoed | F84: n.v.t. | G84: Open laadbak | I84: n.v.t. | J84: Kleine vrachtwagen/ auto + kar | K84: Afroep | L84: 4 | M84: 3.42 | N84: 0 | O84: =L84*N84 -> 0
A85: Gemaal | B85: Industrieweg | C85: Nabij 14a | D85: Bedum | E85: Roostergoed | F85: n.v.t. | G85: Open laadbak | I85: n.v.t. | J85: Kleine vrachtwagen/ auto + kar | K85: Afroep | L85: 6 | M85: 5.68 | N85: 0 | O85: =L85*N85 -> 0
A86: Gemaal | B86: Kustweg | C86: 519 | D86: Delfzijl | E86: Roostergoed | F86: n.v.t. | G86: Open laadbak | I86: n.v.t. | J86: Kleine vrachtwagen/ auto + kar | K86: Afroep | L86: 1 | M86: 0.5 | N86: 0 | O86: =L86*N86 -> 0
A87: Gemaal | B87: Lageweg | C87: Nabij 22a | D87: Garmerwolde | E87: Roostergoed | F87: n.v.t. | G87: Open laadbak | I87: n.v.t. | J87: Kleine vrachtwagen/ auto + kar | K87: Afroep | L87: 2 | M87: 0.75 | N87: 0 | O87: =L87*N87 -> 0
A88: Gemaal | B88: Lauwersdwarsweg | C88: Nabij 7 | D88: Uithuizen | E88: Roostergoed | F88: n.v.t. | G88: Open laadbak | I88: n.v.t. | J88: Kleine vrachtwagen/ auto + kar | K88: Afroep | L88: 2 | M88: 0.75 | N88: 0 | O88: =L88*N88 -> 0
A89: Gemaal | B89: Lauwersdwarsweg | C89: Nabij 1 | D89: Uithuizen | E89: Roostergoed | F89: n.v.t. | G89: Open laadbak | I89: n.v.t. | J89: Kleine vrachtwagen/ auto + kar | K89: Afroep | L89: 6 | M89: 1 | N89: 0 | O89: =L89*N89 -> 0
A90: Gemaal | B90: Maljehornsterweg | D90: Lellens | E90: Roostergoed | F90: n.v.t. | G90: Open laadbak | I90: n.v.t. | J90: Kleine vrachtwagen/ auto + kar | K90: Afroep | L90: 6 | M90: 0.3 | N90: 0 | O90: =L90*N90 -> 0
A91: Gemaal | B91: Netlaan | C91: Nabij 1 | D91: Winsum | E91: Roostergoed | F91: n.v.t. | G91: Open laadbak | I91: n.v.t. | J91: Kleine vrachtwagen/ auto + kar | K91: Afroep | L91: 6 | M91: 6.34 | N91: 0 | O91: =L91*N91 -> 0
A92: Gemaal | B92: Noorddijkerweg | C92: Nabij 6 | D92: Groningen | E92: Roostergoed | F92: n.v.t. | G92: Open laadbak | I92: n.v.t. | J92: Kleine vrachtwagen/ auto + kar | K92: Afroep | L92: 1 | M92: 0.5 | N92: 0 | O92: =L92*N92 -> 0
A93: Gemaal | B93: Oldenoordweg | C93: Nabij 1 | D93: Toornwerd | E93: Roostergoed | F93: n.v.t. | G93: Open laadbak | I93: n.v.t. | J93: Kleine vrachtwagen/ auto + kar | K93: Afroep | L93: 4 | M93: 4 | N93: 0 | O93: =L93*N93 -> 0
A94: Gemaal | B94: Oude Rijksweg | C94: Nabij 4 | D94: Garmerwolde | E94: Roostergoed | F94: n.v.t. | G94: Open laadbak | I94: n.v.t. | J94: Kleine vrachtwagen/ auto + kar | K94: Afroep | L94: 2 | M94: 1 | N94: 0 | O94: =L94*N94 -> 0
A95: Gemaal | B95: Oudedijk | C95: Nabij 41 | D95: Warffum | E95: Roostergoed | F95: n.v.t. | G95: Open laadbak | I95: n.v.t. | J95: Kleine vrachtwagen/ auto + kar | K95: Afroep | L95: 12 | M95: 8.32 | N95: 0 | O95: =L95*N95 -> 0
A96: Gemaal | B96: Poelweg | C96: Nabij 8 | D96: Grijpskerk | E96: Roostergoed | F96: n.v.t. | G96: Open laadbak | I96: n.v.t. | J96: Kleine vrachtwagen/ auto + kar | K96: Afroep | L96: 4 | M96: 0.6 | N96: 0 | O96: =L96*N96 -> 0
A97: Gemaal | B97: Ranum | C97: Nabij 2 | D97: Winsum | E97: Roostergoed | F97: n.v.t. | G97: Open laadbak | I97: n.v.t. | J97: Kleine vrachtwagen/ auto + kar | K97: Afroep | L97: 4 | M97: 0.7 | N97: 0 | O97: =L97*N97 -> 0
A98: Gemaal | B98: Rijksweg | C98: Nabij 105 | D98: Ten Post (vlakbij Ten Boer) | E98: Roostergoed | F98: n.v.t. | G98: Open laadbak | I98: n.v.t. | J98: Kleine vrachtwagen/ auto + kar | K98: Afroep | L98: 4 | M98: 1.5 | N98: 0 | O98: =L98*N98 -> 0
A99: Gemaal | B99: Rijksweg | C99: 100 | D99: Groningen | E99: Roostergoed | F99: n.v.t. | G99: Open laadbak | I99: n.v.t. | J99: Kleine vrachtwagen/ auto + kar | K99: Afroep | L99: 8 | M99: 2.02 | N99: 0 | O99: =L99*N99 -> 0
A100: Gemaal | B100: Rijksweg | C100: Nabij 249 | D100: Winneweer | E100: Roostergoed | F100: n.v.t. | G100: Open laadbak | I100: n.v.t. | J100: Kleine vrachtwagen/ auto + kar | K100: Afroep | L100: 4 | M100: 0.5 | N100: 0 | O100: =L100*N100 -> 0
A101: Gemaal | B101: Schaapweg | C101: Nabij 30 | D101: Westernieland | E101: Roostergoed | F101: n.v.t. | G101: Open laadbak | I101: n.v.t. | J101: Kleine vrachtwagen/ auto + kar | K101: Afroep | L101: 6 | M101: 0.75 | N101: 0 | O101: =L101*N101 -> 0
A102: Gemaal | B102: Sikkel | C102: Nabij 25 | D102: Delfzijl | E102: Roostergoed | F102: n.v.t. | G102: Open laadbak | I102: n.v.t. | J102: Kleine vrachtwagen/ auto + kar | K102: Afroep | L102: 4 | M102: 0.75 | N102: 0 | O102: =L102*N102 -> 0
A103: Gemaal | B103: Ter Laan | C103: Nabij 14 | D103: Bedum | E103: Roostergoed | F103: n.v.t. | G103: Open laadbak | I103: n.v.t. | J103: Kleine vrachtwagen/ auto + kar | K103: Afroep | L103: 8 | M103: 1.4 | N103: 0 | O103: =L103*N103 -> 0
A104: Gemaal | B104: Tuikwerderrak | C104: 27a | D104: Delfzijl | E104: Roostergoed | F104: n.v.t. | G104: Open laadbak | I104: n.v.t. | J104: Kleine vrachtwagen/ auto + kar | K104: Afroep | L104: 3 | M104: 1.5 | N104: 0 | O104: =L104*N104 -> 0
A105: Gemaal | B105: van Heemskerckstraat | D105: Groningen | E105: Roostergoed | F105: n.v.t. | G105: Open laadbak | I105: n.v.t. | J105: Kleine vrachtwagen/ auto + kar | K105: Afroep | L105: 8 | M105: 3.4 | N105: 0 | O105: =L105*N105 -> 0
A106: Gemaal | B106: Weg naar den Dam | C106: 7b | D106: Delfzijl | E106: Roostergoed | F106: n.v.t. | G106: Open laadbak | I106: n.v.t. | J106: Kleine vrachtwagen/ auto + kar | K106: Afroep | L106: 1 | M106: 0.4 | N106: 0 | O106: =L106*N106 -> 0
A107: Gemaal | B107: Winsumerstraatweg | C107: Nabij 8 | D107: Winsum | E107: Roostergoed | F107: n.v.t. | G107: Open laadbak | I107: n.v.t. | J107: Kleine vrachtwagen/ auto + kar | K107: Afroep | L107: 6 | M107: 3.3 | N107: 0 | O107: =L107*N107 -> 0
A108: Gemaal | B108: Woldweg | C108: Nabij 84 | D108: Groningen | E108: Roostergoed | F108: n.v.t. | G108: Open laadbak | I108: n.v.t. | J108: Kleine vrachtwagen/ auto + kar | K108: Afroep | L108: 6 | M108: 1.8 | N108: 0 | O108: =L108*N108 -> 0
A109: Gemaal | B109: Zwet | C109: Nabij 17 | D109: Delfzijl | E109: Roostergoed | F109: n.v.t. | G109: Open laadbak | I109: n.v.t. | J109: Kleine vrachtwagen/ auto + kar | K109: Afroep | L109: 6 | M109: 6.25 | N109: 0 | O109: =L109*N109 -> 0
A110: RWZI | B110: Grasdijkweg | C110: 2 | D110: Garmerwolde | E110: Poetslappen | F110: 240 liter | G110: Box | H110: Kunststof | I110: 1 | J110: Milieuauto | K110: Afroep | L110: 2 | M110: 0.1 | N110: 0 | O110: =L110*N110 -> 0
A111: RWZI | B111: Grasdijkweg | C111: 2 | D111: Garmerwolde | E111: Batterijen | F111: 30 liter | G111: Box | H111: Kunststof | I111: 1 | J111: Milieuauto | K111: Afroep | L111: 2 | M111: 0.05 | N111: 0 | O111: =L111*N111 -> 0
A112: RWZI | B112: Grasdijkweg | C112: 2 | D112: Garmerwolde | E112: Kitkokers | F112: 240 liter | G112: Box | H112: Kunststof | I112: 1 | J112: Milieuauto | K112: Afroep | L112: 2 | M112: 0.05 | N112: 0 | O112: =L112*N112 -> 0
A113: RWZI | B113: Grasdijkweg | C113: 2 | D113: Garmerwolde | E113: Oliefilters | F113: 240 liter | G113: Box | H113: Kunststof | I113: 1 | J113: Milieuauto | K113: Afroep | L113: 2 | M113: 0.05 | N113: 0 | O113: =L113*N113 -> 0
...

Sheet Prijs verwerking
A1: Afvalstroom | B1: Afzet in ton per jaar (indicatief) | C1: Verwerkingsprijs per ton | D1: Totaalsom in €
A2: Bedrijfsafval | B2: 50.4 | D2: =B2*C2 -> 0
A3: Snoeiafval/groenafval | B3: 26.5 | D3: =B3*C3 -> 0
A4: Hout (C-hout) | B4: 16 | D4: =B4*C4 -> 0
A5: Papier | B5: 3.55 | D5: =B5*C5 -> 0
A6: Glas | B6: 0.3 | D6: =B6*C6 -> 0
A7: Vertrouwelijk papier | B7: 3.43 | D7: =B7*C7 -> 0
A8: Poetslappen | B8: 0.1 | D8: =B8*C8 -> 0
A9: Spuitbussen | B9: 0.03 | D9: =B9*C9 -> 0
A10: TL-lampen | B10: 0.2 | D10: =B10*C10 -> 0
A11: Loodaccu's, (inclusief accuzuur) | B11: 0.7 | D11: =B11*C11 -> 0
A12: Batterijen | B12: 0.14 | D12: =B12*C12 -> 0
A13: Verfafval | B13: 0.23 | D13: =B13*C13 -> 0
... A32: Zandafval | B32: 687.5 | D32: =B32*C32 -> 0
A33: Drijfvuil | B33: 880 | D33: ='Prijs organisch afval'!B8 -> 0
A34: Roostergoed | B34: 284 | D34: ='Prijs organisch afval'!D8 -> 0
A35: Maaisel Zeedijk | B35: 29 | D35: ='Prijs organisch afval'!F8 -> 0
A36: Inschrijfsom verwerking** | D36: =SUM(D2:D35) -> 0
A37: - Onder 'Verwerkingsprijs per ton' verstaat Opdrachtgever de prijs voor verwerking
A38: * Cellen D33, D34 en D35 worden automatisch ingevuld nadat het tabblad 'Prijs organisch afval' is ingevuld.
A40: Inschrijver dient de grijs gekleurde velden niet in te vullen | B40: Deze velden dienen ingevuld te worden door Inschrijver

Sheet Prijs organisch afval
B1: Drijfvuil (880 ton gemiddeld per jaar, indicatief) | D1: Roostergoed (284 ton gemiddeld per jaar, indicatief) | F1: Maaisel Zeedijk (29 ton gemiddeld per jaar, indicatief)
A2: Tonnen spreiding/jaar | B2: Verwerkingsprijs per ton incl. transport | C2: Verwerkingsprijs per ton excl. transport | D2: Verwerkingsprijs per ton incl. transport | E2: Verwerkingsprijs per ton excl. transport | F2: Verwerkingsprijs per ton incl. transport | G2: Verwerkingsprijs per ton excl. transport
A3: 0-500 ton
A4: 501 ton en meer
A5: Laadkosten per ton*
B6: =(B3+B4+B5)/2 -> 0 | C6: =(C3+C4)/2 -> 0 | D6: =(D3+D4+D5)/2 -> 0 | E6: =(E3+E4)/2 -> 0 | F6: =F3+F5 -> 0 | G6: =G3 -> 0
A7: Gemiddelde verwerkingsprijs per ton** | B7: =(B6+C6)/2 -> 0 | D7: =(D6+E6)/2 -> 0 | F7: =(F6+G6)/2 -> 0
A8: Inschrijfsom | B8: =880*B7 -> 0 | D8: =284*D7 -> 0 | F8: =29*F7 -> 0
A9: * Laadkosten per ton, inclusief opladen en afvoeren. Deze dienstverlening kan optioneel door Opdrachtgever worden afgenomen.
A10: ** Om een goede prijsvergelijking te kunnen bewerkstelligen wordt gebruik gemaakt van een formule waarbij een gemiddelde wordt genomen van de verwerkingskosten inclusief en exclusief laadkosten
A11: De inschrijfsom voor drijfvuil, roostergoed en maaisel wordt automatisch overgenomen in het tabblad "Prijs verwerking"
A12: Inschrijver dient de grijs gekleurde velden niet in te vullen | B12: Deze velden dienen ingevuld te worden door Inschrijver

Sheet Prijs huur containers
A1: CONTAINERHUUR
A2: Type container | B2: Aantal containers | C2: Inhoud | D2: Eenheid | E2: Huurprijs per container per maand | F2: Huurprijs per jaar in €
A3: afzet | B3: 11 | C3: 6 | D3: m3 | E3: 0 | F3: =B3*E3*12 -> 0
A4: afzet | B4: 9 | C4: 10 | D4: m3 | E4: 0 | F4: =B4*E4*12 -> 0
A5: afzet | B5: 1 | C5: 12 | D5: m3 | E5: 0 | F5: =B5*E5*12 -> 0
A6: afzet | B6: 4 | C6: 15 | D6: m3 | E6: 0 | F6: =B6*E6*12 -> 0
A7: afzet | B7: 6 | C7: 20 | D7: m3 | E7: 0 | F7: =B7*E7*12 -> 0
A8: afzet | B8: 1 | C8: 30 | D8: m3 | E8: 0 | F8: =B8*E8*12 -> 0
A9: Box | B9: 8 | C9: 30 | D9: liter | E9: 0 | F9: =B9*E9*12 -> 0
A10: Box | B10: 3 | C10: 120 | D10: liter | E10: 0 | F10: =B10*E10*12 -> 0
A11: Box | B11: 12 | C11: 240 | D11: liter | E11: 0 | F11: =B11*E11*12 -> 0
A12: rol | B12: 1 | C12: 60 | D12: liter | E12: 0 | F12: =B12*E12*12 -> 0
A13: rol | B13: 3 | C13: 120 | D13: liter | E13: 0 | F13: =B13*E13*12 -> 0
A14: rol | B14: 28 | C14: 240 | D14: liter | E14: 0 | F14: =B14*E14*12 -> 0
... A21: rol | B21: 4 | C21: 1300 | D21: liter | E21: 0 | F21: =B21*E21*12 -> 0
A22: Inschrijfsom huur | F22: =SUM(F3:F21) -> 0
A24: Inschrijver dient de grijs gekleurde velden niet in te vullen | B24: Deze velden dienen ingevuld te worden door Inschrijver
