Workbook

Sheet Invoervelden, scores
D2: Score eisen en wensen | I2: Score functionaliteiten
D3: 1 | E3: 2 | F3: 3 | G3: 4 | I3: 1 | J3: 2 | K3: 3 | L3: 4
B4: Voldoet | C4: 1 | D4: 1 | E4: 3 | F4: 5 | G4: TRUE | I4: 0 | J4: 0 | K4: 0 | L4: TRUE
B5: Voldoet beperkt | C5: 2 | D5: 0 | E5: 1 | F5: 3 | G5: TRUE | I5: 0 | J5: 0 | K5: 0 | L5: TRUE
B6: Voldoet bij livegang | C6: 3 | D6: 0 | E6: 1 | F6: 3 | G6: TRUE | I6: 0 | J6: 0 | K6: 0 | L6: TRUE
B7: Voldoet niet | C7: 4 | D7: 0 | E7: 0 | F7: 0 | G7: FALSE | I7: 0 | J7: 0 | K7: 0 | L7: FALSE
C9: 1 | D9: Leuk om te hebben
C10: 2 | D10: Gewenst
C11: 3 | D11: Belangrijk
C12: 4 | D12: Eis

Sheet Toelichting
C1: Toelichting bij het Antwoordformulier Eisen en Wensen
C2: In de tekst wordt steeds gesproken van een Programma van Eisen. In feite gaat het om een gecombineerd document Programma van Eisen en Wensen.
C3: Dit Antwoordformulier is onderdeel van het Programma van Eisen. Zie verder het document Toelichting Programma van Eisen LMS De eisen en wensen zijn verdeeld over verschillende tabbladen en corresponderen met de hoofstukken uit de toelichting.
C4: Functionaliteiten In het tablad Functionaliteiten kunt u aangeven welke functionaliteiten uw systeem aanbiedt. Indien uw systeem niet beschikt over de optionele functionaliteiten, kunt u dat in tabblad aangeven. Voor dit onderdeel worden geen punten gescoord.
C5: Invullen Eisen & wensen U kunt bij alle eisen en wensen aangeven of uw oplossing voldoet. Daarbij zijn er de volgende opties: * voldoet (toelichting mag, niet vereist) * voldoet beperkt (toelichting vereist) * voldoet bij livegang (toelichting vereist) * voldoet niet (toelichting mag, niet vereist) Beoordeling Eisen Het niet voldoen aan een eis geldt als knockout-criterium. Voor de beoordeling van eisen zijn 'voldoet' en 'voldoet bij livegang' gelijkwaardig. Als u beperkt voldoet aan een eis, moet een eventuele validatie uitwijzen of wij met de beschreven oplossing akkoord kunnen gaan.
C6: ="Er is een maximum gesteld aan het aantal eisen waar een 'voldoet bij livegang' mag worden ingevuld. Dat maximum bedraagt " & D6 &" eisen." -> Er is een maximum gesteld aan het aantal eisen waar een 'voldoet bij livegang' mag worden ingevuld. Dat maximum bedraagt 15 eisen. | D6: 15
C7: Score van de wensen De wensen hebben een gewicht: * Belangrijk --- 5 punten * Gewenst --- 3 punten * Leuk om te hebben - 1 punt Indien het systeem beperkt of nog niet voldoet aan een wens, worden punten in mindering gebracht: Belangrijk minus 2 punten, Gewenst of Leuk om te hebben minus 1 punt. Indien uw systeem niet kan voldoen aan eens wens, ontvangt u 0 punten.
C8: Interfaces In het tabblad Interfaces kunt u aangeven of kunt voorzien in de beschreven gegevensuitwisselingen, zoals beschreven in het Hoofdstuk over Architectuur in de Toelichting Programma van Eisen LMS

Sheet Functionaliteiten
B1: Hieronder kunt u aangeven of uw systeem kan voorzien in de volgende functionaliteiten.
B2: Indien de functionaliteit op een andere manier beschikbaar is in uw systeem kunt u dat in een toelichting verduidelijken. | H2: =COUNTIF($C$6:$C$31,"Eis") -> 22 | J2: Score eisen | K2: =COUNTIF($J$6:$J$32,TRUE) -> 0 | L2: ="van " &H2 -> van 22 | M2: ="("&ROUND((K2/H2)*100,0) &"%)" -> (0%)
B3: In dit onderdeel worden geen punten toegekend indien uw systeem over één of meer gewenste functionaliteiten beschikt.
B5: Functionaliteiten | C5: Gewicht | E5: Antwoord | F5: Toelichting
B6: Curriculumplanner | C6: Gewenst | D6: 2 | G6: =IF(E6="","",IF(AND(C6="Eis",E6='Invoervelden, scores'!$B$6),TRUE,FALSE)) | H6: {=INDEX('Invoervelden, scores'!$I$4:$L$7,1,D6)} -> 0 | I6: =IF(E6="","",VLOOKUP(E6,'Invoervelden, scores'!$B$4:$C$7,2,TRUE)) | J6: {=IF(E6="","",INDEX('Invoervelden, scores'!$I$4:$L$7,I6,D6))}
B7: Formatieve resultatenbeheer | C7: Eis | D7: 4 | G7: =IF(E7="","",IF(AND(C7="Eis",E7='Invoervelden, scores'!$B$6),TRUE,FALSE)) | H7: {=INDEX('Invoervelden, scores'!$I$4:$L$7,1,D7)} -> TRUE | I7: =IF(E7="","",VLOOKUP(E7,'Invoervelden, scores'!$B$4:$C$7,2,TRUE)) | J7: {=IF(E7="","",INDEX('Invoervelden, scores'!$I$4:$L$7,I7,D7))}
B8: Onderwijscatalogus | C8: Eis | D8: 4 | G8: =IF(E8="","",IF(AND(C8="Eis",E8='Invoervelden, scores'!$B$6),TRUE,FALSE)) | H8: {=INDEX('Invoervelden, scores'!$I$4:$L$7,1,D8)} -> TRUE | I8: =IF(E8="","",VLOOKUP(E8,'Invoervelden, scores'!$B$4:$C$7,2,TRUE)) | J8: {=IF(E8="","",INDEX('Invoervelden, scores'!$I$4:$L$7,I8,D8))}
B9: Leertrajectenbeheer | C9: Eis | D9: 4 | G9: =IF(E9="","",IF(AND(C9="Eis",E9='Invoervelden, scores'!$B$6),TRUE,FALSE)) | H9: {=INDEX('Invoervelden, scores'!$I$4:$L$7,1,D9)} -> TRUE | I9: =IF(E9="","",VLOOKUP(E9,'Invoervelden, scores'!$B$4:$C$7,2,TRUE)) | J9: {=IF(E9="","",INDEX('Invoervelden, scores'!$I$4:$L$7,I9,D9))}
B10: Ontsluiten / beschikbaar stellen online leermiddelen, ECK | C10: Eis | D10: 4 | G10: =IF(E10="","",IF(AND(C10="Eis",E10='Invoervelden, scores'!$B$6),TRUE,FALSE)) | H10: {=INDEX('Invoervelden, scores'!$I$4:$L$7,1,D10)} -> TRUE | I10: =IF(E10="","",VLOOKUP(E10,'Invoervelden, scores'!$B$4:$C$7,2,TRUE)) | J10: {=IF(E10="","",INDEX('Invoervelden, scores'!$I$4:$L$7,I10,D10))}
B11: Leercontent ontwikkel service | C11: Eis | D11: 4 | G11: =IF(E11="","",IF(AND(C11="Eis",E11='Invoervelden, scores'!$B$6),TRUE,FALSE)) | H11: {=INDEX('Invoervelden, scores'!$I$4:$L$7,1,D11)} -> TRUE | I11: =IF(E11="","",VLOOKUP(E11,'Invoervelden, scores'!$B$4:$C$7,2,TRUE)) | J11: {=IF(E11="","",INDEX('Invoervelden, scores'!$I$4:$L$7,I11,D11))}
B12: Leermiddelenbank | C12: Eis | D12: 4 | G12: =IF(E12="","",IF(AND(C12="Eis",E12='Invoervelden, scores'!$B$6),TRUE,FALSE)) | H12: {=INDEX('Invoervelden, scores'!$I$4:$L$7,1,D12)} -> TRUE | I12: =IF(E12="","",VLOOKUP(E12,'Invoervelden, scores'!$B$4:$C$7,2,TRUE)) | J12: {=IF(E12="","",INDEX('Invoervelden, scores'!$I$4:$L$7,I12,D12))}
B13: Groepenbeheer | C13: Eis | D13: 4 | G13: =IF(E13="","",IF(AND(C13="Eis",E13='Invoervelden, scores'!$B$6),TRUE,FALSE)) | H13: {=INDEX('Invoervelden, scores'!$I$4:$L$7,1,D13)} -> TRUE | I13: =IF(E13="","",VLOOKUP(E13,'Invoervelden, scores'!$B$4:$C$7,2,TRUE)) | J13: {=IF(E13="","",INDEX('Invoervelden, scores'!$I$4:$L$7,I13,D13))}
B14: Koppeling naar didactische online tools | C14: Eis | D14: 4 | G14: =IF(E14="","",IF(AND(C14="Eis",E14='Invoervelden, scores'!$B$6),TRUE,FALSE)) | H14: {=INDEX('Invoervelden, scores'!$I$4:$L$7,1,D14)} -> TRUE | I14: =IF(E14="","",VLOOKUP(E14,'Invoervelden, scores'!$B$4:$C$7,2,TRUE)) | J14: {=IF(E14="","",INDEX('Invoervelden, scores'!$I$4:$L$7,I14,D14))}
B15: Videodiensten | C15: Eis | D15: 4 | G15: =IF(E15="","",IF(AND(C15="Eis",E15='Invoervelden, scores'!$B$6),TRUE,FALSE)) | H15: {=INDEX('Invoervelden, scores'!$I$4:$L$7,1,D15)} -> TRUE | I15: =IF(E15="","",VLOOKUP(E15,'Invoervelden, scores'!$B$4:$C$7,2,TRUE)) | J15: {=IF(E15="","",INDEX('Invoervelden, scores'!$I$4:$L$7,I15,D15))}
B16: Online lesgeven | C16: Eis | D16: 4 | G16: =IF(E16="","",IF(AND(C16="Eis",E16='Invoervelden, scores'!$B$6),TRUE,FALSE)) | H16: {=INDEX('Invoervelden, scores'!$I$4:$L$7,1,D16)} -> TRUE | I16: =IF(E16="","",VLOOKUP(E16,'Invoervelden, scores'!$B$4:$C$7,2,TRUE)) | J16: {=IF(E16="","",INDEX('Invoervelden, scores'!$I$4:$L$7,I16,D16))}
B17: Learning analytics | C17: Gewenst | D17: 2 | G17: =IF(E17="","",IF(AND(C17="Eis",E17='Invoervelden, scores'!$B$6),TRUE,FALSE)) | H17: {=INDEX('Invoervelden, scores'!$I$4:$L$7,1,D17)} -> 0 | I17: =IF(E17="","",VLOOKUP(E17,'Invoervelden, scores'!$B$4:$C$7,2,TRUE)) | J17: {=IF(E17="","",INDEX('Invoervelden, scores'!$I$4:$L$7,I17,D17))}
... B32: Hulpmiddelen tonen | C32: Belangrijk | D32: 3 | G32: =IF(E32="","",IF(AND(C32="Eis",E32='Invoervelden, scores'!$B$6),TRUE,FALSE)) | H32: {=INDEX('Invoervelden, scores'!$I$4:$L$7,1,D32)} -> 0 | I32: =IF(E32="","",VLOOKUP(E32,'Invoervelden, scores'!$B$4:$C$7,2,TRUE)) | J32: {=IF(E32="","",INDEX('Invoervelden, scores'!$I$4:$L$7,I32,D32))}

Sheet Total results
A1: source order | B1: # | C1: Item | D1: Mean | H1: Mean | I1: SD
C2: Curriculumplanner | E2: 0.7 | N2: 0.5
A3: 1 | B3: 1 | C3: De curriculumplanner kan kwalificatiedossiers van de SBB-website inlezen. | D3: 2.74 | E3: =IF(D3="","",INT(D3+$E$2)) -> 3 | F3: Eis: | G3: =COUNTIF(E3:$E$294,4) -> 36 | H3: 2.74 | I3: 0.28 | J3: =IF(H3="","",INT(H3+$E$2)) -> 3 | K3: =IF(J3="","",ABS(D3-M3)) -> 0.26 | M3: 3 | N3: =IF(M3="","",INT(M3+$E$2)) -> 3
A4: 2 | B4: 2 | C4: Onderwijsontwikkelaars kunnen binnen het LMS gebruik maken van functionaliteiten om curricula en leereenheden te ontwerpen in een grof ontwerp. | D4: 2.55 | E4: =IF(D4="","",INT(D4+$E$2)) -> 3 | F4: Belangrijk | G4: =COUNTIF(E4:$E$294,3) -> 186 | H4: 2.55 | I4: 0.24 | J4: =IF(H4="","",INT(H4+$E$2)) -> 3 | K4: =IF(J4="","",ABS(D4-M4)) -> 0.05 | M4: 2.5 | N4: =IF(M4="","",INT(M4+$E$2)) -> 3
A5: 3 | B5: 3 | C5: Onderwijsontwikkelaars kunnen het onderwijs in het LMS vormgeven in een boomstructuur zodat het onderwijs en het toetsplan één geheel vormen. | D5: 2.65 | E5: =IF(D5="","",INT(D5+$E$2)) -> 3 | F5: Gewenst | G5: =COUNTIF(E5:$E$294,2) -> 37 | H5: 2.65 | I5: 0.25 | J5: =IF(H5="","",INT(H5+$E$2)) -> 3 | K5: =IF(J5="","",ABS(D5-M5)) -> 0.65 | M5: 2 | N5: =IF(M5="","",INT(M5+$E$2)) -> 2
A6: 4 | B6: 4 | C6: Een (reeds bestaande) leereenheid kan aan een kwalificatiedossier gekoppeld worden. | D6: 2.35 | E6: =IF(D6="","",INT(D6+$E$2)) -> 3 | F6: Leuk | G6: =COUNTIF(E6:$E$294,1) -> 1 | H6: 2.35 | I6: 0.33 | J6: =IF(H6="","",INT(H6+$E$2)) -> 3 | K6: =IF(J6="","",ABS(D6-M6)) -> 0.85 | M6: 1.5 | N6: =IF(M6="","",INT(M6+$E$2)) -> 2
A7: 5 | B7: 5 | C7: Een curriculumontwerp kan in een workflow worden opgezet waarbij verschillende rollen verschillende rechten hebben met betrekking tot het ontwerpen, becommentariëren, vaststellen, etc. | D7: 2.05 | E7: =IF(D7="","",INT(D7+$E$2)) -> 2 | F7: Niet | G7: =COUNTIF(E7:$E$294,0) -> 0 | H7: 2.05 | I7: 0.34 | J7: =IF(H7="","",INT(H7+$E$2)) -> 2 | K7: =IF(J7="","",ABS(D7-M7)) -> 0.88 | M7: 1.17 | N7: =IF(M7="","",INT(M7+$E$2)) -> 1
A8: 6 | B8: 6 | C8: De leereenheden kunnen binnen een curriculumontwerp in tijd (schooljaar, periode, opleidingsfase) weggezet worden. | D8: 2.9 | E8: =IF(D8="","",INT(D8+$E$2)) -> 3 | H8: 2.9 | I8: 0.21 | J8: =IF(H8="","",INT(H8+$E$2)) -> 3 | K8: =IF(J8="","",ABS(D8-M8)) -> 0.27 | M8: 3.17 | N8: =IF(M8="","",INT(M8+$E$2)) -> 3
A9: 7 | B9: 7 | C9: Per leereenheid kan onderwijstijd gekoppeld worden. | D9: 2.35 | E9: =IF(D9="","",INT(D9+$E$2)) -> 3 | H9: 2.35 | I9: 0.28 | J9: =IF(H9="","",INT(H9+$E$2)) -> 3 | K9: =IF(J9="","",ABS(D9-M9)) -> 0.85 | M9: 1.5 | N9: =IF(M9="","",INT(M9+$E$2)) -> 2
A10: 8 | B10: 8 | C10: De inhoud van een leereenheid kan in de vorm van leeractiviteiten worden beschreven. | D10: 2.05 | E10: =IF(D10="","",INT(D10+$E$2)) -> 2 | H10: 2.05 | I10: 0.2 | J10: =IF(H10="","",INT(H10+$E$2)) -> 2 | K10: =IF(J10="","",ABS(D10-M10)) -> 0.88 | M10: 1.17 | N10: =IF(M10="","",INT(M10+$E$2)) -> 1
A11: 9 | B11: 9 | C11: Specifieke leerdoelen kunnen worden omschreven en gekoppeld aan leeractiviteiten. | D11: 2.1 | E11: =IF(D11="","",INT(D11+$E$2)) -> 2 | H11: 2.1 | I11: 0.22 | J11: =IF(H11="","",INT(H11+$E$2)) -> 2 | K11: =IF(J11="","",ABS(D11-M11)) -> 0.6 | M11: 1.5 | N11: =IF(M11="","",INT(M11+$E$2)) -> 2
C12: Formatieve resultatenbeheer | E12: =IF(D12="","",INT(D12+$E$2)) | J12: =IF(H12="","",INT(H12+$E$2)) | K12: =IF(J12="","",ABS(D12-M12)) | N12: =IF(M12="","",INT(M12+$E$2))
A13: 10 | B13: 10 | C13: Het LMS biedt verschillende beoordelingsschalen (tenminste: voldaan/niet voldaan; cijfer; woordschaal, vijf puntsschaal, rubric). | D13: 3.59 | E13: =IF(D13="","",INT(D13+$E$2)) -> 4 | H13: 3.59 | I13: 0.16 | J13: =IF(H13="","",INT(H13+$E$2)) -> 4 | K13: =IF(J13="","",ABS(D13-M13)) -> 0.12 | M13: 3.71 | N13: =IF(M13="","",INT(M13+$E$2)) -> 4
A14: 11 | B14: 11 | C14: Het een formatief toetsplan kan worden ontworpen of geïmporteerd in het LMS. | D14: 2.85 | E14: =IF(D14="","",INT(D14+$E$2)) -> 3 | H14: 2.85 | I14: 0.16 | J14: =IF(H14="","",INT(H14+$E$2)) -> 3 | K14: =IF(J14="","",ABS(D14-M14)) -> 0.02 | M14: 2.83 | N14: =IF(M14="","",INT(M14+$E$2)) -> 3
A15: 12 | B15: 12 | C15: De formatieve resultatenstructuur is zichtbaar voor de docent en de student | D15: 3.44 | E15: =IF(D15="","",INT(D15+$E$2)) -> 4 | H15: 3.44 | I15: 0.25 | J15: =IF(H15="","",INT(H15+$E$2)) -> 4 | K15: =IF(J15="","",ABS(D15-M15)) -> 0.24 | M15: 3.2 | N15: =IF(M15="","",INT(M15+$E$2)) -> 3
A16: 13 | B16: 13 | C16: Formatieve resultaten per student / per groep (die gekoppeld zijn aan de resultatenstructuur) kunnen worden geëxporteerd naar een bronsysteem. | D16: 3.26 | E16: =IF(D16="","",INT(D16+$E$2)) -> 3 | H16: 3.26 | I16: 0.2 | J16: =IF(H16="","",INT(H16+$E$2)) -> 3 | K16: =IF(J16="","",ABS(D16-M16)) -> 0.31 | M16: 3.57 | N16: =IF(M16="","",INT(M16+$E$2)) -> 4
A17: 14 | B17: 14 | C17: Toegekende resultaten zijn (alleen) zichtbaar voor studenten (persoonlijk) en voor bij het onderwijs betrokken docenten (ook per groep) | D17: 3.5 | E17: =IF(D17="","",INT(D17+$E$2)) -> 4 | H17: 3.5 | I17: 0.17 | J17: =IF(H17="","",INT(H17+$E$2)) -> 4 | K17: =IF(J17="","",ABS(D17-M17)) -> 0.36 | M17: 3.86 | N17: =IF(M17="","",INT(M17+$E$2)) -> 4
A18: 15 | B18: 15 | C18: Het systeem biedt de mogelijkheden om resultaten in een boomstructuur op basis van formules door te rekenen tot een (voorlopig) eindresultaat. | D18: 2.85 | E18: =IF(D18="","",INT(D18+$E$2)) -> 3 | H18: 2.85 | I18: 0.23 | J18: =IF(H18="","",INT(H18+$E$2)) -> 3 | K18: =IF(J18="","",ABS(D18-M18)) -> 0.28 | M18: 2.57 | N18: =IF(M18="","",INT(M18+$E$2)) -> 3
A19: 16 | B19: 16 | C19: Docenten kunnen de resultaten bekijken van gevolgde leereenheden, testjes en polls om de voorkennis van een groep of individu te bepalen. | D19: 2.33 | E19: =IF(D19="","",INT(D19+$E$2)) -> 3 | H19: 2.33 | I19: 0.18 | J19: =IF(H19="","",INT(H19+$E$2)) -> 3 | K19: =IF(J19="","",ABS(D19-M19)) -> 0.47 | M19: 1.86 | N19: =IF(M19="","",INT(M19+$E$2)) -> 2
A20: 17 | B20: 17 | C20: Resultaten die een student behaalt met leereenheid van een keuzedeel moeten automatisch worden geplaatst in de examenresultaten in het SIS. | D20: 2.62 | E20: =IF(D20="","",INT(D20+$E$2)) -> 3 | H20: 2.62 | I20: 0.3 | J20: =IF(H20="","",INT(H20+$E$2)) -> 3 | K20: =IF(J20="","",ABS(D20-M20)) -> 0.81 | M20: 3.43 | N20: =IF(M20="","",INT(M20+$E$2)) -> 4
A21: 18 | B21: 18 | C21: (Grafische) presentaties/rapporten van de resultaten ten opzichte van de leerdoelen per leerlijn/per student/per groep per leereenheid/per domein, kunnen gegenereerd en gedeeld worden. | D21: 2.29 | E21: =IF(D21="","",INT(D21+$E$2)) -> 2 | H21: 2.29 | I21: 0.23 | J21: =IF(H21="","",INT(H21+$E$2)) -> 2 | K21: =IF(J21="","",ABS(D21-M21)) -> 0.29 | M21: 2 | N21: =IF(M21="","",INT(M21+$E$2)) -> 2
A22: 20 | B22: 20 | C22: Het is mogelijk om de toetsresultaten in te zien, zowel voor docent als student. Het is mogelijk om dit per toets te kunnen bepalen of de toetsresultaten zichtbaar zijn. | D22: 3.11 | E22: =IF(D22="","",INT(D22+$E$2)) -> 3 | H22: 3.11 | I22: 0.21 | J22: =IF(H22="","",INT(H22+$E$2)) -> 3 | K22: =IF(J22="","",ABS(D22-M22)) -> 0.69 | M22: 3.8 | N22: =IF(M22="","",INT(M22+$E$2)) -> 4
A23: 21 | B23: 21 | C23: Toetsen kunnen gekoppeld worden aan individuele studenten, maar ook aan een of meerdere groepen. Het is mogelijk een tijdsspanne aan te geven waarin de toets beschikbaar is voor studenten. | D23: 2.95 | E23: =IF(D23="","",INT(D23+$E$2)) -> 3 | H23: 2.95 | I23: 0.23 | J23: =IF(H23="","",INT(H23+$E$2)) -> 3 | K23: =IF(J23="","",ABS(D23-M23)) -> 0.62 | M23: 2.33 | N23: =IF(M23="","",INT(M23+$E$2)) -> 3
A24: 22 | B24: 22 | C24: (Grafische) overzichten van gemaakte toetsen zijn te genereren, om de resultaten en daarmee de kwaliteit van de toetsvragen te kunnen beoordelen | D24: 2.4 | E24: =IF(D24="","",INT(D24+$E$2)) -> 3 | H24: 2.4 | I24: 0.22 | J24: =IF(H24="","",INT(H24+$E$2)) -> 3 | K24: =IF(J24="","",ABS(D24-M24)) -> 0.73 | M24: 1.67 | N24: =IF(M24="","",INT(M24+$E$2)) -> 2
A25: 23 | B25: 23 | C25: Er kunnen badges, pluimen, etc. toegekend worden aan bepaalde studieresultaten. | D25: 1.38 | E25: =IF(D25="","",INT(D25+$E$2)) -> 2 | H25: 1.38 | I25: 0.29 | J25: =IF(H25="","",INT(H25+$E$2)) -> 2 | K25: =IF(J25="","",ABS(D25-M25)) -> 0.67 | M25: 0.71 | N25: =IF(M25="","",INT(M25+$E$2)) -> 1
C26: Onderwijscatalogus | E26: =IF(D26="","",INT(D26+$E$2)) | J26: =IF(H26="","",INT(H26+$E$2)) | K26: =IF(J26="","",ABS(D26-M26)) | N26: =IF(M26="","",INT(M26+$E$2))
A27: 24 | B27: 24 | C27: De onderwijscatalogus bevat (een overzicht van) alle reeds ontwikkelde (online) leereenheden. | D27: 3 | E27: =IF(D27="","",INT(D27+$E$2)) -> 3 | H27: 3 | I27: 0.23 | J27: =IF(H27="","",INT(H27+$E$2)) -> 3 | K27: =IF(J27="","",ABS(D27-M27)) -> 0.57 | M27: 3.57 | N27: =IF(M27="","",INT(M27+$E$2)) -> 4
A28: 25 | B28: 25 | C28: De inhoud van de onderwijscatalogus kan geheel of gedeeltelijk op basis van bepaalde filters worden ontsloten naar andere systemen (zoals bijvoorbeeld website). | D28: 2.33 | E28: =IF(D28="","",INT(D28+$E$2)) -> 3 | H28: 2.33 | I28: 0.24 | J28: =IF(H28="","",INT(H28+$E$2)) -> 3 | K28: =IF(J28="","",ABS(D28-M28)) -> 0.19 | M28: 2.14 | N28: =IF(M28="","",INT(M28+$E$2)) -> 2
A29: 26 | B29: 26 | C29: Leereenheden in de onderwijscatalogus kunnen worden voorzien van metadata zoals titel, inhoudsopgave, trefwoorden, tijdsinvestering, voorwaarden om de leereenheid ter mogen volgen (noodzakelijk beginniveau, eerder gevolgede leereenheden). | D29: 2.64 | E29: =IF(D29="","",INT(D29+$E$2)) -> 3 | H29: 2.64 | I29: 0.22 | J29: =IF(H29="","",INT(H29+$E$2)) -> 3 | K29: =IF(J29="","",ABS(D29-M29)) -> 0.07 | M29: 2.71 | N29: =IF(M29="","",INT(M29+$E$2)) -> 3
A30: 27 | B30: 27 | C30: De onderwijscatalogus kan op basis van verschillende criteria worden doorzocht of gefilterd. | D30: 2.81 | E30: =IF(D30="","",INT(D30+$E$2)) -> 3 | H30: 2.81 | I30: 0.18 | J30: =IF(H30="","",INT(H30+$E$2)) -> 3 | K30: =IF(J30="","",ABS(D30-M30)) -> 0.19 | M30: 3 | N30: =IF(M30="","",INT(M30+$E$2)) -> 3
A31: 28 | B31: 28 | C31: Leereenheden uit de onderwijscatalogus kunnen in een productruimte worden samengevoegd tot grotere eenheden (cursus, training, opleiding). | D31: 2.35 | E31: =IF(D31="","",INT(D31+$E$2)) -> 3 | H31: 2.35 | I31: 0.24 | J31: =IF(H31="","",INT(H31+$E$2)) -> 3 | K31: =IF(J31="","",ABS(D31-M31)) -> 0.52 | M31: 1.83 | N31: =IF(M31="","",INT(M31+$E$2)) -> 2
A32: 29 | B32: 29 | C32: Docenten hebben overzicht van het totale én het eigen onderwijsaanbod binnen KW1C. | D32: 2.67 | E32: =IF(D32="","",INT(D32+$E$2)) -> 3 | H32: 2.67 | I32: 0.25 | J32: =IF(H32="","",INT(H32+$E$2)) -> 3 | K32: =IF(J32="","",ABS(D32-M32)) -> 0.1 | M32: 2.57 | N32: =IF(M32="","",INT(M32+$E$2)) -> 3
C33: Leertrajectenbeheer | E33: =IF(D33="","",INT(D33+$E$2)) | J33: =IF(H33="","",INT(H33+$E$2)) | K33: =IF(J33="","",ABS(D33-M33)) | N33: =IF(M33="","",INT(M33+$E$2))
A34: 30 | B34: 30 | C34: Het is mogelijk om leertrajecten samen te stellen op basis van diverse leermaterialen en leeractiviteiten in het LMS. Deze leertrajecten kunnen worden toegewezen aan groepen en aan individuele studenten. | D34: 3.14 | E34: =IF(D34="","",INT(D34+$E$2)) -> 3 | H34: 3.14 | I34: 0.2 | J34: =IF(H34="","",INT(H34+$E$2)) -> 3 | K34: =IF(J34="","",ABS(D34-M34)) -> 0 | M34: 3.14 | N34: =IF(M34="","",INT(M34+$E$2)) -> 3
A35: 31 | B35: 31 | C35: Het LMS moet de levenscyclus van een leereenheid kunnen ondersteunen. Bijvoorbeeld: een cursus kent de volgende fasen: in ontwikkeling, vastgesteld, in productie, gearchiveerd. | D35: 2.81 | E35: =IF(D35="","",INT(D35+$E$2)) -> 3 | H35: 2.81 | I35: 0.21 | J35: =IF(H35="","",INT(H35+$E$2)) -> 3 | K35: =IF(J35="","",ABS(D35-M35)) -> 0.76 | M35: 3.57 | N35: =IF(M35="","",INT(M35+$E$2)) -> 4
A36: 32 | B36: 32 | C36: Een docent of ontwikkelaar is in staat om bepaalde voorwaarden in te stellen waar een student aan moet voldoen om leermaterialen te kunnen zien en leeractiviteiten uit te kunnen voeren. * Leermaterialen en leeractiviteiten zijn pas zichtbaar of uitvoerbaar na afronding van een andere leeractiviteit (bijvoorbeeld opdracht of toets). * Opdrachten kunnen beschikbaar gesteld aan specifieke (groepen) studenten. * Aan leermaterialen en leeractiviteiten kan een tijdslot worden gehangen, zodat ze zichtbaar of uitvoerbaar zijn vanaf en/of tot een bepaalde datum. | D36: 2.86 | E36: =IF(D36="","",INT(D36+$E$2)) -> 3 | H36: 2.86 | I36: 0.18 | J36: =IF(H36="","",INT(H36+$E$2)) -> 3 | K36: =IF(J36="","",ABS(D36-M36)) -> 0.28 | M36: 3.14 | N36: =IF(M36="","",INT(M36+$E$2)) -> 3
A37: 33 | B37: 33 | C37: Het is mogelijk dat een docent opdrachten, toetsen en andere taken verbindt met elementen uit het kwalificatiedossier (bijvoorbeeld kerntaken, werkprocessen, vakkennis, vaardigheden en houdingsaspecten), zodat op basis van uitgevoerde taken de ontwikkeling van de studenten ten aanzien van de inhoud van het kwalificatiedossier visueel aantrekkelijk zichtbaar wordt gemaakt voor de docent en student. | D37: 2.64 | E37: =IF(D37="","",INT(D37+$E$2)) -> 3 | H37: 2.64 | I37: 0.24 | J37: =IF(H37="","",INT(H37+$E$2)) -> 3 | K37: =IF(J37="","",ABS(D37-M37)) -> 0.78 | M37: 1.86 | N37: =IF(M37="","",INT(M37+$E$2)) -> 2
A38: 34 | B38: 34 | C38: De docent kan een vergadering in MS Teams toevoegen als leeractiviteit in het LMS. | D38: 1.91 | E38: =IF(D38="","",INT(D38+$E$2)) -> 2 | H38: 1.91 | I38: 0.21 | J38: =IF(H38="","",INT(H38+$E$2)) -> 2 | K38: =IF(J38="","",ABS(D38-M38)) -> 0.2 | M38: 1.71 | N38: =IF(M38="","",INT(M38+$E$2)) -> 2
A39: 35 | B39: 35 | C39: De docent kan binnen het LMS (of middels integratie met andere applicaties) verschillende typen activiteiten gebruiken bij uitwerking van het didactisch scenario zoals instructie, zelftoets, groepsopdracht, inleveropdracht, enzovoorts. | D39: 2.72 | E39: =IF(D39="","",INT(D39+$E$2)) -> 3 | H39: 2.72 | I39: 0.25 | J39: =IF(H39="","",INT(H39+$E$2)) -> 3 | K39: =IF(J39="","",ABS(D39-M39)) -> 0.39 | M39: 2.33 | N39: =IF(M39="","",INT(M39+$E$2)) -> 3
A40: 36 | B40: 36 | C40: Een docent moet kunnen configureren hoe leeractiviteiten kunnen worden afgerond (tenminste: op basis van een oordeel en op basis van afvinken door de docent). | D40: 2.35 | E40: =IF(D40="","",INT(D40+$E$2)) -> 3 | H40: 2.35 | I40: 0.21 | J40: =IF(H40="","",INT(H40+$E$2)) -> 3 | K40: =IF(J40="","",ABS(D40-M40)) -> 0.55 | M40: 1.8 | N40: =IF(M40="","",INT(M40+$E$2)) -> 2
...

Sheet Eisen en wensen
J2: Maximale score: | K2: =COUNTIF($D$11:$D$358,3)*5+COUNTIF($D$11:$D$358,2)*3+COUNTIF($D$11:$D$358,1) -> 1110
J3: Score | K3: =SUM(K11:$K$358) -> 0 | L3: =K3/K2 -> 0
J4: Aantal eisen | K4: =COUNTIF(D11:$D$358,4) -> 76
J5: Score eisen | K5: =COUNTIF(K11:$K$358,TRUE) -> 0 | L5: =K5/K$4 -> 0
J6: Aantal eisen beperkt | K6: =COUNTIF($M$11:$M$358,TRUE) -> 0 | L6: =K6/K$4 -> 0
J7: Aantal eisen livegang | K7: =COUNTIF(N11:$N$358,TRUE) -> 0 | L7: =K7/K$4 -> 0
C8: Geef in de kolom Antwoord aan of uw oplossing voldoet aan de volgende eisen en wensen. Geef in elk geval in de groene velden onder de Toelichting een korte toelichting. | H8: Bij Voldoet beperkt of Voldoet bij Livegang is een korte toelichting verplicht.
B9: Functionaliteit | C9: Item | E9: Gewicht | F9: Antwoord | H9: Toelichting | K9: Score
B10: 1. Curriculumplanner
C11: 1.1 De curriculumplanner kan kwalificatiedossiers van de SBB-website inlezen. | D11: 3 | E11: Belangrijk | G11: =IF($F11="","",VLOOKUP($F11,'Invoervelden, scores'!$B$4:$C$7,2,TRUE)) | K11: {=IF($C11="","",IF($F11="","",INDEX('Invoervelden, scores'!$D$4:$G$7,'Eisen en wensen'!G11,'Eisen en wensen'!D11)))} | M11: =IF(AND(D11=4,G11=2),TRUE,FALSE) -> FALSE | N11: =IF(AND(D11=4,G11=3),TRUE,FALSE) -> FALSE
C12: 1.2 Onderwijsontwikkelaars kunnen binnen het LMS gebruik maken van functionaliteiten om curricula en leereenheden te ontwerpen in een grof ontwerp. | D12: 3 | E12: Belangrijk | G12: =IF($F12="","",VLOOKUP($F12,'Invoervelden, scores'!$B$4:$C$7,2,TRUE)) | K12: {=IF($C12="","",IF($F12="","",INDEX('Invoervelden, scores'!$D$4:$G$7,'Eisen en wensen'!G12,'Eisen en wensen'!D12)))} | M12: =IF(AND(D12=4,G12=2),TRUE,FALSE) -> FALSE | N12: =IF(AND(D12=4,G12=3),TRUE,FALSE) -> FALSE
C13: 1.3 Onderwijsontwikkelaars kunnen het onderwijs in het LMS vormgeven in een boomstructuur zodat het onderwijs en het toetsplan één geheel vormen. | D13: 3 | E13: Belangrijk | G13: =IF($F13="","",VLOOKUP($F13,'Invoervelden, scores'!$B$4:$C$7,2,TRUE)) | K13: {=IF($C13="","",IF($F13="","",INDEX('Invoervelden, scores'!$D$4:$G$7,'Eisen en wensen'!G13,'Eisen en wensen'!D13)))} | M13: =IF(AND(D13=4,G13=2),TRUE,FALSE) -> FALSE | N13: =IF(AND(D13=4,G13=3),TRUE,FALSE) -> FALSE
C14: 1.4 Een (reeds bestaande) leereenheid kan aan een kwalificatiedossier gekoppeld worden. | D14: 3 | E14: Belangrijk | G14: =IF($F14="","",VLOOKUP($F14,'Invoervelden, scores'!$B$4:$C$7,2,TRUE)) | K14: {=IF($C14="","",IF($F14="","",INDEX('Invoervelden, scores'!$D$4:$G$7,'Eisen en wensen'!G14,'Eisen en wensen'!D14)))} | M14: =IF(AND(D14=4,G14=2),TRUE,FALSE) -> FALSE | N14: =IF(AND(D14=4,G14=3),TRUE,FALSE) -> FALSE
C15: 1.5 Een curriculumontwerp kan in een workflow worden opgezet waarbij verschillende rollen verschillende rechten hebben met betrekking tot het ontwerpen, becommentariëren, vaststellen, etc. | D15: 2 | E15: Gewenst | G15: =IF($F15="","",VLOOKUP($F15,'Invoervelden, scores'!$B$4:$C$7,2,TRUE)) | K15: {=IF($C15="","",IF($F15="","",INDEX('Invoervelden, scores'!$D$4:$G$7,'Eisen en wensen'!G15,'Eisen en wensen'!D15)))} | M15: =IF(AND(D15=4,G15=2),TRUE,FALSE) -> FALSE | N15: =IF(AND(D15=4,G15=3),TRUE,FALSE) -> FALSE
C16: 1.6 De leereenheden kunnen binnen een curriculumontwerp in tijd (schooljaar, periode, opleidingsfase) weggezet worden. | D16: 3 | E16: Belangrijk | G16: =IF($F16="","",VLOOKUP($F16,'Invoervelden, scores'!$B$4:$C$7,2,TRUE)) | K16: {=IF($C16="","",IF($F16="","",INDEX('Invoervelden, scores'!$D$4:$G$7,'Eisen en wensen'!G16,'Eisen en wensen'!D16)))} | M16: =IF(AND(D16=4,G16=2),TRUE,FALSE) -> FALSE | N16: =IF(AND(D16=4,G16=3),TRUE,FALSE) -> FALSE
C17: 1.7 Per leereenheid kan onderwijstijd gekoppeld worden. | D17: 3 | E17: Belangrijk | G17: =IF($F17="","",VLOOKUP($F17,'Invoervelden, scores'!$B$4:$C$7,2,TRUE)) | K17: {=IF($C17="","",IF($F17="","",INDEX('Invoervelden, scores'!$D$4:$G$7,'Eisen en wensen'!G17,'Eisen en wensen'!D17)))} | M17: =IF(AND(D17=4,G17=2),TRUE,FALSE) -> FALSE | N17: =IF(AND(D17=4,G17=3),TRUE,FALSE) -> FALSE
C18: 1.8 De inhoud van een leereenheid kan in de vorm van leeractiviteiten worden beschreven. | D18: 2 | E18: Gewenst | G18: =IF($F18="","",VLOOKUP($F18,'Invoervelden, scores'!$B$4:$C$7,2,TRUE)) | K18: {=IF($C18="","",IF($F18="","",INDEX('Invoervelden, scores'!$D$4:$G$7,'Eisen en wensen'!G18,'Eisen en wensen'!D18)))} | M18: =IF(AND(D18=4,G18=2),TRUE,FALSE) -> FALSE | N18: =IF(AND(D18=4,G18=3),TRUE,FALSE) -> FALSE
C19: 1.9 Specifieke leerdoelen kunnen worden omschreven en gekoppeld aan leeractiviteiten. | D19: 2 | E19: Gewenst | G19: =IF($F19="","",VLOOKUP($F19,'Invoervelden, scores'!$B$4:$C$7,2,TRUE)) | K19: {=IF($C19="","",IF($F19="","",INDEX('Invoervelden, scores'!$D$4:$G$7,'Eisen en wensen'!G19,'Eisen en wensen'!D19)))} | M19: =IF(AND(D19=4,G19=2),TRUE,FALSE) -> FALSE | N19: =IF(AND(D19=4,G19=3),TRUE,FALSE) -> FALSE
B20: 2. Formatieve resultatenbeheer | G20: =IF($F20="","",VLOOKUP($F20,'Invoervelden, scores'!$B$4:$C$7,2,TRUE)) | K20: {=IF($C20="","",IF($F20="","",INDEX('Invoervelden, scores'!$D$4:$G$7,'Eisen en wensen'!G20,'Eisen en wensen'!D20)))} | M20: =IF(AND(D20=4,G20=2),TRUE,FALSE) -> FALSE | N20: =IF(AND(D20=4,G20=3),TRUE,FALSE) -> FALSE
C21: 2.1 Het LMS biedt verschillende beoordelingsschalen (tenminste: voldaan/niet voldaan; cijfer; woordschaal, vijf puntsschaal, rubric). | D21: 4 | E21: Eis | G21: =IF($F21="","",VLOOKUP($F21,'Invoervelden, scores'!$B$4:$C$7,2,TRUE)) | K21: {=IF($C21="","",IF($F21="","",INDEX('Invoervelden, scores'!$D$4:$G$7,'Eisen en wensen'!G21,'Eisen en wensen'!D21)))} | M21: =IF(AND(D21=4,G21=2),TRUE,FALSE) -> FALSE | N21: =IF(AND(D21=4,G21=3),TRUE,FALSE) -> FALSE
C22: 2.2 Het een formatief toetsplan kan worden ontworpen of geïmporteerd in het LMS. | D22: 3 | E22: Belangrijk | G22: =IF($F22="","",VLOOKUP($F22,'Invoervelden, scores'!$B$4:$C$7,2,TRUE)) | K22: {=IF($C22="","",IF($F22="","",INDEX('Invoervelden, scores'!$D$4:$G$7,'Eisen en wensen'!G22,'Eisen en wensen'!D22)))} | M22: =IF(AND(D22=4,G22=2),TRUE,FALSE) -> FALSE | N22: =IF(AND(D22=4,G22=3),TRUE,FALSE) -> FALSE
C23: 2.3 De formatieve resultatenstructuur is zichtbaar voor de docent en de student | D23: 4 | E23: Eis | G23: =IF($F23="","",VLOOKUP($F23,'Invoervelden, scores'!$B$4:$C$7,2,TRUE)) | K23: {=IF($C23="","",IF($F23="","",INDEX('Invoervelden, scores'!$D$4:$G$7,'Eisen en wensen'!G23,'Eisen en wensen'!D23)))} | M23: =IF(AND(D23=4,G23=2),TRUE,FALSE) -> FALSE | N23: =IF(AND(D23=4,G23=3),TRUE,FALSE) -> FALSE
C24: 2.4 Formatieve resultaten per student / per groep (die gekoppeld zijn aan de resultatenstructuur) kunnen worden geëxporteerd naar een bronsysteem. | D24: 3 | E24: Belangrijk | G24: =IF($F24="","",VLOOKUP($F24,'Invoervelden, scores'!$B$4:$C$7,2,TRUE)) | K24: {=IF($C24="","",IF($F24="","",INDEX('Invoervelden, scores'!$D$4:$G$7,'Eisen en wensen'!G24,'Eisen en wensen'!D24)))} | M24: =IF(AND(D24=4,G24=2),TRUE,FALSE) -> FALSE | N24: =IF(AND(D24=4,G24=3),TRUE,FALSE) -> FALSE
C25: 2.5 Toegekende resultaten zijn (alleen) zichtbaar voor studenten (persoonlijk) en voor bij het onderwijs betrokken docenten (ook per groep) | D25: 4 | E25: Eis | G25: =IF($F25="","",VLOOKUP($F25,'Invoervelden, scores'!$B$4:$C$7,2,TRUE)) | K25: {=IF($C25="","",IF($F25="","",INDEX('Invoervelden, scores'!$D$4:$G$7,'Eisen en wensen'!G25,'Eisen en wensen'!D25)))} | M25: =IF(AND(D25=4,G25=2),TRUE,FALSE) -> FALSE | N25: =IF(AND(D25=4,G25=3),TRUE,FALSE) -> FALSE
C26: 2.6 Het systeem biedt de mogelijkheden om resultaten in een boomstructuur op basis van formules door te rekenen tot een (voorlopig) eindresultaat. | D26: 3 | E26: Belangrijk | G26: =IF($F26="","",VLOOKUP($F26,'Invoervelden, scores'!$B$4:$C$7,2,TRUE)) | K26: {=IF($C26="","",IF($F26="","",INDEX('Invoervelden, scores'!$D$4:$G$7,'Eisen en wensen'!G26,'Eisen en wensen'!D26)))} | M26: =IF(AND(D26=4,G26=2),TRUE,FALSE) -> FALSE | N26: =IF(AND(D26=4,G26=3),TRUE,FALSE) -> FALSE
C27: 2.7 Docenten kunnen de resultaten bekijken van gevolgde leereenheden, testjes en polls om de voorkennis van een groep of individu te bepalen. | D27: 3 | E27: Belangrijk | G27: =IF($F27="","",VLOOKUP($F27,'Invoervelden, scores'!$B$4:$C$7,2,TRUE)) | K27: {=IF($C27="","",IF($F27="","",INDEX('Invoervelden, scores'!$D$4:$G$7,'Eisen en wensen'!G27,'Eisen en wensen'!D27)))} | M27: =IF(AND(D27=4,G27=2),TRUE,FALSE) -> FALSE | N27: =IF(AND(D27=4,G27=3),TRUE,FALSE) -> FALSE
C28: 2.8 Resultaten die een student behaalt met leereenheid van een keuzedeel moeten automatisch worden geplaatst in de examenresultaten in het SIS. | D28: 3 | E28: Belangrijk | G28: =IF($F28="","",VLOOKUP($F28,'Invoervelden, scores'!$B$4:$C$7,2,TRUE)) | K28: {=IF($C28="","",IF($F28="","",INDEX('Invoervelden, scores'!$D$4:$G$7,'Eisen en wensen'!G28,'Eisen en wensen'!D28)))} | M28: =IF(AND(D28=4,G28=2),TRUE,FALSE) -> FALSE | N28: =IF(AND(D28=4,G28=3),TRUE,FALSE) -> FALSE
C29: 2.9 (Grafische) presentaties/rapporten van de resultaten ten opzichte van de leerdoelen per leerlijn/per student/per groep per leereenheid/per domein, kunnen gegenereerd en gedeeld worden. | D29: 2 | E29: Gewenst | G29: =IF($F29="","",VLOOKUP($F29,'Invoervelden, scores'!$B$4:$C$7,2,TRUE)) | K29: {=IF($C29="","",IF($F29="","",INDEX('Invoervelden, scores'!$D$4:$G$7,'Eisen en wensen'!G29,'Eisen en wensen'!D29)))} | M29: =IF(AND(D29=4,G29=2),TRUE,FALSE) -> FALSE | N29: =IF(AND(D29=4,G29=3),TRUE,FALSE) -> FALSE
C30: 2.10 Het is mogelijk om de toetsresultaten in te zien, zowel voor docent als student. Het is mogelijk om dit per toets te kunnen bepalen of de toetsresultaten zichtbaar zijn. | D30: 3 | E30: Belangrijk | G30: =IF($F30="","",VLOOKUP($F30,'Invoervelden, scores'!$B$4:$C$7,2,TRUE)) | K30: {=IF($C30="","",IF($F30="","",INDEX('Invoervelden, scores'!$D$4:$G$7,'Eisen en wensen'!G30,'Eisen en wensen'!D30)))} | M30: =IF(AND(D30=4,G30=2),TRUE,FALSE) -> FALSE | N30: =IF(AND(D30=4,G30=3),TRUE,FALSE) -> FALSE
C31: 2.11 Toetsen kunnen gekoppeld worden aan individuele studenten, maar ook aan een of meerdere groepen. Het is mogelijk een tijdsspanne aan te geven waarin de toets beschikbaar is voor studenten. | D31: 3 | E31: Belangrijk | G31: =IF($F31="","",VLOOKUP($F31,'Invoervelden, scores'!$B$4:$C$7,2,TRUE)) | K31: {=IF($C31="","",IF($F31="","",INDEX('Invoervelden, scores'!$D$4:$G$7,'Eisen en wensen'!G31,'Eisen en wensen'!D31)))} | M31: =IF(AND(D31=4,G31=2),TRUE,FALSE) -> FALSE | N31: =IF(AND(D31=4,G31=3),TRUE,FALSE) -> FALSE
C32: 2.12 (Grafische) overzichten van gemaakte toetsen zijn te genereren, om de resultaten en daarmee de kwaliteit van de toetsvragen te kunnen beoordelen | D32: 3 | E32: Belangrijk | G32: =IF($F32="","",VLOOKUP($F32,'Invoervelden, scores'!$B$4:$C$7,2,TRUE)) | K32: {=IF($C32="","",IF($F32="","",INDEX('Invoervelden, scores'!$D$4:$G$7,'Eisen en wensen'!G32,'Eisen en wensen'!D32)))} | M32: =IF(AND(D32=4,G32=2),TRUE,FALSE) -> FALSE | N32: =IF(AND(D32=4,G32=3),TRUE,FALSE) -> FALSE
... C34: 2.14 Badges of microcredentials kunnen worden geregistreerd in een daarvoor bestemd extern systeem, van waaruit het door de student kan worden gedeeld. | D34: 2 | E34: Gewenst | G34: =IF($F34="","",VLOOKUP($F34,'Invoervelden, scores'!$B$4:$C$7,2,TRUE)) | K34: {=IF($C34="","",IF($F34="","",INDEX('Invoervelden, scores'!$D$4:$G$7,'Eisen en wensen'!G34,'Eisen en wensen'!D34)))} | M34: =IF(AND(D34=4,G34=2),TRUE,FALSE) -> FALSE | N34: =IF(AND(D34=4,G34=3),TRUE,FALSE) -> FALSE
B35: 3. Onderwijscatalogus | G35: =IF($F35="","",VLOOKUP($F35,'Invoervelden, scores'!$B$4:$C$7,2,TRUE)) | K35: {=IF($C35="","",IF($F35="","",INDEX('Invoervelden, scores'!$D$4:$G$7,'Eisen en wensen'!G35,'Eisen en wensen'!D35)))} | M35: =IF(AND(D35=4,G35=2),TRUE,FALSE) -> FALSE | N35: =IF(AND(D35=4,G35=3),TRUE,FALSE) -> FALSE
C36: 3.1 De onderwijscatalogus bevat (een overzicht van) alle reeds ontwikkelde (online) leereenheden. | D36: 3 | E36: Belangrijk | G36: =IF($F36="","",VLOOKUP($F36,'Invoervelden, scores'!$B$4:$C$7,2,TRUE)) | K36: {=IF($C36="","",IF($F36="","",INDEX('Invoervelden, scores'!$D$4:$G$7,'Eisen en wensen'!G36,'Eisen en wensen'!D36)))} | M36: =IF(AND(D36=4,G36=2),TRUE,FALSE) -> FALSE | N36: =IF(AND(D36=4,G36=3),TRUE,FALSE) -> FALSE
C37: 3.2 De inhoud van de onderwijscatalogus kan geheel of gedeeltelijk op basis van bepaalde filters worden ontsloten naar andere systemen (zoals bijvoorbeeld website). | D37: 3 | E37: Belangrijk | G37: =IF($F37="","",VLOOKUP($F37,'Invoervelden, scores'!$B$4:$C$7,2,TRUE)) | K37: {=IF($C37="","",IF($F37="","",INDEX('Invoervelden, scores'!$D$4:$G$7,'Eisen en wensen'!G37,'Eisen en wensen'!D37)))} | M37: =IF(AND(D37=4,G37=2),TRUE,FALSE) -> FALSE | N37: =IF(AND(D37=4,G37=3),TRUE,FALSE) -> FALSE
C38: 3.3 Leereenheden in de onderwijscatalogus kunnen worden voorzien van metadata zoals titel, inhoudsopgave, trefwoorden, tijdsinvestering, voorwaarden om de leereenheid ter mogen volgen (noodzakelijk beginniveau, eerder gevolgede leereenheden). | D38: 3 | E38: Belangrijk | G38: =IF($F38="","",VLOOKUP($F38,'Invoervelden, scores'!$B$4:$C$7,2,TRUE)) | K38: {=IF($C38="","",IF($F38="","",INDEX('Invoervelden, scores'!$D$4:$G$7,'Eisen en wensen'!G38,'Eisen en wensen'!D38)))} | M38: =IF(AND(D38=4,G38=2),TRUE,FALSE) -> FALSE | N38: =IF(AND(D38=4,G38=3),TRUE,FALSE) -> FALSE
C39: 3.4 De onderwijscatalogus kan op basis van verschillende criteria worden doorzocht of gefilterd. | D39: 3 | E39: Belangrijk | G39: =IF($F39="","",VLOOKUP($F39,'Invoervelden, scores'!$B$4:$C$7,2,TRUE)) | K39: {=IF($C39="","",IF($F39="","",INDEX('Invoervelden, scores'!$D$4:$G$7,'Eisen en wensen'!G39,'Eisen en wensen'!D39)))} | M39: =IF(AND(D39=4,G39=2),TRUE,FALSE) -> FALSE | N39: =IF(AND(D39=4,G39=3),TRUE,FALSE) -> FALSE
C40: 3.5 Leereenheden uit de onderwijscatalogus kunnen in een productruimte worden samengevoegd tot grotere eenheden (cursus, training, opleiding). | D40: 3 | E40: Belangrijk | G40: =IF($F40="","",VLOOKUP($F40,'Invoervelden, scores'!$B$4:$C$7,2,TRUE)) | K40: {=IF($C40="","",IF($F40="","",INDEX('Invoervelden, scores'!$D$4:$G$7,'Eisen en wensen'!G40,'Eisen en wensen'!D40)))} | M40: =IF(AND(D40=4,G40=2),TRUE,FALSE) -> FALSE | N40: =IF(AND(D40=4,G40=3),TRUE,FALSE) -> FALSE
C41: 3.6 Docenten hebben overzicht van het totale én het eigen onderwijsaanbod binnen KW1C. | D41: 3 | E41: Belangrijk | G41: =IF($F41="","",VLOOKUP($F41,'Invoervelden, scores'!$B$4:$C$7,2,TRUE)) | K41: {=IF($C41="","",IF($F41="","",INDEX('Invoervelden, scores'!$D$4:$G$7,'Eisen en wensen'!G41,'Eisen en wensen'!D41)))} | M41: =IF(AND(D41=4,G41=2),TRUE,FALSE) -> FALSE | N41: =IF(AND(D41=4,G41=3),TRUE,FALSE) -> FALSE
B42: 4. Leertrajectenbeheer | G42: =IF($F42="","",VLOOKUP($F42,'Invoervelden, scores'!$B$4:$C$7,2,TRUE)) | K42: {=IF($C42="","",IF($F42="","",INDEX('Invoervelden, scores'!$D$4:$G$7,'Eisen en wensen'!G42,'Eisen en wensen'!D42)))} | M42: =IF(AND(D42=4,G42=2),TRUE,FALSE) -> FALSE | N42: =IF(AND(D42=4,G42=3),TRUE,FALSE) -> FALSE
...

Sheet xxxEisen en wensen
A2: 1 | B2: =IF(ISTEXT(H1),1,IF(ISTEXT(G2),"",IF(ISTEXT(H2),B1+1,B1))) | C2: =IF(ISTEXT(G2),"",IF(ISTEXT(H2),"",IF(ISTEXT(I2),1,C1+1))) | G2: Gebruikerservaring
A3: =IF(ISTEXT(G3),A2+1,A2) -> 1 | B3: =IF(ISTEXT(G3),"",IF(ISTEXT(G2),1,IF(ISTEXT(H3),B2+1,B2))) -> 1 | C3: =IF(ISTEXT(H3),"",IF(ISTEXT(H2),1,IF(ISTEXT(J3),C2+1,C2))) | D3: =IF(ISTEXT(J3),"",IF(ISTEXT(J2),1,IF(K3<>"",D2+1,""))) | H3: Opleiding ontwerpen en ontwikkelen
A4: =IF(ISTEXT(G4),A3+1,A3) -> 1 | B4: =IF(ISTEXT(G4),"",IF(ISTEXT(G3),1,IF(ISTEXT(H4),B3+1,B3))) -> 1 | C4: =IF(ISTEXT(H4),"",IF(ISTEXT(H3),1,IF(ISTEXT(J4),C3+1,C3))) -> 1 | D4: =IF(ISTEXT(J4),"",IF(ISTEXT(J3),1,IF(K4<>"",D3+1,""))) | I4: Opstellen onderwijsplan | J4: Curriculumontwikkeling | K4: =IF(OR(OR(ISTEXT(H4),ISTEXT(H4)),OR(ISTEXT(I4),ISTEXT(J4))),"","Eis/Wens")
A5: =IF(ISTEXT(G5),A4+1,A4) -> 1 | B5: =IF(ISTEXT(G5),"",IF(ISTEXT(G4),1,IF(ISTEXT(H5),B4+1,B4))) -> 1 | C5: =IF(ISTEXT(H5),"",IF(ISTEXT(H4),1,IF(ISTEXT(J5),C4+1,C4))) -> 1 | D5: =IF(ISTEXT(J5),"",IF(ISTEXT(J4),1,IF(K5<>"",D4+1,""))) -> 1 | K5: =IF(OR(OR(ISTEXT(H5),ISTEXT(H5)),OR(ISTEXT(I5),ISTEXT(J5))),"","Eis/Wens") -> Eis/Wens
A6: =IF(ISTEXT(G6),A5+1,A5) -> 1 | B6: =IF(ISTEXT(G6),"",IF(ISTEXT(G5),1,IF(ISTEXT(H6),B5+1,B5))) -> 1 | C6: =IF(ISTEXT(H6),"",IF(ISTEXT(H5),1,IF(ISTEXT(J6),C5+1,C5))) -> 1 | D6: =IF(ISTEXT(J6),"",IF(ISTEXT(J5),1,IF(K6<>"",D5+1,""))) -> 2 | K6: =IF(OR(OR(ISTEXT(H6),ISTEXT(H6)),OR(ISTEXT(I6),ISTEXT(J6))),"","Eis/Wens") -> Eis/Wens
A7: =IF(ISTEXT(G7),A6+1,A6) -> 1 | B7: =IF(ISTEXT(G7),"",IF(ISTEXT(G6),1,IF(ISTEXT(H7),B6+1,B6))) -> 1 | C7: =IF(ISTEXT(H7),"",IF(ISTEXT(H6),1,IF(ISTEXT(J7),C6+1,C6))) -> 2 | D7: =IF(ISTEXT(J7),"",IF(ISTEXT(J6),1,IF(K7<>"",D6+1,""))) | I7: Beheren formatieve resultaatstructuur | J7: Formatieve resultatenbeheer | K7: =IF(OR(OR(ISTEXT(H7),ISTEXT(H7)),OR(ISTEXT(I7),ISTEXT(J7))),"","Eis/Wens")
A8: =IF(ISTEXT(G8),A7+1,A7) -> 1 | B8: =IF(ISTEXT(G8),"",IF(ISTEXT(G7),1,IF(ISTEXT(H8),B7+1,B7))) -> 1 | C8: =IF(ISTEXT(H8),"",IF(ISTEXT(H7),1,IF(ISTEXT(J8),C7+1,C7))) -> 2 | D8: =IF(ISTEXT(J8),"",IF(ISTEXT(J7),1,IF(K8<>"",D7+1,""))) -> 1 | K8: =IF(OR(OR(ISTEXT(H8),ISTEXT(H8)),OR(ISTEXT(I8),ISTEXT(J8))),"","Eis/Wens") -> Eis/Wens
A9: =IF(ISTEXT(G9),A8+1,A8) -> 1 | B9: =IF(ISTEXT(G9),"",IF(ISTEXT(G8),1,IF(ISTEXT(H9),B8+1,B8))) -> 1 | C9: =IF(ISTEXT(H9),"",IF(ISTEXT(H8),1,IF(ISTEXT(J9),C8+1,C8))) -> 2 | D9: =IF(ISTEXT(J9),"",IF(ISTEXT(J8),1,IF(K9<>"",D8+1,""))) -> 2 | K9: =IF(OR(OR(ISTEXT(H9),ISTEXT(H9)),OR(ISTEXT(I9),ISTEXT(J9))),"","Eis/Wens") -> Eis/Wens
A10: =IF(ISTEXT(G10),A9+1,A9) -> 1 | B10: =IF(ISTEXT(G10),"",IF(ISTEXT(G9),1,IF(ISTEXT(H10),B9+1,B9))) -> 1 | C10: =IF(ISTEXT(H10),"",IF(ISTEXT(H9),1,IF(ISTEXT(J10),C9+1,C9))) -> 3 | D10: =IF(ISTEXT(J10),"",IF(ISTEXT(J9),1,IF(K10<>"",D9+1,""))) | I10: Definiëren onderwijsproduct | J10: Onderwijscatalogus | K10: =IF(OR(OR(ISTEXT(H10),ISTEXT(H10)),OR(ISTEXT(I10),ISTEXT(J10))),"","Eis/Wens")
A11: =IF(ISTEXT(G11),A10+1,A10) -> 1 | B11: =IF(ISTEXT(G11),"",IF(ISTEXT(G10),1,IF(ISTEXT(H11),B10+1,B10))) -> 1 | C11: =IF(ISTEXT(H11),"",IF(ISTEXT(H10),1,IF(ISTEXT(J11),C10+1,C10))) -> 3 | D11: =IF(ISTEXT(J11),"",IF(ISTEXT(J10),1,IF(K11<>"",D10+1,""))) -> 1 | K11: =IF(OR(OR(ISTEXT(H11),ISTEXT(H11)),OR(ISTEXT(I11),ISTEXT(J11))),"","Eis/Wens") -> Eis/Wens
A12: =IF(ISTEXT(G12),A11+1,A11) -> 1 | B12: =IF(ISTEXT(G12),"",IF(ISTEXT(G11),1,IF(ISTEXT(H12),B11+1,B11))) -> 1 | C12: =IF(ISTEXT(H12),"",IF(ISTEXT(H11),1,IF(ISTEXT(J12),C11+1,C11))) -> 3 | D12: =IF(ISTEXT(J12),"",IF(ISTEXT(J11),1,IF(K12<>"",D11+1,""))) -> 2 | K12: =IF(OR(OR(ISTEXT(H12),ISTEXT(H12)),OR(ISTEXT(I12),ISTEXT(J12))),"","Eis/Wens") -> Eis/Wens
A13: =IF(ISTEXT(G13),A12+1,A12) -> 1 | B13: =IF(ISTEXT(G13),"",IF(ISTEXT(G12),1,IF(ISTEXT(H13),B12+1,B12))) -> 2 | C13: =IF(ISTEXT(H13),"",IF(ISTEXT(H12),1,IF(ISTEXT(J13),C12+1,C12))) | D13: =IF(ISTEXT(J13),"",IF(ISTEXT(J12),1,IF(K13<>"",D12+1,""))) | H13: Leermiddelen | K13: =IF(OR(OR(ISTEXT(H13),ISTEXT(H13)),OR(ISTEXT(I13),ISTEXT(J13))),"","Eis/Wens")
A14: =IF(ISTEXT(G14),A13+1,A13) -> 1 | B14: =IF(ISTEXT(G14),"",IF(ISTEXT(G13),1,IF(ISTEXT(H14),B13+1,B13))) -> 2 | C14: =IF(ISTEXT(H14),"",IF(ISTEXT(H13),1,IF(ISTEXT(J14),C13+1,C13))) -> 1 | D14: =IF(ISTEXT(J14),"",IF(ISTEXT(J13),1,IF(K14<>"",D13+1,""))) | I14: Verwerven leermiddelen | J14: Studieroutebeheer | K14: =IF(OR(OR(ISTEXT(H14),ISTEXT(H14)),OR(ISTEXT(I14),ISTEXT(J14))),"","Eis/Wens")
A15: =IF(ISTEXT(G15),A14+1,A14) -> 1 | B15: =IF(ISTEXT(G15),"",IF(ISTEXT(G14),1,IF(ISTEXT(H15),B14+1,B14))) -> 2 | C15: =IF(ISTEXT(H15),"",IF(ISTEXT(H14),1,IF(ISTEXT(J15),C14+1,C14))) -> 1 | D15: =IF(ISTEXT(J15),"",IF(ISTEXT(J14),1,IF(K15<>"",D14+1,""))) -> 1 | K15: =IF(OR(OR(ISTEXT(H15),ISTEXT(H15)),OR(ISTEXT(I15),ISTEXT(J15))),"","Eis/Wens") -> Eis/Wens
A16: =IF(ISTEXT(G16),A15+1,A15) -> 1 | B16: =IF(ISTEXT(G16),"",IF(ISTEXT(G15),1,IF(ISTEXT(H16),B15+1,B15))) -> 2 | C16: =IF(ISTEXT(H16),"",IF(ISTEXT(H15),1,IF(ISTEXT(J16),C15+1,C15))) -> 2 | D16: =IF(ISTEXT(J16),"",IF(ISTEXT(J15),1,IF(K16<>"",D15+1,""))) | J16: Ontsluiten / beschikbaar stellen online leermiddelen, ECK | K16: =IF(OR(OR(ISTEXT(H16),ISTEXT(H16)),OR(ISTEXT(I16),ISTEXT(J16))),"","Eis/Wens")
A17: =IF(ISTEXT(G17),A16+1,A16) -> 1 | B17: =IF(ISTEXT(G17),"",IF(ISTEXT(G16),1,IF(ISTEXT(H17),B16+1,B16))) -> 2 | C17: =IF(ISTEXT(H17),"",IF(ISTEXT(H16),1,IF(ISTEXT(J17),C16+1,C16))) -> 2 | D17: =IF(ISTEXT(J17),"",IF(ISTEXT(J16),1,IF(K17<>"",D16+1,""))) -> 1 | K17: =IF(OR(OR(ISTEXT(H17),ISTEXT(H17)),OR(ISTEXT(I17),ISTEXT(J17))),"","Eis/Wens") -> Eis/Wens
A18: =IF(ISTEXT(G18),A17+1,A17) -> 1 | B18: =IF(ISTEXT(G18),"",IF(ISTEXT(G17),1,IF(ISTEXT(H18),B17+1,B17))) -> 2 | C18: =IF(ISTEXT(H18),"",IF(ISTEXT(H17),1,IF(ISTEXT(J18),C17+1,C17))) -> 2 | D18: =IF(ISTEXT(J18),"",IF(ISTEXT(J17),1,IF(K18<>"",D17+1,""))) | I18: Ontwikkelen leermiddelen | K18: =IF(OR(OR(ISTEXT(H18),ISTEXT(H18)),OR(ISTEXT(I18),ISTEXT(J18))),"","Eis/Wens")
A19: =IF(ISTEXT(G19),A18+1,A18) -> 1 | B19: =IF(ISTEXT(G19),"",IF(ISTEXT(G18),1,IF(ISTEXT(H19),B18+1,B18))) -> 2 | C19: =IF(ISTEXT(H19),"",IF(ISTEXT(H18),1,IF(ISTEXT(J19),C18+1,C18))) -> 3 | D19: =IF(ISTEXT(J19),"",IF(ISTEXT(J18),1,IF(K19<>"",D18+1,""))) | J19: Leercontent ontwikkel service | K19: =IF(OR(OR(ISTEXT(H19),ISTEXT(H19)),OR(ISTEXT(I19),ISTEXT(J19))),"","Eis/Wens")
A20: =IF(ISTEXT(G20),A19+1,A19) -> 1 | B20: =IF(ISTEXT(G20),"",IF(ISTEXT(G19),1,IF(ISTEXT(H20),B19+1,B19))) -> 2 | C20: =IF(ISTEXT(H20),"",IF(ISTEXT(H19),1,IF(ISTEXT(J20),C19+1,C19))) -> 3 | D20: =IF(ISTEXT(J20),"",IF(ISTEXT(J19),1,IF(K20<>"",D19+1,""))) -> 1 | K20: =IF(OR(OR(ISTEXT(H20),ISTEXT(H20)),OR(ISTEXT(I20),ISTEXT(J20))),"","Eis/Wens") -> Eis/Wens
A21: =IF(ISTEXT(G21),A20+1,A20) -> 1 | B21: =IF(ISTEXT(G21),"",IF(ISTEXT(G20),1,IF(ISTEXT(H21),B20+1,B20))) -> 2 | C21: =IF(ISTEXT(H21),"",IF(ISTEXT(H20),1,IF(ISTEXT(J21),C20+1,C20))) -> 3 | D21: =IF(ISTEXT(J21),"",IF(ISTEXT(J20),1,IF(K21<>"",D20+1,""))) -> 2 | K21: =IF(OR(OR(ISTEXT(H21),ISTEXT(H21)),OR(ISTEXT(I21),ISTEXT(J21))),"","Eis/Wens") -> Eis/Wens
A22: =IF(ISTEXT(G22),A21+1,A21) -> 1 | B22: =IF(ISTEXT(G22),"",IF(ISTEXT(G21),1,IF(ISTEXT(H22),B21+1,B21))) -> 2 | C22: =IF(ISTEXT(H22),"",IF(ISTEXT(H21),1,IF(ISTEXT(J22),C21+1,C21))) -> 3 | D22: =IF(ISTEXT(J22),"",IF(ISTEXT(J21),1,IF(K22<>"",D21+1,""))) -> 3 | K22: =IF(OR(OR(ISTEXT(H22),ISTEXT(H22)),OR(ISTEXT(I22),ISTEXT(J22))),"","Eis/Wens") -> Eis/Wens
A23: =IF(ISTEXT(G23),A22+1,A22) -> 1 | B23: =IF(ISTEXT(G23),"",IF(ISTEXT(G22),1,IF(ISTEXT(H23),B22+1,B22))) -> 2 | C23: =IF(ISTEXT(H23),"",IF(ISTEXT(H22),1,IF(ISTEXT(J23),C22+1,C22))) -> 4 | D23: =IF(ISTEXT(J23),"",IF(ISTEXT(J22),1,IF(K23<>"",D22+1,""))) | J23: Importservice digitale leermiddelen | K23: =IF(OR(OR(ISTEXT(H23),ISTEXT(H23)),OR(ISTEXT(I23),ISTEXT(J23))),"","Eis/Wens")
A24: =IF(ISTEXT(G24),A23+1,A23) -> 1 | B24: =IF(ISTEXT(G24),"",IF(ISTEXT(G23),1,IF(ISTEXT(H24),B23+1,B23))) -> 2 | C24: =IF(ISTEXT(H24),"",IF(ISTEXT(H23),1,IF(ISTEXT(J24),C23+1,C23))) -> 4 | D24: =IF(ISTEXT(J24),"",IF(ISTEXT(J23),1,IF(K24<>"",D23+1,""))) -> 1 | K24: =IF(OR(OR(ISTEXT(H24),ISTEXT(H24)),OR(ISTEXT(I24),ISTEXT(J24))),"","Eis/Wens") -> Eis/Wens
A25: =IF(ISTEXT(G25),A24+1,A24) -> 1 | B25: =IF(ISTEXT(G25),"",IF(ISTEXT(G24),1,IF(ISTEXT(H25),B24+1,B24))) -> 2 | C25: =IF(ISTEXT(H25),"",IF(ISTEXT(H24),1,IF(ISTEXT(J25),C24+1,C24))) -> 4 | D25: =IF(ISTEXT(J25),"",IF(ISTEXT(J24),1,IF(K25<>"",D24+1,""))) -> 2 | K25: =IF(OR(OR(ISTEXT(H25),ISTEXT(H25)),OR(ISTEXT(I25),ISTEXT(J25))),"","Eis/Wens") -> Eis/Wens
A26: =IF(ISTEXT(G26),A25+1,A25) -> 2 | B26: =IF(ISTEXT(G26),"",IF(ISTEXT(G25),1,IF(ISTEXT(H26),B25+1,B25))) | C26: =IF(ISTEXT(H26),"",IF(ISTEXT(H25),1,IF(ISTEXT(J26),C25+1,C25))) -> 4 | D26: =IF(ISTEXT(J26),"",IF(ISTEXT(J25),1,IF(K26<>"",D25+1,""))) -> 3 | G26: Verzorgen onderwijs | K26: =IF(OR(OR(ISTEXT(H26),ISTEXT(H26)),OR(ISTEXT(I26),ISTEXT(J26))),"","Eis/Wens") -> Eis/Wens
A27: =IF(ISTEXT(G27),A26+1,A26) -> 2 | B27: =IF(ISTEXT(G27),"",IF(ISTEXT(G26),1,IF(ISTEXT(H27),B26+1,B26))) -> 1 | C27: =IF(ISTEXT(H27),"",IF(ISTEXT(H26),1,IF(ISTEXT(J27),C26+1,C26))) | D27: =IF(ISTEXT(J27),"",IF(ISTEXT(J26),1,IF(K27<>"",D26+1,""))) | H27: Voorbereiden onderwijs | K27: =IF(OR(OR(ISTEXT(H27),ISTEXT(H27)),OR(ISTEXT(I27),ISTEXT(J27))),"","Eis/Wens")
A28: =IF(ISTEXT(G28),A27+1,A27) -> 2 | B28: =IF(ISTEXT(G28),"",IF(ISTEXT(G27),1,IF(ISTEXT(H28),B27+1,B27))) -> 1 | C28: =IF(ISTEXT(H28),"",IF(ISTEXT(H27),1,IF(ISTEXT(J28),C27+1,C27))) -> 1 | D28: =IF(ISTEXT(J28),"",IF(ISTEXT(J27),1,IF(K28<>"",D27+1,""))) | I28: Toepassen externe leermiddelen | J28: x | K28: =IF(OR(OR(ISTEXT(H28),ISTEXT(H28)),OR(ISTEXT(I28),ISTEXT(J28))),"","Eis/Wens")
A29: =IF(ISTEXT(G29),A28+1,A28) -> 2 | B29: =IF(ISTEXT(G29),"",IF(ISTEXT(G28),1,IF(ISTEXT(H29),B28+1,B28))) -> 1 | C29: =IF(ISTEXT(H29),"",IF(ISTEXT(H28),1,IF(ISTEXT(J29),C28+1,C28))) -> 1 | D29: =IF(ISTEXT(J29),"",IF(ISTEXT(J28),1,IF(K29<>"",D28+1,""))) -> 1 | K29: =IF(OR(OR(ISTEXT(H29),ISTEXT(H29)),OR(ISTEXT(I29),ISTEXT(J29))),"","Eis/Wens") -> Eis/Wens
A30: =IF(ISTEXT(G30),A29+1,A29) -> 2 | B30: =IF(ISTEXT(G30),"",IF(ISTEXT(G29),1,IF(ISTEXT(H30),B29+1,B29))) -> 1 | C30: =IF(ISTEXT(H30),"",IF(ISTEXT(H29),1,IF(ISTEXT(J30),C29+1,C29))) -> 1 | D30: =IF(ISTEXT(J30),"",IF(ISTEXT(J29),1,IF(K30<>"",D29+1,""))) -> 2 | K30: =IF(OR(OR(ISTEXT(H30),ISTEXT(H30)),OR(ISTEXT(I30),ISTEXT(J30))),"","Eis/Wens") -> Eis/Wens
A31: =IF(ISTEXT(G31),A30+1,A30) -> 2 | B31: =IF(ISTEXT(G31),"",IF(ISTEXT(G30),1,IF(ISTEXT(H31),B30+1,B30))) -> 2 | C31: =IF(ISTEXT(H31),"",IF(ISTEXT(H30),1,IF(ISTEXT(J31),C30+1,C30))) | D31: =IF(ISTEXT(J31),"",IF(ISTEXT(J30),1,IF(K31<>"",D30+1,""))) | H31: Uitvoeren | K31: =IF(OR(OR(ISTEXT(H31),ISTEXT(H31)),OR(ISTEXT(I31),ISTEXT(J31))),"","Eis/Wens")
A32: =IF(ISTEXT(G32),A31+1,A31) -> 2 | B32: =IF(ISTEXT(G32),"",IF(ISTEXT(G31),1,IF(ISTEXT(H32),B31+1,B31))) -> 2 | C32: =IF(ISTEXT(H32),"",IF(ISTEXT(H31),1,IF(ISTEXT(J32),C31+1,C31))) -> 1 | D32: =IF(ISTEXT(J32),"",IF(ISTEXT(J31),1,IF(K32<>"",D31+1,""))) | I32: Voorbereiden en nazorg onderwijs | J32: Samenstellen groepen | K32: =IF(OR(OR(ISTEXT(H32),ISTEXT(H32)),OR(ISTEXT(I32),ISTEXT(J32))),"","Eis/Wens")
A33: =IF(ISTEXT(G33),A32+1,A32) -> 2 | B33: =IF(ISTEXT(G33),"",IF(ISTEXT(G32),1,IF(ISTEXT(H33),B32+1,B32))) -> 2 | C33: =IF(ISTEXT(H33),"",IF(ISTEXT(H32),1,IF(ISTEXT(J33),C32+1,C32))) -> 1 | D33: =IF(ISTEXT(J33),"",IF(ISTEXT(J32),1,IF(K33<>"",D32+1,""))) -> 1 | K33: =IF(OR(OR(ISTEXT(H33),ISTEXT(H33)),OR(ISTEXT(I33),ISTEXT(J33))),"","Eis/Wens") -> Eis/Wens
A34: =IF(ISTEXT(G34),A33+1,A33) -> 2 | B34: =IF(ISTEXT(G34),"",IF(ISTEXT(G33),1,IF(ISTEXT(H34),B33+1,B33))) -> 2 | C34: =IF(ISTEXT(H34),"",IF(ISTEXT(H33),1,IF(ISTEXT(J34),C33+1,C33))) -> 1 | D34: =IF(ISTEXT(J34),"",IF(ISTEXT(J33),1,IF(K34<>"",D33+1,""))) -> 2 | K34: =IF(OR(OR(ISTEXT(H34),ISTEXT(H34)),OR(ISTEXT(I34),ISTEXT(J34))),"","Eis/Wens") -> Eis/Wens
A35: =IF(ISTEXT(G35),A34+1,A34) -> 2 | B35: =IF(ISTEXT(G35),"",IF(ISTEXT(G34),1,IF(ISTEXT(H35),B34+1,B34))) -> 2 | C35: =IF(ISTEXT(H35),"",IF(ISTEXT(H34),1,IF(ISTEXT(J35),C34+1,C34))) -> 2 | D35: =IF(ISTEXT(J35),"",IF(ISTEXT(J34),1,IF(K35<>"",D34+1,""))) | I35: Inzetten leermiddelen | J35: Koppeling naar didactische online tools | K35: =IF(OR(OR(ISTEXT(H35),ISTEXT(H35)),OR(ISTEXT(I35),ISTEXT(J35))),"","Eis/Wens")
A36: =IF(ISTEXT(G36),A35+1,A35) -> 2 | B36: =IF(ISTEXT(G36),"",IF(ISTEXT(G35),1,IF(ISTEXT(H36),B35+1,B35))) -> 2 | C36: =IF(ISTEXT(H36),"",IF(ISTEXT(H35),1,IF(ISTEXT(J36),C35+1,C35))) -> 2 | D36: =IF(ISTEXT(J36),"",IF(ISTEXT(J35),1,IF(K36<>"",D35+1,""))) -> 1 | K36: =IF(OR(OR(ISTEXT(H36),ISTEXT(H36)),OR(ISTEXT(I36),ISTEXT(J36))),"","Eis/Wens") -> Eis/Wens
A37: =IF(ISTEXT(G43),A36+1,A36) -> 2 | B37: =IF(ISTEXT(G43),"",IF(ISTEXT(G42),1,IF(ISTEXT(H44),B36+1,B36))) -> 3 | C37: =IF(ISTEXT(H37),"",IF(ISTEXT(H36),1,IF(ISTEXT(J37),C36+1,C36))) -> 2 | D37: =IF(ISTEXT(J37),"",IF(ISTEXT(J36),1,IF(K37<>"",D36+1,""))) -> 2 | K37: =IF(OR(OR(ISTEXT(H37),ISTEXT(H37)),OR(ISTEXT(I37),ISTEXT(J37))),"","Eis/Wens") -> Eis/Wens
A38: =IF(ISTEXT(G44),A37+1,A37) -> 2 | B38: =IF(ISTEXT(G44),"",IF(ISTEXT(G43),1,IF(ISTEXT(H45),B37+1,B37))) -> 3 | C38: =IF(ISTEXT(H38),"",IF(ISTEXT(H37),1,IF(ISTEXT(J38),C37+1,C37))) -> 3 | D38: =IF(ISTEXT(J38),"",IF(ISTEXT(J37),1,IF(K38<>"",D37+1,""))) | J38: Videodiensten | K38: =IF(OR(OR(ISTEXT(H38),ISTEXT(H38)),OR(ISTEXT(I38),ISTEXT(J38))),"","Eis/Wens")
A39: =IF(ISTEXT(G45),A38+1,A38) -> 2 | B39: =IF(ISTEXT(G45),"",IF(ISTEXT(G44),1,IF(ISTEXT(H46),B38+1,B38))) -> 3 | C39: =IF(ISTEXT(H39),"",IF(ISTEXT(H38),1,IF(ISTEXT(J39),C38+1,C38))) | D39: =IF(ISTEXT(J39),"",IF(ISTEXT(J38),1,IF(K39<>"",D38+1,""))) -> 1 | H39: Formatief toetsen | K39: =IF(OR(OR(ISTEXT(H39),ISTEXT(H39)),OR(ISTEXT(I39),ISTEXT(J39))),"","Eis/Wens")
A40: =IF(ISTEXT(G46),A39+1,A39) -> 2 | B40: =IF(ISTEXT(G46),"",IF(ISTEXT(G45),1,IF(ISTEXT(H47),B39+1,B39))) -> 3 | C40: =IF(ISTEXT(H40),"",IF(ISTEXT(H39),1,IF(ISTEXT(J40),C39+1,C39))) -> 1 | D40: =IF(ISTEXT(J40),"",IF(ISTEXT(J39),1,IF(K40<>"",D39+1,""))) | I40: Uitvoeren onderwijsactiviteiten | J40: Presenteren | K40: =IF(OR(OR(ISTEXT(H40),ISTEXT(H40)),OR(ISTEXT(I40),ISTEXT(J40))),"","Eis/Wens")
A41: =IF(ISTEXT(G47),A40+1,A40) -> 2 | B41: =IF(ISTEXT(G47),"",IF(ISTEXT(G46),1,IF(ISTEXT(H48),B40+1,B40))) -> 3 | C41: =IF(ISTEXT(H41),"",IF(ISTEXT(H40),1,IF(ISTEXT(J41),C40+1,C40))) -> 1 | D41: =IF(ISTEXT(J41),"",IF(ISTEXT(J40),1,IF(K41<>"",D40+1,""))) -> 1 | K41: =IF(OR(OR(ISTEXT(H41),ISTEXT(H41)),OR(ISTEXT(I41),ISTEXT(J41))),"","Eis/Wens") -> Eis/Wens
...

Sheet Functionele voorzieningen
A2: 1 | B2: =IF(ISTEXT(H1),1,IF(ISTEXT(G2),"",IF(ISTEXT(H2),B1+1,B1))) | C2: =IF(ISTEXT(G2),"",IF(ISTEXT(H2),"",IF(ISTEXT(I2),1,C1+1))) | G2: Onderwijs ontwikkelen
A3: =IF(ISTEXT(G3),A2+1,A2) -> 1 | B3: =IF(ISTEXT(G3),"",IF(ISTEXT(G2),1,IF(ISTEXT(H3),B2+1,B2))) -> 1 | C3: =IF(ISTEXT(H3),"",IF(ISTEXT(H2),1,IF(ISTEXT(J3),C2+1,C2))) | D3: =IF(ISTEXT(J3),"",IF(ISTEXT(J2),1,IF(K3<>"",D2+1,""))) | H3: Opleiding ontwerpen en ontwikkelen
A4: =IF(ISTEXT(G4),A3+1,A3) -> 1 | B4: =IF(ISTEXT(G4),"",IF(ISTEXT(G3),1,IF(ISTEXT(H4),B3+1,B3))) -> 1 | C4: =IF(ISTEXT(H4),"",IF(ISTEXT(H3),1,IF(ISTEXT(J4),C3+1,C3))) -> 1 | D4: =IF(ISTEXT(J4),"",IF(ISTEXT(J3),1,IF(K4<>"",D3+1,""))) | I4: Opstellen onderwijsplan | J4: Curriculumontwikkeling | K4: =IF(OR(OR(ISTEXT(H4),ISTEXT(H4)),OR(ISTEXT(I4),ISTEXT(J4))),"","Eis/Wens")
A5: =IF(ISTEXT(G5),A4+1,A4) -> 1 | B5: =IF(ISTEXT(G5),"",IF(ISTEXT(G4),1,IF(ISTEXT(H5),B4+1,B4))) -> 1 | C5: =IF(ISTEXT(H5),"",IF(ISTEXT(H4),1,IF(ISTEXT(J5),C4+1,C4))) -> 1 | D5: =IF(ISTEXT(J5),"",IF(ISTEXT(J4),1,IF(K5<>"",D4+1,""))) -> 1 | K5: =IF(OR(OR(ISTEXT(H5),ISTEXT(H5)),OR(ISTEXT(I5),ISTEXT(J5))),"","Eis/Wens") -> Eis/Wens
A6: =IF(ISTEXT(G6),A5+1,A5) -> 1 | B6: =IF(ISTEXT(G6),"",IF(ISTEXT(G5),1,IF(ISTEXT(H6),B5+1,B5))) -> 1 | C6: =IF(ISTEXT(H6),"",IF(ISTEXT(H5),1,IF(ISTEXT(J6),C5+1,C5))) -> 1 | D6: =IF(ISTEXT(J6),"",IF(ISTEXT(J5),1,IF(K6<>"",D5+1,""))) -> 2 | K6: =IF(OR(OR(ISTEXT(H6),ISTEXT(H6)),OR(ISTEXT(I6),ISTEXT(J6))),"","Eis/Wens") -> Eis/Wens
A7: =IF(ISTEXT(G7),A6+1,A6) -> 1 | B7: =IF(ISTEXT(G7),"",IF(ISTEXT(G6),1,IF(ISTEXT(H7),B6+1,B6))) -> 1 | C7: =IF(ISTEXT(H7),"",IF(ISTEXT(H6),1,IF(ISTEXT(J7),C6+1,C6))) -> 2 | D7: =IF(ISTEXT(J7),"",IF(ISTEXT(J6),1,IF(K7<>"",D6+1,""))) | I7: Beheren formatieve resultaatstructuur | J7: Formatieve resultatenbeheer | K7: =IF(OR(OR(ISTEXT(H7),ISTEXT(H7)),OR(ISTEXT(I7),ISTEXT(J7))),"","Eis/Wens")
A8: =IF(ISTEXT(G8),A7+1,A7) -> 1 | B8: =IF(ISTEXT(G8),"",IF(ISTEXT(G7),1,IF(ISTEXT(H8),B7+1,B7))) -> 1 | C8: =IF(ISTEXT(H8),"",IF(ISTEXT(H7),1,IF(ISTEXT(J8),C7+1,C7))) -> 2 | D8: =IF(ISTEXT(J8),"",IF(ISTEXT(J7),1,IF(K8<>"",D7+1,""))) -> 1 | K8: =IF(OR(OR(ISTEXT(H8),ISTEXT(H8)),OR(ISTEXT(I8),ISTEXT(J8))),"","Eis/Wens") -> Eis/Wens
A9: =IF(ISTEXT(G9),A8+1,A8) -> 1 | B9: =IF(ISTEXT(G9),"",IF(ISTEXT(G8),1,IF(ISTEXT(H9),B8+1,B8))) -> 1 | C9: =IF(ISTEXT(H9),"",IF(ISTEXT(H8),1,IF(ISTEXT(J9),C8+1,C8))) -> 2 | D9: =IF(ISTEXT(J9),"",IF(ISTEXT(J8),1,IF(K9<>"",D8+1,""))) -> 2 | K9: =IF(OR(OR(ISTEXT(H9),ISTEXT(H9)),OR(ISTEXT(I9),ISTEXT(J9))),"","Eis/Wens") -> Eis/Wens
A10: =IF(ISTEXT(G10),A9+1,A9) -> 1 | B10: =IF(ISTEXT(G10),"",IF(ISTEXT(G9),1,IF(ISTEXT(H10),B9+1,B9))) -> 1 | C10: =IF(ISTEXT(H10),"",IF(ISTEXT(H9),1,IF(ISTEXT(J10),C9+1,C9))) -> 3 | D10: =IF(ISTEXT(J10),"",IF(ISTEXT(J9),1,IF(K10<>"",D9+1,""))) | I10: Definiëren onderwijsproduct | J10: Onderwijscatalogus | K10: =IF(OR(OR(ISTEXT(H10),ISTEXT(H10)),OR(ISTEXT(I10),ISTEXT(J10))),"","Eis/Wens")
A11: =IF(ISTEXT(G11),A10+1,A10) -> 1 | B11: =IF(ISTEXT(G11),"",IF(ISTEXT(G10),1,IF(ISTEXT(H11),B10+1,B10))) -> 1 | C11: =IF(ISTEXT(H11),"",IF(ISTEXT(H10),1,IF(ISTEXT(J11),C10+1,C10))) -> 3 | D11: =IF(ISTEXT(J11),"",IF(ISTEXT(J10),1,IF(K11<>"",D10+1,""))) -> 1 | K11: =IF(OR(OR(ISTEXT(H11),ISTEXT(H11)),OR(ISTEXT(I11),ISTEXT(J11))),"","Eis/Wens") -> Eis/Wens
A12: =IF(ISTEXT(G12),A11+1,A11) -> 1 | B12: =IF(ISTEXT(G12),"",IF(ISTEXT(G11),1,IF(ISTEXT(H12),B11+1,B11))) -> 1 | C12: =IF(ISTEXT(H12),"",IF(ISTEXT(H11),1,IF(ISTEXT(J12),C11+1,C11))) -> 3 | D12: =IF(ISTEXT(J12),"",IF(ISTEXT(J11),1,IF(K12<>"",D11+1,""))) -> 2 | K12: =IF(OR(OR(ISTEXT(H12),ISTEXT(H12)),OR(ISTEXT(I12),ISTEXT(J12))),"","Eis/Wens") -> Eis/Wens
A13: =IF(ISTEXT(G13),A12+1,A12) -> 1 | B13: =IF(ISTEXT(G13),"",IF(ISTEXT(G12),1,IF(ISTEXT(H13),B12+1,B12))) -> 2 | C13: =IF(ISTEXT(H13),"",IF(ISTEXT(H12),1,IF(ISTEXT(J13),C12+1,C12))) | D13: =IF(ISTEXT(J13),"",IF(ISTEXT(J12),1,IF(K13<>"",D12+1,""))) | H13: Leermiddelen | K13: =IF(OR(OR(ISTEXT(H13),ISTEXT(H13)),OR(ISTEXT(I13),ISTEXT(J13))),"","Eis/Wens")
A14: =IF(ISTEXT(G14),A13+1,A13) -> 1 | B14: =IF(ISTEXT(G14),"",IF(ISTEXT(G13),1,IF(ISTEXT(H14),B13+1,B13))) -> 2 | C14: =IF(ISTEXT(H14),"",IF(ISTEXT(H13),1,IF(ISTEXT(J14),C13+1,C13))) -> 1 | D14: =IF(ISTEXT(J14),"",IF(ISTEXT(J13),1,IF(K14<>"",D13+1,""))) | I14: Verwerven leermiddelen | J14: Studieroutebeheer | K14: =IF(OR(OR(ISTEXT(H14),ISTEXT(H14)),OR(ISTEXT(I14),ISTEXT(J14))),"","Eis/Wens")
A15: =IF(ISTEXT(G15),A14+1,A14) -> 1 | B15: =IF(ISTEXT(G15),"",IF(ISTEXT(G14),1,IF(ISTEXT(H15),B14+1,B14))) -> 2 | C15: =IF(ISTEXT(H15),"",IF(ISTEXT(H14),1,IF(ISTEXT(J15),C14+1,C14))) -> 1 | D15: =IF(ISTEXT(J15),"",IF(ISTEXT(J14),1,IF(K15<>"",D14+1,""))) -> 1 | K15: =IF(OR(OR(ISTEXT(H15),ISTEXT(H15)),OR(ISTEXT(I15),ISTEXT(J15))),"","Eis/Wens") -> Eis/Wens
A16: =IF(ISTEXT(G16),A15+1,A15) -> 1 | B16: =IF(ISTEXT(G16),"",IF(ISTEXT(G15),1,IF(ISTEXT(H16),B15+1,B15))) -> 2 | C16: =IF(ISTEXT(H16),"",IF(ISTEXT(H15),1,IF(ISTEXT(J16),C15+1,C15))) -> 2 | D16: =IF(ISTEXT(J16),"",IF(ISTEXT(J15),1,IF(K16<>"",D15+1,""))) | J16: Ontsluiten / beschikbaar stellen online leermiddelen, ECK | K16: =IF(OR(OR(ISTEXT(H16),ISTEXT(H16)),OR(ISTEXT(I16),ISTEXT(J16))),"","Eis/Wens")
A17: =IF(ISTEXT(G17),A16+1,A16) -> 1 | B17: =IF(ISTEXT(G17),"",IF(ISTEXT(G16),1,IF(ISTEXT(H17),B16+1,B16))) -> 2 | C17: =IF(ISTEXT(H17),"",IF(ISTEXT(H16),1,IF(ISTEXT(J17),C16+1,C16))) -> 2 | D17: =IF(ISTEXT(J17),"",IF(ISTEXT(J16),1,IF(K17<>"",D16+1,""))) -> 1 | K17: =IF(OR(OR(ISTEXT(H17),ISTEXT(H17)),OR(ISTEXT(I17),ISTEXT(J17))),"","Eis/Wens") -> Eis/Wens
A18: =IF(ISTEXT(G18),A17+1,A17) -> 1 | B18: =IF(ISTEXT(G18),"",IF(ISTEXT(G17),1,IF(ISTEXT(H18),B17+1,B17))) -> 2 | C18: =IF(ISTEXT(H18),"",IF(ISTEXT(H17),1,IF(ISTEXT(J18),C17+1,C17))) -> 2 | D18: =IF(ISTEXT(J18),"",IF(ISTEXT(J17),1,IF(K18<>"",D17+1,""))) | I18: Ontwikkelen leermiddelen | K18: =IF(OR(OR(ISTEXT(H18),ISTEXT(H18)),OR(ISTEXT(I18),ISTEXT(J18))),"","Eis/Wens")
A19: =IF(ISTEXT(G19),A18+1,A18) -> 1 | B19: =IF(ISTEXT(G19),"",IF(ISTEXT(G18),1,IF(ISTEXT(H19),B18+1,B18))) -> 2 | C19: =IF(ISTEXT(H19),"",IF(ISTEXT(H18),1,IF(ISTEXT(J19),C18+1,C18))) -> 3 | D19: =IF(ISTEXT(J19),"",IF(ISTEXT(J18),1,IF(K19<>"",D18+1,""))) | J19: Leercontent ontwikkel service | K19: =IF(OR(OR(ISTEXT(H19),ISTEXT(H19)),OR(ISTEXT(I19),ISTEXT(J19))),"","Eis/Wens")
A20: =IF(ISTEXT(G20),A19+1,A19) -> 1 | B20: =IF(ISTEXT(G20),"",IF(ISTEXT(G19),1,IF(ISTEXT(H20),B19+1,B19))) -> 2 | C20: =IF(ISTEXT(H20),"",IF(ISTEXT(H19),1,IF(ISTEXT(J20),C19+1,C19))) -> 3 | D20: =IF(ISTEXT(J20),"",IF(ISTEXT(J19),1,IF(K20<>"",D19+1,""))) -> 1 | K20: =IF(OR(OR(ISTEXT(H20),ISTEXT(H20)),OR(ISTEXT(I20),ISTEXT(J20))),"","Eis/Wens") -> Eis/Wens
A21: =IF(ISTEXT(G21),A20+1,A20) -> 1 | B21: =IF(ISTEXT(G21),"",IF(ISTEXT(G20),1,IF(ISTEXT(H21),B20+1,B20))) -> 2 | C21: =IF(ISTEXT(H21),"",IF(ISTEXT(H20),1,IF(ISTEXT(J21),C20+1,C20))) -> 3 | D21: =IF(ISTEXT(J21),"",IF(ISTEXT(J20),1,IF(K21<>"",D20+1,""))) -> 2 | K21: =IF(OR(OR(ISTEXT(H21),ISTEXT(H21)),OR(ISTEXT(I21),ISTEXT(J21))),"","Eis/Wens") -> Eis/Wens
A22: =IF(ISTEXT(G22),A21+1,A21) -> 1 | B22: =IF(ISTEXT(G22),"",IF(ISTEXT(G21),1,IF(ISTEXT(H22),B21+1,B21))) -> 2 | C22: =IF(ISTEXT(H22),"",IF(ISTEXT(H21),1,IF(ISTEXT(J22),C21+1,C21))) -> 3 | D22: =IF(ISTEXT(J22),"",IF(ISTEXT(J21),1,IF(K22<>"",D21+1,""))) -> 3 | K22: =IF(OR(OR(ISTEXT(H22),ISTEXT(H22)),OR(ISTEXT(I22),ISTEXT(J22))),"","Eis/Wens") -> Eis/Wens
A23: =IF(ISTEXT(G23),A22+1,A22) -> 1 | B23: =IF(ISTEXT(G23),"",IF(ISTEXT(G22),1,IF(ISTEXT(H23),B22+1,B22))) -> 2 | C23: =IF(ISTEXT(H23),"",IF(ISTEXT(H22),1,IF(ISTEXT(J23),C22+1,C22))) -> 4 | D23: =IF(ISTEXT(J23),"",IF(ISTEXT(J22),1,IF(K23<>"",D22+1,""))) | J23: Importservice digitale leermiddelen | K23: =IF(OR(OR(ISTEXT(H23),ISTEXT(H23)),OR(ISTEXT(I23),ISTEXT(J23))),"","Eis/Wens")
A24: =IF(ISTEXT(G24),A23+1,A23) -> 1 | B24: =IF(ISTEXT(G24),"",IF(ISTEXT(G23),1,IF(ISTEXT(H24),B23+1,B23))) -> 2 | C24: =IF(ISTEXT(H24),"",IF(ISTEXT(H23),1,IF(ISTEXT(J24),C23+1,C23))) -> 4 | D24: =IF(ISTEXT(J24),"",IF(ISTEXT(J23),1,IF(K24<>"",D23+1,""))) -> 1 | K24: =IF(OR(OR(ISTEXT(H24),ISTEXT(H24)),OR(ISTEXT(I24),ISTEXT(J24))),"","Eis/Wens") -> Eis/Wens
A25: =IF(ISTEXT(G25),A24+1,A24) -> 1 | B25: =IF(ISTEXT(G25),"",IF(ISTEXT(G24),1,IF(ISTEXT(H25),B24+1,B24))) -> 2 | C25: =IF(ISTEXT(H25),"",IF(ISTEXT(H24),1,IF(ISTEXT(J25),C24+1,C24))) -> 4 | D25: =IF(ISTEXT(J25),"",IF(ISTEXT(J24),1,IF(K25<>"",D24+1,""))) -> 2 | K25: =IF(OR(OR(ISTEXT(H25),ISTEXT(H25)),OR(ISTEXT(I25),ISTEXT(J25))),"","Eis/Wens") -> Eis/Wens
