Workbook

Sheet Invoervelden, scores
D2: Score eisen en wensen | I2: Score functionaliteiten
D3: 1 | E3: 2 | F3: 3 | G3: 4 | I3: 1 | J3: 2 | K3: 3 | L3: 4
B4: Voldoet | C4: 1 | D4: 1 | E4: 3 | F4: 5 | G4: TRUE | I4: 0 | J4: 0 | K4: 0 | L4: TRUE
B5: Voldoet beperkt | C5: 2 | D5: 0 | E5: 1 | F5: 3 | G5: TRUE | I5: 0 | J5: 0 | K5: 0 | L5: TRUE
B6: Voldoet bij livegang | C6: 3 | D6: 0 | E6: 1 | F6: 3 | G6: TRUE | I6: 0 | J6: 0 | K6: 0 | L6: TRUE
B7: Voldoet niet | C7: 4 | D7: 0 | E7: 0 | F7: 0 | G7: FALSE | I7: 0 | J7: 0 | K7: 0 | L7: FALSE
C9: 1 | D9: Leuk om te hebben
C10: 2 | D10: Gewenst
C11: 3 | D11: Belangrijk
C12: 4 | D12: Eis

Sheet Toelichting
C1: Toelichting bij het Antwoordformulier Eisen en Wensen
C2: In de tekst wordt steeds gesproken van een Programma van Eisen. In feite gaat het om een gecombineerd document Programma van Eisen en Wensen.
C3: Dit Antwoordformulier is onderdeel van het Programma van Eisen. Zie verder het document Toelichting Programma van Eisen LMS De eisen en wensen zijn verdeeld over verschillende tabbladen en corresponderen met de hoofstukken uit de toelichting.
C4: Functionaliteiten In het tablad Functionaliteiten kunt u aangeven welke functionaliteiten uw systeem aanbiedt. Indien uw systeem niet beschikt over de optionele functionaliteiten, kunt u dat in tabblad aangeven. Voor dit onderdeel worden geen punten gescoord.
C5: Invullen Eisen & wensen U kunt bij alle eisen en wensen aangeven of uw oplossing voldoet. Daarbij zijn er de volgende opties: * voldoet (toelichting mag, niet vereist) * voldoet beperkt (toelichting vereist) * voldoet bij livegang (toelichting vereist) * voldoet niet (toelichting mag, niet vereist) Beoordeling Eisen Het niet voldoen aan een eis geldt als knockout-criterium. Voor de beoordeling van eisen zijn 'voldoet' en 'voldoet bij livegang' gelijkwaardig. Als u beperkt voldoet aan een eis, moet een eventuele validatie uitwijzen of wij met de beschreven oplossing akkoord kunnen gaan.
C6: ="Er is een maximum gesteld aan het aantal eisen waar een 'voldoet bij livegang' mag worden ingevuld. Dat maximum bedraagt " & D6 &" eisen." -> Er is een maximum gesteld aan het aantal eisen waar een 'voldoet bij livegang' mag worden ingevuld. Dat maximum bedraagt 15 eisen. | D6: 15
C7: Score van de wensen De wensen hebben een gewicht: * Belangrijk --- 5 punten * Gewenst --- 3 punten * Leuk om te hebben - 1 punt Indien het systeem beperkt of nog niet voldoet aan een wens, worden punten in mindering gebracht: Belangrijk minus 2 punten, Gewenst of Leuk om te hebben minus 1 punt. Indien uw systeem niet kan voldoen aan eens wens, ontvangt u 0 punten.
C8: Interfaces In het tabblad Interfaces kunt u aangeven of kunt voorzien in de beschreven gegevensuitwisselingen, zoals beschreven in het Hoofdstuk over Architectuur in de Toelichting Programma van Eisen LMS

Sheet Functionaliteiten
B1: Hieronder kunt u aangeven of uw systeem kan voorzien in de volgende functionaliteiten.
B2: Indien de functionaliteit op een andere manier beschikbaar is in uw systeem kunt u dat in een toelichting verduidelijken. | H2: =COUNTIF($C$6:$C$31,"Eis") -> 22 | J2: Score eisen | K2: =COUNTIF($J$6:$J$32,TRUE) -> 0 | L2: ="van " &H2 -> van 22 | M2: ="("&ROUND((K2/H2)*100,0) &"%)" -> (0%)
B3: In dit onderdeel worden geen punten toegekend indien uw systeem over één of meer gewenste functionaliteiten beschikt.
B5: Functionaliteiten | C5: Gewicht | E5: Antwoord | F5: Toelichting
B6: Curriculumplanner | C6: Gewenst | D6: 2 | G6: =IF(E6="","",IF(AND(C6="Eis",E6='Invoervelden, scores'!$B$6),TRUE,FALSE)) | H6: {=INDEX('Invoervelden, scores'!$I$4:$L$7,1,D6)} -> 0 | I6: =IF(E6="","",VLOOKUP(E6,'Invoervelden, scores'!$B$4:$C$7,2,TRUE)) | J6: {=IF(E6="","",INDEX('Invoervelden, scores'!$I$4:$L$7,I6,D6))}
B7: Formatieve resultatenbeheer | C7: Eis | D7: 4 | G7: =IF(E7="","",IF(AND(C7="Eis",E7='Invoervelden, scores'!$B$6),TRUE,FALSE)) | H7: {=INDEX('Invoervelden, scores'!$I$4:$L$7,1,D7)} -> TRUE | I7: =IF(E7="","",VLOOKUP(E7,'Invoervelden, scores'!$B$4:$C$7,2,TRUE)) | J7: {=IF(E7="","",INDEX('Invoervelden, scores'!$I$4:$L$7,I7,D7))}
B8: Onderwijscatalogus | C8: Eis | D8: 4 | G8: =IF(E8="","",IF(AND(C8="Eis",E8='Invoervelden, scores'!$B$6),TRUE,FALSE)) | H8: {=INDEX('Invoervelden, scores'!$I$4:$L$7,1,D8)} -> TRUE | I8: =IF(E8="","",VLOOKUP(E8,'Invoervelden, scores'!$B$4:$C$7,2,TRUE)) | J8: {=IF(E8="","",INDEX('Invoervelden, scores'!$I$4:$L$7,I8,D8))}
B9: Leertrajectenbeheer | C9: Eis | D9: 4 | G9: =IF(E9="","",IF(AND(C9="Eis",E9='Invoervelden, scores'!$B$6),TRUE,FALSE)) | H9: {=INDEX('Invoervelden, scores'!$I$4:$L$7,1,D9)} -> TRUE | I9: =IF(E9="","",VLOOKUP(E9,'Invoervelden, scores'!$B$4:$C$7,2,TRUE)) | J9: {=IF(E9="","",INDEX('Invoervelden, scores'!$I$4:$L$7,I9,D9))}
B10: Ontsluiten / beschikbaar stellen online leermiddelen, ECK | C10: Eis | D10: 4 | G10: =IF(E10="","",IF(AND(C10="Eis",E10='Invoervelden, scores'!$B$6),TRUE,FALSE)) | H10: {=INDEX('Invoervelden, scores'!$I$4:$L$7,1,D10)} -> TRUE | I10: =IF(E10="","",VLOOKUP(E10,'Invoervelden, scores'!$B$4:$C$7,2,TRUE)) | J10: {=IF(E10="","",INDEX('Invoervelden, scores'!$I$4:$L$7,I10,D10))}
B11: Leercontent ontwikkel service | C11: Eis | D11: 4 | G11: =IF(E11="","",IF(AND(C11="Eis",E11='Invoervelden, scores'!$B$6),TRUE,FALSE)) | H11: {=INDEX('Invoervelden, scores'!$I$4:$L$7,1,D11)} -> TRUE | I11: =IF(E11="","",VLOOKUP(E11,'Invoervelden, scores'!$B$4:$C$7,2,TRUE)) | J11: {=IF(E11="","",INDEX('Invoervelden, scores'!$I$4:$L$7,I11,D11))}
B12: Leermiddelenbank | C12: Eis | D12: 4 | G12: =IF(E12="","",IF(AND(C12="Eis",E12='Invoervelden, scores'!$B$6),TRUE,FALSE)) | H12: {=INDEX('Invoervelden, scores'!$I$4:$L$7,1,D12)} -> TRUE | I12: =IF(E12="","",VLOOKUP(E12,'Invoervelden, scores'!$B$4:$C$7,2,TRUE)) | J12: {=IF(E12="","",INDEX('Invoervelden, scores'!$I$4:$L$7,I12,D12))}
B13: Groepenbeheer | C13: Eis | D13: 4 | G13: =IF(E13="","",IF(AND(C13="Eis",E13='Invoervelden, scores'!$B$6),TRUE,FALSE)) | H13: {=INDEX('Invoervelden, scores'!$I$4:$L$7,1,D13)} -> TRUE | I13: =IF(E13="","",VLOOKUP(E13,'Invoervelden, scores'!$B$4:$C$7,2,TRUE)) | J13: {=IF(E13="","",INDEX('Invoervelden, scores'!$I$4:$L$7,I13,D13))}
B14: Koppeling naar didactische online tools | C14: Eis | D14: 4 | G14: =IF(E14="","",IF(AND(C14="Eis",E14='Invoervelden, scores'!$B$6),TRUE,FALSE)) | H14: {=INDEX('Invoervelden, scores'!$I$4:$L$7,1,D14)} -> TRUE | I14: =IF(E14="","",VLOOKUP(E14,'Invoervelden, scores'!$B$4:$C$7,2,TRUE)) | J14: {=IF(E14="","",INDEX('Invoervelden, scores'!$I$4:$L$7,I14,D14))}
B15: Videodiensten | C15: Eis | D15: 4 | G15: =IF(E15="","",IF(AND(C15="Eis",E15='Invoervelden, scores'!$B$6),TRUE,FALSE)) | H15: {=INDEX('Invoervelden, scores'!$I$4:$L$7,1,D15)} -> TRUE | I15: =IF(E15="","",VLOOKUP(E15,'Invoervelden, scores'!$B$4:$C$7,2,TRUE)) | J15: {=IF(E15="","",INDEX('Invoervelden, scores'!$I$4:$L$7,I15,D15))}
B16: Online lesgeven | C16: Eis | D16: 4 | G16: =IF(E16="","",IF(AND(C16="Eis",E16='Invoervelden, scores'!$B$6),TRUE,FALSE)) | H16: {=INDEX('Invoervelden, scores'!$I$4:$L$7,1,D16)} -> TRUE | I16: =IF(E16="","",VLOOKUP(E16,'Invoervelden, scores'!$B$4:$C$7,2,TRUE)) | J16: {=IF(E16="","",INDEX('Invoervelden, scores'!$I$4:$L$7,I16,D16))}
B17: Learning analytics | C17: Gewenst | D17: 2 | G17: =IF(E17="","",IF(AND(C17="Eis",E17='Invoervelden, scores'!$B$6),TRUE,FALSE)) | H17: {=INDEX('Invoervelden, scores'!$I$4:$L$7,1,D17)} -> 0 | I17: =IF(E17="","",VLOOKUP(E17,'Invoervelden, scores'!$B$4:$C$7,2,TRUE)) | J17: {=IF(E17="","",INDEX('Invoervelden, scores'!$I$4:$L$7,I17,D17))}
... B32: Hulpmiddelen tonen | C32: Belangrijk | D32: 3 | G32: =IF(E32="","",IF(AND(C32="Eis",E32='Invoervelden, scores'!$B$6),TRUE,FALSE)) | H32: {=INDEX('Invoervelden, scores'!$I$4:$L$7,1,D32)} -> 0 | I32: =IF(E32="","",VLOOKUP(E32,'Invoervelden, scores'!$B$4:$C$7,2,TRUE)) | J32: {=IF(E32="","",INDEX('Invoervelden, scores'!$I$4:$L$7,I32,D32))}

Sheet Total results
A1: source order | B1: # | C1: Item | D1: Mean | H1: Mean | I1: SD
C2: Curriculumplanner | E2: 0.7 | N2: 0.5
A3: 1 | B3: 1 | C3: De curriculumplanner kan kwalificatiedossiers van de SBB-website inlezen. | D3: 2.74 | E3: =IF(D3="","",INT(D3+$E$2)) -> 3 | F3: Eis: | G3: =COUNTIF(E3:$E$294,4) -> 36 | H3: 2.74 | I3: 0.28 | J3: =IF(H3="","",INT(H3+$E$2)) -> 3 | K3: =IF(J3="","",ABS(D3-M3)) -> 0.26 | M3: 3 | N3: =IF(M3="","",INT(M3+$E$2)) -> 3
A4: 2 | B4: 2 | C4: Onderwijsontwikkelaars kunnen binnen het LMS gebruik maken van functionaliteiten om curricula en leereenheden te ontwerpen in een grof ontwerp. | D4: 2.55 | E4: =IF(D4="","",INT(D4+$E$2)) -> 3 | F4: Belangrijk | G4: =COUNTIF(E4:$E$294,3) -> 186 | H4: 2.55 | I4: 0.24 | J4: =IF(H4="","",INT(H4+$E$2)) -> 3 | K4: =IF(J4="","",ABS(D4-M4)) -> 0.05 | M4: 2.5 | N4: =IF(M4="","",INT(M4+$E$2)) -> 3
A5: 3 | B5: 3 | C5: Onderwijsontwikkelaars kunnen het onderwijs in het LMS vormgeven in een boomstructuur zodat het onderwijs en het toetsplan één geheel vormen. | D5: 2.65 | E5: =IF(D5="","",INT(D5+$E$2)) -> 3 | F5: Gewenst | G5: =COUNTIF(E5:$E$294,2) -> 37 | H5: 2.65 | I5: 0.25 | J5: =IF(H5="","",INT(H5+$E$2)) -> 3 | K5: =IF(J5="","",ABS(D5-M5)) -> 0.65 | M5: 2 | N5: =IF(M5="","",INT(M5+$E$2)) -> 2
A6: 4 | B6: 4 | C6: Een (reeds bestaande) leereenheid kan aan een kwalificatiedossier gekoppeld worden. | D6: 2.35 | E6: =IF(D6="","",INT(D6+$E$2)) -> 3 | F6: Leuk | G6: =COUNTIF(E6:$E$294,1) -> 1 | H6: 2.35 | I6: 0.33 | J6: =IF(H6="","",INT(H6+$E$2)) -> 3 | K6: =IF(J6="","",ABS(D6-M6)) -> 0.85 | M6: 1.5 | N6: =IF(M6="","",INT(M6+$E$2)) -> 2
A7: 5 | B7: 5 | C7: Een curriculumontwerp kan in een workflow worden opgezet waarbij verschillende rollen verschillende rechten hebben met betrekking tot het ontwerpen, becommentariëren, vaststellen, etc. | D7: 2.05 | E7: =IF(D7="","",INT(D7+$E$2)) -> 2 | F7: Niet | G7: =COUNTIF(E7:$E$294,0) -> 0 | H7: 2.05 | I7: 0.34 | J7: =IF(H7="","",INT(H7+$E$2)) -> 2 | K7: =IF(J7="","",ABS(D7-M7)) -> 0.88 | M7: 1.17 | N7: =IF(M7="","",INT(M7+$E$2)) -> 1
A8: 6 | B8: 6 | C8: De leereenheden kunnen binnen een curriculumontwerp in tijd (schooljaar, periode, opleidingsfase) weggezet worden. | D8: 2.9 | E8: =IF(D8="","",INT(D8+$E$2)) -> 3 | H8: 2.9 | I8: 0.21 | J8: =IF(H8="","",INT(H8+$E$2)) -> 3 | K8: =IF(J8="","",ABS(D8-M8)) -> 0.27 | M8: 3.17 | N8: =IF(M8="","",INT(M8+$E$2)) -> 3
A9: 7 | B9: 7 | C9: Per leereenheid kan onderwijstijd gekoppeld worden. | D9: 2.35 | E9: =IF(D9="","",INT(D9+$E$2)) -> 3 | H9: 2.35 | I9: 0.28 | J9: =IF(H9="","",INT(H9+$E$2)) -> 3 | K9: =IF(J9="","",ABS(D9-M9)) -> 0.85 | M9: 1.5 | N9: =IF(M9="","",INT(M9+$E$2)) -> 2
A10: 8 | B10: 8 | C10: De inhoud van een leereenheid kan in de vorm van leeractiviteiten worden beschreven. | D10: 2.05 | E10: =IF(D10="","",INT(D10+$E$2)) -> 2 | H10: 2.05 | I10: 0.2 | J10: =IF(H10="","",INT(H10+$E$2)) -> 2 | K10: =IF(J10="","",ABS(D10-M10)) -> 0.88 | M10: 1.17 | N10: =IF(M10="","",INT(M10+$E$2)) -> 1
A11: 9 | B11: 9 | C11: Specifieke leerdoelen kunnen worden omschreven en gekoppeld aan leeractiviteiten. | D11: 2.1 | E11: =IF(D11="","",INT(D11+$E$2)) -> 2 | H11: 2.1 | I11: 0.22 | J11: =IF(H11="","",INT(H11+$E$2)) -> 2 | K11: =IF(J11="","",ABS(D11-M11)) -> 0.6 | M11: 1.5 | N11: =IF(M11="","",INT(M11+$E$2)) -> 2
C12: Formatieve resultatenbeheer | E12: =IF(D12="","",INT(D12+$E$2)) | J12: =IF(H12="","",INT(H12+$E$2)) | K12: =IF(J12="","",ABS(D12-M12)) | N12: =IF(M12="","",INT(M12+$E$2))
A13: 10 | B13: 10 | C13: Het LMS biedt verschillende beoordelingsschalen (tenminste: voldaan/niet voldaan; cijfer; woordschaal, vijf puntsschaal, rubric). | D13: 3.59 | E13: =IF(D13="","",INT(D13+$E$2)) -> 4 | H13: 3.59 | I13: 0.16 | J13: =IF(H13="","",INT(H13+$E$2)) -> 4 | K13: =IF(J13="","",ABS(D13-M13)) -> 0.12 | M13: 3.71 | N13: =IF(M13="","",INT(M13+$E$2)) -> 4
A14: 11 | B14: 11 | C14: Het een formatief toetsplan kan worden ontworpen of geïmporteerd in het LMS. | D14: 2.85 | E14: =IF(D14="","",INT(D14+$E$2)) -> 3 | H14: 2.85 | I14: 0.16 | J14: =IF(H14="","",INT(H14+$E$2)) -> 3 | K14: =IF(J14="","",ABS(D14-M14)) -> 0.02 | M14: 2.83 | N14: =IF(M14="","",INT(M14+$E$2)) -> 3
A15: 12 | B15: 12 | C15: De formatieve resultatenstructuur is zichtbaar voor de docent en de student | D15: 3.44 | E15: =IF(D15="","",INT(D15+$E$2)) -> 4 | H15: 3.44 | I15: 0.25 | J15: =IF(H15="","",INT(H15+$E$2)) -> 4 | K15: =IF(J15="","",ABS(D15-M15)) -> 0.24 | M15: 3.2 | N15: =IF(M15="","",INT(M15+$E$2)) -> 3
A16: 13 | B16: 13 | C16: Formatieve resultaten per student / per groep (die gekoppeld zijn aan de resultatenstructuur) kunnen worden geëxporteerd naar een bronsysteem. | D16: 3.26 | E16: =IF(D16="","",INT(D16+$E$2)) -> 3 | H16: 3.26 | I16: 0.2 | J16: =IF(H16="","",INT(H16+$E$2)) -> 3 | K16: =IF(J16="","",ABS(D16-M16)) -> 0.31 | M16: 3.57 | N16: =IF(M16="","",INT(M16+$E$2)) -> 4
A17: 14 | B17: 14 | C17: Toegekende resultaten zijn (alleen) zichtbaar voor studenten (persoonlijk) en voor bij het onderwijs betrokken docenten (ook per groep) | D17: 3.5 | E17: =IF(D17="","",INT(D17+$E$2)) -> 4 | H17: 3.5 | I17: 0.17 | J17: =IF(H17="","",INT(H17+$E$2)) -> 4 | K17: =IF(J17="","",ABS(D17-M17)) -> 0.36 | M17: 3.86 | N17: =IF(M17="","",INT(M17+$E$2)) -> 4
A18: 15 | B18: 15 | C18: Het systeem biedt de mogelijkheden om resultaten in een boomstructuur op basis van formules door te rekenen tot een (voorlopig) eindresultaat. | D18: 2.85 | E18: =IF(D18="","",INT(D18+$E$2)) -> 3 | H18: 2.85 | I18: 0.23 | J18: =IF(H18="","",INT(H18+$E$2)) -> 3 | K18: =IF(J18="","",ABS(D18-M18)) -> 0.28 | M18: 2.57 | N18: =IF(M18="","",INT(M18+$E$2)) -> 3
A19: 16 | B19: 16 | C19: Docenten kunnen de resultaten bekijken van gevolgde leereenheden, testjes en polls om de voorkennis van een groep of individu te bepalen. | D19: 2.33 | E19: =IF(D19="","",INT(D19+$E$2)) -> 3 | H19: 2.33 | I19: 0.18 | J19: =IF(H19="","",INT(H19+$E$2)) -> 3 | K19: =IF(J19="","",ABS(D19-M19)) -> 0.47 | M19: 1.86 | N19: =IF(M19="","",INT(M19+$E$2)) -> 2
A20: 17 | B20: 17 | C20: Resultaten die een student behaalt met leereenheid van een keuzedeel moeten automatisch worden geplaatst in de examenresultaten in het SIS. | D20: 2.62 | E20: =IF(D20="","",INT(D20+$E$2)) -> 3 | H20: 2.62 | I20: 0.3 | J20: =IF(H20="","",INT(H20+$E$2)) -> 3 | K20: =IF(J20="","",ABS(D20-M20)) -> 0.81 | M20: 3.43 | N20: =IF(M20="","",INT(M20+$E$2)) -> 4
A21: 18 | B21: 18 | C21: (Grafische) presentaties/rapporten van de resultaten ten opzichte van de leerdoelen per leerlijn/per student/per groep per leereenheid/per domein, kunnen gegenereerd en gedeeld worden. | D21: 2.29 | E21: =IF(D21="","",INT(D21+$E$2)) -> 2 | H21: 2.29 | I21: 0.23 | J21: =IF(H21="","",INT(H21+$E$2)) -> 2 | K21: =IF(J21="","",ABS(D21-M21)) -> 0.29 | M21: 2 | N21: =IF(M21="","",INT(M21+$E$2)) -> 2
A22: 20 | B22: 20 | C22: Het is mogelijk om de toetsresultaten in te zien, zowel voor docent als student. Het is mogelijk om dit per toets te kunnen bepalen of de toetsresultaten zichtbaar zijn. | D22: 3.11 | E22: =IF(D22="","",INT(D22+$E$2)) -> 3 | H22: 3.11 | I22: 0.21 | J22: =IF(H22="","",INT(H22+$E$2)) -> 3 | K22: =IF(J22="","",ABS(D22-M22)) -> 0.69 | M22: 3.8 | N22: =IF(M22="","",INT(M22+$E$2)) -> 4
A23: 21 | B23: 21 | C23: Toetsen kunnen gekoppeld worden aan individuele studenten, maar ook aan een of meerdere groepen. Het is mogelijk een tijdsspanne aan te geven waarin de toets beschikbaar is voor studenten. | D23: 2.95 | E23: =IF(D23="","",INT(D23+$E$2)) -> 3 | H23: 2.95 | I23: 0.23 | J23: =IF(H23="","",INT(H23+$E$2)) -> 3 | K23: =IF(J23="","",ABS(D23-M23)) -> 0.62 | M23: 2.33 | N23: =IF(M23="","",INT(M23+$E$2)) -> 3
A24: 22 | B24: 22 | C24: (Grafische) overzichten van gemaakte toetsen zijn te genereren, om de resultaten en daarmee de kwaliteit van de toetsvragen te kunnen beoordelen | D24: 2.4 | E24: =IF(D24="","",INT(D24+$E$2)) -> 3 | H24: 2.4 | I24: 0.22 | J24: =IF(H24="","",INT(H24+$E$2)) -> 3 | K24: =IF(J24="","",ABS(D24-M24)) -> 0.73 | M24: 1.67 | N24: =IF(M24="","",INT(M24+$E$2)) -> 2
A25: 23 | B25: 23 | C25: Er kunnen badges, pluimen, etc. toegekend worden aan bepaalde studieresultaten. | D25: 1.38 | E25: =IF(D25="","",INT(D25+$E$2)) -> 2 | H25: 1.38 | I25: 0.29 | J25: =IF(H25="","",INT(H25+$E$2)) -> 2 | K25: =IF(J25="","",ABS(D25-M25)) -> 0.67 | M25: 0.71 | N25: =IF(M25="","",INT(M25+$E$2)) -> 1
C26: Onderwijscatalogus | E26: =IF(D26="","",INT(D26+$E$2)) | J26: =IF(H26="","",INT(H26+$E$2)) | K26: =IF(J26="","",ABS(D26-M26)) | N26: =IF(M26="","",INT(M26+$E$2))
A27: 24 | B27: 24 | C27: De onderwijscatalogus bevat (een overzicht van) alle reeds ontwikkelde (online) leereenheden. | D27: 3 | E27: =IF(D27="","",INT(D27+$E$2)) -> 3 | H27: 3 | I27: 0.23 | J27: =IF(H27="","",INT(H27+$E$2)) -> 3 | K27: =IF(J27="","",ABS(D27-M27)) -> 0.57 | M27: 3.57 | N27: =IF(M27="","",INT(M27+$E$2)) -> 4
A28: 25 | B28: 25 | C28: De inhoud van de onderwijscatalogus kan geheel of gedeeltelijk op basis van bepaalde filters worden ontsloten naar andere systemen (zoals bijvoorbeeld website). | D28: 2.33 | E28: =IF(D28="","",INT(D28+$E$2)) -> 3 | H28: 2.33 | I28: 0.24 | J28: =IF(H28="","",INT(H28+$E$2)) -> 3 | K28: =IF(J28="","",ABS(D28-M28)) -> 0.19 | M28: 2.14 | N28: =IF(M28="","",INT(M28+$E$2)) -> 2
A29: 26 | B29: 26 | C29: Leereenheden in de onderwijscatalogus kunnen worden voorzien van metadata zoals titel, inhoudsopgave, trefwoorden, tijdsinvestering, voorwaarden om de leereenheid ter mogen volgen (noodzakelijk beginniveau, eerder gevolgede leereenheden). | D29: 2.64 | E29: =IF(D29="","",INT(D29+$E$2)) -> 3 | H29: 2.64 | I29: 0.22 | J29: =IF(H29="","",INT(H29+$E$2)) -> 3 | K29: =IF(J29="","",ABS(D29-M29)) -> 0.07 | M29: 2.71 | N29: =IF(M29="","",INT(M29+$E$2)) -> 3
A30: 27 | B30: 27 | C30: De onderwijscatalogus kan op basis van verschillende criteria worden doorzocht of gefilterd. | D30: 2.81 | E30: =IF(D30="","",INT(D30+$E$2)) -> 3 | H30: 2.81 | I30: 0.18 | J30: =IF(H30="","",INT(H30+$E$2)) -> 3 | K30: =IF(J30="","",ABS(D30-M30)) -> 0.19 | M30: 3 | N30: =IF(M30="","",INT(M30+$E$2)) -> 3
A31: 28 | B31: 28 | C31: Leereenheden uit de onderwijscatalogus kunnen in een productruimte worden samengevoegd tot grotere eenheden (cursus, training, opleiding). | D31: 2.35 | E31: =IF(D31="","",INT(D31+$E$2)) -> 3 | H31: 2.35 | I31: 0.24 | J31: =IF(H31="","",INT(H31+$E$2)) -> 3 | K31: =IF(J31="","",ABS(D31-M31)) -> 0.52 | M31: 1.83 | N31: =IF(M31="","",INT(M31+$E$2)) -> 2
A32: 29 | B32: 29 | C32: Docenten hebben overzicht van het totale én het eigen onderwijsaanbod binnen KW1C. | D32: 2.67 | E32: =IF(D32="","",INT(D32+$E$2)) -> 3 | H32: 2.67 | I32: 0.25 | J32: =IF(H32="","",INT(H32+$E$2)) -> 3 | K32: =IF(J32="","",ABS(D32-M32)) -> 0.1 | M32: 2.57 | N32: =IF(M32="","",INT(M32+$E$2)) -> 3
C33: Leertrajectenbeheer | E33: =IF(D33="","",INT(D33+$E$2)) | J33: =IF(H33="","",INT(H33+$E$2)) | K33: =IF(J33="","",ABS(D33-M33)) | N33: =IF(M33="","",INT(M33+$E$2))
A34: 30 | B34: 30 | C34: Het is mogelijk om leertrajecten samen te stellen op basis van diverse leermaterialen en leeractiviteiten in het LMS. Deze leertrajecten kunnen worden toegewezen aan groepen en aan individuele studenten. | D34: 3.14 | E34: =IF(D34="","",INT(D34+$E$2)) -> 3 | H34: 3.14 | I34: 0.2 | J34: =IF(H34="","",INT(H34+$E$2)) -> 3 | K34: =IF(J34="","",ABS(D34-M34)) -> 0 | M34: 3.14 | N34: =IF(M34="","",INT(M34+$E$2)) -> 3
A35: 31 | B35: 31 | C35: Het LMS moet de levenscyclus van een leereenheid kunnen ondersteunen. Bijvoorbeeld: een cursus kent de volgende fasen: in ontwikkeling, vastgesteld, in productie, gearchiveerd. | D35: 2.81 | E35: =IF(D35="","",INT(D35+$E$2)) -> 3 | H35: 2.81 | I35: 0.21 | J35: =IF(H35="","",INT(H35+$E$2)) -> 3 | K35: =IF(J35="","",ABS(D35-M35)) -> 0.76 | M35: 3.57 | N35: =IF(M35="","",INT(M35+$E$2)) -> 4
A36: 32 | B36: 32 | C36: Een docent of ontwikkelaar is in staat om bepaalde voorwaarden in te stellen waar een student aan moet voldoen om leermaterialen te kunnen zien en leeractiviteiten uit te kunnen voeren. * Leermaterialen en leeractiviteiten zijn pas zichtbaar of uitvoerbaar na afronding van een andere leeractiviteit (bijvoorbeeld opdracht of toets). * Opdrachten kunnen beschikbaar gesteld aan specifieke (groepen) studenten. * Aan leermaterialen en leeractiviteiten kan een tijdslot worden gehangen, zodat ze zichtbaar of uitvoerbaar zijn vanaf en/of tot een bepaalde datum. | D36: 2.86 | E36: =IF(D36="","",INT(D36+$E$2)) -> 3 | H36: 2.86 | I36: 0.18 | J36: =IF(H36="","",INT(H36+$E$2)) -> 3 | K36: =IF(J36="","",ABS(D36-M36)) -> 0.28 | M36: 3.14 | N36: =IF(M36="","",INT(M36+$E$2)) -> 3
A37: 33 | B37: 33 | C37: Het is mogelijk dat een docent opdrachten, toetsen en andere taken verbindt met elementen uit het kwalificatiedossier (bijvoorbeeld kerntaken, werkprocessen, vakkennis, vaardigheden en houdingsaspecten), zodat op basis van uitgevoerde taken de ontwikkeling van de studenten ten aanzien van de inhoud van het kwalificatiedossier visueel aantrekkelijk zichtbaar wordt gemaakt voor de docent en student. | D37: 2.64 | E37: =IF(D37="","",INT(D37+$E$2)) -> 3 | H37: 2.64 | I37: 0.24 | J37: =IF(H37="","",INT(H37+$E$2)) -> 3 | K37: =IF(J37="","",ABS(D37-M37)) -> 0.78 | M37: 1.86 | N37: =IF(M37="","",INT(M37+$E$2)) -> 2
A38: 34 | B38: 34 | C38: De docent kan een vergadering in MS Teams toevoegen als leeractiviteit in het LMS. | D38: 1.91 | E38: =IF(D38="","",INT(D38+$E$2)) -> 2 | H38: 1.91 | I38: 0.21 | J38: =IF(H38="","",INT(H38+$E$2)) -> 2 | K38: =IF(J38="","",ABS(D38-M38)) -> 0.2 | M38: 1.71 | N38: =IF(M38="","",INT(M38+$E$2)) -> 2
A39: 35 | B39: 35 | C39: De docent kan binnen het LMS (of middels integratie met andere applicaties) verschillende typen activiteiten gebruiken bij uitwerking van het didactisch scenario zoals instructie, zelftoets, groepsopdracht, inleveropdracht, enzovoorts. | D39: 2.72 | E39: =IF(D39="","",INT(D39+$E$2)) -> 3 | H39: 2.72 | I39: 0.25 | J39: =IF(H39="","",INT(H39+$E$2)) -> 3 | K39: =IF(J39="","",ABS(D39-M39)) -> 0.39 | M39: 2.33 | N39: =IF(M39="","",INT(M39+$E$2)) -> 3
A40: 36 | B40: 36 | C40: Een docent moet kunnen configureren hoe leeractiviteiten kunnen worden afgerond (tenminste: op basis van een oordeel en op basis van afvinken door de docent). | D40: 2.35 | E40: =IF(D40="","",INT(D40+$E$2)) -> 3 | H40: 2.35 | I40: 0.21 | J40: =IF(H40="","",INT(H40+$E$2)) -> 3 | K40: =IF(J40="","",ABS(D40-M40)) -> 0.55 | M40: 1.8 | N40: =IF(M40="","",INT(M40+$E$2)) -> 2
A41: 37 | B41: 37 | C41: Beheerders kunnen leereenheden activeren (openen voor gebruik) en sluiten (blokkeren van het gebruik). | D41: 2.73 | E41: =IF(D41="","",INT(D41+$E$2)) -> 3 | H41: 2.73 | I41: 0.24 | J41: =IF(H41="","",INT(H41+$E$2)) -> 3 | K41: =IF(J41="","",ABS(D41-M41)) -> 0.27 | M41: 3 | N41: =IF(M41="","",INT(M41+$E$2)) -> 3
A42: 38 | B42: 38 | C42: Studenten kunnen eigen gekozen leermiddelen (na toestemming) toevoegen aan een leerroute en delen met zijn/haar groep/klas. | D42: 1.48 | E42: =IF(D42="","",INT(D42+$E$2)) -> 2 | H42: 1.48 | I42: 0.29 | J42: =IF(H42="","",INT(H42+$E$2)) -> 2 | K42: =IF(J42="","",ABS(D42-M42)) -> 0.65 | M42: 0.83 | N42: =IF(M42="","",INT(M42+$E$2)) -> 1
A43: 39 | B43: 39 | C43: Studenten kunnen (digitaal) lesmateriaal zelf organiseren en toevoegen aan eigen taken en/of agenda (zelf inplannen). | D43: 2.29 | E43: =IF(D43="","",INT(D43+$E$2)) -> 2 | H43: 2.29 | I43: 0.21 | J43: =IF(H43="","",INT(H43+$E$2)) -> 2 | K43: =IF(J43="","",ABS(D43-M43)) -> 0.29 | M43: 2 | N43: =IF(M43="","",INT(M43+$E$2)) -> 2
A44: 40 | B44: 40 | C44: Docenten kunnen, vanuit hun expertise, extra leermiddelen aanbieden op basis van leervoorkeuren of behoeften van individuele studenten. | D44: 2.9 | E44: =IF(D44="","",INT(D44+$E$2)) -> 3 | H44: 2.9 | I44: 0.17 | J44: =IF(H44="","",INT(H44+$E$2)) -> 3 | K44: =IF(J44="","",ABS(D44-M44)) -> 0.1 | M44: 3 | N44: =IF(M44="","",INT(M44+$E$2)) -> 3
A45: 41 | B45: 41 | C45: Docenten kunnen leereenheden in de Onderwijscatalogus of leermiddelen in de Leermiddelenbank filteren op bepaalde kenmerken zodat ze een selectie kunnen maken van geschikte leereenheden of leermiddelen voor een bepaalde doelgroep. | D45: 2.33 | E45: =IF(D45="","",INT(D45+$E$2)) -> 3 | H45: 2.33 | I45: 0.24 | J45: =IF(H45="","",INT(H45+$E$2)) -> 3 | K45: =IF(J45="","",ABS(D45-M45)) -> 0.16 | M45: 2.17 | N45: =IF(M45="","",INT(M45+$E$2)) -> 2
C46: Ontsluiten / beschikbaar stellen online leermiddelen, ECK | E46: =IF(D46="","",INT(D46+$E$2)) | J46: =IF(H46="","",INT(H46+$E$2)) | K46: =IF(J46="","",ABS(D46-M46)) | N46: =IF(M46="","",INT(M46+$E$2))
A47: 42 | B47: 42 | C47: De docent kan content van derden (zoals uitgevers en All You Can Learn) integreren binnen de productruimte. De wijze waarop integratie plaatsvindt is ook afhankelijk van de vraag of de omgeving van derden voldoet aan gebruikelijke standaarden. | D47: 2.9 | E47: =IF(D47="","",INT(D47+$E$2)) -> 3 | H47: 2.9 | I47: 0.27 | J47: =IF(H47="","",INT(H47+$E$2)) -> 3 | K47: =IF(J47="","",ABS(D47-M47)) -> 0.67 | M47: 3.57 | N47: =IF(M47="","",INT(M47+$E$2)) -> 4
A48: 43 | B48: 43 | C48: De docent kan bronnen (leermaterialen) uploaden en/of hiernaar verwijzen. | D48: 3.18 | E48: =IF(D48="","",INT(D48+$E$2)) -> 3 | H48: 3.18 | I48: 0.19 | J48: =IF(H48="","",INT(H48+$E$2)) -> 3 | K48: =IF(J48="","",ABS(D48-M48)) -> 0.25 | M48: 3.43 | N48: =IF(M48="","",INT(M48+$E$2)) -> 4
A49: 44 | B49: 44 | C49: Docenten mogen gebruik maken van content die op het internet aangeboden wordt (Youtube, Vimeo, websites etc.) en kunnen deze aanbieden (insluiten) in de online leeromgeving. | D49: 3.23 | E49: =IF(D49="","",INT(D49+$E$2)) -> 3 | H49: 3.23 | I49: 0.17 | J49: =IF(H49="","",INT(H49+$E$2)) -> 3 | K49: =IF(J49="","",ABS(D49-M49)) -> 0.2 | M49: 3.43 | N49: =IF(M49="","",INT(M49+$E$2)) -> 4
A50: 45 | B50: 45 | C50: Studenten kunnen leermiddelen van externe leveranciers of educatieve uitgevers benaderen conform de ECK standaard. | D50: 3.05 | E50: =IF(D50="","",INT(D50+$E$2)) -> 3 | H50: 3.05 | I50: 0.16 | J50: =IF(H50="","",INT(H50+$E$2)) -> 3 | K50: =IF(J50="","",ABS(D50-M50)) -> 0.09 | M50: 3.14 | N50: =IF(M50="","",INT(M50+$E$2)) -> 3
C51: Leercontent ontwikkelservice(Authoring tool) | E51: =IF(D51="","",INT(D51+$E$2)) | J51: =IF(H51="","",INT(H51+$E$2)) | K51: =IF(J51="","",ABS(D51-M51)) | N51: =IF(M51="","",INT(M51+$E$2))
A52: 46 | B52: 46 | C52: Een docent moet in staat zijn multimedia in te voegen bij instructies en feedback. | D52: 3.32 | E52: =IF(D52="","",INT(D52+$E$2)) -> 4 | H52: 3.32 | I52: 0.17 | J52: =IF(H52="","",INT(H52+$E$2)) -> 4 | K52: =IF(J52="","",ABS(D52-M52)) -> 0.18 | M52: 3.14 | N52: =IF(M52="","",INT(M52+$E$2)) -> 3
A53: 47 | B53: 47 | C53: De docent kan opgemaakte tekst, afbeeldingen, embedded video, embedded code (bijv. van Slideshare), en (mathematische en scheikundige) formules invoeren. | D53: 3.05 | E53: =IF(D53="","",INT(D53+$E$2)) -> 3 | H53: 3.05 | I53: 0.15 | J53: =IF(H53="","",INT(H53+$E$2)) -> 3 | K53: =IF(J53="","",ABS(D53-M53)) -> 0.12 | M53: 3.17 | N53: =IF(M53="","",INT(M53+$E$2)) -> 3
A54: 48 | B54: 48 | C54: De docent kan een deadline voor afronding van een leeractiviteit instellen. | D54: 3.59 | E54: =IF(D54="","",INT(D54+$E$2)) -> 4 | H54: 3.59 | I54: 0.12 | J54: =IF(H54="","",INT(H54+$E$2)) -> 4 | K54: =IF(J54="","",ABS(D54-M54)) -> 0.27 | M54: 3.86 | N54: =IF(M54="","",INT(M54+$E$2)) -> 4
A55: 49 | B55: 49 | C55: De docent kan de zichtbaarheid van de leeractiviteit voor studenten instellen (wel zichtbaar/niet zichtbaar). | D55: 3.09 | E55: =IF(D55="","",INT(D55+$E$2)) -> 3 | H55: 3.09 | I55: 0.2 | J55: =IF(H55="","",INT(H55+$E$2)) -> 3 | K55: =IF(J55="","",ABS(D55-M55)) -> 0.05 | M55: 3.14 | N55: =IF(M55="","",INT(M55+$E$2)) -> 3
A56: 50 | B56: 50 | C56: Onderwijsontwikkelaars kunnen leermiddelen, toetsen en leereenhedenvoorzien van metadata. | D56: 2.82 | E56: =IF(D56="","",INT(D56+$E$2)) -> 3 | H56: 2.82 | I56: 0.25 | J56: =IF(H56="","",INT(H56+$E$2)) -> 3 | K56: =IF(J56="","",ABS(D56-M56)) -> 0.04 | M56: 2.86 | N56: =IF(M56="","",INT(M56+$E$2)) -> 3
A57: 51 | B57: 51 | C57: Een docent kan ontwikkelde leermiddelen, bijvoorbeeld via leermiddelenbank, delen met collega-docenten. | D57: 3.09 | E57: =IF(D57="","",INT(D57+$E$2)) -> 3 | H57: 3.09 | I57: 0.17 | J57: =IF(H57="","",INT(H57+$E$2)) -> 3 | K57: =IF(J57="","",ABS(D57-M57)) -> 0.09 | M57: 3 | N57: =IF(M57="","",INT(M57+$E$2)) -> 3
A58: 52 | B58: 52 | C58: Een docent moet leermaterialen binnen een productruimte kunnen vervangen door een nieuwe versie, zonder dat de verwijzingen aangepast hoeven te worden. | D58: 3.23 | E58: =IF(D58="","",INT(D58+$E$2)) -> 3 | H58: 3.23 | I58: 0.13 | J58: =IF(H58="","",INT(H58+$E$2)) -> 3 | K58: =IF(J58="","",ABS(D58-M58)) -> 0.23 | M58: 3 | N58: =IF(M58="","",INT(M58+$E$2)) -> 3
A59: 53 | B59: 53 | C59: De docent kan de inhoud van een productruimte testen in de rol van student, inclusief alle interacties met docent. | D59: 2.64 | E59: =IF(D59="","",INT(D59+$E$2)) -> 3 | H59: 2.64 | I59: 0.35 | J59: =IF(H59="","",INT(H59+$E$2)) -> 3 | K59: =IF(J59="","",ABS(D59-M59)) -> 1.21 | M59: 1.43 | N59: =IF(M59="","",INT(M59+$E$2)) -> 2
A60: 54 | B60: 54 | C60: Leeractiviteiten kunnen in de LMS ontwikkeld worden of geïmporteerd uit een ontwikkeltool en opgeslagen in een leermiddelenbank. | D60: 2.91 | E60: =IF(D60="","",INT(D60+$E$2)) -> 3 | H60: 2.91 | I60: 0.18 | J60: =IF(H60="","",INT(H60+$E$2)) -> 3 | K60: =IF(J60="","",ABS(D60-M60)) -> 0.2 | M60: 2.71 | N60: =IF(M60="","",INT(M60+$E$2)) -> 3
A61: 55 | B61: 55 | C61: Docenten kunnen op een overzichtelijke manier leermiddelen inzien van modules waarin ze lesgeven. De leermiddelen van school en educatieve uitgevers staan overzichtelijk in één overzicht per module. | D61: 2.95 | E61: =IF(D61="","",INT(D61+$E$2)) -> 3 | H61: 2.95 | I61: 0.14 | J61: =IF(H61="","",INT(H61+$E$2)) -> 3 | K61: =IF(J61="","",ABS(D61-M61)) -> 0.22 | M61: 3.17 | N61: =IF(M61="","",INT(M61+$E$2)) -> 3
A62: 56 | B62: 56 | C62: Onderwijsontwikkelaars en docenten kunnen diverse gebruikers (studenten) en andere betrokkenen (andere docenten, praktijkopleiders) koppelen aan een module. | D62: 3.14 | E62: =IF(D62="","",INT(D62+$E$2)) -> 3 | H62: 3.14 | I62: 0.17 | J62: =IF(H62="","",INT(H62+$E$2)) -> 3 | K62: =IF(J62="","",ABS(D62-M62)) -> 0 | M62: 3.14 | N62: =IF(M62="","",INT(M62+$E$2)) -> 3
A63: 57 | B63: 57 | C63: Onderwijsontwikkelaars en docenten kunnen lesmateriaal toevoegen vanuit een KW1C leermiddelenbank en/of via een link met een uitgever (licentie) op basis van de ECK-standaarden. | D63: 2.86 | E63: =IF(D63="","",INT(D63+$E$2)) -> 3 | H63: 2.86 | I63: 0.24 | J63: =IF(H63="","",INT(H63+$E$2)) -> 3 | K63: =IF(J63="","",ABS(D63-M63)) -> 0.29 | M63: 2.57 | N63: =IF(M63="","",INT(M63+$E$2)) -> 3
... A67: 61 | B67: 61 | C67: De omgeving beschikt over een in te richten chatbot, die kan worden ingezet bij het vormgeven van leereenheden. | D67: 1.24 | E67: =IF(D67="","",INT(D67+$E$2)) -> 1 | H67: 1.24 | I67: 0.25 | J67: =IF(H67="","",INT(H67+$E$2)) -> 1 | K67: =IF(J67="","",ABS(D67-M67)) -> 0.74 | M67: 0.5 | N67: =IF(M67="","",INT(M67+$E$2)) -> 1
C68: Leermiddelenbank | E68: =IF(D68="","",INT(D68+$E$2)) | J68: =IF(H68="","",INT(H68+$E$2)) | K68: =IF(J68="","",ABS(D68-M68)) | N68: =IF(M68="","",INT(M68+$E$2))
A69: 62 | B69: 62 | C69: Het LMS beschikt over een leermiddelenbank waar digitale leermiddelen, documenten, presentaties, video's, etc. kunnen worden opgeslagen en beschikbaar gesteld aan gebruikers. | D69: 3.23 | E69: =IF(D69="","",INT(D69+$E$2)) -> 3 | H69: 3.23 | I69: 0.2 | J69: =IF(H69="","",INT(H69+$E$2)) -> 3 | K69: =IF(J69="","",ABS(D69-M69)) -> 0.2 | M69: 3.43 | N69: =IF(M69="","",INT(M69+$E$2)) -> 4
A70: 63 | B70: 63 | C70: De leermiddelenbank biedt verschillende zoek- en filtermogelijkheden zodat bepaalde leermiddelen snel kunnen worden gevonden. | D70: 3.27 | E70: =IF(D70="","",INT(D70+$E$2)) -> 3 | H70: 3.27 | I70: 0.17 | J70: =IF(H70="","",INT(H70+$E$2)) -> 3 | K70: =IF(J70="","",ABS(D70-M70)) -> 0.44 | M70: 3.71 | N70: =IF(M70="","",INT(M70+$E$2)) -> 4
A71: 64 | B71: 64 | C71: Docenten kunnen leermiddelen delen met andere leraren of studenten, mits de licentie dit toestaat. | D71: 2.68 | E71: =IF(D71="","",INT(D71+$E$2)) -> 3 | H71: 2.68 | I71: 0.25 | J71: =IF(H71="","",INT(H71+$E$2)) -> 3 | K71: =IF(J71="","",ABS(D71-M71)) -> 0.25 | M71: 2.43 | N71: =IF(M71="","",INT(M71+$E$2)) -> 3
A72: 65 | B72: 65 | C72: Content kan worden geïmporteerd en geëxporteerd volgens heersende import/export standaarden. Geïmporteerde content kan in de omgeving weer verder worden ontwikkeld. | D72: 2.91 | E72: =IF(D72="","",INT(D72+$E$2)) -> 3 | H72: 2.91 | I72: 0.17 | J72: =IF(H72="","",INT(H72+$E$2)) -> 3 | K72: =IF(J72="","",ABS(D72-M72)) -> 0.09 | M72: 3 | N72: =IF(M72="","",INT(M72+$E$2)) -> 3
C73: Groepenbeheer | E73: =IF(D73="","",INT(D73+$E$2)) | J73: =IF(H73="","",INT(H73+$E$2)) | K73: =IF(J73="","",ABS(D73-M73)) | N73: =IF(M73="","",INT(M73+$E$2))
A74: 66 | B74: 66 | C74: Docenten kunnen zien welke studenten gelijktijdig een leereenheid bij hem volgen. | D74: 2.95 | E74: =IF(D74="","",INT(D74+$E$2)) -> 3 | H74: 2.95 | I74: 0.26 | J74: =IF(H74="","",INT(H74+$E$2)) -> 3 | K74: =IF(J74="","",ABS(D74-M74)) -> 0.38 | M74: 2.57 | N74: =IF(M74="","",INT(M74+$E$2)) -> 3
A75: 67 | B75: 67 | C75: Groepsindelingen binnen een bronsysteem worden binnen het LMS overgenomen. | D75: 3.45 | E75: =IF(D75="","",INT(D75+$E$2)) -> 4 | H75: 3.45 | I75: 0.2 | J75: =IF(H75="","",INT(H75+$E$2)) -> 4 | K75: =IF(J75="","",ABS(D75-M75)) -> 0.55 | M75: 4 | N75: =IF(M75="","",INT(M75+$E$2)) -> 4
A76: 68 | B76: 68 | C76: Docenten kunnen eenvoudig (andere) groepen samenstellen voor een activiteit of opdracht. | D76: 2.82 | E76: =IF(D76="","",INT(D76+$E$2)) -> 3 | H76: 2.82 | I76: 0.22 | J76: =IF(H76="","",INT(H76+$E$2)) -> 3 | K76: =IF(J76="","",ABS(D76-M76)) -> 0.39 | M76: 2.43 | N76: =IF(M76="","",INT(M76+$E$2)) -> 3
A77: 69 | B77: 69 | C77: Een docent is in staat om studenten per groepsopdracht in te delen in groepjes (at random, docent wijst toe, door studenten zelf te laten kiezen). | D77: 2.59 | E77: =IF(D77="","",INT(D77+$E$2)) -> 3 | H77: 2.59 | I77: 0.23 | J77: =IF(H77="","",INT(H77+$E$2)) -> 3 | K77: =IF(J77="","",ABS(D77-M77)) -> 0.16 | M77: 2.43 | N77: =IF(M77="","",INT(M77+$E$2)) -> 3
A78: 70 | B78: 70 | C78: Een docent kan binnen een groep bepaalde rollen definiëren, waaraan verschillende opdrachten kunnen worden gekoppeld. | D78: 2.48 | E78: =IF(D78="","",INT(D78+$E$2)) -> 3 | H78: 2.48 | I78: 0.17 | J78: =IF(H78="","",INT(H78+$E$2)) -> 3 | K78: =IF(J78="","",ABS(D78-M78)) -> 0.31 | M78: 2.17 | N78: =IF(M78="","",INT(M78+$E$2)) -> 2
C79: Koppeling naar didactische online tools | E79: =IF(D79="","",INT(D79+$E$2)) | J79: =IF(H79="","",INT(H79+$E$2)) | K79: =IF(J79="","",ABS(D79-M79)) | N79: =IF(M79="","",INT(M79+$E$2))
A80: 71 | B80: 71 | C80: Online didactische tools (zoals Kahoot, Socrative, Mentimeter o.i.d.) kunnen worden geïntegreerd in de LMS omgeving. | D80: 2.64 | E80: =IF(D80="","",INT(D80+$E$2)) -> 3 | H80: 2.64 | I80: 0.21 | J80: =IF(H80="","",INT(H80+$E$2)) -> 3 | K80: =IF(J80="","",ABS(D80-M80)) -> 0.07 | M80: 2.71 | N80: =IF(M80="","",INT(M80+$E$2)) -> 3
A81: 72 | B81: 72 | C81: Een functioneel beheerder kan op basis van het beleid en beschikbare licenties rondom het gebruik van tools de toegang tot de didactische tools voor docenten instellen. | D81: 2.64 | E81: =IF(D81="","",INT(D81+$E$2)) -> 3 | H81: 2.64 | I81: 0.24 | J81: =IF(H81="","",INT(H81+$E$2)) -> 3 | K81: =IF(J81="","",ABS(D81-M81)) -> 0.35 | M81: 2.29 | N81: =IF(M81="","",INT(M81+$E$2)) -> 2
C82: Videodiensten | E82: =IF(D82="","",INT(D82+$E$2)) | J82: =IF(H82="","",INT(H82+$E$2)) | K82: =IF(J82="","",ABS(D82-M82)) | N82: =IF(M82="","",INT(M82+$E$2))
A83: 73 | B83: 73 | C83: Docenten kunnen video's actief toepassen in het onderwijs. | D83: 3.27 | E83: =IF(D83="","",INT(D83+$E$2)) -> 3 | H83: 3.27 | I83: 0.24 | J83: =IF(H83="","",INT(H83+$E$2)) -> 3 | K83: =IF(J83="","",ABS(D83-M83)) -> 0.13 | M83: 3.14 | N83: =IF(M83="","",INT(M83+$E$2)) -> 3
A84: 74 | B84: 74 | C84: Docenten kunnen lessen/bijeenkomsten opnemen en streamen, zodat deze in het LMS bekeken kunnen worden. | D84: 2.57 | E84: =IF(D84="","",INT(D84+$E$2)) -> 3 | H84: 2.57 | I84: 0.37 | J84: =IF(H84="","",INT(H84+$E$2)) -> 3 | K84: =IF(J84="","",ABS(D84-M84)) -> 1.4 | M84: 1.17 | N84: =IF(M84="","",INT(M84+$E$2)) -> 1
A85: 75 | B85: 75 | C85: Een docent kan zelf bepalen wie een opname kan zien. | D85: 2.32 | E85: =IF(D85="","",INT(D85+$E$2)) -> 3 | H85: 2.32 | I85: 0.34 | J85: =IF(H85="","",INT(H85+$E$2)) -> 3 | K85: =IF(J85="","",ABS(D85-M85)) -> 1.32 | M85: 1 | N85: =IF(M85="","",INT(M85+$E$2)) -> 1
A86: 76 | B86: 76 | C86: Een docent heeft inzicht welke student de video bekeken heeft. | D86: 2.32 | E86: =IF(D86="","",INT(D86+$E$2)) -> 3 | H86: 2.32 | I86: 0.28 | J86: =IF(H86="","",INT(H86+$E$2)) -> 3 | K86: =IF(J86="","",ABS(D86-M86)) -> 1.03 | M86: 1.29 | N86: =IF(M86="","",INT(M86+$E$2)) -> 1
C87: Online lesgeven | E87: =IF(D87="","",INT(D87+$E$2)) | J87: =IF(H87="","",INT(H87+$E$2)) | K87: =IF(J87="","",ABS(D87-M87)) | N87: =IF(M87="","",INT(M87+$E$2))
A88: 77 | B88: 77 | C88: Docenten kunnen materiaal klaar zetten voorafgaand aan een les zodat de groep zich hierop vooraf al kan voorbereiden. | D88: 3.32 | E88: =IF(D88="","",INT(D88+$E$2)) -> 4 | H88: 3.32 | I88: 0.2 | J88: =IF(H88="","",INT(H88+$E$2)) -> 4 | K88: =IF(J88="","",ABS(D88-M88)) -> 0.32 | M88: 3 | N88: =IF(M88="","",INT(M88+$E$2)) -> 3
A89: 78 | B89: 78 | C89: Docenten en studenten kunnen tijdens de les op een digibord of “in application” een presentatie maken, bewaren en delen, zodat die later in het LMS door de studenten teruggelezen kunnen worden. | D89: 2.41 | E89: =IF(D89="","",INT(D89+$E$2)) -> 3 | H89: 2.41 | I89: 0.25 | J89: =IF(H89="","",INT(H89+$E$2)) -> 3 | K89: =IF(J89="","",ABS(D89-M89)) -> 0.7 | M89: 1.71 | N89: =IF(M89="","",INT(M89+$E$2)) -> 2
A90: 79 | B90: 79 | C90: Studenten krijgen plaats- en tijdonafhankelijk (ondersteuning bij) onderwijs zoals via webinars. | D90: 2.52 | E90: =IF(D90="","",INT(D90+$E$2)) -> 3 | H90: 2.52 | I90: 0.24 | J90: =IF(H90="","",INT(H90+$E$2)) -> 3 | K90: =IF(J90="","",ABS(D90-M90)) -> 0.66 | M90: 1.86 | N90: =IF(M90="","",INT(M90+$E$2)) -> 2
C91: Learning analytics | E91: =IF(D91="","",INT(D91+$E$2)) | J91: =IF(H91="","",INT(H91+$E$2)) | K91: =IF(J91="","",ABS(D91-M91)) | N91: =IF(M91="","",INT(M91+$E$2))
A92: 80 | B92: 80 | C92: Een daartoe aangewezen KW1-medewerker is in staat om studentgedrag (individueel en groepsgewijs) in verschillende productruimtes visueel te maken en te analyseren. De Inschrijver geeft aan welk studentgedrag geanalyseerd kan worden. Te denken valt aan: uitslagen van formatieve toetsen, beoordelingen van opdrachten, afgeronde items, laatste keer ingelogd, overschreden deadlines, discussiebijdragen, aantal keren ingelogd, tijd ingelogd. | D92: 2.5 | E92: =IF(D92="","",INT(D92+$E$2)) -> 3 | H92: 2.5 | I92: 0.25 | J92: =IF(H92="","",INT(H92+$E$2)) -> 3 | K92: =IF(J92="","",ABS(D92-M92)) -> 0.36 | M92: 2.86 | N92: =IF(M92="","",INT(M92+$E$2)) -> 3
A93: 81 | B93: 81 | C93: Het systeem biedt mogelijkheden om metadata automatisch toe te voegen aan leermiddelen, toetsen en modules. | D93: 2.05 | E93: =IF(D93="","",INT(D93+$E$2)) -> 2 | H93: 2.05 | I93: 0.24 | J93: =IF(H93="","",INT(H93+$E$2)) -> 2 | K93: =IF(J93="","",ABS(D93-M93)) -> 0.91 | M93: 1.14 | N93: =IF(M93="","",INT(M93+$E$2)) -> 1
A94: 82 | B94: 82 | C94: Docenten kunnen data-analyses (laten) uitvoeren die helpen bij het bepalen van de beste studie-aanpak. | D94: 2.32 | E94: =IF(D94="","",INT(D94+$E$2)) -> 3 | H94: 2.32 | I94: 0.2 | J94: =IF(H94="","",INT(H94+$E$2)) -> 3 | K94: =IF(J94="","",ABS(D94-M94)) -> 0.32 | M94: 2 | N94: =IF(M94="","",INT(M94+$E$2)) -> 2
C95: Communicatie, berichten, meldingen | E95: =IF(D95="","",INT(D95+$E$2)) | J95: =IF(H95="","",INT(H95+$E$2)) | K95: =IF(J95="","",ABS(D95-M95)) | N95: =IF(M95="","",INT(M95+$E$2))
A96: 83 | B96: 83 | C96: Functioneel beheerders kunnen serviceberichten naar alle of specifieke (groepen) gebruikers van het LMS sturen. | D96: 2.47 | E96: =IF(D96="","",INT(D96+$E$2)) -> 3 | H96: 2.47 | I96: 0.19 | J96: =IF(H96="","",INT(H96+$E$2)) -> 3 | K96: =IF(J96="","",ABS(D96-M96)) -> 0.04 | M96: 2.43 | N96: =IF(M96="","",INT(M96+$E$2)) -> 3
A97: 84 | B97: 84 | C97: Functioneel beheerders kunnen de wijze waarop het LMS het communiceren faciliteert zelf configureren. | D97: 2.42 | E97: =IF(D97="","",INT(D97+$E$2)) -> 3 | H97: 2.42 | I97: 0.22 | J97: =IF(H97="","",INT(H97+$E$2)) -> 3 | K97: =IF(J97="","",ABS(D97-M97)) -> 0.01 | M97: 2.43 | N97: =IF(M97="","",INT(M97+$E$2)) -> 3
A98: 85 | B98: 85 | C98: Een Functioneel beheerder kan instellen dat gebruikers alleen kunnen communiceren met andere leden in hun productruimte en met mensen die zij binnen het LMS als contact hebben aangemaakt. | D98: 1.74 | E98: =IF(D98="","",INT(D98+$E$2)) -> 2 | H98: 1.74 | I98: 0.32 | J98: =IF(H98="","",INT(H98+$E$2)) -> 2 | K98: =IF(J98="","",ABS(D98-M98)) -> 0.6 | M98: 1.14 | N98: =IF(M98="","",INT(M98+$E$2)) -> 1
A99: 86 | B99: 86 | C99: Een docent moet mededelingen m.b.t. de productruimte kunnen publiceren. | D99: 2.32 | E99: =IF(D99="","",INT(D99+$E$2)) -> 3 | H99: 2.32 | I99: 0.17 | J99: =IF(H99="","",INT(H99+$E$2)) -> 3 | K99: =IF(J99="","",ABS(D99-M99)) -> 0.11 | M99: 2.43 | N99: =IF(M99="","",INT(M99+$E$2)) -> 3
A100: 87 | B100: 87 | C100: De docent kan mededelingen plaatsen als tekstbestand, audiobestand en videobestand. | D100: 2.68 | E100: =IF(D100="","",INT(D100+$E$2)) -> 3 | H100: 2.68 | I100: 0.2 | J100: =IF(H100="","",INT(H100+$E$2)) -> 3 | K100: =IF(J100="","",ABS(D100-M100)) -> 0.25 | M100: 2.43 | N100: =IF(M100="","",INT(M100+$E$2)) -> 3
A101: 88 | B101: 88 | C101: De docent beschikt over de mogelijkheid om mededelingen te adresseren aan afzonderlijke groepen studenten of individuen. | D101: 2.5 | E101: =IF(D101="","",INT(D101+$E$2)) -> 3 | H101: 2.5 | I101: 0.26 | J101: =IF(H101="","",INT(H101+$E$2)) -> 3 | K101: =IF(J101="","",ABS(D101-M101)) -> 0.21 | M101: 2.29 | N101: =IF(M101="","",INT(M101+$E$2)) -> 2
A102: 89 | B102: 89 | C102: De docent kan ervoor kiezen om een mededeling onmiddellijk te versturen of in de tijd in te plannen. | D102: 2.32 | E102: =IF(D102="","",INT(D102+$E$2)) -> 3 | H102: 2.32 | I102: 0.27 | J102: =IF(H102="","",INT(H102+$E$2)) -> 3 | K102: =IF(J102="","",ABS(D102-M102)) -> 0.89 | M102: 1.43 | N102: =IF(M102="","",INT(M102+$E$2)) -> 2
A103: 90 | B103: 90 | C103: De docent kan aangeven dat de mededeling na bedenktijd wordt gepubliceerd. | D103: 1.73 | E103: =IF(D103="","",INT(D103+$E$2)) -> 2 | H103: 1.73 | I103: 0.31 | J103: =IF(H103="","",INT(H103+$E$2)) -> 2 | K103: =IF(J103="","",ABS(D103-M103)) -> 1.23 | M103: 0.5 | N103: =IF(M103="","",INT(M103+$E$2)) -> 1
...

Sheet Eisen en wensen
J2: Maximale score: | K2: =COUNTIF($D$11:$D$358,3)*5+COUNTIF($D$11:$D$358,2)*3+COUNTIF($D$11:$D$358,1) -> 1110
J3: Score | K3: =SUM(K11:$K$358) -> 0 | L3: =K3/K2 -> 0
J4: Aantal eisen | K4: =COUNTIF(D11:$D$358,4) -> 76
J5: Score eisen | K5: =COUNTIF(K11:$K$358,TRUE) -> 0 | L5: =K5/K$4 -> 0
J6: Aantal eisen beperkt | K6: =COUNTIF($M$11:$M$358,TRUE) -> 0 | L6: =K6/K$4 -> 0
J7: Aantal eisen livegang | K7: =COUNTIF(N11:$N$358,TRUE) -> 0 | L7: =K7/K$4 -> 0
C8: Geef in de kolom Antwoord aan of uw oplossing voldoet aan de volgende eisen en wensen. Geef in elk geval in de groene velden onder de Toelichting een korte toelichting. | H8: Bij Voldoet beperkt of Voldoet bij Livegang is een korte toelichting verplicht.
B9: Functionaliteit | C9: Item | E9: Gewicht | F9: Antwoord | H9: Toelichting | K9: Score
B10: 1. Curriculumplanner
C11: 1.1 De curriculumplanner kan kwalificatiedossiers van de SBB-website inlezen. | D11: 3 | E11: Belangrijk | G11: =IF($F11="","",VLOOKUP($F11,'Invoervelden, scores'!$B$4:$C$7,2,TRUE)) | K11: {=IF($C11="","",IF($F11="","",INDEX('Invoervelden, scores'!$D$4:$G$7,'Eisen en wensen'!G11,'Eisen en wensen'!D11)))} | M11: =IF(AND(D11=4,G11=2),TRUE,FALSE) -> FALSE | N11: =IF(AND(D11=4,G11=3),TRUE,FALSE) -> FALSE
C12: 1.2 Onderwijsontwikkelaars kunnen binnen het LMS gebruik maken van functionaliteiten om curricula en leereenheden te ontwerpen in een grof ontwerp. | D12: 3 | E12: Belangrijk | G12: =IF($F12="","",VLOOKUP($F12,'Invoervelden, scores'!$B$4:$C$7,2,TRUE)) | K12: {=IF($C12="","",IF($F12="","",INDEX('Invoervelden, scores'!$D$4:$G$7,'Eisen en wensen'!G12,'Eisen en wensen'!D12)))} | M12: =IF(AND(D12=4,G12=2),TRUE,FALSE) -> FALSE | N12: =IF(AND(D12=4,G12=3),TRUE,FALSE) -> FALSE
C13: 1.3 Onderwijsontwikkelaars kunnen het onderwijs in het LMS vormgeven in een boomstructuur zodat het onderwijs en het toetsplan één geheel vormen. | D13: 3 | E13: Belangrijk | G13: =IF($F13="","",VLOOKUP($F13,'Invoervelden, scores'!$B$4:$C$7,2,TRUE)) | K13: {=IF($C13="","",IF($F13="","",INDEX('Invoervelden, scores'!$D$4:$G$7,'Eisen en wensen'!G13,'Eisen en wensen'!D13)))} | M13: =IF(AND(D13=4,G13=2),TRUE,FALSE) -> FALSE | N13: =IF(AND(D13=4,G13=3),TRUE,FALSE) -> FALSE
C14: 1.4 Een (reeds bestaande) leereenheid kan aan een kwalificatiedossier gekoppeld worden. | D14: 3 | E14: Belangrijk | G14: =IF($F14="","",VLOOKUP($F14,'Invoervelden, scores'!$B$4:$C$7,2,TRUE)) | K14: {=IF($C14="","",IF($F14="","",INDEX('Invoervelden, scores'!$D$4:$G$7,'Eisen en wensen'!G14,'Eisen en wensen'!D14)))} | M14: =IF(AND(D14=4,G14=2),TRUE,FALSE) -> FALSE | N14: =IF(AND(D14=4,G14=3),TRUE,FALSE) -> FALSE
C15: 1.5 Een curriculumontwerp kan in een workflow worden opgezet waarbij verschillende rollen verschillende rechten hebben met betrekking tot het ontwerpen, becommentariëren, vaststellen, etc. | D15: 2 | E15: Gewenst | G15: =IF($F15="","",VLOOKUP($F15,'Invoervelden, scores'!$B$4:$C$7,2,TRUE)) | K15: {=IF($C15="","",IF($F15="","",INDEX('Invoervelden, scores'!$D$4:$G$7,'Eisen en wensen'!G15,'Eisen en wensen'!D15)))} | M15: =IF(AND(D15=4,G15=2),TRUE,FALSE) -> FALSE | N15: =IF(AND(D15=4,G15=3),TRUE,FALSE) -> FALSE
C16: 1.6 De leereenheden kunnen binnen een curriculumontwerp in tijd (schooljaar, periode, opleidingsfase) weggezet worden. | D16: 3 | E16: Belangrijk | G16: =IF($F16="","",VLOOKUP($F16,'Invoervelden, scores'!$B$4:$C$7,2,TRUE)) | K16: {=IF($C16="","",IF($F16="","",INDEX('Invoervelden, scores'!$D$4:$G$7,'Eisen en wensen'!G16,'Eisen en wensen'!D16)))} | M16: =IF(AND(D16=4,G16=2),TRUE,FALSE) -> FALSE | N16: =IF(AND(D16=4,G16=3),TRUE,FALSE) -> FALSE
C17: 1.7 Per leereenheid kan onderwijstijd gekoppeld worden. | D17: 3 | E17: Belangrijk | G17: =IF($F17="","",VLOOKUP($F17,'Invoervelden, scores'!$B$4:$C$7,2,TRUE)) | K17: {=IF($C17="","",IF($F17="","",INDEX('Invoervelden, scores'!$D$4:$G$7,'Eisen en wensen'!G17,'Eisen en wensen'!D17)))} | M17: =IF(AND(D17=4,G17=2),TRUE,FALSE) -> FALSE | N17: =IF(AND(D17=4,G17=3),TRUE,FALSE) -> FALSE
C18: 1.8 De inhoud van een leereenheid kan in de vorm van leeractiviteiten worden beschreven. | D18: 2 | E18: Gewenst | G18: =IF($F18="","",VLOOKUP($F18,'Invoervelden, scores'!$B$4:$C$7,2,TRUE)) | K18: {=IF($C18="","",IF($F18="","",INDEX('Invoervelden, scores'!$D$4:$G$7,'Eisen en wensen'!G18,'Eisen en wensen'!D18)))} | M18: =IF(AND(D18=4,G18=2),TRUE,FALSE) -> FALSE | N18: =IF(AND(D18=4,G18=3),TRUE,FALSE) -> FALSE
C19: 1.9 Specifieke leerdoelen kunnen worden omschreven en gekoppeld aan leeractiviteiten. | D19: 2 | E19: Gewenst | G19: =IF($F19="","",VLOOKUP($F19,'Invoervelden, scores'!$B$4:$C$7,2,TRUE)) | K19: {=IF($C19="","",IF($F19="","",INDEX('Invoervelden, scores'!$D$4:$G$7,'Eisen en wensen'!G19,'Eisen en wensen'!D19)))} | M19: =IF(AND(D19=4,G19=2),TRUE,FALSE) -> FALSE | N19: =IF(AND(D19=4,G19=3),TRUE,FALSE) -> FALSE
B20: 2. Formatieve resultatenbeheer | G20: =IF($F20="","",VLOOKUP($F20,'Invoervelden, scores'!$B$4:$C$7,2,TRUE)) | K20: {=IF($C20="","",IF($F20="","",INDEX('Invoervelden, scores'!$D$4:$G$7,'Eisen en wensen'!G20,'Eisen en wensen'!D20)))} | M20: =IF(AND(D20=4,G20=2),TRUE,FALSE) -> FALSE | N20: =IF(AND(D20=4,G20=3),TRUE,FALSE) -> FALSE
C21: 2.1 Het LMS biedt verschillende beoordelingsschalen (tenminste: voldaan/niet voldaan; cijfer; woordschaal, vijf puntsschaal, rubric). | D21: 4 | E21: Eis | G21: =IF($F21="","",VLOOKUP($F21,'Invoervelden, scores'!$B$4:$C$7,2,TRUE)) | K21: {=IF($C21="","",IF($F21="","",INDEX('Invoervelden, scores'!$D$4:$G$7,'Eisen en wensen'!G21,'Eisen en wensen'!D21)))} | M21: =IF(AND(D21=4,G21=2),TRUE,FALSE) -> FALSE | N21: =IF(AND(D21=4,G21=3),TRUE,FALSE) -> FALSE
C22: 2.2 Het een formatief toetsplan kan worden ontworpen of geïmporteerd in het LMS. | D22: 3 | E22: Belangrijk | G22: =IF($F22="","",VLOOKUP($F22,'Invoervelden, scores'!$B$4:$C$7,2,TRUE)) | K22: {=IF($C22="","",IF($F22="","",INDEX('Invoervelden, scores'!$D$4:$G$7,'Eisen en wensen'!G22,'Eisen en wensen'!D22)))} | M22: =IF(AND(D22=4,G22=2),TRUE,FALSE) -> FALSE | N22: =IF(AND(D22=4,G22=3),TRUE,FALSE) -> FALSE
C23: 2.3 De formatieve resultatenstructuur is zichtbaar voor de docent en de student | D23: 4 | E23: Eis | G23: =IF($F23="","",VLOOKUP($F23,'Invoervelden, scores'!$B$4:$C$7,2,TRUE)) | K23: {=IF($C23="","",IF($F23="","",INDEX('Invoervelden, scores'!$D$4:$G$7,'Eisen en wensen'!G23,'Eisen en wensen'!D23)))} | M23: =IF(AND(D23=4,G23=2),TRUE,FALSE) -> FALSE | N23: =IF(AND(D23=4,G23=3),TRUE,FALSE) -> FALSE
C24: 2.4 Formatieve resultaten per student / per groep (die gekoppeld zijn aan de resultatenstructuur) kunnen worden geëxporteerd naar een bronsysteem. | D24: 3 | E24: Belangrijk | G24: =IF($F24="","",VLOOKUP($F24,'Invoervelden, scores'!$B$4:$C$7,2,TRUE)) | K24: {=IF($C24="","",IF($F24="","",INDEX('Invoervelden, scores'!$D$4:$G$7,'Eisen en wensen'!G24,'Eisen en wensen'!D24)))} | M24: =IF(AND(D24=4,G24=2),TRUE,FALSE) -> FALSE | N24: =IF(AND(D24=4,G24=3),TRUE,FALSE) -> FALSE
C25: 2.5 Toegekende resultaten zijn (alleen) zichtbaar voor studenten (persoonlijk) en voor bij het onderwijs betrokken docenten (ook per groep) | D25: 4 | E25: Eis | G25: =IF($F25="","",VLOOKUP($F25,'Invoervelden, scores'!$B$4:$C$7,2,TRUE)) | K25: {=IF($C25="","",IF($F25="","",INDEX('Invoervelden, scores'!$D$4:$G$7,'Eisen en wensen'!G25,'Eisen en wensen'!D25)))} | M25: =IF(AND(D25=4,G25=2),TRUE,FALSE) -> FALSE | N25: =IF(AND(D25=4,G25=3),TRUE,FALSE) -> FALSE
C26: 2.6 Het systeem biedt de mogelijkheden om resultaten in een boomstructuur op basis van formules door te rekenen tot een (voorlopig) eindresultaat. | D26: 3 | E26: Belangrijk | G26: =IF($F26="","",VLOOKUP($F26,'Invoervelden, scores'!$B$4:$C$7,2,TRUE)) | K26: {=IF($C26="","",IF($F26="","",INDEX('Invoervelden, scores'!$D$4:$G$7,'Eisen en wensen'!G26,'Eisen en wensen'!D26)))} | M26: =IF(AND(D26=4,G26=2),TRUE,FALSE) -> FALSE | N26: =IF(AND(D26=4,G26=3),TRUE,FALSE) -> FALSE
C27: 2.7 Docenten kunnen de resultaten bekijken van gevolgde leereenheden, testjes en polls om de voorkennis van een groep of individu te bepalen. | D27: 3 | E27: Belangrijk | G27: =IF($F27="","",VLOOKUP($F27,'Invoervelden, scores'!$B$4:$C$7,2,TRUE)) | K27: {=IF($C27="","",IF($F27="","",INDEX('Invoervelden, scores'!$D$4:$G$7,'Eisen en wensen'!G27,'Eisen en wensen'!D27)))} | M27: =IF(AND(D27=4,G27=2),TRUE,FALSE) -> FALSE | N27: =IF(AND(D27=4,G27=3),TRUE,FALSE) -> FALSE
C28: 2.8 Resultaten die een student behaalt met leereenheid van een keuzedeel moeten automatisch worden geplaatst in de examenresultaten in het SIS. | D28: 3 | E28: Belangrijk | G28: =IF($F28="","",VLOOKUP($F28,'Invoervelden, scores'!$B$4:$C$7,2,TRUE)) | K28: {=IF($C28="","",IF($F28="","",INDEX('Invoervelden, scores'!$D$4:$G$7,'Eisen en wensen'!G28,'Eisen en wensen'!D28)))} | M28: =IF(AND(D28=4,G28=2),TRUE,FALSE) -> FALSE | N28: =IF(AND(D28=4,G28=3),TRUE,FALSE) -> FALSE
C29: 2.9 (Grafische) presentaties/rapporten van de resultaten ten opzichte van de leerdoelen per leerlijn/per student/per groep per leereenheid/per domein, kunnen gegenereerd en gedeeld worden. | D29: 2 | E29: Gewenst | G29: =IF($F29="","",VLOOKUP($F29,'Invoervelden, scores'!$B$4:$C$7,2,TRUE)) | K29: {=IF($C29="","",IF($F29="","",INDEX('Invoervelden, scores'!$D$4:$G$7,'Eisen en wensen'!G29,'Eisen en wensen'!D29)))} | M29: =IF(AND(D29=4,G29=2),TRUE,FALSE) -> FALSE | N29: =IF(AND(D29=4,G29=3),TRUE,FALSE) -> FALSE
C30: 2.10 Het is mogelijk om de toetsresultaten in te zien, zowel voor docent als student. Het is mogelijk om dit per toets te kunnen bepalen of de toetsresultaten zichtbaar zijn. | D30: 3 | E30: Belangrijk | G30: =IF($F30="","",VLOOKUP($F30,'Invoervelden, scores'!$B$4:$C$7,2,TRUE)) | K30: {=IF($C30="","",IF($F30="","",INDEX('Invoervelden, scores'!$D$4:$G$7,'Eisen en wensen'!G30,'Eisen en wensen'!D30)))} | M30: =IF(AND(D30=4,G30=2),TRUE,FALSE) -> FALSE | N30: =IF(AND(D30=4,G30=3),TRUE,FALSE) -> FALSE
C31: 2.11 Toetsen kunnen gekoppeld worden aan individuele studenten, maar ook aan een of meerdere groepen. Het is mogelijk een tijdsspanne aan te geven waarin de toets beschikbaar is voor studenten. | D31: 3 | E31: Belangrijk | G31: =IF($F31="","",VLOOKUP($F31,'Invoervelden, scores'!$B$4:$C$7,2,TRUE)) | K31: {=IF($C31="","",IF($F31="","",INDEX('Invoervelden, scores'!$D$4:$G$7,'Eisen en wensen'!G31,'Eisen en wensen'!D31)))} | M31: =IF(AND(D31=4,G31=2),TRUE,FALSE) -> FALSE | N31: =IF(AND(D31=4,G31=3),TRUE,FALSE) -> FALSE
C32: 2.12 (Grafische) overzichten van gemaakte toetsen zijn te genereren, om de resultaten en daarmee de kwaliteit van de toetsvragen te kunnen beoordelen | D32: 3 | E32: Belangrijk | G32: =IF($F32="","",VLOOKUP($F32,'Invoervelden, scores'!$B$4:$C$7,2,TRUE)) | K32: {=IF($C32="","",IF($F32="","",INDEX('Invoervelden, scores'!$D$4:$G$7,'Eisen en wensen'!G32,'Eisen en wensen'!D32)))} | M32: =IF(AND(D32=4,G32=2),TRUE,FALSE) -> FALSE | N32: =IF(AND(D32=4,G32=3),TRUE,FALSE) -> FALSE
... C34: 2.14 Badges of microcredentials kunnen worden geregistreerd in een daarvoor bestemd extern systeem, van waaruit het door de student kan worden gedeeld. | D34: 2 | E34: Gewenst | G34: =IF($F34="","",VLOOKUP($F34,'Invoervelden, scores'!$B$4:$C$7,2,TRUE)) | K34: {=IF($C34="","",IF($F34="","",INDEX('Invoervelden, scores'!$D$4:$G$7,'Eisen en wensen'!G34,'Eisen en wensen'!D34)))} | M34: =IF(AND(D34=4,G34=2),TRUE,FALSE) -> FALSE | N34: =IF(AND(D34=4,G34=3),TRUE,FALSE) -> FALSE
B35: 3. Onderwijscatalogus | G35: =IF($F35="","",VLOOKUP($F35,'Invoervelden, scores'!$B$4:$C$7,2,TRUE)) | K35: {=IF($C35="","",IF($F35="","",INDEX('Invoervelden, scores'!$D$4:$G$7,'Eisen en wensen'!G35,'Eisen en wensen'!D35)))} | M35: =IF(AND(D35=4,G35=2),TRUE,FALSE) -> FALSE | N35: =IF(AND(D35=4,G35=3),TRUE,FALSE) -> FALSE
C36: 3.1 De onderwijscatalogus bevat (een overzicht van) alle reeds ontwikkelde (online) leereenheden. | D36: 3 | E36: Belangrijk | G36: =IF($F36="","",VLOOKUP($F36,'Invoervelden, scores'!$B$4:$C$7,2,TRUE)) | K36: {=IF($C36="","",IF($F36="","",INDEX('Invoervelden, scores'!$D$4:$G$7,'Eisen en wensen'!G36,'Eisen en wensen'!D36)))} | M36: =IF(AND(D36=4,G36=2),TRUE,FALSE) -> FALSE | N36: =IF(AND(D36=4,G36=3),TRUE,FALSE) -> FALSE
C37: 3.2 De inhoud van de onderwijscatalogus kan geheel of gedeeltelijk op basis van bepaalde filters worden ontsloten naar andere systemen (zoals bijvoorbeeld website). | D37: 3 | E37: Belangrijk | G37: =IF($F37="","",VLOOKUP($F37,'Invoervelden, scores'!$B$4:$C$7,2,TRUE)) | K37: {=IF($C37="","",IF($F37="","",INDEX('Invoervelden, scores'!$D$4:$G$7,'Eisen en wensen'!G37,'Eisen en wensen'!D37)))} | M37: =IF(AND(D37=4,G37=2),TRUE,FALSE) -> FALSE | N37: =IF(AND(D37=4,G37=3),TRUE,FALSE) -> FALSE
C38: 3.3 Leereenheden in de onderwijscatalogus kunnen worden voorzien van metadata zoals titel, inhoudsopgave, trefwoorden, tijdsinvestering, voorwaarden om de leereenheid ter mogen volgen (noodzakelijk beginniveau, eerder gevolgede leereenheden). | D38: 3 | E38: Belangrijk | G38: =IF($F38="","",VLOOKUP($F38,'Invoervelden, scores'!$B$4:$C$7,2,TRUE)) | K38: {=IF($C38="","",IF($F38="","",INDEX('Invoervelden, scores'!$D$4:$G$7,'Eisen en wensen'!G38,'Eisen en wensen'!D38)))} | M38: =IF(AND(D38=4,G38=2),TRUE,FALSE) -> FALSE | N38: =IF(AND(D38=4,G38=3),TRUE,FALSE) -> FALSE
C39: 3.4 De onderwijscatalogus kan op basis van verschillende criteria worden doorzocht of gefilterd. | D39: 3 | E39: Belangrijk | G39: =IF($F39="","",VLOOKUP($F39,'Invoervelden, scores'!$B$4:$C$7,2,TRUE)) | K39: {=IF($C39="","",IF($F39="","",INDEX('Invoervelden, scores'!$D$4:$G$7,'Eisen en wensen'!G39,'Eisen en wensen'!D39)))} | M39: =IF(AND(D39=4,G39=2),TRUE,FALSE) -> FALSE | N39: =IF(AND(D39=4,G39=3),TRUE,FALSE) -> FALSE
C40: 3.5 Leereenheden uit de onderwijscatalogus kunnen in een productruimte worden samengevoegd tot grotere eenheden (cursus, training, opleiding). | D40: 3 | E40: Belangrijk | G40: =IF($F40="","",VLOOKUP($F40,'Invoervelden, scores'!$B$4:$C$7,2,TRUE)) | K40: {=IF($C40="","",IF($F40="","",INDEX('Invoervelden, scores'!$D$4:$G$7,'Eisen en wensen'!G40,'Eisen en wensen'!D40)))} | M40: =IF(AND(D40=4,G40=2),TRUE,FALSE) -> FALSE | N40: =IF(AND(D40=4,G40=3),TRUE,FALSE) -> FALSE
C41: 3.6 Docenten hebben overzicht van het totale én het eigen onderwijsaanbod binnen KW1C. | D41: 3 | E41: Belangrijk | G41: =IF($F41="","",VLOOKUP($F41,'Invoervelden, scores'!$B$4:$C$7,2,TRUE)) | K41: {=IF($C41="","",IF($F41="","",INDEX('Invoervelden, scores'!$D$4:$G$7,'Eisen en wensen'!G41,'Eisen en wensen'!D41)))} | M41: =IF(AND(D41=4,G41=2),TRUE,FALSE) -> FALSE | N41: =IF(AND(D41=4,G41=3),TRUE,FALSE) -> FALSE
B42: 4. Leertrajectenbeheer | G42: =IF($F42="","",VLOOKUP($F42,'Invoervelden, scores'!$B$4:$C$7,2,TRUE)) | K42: {=IF($C42="","",IF($F42="","",INDEX('Invoervelden, scores'!$D$4:$G$7,'Eisen en wensen'!G42,'Eisen en wensen'!D42)))} | M42: =IF(AND(D42=4,G42=2),TRUE,FALSE) -> FALSE | N42: =IF(AND(D42=4,G42=3),TRUE,FALSE) -> FALSE
C43: 4.1 Het is mogelijk om leertrajecten samen te stellen op basis van diverse leermaterialen en leeractiviteiten in het LMS. Deze leertrajecten kunnen worden toegewezen aan groepen en aan individuele studenten. | D43: 3 | E43: Belangrijk | G43: =IF($F43="","",VLOOKUP($F43,'Invoervelden, scores'!$B$4:$C$7,2,TRUE)) | K43: {=IF($C43="","",IF($F43="","",INDEX('Invoervelden, scores'!$D$4:$G$7,'Eisen en wensen'!G43,'Eisen en wensen'!D43)))} | M43: =IF(AND(D43=4,G43=2),TRUE,FALSE) -> FALSE | N43: =IF(AND(D43=4,G43=3),TRUE,FALSE) -> FALSE
C44: 4.2 Het LMS moet de levenscyclus van een leereenheid kunnen ondersteunen. Bijvoorbeeld: een cursus kent de volgende fasen: in ontwikkeling, vastgesteld, in productie, gearchiveerd. | D44: 3 | E44: Belangrijk | G44: =IF($F44="","",VLOOKUP($F44,'Invoervelden, scores'!$B$4:$C$7,2,TRUE)) | K44: {=IF($C44="","",IF($F44="","",INDEX('Invoervelden, scores'!$D$4:$G$7,'Eisen en wensen'!G44,'Eisen en wensen'!D44)))} | M44: =IF(AND(D44=4,G44=2),TRUE,FALSE) -> FALSE | N44: =IF(AND(D44=4,G44=3),TRUE,FALSE) -> FALSE
C45: 4.3 Een docent of ontwikkelaar is in staat om bepaalde voorwaarden in te stellen waar een student aan moet voldoen om leermaterialen te kunnen zien en leeractiviteiten uit te kunnen voeren. * Leermaterialen en leeractiviteiten zijn pas zichtbaar of uitvoerbaar na afronding van een andere leeractiviteit (bijvoorbeeld opdracht of toets). * Opdrachten kunnen beschikbaar gesteld aan specifieke (groepen) studenten. * Aan leermaterialen en leeractiviteiten kan een tijdslot worden gehangen, zodat ze zichtbaar of uitvoerbaar zijn vanaf en/of tot een bepaalde datum. | D45: 3 | E45: Belangrijk | G45: =IF($F45="","",VLOOKUP($F45,'Invoervelden, scores'!$B$4:$C$7,2,TRUE)) | K45: {=IF($C45="","",IF($F45="","",INDEX('Invoervelden, scores'!$D$4:$G$7,'Eisen en wensen'!G45,'Eisen en wensen'!D45)))} | M45: =IF(AND(D45=4,G45=2),TRUE,FALSE) -> FALSE | N45: =IF(AND(D45=4,G45=3),TRUE,FALSE) -> FALSE
C46: 4.4 Het is mogelijk dat een docent opdrachten, toetsen en andere taken verbindt met elementen uit het kwalificatiedossier (bijvoorbeeld kerntaken, werkprocessen, vakkennis, vaardigheden en houdingsaspecten), zodat op basis van uitgevoerde taken de ontwikkeling van de studenten ten aanzien van de inhoud van het kwalificatiedossier visueel aantrekkelijk zichtbaar wordt gemaakt voor de docent en student. | D46: 3 | E46: Belangrijk | G46: =IF($F46="","",VLOOKUP($F46,'Invoervelden, scores'!$B$4:$C$7,2,TRUE)) | K46: {=IF($C46="","",IF($F46="","",INDEX('Invoervelden, scores'!$D$4:$G$7,'Eisen en wensen'!G46,'Eisen en wensen'!D46)))} | M46: =IF(AND(D46=4,G46=2),TRUE,FALSE) -> FALSE | N46: =IF(AND(D46=4,G46=3),TRUE,FALSE) -> FALSE
C47: 4.5 De docent kan een vergadering in MS Teams toevoegen als leeractiviteit in het LMS. | D47: 2 | E47: Gewenst | G47: =IF($F47="","",VLOOKUP($F47,'Invoervelden, scores'!$B$4:$C$7,2,TRUE)) | K47: {=IF($C47="","",IF($F47="","",INDEX('Invoervelden, scores'!$D$4:$G$7,'Eisen en wensen'!G47,'Eisen en wensen'!D47)))} | M47: =IF(AND(D47=4,G47=2),TRUE,FALSE) -> FALSE | N47: =IF(AND(D47=4,G47=3),TRUE,FALSE) -> FALSE
C48: 4.6 De docent kan binnen het LMS (of middels integratie met andere applicaties) verschillende typen activiteiten gebruiken bij uitwerking van het didactisch scenario zoals instructie, zelftoets, groepsopdracht, inleveropdracht, enzovoorts. | D48: 3 | E48: Belangrijk | G48: =IF($F48="","",VLOOKUP($F48,'Invoervelden, scores'!$B$4:$C$7,2,TRUE)) | K48: {=IF($C48="","",IF($F48="","",INDEX('Invoervelden, scores'!$D$4:$G$7,'Eisen en wensen'!G48,'Eisen en wensen'!D48)))} | M48: =IF(AND(D48=4,G48=2),TRUE,FALSE) -> FALSE | N48: =IF(AND(D48=4,G48=3),TRUE,FALSE) -> FALSE
C49: 4.7 Een docent moet kunnen configureren hoe leeractiviteiten kunnen worden afgerond (tenminste: op basis van een oordeel en op basis van afvinken door de docent). | D49: 3 | E49: Belangrijk | G49: =IF($F49="","",VLOOKUP($F49,'Invoervelden, scores'!$B$4:$C$7,2,TRUE)) | K49: {=IF($C49="","",IF($F49="","",INDEX('Invoervelden, scores'!$D$4:$G$7,'Eisen en wensen'!G49,'Eisen en wensen'!D49)))} | M49: =IF(AND(D49=4,G49=2),TRUE,FALSE) -> FALSE | N49: =IF(AND(D49=4,G49=3),TRUE,FALSE) -> FALSE
C50: 4.8 Beheerders kunnen leereenheden activeren (openen voor gebruik) en sluiten (blokkeren van het gebruik). | D50: 3 | E50: Belangrijk | G50: =IF($F50="","",VLOOKUP($F50,'Invoervelden, scores'!$B$4:$C$7,2,TRUE)) | K50: {=IF($C50="","",IF($F50="","",INDEX('Invoervelden, scores'!$D$4:$G$7,'Eisen en wensen'!G50,'Eisen en wensen'!D50)))} | M50: =IF(AND(D50=4,G50=2),TRUE,FALSE) -> FALSE | N50: =IF(AND(D50=4,G50=3),TRUE,FALSE) -> FALSE
C51: 4.9 Studenten kunnen eigen gekozen leermiddelen (na toestemming) toevoegen aan een leerroute en delen met zijn/haar groep/klas. | D51: 2 | E51: Gewenst | G51: =IF($F51="","",VLOOKUP($F51,'Invoervelden, scores'!$B$4:$C$7,2,TRUE)) | K51: {=IF($C51="","",IF($F51="","",INDEX('Invoervelden, scores'!$D$4:$G$7,'Eisen en wensen'!G51,'Eisen en wensen'!D51)))} | M51: =IF(AND(D51=4,G51=2),TRUE,FALSE) -> FALSE | N51: =IF(AND(D51=4,G51=3),TRUE,FALSE) -> FALSE
C52: 4.10 Studenten kunnen (digitaal) lesmateriaal zelf organiseren en toevoegen aan eigen taken en/of agenda (zelf inplannen). | D52: 2 | E52: Gewenst | G52: =IF($F52="","",VLOOKUP($F52,'Invoervelden, scores'!$B$4:$C$7,2,TRUE)) | K52: {=IF($C52="","",IF($F52="","",INDEX('Invoervelden, scores'!$D$4:$G$7,'Eisen en wensen'!G52,'Eisen en wensen'!D52)))} | M52: =IF(AND(D52=4,G52=2),TRUE,FALSE) -> FALSE | N52: =IF(AND(D52=4,G52=3),TRUE,FALSE) -> FALSE
C53: 4.11 Docenten kunnen, vanuit hun expertise, extra leermiddelen aanbieden op basis van leervoorkeuren of behoeften van individuele studenten. | D53: 3 | E53: Belangrijk | G53: =IF($F53="","",VLOOKUP($F53,'Invoervelden, scores'!$B$4:$C$7,2,TRUE)) | K53: {=IF($C53="","",IF($F53="","",INDEX('Invoervelden, scores'!$D$4:$G$7,'Eisen en wensen'!G53,'Eisen en wensen'!D53)))} | M53: =IF(AND(D53=4,G53=2),TRUE,FALSE) -> FALSE | N53: =IF(AND(D53=4,G53=3),TRUE,FALSE) -> FALSE
C54: 4.12 Docenten kunnen leereenheden in de Onderwijscatalogus of leermiddelen in de Leermiddelenbank filteren op bepaalde kenmerken zodat ze een selectie kunnen maken van geschikte leereenheden of leermiddelen voor een bepaalde doelgroep. | D54: 3 | E54: Belangrijk | G54: =IF($F54="","",VLOOKUP($F54,'Invoervelden, scores'!$B$4:$C$7,2,TRUE)) | K54: {=IF($C54="","",IF($F54="","",INDEX('Invoervelden, scores'!$D$4:$G$7,'Eisen en wensen'!G54,'Eisen en wensen'!D54)))} | M54: =IF(AND(D54=4,G54=2),TRUE,FALSE) -> FALSE | N54: =IF(AND(D54=4,G54=3),TRUE,FALSE) -> FALSE
B55: 5. Ontsluiten / beschikbaar stellen online leermiddelen, ECK | G55: =IF($F55="","",VLOOKUP($F55,'Invoervelden, scores'!$B$4:$C$7,2,TRUE)) | K55: {=IF($C55="","",IF($F55="","",INDEX('Invoervelden, scores'!$D$4:$G$7,'Eisen en wensen'!G55,'Eisen en wensen'!D55)))} | M55: =IF(AND(D55=4,G55=2),TRUE,FALSE) -> FALSE | N55: =IF(AND(D55=4,G55=3),TRUE,FALSE) -> FALSE
C56: 5.1 De docent kan content van derden (zoals uitgevers en All You Can Learn) integreren binnen de productruimte. De wijze waarop integratie plaatsvindt is ook afhankelijk van de vraag of de omgeving van derden voldoet aan gebruikelijke standaarden. | D56: 3 | E56: Belangrijk | G56: =IF($F56="","",VLOOKUP($F56,'Invoervelden, scores'!$B$4:$C$7,2,TRUE)) | K56: {=IF($C56="","",IF($F56="","",INDEX('Invoervelden, scores'!$D$4:$G$7,'Eisen en wensen'!G56,'Eisen en wensen'!D56)))} | M56: =IF(AND(D56=4,G56=2),TRUE,FALSE) -> FALSE | N56: =IF(AND(D56=4,G56=3),TRUE,FALSE) -> FALSE
C57: 5.2 De docent kan bronnen (leermaterialen) uploaden en/of hiernaar verwijzen. | D57: 3 | E57: Belangrijk | G57: =IF($F57="","",VLOOKUP($F57,'Invoervelden, scores'!$B$4:$C$7,2,TRUE)) | K57: {=IF($C57="","",IF($F57="","",INDEX('Invoervelden, scores'!$D$4:$G$7,'Eisen en wensen'!G57,'Eisen en wensen'!D57)))} | M57: =IF(AND(D57=4,G57=2),TRUE,FALSE) -> FALSE | N57: =IF(AND(D57=4,G57=3),TRUE,FALSE) -> FALSE
C58: 5.3 Docenten mogen gebruik maken van content die op het internet aangeboden wordt (Youtube, Vimeo, websites etc.) en kunnen deze aanbieden (insluiten) in de online leeromgeving. | D58: 3 | E58: Belangrijk | G58: =IF($F58="","",VLOOKUP($F58,'Invoervelden, scores'!$B$4:$C$7,2,TRUE)) | K58: {=IF($C58="","",IF($F58="","",INDEX('Invoervelden, scores'!$D$4:$G$7,'Eisen en wensen'!G58,'Eisen en wensen'!D58)))} | M58: =IF(AND(D58=4,G58=2),TRUE,FALSE) -> FALSE | N58: =IF(AND(D58=4,G58=3),TRUE,FALSE) -> FALSE
C59: 5.4 Studenten kunnen leermiddelen van externe Inschrijvers of educatieve uitgevers benaderen conform de ECK standaard. | D59: 3 | E59: Belangrijk | G59: =IF($F59="","",VLOOKUP($F59,'Invoervelden, scores'!$B$4:$C$7,2,TRUE)) | K59: {=IF($C59="","",IF($F59="","",INDEX('Invoervelden, scores'!$D$4:$G$7,'Eisen en wensen'!G59,'Eisen en wensen'!D59)))} | M59: =IF(AND(D59=4,G59=2),TRUE,FALSE) -> FALSE | N59: =IF(AND(D59=4,G59=3),TRUE,FALSE) -> FALSE
B60: 6. Leercontent ontwikkelservice(Authoring tool) | G60: =IF($F60="","",VLOOKUP($F60,'Invoervelden, scores'!$B$4:$C$7,2,TRUE)) | K60: {=IF($C60="","",IF($F60="","",INDEX('Invoervelden, scores'!$D$4:$G$7,'Eisen en wensen'!G60,'Eisen en wensen'!D60)))} | M60: =IF(AND(D60=4,G60=2),TRUE,FALSE) -> FALSE | N60: =IF(AND(D60=4,G60=3),TRUE,FALSE) -> FALSE
C61: 6.1 Een docent moet in staat zijn multimedia in te voegen bij instructies en feedback. | D61: 4 | E61: Eis | G61: =IF($F61="","",VLOOKUP($F61,'Invoervelden, scores'!$B$4:$C$7,2,TRUE)) | K61: {=IF($C61="","",IF($F61="","",INDEX('Invoervelden, scores'!$D$4:$G$7,'Eisen en wensen'!G61,'Eisen en wensen'!D61)))} | M61: =IF(AND(D61=4,G61=2),TRUE,FALSE) -> FALSE | N61: =IF(AND(D61=4,G61=3),TRUE,FALSE) -> FALSE
C62: 6.2 De docent kan opgemaakte tekst, afbeeldingen, embedded video, embedded code (bijv. van Slideshare), en (mathematische en scheikundige) formules invoeren. | D62: 3 | E62: Belangrijk | G62: =IF($F62="","",VLOOKUP($F62,'Invoervelden, scores'!$B$4:$C$7,2,TRUE)) | K62: {=IF($C62="","",IF($F62="","",INDEX('Invoervelden, scores'!$D$4:$G$7,'Eisen en wensen'!G62,'Eisen en wensen'!D62)))} | M62: =IF(AND(D62=4,G62=2),TRUE,FALSE) -> FALSE | N62: =IF(AND(D62=4,G62=3),TRUE,FALSE) -> FALSE
C63: 6.3 De docent kan een deadline voor afronding van een leeractiviteit instellen. | D63: 4 | E63: Eis | G63: =IF($F63="","",VLOOKUP($F63,'Invoervelden, scores'!$B$4:$C$7,2,TRUE)) | K63: {=IF($C63="","",IF($F63="","",INDEX('Invoervelden, scores'!$D$4:$G$7,'Eisen en wensen'!G63,'Eisen en wensen'!D63)))} | M63: =IF(AND(D63=4,G63=2),TRUE,FALSE) -> FALSE | N63: =IF(AND(D63=4,G63=3),TRUE,FALSE) -> FALSE
C64: 6.4 De docent kan de zichtbaarheid van de leeractiviteit voor studenten instellen (wel zichtbaar/niet zichtbaar). | D64: 3 | E64: Belangrijk | G64: =IF($F64="","",VLOOKUP($F64,'Invoervelden, scores'!$B$4:$C$7,2,TRUE)) | K64: {=IF($C64="","",IF($F64="","",INDEX('Invoervelden, scores'!$D$4:$G$7,'Eisen en wensen'!G64,'Eisen en wensen'!D64)))} | M64: =IF(AND(D64=4,G64=2),TRUE,FALSE) -> FALSE | N64: =IF(AND(D64=4,G64=3),TRUE,FALSE) -> FALSE
C65: 6.5 Onderwijsontwikkelaars kunnen leermiddelen, toetsen en leereenhedenvoorzien van metadata. | D65: 3 | E65: Belangrijk | G65: =IF($F65="","",VLOOKUP($F65,'Invoervelden, scores'!$B$4:$C$7,2,TRUE)) | K65: {=IF($C65="","",IF($F65="","",INDEX('Invoervelden, scores'!$D$4:$G$7,'Eisen en wensen'!G65,'Eisen en wensen'!D65)))} | M65: =IF(AND(D65=4,G65=2),TRUE,FALSE) -> FALSE | N65: =IF(AND(D65=4,G65=3),TRUE,FALSE) -> FALSE
C66: 6.6 Een docent kan ontwikkelde leermiddelen, bijvoorbeeld via leermiddelenbank, delen met collega-docenten. | D66: 3 | E66: Belangrijk | G66: =IF($F66="","",VLOOKUP($F66,'Invoervelden, scores'!$B$4:$C$7,2,TRUE)) | K66: {=IF($C66="","",IF($F66="","",INDEX('Invoervelden, scores'!$D$4:$G$7,'Eisen en wensen'!G66,'Eisen en wensen'!D66)))} | M66: =IF(AND(D66=4,G66=2),TRUE,FALSE) -> FALSE | N66: =IF(AND(D66=4,G66=3),TRUE,FALSE) -> FALSE
C67: 6.7 Een docent moet leermaterialen binnen een productruimte kunnen vervangen door een nieuwe versie, zonder dat de verwijzingen aangepast hoeven te worden. | D67: 3 | E67: Belangrijk | G67: =IF($F67="","",VLOOKUP($F67,'Invoervelden, scores'!$B$4:$C$7,2,TRUE)) | K67: {=IF($C67="","",IF($F67="","",INDEX('Invoervelden, scores'!$D$4:$G$7,'Eisen en wensen'!G67,'Eisen en wensen'!D67)))} | M67: =IF(AND(D67=4,G67=2),TRUE,FALSE) -> FALSE | N67: =IF(AND(D67=4,G67=3),TRUE,FALSE) -> FALSE
C68: 6.8 De docent kan de inhoud van een productruimte testen in de rol van student, inclusief alle interacties met docent. | D68: 3 | E68: Belangrijk | G68: =IF($F68="","",VLOOKUP($F68,'Invoervelden, scores'!$B$4:$C$7,2,TRUE)) | K68: {=IF($C68="","",IF($F68="","",INDEX('Invoervelden, scores'!$D$4:$G$7,'Eisen en wensen'!G68,'Eisen en wensen'!D68)))} | M68: =IF(AND(D68=4,G68=2),TRUE,FALSE) -> FALSE | N68: =IF(AND(D68=4,G68=3),TRUE,FALSE) -> FALSE
C69: 6.9 Leeractiviteiten kunnen in de LMS ontwikkeld worden of geïmporteerd uit een ontwikkeltool en opgeslagen in een leermiddelenbank. | D69: 3 | E69: Belangrijk | G69: =IF($F69="","",VLOOKUP($F69,'Invoervelden, scores'!$B$4:$C$7,2,TRUE)) | K69: {=IF($C69="","",IF($F69="","",INDEX('Invoervelden, scores'!$D$4:$G$7,'Eisen en wensen'!G69,'Eisen en wensen'!D69)))} | M69: =IF(AND(D69=4,G69=2),TRUE,FALSE) -> FALSE | N69: =IF(AND(D69=4,G69=3),TRUE,FALSE) -> FALSE
C70: 6.10 Docenten kunnen op een overzichtelijke manier leermiddelen inzien van modules waarin ze lesgeven. De leermiddelen van school en educatieve uitgevers staan overzichtelijk in één overzicht per module. | D70: 3 | E70: Belangrijk | G70: =IF($F70="","",VLOOKUP($F70,'Invoervelden, scores'!$B$4:$C$7,2,TRUE)) | K70: {=IF($C70="","",IF($F70="","",INDEX('Invoervelden, scores'!$D$4:$G$7,'Eisen en wensen'!G70,'Eisen en wensen'!D70)))} | M70: =IF(AND(D70=4,G70=2),TRUE,FALSE) -> FALSE | N70: =IF(AND(D70=4,G70=3),TRUE,FALSE) -> FALSE
C71: 6.11 Onderwijsontwikkelaars en docenten kunnen diverse gebruikers (studenten) en andere betrokkenen (andere docenten, praktijkopleiders) koppelen aan een module. | D71: 3 | E71: Belangrijk | G71: =IF($F71="","",VLOOKUP($F71,'Invoervelden, scores'!$B$4:$C$7,2,TRUE)) | K71: {=IF($C71="","",IF($F71="","",INDEX('Invoervelden, scores'!$D$4:$G$7,'Eisen en wensen'!G71,'Eisen en wensen'!D71)))} | M71: =IF(AND(D71=4,G71=2),TRUE,FALSE) -> FALSE | N71: =IF(AND(D71=4,G71=3),TRUE,FALSE) -> FALSE
C72: 6.12 Onderwijsontwikkelaars en docenten kunnen lesmateriaal toevoegen vanuit een KW1C leermiddelenbank en/of via een link met een uitgever (licentie) op basis van de ECK-standaarden. | D72: 3 | E72: Belangrijk | G72: =IF($F72="","",VLOOKUP($F72,'Invoervelden, scores'!$B$4:$C$7,2,TRUE)) | K72: {=IF($C72="","",IF($F72="","",INDEX('Invoervelden, scores'!$D$4:$G$7,'Eisen en wensen'!G72,'Eisen en wensen'!D72)))} | M72: =IF(AND(D72=4,G72=2),TRUE,FALSE) -> FALSE | N72: =IF(AND(D72=4,G72=3),TRUE,FALSE) -> FALSE
... C76: 6.16 De omgeving beschikt over een in te richten chatbot, die kan worden ingezet bij het vormgeven van leereenheden. | D76: 1 | E76: Leuk om te hebben | G76: =IF($F76="","",VLOOKUP($F76,'Invoervelden, scores'!$B$4:$C$7,2,TRUE)) | K76: {=IF($C76="","",IF($F76="","",INDEX('Invoervelden, scores'!$D$4:$G$7,'Eisen en wensen'!G76,'Eisen en wensen'!D76)))} | M76: =IF(AND(D76=4,G76=2),TRUE,FALSE) -> FALSE | N76: =IF(AND(D76=4,G76=3),TRUE,FALSE) -> FALSE
B77: 7. Leermiddelenbank | G77: =IF($F77="","",VLOOKUP($F77,'Invoervelden, scores'!$B$4:$C$7,2,TRUE)) | K77: {=IF($C77="","",IF($F77="","",INDEX('Invoervelden, scores'!$D$4:$G$7,'Eisen en wensen'!G77,'Eisen en wensen'!D77)))} | M77: =IF(AND(D77=4,G77=2),TRUE,FALSE) -> FALSE | N77: =IF(AND(D77=4,G77=3),TRUE,FALSE) -> FALSE
C78: 7.1 Het LMS beschikt over een leermiddelenbank waar digitale leermiddelen, documenten, presentaties, video's, etc. kunnen worden opgeslagen en beschikbaar gesteld aan gebruikers. | D78: 3 | E78: Belangrijk | G78: =IF($F78="","",VLOOKUP($F78,'Invoervelden, scores'!$B$4:$C$7,2,TRUE)) | K78: {=IF($C78="","",IF($F78="","",INDEX('Invoervelden, scores'!$D$4:$G$7,'Eisen en wensen'!G78,'Eisen en wensen'!D78)))} | M78: =IF(AND(D78=4,G78=2),TRUE,FALSE) -> FALSE | N78: =IF(AND(D78=4,G78=3),TRUE,FALSE) -> FALSE
C79: 7.2 De leermiddelenbank biedt verschillende zoek- en filtermogelijkheden zodat bepaalde leermiddelen snel kunnen worden gevonden. | D79: 3 | E79: Belangrijk | G79: =IF($F79="","",VLOOKUP($F79,'Invoervelden, scores'!$B$4:$C$7,2,TRUE)) | K79: {=IF($C79="","",IF($F79="","",INDEX('Invoervelden, scores'!$D$4:$G$7,'Eisen en wensen'!G79,'Eisen en wensen'!D79)))} | M79: =IF(AND(D79=4,G79=2),TRUE,FALSE) -> FALSE | N79: =IF(AND(D79=4,G79=3),TRUE,FALSE) -> FALSE
C80: 7.3 Docenten kunnen leermiddelen delen met andere leraren of studenten, mits de licentie dit toestaat. | D80: 3 | E80: Belangrijk | G80: =IF($F80="","",VLOOKUP($F80,'Invoervelden, scores'!$B$4:$C$7,2,TRUE)) | K80: {=IF($C80="","",IF($F80="","",INDEX('Invoervelden, scores'!$D$4:$G$7,'Eisen en wensen'!G80,'Eisen en wensen'!D80)))} | M80: =IF(AND(D80=4,G80=2),TRUE,FALSE) -> FALSE | N80: =IF(AND(D80=4,G80=3),TRUE,FALSE) -> FALSE
C81: 7.4 Content kan worden geïmporteerd en geëxporteerd volgens heersende import/export standaarden. Geïmporteerde content kan in de omgeving weer verder worden ontwikkeld. | D81: 3 | E81: Belangrijk | G81: =IF($F81="","",VLOOKUP($F81,'Invoervelden, scores'!$B$4:$C$7,2,TRUE)) | K81: {=IF($C81="","",IF($F81="","",INDEX('Invoervelden, scores'!$D$4:$G$7,'Eisen en wensen'!G81,'Eisen en wensen'!D81)))} | M81: =IF(AND(D81=4,G81=2),TRUE,FALSE) -> FALSE | N81: =IF(AND(D81=4,G81=3),TRUE,FALSE) -> FALSE
B82: 8. Groepenbeheer | G82: =IF($F82="","",VLOOKUP($F82,'Invoervelden, scores'!$B$4:$C$7,2,TRUE)) | K82: {=IF($C82="","",IF($F82="","",INDEX('Invoervelden, scores'!$D$4:$G$7,'Eisen en wensen'!G82,'Eisen en wensen'!D82)))} | M82: =IF(AND(D82=4,G82=2),TRUE,FALSE) -> FALSE | N82: =IF(AND(D82=4,G82=3),TRUE,FALSE) -> FALSE
C83: 8.1 Docenten kunnen zien welke studenten gelijktijdig een leereenheid bij hem volgen. | D83: 3 | E83: Belangrijk | G83: =IF($F83="","",VLOOKUP($F83,'Invoervelden, scores'!$B$4:$C$7,2,TRUE)) | K83: {=IF($C83="","",IF($F83="","",INDEX('Invoervelden, scores'!$D$4:$G$7,'Eisen en wensen'!G83,'Eisen en wensen'!D83)))} | M83: =IF(AND(D83=4,G83=2),TRUE,FALSE) -> FALSE | N83: =IF(AND(D83=4,G83=3),TRUE,FALSE) -> FALSE
C84: 8.2 Groepsindelingen binnen een bronsysteem worden binnen het LMS overgenomen. | D84: 4 | E84: Eis | G84: =IF($F84="","",VLOOKUP($F84,'Invoervelden, scores'!$B$4:$C$7,2,TRUE)) | K84: {=IF($C84="","",IF($F84="","",INDEX('Invoervelden, scores'!$D$4:$G$7,'Eisen en wensen'!G84,'Eisen en wensen'!D84)))} | M84: =IF(AND(D84=4,G84=2),TRUE,FALSE) -> FALSE | N84: =IF(AND(D84=4,G84=3),TRUE,FALSE) -> FALSE
C85: 8.3 Docenten kunnen eenvoudig (andere) groepen samenstellen voor een activiteit of opdracht. | D85: 3 | E85: Belangrijk | G85: =IF($F85="","",VLOOKUP($F85,'Invoervelden, scores'!$B$4:$C$7,2,TRUE)) | K85: {=IF($C85="","",IF($F85="","",INDEX('Invoervelden, scores'!$D$4:$G$7,'Eisen en wensen'!G85,'Eisen en wensen'!D85)))} | M85: =IF(AND(D85=4,G85=2),TRUE,FALSE) -> FALSE | N85: =IF(AND(D85=4,G85=3),TRUE,FALSE) -> FALSE
C86: 8.4 Groepen kunnen worden samengesteld over opleidingen en afdelingen heen. Studenten in die groepen hebben rechten op alle content die aan die groepen is verbonden. | D86: 4 | E86: Eis | G86: =IF($F86="","",VLOOKUP($F86,'Invoervelden, scores'!$B$4:$C$7,2,TRUE)) | K86: {=IF($C86="","",IF($F86="","",INDEX('Invoervelden, scores'!$D$4:$G$7,'Eisen en wensen'!G86,'Eisen en wensen'!D86)))} | M86: =IF(AND(D86=4,G86=2),TRUE,FALSE) -> FALSE | N86: =IF(AND(D86=4,G86=3),TRUE,FALSE) -> FALSE
C87: 8.5 Een docent is in staat om studenten per groepsopdracht in te delen in groepjes (at random, docent wijst toe, door studenten zelf te laten kiezen). | D87: 3 | E87: Belangrijk | G87: =IF($F87="","",VLOOKUP($F87,'Invoervelden, scores'!$B$4:$C$7,2,TRUE)) | K87: {=IF($C87="","",IF($F87="","",INDEX('Invoervelden, scores'!$D$4:$G$7,'Eisen en wensen'!G87,'Eisen en wensen'!D87)))} | M87: =IF(AND(D87=4,G87=2),TRUE,FALSE) -> FALSE | N87: =IF(AND(D87=4,G87=3),TRUE,FALSE) -> FALSE
C88: 8.6 Een docent kan binnen een groep bepaalde rollen definiëren, waaraan verschillende opdrachten kunnen worden gekoppeld. | D88: 3 | E88: Belangrijk | G88: =IF($F88="","",VLOOKUP($F88,'Invoervelden, scores'!$B$4:$C$7,2,TRUE)) | K88: {=IF($C88="","",IF($F88="","",INDEX('Invoervelden, scores'!$D$4:$G$7,'Eisen en wensen'!G88,'Eisen en wensen'!D88)))} | M88: =IF(AND(D88=4,G88=2),TRUE,FALSE) -> FALSE | N88: =IF(AND(D88=4,G88=3),TRUE,FALSE) -> FALSE
B89: 9. Koppeling naar didactische online tools | G89: =IF($F89="","",VLOOKUP($F89,'Invoervelden, scores'!$B$4:$C$7,2,TRUE)) | K89: {=IF($C89="","",IF($F89="","",INDEX('Invoervelden, scores'!$D$4:$G$7,'Eisen en wensen'!G89,'Eisen en wensen'!D89)))} | M89: =IF(AND(D89=4,G89=2),TRUE,FALSE) -> FALSE | N89: =IF(AND(D89=4,G89=3),TRUE,FALSE) -> FALSE
C90: 9.1 Online didactische tools (zoals Kahoot, Socrative, Mentimeter o.i.d.) kunnen worden geïntegreerd in de LMS omgeving. | D90: 3 | E90: Belangrijk | G90: =IF($F90="","",VLOOKUP($F90,'Invoervelden, scores'!$B$4:$C$7,2,TRUE)) | K90: {=IF($C90="","",IF($F90="","",INDEX('Invoervelden, scores'!$D$4:$G$7,'Eisen en wensen'!G90,'Eisen en wensen'!D90)))} | M90: =IF(AND(D90=4,G90=2),TRUE,FALSE) -> FALSE | N90: =IF(AND(D90=4,G90=3),TRUE,FALSE) -> FALSE
C91: 9.2 Een functioneel beheerder kan op basis van het beleid en beschikbare licenties rondom het gebruik van tools de toegang tot de didactische tools voor docenten instellen. | D91: 3 | E91: Belangrijk | G91: =IF($F91="","",VLOOKUP($F91,'Invoervelden, scores'!$B$4:$C$7,2,TRUE)) | K91: {=IF($C91="","",IF($F91="","",INDEX('Invoervelden, scores'!$D$4:$G$7,'Eisen en wensen'!G91,'Eisen en wensen'!D91)))} | M91: =IF(AND(D91=4,G91=2),TRUE,FALSE) -> FALSE | N91: =IF(AND(D91=4,G91=3),TRUE,FALSE) -> FALSE
B92: 10. Videodiensten | G92: =IF($F92="","",VLOOKUP($F92,'Invoervelden, scores'!$B$4:$C$7,2,TRUE)) | K92: {=IF($C92="","",IF($F92="","",INDEX('Invoervelden, scores'!$D$4:$G$7,'Eisen en wensen'!G92,'Eisen en wensen'!D92)))} | M92: =IF(AND(D92=4,G92=2),TRUE,FALSE) -> FALSE | N92: =IF(AND(D92=4,G92=3),TRUE,FALSE) -> FALSE
C93: 10.1 Docenten kunnen video's actief toepassen in het onderwijs. | D93: 3 | E93: Belangrijk | G93: =IF($F93="","",VLOOKUP($F93,'Invoervelden, scores'!$B$4:$C$7,2,TRUE)) | K93: {=IF($C93="","",IF($F93="","",INDEX('Invoervelden, scores'!$D$4:$G$7,'Eisen en wensen'!G93,'Eisen en wensen'!D93)))} | M93: =IF(AND(D93=4,G93=2),TRUE,FALSE) -> FALSE | N93: =IF(AND(D93=4,G93=3),TRUE,FALSE) -> FALSE
C94: 10.2 Docenten kunnen lessen/bijeenkomsten opnemen en streamen, zodat deze in het LMS bekeken kunnen worden. | D94: 3 | E94: Belangrijk | G94: =IF($F94="","",VLOOKUP($F94,'Invoervelden, scores'!$B$4:$C$7,2,TRUE)) | K94: {=IF($C94="","",IF($F94="","",INDEX('Invoervelden, scores'!$D$4:$G$7,'Eisen en wensen'!G94,'Eisen en wensen'!D94)))} | M94: =IF(AND(D94=4,G94=2),TRUE,FALSE) -> FALSE | N94: =IF(AND(D94=4,G94=3),TRUE,FALSE) -> FALSE
C95: 10.3 Een docent kan zelf bepalen wie een opname kan zien. | D95: 3 | E95: Belangrijk | G95: =IF($F95="","",VLOOKUP($F95,'Invoervelden, scores'!$B$4:$C$7,2,TRUE)) | K95: {=IF($C95="","",IF($F95="","",INDEX('Invoervelden, scores'!$D$4:$G$7,'Eisen en wensen'!G95,'Eisen en wensen'!D95)))} | M95: =IF(AND(D95=4,G95=2),TRUE,FALSE) -> FALSE | N95: =IF(AND(D95=4,G95=3),TRUE,FALSE) -> FALSE
C96: 10.4 Een docent heeft inzicht welke student de video bekeken heeft. | D96: 3 | E96: Belangrijk | G96: =IF($F96="","",VLOOKUP($F96,'Invoervelden, scores'!$B$4:$C$7,2,TRUE)) | K96: {=IF($C96="","",IF($F96="","",INDEX('Invoervelden, scores'!$D$4:$G$7,'Eisen en wensen'!G96,'Eisen en wensen'!D96)))} | M96: =IF(AND(D96=4,G96=2),TRUE,FALSE) -> FALSE | N96: =IF(AND(D96=4,G96=3),TRUE,FALSE) -> FALSE
B97: 11. Online lesgeven | G97: =IF($F97="","",VLOOKUP($F97,'Invoervelden, scores'!$B$4:$C$7,2,TRUE)) | K97: {=IF($C97="","",IF($F97="","",INDEX('Invoervelden, scores'!$D$4:$G$7,'Eisen en wensen'!G97,'Eisen en wensen'!D97)))} | M97: =IF(AND(D97=4,G97=2),TRUE,FALSE) -> FALSE | N97: =IF(AND(D97=4,G97=3),TRUE,FALSE) -> FALSE
C98: 11.1 Docenten kunnen materiaal klaar zetten voorafgaand aan een les zodat de groep zich hierop vooraf al kan voorbereiden. | D98: 4 | E98: Eis | G98: =IF($F98="","",VLOOKUP($F98,'Invoervelden, scores'!$B$4:$C$7,2,TRUE)) | K98: {=IF($C98="","",IF($F98="","",INDEX('Invoervelden, scores'!$D$4:$G$7,'Eisen en wensen'!G98,'Eisen en wensen'!D98)))} | M98: =IF(AND(D98=4,G98=2),TRUE,FALSE) -> FALSE | N98: =IF(AND(D98=4,G98=3),TRUE,FALSE) -> FALSE
C99: 11.2 Docenten en studenten kunnen tijdens de les op een digibord of “in application” een presentatie maken, bewaren en delen, zodat die later in het LMS door de studenten teruggelezen kunnen worden. | D99: 3 | E99: Belangrijk | G99: =IF($F99="","",VLOOKUP($F99,'Invoervelden, scores'!$B$4:$C$7,2,TRUE)) | K99: {=IF($C99="","",IF($F99="","",INDEX('Invoervelden, scores'!$D$4:$G$7,'Eisen en wensen'!G99,'Eisen en wensen'!D99)))} | M99: =IF(AND(D99=4,G99=2),TRUE,FALSE) -> FALSE | N99: =IF(AND(D99=4,G99=3),TRUE,FALSE) -> FALSE
C100: 11.3 Studenten krijgen plaats- en tijdonafhankelijk (ondersteuning bij) onderwijs zoals via webinars. | D100: 3 | E100: Belangrijk | G100: =IF($F100="","",VLOOKUP($F100,'Invoervelden, scores'!$B$4:$C$7,2,TRUE)) | K100: {=IF($C100="","",IF($F100="","",INDEX('Invoervelden, scores'!$D$4:$G$7,'Eisen en wensen'!G100,'Eisen en wensen'!D100)))} | M100: =IF(AND(D100=4,G100=2),TRUE,FALSE) -> FALSE | N100: =IF(AND(D100=4,G100=3),TRUE,FALSE) -> FALSE
B101: 12. Learning analytics | G101: =IF($F101="","",VLOOKUP($F101,'Invoervelden, scores'!$B$4:$C$7,2,TRUE)) | K101: {=IF($C101="","",IF($F101="","",INDEX('Invoervelden, scores'!$D$4:$G$7,'Eisen en wensen'!G101,'Eisen en wensen'!D101)))} | M101: =IF(AND(D101=4,G101=2),TRUE,FALSE) -> FALSE | N101: =IF(AND(D101=4,G101=3),TRUE,FALSE) -> FALSE
C102: 12.1 Een daartoe aangewezen KW1-medewerker is in staat om studentgedrag (individueel en groepsgewijs) in verschillende productruimtes visueel te maken en te analyseren. De Inschrijver geeft aan welk studentgedrag geanalyseerd kan worden. Te denken valt aan: uitslagen van formatieve toetsen, beoordelingen van opdrachten, afgeronde items, laatste keer ingelogd, overschreden deadlines, discussiebijdragen, aantal keren ingelogd, tijd ingelogd. | D102: 3 | E102: Belangrijk | G102: =IF($F102="","",VLOOKUP($F102,'Invoervelden, scores'!$B$4:$C$7,2,TRUE)) | K102: {=IF($C102="","",IF($F102="","",INDEX('Invoervelden, scores'!$D$4:$G$7,'Eisen en wensen'!G102,'Eisen en wensen'!D102)))} | M102: =IF(AND(D102=4,G102=2),TRUE,FALSE) -> FALSE | N102: =IF(AND(D102=4,G102=3),TRUE,FALSE) -> FALSE
C103: 12.2 Het systeem biedt mogelijkheden om metadata automatisch toe te voegen aan leermiddelen, toetsen en modules. | D103: 2 | E103: Gewenst | G103: =IF($F103="","",VLOOKUP($F103,'Invoervelden, scores'!$B$4:$C$7,2,TRUE)) | K103: {=IF($C103="","",IF($F103="","",INDEX('Invoervelden, scores'!$D$4:$G$7,'Eisen en wensen'!G103,'Eisen en wensen'!D103)))} | M103: =IF(AND(D103=4,G103=2),TRUE,FALSE) -> FALSE | N103: =IF(AND(D103=4,G103=3),TRUE,FALSE) -> FALSE
C104: 12.3 Docenten kunnen data-analyses (laten) uitvoeren die helpen bij het bepalen van de beste studie-aanpak. | D104: 3 | E104: Belangrijk | G104: =IF($F104="","",VLOOKUP($F104,'Invoervelden, scores'!$B$4:$C$7,2,TRUE)) | K104: {=IF($C104="","",IF($F104="","",INDEX('Invoervelden, scores'!$D$4:$G$7,'Eisen en wensen'!G104,'Eisen en wensen'!D104)))} | M104: =IF(AND(D104=4,G104=2),TRUE,FALSE) -> FALSE | N104: =IF(AND(D104=4,G104=3),TRUE,FALSE) -> FALSE
B105: 13. Communicatie, berichten, meldingen | G105: =IF($F105="","",VLOOKUP($F105,'Invoervelden, scores'!$B$4:$C$7,2,TRUE)) | K105: {=IF($C105="","",IF($F105="","",INDEX('Invoervelden, scores'!$D$4:$G$7,'Eisen en wensen'!G105,'Eisen en wensen'!D105)))} | M105: =IF(AND(D105=4,G105=2),TRUE,FALSE) -> FALSE | N105: =IF(AND(D105=4,G105=3),TRUE,FALSE) -> FALSE
...

Sheet xxxEisen en wensen
A2: 1 | B2: =IF(ISTEXT(H1),1,IF(ISTEXT(G2),"",IF(ISTEXT(H2),B1+1,B1))) | C2: =IF(ISTEXT(G2),"",IF(ISTEXT(H2),"",IF(ISTEXT(I2),1,C1+1))) | G2: Gebruikerservaring
A3: =IF(ISTEXT(G3),A2+1,A2) -> 1 | B3: =IF(ISTEXT(G3),"",IF(ISTEXT(G2),1,IF(ISTEXT(H3),B2+1,B2))) -> 1 | C3: =IF(ISTEXT(H3),"",IF(ISTEXT(H2),1,IF(ISTEXT(J3),C2+1,C2))) | D3: =IF(ISTEXT(J3),"",IF(ISTEXT(J2),1,IF(K3<>"",D2+1,""))) | H3: Opleiding ontwerpen en ontwikkelen
A4: =IF(ISTEXT(G4),A3+1,A3) -> 1 | B4: =IF(ISTEXT(G4),"",IF(ISTEXT(G3),1,IF(ISTEXT(H4),B3+1,B3))) -> 1 | C4: =IF(ISTEXT(H4),"",IF(ISTEXT(H3),1,IF(ISTEXT(J4),C3+1,C3))) -> 1 | D4: =IF(ISTEXT(J4),"",IF(ISTEXT(J3),1,IF(K4<>"",D3+1,""))) | I4: Opstellen onderwijsplan | J4: Curriculumontwikkeling | K4: =IF(OR(OR(ISTEXT(H4),ISTEXT(H4)),OR(ISTEXT(I4),ISTEXT(J4))),"","Eis/Wens")
A5: =IF(ISTEXT(G5),A4+1,A4) -> 1 | B5: =IF(ISTEXT(G5),"",IF(ISTEXT(G4),1,IF(ISTEXT(H5),B4+1,B4))) -> 1 | C5: =IF(ISTEXT(H5),"",IF(ISTEXT(H4),1,IF(ISTEXT(J5),C4+1,C4))) -> 1 | D5: =IF(ISTEXT(J5),"",IF(ISTEXT(J4),1,IF(K5<>"",D4+1,""))) -> 1 | K5: =IF(OR(OR(ISTEXT(H5),ISTEXT(H5)),OR(ISTEXT(I5),ISTEXT(J5))),"","Eis/Wens") -> Eis/Wens
A6: =IF(ISTEXT(G6),A5+1,A5) -> 1 | B6: =IF(ISTEXT(G6),"",IF(ISTEXT(G5),1,IF(ISTEXT(H6),B5+1,B5))) -> 1 | C6: =IF(ISTEXT(H6),"",IF(ISTEXT(H5),1,IF(ISTEXT(J6),C5+1,C5))) -> 1 | D6: =IF(ISTEXT(J6),"",IF(ISTEXT(J5),1,IF(K6<>"",D5+1,""))) -> 2 | K6: =IF(OR(OR(ISTEXT(H6),ISTEXT(H6)),OR(ISTEXT(I6),ISTEXT(J6))),"","Eis/Wens") -> Eis/Wens
A7: =IF(ISTEXT(G7),A6+1,A6) -> 1 | B7: =IF(ISTEXT(G7),"",IF(ISTEXT(G6),1,IF(ISTEXT(H7),B6+1,B6))) -> 1 | C7: =IF(ISTEXT(H7),"",IF(ISTEXT(H6),1,IF(ISTEXT(J7),C6+1,C6))) -> 2 | D7: =IF(ISTEXT(J7),"",IF(ISTEXT(J6),1,IF(K7<>"",D6+1,""))) | I7: Beheren formatieve resultaatstructuur | J7: Formatieve resultatenbeheer | K7: =IF(OR(OR(ISTEXT(H7),ISTEXT(H7)),OR(ISTEXT(I7),ISTEXT(J7))),"","Eis/Wens")
A8: =IF(ISTEXT(G8),A7+1,A7) -> 1 | B8: =IF(ISTEXT(G8),"",IF(ISTEXT(G7),1,IF(ISTEXT(H8),B7+1,B7))) -> 1 | C8: =IF(ISTEXT(H8),"",IF(ISTEXT(H7),1,IF(ISTEXT(J8),C7+1,C7))) -> 2 | D8: =IF(ISTEXT(J8),"",IF(ISTEXT(J7),1,IF(K8<>"",D7+1,""))) -> 1 | K8: =IF(OR(OR(ISTEXT(H8),ISTEXT(H8)),OR(ISTEXT(I8),ISTEXT(J8))),"","Eis/Wens") -> Eis/Wens
A9: =IF(ISTEXT(G9),A8+1,A8) -> 1 | B9: =IF(ISTEXT(G9),"",IF(ISTEXT(G8),1,IF(ISTEXT(H9),B8+1,B8))) -> 1 | C9: =IF(ISTEXT(H9),"",IF(ISTEXT(H8),1,IF(ISTEXT(J9),C8+1,C8))) -> 2 | D9: =IF(ISTEXT(J9),"",IF(ISTEXT(J8),1,IF(K9<>"",D8+1,""))) -> 2 | K9: =IF(OR(OR(ISTEXT(H9),ISTEXT(H9)),OR(ISTEXT(I9),ISTEXT(J9))),"","Eis/Wens") -> Eis/Wens
A10: =IF(ISTEXT(G10),A9+1,A9) -> 1 | B10: =IF(ISTEXT(G10),"",IF(ISTEXT(G9),1,IF(ISTEXT(H10),B9+1,B9))) -> 1 | C10: =IF(ISTEXT(H10),"",IF(ISTEXT(H9),1,IF(ISTEXT(J10),C9+1,C9))) -> 3 | D10: =IF(ISTEXT(J10),"",IF(ISTEXT(J9),1,IF(K10<>"",D9+1,""))) | I10: Definiëren onderwijsproduct | J10: Onderwijscatalogus | K10: =IF(OR(OR(ISTEXT(H10),ISTEXT(H10)),OR(ISTEXT(I10),ISTEXT(J10))),"","Eis/Wens")
A11: =IF(ISTEXT(G11),A10+1,A10) -> 1 | B11: =IF(ISTEXT(G11),"",IF(ISTEXT(G10),1,IF(ISTEXT(H11),B10+1,B10))) -> 1 | C11: =IF(ISTEXT(H11),"",IF(ISTEXT(H10),1,IF(ISTEXT(J11),C10+1,C10))) -> 3 | D11: =IF(ISTEXT(J11),"",IF(ISTEXT(J10),1,IF(K11<>"",D10+1,""))) -> 1 | K11: =IF(OR(OR(ISTEXT(H11),ISTEXT(H11)),OR(ISTEXT(I11),ISTEXT(J11))),"","Eis/Wens") -> Eis/Wens
A12: =IF(ISTEXT(G12),A11+1,A11) -> 1 | B12: =IF(ISTEXT(G12),"",IF(ISTEXT(G11),1,IF(ISTEXT(H12),B11+1,B11))) -> 1 | C12: =IF(ISTEXT(H12),"",IF(ISTEXT(H11),1,IF(ISTEXT(J12),C11+1,C11))) -> 3 | D12: =IF(ISTEXT(J12),"",IF(ISTEXT(J11),1,IF(K12<>"",D11+1,""))) -> 2 | K12: =IF(OR(OR(ISTEXT(H12),ISTEXT(H12)),OR(ISTEXT(I12),ISTEXT(J12))),"","Eis/Wens") -> Eis/Wens
A13: =IF(ISTEXT(G13),A12+1,A12) -> 1 | B13: =IF(ISTEXT(G13),"",IF(ISTEXT(G12),1,IF(ISTEXT(H13),B12+1,B12))) -> 2 | C13: =IF(ISTEXT(H13),"",IF(ISTEXT(H12),1,IF(ISTEXT(J13),C12+1,C12))) | D13: =IF(ISTEXT(J13),"",IF(ISTEXT(J12),1,IF(K13<>"",D12+1,""))) | H13: Leermiddelen | K13: =IF(OR(OR(ISTEXT(H13),ISTEXT(H13)),OR(ISTEXT(I13),ISTEXT(J13))),"","Eis/Wens")
A14: =IF(ISTEXT(G14),A13+1,A13) -> 1 | B14: =IF(ISTEXT(G14),"",IF(ISTEXT(G13),1,IF(ISTEXT(H14),B13+1,B13))) -> 2 | C14: =IF(ISTEXT(H14),"",IF(ISTEXT(H13),1,IF(ISTEXT(J14),C13+1,C13))) -> 1 | D14: =IF(ISTEXT(J14),"",IF(ISTEXT(J13),1,IF(K14<>"",D13+1,""))) | I14: Verwerven leermiddelen | J14: Studieroutebeheer | K14: =IF(OR(OR(ISTEXT(H14),ISTEXT(H14)),OR(ISTEXT(I14),ISTEXT(J14))),"","Eis/Wens")
A15: =IF(ISTEXT(G15),A14+1,A14) -> 1 | B15: =IF(ISTEXT(G15),"",IF(ISTEXT(G14),1,IF(ISTEXT(H15),B14+1,B14))) -> 2 | C15: =IF(ISTEXT(H15),"",IF(ISTEXT(H14),1,IF(ISTEXT(J15),C14+1,C14))) -> 1 | D15: =IF(ISTEXT(J15),"",IF(ISTEXT(J14),1,IF(K15<>"",D14+1,""))) -> 1 | K15: =IF(OR(OR(ISTEXT(H15),ISTEXT(H15)),OR(ISTEXT(I15),ISTEXT(J15))),"","Eis/Wens") -> Eis/Wens
A16: =IF(ISTEXT(G16),A15+1,A15) -> 1 | B16: =IF(ISTEXT(G16),"",IF(ISTEXT(G15),1,IF(ISTEXT(H16),B15+1,B15))) -> 2 | C16: =IF(ISTEXT(H16),"",IF(ISTEXT(H15),1,IF(ISTEXT(J16),C15+1,C15))) -> 2 | D16: =IF(ISTEXT(J16),"",IF(ISTEXT(J15),1,IF(K16<>"",D15+1,""))) | J16: Ontsluiten / beschikbaar stellen online leermiddelen, ECK | K16: =IF(OR(OR(ISTEXT(H16),ISTEXT(H16)),OR(ISTEXT(I16),ISTEXT(J16))),"","Eis/Wens")
A17: =IF(ISTEXT(G17),A16+1,A16) -> 1 | B17: =IF(ISTEXT(G17),"",IF(ISTEXT(G16),1,IF(ISTEXT(H17),B16+1,B16))) -> 2 | C17: =IF(ISTEXT(H17),"",IF(ISTEXT(H16),1,IF(ISTEXT(J17),C16+1,C16))) -> 2 | D17: =IF(ISTEXT(J17),"",IF(ISTEXT(J16),1,IF(K17<>"",D16+1,""))) -> 1 | K17: =IF(OR(OR(ISTEXT(H17),ISTEXT(H17)),OR(ISTEXT(I17),ISTEXT(J17))),"","Eis/Wens") -> Eis/Wens
A18: =IF(ISTEXT(G18),A17+1,A17) -> 1 | B18: =IF(ISTEXT(G18),"",IF(ISTEXT(G17),1,IF(ISTEXT(H18),B17+1,B17))) -> 2 | C18: =IF(ISTEXT(H18),"",IF(ISTEXT(H17),1,IF(ISTEXT(J18),C17+1,C17))) -> 2 | D18: =IF(ISTEXT(J18),"",IF(ISTEXT(J17),1,IF(K18<>"",D17+1,""))) | I18: Ontwikkelen leermiddelen | K18: =IF(OR(OR(ISTEXT(H18),ISTEXT(H18)),OR(ISTEXT(I18),ISTEXT(J18))),"","Eis/Wens")
A19: =IF(ISTEXT(G19),A18+1,A18) -> 1 | B19: =IF(ISTEXT(G19),"",IF(ISTEXT(G18),1,IF(ISTEXT(H19),B18+1,B18))) -> 2 | C19: =IF(ISTEXT(H19),"",IF(ISTEXT(H18),1,IF(ISTEXT(J19),C18+1,C18))) -> 3 | D19: =IF(ISTEXT(J19),"",IF(ISTEXT(J18),1,IF(K19<>"",D18+1,""))) | J19: Leercontent ontwikkel service | K19: =IF(OR(OR(ISTEXT(H19),ISTEXT(H19)),OR(ISTEXT(I19),ISTEXT(J19))),"","Eis/Wens")
A20: =IF(ISTEXT(G20),A19+1,A19) -> 1 | B20: =IF(ISTEXT(G20),"",IF(ISTEXT(G19),1,IF(ISTEXT(H20),B19+1,B19))) -> 2 | C20: =IF(ISTEXT(H20),"",IF(ISTEXT(H19),1,IF(ISTEXT(J20),C19+1,C19))) -> 3 | D20: =IF(ISTEXT(J20),"",IF(ISTEXT(J19),1,IF(K20<>"",D19+1,""))) -> 1 | K20: =IF(OR(OR(ISTEXT(H20),ISTEXT(H20)),OR(ISTEXT(I20),ISTEXT(J20))),"","Eis/Wens") -> Eis/Wens
A21: =IF(ISTEXT(G21),A20+1,A20) -> 1 | B21: =IF(ISTEXT(G21),"",IF(ISTEXT(G20),1,IF(ISTEXT(H21),B20+1,B20))) -> 2 | C21: =IF(ISTEXT(H21),"",IF(ISTEXT(H20),1,IF(ISTEXT(J21),C20+1,C20))) -> 3 | D21: =IF(ISTEXT(J21),"",IF(ISTEXT(J20),1,IF(K21<>"",D20+1,""))) -> 2 | K21: =IF(OR(OR(ISTEXT(H21),ISTEXT(H21)),OR(ISTEXT(I21),ISTEXT(J21))),"","Eis/Wens") -> Eis/Wens
A22: =IF(ISTEXT(G22),A21+1,A21) -> 1 | B22: =IF(ISTEXT(G22),"",IF(ISTEXT(G21),1,IF(ISTEXT(H22),B21+1,B21))) -> 2 | C22: =IF(ISTEXT(H22),"",IF(ISTEXT(H21),1,IF(ISTEXT(J22),C21+1,C21))) -> 3 | D22: =IF(ISTEXT(J22),"",IF(ISTEXT(J21),1,IF(K22<>"",D21+1,""))) -> 3 | K22: =IF(OR(OR(ISTEXT(H22),ISTEXT(H22)),OR(ISTEXT(I22),ISTEXT(J22))),"","Eis/Wens") -> Eis/Wens
A23: =IF(ISTEXT(G23),A22+1,A22) -> 1 | B23: =IF(ISTEXT(G23),"",IF(ISTEXT(G22),1,IF(ISTEXT(H23),B22+1,B22))) -> 2 | C23: =IF(ISTEXT(H23),"",IF(ISTEXT(H22),1,IF(ISTEXT(J23),C22+1,C22))) -> 4 | D23: =IF(ISTEXT(J23),"",IF(ISTEXT(J22),1,IF(K23<>"",D22+1,""))) | J23: Importservice digitale leermiddelen | K23: =IF(OR(OR(ISTEXT(H23),ISTEXT(H23)),OR(ISTEXT(I23),ISTEXT(J23))),"","Eis/Wens")
A24: =IF(ISTEXT(G24),A23+1,A23) -> 1 | B24: =IF(ISTEXT(G24),"",IF(ISTEXT(G23),1,IF(ISTEXT(H24),B23+1,B23))) -> 2 | C24: =IF(ISTEXT(H24),"",IF(ISTEXT(H23),1,IF(ISTEXT(J24),C23+1,C23))) -> 4 | D24: =IF(ISTEXT(J24),"",IF(ISTEXT(J23),1,IF(K24<>"",D23+1,""))) -> 1 | K24: =IF(OR(OR(ISTEXT(H24),ISTEXT(H24)),OR(ISTEXT(I24),ISTEXT(J24))),"","Eis/Wens") -> Eis/Wens
A25: =IF(ISTEXT(G25),A24+1,A24) -> 1 | B25: =IF(ISTEXT(G25),"",IF(ISTEXT(G24),1,IF(ISTEXT(H25),B24+1,B24))) -> 2 | C25: =IF(ISTEXT(H25),"",IF(ISTEXT(H24),1,IF(ISTEXT(J25),C24+1,C24))) -> 4 | D25: =IF(ISTEXT(J25),"",IF(ISTEXT(J24),1,IF(K25<>"",D24+1,""))) -> 2 | K25: =IF(OR(OR(ISTEXT(H25),ISTEXT(H25)),OR(ISTEXT(I25),ISTEXT(J25))),"","Eis/Wens") -> Eis/Wens
A26: =IF(ISTEXT(G26),A25+1,A25) -> 2 | B26: =IF(ISTEXT(G26),"",IF(ISTEXT(G25),1,IF(ISTEXT(H26),B25+1,B25))) | C26: =IF(ISTEXT(H26),"",IF(ISTEXT(H25),1,IF(ISTEXT(J26),C25+1,C25))) -> 4 | D26: =IF(ISTEXT(J26),"",IF(ISTEXT(J25),1,IF(K26<>"",D25+1,""))) -> 3 | G26: Verzorgen onderwijs | K26: =IF(OR(OR(ISTEXT(H26),ISTEXT(H26)),OR(ISTEXT(I26),ISTEXT(J26))),"","Eis/Wens") -> Eis/Wens
A27: =IF(ISTEXT(G27),A26+1,A26) -> 2 | B27: =IF(ISTEXT(G27),"",IF(ISTEXT(G26),1,IF(ISTEXT(H27),B26+1,B26))) -> 1 | C27: =IF(ISTEXT(H27),"",IF(ISTEXT(H26),1,IF(ISTEXT(J27),C26+1,C26))) | D27: =IF(ISTEXT(J27),"",IF(ISTEXT(J26),1,IF(K27<>"",D26+1,""))) | H27: Voorbereiden onderwijs | K27: =IF(OR(OR(ISTEXT(H27),ISTEXT(H27)),OR(ISTEXT(I27),ISTEXT(J27))),"","Eis/Wens")
A28: =IF(ISTEXT(G28),A27+1,A27) -> 2 | B28: =IF(ISTEXT(G28),"",IF(ISTEXT(G27),1,IF(ISTEXT(H28),B27+1,B27))) -> 1 | C28: =IF(ISTEXT(H28),"",IF(ISTEXT(H27),1,IF(ISTEXT(J28),C27+1,C27))) -> 1 | D28: =IF(ISTEXT(J28),"",IF(ISTEXT(J27),1,IF(K28<>"",D27+1,""))) | I28: Toepassen externe leermiddelen | J28: x | K28: =IF(OR(OR(ISTEXT(H28),ISTEXT(H28)),OR(ISTEXT(I28),ISTEXT(J28))),"","Eis/Wens")
A29: =IF(ISTEXT(G29),A28+1,A28) -> 2 | B29: =IF(ISTEXT(G29),"",IF(ISTEXT(G28),1,IF(ISTEXT(H29),B28+1,B28))) -> 1 | C29: =IF(ISTEXT(H29),"",IF(ISTEXT(H28),1,IF(ISTEXT(J29),C28+1,C28))) -> 1 | D29: =IF(ISTEXT(J29),"",IF(ISTEXT(J28),1,IF(K29<>"",D28+1,""))) -> 1 | K29: =IF(OR(OR(ISTEXT(H29),ISTEXT(H29)),OR(ISTEXT(I29),ISTEXT(J29))),"","Eis/Wens") -> Eis/Wens
A30: =IF(ISTEXT(G30),A29+1,A29) -> 2 | B30: =IF(ISTEXT(G30),"",IF(ISTEXT(G29),1,IF(ISTEXT(H30),B29+1,B29))) -> 1 | C30: =IF(ISTEXT(H30),"",IF(ISTEXT(H29),1,IF(ISTEXT(J30),C29+1,C29))) -> 1 | D30: =IF(ISTEXT(J30),"",IF(ISTEXT(J29),1,IF(K30<>"",D29+1,""))) -> 2 | K30: =IF(OR(OR(ISTEXT(H30),ISTEXT(H30)),OR(ISTEXT(I30),ISTEXT(J30))),"","Eis/Wens") -> Eis/Wens
A31: =IF(ISTEXT(G31),A30+1,A30) -> 2 | B31: =IF(ISTEXT(G31),"",IF(ISTEXT(G30),1,IF(ISTEXT(H31),B30+1,B30))) -> 2 | C31: =IF(ISTEXT(H31),"",IF(ISTEXT(H30),1,IF(ISTEXT(J31),C30+1,C30))) | D31: =IF(ISTEXT(J31),"",IF(ISTEXT(J30),1,IF(K31<>"",D30+1,""))) | H31: Uitvoeren | K31: =IF(OR(OR(ISTEXT(H31),ISTEXT(H31)),OR(ISTEXT(I31),ISTEXT(J31))),"","Eis/Wens")
A32: =IF(ISTEXT(G32),A31+1,A31) -> 2 | B32: =IF(ISTEXT(G32),"",IF(ISTEXT(G31),1,IF(ISTEXT(H32),B31+1,B31))) -> 2 | C32: =IF(ISTEXT(H32),"",IF(ISTEXT(H31),1,IF(ISTEXT(J32),C31+1,C31))) -> 1 | D32: =IF(ISTEXT(J32),"",IF(ISTEXT(J31),1,IF(K32<>"",D31+1,""))) | I32: Voorbereiden en nazorg onderwijs | J32: Samenstellen groepen | K32: =IF(OR(OR(ISTEXT(H32),ISTEXT(H32)),OR(ISTEXT(I32),ISTEXT(J32))),"","Eis/Wens")
A33: =IF(ISTEXT(G33),A32+1,A32) -> 2 | B33: =IF(ISTEXT(G33),"",IF(ISTEXT(G32),1,IF(ISTEXT(H33),B32+1,B32))) -> 2 | C33: =IF(ISTEXT(H33),"",IF(ISTEXT(H32),1,IF(ISTEXT(J33),C32+1,C32))) -> 1 | D33: =IF(ISTEXT(J33),"",IF(ISTEXT(J32),1,IF(K33<>"",D32+1,""))) -> 1 | K33: =IF(OR(OR(ISTEXT(H33),ISTEXT(H33)),OR(ISTEXT(I33),ISTEXT(J33))),"","Eis/Wens") -> Eis/Wens
A34: =IF(ISTEXT(G34),A33+1,A33) -> 2 | B34: =IF(ISTEXT(G34),"",IF(ISTEXT(G33),1,IF(ISTEXT(H34),B33+1,B33))) -> 2 | C34: =IF(ISTEXT(H34),"",IF(ISTEXT(H33),1,IF(ISTEXT(J34),C33+1,C33))) -> 1 | D34: =IF(ISTEXT(J34),"",IF(ISTEXT(J33),1,IF(K34<>"",D33+1,""))) -> 2 | K34: =IF(OR(OR(ISTEXT(H34),ISTEXT(H34)),OR(ISTEXT(I34),ISTEXT(J34))),"","Eis/Wens") -> Eis/Wens
A35: =IF(ISTEXT(G35),A34+1,A34) -> 2 | B35: =IF(ISTEXT(G35),"",IF(ISTEXT(G34),1,IF(ISTEXT(H35),B34+1,B34))) -> 2 | C35: =IF(ISTEXT(H35),"",IF(ISTEXT(H34),1,IF(ISTEXT(J35),C34+1,C34))) -> 2 | D35: =IF(ISTEXT(J35),"",IF(ISTEXT(J34),1,IF(K35<>"",D34+1,""))) | I35: Inzetten leermiddelen | J35: Koppeling naar didactische online tools | K35: =IF(OR(OR(ISTEXT(H35),ISTEXT(H35)),OR(ISTEXT(I35),ISTEXT(J35))),"","Eis/Wens")
A36: =IF(ISTEXT(G36),A35+1,A35) -> 2 | B36: =IF(ISTEXT(G36),"",IF(ISTEXT(G35),1,IF(ISTEXT(H36),B35+1,B35))) -> 2 | C36: =IF(ISTEXT(H36),"",IF(ISTEXT(H35),1,IF(ISTEXT(J36),C35+1,C35))) -> 2 | D36: =IF(ISTEXT(J36),"",IF(ISTEXT(J35),1,IF(K36<>"",D35+1,""))) -> 1 | K36: =IF(OR(OR(ISTEXT(H36),ISTEXT(H36)),OR(ISTEXT(I36),ISTEXT(J36))),"","Eis/Wens") -> Eis/Wens
A37: =IF(ISTEXT(G43),A36+1,A36) -> 2 | B37: =IF(ISTEXT(G43),"",IF(ISTEXT(G42),1,IF(ISTEXT(H44),B36+1,B36))) -> 3 | C37: =IF(ISTEXT(H37),"",IF(ISTEXT(H36),1,IF(ISTEXT(J37),C36+1,C36))) -> 2 | D37: =IF(ISTEXT(J37),"",IF(ISTEXT(J36),1,IF(K37<>"",D36+1,""))) -> 2 | K37: =IF(OR(OR(ISTEXT(H37),ISTEXT(H37)),OR(ISTEXT(I37),ISTEXT(J37))),"","Eis/Wens") -> Eis/Wens
A38: =IF(ISTEXT(G44),A37+1,A37) -> 2 | B38: =IF(ISTEXT(G44),"",IF(ISTEXT(G43),1,IF(ISTEXT(H45),B37+1,B37))) -> 3 | C38: =IF(ISTEXT(H38),"",IF(ISTEXT(H37),1,IF(ISTEXT(J38),C37+1,C37))) -> 3 | D38: =IF(ISTEXT(J38),"",IF(ISTEXT(J37),1,IF(K38<>"",D37+1,""))) | J38: Videodiensten | K38: =IF(OR(OR(ISTEXT(H38),ISTEXT(H38)),OR(ISTEXT(I38),ISTEXT(J38))),"","Eis/Wens")
A39: =IF(ISTEXT(G45),A38+1,A38) -> 2 | B39: =IF(ISTEXT(G45),"",IF(ISTEXT(G44),1,IF(ISTEXT(H46),B38+1,B38))) -> 3 | C39: =IF(ISTEXT(H39),"",IF(ISTEXT(H38),1,IF(ISTEXT(J39),C38+1,C38))) | D39: =IF(ISTEXT(J39),"",IF(ISTEXT(J38),1,IF(K39<>"",D38+1,""))) -> 1 | H39: Formatief toetsen | K39: =IF(OR(OR(ISTEXT(H39),ISTEXT(H39)),OR(ISTEXT(I39),ISTEXT(J39))),"","Eis/Wens")
A40: =IF(ISTEXT(G46),A39+1,A39) -> 2 | B40: =IF(ISTEXT(G46),"",IF(ISTEXT(G45),1,IF(ISTEXT(H47),B39+1,B39))) -> 3 | C40: =IF(ISTEXT(H40),"",IF(ISTEXT(H39),1,IF(ISTEXT(J40),C39+1,C39))) -> 1 | D40: =IF(ISTEXT(J40),"",IF(ISTEXT(J39),1,IF(K40<>"",D39+1,""))) | I40: Uitvoeren onderwijsactiviteiten | J40: Presenteren | K40: =IF(OR(OR(ISTEXT(H40),ISTEXT(H40)),OR(ISTEXT(I40),ISTEXT(J40))),"","Eis/Wens")
A41: =IF(ISTEXT(G47),A40+1,A40) -> 2 | B41: =IF(ISTEXT(G47),"",IF(ISTEXT(G46),1,IF(ISTEXT(H48),B40+1,B40))) -> 3 | C41: =IF(ISTEXT(H41),"",IF(ISTEXT(H40),1,IF(ISTEXT(J41),C40+1,C40))) -> 1 | D41: =IF(ISTEXT(J41),"",IF(ISTEXT(J40),1,IF(K41<>"",D40+1,""))) -> 1 | K41: =IF(OR(OR(ISTEXT(H41),ISTEXT(H41)),OR(ISTEXT(I41),ISTEXT(J41))),"","Eis/Wens") -> Eis/Wens
A42: =IF(ISTEXT(G48),A41+1,A41) -> 2 | B42: =IF(ISTEXT(G48),"",IF(ISTEXT(G47),1,IF(ISTEXT(H49),B41+1,B41))) -> 3 | C42: =IF(ISTEXT(H42),"",IF(ISTEXT(H41),1,IF(ISTEXT(J42),C41+1,C41))) -> 1 | D42: =IF(ISTEXT(J42),"",IF(ISTEXT(J41),1,IF(K42<>"",D41+1,""))) -> 2 | K42: =IF(OR(OR(ISTEXT(H42),ISTEXT(H42)),OR(ISTEXT(I42),ISTEXT(J42))),"","Eis/Wens") -> Eis/Wens
A43: =IF(ISTEXT(G49),A42+1,A42) -> 2 | B43: =IF(ISTEXT(G49),"",IF(ISTEXT(G48),1,IF(ISTEXT(H50),B42+1,B42))) -> 3 | C43: =IF(ISTEXT(H43),"",IF(ISTEXT(H42),1,IF(ISTEXT(J43),C42+1,C42))) -> 2 | D43: =IF(ISTEXT(J43),"",IF(ISTEXT(J42),1,IF(K43<>"",D42+1,""))) | I43: Monitoren effectiviteit onderwijsactiviteiten | J43: Learning analytics | K43: =IF(OR(OR(ISTEXT(H43),ISTEXT(H43)),OR(ISTEXT(I43),ISTEXT(J43))),"","Eis/Wens")
A44: =IF(ISTEXT(G50),A43+1,A43) -> 3 | B44: =IF(ISTEXT(G50),"",IF(ISTEXT(G49),1,IF(ISTEXT(H51),B43+1,B43))) | C44: =IF(ISTEXT(H44),"",IF(ISTEXT(H43),1,IF(ISTEXT(J44),C43+1,C43))) | D44: =IF(ISTEXT(J44),"",IF(ISTEXT(J43),1,IF(K44<>"",D43+1,""))) -> 1 | H44: Uitvoeren leertaken | K44: =IF(OR(OR(ISTEXT(H44),ISTEXT(H44)),OR(ISTEXT(I44),ISTEXT(J44))),"","Eis/Wens")
A45: =IF(ISTEXT(G51),A44+1,A44) -> 3 | B45: =IF(ISTEXT(G51),"",IF(ISTEXT(G50),1,IF(ISTEXT(H52),B44+1,B44))) -> 1 | C45: =IF(ISTEXT(H45),"",IF(ISTEXT(H44),1,IF(ISTEXT(J45),C44+1,C44))) -> 1 | D45: =IF(ISTEXT(J45),"",IF(ISTEXT(J44),1,IF(K45<>"",D44+1,""))) | I45: Communicatie en samenwerking | J45: Berichten, meldingen | K45: =IF(OR(OR(ISTEXT(H45),ISTEXT(H45)),OR(ISTEXT(I45),ISTEXT(J45))),"","Eis/Wens")
A46: =IF(ISTEXT(G52),A45+1,A45) -> 3 | B46: =IF(ISTEXT(G52),"",IF(ISTEXT(G51),1,IF(ISTEXT(H53),B45+1,B45))) -> 1 | C46: =IF(ISTEXT(H46),"",IF(ISTEXT(H45),1,IF(ISTEXT(J46),C45+1,C45))) -> 1 | D46: =IF(ISTEXT(J46),"",IF(ISTEXT(J45),1,IF(K46<>"",D45+1,""))) -> 1 | K46: =IF(OR(OR(ISTEXT(H46),ISTEXT(H46)),OR(ISTEXT(I46),ISTEXT(J46))),"","Eis/Wens") -> Eis/Wens
A47: =IF(ISTEXT(G53),A46+1,A46) -> 3 | B47: =IF(ISTEXT(G53),"",IF(ISTEXT(G52),1,IF(ISTEXT(H54),B46+1,B46))) -> 1 | C47: =IF(ISTEXT(H47),"",IF(ISTEXT(H46),1,IF(ISTEXT(J47),C46+1,C46))) -> 1 | D47: =IF(ISTEXT(J47),"",IF(ISTEXT(J46),1,IF(K47<>"",D46+1,""))) -> 2 | K47: =IF(OR(OR(ISTEXT(H47),ISTEXT(H47)),OR(ISTEXT(I47),ISTEXT(J47))),"","Eis/Wens") -> Eis/Wens
A48: =IF(ISTEXT(G54),A47+1,A47) -> 3 | B48: =IF(ISTEXT(G54),"",IF(ISTEXT(G53),1,IF(ISTEXT(H55),B47+1,B47))) -> 1 | C48: =IF(ISTEXT(H48),"",IF(ISTEXT(H47),1,IF(ISTEXT(J48),C47+1,C47))) -> 2 | D48: =IF(ISTEXT(J48),"",IF(ISTEXT(J47),1,IF(K48<>"",D47+1,""))) | I48: Formatief toetsen | J48: Digitale toetsomgeving | K48: =IF(OR(OR(ISTEXT(H48),ISTEXT(H48)),OR(ISTEXT(I48),ISTEXT(J48))),"","Eis/Wens")
A49: =IF(ISTEXT(G55),A48+1,A48) -> 3 | B49: =IF(ISTEXT(G55),"",IF(ISTEXT(G54),1,IF(ISTEXT(H56),B48+1,B48))) -> 1 | C49: =IF(ISTEXT(H49),"",IF(ISTEXT(H48),1,IF(ISTEXT(J49),C48+1,C48))) -> 2 | D49: =IF(ISTEXT(J49),"",IF(ISTEXT(J48),1,IF(K49<>"",D48+1,""))) -> 1 | K49: =IF(OR(OR(ISTEXT(H49),ISTEXT(H49)),OR(ISTEXT(I49),ISTEXT(J49))),"","Eis/Wens") -> Eis/Wens
A50: =IF(ISTEXT(G56),A49+1,A49) -> 3 | B50: =IF(ISTEXT(G56),"",IF(ISTEXT(G55),1,IF(ISTEXT(H57),B49+1,B49))) -> 1 | C50: =IF(ISTEXT(H50),"",IF(ISTEXT(H49),1,IF(ISTEXT(J50),C49+1,C49))) -> 2 | D50: =IF(ISTEXT(J50),"",IF(ISTEXT(J49),1,IF(K50<>"",D49+1,""))) -> 2 | G50: Leertaken uitvoeren | K50: =IF(OR(OR(ISTEXT(H50),ISTEXT(H50)),OR(ISTEXT(I50),ISTEXT(J50))),"","Eis/Wens") -> Eis/Wens
A51: =IF(ISTEXT(G57),A50+1,A50) -> 3 | B51: =IF(ISTEXT(G57),"",IF(ISTEXT(G56),1,IF(ISTEXT(H58),B50+1,B50))) -> 1 | C51: =IF(ISTEXT(H51),"",IF(ISTEXT(H50),1,IF(ISTEXT(J51),C50+1,C50))) -> 2 | D51: =IF(ISTEXT(J51),"",IF(ISTEXT(J50),1,IF(K51<>"",D50+1,""))) -> 3 | K51: =IF(OR(OR(ISTEXT(H51),ISTEXT(H51)),OR(ISTEXT(I51),ISTEXT(J51))),"","Eis/Wens") -> Eis/Wens
A52: =IF(ISTEXT(G58),A51+1,A51) -> 3 | B52: =IF(ISTEXT(G58),"",IF(ISTEXT(G57),1,IF(ISTEXT(H59),B51+1,B51))) -> 1 | C52: =IF(ISTEXT(H52),"",IF(ISTEXT(H51),1,IF(ISTEXT(J52),C51+1,C51))) | D52: =IF(ISTEXT(J52),"",IF(ISTEXT(J51),1,IF(K52<>"",D51+1,""))) | H52: Aanmelden leeractiviteiten | K52: =IF(OR(OR(ISTEXT(H52),ISTEXT(H52)),OR(ISTEXT(I52),ISTEXT(J52))),"","Eis/Wens")
A53: =IF(ISTEXT(G59),A52+1,A52) -> 3 | B53: =IF(ISTEXT(G59),"",IF(ISTEXT(G58),1,IF(ISTEXT(H60),B52+1,B52))) -> 1 | C53: =IF(ISTEXT(H53),"",IF(ISTEXT(H52),1,IF(ISTEXT(J53),C52+1,C52))) -> 1 | D53: =IF(ISTEXT(J53),"",IF(ISTEXT(J52),1,IF(K53<>"",D52+1,""))) | I53: Aanmelden voor roosteractiviteiten | J53: Aanmelden voor roosteractiviteiten | K53: =IF(OR(OR(ISTEXT(H53),ISTEXT(H53)),OR(ISTEXT(I53),ISTEXT(J53))),"","Eis/Wens")
A54: =IF(ISTEXT(G60),A53+1,A53) -> 3 | B54: =IF(ISTEXT(G60),"",IF(ISTEXT(G59),1,IF(ISTEXT(H61),B53+1,B53))) -> 1 | C54: =IF(ISTEXT(H54),"",IF(ISTEXT(H53),1,IF(ISTEXT(J54),C53+1,C53))) -> 2 | D54: =IF(ISTEXT(J54),"",IF(ISTEXT(J53),1,IF(K54<>"",D53+1,""))) | I54: Aanmelden keuzedelen | J54: X | K54: =IF(OR(OR(ISTEXT(H54),ISTEXT(H54)),OR(ISTEXT(I54),ISTEXT(J54))),"","Eis/Wens")
A55: =IF(ISTEXT(G62),A54+1,A54) -> 4 | B55: =IF(ISTEXT(G62),"",IF(ISTEXT(G60),1,IF(ISTEXT(H62),B54+1,B54))) | C55: =IF(ISTEXT(H55),"",IF(ISTEXT(H54),1,IF(ISTEXT(J55),C54+1,C54))) -> 3 | D55: =IF(ISTEXT(J55),"",IF(ISTEXT(J54),1,IF(K55<>"",D54+1,""))) | I55: Aanmelden onderwijsproduct | J55: X | K55: =IF(OR(OR(ISTEXT(H55),ISTEXT(H55)),OR(ISTEXT(I55),ISTEXT(J55))),"","Eis/Wens")
A56: =IF(ISTEXT(#REF!),A55+1,A55) -> 4 | B56: =IF(ISTEXT(#REF!),"",IF(ISTEXT(G62),1,IF(ISTEXT(H63),B55+1,B55))) -> 1 | C56: =IF(ISTEXT(H56),"",IF(ISTEXT(H55),1,IF(ISTEXT(J56),C55+1,C55))) -> 4 | D56: =IF(ISTEXT(J56),"",IF(ISTEXT(J55),1,IF(K56<>"",D55+1,""))) | I56: Uitvoeren leertaken | J56: Dashboard studentinformatie (student) | K56: =IF(OR(OR(ISTEXT(H56),ISTEXT(H56)),OR(ISTEXT(I56),ISTEXT(J56))),"","Eis/Wens")
A57: =IF(ISTEXT(G63),A56+1,A56) -> 4 | B57: =IF(ISTEXT(G63),"",IF(ISTEXT(#REF!),1,IF(ISTEXT(H64),B56+1,B56))) -> 1 | C57: =IF(ISTEXT(H57),"",IF(ISTEXT(H56),1,IF(ISTEXT(J57),C56+1,C56))) -> 5 | D57: =IF(ISTEXT(J57),"",IF(ISTEXT(J56),1,IF(K57<>"",D56+1,""))) | J57: Learning record store | K57: =IF(OR(OR(ISTEXT(H57),ISTEXT(H57)),OR(ISTEXT(I57),ISTEXT(J57))),"","Eis/Wens")
A58: =IF(ISTEXT(G64),A57+1,A57) -> 4 | B58: =IF(ISTEXT(G64),"",IF(ISTEXT(G63),1,IF(ISTEXT(H65),B57+1,B57))) -> 1 | C58: =IF(ISTEXT(H58),"",IF(ISTEXT(H57),1,IF(ISTEXT(J58),C57+1,C57))) -> 6 | D58: =IF(ISTEXT(J58),"",IF(ISTEXT(J57),1,IF(K58<>"",D57+1,""))) | I58: Uitvoeren leertaken BPV | J58: X | K58: =IF(OR(OR(ISTEXT(H58),ISTEXT(H58)),OR(ISTEXT(I58),ISTEXT(J58))),"","Eis/Wens")
A59: =IF(ISTEXT(G65),A58+1,A58) -> 4 | B59: =IF(ISTEXT(G65),"",IF(ISTEXT(G64),1,IF(ISTEXT(H66),B58+1,B58))) -> 1 | C59: =IF(ISTEXT(H59),"",IF(ISTEXT(H58),1,IF(ISTEXT(J59),C58+1,C58))) -> 7 | D59: =IF(ISTEXT(J59),"",IF(ISTEXT(J58),1,IF(K59<>"",D58+1,""))) | I59: Samenwerken | J59: Samenwerkingsomgeving | K59: =IF(OR(OR(ISTEXT(H59),ISTEXT(H59)),OR(ISTEXT(I59),ISTEXT(J59))),"","Eis/Wens")
A60: =IF(ISTEXT(G66),A59+1,A59) -> 4 | B60: =IF(ISTEXT(G66),"",IF(ISTEXT(G65),1,IF(ISTEXT(H67),B59+1,B59))) -> 1 | C60: =IF(ISTEXT(H60),"",IF(ISTEXT(H59),1,IF(ISTEXT(J60),C59+1,C59))) -> 8 | D60: =IF(ISTEXT(J60),"",IF(ISTEXT(J59),1,IF(K60<>"",D59+1,""))) | I60: Opdrachten inleveren | J60: Inleverdienst | K60: =IF(OR(OR(ISTEXT(H60),ISTEXT(H60)),OR(ISTEXT(I60),ISTEXT(J60))),"","Eis/Wens")
A61: =IF(ISTEXT(G67),A60+1,A60) -> 4 | B61: =IF(ISTEXT(G67),"",IF(ISTEXT(G66),1,IF(ISTEXT(H68),B60+1,B60))) -> 1 | C61: =IF(ISTEXT(H61),"",IF(ISTEXT(H60),1,IF(ISTEXT(J61),C60+1,C60))) -> 9 | D61: =IF(ISTEXT(J61),"",IF(ISTEXT(J60),1,IF(K61<>"",D60+1,""))) | J61: Plagiaatcontrole | K61: =IF(OR(OR(ISTEXT(H61),ISTEXT(H61)),OR(ISTEXT(I61),ISTEXT(J61))),"","Eis/Wens")
A62: =IF(ISTEXT(G68),A61+1,A61) -> 4 | B62: =IF(ISTEXT(G68),"",IF(ISTEXT(G67),1,IF(ISTEXT(H69),B61+1,B61))) -> 1 | C62: =IF(ISTEXT(H62),"",IF(ISTEXT(H61),1,IF(ISTEXT(J62),C61+1,C61))) -> 10 | D62: =IF(ISTEXT(J62),"",IF(ISTEXT(J61),1,IF(K62<>"",D61+1,""))) | G62: Begeleiden | J62: Portfoliodiensten | K62: =IF(OR(OR(ISTEXT(H62),ISTEXT(H62)),OR(ISTEXT(I62),ISTEXT(J62))),"","Eis/Wens")
A63: =IF(ISTEXT(G69),A62+1,A62) -> 4 | B63: =IF(ISTEXT(G69),"",IF(ISTEXT(G68),1,IF(ISTEXT(H70),B62+1,B62))) -> 1 | C63: =IF(ISTEXT(H63),"",IF(ISTEXT(H62),1,IF(ISTEXT(J63),C62+1,C62))) | D63: =IF(ISTEXT(J63),"",IF(ISTEXT(J62),1,IF(K63<>"",D62+1,""))) -> 1 | H63: Leerbegeleiding | K63: =IF(OR(OR(ISTEXT(H63),ISTEXT(H63)),OR(ISTEXT(I63),ISTEXT(J63))),"","Eis/Wens")

Sheet Functionele voorzieningen
A2: 1 | B2: =IF(ISTEXT(H1),1,IF(ISTEXT(G2),"",IF(ISTEXT(H2),B1+1,B1))) | C2: =IF(ISTEXT(G2),"",IF(ISTEXT(H2),"",IF(ISTEXT(I2),1,C1+1))) | G2: Onderwijs ontwikkelen
A3: =IF(ISTEXT(G3),A2+1,A2) -> 1 | B3: =IF(ISTEXT(G3),"",IF(ISTEXT(G2),1,IF(ISTEXT(H3),B2+1,B2))) -> 1 | C3: =IF(ISTEXT(H3),"",IF(ISTEXT(H2),1,IF(ISTEXT(J3),C2+1,C2))) | D3: =IF(ISTEXT(J3),"",IF(ISTEXT(J2),1,IF(K3<>"",D2+1,""))) | H3: Opleiding ontwerpen en ontwikkelen
A4: =IF(ISTEXT(G4),A3+1,A3) -> 1 | B4: =IF(ISTEXT(G4),"",IF(ISTEXT(G3),1,IF(ISTEXT(H4),B3+1,B3))) -> 1 | C4: =IF(ISTEXT(H4),"",IF(ISTEXT(H3),1,IF(ISTEXT(J4),C3+1,C3))) -> 1 | D4: =IF(ISTEXT(J4),"",IF(ISTEXT(J3),1,IF(K4<>"",D3+1,""))) | I4: Opstellen onderwijsplan | J4: Curriculumontwikkeling | K4: =IF(OR(OR(ISTEXT(H4),ISTEXT(H4)),OR(ISTEXT(I4),ISTEXT(J4))),"","Eis/Wens")
A5: =IF(ISTEXT(G5),A4+1,A4) -> 1 | B5: =IF(ISTEXT(G5),"",IF(ISTEXT(G4),1,IF(ISTEXT(H5),B4+1,B4))) -> 1 | C5: =IF(ISTEXT(H5),"",IF(ISTEXT(H4),1,IF(ISTEXT(J5),C4+1,C4))) -> 1 | D5: =IF(ISTEXT(J5),"",IF(ISTEXT(J4),1,IF(K5<>"",D4+1,""))) -> 1 | K5: =IF(OR(OR(ISTEXT(H5),ISTEXT(H5)),OR(ISTEXT(I5),ISTEXT(J5))),"","Eis/Wens") -> Eis/Wens
A6: =IF(ISTEXT(G6),A5+1,A5) -> 1 | B6: =IF(ISTEXT(G6),"",IF(ISTEXT(G5),1,IF(ISTEXT(H6),B5+1,B5))) -> 1 | C6: =IF(ISTEXT(H6),"",IF(ISTEXT(H5),1,IF(ISTEXT(J6),C5+1,C5))) -> 1 | D6: =IF(ISTEXT(J6),"",IF(ISTEXT(J5),1,IF(K6<>"",D5+1,""))) -> 2 | K6: =IF(OR(OR(ISTEXT(H6),ISTEXT(H6)),OR(ISTEXT(I6),ISTEXT(J6))),"","Eis/Wens") -> Eis/Wens
A7: =IF(ISTEXT(G7),A6+1,A6) -> 1 | B7: =IF(ISTEXT(G7),"",IF(ISTEXT(G6),1,IF(ISTEXT(H7),B6+1,B6))) -> 1 | C7: =IF(ISTEXT(H7),"",IF(ISTEXT(H6),1,IF(ISTEXT(J7),C6+1,C6))) -> 2 | D7: =IF(ISTEXT(J7),"",IF(ISTEXT(J6),1,IF(K7<>"",D6+1,""))) | I7: Beheren formatieve resultaatstructuur | J7: Formatieve resultatenbeheer | K7: =IF(OR(OR(ISTEXT(H7),ISTEXT(H7)),OR(ISTEXT(I7),ISTEXT(J7))),"","Eis/Wens")
A8: =IF(ISTEXT(G8),A7+1,A7) -> 1 | B8: =IF(ISTEXT(G8),"",IF(ISTEXT(G7),1,IF(ISTEXT(H8),B7+1,B7))) -> 1 | C8: =IF(ISTEXT(H8),"",IF(ISTEXT(H7),1,IF(ISTEXT(J8),C7+1,C7))) -> 2 | D8: =IF(ISTEXT(J8),"",IF(ISTEXT(J7),1,IF(K8<>"",D7+1,""))) -> 1 | K8: =IF(OR(OR(ISTEXT(H8),ISTEXT(H8)),OR(ISTEXT(I8),ISTEXT(J8))),"","Eis/Wens") -> Eis/Wens
A9: =IF(ISTEXT(G9),A8+1,A8) -> 1 | B9: =IF(ISTEXT(G9),"",IF(ISTEXT(G8),1,IF(ISTEXT(H9),B8+1,B8))) -> 1 | C9: =IF(ISTEXT(H9),"",IF(ISTEXT(H8),1,IF(ISTEXT(J9),C8+1,C8))) -> 2 | D9: =IF(ISTEXT(J9),"",IF(ISTEXT(J8),1,IF(K9<>"",D8+1,""))) -> 2 | K9: =IF(OR(OR(ISTEXT(H9),ISTEXT(H9)),OR(ISTEXT(I9),ISTEXT(J9))),"","Eis/Wens") -> Eis/Wens
A10: =IF(ISTEXT(G10),A9+1,A9) -> 1 | B10: =IF(ISTEXT(G10),"",IF(ISTEXT(G9),1,IF(ISTEXT(H10),B9+1,B9))) -> 1 | C10: =IF(ISTEXT(H10),"",IF(ISTEXT(H9),1,IF(ISTEXT(J10),C9+1,C9))) -> 3 | D10: =IF(ISTEXT(J10),"",IF(ISTEXT(J9),1,IF(K10<>"",D9+1,""))) | I10: Definiëren onderwijsproduct | J10: Onderwijscatalogus | K10: =IF(OR(OR(ISTEXT(H10),ISTEXT(H10)),OR(ISTEXT(I10),ISTEXT(J10))),"","Eis/Wens")
A11: =IF(ISTEXT(G11),A10+1,A10) -> 1 | B11: =IF(ISTEXT(G11),"",IF(ISTEXT(G10),1,IF(ISTEXT(H11),B10+1,B10))) -> 1 | C11: =IF(ISTEXT(H11),"",IF(ISTEXT(H10),1,IF(ISTEXT(J11),C10+1,C10))) -> 3 | D11: =IF(ISTEXT(J11),"",IF(ISTEXT(J10),1,IF(K11<>"",D10+1,""))) -> 1 | K11: =IF(OR(OR(ISTEXT(H11),ISTEXT(H11)),OR(ISTEXT(I11),ISTEXT(J11))),"","Eis/Wens") -> Eis/Wens
A12: =IF(ISTEXT(G12),A11+1,A11) -> 1 | B12: =IF(ISTEXT(G12),"",IF(ISTEXT(G11),1,IF(ISTEXT(H12),B11+1,B11))) -> 1 | C12: =IF(ISTEXT(H12),"",IF(ISTEXT(H11),1,IF(ISTEXT(J12),C11+1,C11))) -> 3 | D12: =IF(ISTEXT(J12),"",IF(ISTEXT(J11),1,IF(K12<>"",D11+1,""))) -> 2 | K12: =IF(OR(OR(ISTEXT(H12),ISTEXT(H12)),OR(ISTEXT(I12),ISTEXT(J12))),"","Eis/Wens") -> Eis/Wens
A13: =IF(ISTEXT(G13),A12+1,A12) -> 1 | B13: =IF(ISTEXT(G13),"",IF(ISTEXT(G12),1,IF(ISTEXT(H13),B12+1,B12))) -> 2 | C13: =IF(ISTEXT(H13),"",IF(ISTEXT(H12),1,IF(ISTEXT(J13),C12+1,C12))) | D13: =IF(ISTEXT(J13),"",IF(ISTEXT(J12),1,IF(K13<>"",D12+1,""))) | H13: Leermiddelen | K13: =IF(OR(OR(ISTEXT(H13),ISTEXT(H13)),OR(ISTEXT(I13),ISTEXT(J13))),"","Eis/Wens")
A14: =IF(ISTEXT(G14),A13+1,A13) -> 1 | B14: =IF(ISTEXT(G14),"",IF(ISTEXT(G13),1,IF(ISTEXT(H14),B13+1,B13))) -> 2 | C14: =IF(ISTEXT(H14),"",IF(ISTEXT(H13),1,IF(ISTEXT(J14),C13+1,C13))) -> 1 | D14: =IF(ISTEXT(J14),"",IF(ISTEXT(J13),1,IF(K14<>"",D13+1,""))) | I14: Verwerven leermiddelen | J14: Studieroutebeheer | K14: =IF(OR(OR(ISTEXT(H14),ISTEXT(H14)),OR(ISTEXT(I14),ISTEXT(J14))),"","Eis/Wens")
A15: =IF(ISTEXT(G15),A14+1,A14) -> 1 | B15: =IF(ISTEXT(G15),"",IF(ISTEXT(G14),1,IF(ISTEXT(H15),B14+1,B14))) -> 2 | C15: =IF(ISTEXT(H15),"",IF(ISTEXT(H14),1,IF(ISTEXT(J15),C14+1,C14))) -> 1 | D15: =IF(ISTEXT(J15),"",IF(ISTEXT(J14),1,IF(K15<>"",D14+1,""))) -> 1 | K15: =IF(OR(OR(ISTEXT(H15),ISTEXT(H15)),OR(ISTEXT(I15),ISTEXT(J15))),"","Eis/Wens") -> Eis/Wens
A16: =IF(ISTEXT(G16),A15+1,A15) -> 1 | B16: =IF(ISTEXT(G16),"",IF(ISTEXT(G15),1,IF(ISTEXT(H16),B15+1,B15))) -> 2 | C16: =IF(ISTEXT(H16),"",IF(ISTEXT(H15),1,IF(ISTEXT(J16),C15+1,C15))) -> 2 | D16: =IF(ISTEXT(J16),"",IF(ISTEXT(J15),1,IF(K16<>"",D15+1,""))) | J16: Ontsluiten / beschikbaar stellen online leermiddelen, ECK | K16: =IF(OR(OR(ISTEXT(H16),ISTEXT(H16)),OR(ISTEXT(I16),ISTEXT(J16))),"","Eis/Wens")
A17: =IF(ISTEXT(G17),A16+1,A16) -> 1 | B17: =IF(ISTEXT(G17),"",IF(ISTEXT(G16),1,IF(ISTEXT(H17),B16+1,B16))) -> 2 | C17: =IF(ISTEXT(H17),"",IF(ISTEXT(H16),1,IF(ISTEXT(J17),C16+1,C16))) -> 2 | D17: =IF(ISTEXT(J17),"",IF(ISTEXT(J16),1,IF(K17<>"",D16+1,""))) -> 1 | K17: =IF(OR(OR(ISTEXT(H17),ISTEXT(H17)),OR(ISTEXT(I17),ISTEXT(J17))),"","Eis/Wens") -> Eis/Wens
A18: =IF(ISTEXT(G18),A17+1,A17) -> 1 | B18: =IF(ISTEXT(G18),"",IF(ISTEXT(G17),1,IF(ISTEXT(H18),B17+1,B17))) -> 2 | C18: =IF(ISTEXT(H18),"",IF(ISTEXT(H17),1,IF(ISTEXT(J18),C17+1,C17))) -> 2 | D18: =IF(ISTEXT(J18),"",IF(ISTEXT(J17),1,IF(K18<>"",D17+1,""))) | I18: Ontwikkelen leermiddelen | K18: =IF(OR(OR(ISTEXT(H18),ISTEXT(H18)),OR(ISTEXT(I18),ISTEXT(J18))),"","Eis/Wens")
A19: =IF(ISTEXT(G19),A18+1,A18) -> 1 | B19: =IF(ISTEXT(G19),"",IF(ISTEXT(G18),1,IF(ISTEXT(H19),B18+1,B18))) -> 2 | C19: =IF(ISTEXT(H19),"",IF(ISTEXT(H18),1,IF(ISTEXT(J19),C18+1,C18))) -> 3 | D19: =IF(ISTEXT(J19),"",IF(ISTEXT(J18),1,IF(K19<>"",D18+1,""))) | J19: Leercontent ontwikkel service | K19: =IF(OR(OR(ISTEXT(H19),ISTEXT(H19)),OR(ISTEXT(I19),ISTEXT(J19))),"","Eis/Wens")
A20: =IF(ISTEXT(G20),A19+1,A19) -> 1 | B20: =IF(ISTEXT(G20),"",IF(ISTEXT(G19),1,IF(ISTEXT(H20),B19+1,B19))) -> 2 | C20: =IF(ISTEXT(H20),"",IF(ISTEXT(H19),1,IF(ISTEXT(J20),C19+1,C19))) -> 3 | D20: =IF(ISTEXT(J20),"",IF(ISTEXT(J19),1,IF(K20<>"",D19+1,""))) -> 1 | K20: =IF(OR(OR(ISTEXT(H20),ISTEXT(H20)),OR(ISTEXT(I20),ISTEXT(J20))),"","Eis/Wens") -> Eis/Wens
A21: =IF(ISTEXT(G21),A20+1,A20) -> 1 | B21: =IF(ISTEXT(G21),"",IF(ISTEXT(G20),1,IF(ISTEXT(H21),B20+1,B20))) -> 2 | C21: =IF(ISTEXT(H21),"",IF(ISTEXT(H20),1,IF(ISTEXT(J21),C20+1,C20))) -> 3 | D21: =IF(ISTEXT(J21),"",IF(ISTEXT(J20),1,IF(K21<>"",D20+1,""))) -> 2 | K21: =IF(OR(OR(ISTEXT(H21),ISTEXT(H21)),OR(ISTEXT(I21),ISTEXT(J21))),"","Eis/Wens") -> Eis/Wens
A22: =IF(ISTEXT(G22),A21+1,A21) -> 1 | B22: =IF(ISTEXT(G22),"",IF(ISTEXT(G21),1,IF(ISTEXT(H22),B21+1,B21))) -> 2 | C22: =IF(ISTEXT(H22),"",IF(ISTEXT(H21),1,IF(ISTEXT(J22),C21+1,C21))) -> 3 | D22: =IF(ISTEXT(J22),"",IF(ISTEXT(J21),1,IF(K22<>"",D21+1,""))) -> 3 | K22: =IF(OR(OR(ISTEXT(H22),ISTEXT(H22)),OR(ISTEXT(I22),ISTEXT(J22))),"","Eis/Wens") -> Eis/Wens
A23: =IF(ISTEXT(G23),A22+1,A22) -> 1 | B23: =IF(ISTEXT(G23),"",IF(ISTEXT(G22),1,IF(ISTEXT(H23),B22+1,B22))) -> 2 | C23: =IF(ISTEXT(H23),"",IF(ISTEXT(H22),1,IF(ISTEXT(J23),C22+1,C22))) -> 4 | D23: =IF(ISTEXT(J23),"",IF(ISTEXT(J22),1,IF(K23<>"",D22+1,""))) | J23: Importservice digitale leermiddelen | K23: =IF(OR(OR(ISTEXT(H23),ISTEXT(H23)),OR(ISTEXT(I23),ISTEXT(J23))),"","Eis/Wens")
A24: =IF(ISTEXT(G24),A23+1,A23) -> 1 | B24: =IF(ISTEXT(G24),"",IF(ISTEXT(G23),1,IF(ISTEXT(H24),B23+1,B23))) -> 2 | C24: =IF(ISTEXT(H24),"",IF(ISTEXT(H23),1,IF(ISTEXT(J24),C23+1,C23))) -> 4 | D24: =IF(ISTEXT(J24),"",IF(ISTEXT(J23),1,IF(K24<>"",D23+1,""))) -> 1 | K24: =IF(OR(OR(ISTEXT(H24),ISTEXT(H24)),OR(ISTEXT(I24),ISTEXT(J24))),"","Eis/Wens") -> Eis/Wens
A25: =IF(ISTEXT(G25),A24+1,A24) -> 1 | B25: =IF(ISTEXT(G25),"",IF(ISTEXT(G24),1,IF(ISTEXT(H25),B24+1,B24))) -> 2 | C25: =IF(ISTEXT(H25),"",IF(ISTEXT(H24),1,IF(ISTEXT(J25),C24+1,C24))) -> 4 | D25: =IF(ISTEXT(J25),"",IF(ISTEXT(J24),1,IF(K25<>"",D24+1,""))) -> 2 | K25: =IF(OR(OR(ISTEXT(H25),ISTEXT(H25)),OR(ISTEXT(I25),ISTEXT(J25))),"","Eis/Wens") -> Eis/Wens
A26: =IF(ISTEXT(G26),A25+1,A25) -> 2 | B26: =IF(ISTEXT(G26),"",IF(ISTEXT(G25),1,IF(ISTEXT(H26),B25+1,B25))) | C26: =IF(ISTEXT(H26),"",IF(ISTEXT(H25),1,IF(ISTEXT(J26),C25+1,C25))) -> 4 | D26: =IF(ISTEXT(J26),"",IF(ISTEXT(J25),1,IF(K26<>"",D25+1,""))) -> 3 | G26: Verzorgen onderwijs | K26: =IF(OR(OR(ISTEXT(H26),ISTEXT(H26)),OR(ISTEXT(I26),ISTEXT(J26))),"","Eis/Wens") -> Eis/Wens
A27: =IF(ISTEXT(G27),A26+1,A26) -> 2 | B27: =IF(ISTEXT(G27),"",IF(ISTEXT(G26),1,IF(ISTEXT(H27),B26+1,B26))) -> 1 | C27: =IF(ISTEXT(H27),"",IF(ISTEXT(H26),1,IF(ISTEXT(J27),C26+1,C26))) | D27: =IF(ISTEXT(J27),"",IF(ISTEXT(J26),1,IF(K27<>"",D26+1,""))) | H27: Voorbereiden onderwijs | K27: =IF(OR(OR(ISTEXT(H27),ISTEXT(H27)),OR(ISTEXT(I27),ISTEXT(J27))),"","Eis/Wens")
A28: =IF(ISTEXT(G28),A27+1,A27) -> 2 | B28: =IF(ISTEXT(G28),"",IF(ISTEXT(G27),1,IF(ISTEXT(H28),B27+1,B27))) -> 1 | C28: =IF(ISTEXT(H28),"",IF(ISTEXT(H27),1,IF(ISTEXT(J28),C27+1,C27))) -> 1 | D28: =IF(ISTEXT(J28),"",IF(ISTEXT(J27),1,IF(K28<>"",D27+1,""))) | I28: Toepassen externe leermiddelen | J28: x | K28: =IF(OR(OR(ISTEXT(H28),ISTEXT(H28)),OR(ISTEXT(I28),ISTEXT(J28))),"","Eis/Wens")
A29: =IF(ISTEXT(G29),A28+1,A28) -> 2 | B29: =IF(ISTEXT(G29),"",IF(ISTEXT(G28),1,IF(ISTEXT(H29),B28+1,B28))) -> 1 | C29: =IF(ISTEXT(H29),"",IF(ISTEXT(H28),1,IF(ISTEXT(J29),C28+1,C28))) -> 1 | D29: =IF(ISTEXT(J29),"",IF(ISTEXT(J28),1,IF(K29<>"",D28+1,""))) -> 1 | K29: =IF(OR(OR(ISTEXT(H29),ISTEXT(H29)),OR(ISTEXT(I29),ISTEXT(J29))),"","Eis/Wens") -> Eis/Wens
A30: =IF(ISTEXT(G30),A29+1,A29) -> 2 | B30: =IF(ISTEXT(G30),"",IF(ISTEXT(G29),1,IF(ISTEXT(H30),B29+1,B29))) -> 1 | C30: =IF(ISTEXT(H30),"",IF(ISTEXT(H29),1,IF(ISTEXT(J30),C29+1,C29))) -> 1 | D30: =IF(ISTEXT(J30),"",IF(ISTEXT(J29),1,IF(K30<>"",D29+1,""))) -> 2 | K30: =IF(OR(OR(ISTEXT(H30),ISTEXT(H30)),OR(ISTEXT(I30),ISTEXT(J30))),"","Eis/Wens") -> Eis/Wens
A31: =IF(ISTEXT(G31),A30+1,A30) -> 2 | B31: =IF(ISTEXT(G31),"",IF(ISTEXT(G30),1,IF(ISTEXT(H31),B30+1,B30))) -> 2 | C31: =IF(ISTEXT(H31),"",IF(ISTEXT(H30),1,IF(ISTEXT(J31),C30+1,C30))) | D31: =IF(ISTEXT(J31),"",IF(ISTEXT(J30),1,IF(K31<>"",D30+1,""))) | H31: Uitvoeren | K31: =IF(OR(OR(ISTEXT(H31),ISTEXT(H31)),OR(ISTEXT(I31),ISTEXT(J31))),"","Eis/Wens")
A32: =IF(ISTEXT(G32),A31+1,A31) -> 2 | B32: =IF(ISTEXT(G32),"",IF(ISTEXT(G31),1,IF(ISTEXT(H32),B31+1,B31))) -> 2 | C32: =IF(ISTEXT(H32),"",IF(ISTEXT(H31),1,IF(ISTEXT(J32),C31+1,C31))) -> 1 | D32: =IF(ISTEXT(J32),"",IF(ISTEXT(J31),1,IF(K32<>"",D31+1,""))) | I32: Voorbereiden en nazorg onderwijs | J32: Samenstellen groepen | K32: =IF(OR(OR(ISTEXT(H32),ISTEXT(H32)),OR(ISTEXT(I32),ISTEXT(J32))),"","Eis/Wens")
A33: =IF(ISTEXT(G33),A32+1,A32) -> 2 | B33: =IF(ISTEXT(G33),"",IF(ISTEXT(G32),1,IF(ISTEXT(H33),B32+1,B32))) -> 2 | C33: =IF(ISTEXT(H33),"",IF(ISTEXT(H32),1,IF(ISTEXT(J33),C32+1,C32))) -> 1 | D33: =IF(ISTEXT(J33),"",IF(ISTEXT(J32),1,IF(K33<>"",D32+1,""))) -> 1 | K33: =IF(OR(OR(ISTEXT(H33),ISTEXT(H33)),OR(ISTEXT(I33),ISTEXT(J33))),"","Eis/Wens") -> Eis/Wens
A34: =IF(ISTEXT(G34),A33+1,A33) -> 2 | B34: =IF(ISTEXT(G34),"",IF(ISTEXT(G33),1,IF(ISTEXT(H34),B33+1,B33))) -> 2 | C34: =IF(ISTEXT(H34),"",IF(ISTEXT(H33),1,IF(ISTEXT(J34),C33+1,C33))) -> 1 | D34: =IF(ISTEXT(J34),"",IF(ISTEXT(J33),1,IF(K34<>"",D33+1,""))) -> 2 | K34: =IF(OR(OR(ISTEXT(H34),ISTEXT(H34)),OR(ISTEXT(I34),ISTEXT(J34))),"","Eis/Wens") -> Eis/Wens
A35: =IF(ISTEXT(G35),A34+1,A34) -> 2 | B35: =IF(ISTEXT(G35),"",IF(ISTEXT(G34),1,IF(ISTEXT(H35),B34+1,B34))) -> 2 | C35: =IF(ISTEXT(H35),"",IF(ISTEXT(H34),1,IF(ISTEXT(J35),C34+1,C34))) -> 2 | D35: =IF(ISTEXT(J35),"",IF(ISTEXT(J34),1,IF(K35<>"",D34+1,""))) | I35: Inzetten leermiddelen | J35: Koppeling naar didactische online tools | K35: =IF(OR(OR(ISTEXT(H35),ISTEXT(H35)),OR(ISTEXT(I35),ISTEXT(J35))),"","Eis/Wens")
A36: =IF(ISTEXT(G36),A35+1,A35) -> 2 | B36: =IF(ISTEXT(G36),"",IF(ISTEXT(G35),1,IF(ISTEXT(H36),B35+1,B35))) -> 2 | C36: =IF(ISTEXT(H36),"",IF(ISTEXT(H35),1,IF(ISTEXT(J36),C35+1,C35))) -> 2 | D36: =IF(ISTEXT(J36),"",IF(ISTEXT(J35),1,IF(K36<>"",D35+1,""))) -> 1 | K36: =IF(OR(OR(ISTEXT(H36),ISTEXT(H36)),OR(ISTEXT(I36),ISTEXT(J36))),"","Eis/Wens") -> Eis/Wens
A37: =IF(ISTEXT(G43),A36+1,A36) -> 2 | B37: =IF(ISTEXT(G43),"",IF(ISTEXT(G42),1,IF(ISTEXT(H44),B36+1,B36))) -> 3 | C37: =IF(ISTEXT(H37),"",IF(ISTEXT(H36),1,IF(ISTEXT(J37),C36+1,C36))) -> 2 | D37: =IF(ISTEXT(J37),"",IF(ISTEXT(J36),1,IF(K37<>"",D36+1,""))) -> 2 | K37: =IF(OR(OR(ISTEXT(H37),ISTEXT(H37)),OR(ISTEXT(I37),ISTEXT(J37))),"","Eis/Wens") -> Eis/Wens
A38: =IF(ISTEXT(G44),A37+1,A37) -> 2 | B38: =IF(ISTEXT(G44),"",IF(ISTEXT(G43),1,IF(ISTEXT(H45),B37+1,B37))) -> 3 | C38: =IF(ISTEXT(H38),"",IF(ISTEXT(H37),1,IF(ISTEXT(J38),C37+1,C37))) -> 3 | D38: =IF(ISTEXT(J38),"",IF(ISTEXT(J37),1,IF(K38<>"",D37+1,""))) | J38: Videodiensten | K38: =IF(OR(OR(ISTEXT(H38),ISTEXT(H38)),OR(ISTEXT(I38),ISTEXT(J38))),"","Eis/Wens")
A39: =IF(ISTEXT(G45),A38+1,A38) -> 2 | B39: =IF(ISTEXT(G45),"",IF(ISTEXT(G44),1,IF(ISTEXT(H46),B38+1,B38))) -> 3 | C39: =IF(ISTEXT(H39),"",IF(ISTEXT(H38),1,IF(ISTEXT(J39),C38+1,C38))) | D39: =IF(ISTEXT(J39),"",IF(ISTEXT(J38),1,IF(K39<>"",D38+1,""))) -> 1 | H39: Formatief toetsen | K39: =IF(OR(OR(ISTEXT(H39),ISTEXT(H39)),OR(ISTEXT(I39),ISTEXT(J39))),"","Eis/Wens")
A40: =IF(ISTEXT(G46),A39+1,A39) -> 2 | B40: =IF(ISTEXT(G46),"",IF(ISTEXT(G45),1,IF(ISTEXT(H47),B39+1,B39))) -> 3 | C40: =IF(ISTEXT(H40),"",IF(ISTEXT(H39),1,IF(ISTEXT(J40),C39+1,C39))) -> 1 | D40: =IF(ISTEXT(J40),"",IF(ISTEXT(J39),1,IF(K40<>"",D39+1,""))) | I40: Uitvoeren onderwijsactiviteiten | J40: Presenteren | K40: =IF(OR(OR(ISTEXT(H40),ISTEXT(H40)),OR(ISTEXT(I40),ISTEXT(J40))),"","Eis/Wens")
A41: =IF(ISTEXT(G47),A40+1,A40) -> 2 | B41: =IF(ISTEXT(G47),"",IF(ISTEXT(G46),1,IF(ISTEXT(H48),B40+1,B40))) -> 3 | C41: =IF(ISTEXT(H41),"",IF(ISTEXT(H40),1,IF(ISTEXT(J41),C40+1,C40))) -> 1 | D41: =IF(ISTEXT(J41),"",IF(ISTEXT(J40),1,IF(K41<>"",D40+1,""))) -> 1 | K41: =IF(OR(OR(ISTEXT(H41),ISTEXT(H41)),OR(ISTEXT(I41),ISTEXT(J41))),"","Eis/Wens") -> Eis/Wens
A42: =IF(ISTEXT(G48),A41+1,A41) -> 2 | B42: =IF(ISTEXT(G48),"",IF(ISTEXT(G47),1,IF(ISTEXT(H49),B41+1,B41))) -> 3 | C42: =IF(ISTEXT(H42),"",IF(ISTEXT(H41),1,IF(ISTEXT(J42),C41+1,C41))) -> 1 | D42: =IF(ISTEXT(J42),"",IF(ISTEXT(J41),1,IF(K42<>"",D41+1,""))) -> 2 | K42: =IF(OR(OR(ISTEXT(H42),ISTEXT(H42)),OR(ISTEXT(I42),ISTEXT(J42))),"","Eis/Wens") -> Eis/Wens
A43: =IF(ISTEXT(G49),A42+1,A42) -> 2 | B43: =IF(ISTEXT(G49),"",IF(ISTEXT(G48),1,IF(ISTEXT(H50),B42+1,B42))) -> 3 | C43: =IF(ISTEXT(H43),"",IF(ISTEXT(H42),1,IF(ISTEXT(J43),C42+1,C42))) -> 2 | D43: =IF(ISTEXT(J43),"",IF(ISTEXT(J42),1,IF(K43<>"",D42+1,""))) | I43: Monitoren effectiviteit onderwijsactiviteiten | J43: Learning analytics | K43: =IF(OR(OR(ISTEXT(H43),ISTEXT(H43)),OR(ISTEXT(I43),ISTEXT(J43))),"","Eis/Wens")
A44: =IF(ISTEXT(G50),A43+1,A43) -> 3 | B44: =IF(ISTEXT(G50),"",IF(ISTEXT(G49),1,IF(ISTEXT(H51),B43+1,B43))) | C44: =IF(ISTEXT(H44),"",IF(ISTEXT(H43),1,IF(ISTEXT(J44),C43+1,C43))) | D44: =IF(ISTEXT(J44),"",IF(ISTEXT(J43),1,IF(K44<>"",D43+1,""))) -> 1 | H44: Uitvoeren leertaken | K44: =IF(OR(OR(ISTEXT(H44),ISTEXT(H44)),OR(ISTEXT(I44),ISTEXT(J44))),"","Eis/Wens")
A45: =IF(ISTEXT(G51),A44+1,A44) -> 3 | B45: =IF(ISTEXT(G51),"",IF(ISTEXT(G50),1,IF(ISTEXT(H52),B44+1,B44))) -> 1 | C45: =IF(ISTEXT(H45),"",IF(ISTEXT(H44),1,IF(ISTEXT(J45),C44+1,C44))) -> 1 | D45: =IF(ISTEXT(J45),"",IF(ISTEXT(J44),1,IF(K45<>"",D44+1,""))) | I45: Communicatie en samenwerking | J45: Berichten, meldingen | K45: =IF(OR(OR(ISTEXT(H45),ISTEXT(H45)),OR(ISTEXT(I45),ISTEXT(J45))),"","Eis/Wens")
A46: =IF(ISTEXT(G52),A45+1,A45) -> 3 | B46: =IF(ISTEXT(G52),"",IF(ISTEXT(G51),1,IF(ISTEXT(H53),B45+1,B45))) -> 1 | C46: =IF(ISTEXT(H46),"",IF(ISTEXT(H45),1,IF(ISTEXT(J46),C45+1,C45))) -> 1 | D46: =IF(ISTEXT(J46),"",IF(ISTEXT(J45),1,IF(K46<>"",D45+1,""))) -> 1 | K46: =IF(OR(OR(ISTEXT(H46),ISTEXT(H46)),OR(ISTEXT(I46),ISTEXT(J46))),"","Eis/Wens") -> Eis/Wens
A47: =IF(ISTEXT(G53),A46+1,A46) -> 3 | B47: =IF(ISTEXT(G53),"",IF(ISTEXT(G52),1,IF(ISTEXT(H54),B46+1,B46))) -> 1 | C47: =IF(ISTEXT(H47),"",IF(ISTEXT(H46),1,IF(ISTEXT(J47),C46+1,C46))) -> 1 | D47: =IF(ISTEXT(J47),"",IF(ISTEXT(J46),1,IF(K47<>"",D46+1,""))) -> 2 | K47: =IF(OR(OR(ISTEXT(H47),ISTEXT(H47)),OR(ISTEXT(I47),ISTEXT(J47))),"","Eis/Wens") -> Eis/Wens
A48: =IF(ISTEXT(G54),A47+1,A47) -> 3 | B48: =IF(ISTEXT(G54),"",IF(ISTEXT(G53),1,IF(ISTEXT(H55),B47+1,B47))) -> 1 | C48: =IF(ISTEXT(H48),"",IF(ISTEXT(H47),1,IF(ISTEXT(J48),C47+1,C47))) -> 2 | D48: =IF(ISTEXT(J48),"",IF(ISTEXT(J47),1,IF(K48<>"",D47+1,""))) | I48: Formatief toetsen | J48: Digitale toetsomgeving | K48: =IF(OR(OR(ISTEXT(H48),ISTEXT(H48)),OR(ISTEXT(I48),ISTEXT(J48))),"","Eis/Wens")
A49: =IF(ISTEXT(G55),A48+1,A48) -> 3 | B49: =IF(ISTEXT(G55),"",IF(ISTEXT(G54),1,IF(ISTEXT(H56),B48+1,B48))) -> 1 | C49: =IF(ISTEXT(H49),"",IF(ISTEXT(H48),1,IF(ISTEXT(J49),C48+1,C48))) -> 2 | D49: =IF(ISTEXT(J49),"",IF(ISTEXT(J48),1,IF(K49<>"",D48+1,""))) -> 1 | K49: =IF(OR(OR(ISTEXT(H49),ISTEXT(H49)),OR(ISTEXT(I49),ISTEXT(J49))),"","Eis/Wens") -> Eis/Wens
A50: =IF(ISTEXT(G56),A49+1,A49) -> 3 | B50: =IF(ISTEXT(G56),"",IF(ISTEXT(G55),1,IF(ISTEXT(H57),B49+1,B49))) -> 1 | C50: =IF(ISTEXT(H50),"",IF(ISTEXT(H49),1,IF(ISTEXT(J50),C49+1,C49))) -> 2 | D50: =IF(ISTEXT(J50),"",IF(ISTEXT(J49),1,IF(K50<>"",D49+1,""))) -> 2 | G50: Leertaken uitvoeren | K50: =IF(OR(OR(ISTEXT(H50),ISTEXT(H50)),OR(ISTEXT(I50),ISTEXT(J50))),"","Eis/Wens") -> Eis/Wens
A51: =IF(ISTEXT(G57),A50+1,A50) -> 3 | B51: =IF(ISTEXT(G57),"",IF(ISTEXT(G56),1,IF(ISTEXT(H58),B50+1,B50))) -> 1 | C51: =IF(ISTEXT(H51),"",IF(ISTEXT(H50),1,IF(ISTEXT(J51),C50+1,C50))) -> 2 | D51: =IF(ISTEXT(J51),"",IF(ISTEXT(J50),1,IF(K51<>"",D50+1,""))) -> 3 | K51: =IF(OR(OR(ISTEXT(H51),ISTEXT(H51)),OR(ISTEXT(I51),ISTEXT(J51))),"","Eis/Wens") -> Eis/Wens
A52: =IF(ISTEXT(G58),A51+1,A51) -> 3 | B52: =IF(ISTEXT(G58),"",IF(ISTEXT(G57),1,IF(ISTEXT(H59),B51+1,B51))) -> 1 | C52: =IF(ISTEXT(H52),"",IF(ISTEXT(H51),1,IF(ISTEXT(J52),C51+1,C51))) | D52: =IF(ISTEXT(J52),"",IF(ISTEXT(J51),1,IF(K52<>"",D51+1,""))) | H52: Aanmelden leeractiviteiten | K52: =IF(OR(OR(ISTEXT(H52),ISTEXT(H52)),OR(ISTEXT(I52),ISTEXT(J52))),"","Eis/Wens")
A53: =IF(ISTEXT(G59),A52+1,A52) -> 3 | B53: =IF(ISTEXT(G59),"",IF(ISTEXT(G58),1,IF(ISTEXT(H60),B52+1,B52))) -> 1 | C53: =IF(ISTEXT(H53),"",IF(ISTEXT(H52),1,IF(ISTEXT(J53),C52+1,C52))) -> 1 | D53: =IF(ISTEXT(J53),"",IF(ISTEXT(J52),1,IF(K53<>"",D52+1,""))) | I53: Aanmelden voor roosteractiviteiten | J53: Aanmelden voor roosteractiviteiten | K53: =IF(OR(OR(ISTEXT(H53),ISTEXT(H53)),OR(ISTEXT(I53),ISTEXT(J53))),"","Eis/Wens")
A54: =IF(ISTEXT(G60),A53+1,A53) -> 3 | B54: =IF(ISTEXT(G60),"",IF(ISTEXT(G59),1,IF(ISTEXT(H61),B53+1,B53))) -> 1 | C54: =IF(ISTEXT(H54),"",IF(ISTEXT(H53),1,IF(ISTEXT(J54),C53+1,C53))) -> 2 | D54: =IF(ISTEXT(J54),"",IF(ISTEXT(J53),1,IF(K54<>"",D53+1,""))) | I54: Aanmelden keuzedelen | J54: X | K54: =IF(OR(OR(ISTEXT(H54),ISTEXT(H54)),OR(ISTEXT(I54),ISTEXT(J54))),"","Eis/Wens")
A55: =IF(ISTEXT(G62),A54+1,A54) -> 4 | B55: =IF(ISTEXT(G62),"",IF(ISTEXT(G60),1,IF(ISTEXT(H62),B54+1,B54))) | C55: =IF(ISTEXT(H55),"",IF(ISTEXT(H54),1,IF(ISTEXT(J55),C54+1,C54))) -> 3 | D55: =IF(ISTEXT(J55),"",IF(ISTEXT(J54),1,IF(K55<>"",D54+1,""))) | I55: Aanmelden onderwijsproduct | J55: X | K55: =IF(OR(OR(ISTEXT(H55),ISTEXT(H55)),OR(ISTEXT(I55),ISTEXT(J55))),"","Eis/Wens")
A56: =IF(ISTEXT(#REF!),A55+1,A55) -> 4 | B56: =IF(ISTEXT(#REF!),"",IF(ISTEXT(G62),1,IF(ISTEXT(H63),B55+1,B55))) -> 1 | C56: =IF(ISTEXT(H56),"",IF(ISTEXT(H55),1,IF(ISTEXT(J56),C55+1,C55))) -> 4 | D56: =IF(ISTEXT(J56),"",IF(ISTEXT(J55),1,IF(K56<>"",D55+1,""))) | I56: Uitvoeren leertaken | J56: Dashboard studentinformatie (student) | K56: =IF(OR(OR(ISTEXT(H56),ISTEXT(H56)),OR(ISTEXT(I56),ISTEXT(J56))),"","Eis/Wens")
A57: =IF(ISTEXT(G63),A56+1,A56) -> 4 | B57: =IF(ISTEXT(G63),"",IF(ISTEXT(#REF!),1,IF(ISTEXT(H64),B56+1,B56))) -> 1 | C57: =IF(ISTEXT(H57),"",IF(ISTEXT(H56),1,IF(ISTEXT(J57),C56+1,C56))) -> 5 | D57: =IF(ISTEXT(J57),"",IF(ISTEXT(J56),1,IF(K57<>"",D56+1,""))) | J57: Learning record store | K57: =IF(OR(OR(ISTEXT(H57),ISTEXT(H57)),OR(ISTEXT(I57),ISTEXT(J57))),"","Eis/Wens")
A58: =IF(ISTEXT(G64),A57+1,A57) -> 4 | B58: =IF(ISTEXT(G64),"",IF(ISTEXT(G63),1,IF(ISTEXT(H65),B57+1,B57))) -> 1 | C58: =IF(ISTEXT(H58),"",IF(ISTEXT(H57),1,IF(ISTEXT(J58),C57+1,C57))) -> 6 | D58: =IF(ISTEXT(J58),"",IF(ISTEXT(J57),1,IF(K58<>"",D57+1,""))) | I58: Uitvoeren leertaken BPV | J58: X | K58: =IF(OR(OR(ISTEXT(H58),ISTEXT(H58)),OR(ISTEXT(I58),ISTEXT(J58))),"","Eis/Wens")
A59: =IF(ISTEXT(G65),A58+1,A58) -> 4 | B59: =IF(ISTEXT(G65),"",IF(ISTEXT(G64),1,IF(ISTEXT(H66),B58+1,B58))) -> 1 | C59: =IF(ISTEXT(H59),"",IF(ISTEXT(H58),1,IF(ISTEXT(J59),C58+1,C58))) -> 7 | D59: =IF(ISTEXT(J59),"",IF(ISTEXT(J58),1,IF(K59<>"",D58+1,""))) | I59: Samenwerken | J59: Samenwerkingsomgeving | K59: =IF(OR(OR(ISTEXT(H59),ISTEXT(H59)),OR(ISTEXT(I59),ISTEXT(J59))),"","Eis/Wens")
A60: =IF(ISTEXT(G66),A59+1,A59) -> 4 | B60: =IF(ISTEXT(G66),"",IF(ISTEXT(G65),1,IF(ISTEXT(H67),B59+1,B59))) -> 1 | C60: =IF(ISTEXT(H60),"",IF(ISTEXT(H59),1,IF(ISTEXT(J60),C59+1,C59))) -> 8 | D60: =IF(ISTEXT(J60),"",IF(ISTEXT(J59),1,IF(K60<>"",D59+1,""))) | I60: Opdrachten inleveren | J60: Inleverdienst | K60: =IF(OR(OR(ISTEXT(H60),ISTEXT(H60)),OR(ISTEXT(I60),ISTEXT(J60))),"","Eis/Wens")
A61: =IF(ISTEXT(G67),A60+1,A60) -> 4 | B61: =IF(ISTEXT(G67),"",IF(ISTEXT(G66),1,IF(ISTEXT(H68),B60+1,B60))) -> 1 | C61: =IF(ISTEXT(H61),"",IF(ISTEXT(H60),1,IF(ISTEXT(J61),C60+1,C60))) -> 9 | D61: =IF(ISTEXT(J61),"",IF(ISTEXT(J60),1,IF(K61<>"",D60+1,""))) | J61: Plagiaatcontrole | K61: =IF(OR(OR(ISTEXT(H61),ISTEXT(H61)),OR(ISTEXT(I61),ISTEXT(J61))),"","Eis/Wens")
A62: =IF(ISTEXT(G68),A61+1,A61) -> 4 | B62: =IF(ISTEXT(G68),"",IF(ISTEXT(G67),1,IF(ISTEXT(H69),B61+1,B61))) -> 1 | C62: =IF(ISTEXT(H62),"",IF(ISTEXT(H61),1,IF(ISTEXT(J62),C61+1,C61))) -> 10 | D62: =IF(ISTEXT(J62),"",IF(ISTEXT(J61),1,IF(K62<>"",D61+1,""))) | G62: Begeleiden | J62: Portfoliodiensten | K62: =IF(OR(OR(ISTEXT(H62),ISTEXT(H62)),OR(ISTEXT(I62),ISTEXT(J62))),"","Eis/Wens")
A63: =IF(ISTEXT(G69),A62+1,A62) -> 4 | B63: =IF(ISTEXT(G69),"",IF(ISTEXT(G68),1,IF(ISTEXT(H70),B62+1,B62))) -> 1 | C63: =IF(ISTEXT(H63),"",IF(ISTEXT(H62),1,IF(ISTEXT(J63),C62+1,C62))) | D63: =IF(ISTEXT(J63),"",IF(ISTEXT(J62),1,IF(K63<>"",D62+1,""))) -> 1 | H63: Leerbegeleiding | K63: =IF(OR(OR(ISTEXT(H63),ISTEXT(H63)),OR(ISTEXT(I63),ISTEXT(J63))),"","Eis/Wens")
I64: Feedback geven | J64: Feedbackservice | K64: =IF(OR(OR(ISTEXT(H64),ISTEXT(H64)),OR(ISTEXT(I64),ISTEXT(J64))),"","Eis/Wens")
I65: Formuleren leervraag | K65: =IF(OR(OR(ISTEXT(H65),ISTEXT(H65)),OR(ISTEXT(I65),ISTEXT(J65))),"","Eis/Wens")
I66: Persoonlijke leerroute specificeren | J66: Persoonlijke leerroute beheer | K66: =IF(OR(OR(ISTEXT(H66),ISTEXT(H66)),OR(ISTEXT(I66),ISTEXT(J66))),"","Eis/Wens")
I67: Monitoren voortgang | J67: Formatief resultatenbeheer | K67: =IF(OR(OR(ISTEXT(H67),ISTEXT(H67)),OR(ISTEXT(I67),ISTEXT(J67))),"","Eis/Wens")
J68: Studievoortgangbepaling | K68: =IF(OR(OR(ISTEXT(H68),ISTEXT(H68)),OR(ISTEXT(I68),ISTEXT(J68))),"","Eis/Wens")
J69: Dashboard studentinformatie (docent / mentor) | K69: =IF(OR(OR(ISTEXT(H69),ISTEXT(H69)),OR(ISTEXT(I69),ISTEXT(J69))),"","Eis/Wens")
I70: Ondersteunen student | J70: Hulpmiddelen tonen | K70: =IF(OR(OR(ISTEXT(H70),ISTEXT(H70)),OR(ISTEXT(I70),ISTEXT(J70))),"","Eis/Wens")
K71: =IF(OR(OR(ISTEXT(H71),ISTEXT(H71)),OR(ISTEXT(I71),ISTEXT(J71))),"","Eis/Wens") -> Eis/Wens

Sheet Niet-functionele voorzieningen

Sheet Interfaces
K1: Maximale score: | L1: =COUNTIF(G9:G25,3)*5 -> 35
K2: Score | L2: =SUM(L10:$L$355) -> 0 | M2: =L2/L1 -> 0
K3: Aantal eisen | L3: =COUNTIF(G9:G25,4) -> 10
K4: Score eisen | L4: =COUNTIF(L10:$L$355,TRUE) -> 0 | M4: =L4/L$3 -> 0
K5: Aantal eisen beperkt | L5: =COUNTIF(M10:M26,TRUE) -> 0 | M5: =L5/L$3 -> 0
K6: Aantal eisen livegang | L6: =COUNTIF(N10:N26,TRUE) -> 0 | M6: =L6/L$3 -> 0
B7: Geef in de kolom Antwoord aan of uw oplossing kan voorzien in de volgende interfaces. | J7: Bij Voldoet beperkt of Voldoet bij Livegang is een korte toelichting verplicht.
B8: Interface | C8: Gewicht | D8: Bronapplicatie | E8: Doelapplicatie | F8: Omschrijving | H8: Antwoord | J8: Toelichting
B9: I3195 | C9: Eis | D9: LMS | E9: KW1C Datalaag | F9: Replicatie Het beschikbaar stellen van gegevens aan de KW1C Datalaag. Deze replicatie wordt bij de implementatie nader gespecificeerd. | G9: 4 | I9: =IF(H9="","",VLOOKUP(H9,'Invoervelden, scores'!$B$4:$C$7,2,TRUE))
B10: I3198 & i3208 I3198 -d i3208-d | C10: Eis | D10: SmartAIM | E10: LMS | F10: Provisioning van studenten en medewerkers. Student- en medewerkergegevens worden met deze koppeling meegestuurd. Deze interface kan bij voorkeur ook via de KW1C Datalaag worden gelegd. (zie specificatie in Toelichting Programma van Eisen LMS) | G10: 4 | I10: =IF(H10="","",VLOOKUP(H10,'Invoervelden, scores'!$B$4:$C$7,2,TRUE)) | L10: {=IF($I9="","",INDEX('Invoervelden, scores'!$D$4:$G$7,I9,G9))} | M10: =IF(AND(G9=4,I9=2),TRUE,FALSE) -> FALSE | N10: =IF(AND(G9=4,I9=3),TRUE,FALSE) -> FALSE
B11: I3201 | C11: Eis | D11: KW1C Datalaag | E11: LMS | F11: Organisatie-eenheden naar LMS | G11: 4 | I11: =IF(H11="","",VLOOKUP(H11,'Invoervelden, scores'!$B$4:$C$7,2,TRUE)) | L11: {=IF($I10="","",INDEX('Invoervelden, scores'!$D$4:$G$7,I10,G10))} | M11: =IF(AND(G10=4,I10=2),TRUE,FALSE) -> FALSE | N11: =IF(AND(G10=4,I10=3),TRUE,FALSE) -> FALSE
B12: I3202 | C12: Eis | D12: KW1C Datalaag | E12: LMS | F12: Opleidingen en onderwijsproducten naar LMS | G12: 4 | I12: =IF(H12="","",VLOOKUP(H12,'Invoervelden, scores'!$B$4:$C$7,2,TRUE)) | L12: {=IF($I11="","",INDEX('Invoervelden, scores'!$D$4:$G$7,I11,G11))} | M12: =IF(AND(G11=4,I11=2),TRUE,FALSE) -> FALSE | N12: =IF(AND(G11=4,I11=3),TRUE,FALSE) -> FALSE
B13: I3205 | C13: Eis | D13: KW1C Datalaag | E13: LMS | F13: Groepen naar LMS | G13: 4 | I13: =IF(H13="","",VLOOKUP(H13,'Invoervelden, scores'!$B$4:$C$7,2,TRUE)) | L13: {=IF($I12="","",INDEX('Invoervelden, scores'!$D$4:$G$7,I12,G12))} | M13: =IF(AND(G12=4,I12=2),TRUE,FALSE) -> FALSE | N13: =IF(AND(G12=4,I12=3),TRUE,FALSE) -> FALSE
B14: Resultaten | C14: Wens | D14: LMS | E14: SIS | F14: Behaalde resultaten naar SIS Eventueel via datalaag (zie i3195, replicatie) | G14: 3 | I14: =IF(H14="","",VLOOKUP(H14,'Invoervelden, scores'!$B$4:$C$7,2,TRUE)) | L14: {=IF($I13="","",INDEX('Invoervelden, scores'!$D$4:$G$7,I13,G13))} | M14: =IF(AND(G13=4,I13=2),TRUE,FALSE) -> FALSE | N14: =IF(AND(G13=4,I13=3),TRUE,FALSE) -> FALSE
B15: Contentsystemen | C15: Eis | D15: LMS | E15: Contentsysteem | F15: Aanroep van content op basis van ECK-id Gebruik van de content in het externe systeem. | G15: 4 | I15: =IF(H15="","",VLOOKUP(H15,'Invoervelden, scores'!$B$4:$C$7,2,TRUE)) | L15: {=IF($I14="","",INDEX('Invoervelden, scores'!$D$4:$G$7,I14,G14))} | M15: =IF(AND(G14=4,I14=2),TRUE,FALSE) -> FALSE | N15: =IF(AND(G14=4,I14=3),TRUE,FALSE) -> FALSE
B16: Externe resultaten | C16: Wens | D16: Contentsysteem | E16: LMS | F16: Overbrengen van resultaten vanuit het externe contentsysteem naar de resultaatstructuur in het LMS. | G16: 3 | I16: =IF(H16="","",VLOOKUP(H16,'Invoervelden, scores'!$B$4:$C$7,2,TRUE)) | L16: {=IF($I15="","",INDEX('Invoervelden, scores'!$D$4:$G$7,I15,G15))} | M16: =IF(AND(G15=4,I15=2),TRUE,FALSE) -> FALSE | N16: =IF(AND(G15=4,I15=3),TRUE,FALSE) -> FALSE
B17: Kwalificatiestructuur | C17: Eis | D17: SBB | E17: LMS / Curriculumplanner (in LMS) | F17: Het inlezen van de kwalificatiestructuur zodat inhoud van opleidingen gekoppeld kan worden aan (onderdelen van) de kwalificatiedossiers. | G17: 4 | I17: =IF(H17="","",VLOOKUP(H17,'Invoervelden, scores'!$B$4:$C$7,2,TRUE)) | L17: {=IF($I16="","",INDEX('Invoervelden, scores'!$D$4:$G$7,I16,G16))} | M17: =IF(AND(G16=4,I16=2),TRUE,FALSE) -> FALSE | N17: =IF(AND(G16=4,I16=3),TRUE,FALSE) -> FALSE
B18: Opleidingenontwerp | C18: Wens | D18: Curriculumplanner | E18: LMS | F18: Inlezen van een opleidingenontwerp als vertrekpunt voor de inrichting van een opleiding in het LMS. | G18: 3 | I18: =IF(H18="","",VLOOKUP(H18,'Invoervelden, scores'!$B$4:$C$7,2,TRUE)) | L18: {=IF($I17="","",INDEX('Invoervelden, scores'!$D$4:$G$7,I17,G17))} | M18: =IF(AND(G17=4,I17=2),TRUE,FALSE) -> FALSE | N18: =IF(AND(G17=4,I17=3),TRUE,FALSE) -> FALSE
B19: Documenten | C19: Wens | D19: LMS | E19: DMS | F19: Documenten naar het Document Management Systeem (Therefore). Sommige documenten dienen beveiligd bewaard te worden in het Examendossier. Denk aan examenwerkstukken of beoordelingsformulieren. | G19: 3 | I19: =IF(H19="","",VLOOKUP(H19,'Invoervelden, scores'!$B$4:$C$7,2,TRUE)) | L19: {=IF($I18="","",INDEX('Invoervelden, scores'!$D$4:$G$7,I18,G18))} | M19: =IF(AND(G18=4,I18=2),TRUE,FALSE) -> FALSE | N19: =IF(AND(G18=4,I18=3),TRUE,FALSE) -> FALSE
B20: Externe tools | C20: Wens | D20: Tools | E20: LMS | F20: Integratie van tools in LMS | G20: 3 | I20: =IF(H20="","",VLOOKUP(H20,'Invoervelden, scores'!$B$4:$C$7,2,TRUE)) | L20: {=IF($I19="","",INDEX('Invoervelden, scores'!$D$4:$G$7,I19,G19))} | M20: =IF(AND(G19=4,I19=2),TRUE,FALSE) -> FALSE | N20: =IF(AND(G19=4,I19=3),TRUE,FALSE) -> FALSE
B21: MS Teams | C21: Eis | D21: LMS | E21: MS Teams | F21: Aanmaken van Teams en kanalen in LMS | G21: 4 | I21: =IF(H21="","",VLOOKUP(H21,'Invoervelden, scores'!$B$4:$C$7,2,TRUE)) | L21: {=IF($I20="","",INDEX('Invoervelden, scores'!$D$4:$G$7,I20,G20))} | M21: =IF(AND(G20=4,I20=2),TRUE,FALSE) -> FALSE | N21: =IF(AND(G20=4,I20=3),TRUE,FALSE) -> FALSE
... B25: xAPI-koppelvlak | C25: Eis | D25: LMS | E25: LRS | F25: Indien het LMS niet beschikt over een Learning Record Store moet er wel een mogelijkheid zijn die gegevens elders (in een extern LRS) op te slaan. | G25: 4 | I25: =IF(H25="","",VLOOKUP(H25,'Invoervelden, scores'!$B$4:$C$7,2,TRUE)) | L25: {=IF($I24="","",INDEX('Invoervelden, scores'!$D$4:$G$7,I24,G24))} | M25: =IF(AND(G24=4,I24=2),TRUE,FALSE) -> FALSE | N25: =IF(AND(G24=4,I24=3),TRUE,FALSE) -> FALSE
L26: {=IF($I25="","",INDEX('Invoervelden, scores'!$D$4:$G$7,I25,G25))} | M26: =IF(AND(G25=4,I25=2),TRUE,FALSE) -> FALSE | N26: =IF(AND(G25=4,I25=3),TRUE,FALSE) -> FALSE
