Workbook
Name bestekcontract: [1]verzamelblad!$A$2
Name bestekcontract: Verzamelblad!$A$2
Name besteknr: [1]verzamelblad!$A$3
Name besteknr: Verzamelblad!$A$3
Name directtoezicht: [1]uurtariefopbouw!$E$24
Name directtoezicht: Uurtariefopbouw!$E$7
Name offertetarief: [1]uurtariefopbouw!$F$35
Name offertetarief: Uurtariefopbouw!$F$15
Name opdrachtgever: 'Algemene gegevens'!$H$5
Name opdrachtgever: #REF!
Name opdrachtnemer: 'Algemene gegevens'!$H$15
Name opdrachtnemer: #REF!
Name opdrachtnemerplaats: 'Algemene gegevens'!$B$13
Name opdrachtnemerplaats: #REF!
Name plaatsopdrnmr: 'Algemene gegevens'!$B$13
Name plaatsopdrnmr: #REF!
Name regietarief: [1]uurtariefopbouw!$H$35
Name regietarief: Uurtariefopbouw!$H$15
Name spectarief: [1]uurtariefopbouw!$J$35
Name spectarief: Uurtariefopbouw!$J$15

Sheet Algemene gegevens
A1: Basisgegevens
A3: Algemene gegevens
A5: Volledige naam onderneming (handelsnaam KvK) | H5: Gemeente Achtkarspelen
A6: Vestigingsplaats onderneming (KvK) | H6: Buitenpost
A7: KvK-nummer | H7: 1176356
A8: Tekenbevoegde voor contract | H8: R. Wijnja
A9: Functie | H9: Teamleider Interne Diensten
A11: Contactpersoon offerte | H11: Vincent Noordhof
A12: Telefoonnummer kantoor | H12: 085 200 3991
A13: E-mailadres contactpersoon offerte | H13: via TenderNed
A15: Volledige naam schoonmaakbedrijf (Handelsnaam KvK)
A16: Vestigingsplaats schoonmaakbedrijf (KvK)
A17: KvK-nummer
A18: Tekenbevoegde schoonmaakbedrijf voor contract
A19: Functie
A20: Tekenbevoegde schoonmaakbedrijf voor supplementen
A21: Functie
A23: Contactpersoon offerte
A24: Telefoonnummer kantoor
A25: Postadres kantoor
A26: Postcode en plaats kantoor
A27: Mobiel nummer contactpersoon offerte
A28: E-mailadres contactpersoon offerte

Sheet Uurtariefopbouw
B1: Tariefblad
E4: Offertetarief | G4: Regietarief divers | I4: Specialistisch tarief
B5: Totale loonkosten
B6: Middelen, materialen, machines, werkkleding en materialen | F6: =IF(E6="","",SUM(E6*$F$5)) | H6: =IF(G6="","",SUM(G6*$H$5)) | J6: =IF(I6="","",SUM(I6*$J$5))
B7: Direct toezicht | F7: =IF(E7="","",SUM(E7*$F$5)) | H7: =IF(G7="","",SUM(G7*$H$5)) | J7: =IF(I7="","",SUM(I7*$J$5))
B8: Diversen, indien van toepassing omschrijving | F8: =IF(E8="","",SUM(E8*$F$5)) | H8: =IF(G8="","",SUM(G8*$H$5)) | J8: =IF(I8="","",SUM(I8*$J$5))
F9: =IF(E9="","",SUM(E9*$F$5)) | H9: =IF(G9="","",SUM(G9*$H$5)) | J9: =IF(I9="","",SUM(I9*$J$5))
B10: Totaal directe kosten | F10: =SUM(F5:F9) -> 0 | H10: =SUM(H5:H9) -> 0 | J10: =SUM(J5:J9) -> 0
B11: Indirect toezicht | F11: =IF(E11="","",SUM(E11*$F$10)) | H11: =IF(G11="","",SUM(G11*$H$10)) | J11: =IF(I11="","",SUM(I11*$J$10))
B12: Overhead | F12: =IF(E12="","",SUM(E12*$F$10)) | H12: =IF(G12="","",SUM(G12*$H$10)) | J12: =IF(I12="","",SUM(I12*$J$10))
B13: Risico en Winst | F13: =IF(E13="","",SUM(E13*F10)) | H13: =IF(G13="","",SUM(G13*H10)) | J13: =IF(I13="","",SUM(I13*J10))
B14: Totaal indirecte kosten | F14: =SUM(F11:F13) -> 0 | H14: =SUM(H11:H13) -> 0 | J14: =SUM(J11:J13) -> 0
B15: Totaal tarief | F15: =SUM(F10+F14) -> 0 | H15: =SUM(H10+H14) -> 0 | J15: =SUM(J10+J14) -> 0
B18: Regietarief diverse werkzaamheden
C19: MA | D19: DI | E19: WO | F19: DO | G19: VR | H19: ZA | I19: ZO | J19: FE
B20: 00:00 tot 06:00 | C20: =IFERROR(SUM($H$5*1.5)+($H$15-$H$5),"") -> 0 | D20: =IFERROR(SUM($H$5*1.3)+($H$15-$H$5),"") -> 0 | E20: =IFERROR(SUM($H$5*1.3)+($H$15-$H$5),"") -> 0 | F20: =IFERROR(SUM($H$5*1.3)+($H$15-$H$5),"") -> 0 | G20: =IFERROR(SUM($H$5*1.3)+($H$15-$H$5),"") -> 0 | H20: =IFERROR(SUM($H$5*1.5)+($H$15-$H$5),"") -> 0 | I20: =IFERROR(SUM($H$5*1.5)+($H$15-$H$5),"") -> 0 | J20: =IFERROR(SUM($H$5*2.5)+($H$15-$H$5),"") -> 0
B21: 06:00 tot 21:30 | C21: =IFERROR(SUM($H$5*1)+($H$15-$H$5),"") -> 0 | D21: =IFERROR(SUM($H$5*1)+($H$15-$H$5),"") -> 0 | E21: =IFERROR(SUM($H$5*1)+($H$15-$H$5),"") -> 0 | F21: =IFERROR(SUM($H$5*1)+($H$15-$H$5),"") -> 0 | G21: =IFERROR(SUM($H$5*1)+($H$15-$H$5),"") -> 0 | H21: =IFERROR(SUM($H$5*1.5)+($H$15-$H$5),"") -> 0 | I21: =IFERROR(SUM($H$5*1.5)+($H$15-$H$5),"") -> 0 | J21: =IFERROR(SUM($H$5*2.5)+($H$15-$H$5),"") -> 0
B22: 21:30 tot 24:00 | C22: =IFERROR(SUM($H$5*1.3)+($H$15-$H$5),"") -> 0 | D22: =IFERROR(SUM($H$5*1.3)+($H$15-$H$5),"") -> 0 | E22: =IFERROR(SUM($H$5*1.3)+($H$15-$H$5),"") -> 0 | F22: =IFERROR(SUM($H$5*1.3)+($H$15-$H$5),"") -> 0 | G22: =IFERROR(SUM($H$5*1.5)+($H$15-$H$5),"") -> 0 | H22: =IFERROR(SUM($H$5*1.5)+($H$15-$H$5),"") -> 0 | I22: =IFERROR(SUM($H$5*1.5)+($H$15-$H$5),"") -> 0 | J22: =IFERROR(SUM($H$5*2.5)+($H$15-$H$5),"") -> 0
B24: Regietarief specialistische werkzaamheden
C25: MA | D25: DI | E25: WO | F25: DO | G25: VR | H25: ZA | I25: ZO | J25: FE
B26: 00:00 tot 06:00 | C26: =IFERROR(SUM($J$5*1.5)+($J$15-$J$5),"") -> 0 | D26: =IFERROR(SUM($J$5*1.3)+($J$15-$J$5),"") -> 0 | E26: =IFERROR(SUM($J$5*1.3)+($J$15-$J$5),"") -> 0 | F26: =IFERROR(SUM($J$5*1.3)+($J$15-$J$5),"") -> 0 | G26: =IFERROR(SUM($J$5*1.3)+($J$15-$J$5),"") -> 0 | H26: =IFERROR(SUM($J$5*1.5)+($J$15-$J$5),"") -> 0 | I26: =IFERROR(SUM($J$5*1.5)+($J$15-$J$5),"") -> 0 | J26: =IFERROR(SUM($J$5*2.5)+($J$15-$J$5),"") -> 0
B27: 06:00 tot 21:30 | C27: =IFERROR(SUM($J$5*1)+($J$15-$J$5),"") -> 0 | D27: =IFERROR(SUM($J$5*1)+($J$15-$J$5),"") -> 0 | E27: =IFERROR(SUM($J$5*1)+($J$15-$J$5),"") -> 0 | F27: =IFERROR(SUM($J$5*1)+($J$15-$J$5),"") -> 0 | G27: =IFERROR(SUM($J$5*1)+($J$15-$J$5),"") -> 0 | H27: =IFERROR(SUM($J$5*1.5)+($J$15-$J$5),"") -> 0 | I27: =IFERROR(SUM($J$5*1.5)+($J$15-$J$5),"") -> 0 | J27: =IFERROR(SUM($J$5*2.5)+($J$15-$J$5),"") -> 0
B28: 21:30 tot 24:00 | C28: =IFERROR(SUM($J$5*1.3)+($J$15-$J$5),"") -> 0 | D28: =IFERROR(SUM($J$5*1.3)+($J$15-$J$5),"") -> 0 | E28: =IFERROR(SUM($J$5*1.3)+($J$15-$J$5),"") -> 0 | F28: =IFERROR(SUM($J$5*1.3)+($J$15-$J$5),"") -> 0 | G28: =IFERROR(SUM($J$5*1.5)+($J$15-$J$5),"") -> 0 | H28: =IFERROR(SUM($J$5*1.5)+($J$15-$J$5),"") -> 0 | I28: =IFERROR(SUM($J$5*1.5)+($J$15-$J$5),"") -> 0 | J28: =IFERROR(SUM($J$5*2.5)+($J$15-$J$5),"") -> 0

Sheet Verzamelblad
A1: 1 | B1: 2 | C1: 3 | D1: 4 | E1: 5 | F1: 6 | G1: 7 | H1: 8 | I1: 9 | J1: 10 | K1: 11 | L1: 12 | M1: 13 | N1: 14 | O1: 15 | P1: 16 | Q1: 17 | R1: 18 | S1: 19 | T1: 20 | U1: 21 | V1: 22 | W1: 23 | X1: 24 | Y1: 25 | Z1: 26 | AA1: 27 | AB1: 28 | AC1: 29 | AD1: 30 | AE1: 31 | AF1: 32 | AG1: 33 | AH1: 34 | AI1: 35 | AJ1: 36 | AK1: 37 | AL1: 38 | AM1: 39 | AN1: 40 | AO1: 41 | AP1: 42 | AQ1: 43 | AR1: 44 | AS1: 45 | AT1: 46 | AU1: 47 | AV1: 48 | AW1: 49 | AX1: 50 | AY1: 51 | AZ1: 52 | BA1: 53 | BB1: 54 | BC1: 55 | BD1: 56 | BE1: 57 | BF1: 58 | BG1: 59 | BH1: 60 | BI1: 61 | BJ1: 62 | BK1: 63 | BL1: 64 | BM1: 65 | BN1: 66 | BO1: 67 | BP1: 68 | BQ1: 69 | BR1: 70 | BS1: 71 | BT1: 72 | BU1: 73 | BV1: 74 | BW1: 75 | BX1: 76 | BY1: 77 | BZ1: 78 | CA1: 79 | CB1: 80 | CC1: 81 | CD1: 82 | CE1: 83 | CF1: 84 | CG1: 85 | CH1: 86 | CI1: 87 | CJ1: 88 | CK1: 89 | CL1: 90 | CM1: 91 | CN1: 92 | CO1: 93 | CP1: 94 | CQ1: 95 | CR1: 96 | CS1: 97 | CT1: 98 | CU1: 99 | CV1: 100 | CW1: 101 | CX1: 102 | CY1: 103 | CZ1: 104 | DA1: 105 | DB1: 106 | DC1: 107 | DD1: 108 | DE1: 109
A2: Bestek | C2: Ingangsdatum | D2: Soort inspectie | E2: Inspectie betaald door | F2: Aantal inspecties | G2: Prijs per m² | H2: Minimale prijs
C3: 45078 | D3: VSR | E3: Opdrachtgever | F3: 3 | CT3: C
B4: inv | C4: Naam object | D4: Adres | E4: Plaats | F4: Aantal dagen schoonmaak per jaar | G4: M² prijs inspectie | H4: Totaal m² schoonmaak per dag | I4: Inspectieprijs | J4: Aantal inspecties | K4: … | L4: … | M4: … | N4: Gewenste aanvangstijd | O4: … | P4: Soort vloeronderhoud | Q4: Frequentie | R4: Soort vloeronderhoud | S4: Frequentie | T4: Soort vloeronderhoud | U4: Frequentie | V4: Soort vloeronderhoud | W4: Frequentie | X4: Soort vloeronderhoud | Y4: Frequentie | Z4: Soort vloeronderhoud | AA4: Frequentie | AB4: Soort vloeronderhoud | AC4: Frequentie | AD4: Soort vloeronderhoud | AE4: Frequentie | AF4: Extra werk-zaamheden | AG4: Prijs per | AH4: Aantal | AI4: Beurten per jaar | AJ4: Extra werk-zaamheden | AK4: Prijs per | AL4: Aantal | AM4: Beurten per jaar | AN4: Extra werk-zaamheden | AO4: Prijs per | AP4: Aantal | AQ4: Beurten per jaar | AR4: Extra werk-zaamheden | AS4: Prijs per | AT4: Aantal | AU4: Beurten per jaar | AV4: Extra werk-zaamheden | AW4: Prijs per | AX4: Aantal | AY4: Beurten per jaar | AZ4: Extra werk-zaamheden | BA4: Prijs per | BB4: Aantal | BC4: Beurten per jaar | BD4: Extra werk-zaamheden | BE4: Prijs per | BF4: Aantal | BG4: Beurten per jaar | BH4: Extra werk-zaamheden | BI4: Prijs per | BJ4: Aantal | BK4: Beurten per jaar | BL4: Extra werk-zaamheden | BM4: Prijs per | BN4: Aantal | BO4: Beurten per jaar | BP4: Extra werk-zaamheden | BQ4: Prijs per | BR4: Aantal | BS4: Beurten per jaar | BT4: Extra werk-zaamheden | BU4: Prijs per | BV4: Aantal | BW4: Beurten per jaar | BX4: Glas-bewassing | BY4: Frequentie | BZ4: Glas-bewassing | CA4: Frequentie | CB4: Glas-bewassing | CC4: Frequentie | CD4: Glas-bewassing | CE4: Frequentie | CF4: Glas-bewassing | CG4: Frequentie | CH4: Glas-bewassing | CI4: Frequentie | CJ4: Glas-bewassing | CK4: Frequentie | CL4: Glas-bewassing | CM4: Frequentie | CN4: Glas-bewassing | CO4: Frequentie | CP4: Glas-bewassing | CQ4: Frequentie | CR4: Levering sanitaire voorzieningen | CS4: Aantal gebruikers per locatie | CT4: M² dieptereiniging | CU4: M² glasbewassing binnen | CV4: M² glasbewassing buiten | CW4: M² glasbewassing separatie | CX4: M² glasbewassing koepel | CY4: M² glasbewassing boeidelen | CZ4: M² glasbewassing Gevelbeplating | DA4: M² recoaten | DB4: M² topstrippen en topcoaten | DC4: M² volsprayen | DD4: M² tapijtreinigen | DE4: M² inloopzones
A5: 1 | B5: =CONCATENATE(A5,"a") -> 1a | C5: Gemeentehuis | D5: Stationstraat 18 | E5: Buitenpost | F5: 260 | G5: =IF($G$3="","",$G$3) | H5: =INDIRECT("'" & B5 & "'!$K$515") -> 6381.8 | I5: 425 | J5: =IF($F$3="","",$F$3) -> 3 | P5: Conserveren | Q5: op afroep | AF5: Dieptereiniging sanitair | AG5: m² | AH5: =CT5 -> 129.1 | AI5: 1 | AJ5: Schrobben terras raadzaal | AK5: beurt | AL5: 1 | AM5: 2 | AN5: Extra toiletronde | AO5: uur | AP5: 1.5 | AQ5: 208 | BX5: Gevelglas oudbouw buitenzijde enkelvoudig gemeten | BY5: 2 | BZ5: Gevelglas nieuwbouw Jeltingahuis en entree enkelvoudig gemeten | CA5: 3 | CB5: Gevelglas binnenzijde enkelvoudig gemeten | CC5: 2 | CD5: Separatieglas dubbelvoudig gemeten | CE5: 2 | CF5: 8 luiken en 15 lantaarns | CG5: 1 | CH5: Trespa, houtwerk en boeiranden | CI5: 1 | CT5: =SUMIF('1a'!$C$500:$C$514,"G",'1a'!$K$500:$K$514) -> 129.1 | CU5: =INDIRECT("'" & B5 & "'!$K$539") -> 1892.6 | CV5: =INDIRECT("'" & B5 & "'!$K$540") -> 1892.6 | CW5: =INDIRECT("'" & B5 & "'!$K$541") -> 1273.5 | CX5: =INDIRECT("'" & B5 & "'!$K$542") -> 0 | CY5: =INDIRECT("'" & B5 & "'!$K$543") -> 310 | CZ5: =INDIRECT("'" & B5 & "'!$K$544") -> 0 | DA5: =INDIRECT("'" & B5 & "'!$G$515") -> 320 | DB5: =DA5 -> 320 | DC5: =DA5 -> 320 | DD5: =INDIRECT("'" & B5 & "'!$F$515") -> 4494
A6: 2 | B6: =CONCATENATE(A6,"a") -> 2a | C6: Gemeentewerf Buitenpost | D6: Vaart 4 | E6: Buitenpost | F6: 260 | G6: =IF($G$3="","",$G$3) | H6: =INDIRECT("'" & B6 & "'!$K$515") -> 652 | I6: 100 | J6: =IF($F$3="","",$F$3) -> 3 | P6: Schrobben epoxyvloeren | Q6: 2 | AF6: Dieptereiniging sanitair | AG6: m² | AH6: =CT6 -> 25 | AI6: 2 | BX6: Gevelglas buitenzijde enkelvoudig gemeten | BY6: 2 | BZ6: Gevelglas binnenzijde enkelvoudig gemeten | CA6: 2 | CB6: Separatieglas dubbelvoudig gemeten | CC6: 2 | CD6: Ramen en deuren brandweer/garages | CE6: 2 | CT6: =SUMIF('2a'!$C$500:$C$514,"G",'2a'!$K$500:$K$514) -> 25 | CU6: =INDIRECT("'" & B6 & "'!$K$539") -> 110.225 | CV6: =INDIRECT("'" & B6 & "'!$K$540") -> 110.225 | CW6: =INDIRECT("'" & B6 & "'!$K$541") -> 23.95 | CX6: =INDIRECT("'" & B6 & "'!$K$542") -> 231.45 | CY6: =INDIRECT("'" & B6 & "'!$K$543") -> 0 | CZ6: =INDIRECT("'" & B6 & "'!$K$544") -> 0
A7: 3 | B7: =CONCATENATE(A7,"a") -> 3a | C7: Gemeentewerf Surhuisterveen | D7: Badlaan 2a | E7: Surhuisterveen | F7: 260 | G7: =IF($G$3="","",$G$3) | H7: =INDIRECT("'" & B7 & "'!$K$515") -> 418 | I7: 100 | J7: =IF($F$3="","",$F$3) -> 3 | P7: Schrobben vloeren (extra) | Q7: op afroep | AF7: Dieptereiniging sanitair | AG7: m² | AH7: =CT7 -> 22 | AI7: 2 | BX7: Glas bi/bui/sep | BY7: 2 | CT7: =SUMIF('3a'!$C$500:$C$514,"G",'3a'!$K$500:$K$514) -> 22 | CU7: =INDIRECT("'" & B7 & "'!$K$539") -> 62 | CV7: =INDIRECT("'" & B7 & "'!$K$540") -> 0 | CW7: =INDIRECT("'" & B7 & "'!$K$541") -> 0 | CX7: =INDIRECT("'" & B7 & "'!$K$542") -> 0 | CY7: =INDIRECT("'" & B7 & "'!$K$543") -> 0 | CZ7: =INDIRECT("'" & B7 & "'!$K$544") -> 0 | DA7: =INDIRECT("'" & B7 & "'!$G$515") -> 0 | DB7: =DA7 -> 0 | DC7: =DA7 -> 0
A8: 4 | B8: =CONCATENATE(A8,"a") -> 4a | C8: De Kruidhof | D8: Schoolstraat 29B | E8: Buitenpost | F8: 52 | G8: =IF($G$3="","",$G$3) | H8: =INDIRECT("'" & B8 & "'!$K$515") -> 264.18 | I8: 100 | J8: =IF($F$3="","",$F$3) -> 3 | P8: Schrobben vloeren (extra) | Q8: op afroep | AF8: Dieptereiniging sanitair | AG8: m² | AH8: =CT8 -> 0 | BX8: Gevelglas buitenzijde enkelvoudig gemeten | BY8: 2 | BZ8: Gevelglas binnenzijde enkelvoudig gemeten | CA8: 2 | CB8: Separatieglas dubbelvoudig gemeten | CC8: 2 | CD8: Gevelglas buitenzijde incl. kantoren | CE8: 3 | CF8: Gevelglas binnenzijde incl. kantoren | CG8: 3 | CH8: Separatieglas incl. kantoren | CI8: 3 | CT8: =SUMIF('4a'!$C$500:$C$514,"G",'4a'!$K$500:$K$514) -> 0 | CU8: =INDIRECT("'" & B8 & "'!$K$539") -> 104.11 | CV8: =INDIRECT("'" & B8 & "'!$K$540") -> 104.11 | CW8: =INDIRECT("'" & B8 & "'!$K$541") -> 14.14 | CX8: =INDIRECT("'" & B8 & "'!$K$542") -> 113.43 | CY8: =INDIRECT("'" & B8 & "'!$K$543") -> 113.43 | CZ8: =INDIRECT("'" & B8 & "'!$K$544") -> 17.54 | DA8: =INDIRECT("'" & B8 & "'!$G$515") -> 0 | DB8: =DA8 -> 0 | DC8: =DA8 -> 0
A9: 5 | B9: =CONCATENATE(A9,"a") -> 5a | G9: =IF($G$3="","",$G$3) | H9: =INDIRECT("'" & B9 & "'!$K$515") -> 0 | I9: =IFERROR(IF(SUM(G9*H9<IF($H$3="","",$H$3)),IF($H$3="","",$H$3),SUM(G9*H9)),"") | J9: =IF($F$3="","",$F$3) -> 3 | P9: Recoaten | R9: Topstrippen en topcoaten | T9: Volsprayen | V9: Tapijtreinigen | X9: Reinigen inloopzones | AF9: Dieptereiniging sanitair | AG9: m² | AH9: =CT9 -> 0 | BX9: Gevelglas buitenzijde enkelvoudig gemeten | BZ9: Gevelglas binnenzijde enkelvoudig gemeten | CB9: Separatieglas dubbelvoudig gemeten | CD9: Koepelglas enkelvoudig gemeten | CF9: Boeidelen | CH9: Gevelbeplating | CT9: =SUMIF('5a'!$C$500:$C$514,"G",'5a'!$K$500:$K$514) -> 0 | CU9: =INDIRECT("'" & B9 & "'!$K$539") -> 0 | CV9: =INDIRECT("'" & B9 & "'!$K$540") -> 0 | CW9: =INDIRECT("'" & B9 & "'!$K$541") -> 0 | CX9: =INDIRECT("'" & B9 & "'!$K$542") -> 0 | CY9: =INDIRECT("'" & B9 & "'!$K$543") -> 0 | CZ9: =INDIRECT("'" & B9 & "'!$K$544") -> 0 | DA9: =INDIRECT("'" & B9 & "'!$G$515") -> 0 | DB9: =DA9 -> 0 | DC9: =DA9 -> 0 | DD9: =INDIRECT("'" & B9 & "'!$F$515") -> 0

Sheet 1
D2: =CONCATENATE("Uitvoeringsbepaling"," ",H4,", onderdeel van ",Verzamelblad!A2," ",Verzamelblad!A3) -> Uitvoeringsbepaling 1, onderdeel van Bestek
A4: Object: | B4: =VLOOKUP(H4,Verzamelblad!A5:E19,3) -> Gemeentehuis | F4: Uitvoeringsbepaling: | H4: =Verzamelblad!A5 -> 1
A5: Straat: | B5: =VLOOKUP(H4,Verzamelblad!A5:E19,4) -> Stationstraat 18 | F5: Inventarisatie: | H5: =CONCATENATE(H4,"a") -> 1a
A6: Plaats: | B6: =VLOOKUP(H4,Verzamelblad!A5:E19,5) -> Buitenpost | F6: Revisiedatum:
A8: Gewenste aanvangstijd schoonmaak: | E8: =VLOOKUP($H$4,Verzamelblad!$A$5:$EK$19,14,0) -> 0
A9: Aantal dagen schoonmaak per jaar: | E9: =VLOOKUP($H$4,Verzamelblad!$A$5:$EK$19,6,0) -> 260
F10: Prijs | G10: Uren | H10: Gem. uren/dag | I10: Jaarpijs | J10: Jaaruren | K10: Verhouding
A11: Werkzaamheden met een frequentie tot 1/20 | F11: =IFERROR(IF(SUM(I11/12)=0,"",SUM(I11/12)),"") | G11: =IFERROR(SUM(J11/12),"") | H11: =IFERROR(SUM(J11/E9),"") | I11: =IFERROR(IF(SUM($I$14*K11)=0,"",SUM($I$14*K11)),"") | J11: =IFERROR(SUM(J14*K11),"")
A12: Schoonmaakwerkzaamheden 3x per jaar | F12: =IFERROR(IF(SUM(I12/3)=0,"",SUM(I12/3)),"") | G12: =IFERROR(SUM(J12/3),"") | I12: =IFERROR(IF(SUM($I$14*K12)=0,"",SUM($I$14*K12)),"") | J12: =IFERROR(SUM(J14*K12),"")
A13: Schoonmaakwerkzaamheden 1x per jaar | F13: =IF(I13=0,"",I13) | G13: =IFERROR(J13,"") | I13: =IFERROR(IF(SUM($I$14*K13)=0,"",SUM($I$14*K13)),"") | J13: =IFERROR(SUM(J14*K13),"")
A14: Totale jaarprijs / jaaruren | F14: =IFERROR(IF(SUM(F11:F13)=0,"",SUM(F11:F13)),"") | G14: =IFERROR(SUM(G11:G13),"") -> 0 | I14: =IFERROR(IF(E100=0,"",E100),"") | J14: =IFERROR(SUM(I14/offertetarief),"") | K14: =IF(SUM(K11:K13)=100%,"","Geen 100%") -> Geen 100%
F15: Per dag | G15: Per jaar
A16: Uren direct toezicht | F16: =IFERROR(SUM((J14*directtoezicht)/E9),"") | G16: =IF(J14="","",SUM(J14*directtoezicht))
K17: Programma categorie | L17: Gemiddelde productie per m²
A18: Prestatie
A19: M² uit te besteden per jaar | D19: =D100 -> 1062000 | E19: M² uit te besteden per dag | G19: =IFERROR(D100/E9,"") -> 4084.6154 | H19: Gem. prestatie | I19: =IFERROR(SUM(D19/J14),"") | K19: =IF(INDIRECT("'"&$H$5&"'!F539")="X","",IF(INDIRECT("'"&$H$5&"'!F539")="Vrije categorie","",INDIRECT("'"&$H$5&"'!F539"))) -> A
K20: =IF(INDIRECT("'"&$H$5&"'!F540")="X","",IF(INDIRECT("'"&$H$5&"'!F540")="Vrije categorie","",INDIRECT("'"&$H$5&"'!F540"))) -> B
A21: Extra werkzaamheden | D21: Prijs per | E21: Aantal | F21: Prijs per eenheid | G21: Beurtprijs | H21: Beurten per jaar | I21: Prijs per jaar | K21: =IF(INDIRECT("'"&$H$5&"'!F541")="X","",IF(INDIRECT("'"&$H$5&"'!F541")="Vrije categorie","",INDIRECT("'"&$H$5&"'!F541"))) -> C
A22: =VLOOKUP($H$4,Verzamelblad!$A$5:$EK$19,32,0) -> Dieptereiniging sanitair | D22: =VLOOKUP($H$4,Verzamelblad!$A$5:$EK$19,33,0) -> m² | E22: =VLOOKUP($H$4,Verzamelblad!$A$5:$DE$19,34) -> 129.1 | G22: =IF(IF(E22="","",SUM(E22*F22))=0,"",IF(E22="","",SUM(E22*F22))) | H22: =VLOOKUP($H$4,Verzamelblad!$A$5:$EK$19,35,0) -> 1 | I22: =IFERROR(IF(IF(H22="op afroep","",SUM(G22*H22))=0,"",IF(H22="op afroep","",SUM(G22*H22))),"") | K22: =IF(INDIRECT("'"&$H$5&"'!F542")="X","",IF(INDIRECT("'"&$H$5&"'!F542")="Vrije categorie","",INDIRECT("'"&$H$5&"'!F542"))) -> D
A23: =VLOOKUP($H$4,Verzamelblad!$A$5:$EK$19,36,0) -> Schrobben terras raadzaal | D23: =VLOOKUP($H$4,Verzamelblad!$A$5:$EK$19,37,0) -> beurt | E23: =VLOOKUP($H$4,Verzamelblad!$A$5:$DE$19,38) -> 1 | G23: =IF(IF(E23="","",SUM(E23*F23))=0,"",IF(E23="","",SUM(E23*F23))) | H23: =VLOOKUP($H$4,Verzamelblad!$A$5:$EK$19,39,0) -> 2 | I23: =IFERROR(IF(IF(H23="op afroep","",SUM(G23*H23))=0,"",IF(H23="op afroep","",SUM(G23*H23))),"") | K23: =IF(INDIRECT("'"&$H$5&"'!F543")="X","",IF(INDIRECT("'"&$H$5&"'!F543")="Vrije categorie","",INDIRECT("'"&$H$5&"'!F543"))) -> E
K24: =IF(INDIRECT("'"&$H$5&"'!F544")="X","",IF(INDIRECT("'"&$H$5&"'!F544")="Vrije categorie","",INDIRECT("'"&$H$5&"'!F544"))) -> F
A25: =VLOOKUP($H$4,Verzamelblad!$A$5:$EK$19,44,0) -> 0 | D25: =VLOOKUP($H$4,Verzamelblad!$A$5:$EK$19,45,0) -> 0 | E25: =VLOOKUP($H$4,Verzamelblad!$A$5:$DE$19,46) -> 0 | G25: =IF(IF(E25="","",SUM(E25*F25))=0,"",IF(E25="","",SUM(E25*F25))) | H25: =VLOOKUP($H$4,Verzamelblad!$A$5:$EK$19,47,0) -> 0 | I25: =IFERROR(IF(IF(H25="op afroep","",SUM(G25*H25))=0,"",IF(H25="op afroep","",SUM(G25*H25))),"") | K25: =IF(INDIRECT("'"&$H$5&"'!F545")="X","",IF(INDIRECT("'"&$H$5&"'!F545")="Vrije categorie","",INDIRECT("'"&$H$5&"'!F545"))) -> G
A26: =VLOOKUP($H$4,Verzamelblad!$A$5:$EK$19,48,0) -> 0 | D26: =VLOOKUP($H$4,Verzamelblad!$A$5:$EK$19,49,0) -> 0 | E26: =VLOOKUP($H$4,Verzamelblad!$A$5:$DE$19,50) -> 0 | G26: =IF(IF(E26="","",SUM(E26*F26))=0,"",IF(E26="","",SUM(E26*F26))) | H26: =VLOOKUP($H$4,Verzamelblad!$A$5:$EK$19,51,0) -> 0 | I26: =IFERROR(IF(IF(H26="op afroep","",SUM(G26*H26))=0,"",IF(H26="op afroep","",SUM(G26*H26))),"") | K26: =IF(INDIRECT("'"&$H$5&"'!F546")="X","",IF(INDIRECT("'"&$H$5&"'!F546")="Vrije categorie","",INDIRECT("'"&$H$5&"'!F546"))) -> H
A27: =VLOOKUP($H$4,Verzamelblad!$A$5:$EK$19,52,0) -> 0 | D27: =VLOOKUP($H$4,Verzamelblad!$A$5:$EK$19,53,0) -> 0 | E27: =VLOOKUP($H$4,Verzamelblad!$A$5:$DE$19,54) -> 0 | G27: =IF(IF(E27="","",SUM(E27*F27))=0,"",IF(E27="","",SUM(E27*F27))) | H27: =VLOOKUP($H$4,Verzamelblad!$A$5:$EK$19,55,0) -> 0 | I27: =IFERROR(IF(IF(H27="op afroep","",SUM(G27*H27))=0,"",IF(H27="op afroep","",SUM(G27*H27))),"") | K27: =IF(INDIRECT("'"&$H$5&"'!F547")="X","",IF(INDIRECT("'"&$H$5&"'!F547")="Vrije categorie","",INDIRECT("'"&$H$5&"'!F547"))) -> I
A28: =VLOOKUP($H$4,Verzamelblad!$A$5:$EK$19,56,0) -> 0 | D28: =VLOOKUP($H$4,Verzamelblad!$A$5:$EK$19,57,0) -> 0 | E28: =VLOOKUP($H$4,Verzamelblad!$A$5:$DE$19,58) -> 0 | G28: =IF(IF(E28="","",SUM(E28*F28))=0,"",IF(E28="","",SUM(E28*F28))) | H28: =VLOOKUP($H$4,Verzamelblad!$A$5:$EK$19,59,0) -> 0 | I28: =IFERROR(IF(IF(H28="op afroep","",SUM(G28*H28))=0,"",IF(H28="op afroep","",SUM(G28*H28))),"") | K28: =IF(INDIRECT("'"&$H$5&"'!F548")="X","",IF(INDIRECT("'"&$H$5&"'!F548")="Vrije categorie","",INDIRECT("'"&$H$5&"'!F548"))) -> J
A29: =VLOOKUP($H$4,Verzamelblad!$A$5:$EK$19,60,0) -> 0 | D29: =VLOOKUP($H$4,Verzamelblad!$A$5:$EK$19,61,0) -> 0 | E29: =VLOOKUP($H$4,Verzamelblad!$A$5:$DE$19,62) -> 0 | G29: =IF(IF(E29="","",SUM(E29*F29))=0,"",IF(E29="","",SUM(E29*F29))) | H29: =VLOOKUP($H$4,Verzamelblad!$A$5:$EK$19,63,0) -> 0 | I29: =IFERROR(IF(IF(H29="op afroep","",SUM(G29*H29))=0,"",IF(H29="op afroep","",SUM(G29*H29))),"") | K29: =IF(INDIRECT("'"&$H$5&"'!F549")="X","",IF(INDIRECT("'"&$H$5&"'!F549")="Vrije categorie","",INDIRECT("'"&$H$5&"'!F549"))) -> K
A30: =VLOOKUP($H$4,Verzamelblad!$A$5:$EK$19,64,0) -> 0 | D30: =VLOOKUP($H$4,Verzamelblad!$A$5:$EK$19,65,0) -> 0 | E30: =VLOOKUP($H$4,Verzamelblad!$A$5:$DE$19,66) -> 0 | G30: =IF(IF(E30="","",SUM(E30*F30))=0,"",IF(E30="","",SUM(E30*F30))) | H30: =VLOOKUP($H$4,Verzamelblad!$A$5:$EK$19,67,0) -> 0 | I30: =IFERROR(IF(IF(H30="op afroep","",SUM(G30*H30))=0,"",IF(H30="op afroep","",SUM(G30*H30))),"") | K30: =IF(INDIRECT("'"&$H$5&"'!F550")="X","",IF(INDIRECT("'"&$H$5&"'!F550")="Vrije categorie","",INDIRECT("'"&$H$5&"'!F550")))
A31: =VLOOKUP($H$4,Verzamelblad!$A$5:$EK$19,68,0) -> 0 | D31: =VLOOKUP($H$4,Verzamelblad!$A$5:$EK$19,69,0) -> 0 | E31: =VLOOKUP($H$4,Verzamelblad!$A$5:$DE$19,70) -> 0 | G31: =IF(IF(E31="","",SUM(E31*F31))=0,"",IF(E31="","",SUM(E31*F31))) | H31: =VLOOKUP($H$4,Verzamelblad!$A$5:$EK$19,71,0) -> 0 | I31: =IFERROR(IF(IF(H31="op afroep","",SUM(G31*H31))=0,"",IF(H31="op afroep","",SUM(G31*H31))),"") | K31: =IF(INDIRECT("'"&$H$5&"'!F551")="X","",IF(INDIRECT("'"&$H$5&"'!F551")="Vrije categorie","",INDIRECT("'"&$H$5&"'!F551")))
A32: =VLOOKUP($H$4,Verzamelblad!$A$5:$EK$19,72,0) -> 0 | D32: =VLOOKUP($H$4,Verzamelblad!$A$5:$EK$19,73,0) -> 0 | E32: =VLOOKUP($H$4,Verzamelblad!$A$5:$DE$19,74) -> 0 | G32: =IF(IF(E32="","",SUM(E32*F32))=0,"",IF(E32="","",SUM(E32*F32))) | H32: =VLOOKUP($H$4,Verzamelblad!$A$5:$EK$19,75,0) -> 0 | I32: =IFERROR(IF(IF(H32="op afroep","",SUM(G32*H32))=0,"",IF(H32="op afroep","",SUM(G32*H32))),"") | K32: =IF(INDIRECT("'"&$H$5&"'!F552")="X","",IF(INDIRECT("'"&$H$5&"'!F552")="Vrije categorie","",INDIRECT("'"&$H$5&"'!F552")))
A33: Totaal | I33: =IF(SUM(I22:I32)=0,"",SUM(I22:I32)) | K33: =IF(INDIRECT("'"&$H$5&"'!F553")="X","",IF(INDIRECT("'"&$H$5&"'!F553")="Vrije categorie","",INDIRECT("'"&$H$5&"'!F553")))
A35: Vloeronderhoud | E35: M² | F35: Prijs per m² | G35: Beurtprijs | H35: Beurten per jaar | I35: Prijs per jaar
A36: =VLOOKUP($H$4,Verzamelblad!$A$5:$EK$19,16,0) -> Conserveren | E36: =VLOOKUP($H$4,Verzamelblad!$A$5:$DE$19,105) -> 320 | G36: =IF(IF(E36="","",SUM(E36*F36))=0,"",IF(E36="","",SUM(E36*F36))) | H36: =VLOOKUP($H$4,Verzamelblad!$A$5:$DE$19,17) -> op afroep | I36: =IFERROR(IF(IF(H36="op afroep","",SUM(G36*H36))=0,"",IF(H36="op afroep","",SUM(G36*H36))),"")
A37: =VLOOKUP($H$4,Verzamelblad!$A$5:$EK$19,18,0) -> 0 | G37: =IF(IF(E37="","",SUM(E37*F37))=0,"",IF(E37="","",SUM(E37*F37))) | H37: =VLOOKUP($H$4,Verzamelblad!$A$5:$DE$19,19) -> 0 | I37: =IFERROR(IF(IF(H37="op afroep","",SUM(G37*H37))=0,"",IF(H37="op afroep","",SUM(G37*H37))),"")
A38: =VLOOKUP($H$4,Verzamelblad!$A$5:$EK$19,20,0) -> 0 | G38: =IF(IF(E38="","",SUM(E38*F38))=0,"",IF(E38="","",SUM(E38*F38))) | H38: =VLOOKUP($H$4,Verzamelblad!$A$5:$DE$19,21) -> 0 | I38: =IFERROR(IF(IF(H38="op afroep","",SUM(G38*H38))=0,"",IF(H38="op afroep","",SUM(G38*H38))),"")
A39: =VLOOKUP($H$4,Verzamelblad!$A$5:$EK$19,22,0) -> 0 | G39: =IF(IF(E39="","",SUM(E39*F39))=0,"",IF(E39="","",SUM(E39*F39))) | H39: =VLOOKUP($H$4,Verzamelblad!$A$5:$DE$19,23) -> 0 | I39: =IFERROR(IF(IF(H39="op afroep","",SUM(G39*H39))=0,"",IF(H39="op afroep","",SUM(G39*H39))),"")
A40: =VLOOKUP($H$4,Verzamelblad!$A$5:$EK$19,24,0) -> 0 | E40: =VLOOKUP($H$4,Verzamelblad!$A$5:$DE$19,109) -> 0 | G40: =IF(IF(E40="","",SUM(E40*F40))=0,"",IF(E40="","",SUM(E40*F40))) | H40: =VLOOKUP($H$4,Verzamelblad!$A$5:$DE$19,25) -> 0 | I40: =IFERROR(IF(IF(H40="op afroep","",SUM(G40*H40))=0,"",IF(H40="op afroep","",SUM(G40*H40))),"")
A41: =VLOOKUP($H$4,Verzamelblad!$A$5:$EK$19,26,0) -> 0 | E41: 0 | G41: =IF(IF(E41="","",SUM(E41*F41))=0,"",IF(E41="","",SUM(E41*F41))) | H41: =VLOOKUP($H$4,Verzamelblad!$A$5:$DE$19,27) -> 0 | I41: =IFERROR(IF(IF(H41="op afroep","",SUM(G41*H41))=0,"",IF(H41="op afroep","",SUM(G41*H41))),"")
A42: =VLOOKUP($H$4,Verzamelblad!$A$5:$EK$19,28,0) -> 0 | E42: 0 | G42: =IF(IF(E42="","",SUM(E42*F42))=0,"",IF(E42="","",SUM(E42*F42))) | H42: =VLOOKUP($H$4,Verzamelblad!$A$5:$DE$19,29) -> 0 | I42: =IFERROR(IF(IF(H42="op afroep","",SUM(G42*H42))=0,"",IF(H42="op afroep","",SUM(G42*H42))),"")
A43: =VLOOKUP($H$4,Verzamelblad!$A$5:$EK$19,30,0) -> 0 | E43: 0 | G43: =IF(IF(E43="","",SUM(E43*F43))=0,"",IF(E43="","",SUM(E43*F43))) | H43: =VLOOKUP($H$4,Verzamelblad!$A$5:$DE$19,31) -> 0 | I43: =IFERROR(IF(IF(H43="op afroep","",SUM(G43*H43))=0,"",IF(H43="op afroep","",SUM(G43*H43))),"")
A44: Totaal | I44: =IF(SUM(I36:I43)=0,"",SUM(I36:I43))
...

Sheet 1a
A1: ='1'!H4 -> 1 | B1: Object: | D1: =IF(VLOOKUP(A1,Verzamelblad!A5:E19,3)=0,"",VLOOKUP(A1,Verzamelblad!A5:E19,3)) -> Gemeentehuis
B2: Adres, plaats: | D2: =IF(CONCATENATE(VLOOKUP(A1,Verzamelblad!A5:E19,4)," te ",VLOOKUP(A1,Verzamelblad!A5:E19,5))=" te ","",CONCATENATE(VLOOKUP(A1,Verzamelblad!A5:E19,4)," te ",VLOOKUP(A1,Verzamelblad!A5:E19,5))) -> Stationstraat 18 te Buitenpost
A3: bwdl | B3: nr | C3: Ruimte | D3: ED | E3: Cat. | F3: Tapijt | G3: Linoleum | H3: PVC | I3: Hout | J3: Steen/ Pulastic | K3: m2 | L3: Freq | M3: m2 smk/jr
C4: Begane grond
A5: P | B5: 001 | C5: Entree | E5: E | F5: 26 | K5: =SUM(F5:J5) -> 26 | L5: =IF(D5="X",0,IF(E5="",0,IF(E5="X",0,VLOOKUP(E5,$F$539:$G$553,2)))) -> 260 | M5: =SUM(K5*L5) -> 6760
A6: P | B6: 001b | C6: Hal (receptie) | E6: E | J6: 150 | K6: =SUM(F6:J6) -> 150 | L6: =IF(D6="X",0,IF(E6="",0,IF(E6="X",0,VLOOKUP(E6,$F$539:$G$553,2)))) -> 260 | M6: =SUM(K6*L6) -> 39000
A7: P | B7: 009 | C7: Centrale hal | E7: E | J7: 188 | K7: =SUM(F7:J7) -> 188 | L7: =IF(D7="X",0,IF(E7="",0,IF(E7="X",0,VLOOKUP(E7,$F$539:$G$553,2)))) -> 260 | M7: =SUM(K7*L7) -> 48880
A8: P | C8: in: trap | E8: E | K8: =SUM(F8:J8) -> 0 | L8: =IF(D8="X",0,IF(E8="",0,IF(E8="X",0,VLOOKUP(E8,$F$539:$G$553,2)))) -> 260 | M8: =SUM(K8*L8) -> 0
A9: P | B9: 021 | C9: Garderobe | E9: E | J9: 9 | K9: =SUM(F9:J9) -> 9 | L9: =IF(D9="X",0,IF(E9="",0,IF(E9="X",0,VLOOKUP(E9,$F$539:$G$553,2)))) -> 260 | M9: =SUM(K9*L9) -> 2340
A10: P | B10: 024 | C10: Toiletgroep 2x t 2xu | E10: G | J10: 8 | K10: =SUM(F10:J10) -> 8 | L10: =IF(D10="X",0,IF(E10="",0,IF(E10="X",0,VLOOKUP(E10,$F$539:$G$553,2)))) -> 260 | M10: =SUM(K10*L10) -> 2080
A11: P | B11: 022 | C11: Mv toilet | E11: G | J11: 4.5 | K11: =SUM(F11:J11) -> 4.5 | L11: =IF(D11="X",0,IF(E11="",0,IF(E11="X",0,VLOOKUP(E11,$F$539:$G$553,2)))) -> 260 | M11: =SUM(K11*L11) -> 1170
A12: P | B12: 023 | C12: Toiletgroep 3x t | E12: G | K12: =SUM(F12:J12) -> 0 | L12: =IF(D12="X",0,IF(E12="",0,IF(E12="X",0,VLOOKUP(E12,$F$539:$G$553,2)))) -> 260 | M12: =SUM(K12*L12) -> 0
A13: P | B13: 020 | C13: Raadzaal | E13: B | H13: 180 | J13: 45 | K13: =SUM(F13:J13) -> 225 | L13: =IF(D13="X",0,IF(E13="",0,IF(E13="X",0,VLOOKUP(E13,$F$539:$G$553,2)))) -> 260 | M13: =SUM(K13*L13) -> 58500
B14: 025 | C14: (achter) berging | E14: X | G14: 27 | K14: =SUM(F14:J14) -> 27 | L14: =IF(D14="X",0,IF(E14="",0,IF(E14="X",0,VLOOKUP(E14,$F$539:$G$553,2)))) -> 0 | M14: =SUM(K14*L14) -> 0
B15: 015 | C15: Vergaderkamer | E15: A | F15: 37 | K15: =SUM(F15:J15) -> 37 | L15: =IF(D15="X",0,IF(E15="",0,IF(E15="X",0,VLOOKUP(E15,$F$539:$G$553,2)))) -> 104 | M15: =SUM(K15*L15) -> 3848
B16: 016 | C16: Vergaderkamer | E16: A | F16: 27 | K16: =SUM(F16:J16) -> 27 | L16: =IF(D16="X",0,IF(E16="",0,IF(E16="X",0,VLOOKUP(E16,$F$539:$G$553,2)))) -> 104 | M16: =SUM(K16*L16) -> 2808
A17: P | B17: 009a | C17: Pantry/bar | E17: B | J17: 14 | K17: =SUM(F17:J17) -> 14 | L17: =IF(D17="X",0,IF(E17="",0,IF(E17="X",0,VLOOKUP(E17,$F$539:$G$553,2)))) -> 260 | M17: =SUM(K17*L17) -> 3640
B18: 017 | C18: (achter) voorraadkast | E18: X | J18: 4 | K18: =SUM(F18:J18) -> 4 | L18: =IF(D18="X",0,IF(E18="",0,IF(E18="X",0,VLOOKUP(E18,$F$539:$G$553,2)))) -> 0 | M18: =SUM(K18*L18) -> 0
B19: 010 | C19: Gang | E19: E | F19: 17 | K19: =SUM(F19:J19) -> 17 | L19: =IF(D19="X",0,IF(E19="",0,IF(E19="X",0,VLOOKUP(E19,$F$539:$G$553,2)))) -> 260 | M19: =SUM(K19*L19) -> 4420
B20: 014 | C20: Nooduitgang | E20: E | F20: 7 | K20: =SUM(F20:J20) -> 7 | L20: =IF(D20="X",0,IF(E20="",0,IF(E20="X",0,VLOOKUP(E20,$F$539:$G$553,2)))) -> 260 | M20: =SUM(K20*L20) -> 1820
C21: in: trappenhuis | E21: E | K21: =SUM(F21:J21) -> 0 | L21: =IF(D21="X",0,IF(E21="",0,IF(E21="X",0,VLOOKUP(E21,$F$539:$G$553,2)))) -> 260 | M21: =SUM(K21*L21) -> 0
B22: 013 | C22: Kantoor Griffier | E22: A | F22: 20 | K22: =SUM(F22:J22) -> 20 | L22: =IF(D22="X",0,IF(E22="",0,IF(E22="X",0,VLOOKUP(E22,$F$539:$G$553,2)))) -> 104 | M22: =SUM(K22*L22) -> 2080
B23: 012 | C23: Kantoor onderst griff | E23: A | F23: 25 | K23: =SUM(F23:J23) -> 25 | L23: =IF(D23="X",0,IF(E23="",0,IF(E23="X",0,VLOOKUP(E23,$F$539:$G$553,2)))) -> 104 | M23: =SUM(K23*L23) -> 2600
B24: 011 | C24: Kantoor | E24: A | F24: 22 | K24: =SUM(F24:J24) -> 22 | L24: =IF(D24="X",0,IF(E24="",0,IF(E24="X",0,VLOOKUP(E24,$F$539:$G$553,2)))) -> 104 | M24: =SUM(K24*L24) -> 2288
A25: P | B25: 004 | C25: Spreekkamer 1 | E25: B | F25: 17 | K25: =SUM(F25:J25) -> 17 | L25: =IF(D25="X",0,IF(E25="",0,IF(E25="X",0,VLOOKUP(E25,$F$539:$G$553,2)))) -> 260 | M25: =SUM(K25*L25) -> 4420
A26: P | B26: 005 | C26: Spreekkamer 2 | E26: B | F26: 17 | K26: =SUM(F26:J26) -> 17 | L26: =IF(D26="X",0,IF(E26="",0,IF(E26="X",0,VLOOKUP(E26,$F$539:$G$553,2)))) -> 260 | M26: =SUM(K26*L26) -> 4420
A27: P | B27: 006 | C27: Wachtruimte | E27: B | F27: 17 | K27: =SUM(F27:J27) -> 17 | L27: =IF(D27="X",0,IF(E27="",0,IF(E27="X",0,VLOOKUP(E27,$F$539:$G$553,2)))) -> 260 | M27: =SUM(K27*L27) -> 4420
A28: P | B28: 007 | C28: Spreekkamer 3 | E28: B | F28: 17 | K28: =SUM(F28:J28) -> 17 | L28: =IF(D28="X",0,IF(E28="",0,IF(E28="X",0,VLOOKUP(E28,$F$539:$G$553,2)))) -> 260 | M28: =SUM(K28*L28) -> 4420
A29: P | B29: 008 | C29: Spreekkamer 4 | E29: B | F29: 17 | K29: =SUM(F29:J29) -> 17 | L29: =IF(D29="X",0,IF(E29="",0,IF(E29="X",0,VLOOKUP(E29,$F$539:$G$553,2)))) -> 260 | M29: =SUM(K29*L29) -> 4420
A30: P | B30: 004 | C30: Gang | E30: E | J30: 179 | K30: =SUM(F30:J30) -> 179 | L30: =IF(D30="X",0,IF(E30="",0,IF(E30="X",0,VLOOKUP(E30,$F$539:$G$553,2)))) -> 260 | M30: =SUM(K30*L30) -> 46540
C31: Trappenhuis | E31: E | I31: 16 | K31: =SUM(F31:J31) -> 16 | L31: =IF(D31="X",0,IF(E31="",0,IF(E31="X",0,VLOOKUP(E31,$F$539:$G$553,2)))) -> 260 | M31: =SUM(K31*L31) -> 4160
B32: C032 | C32: Hal | E32: E | F32: 115 | K32: =SUM(F32:J32) -> 115 | L32: =IF(D32="X",0,IF(E32="",0,IF(E32="X",0,VLOOKUP(E32,$F$539:$G$553,2)))) -> 260 | M32: =SUM(K32*L32) -> 29900
B33: A014c | C33: Overlegruimte | E33: A | F33: 26 | K33: =SUM(F33:J33) -> 26 | L33: =IF(D33="X",0,IF(E33="",0,IF(E33="X",0,VLOOKUP(E33,$F$539:$G$553,2)))) -> 104 | M33: =SUM(K33*L33) -> 2704
B34: A014b | C34: Overlegruimte | E34: A | F34: 25 | K34: =SUM(F34:J34) -> 25 | L34: =IF(D34="X",0,IF(E34="",0,IF(E34="X",0,VLOOKUP(E34,$F$539:$G$553,2)))) -> 104 | M34: =SUM(K34*L34) -> 2600
B35: A014a | C35: Servicedesk | E35: A | F35: 33 | K35: =SUM(F35:J35) -> 33 | L35: =IF(D35="X",0,IF(E35="",0,IF(E35="X",0,VLOOKUP(E35,$F$539:$G$553,2)))) -> 104 | M35: =SUM(K35*L35) -> 3432
B36: A015 | C36: Reproruimte | E36: A | F36: 25 | K36: =SUM(F36:J36) -> 25 | L36: =IF(D36="X",0,IF(E36="",0,IF(E36="X",0,VLOOKUP(E36,$F$539:$G$553,2)))) -> 104 | M36: =SUM(K36*L36) -> 2600
B37: A016 | C37: Magazijn | E37: X | G37: 24 | K37: =SUM(F37:J37) -> 24 | L37: =IF(D37="X",0,IF(E37="",0,IF(E37="X",0,VLOOKUP(E37,$F$539:$G$553,2)))) -> 0 | M37: =SUM(K37*L37) -> 0
C38: Trappenhuis | E38: E | G38: 10 | I38: 6.5 | K38: =SUM(F38:J38) -> 16.5 | L38: =IF(D38="X",0,IF(E38="",0,IF(E38="X",0,VLOOKUP(E38,$F$539:$G$553,2)))) -> 260 | M38: =SUM(K38*L38) -> 4290
B39: A019 | C39: Archief burgerz | E39: K | G39: 13 | K39: =SUM(F39:J39) -> 13 | L39: =IF(D39="X",0,IF(E39="",0,IF(E39="X",0,VLOOKUP(E39,$F$539:$G$553,2)))) -> 12 | M39: =SUM(K39*L39) -> 156
B40: A021 | C40: Archief extra | E40: X | G40: 6 | K40: =SUM(F40:J40) -> 6 | L40: =IF(D40="X",0,IF(E40="",0,IF(E40="X",0,VLOOKUP(E40,$F$539:$G$553,2)))) -> 0 | M40: =SUM(K40*L40) -> 0
...

Sheet 2
D2: =CONCATENATE("Uitvoeringsbepaling"," ",H4,", onderdeel van ",Verzamelblad!A2," ",Verzamelblad!A3) -> Uitvoeringsbepaling 2, onderdeel van Bestek
A4: Object: | B4: =VLOOKUP(H4,Verzamelblad!A5:E19,3) -> Gemeentewerf Buitenpost | F4: Uitvoeringsbepaling: | H4: 2
A5: Straat: | B5: =VLOOKUP(H4,Verzamelblad!A5:E19,4) -> Vaart 4 | F5: Inventarisatie: | H5: =CONCATENATE(H4,"a") -> 2a
A6: Plaats: | B6: =VLOOKUP(H4,Verzamelblad!A5:E19,5) -> Buitenpost | F6: Revisiedatum:
A8: Gewenste aanvangstijd schoonmaak: | E8: =VLOOKUP($H$4,Verzamelblad!$A$5:$EK$19,14,0) -> 0
A9: Aantal dagen schoonmaak per jaar: | E9: =VLOOKUP($H$4,Verzamelblad!$A$5:$EK$19,6,0) -> 260
F10: Prijs | G10: Uren | H10: Gem. uren/dag | I10: Jaarpijs | J10: Jaaruren | K10: Verhouding
A11: Werkzaamheden met een frequentie tot 1/20 | F11: =IFERROR(IF(SUM(I11/12)=0,"",SUM(I11/12)),"") | G11: =IFERROR(SUM(J11/12),"") | H11: =IFERROR(SUM(J11/E9),"") | I11: =IFERROR(IF(SUM($I$14*K11)=0,"",SUM($I$14*K11)),"") | J11: =IFERROR(SUM(J14*K11),"")
A12: Schoonmaakwerkzaamheden 3x per jaar | F12: =IFERROR(IF(SUM(I12/3)=0,"",SUM(I12/3)),"") | G12: =IFERROR(SUM(J12/3),"") | I12: =IFERROR(IF(SUM($I$14*K12)=0,"",SUM($I$14*K12)),"") | J12: =IFERROR(SUM(J14*K12),"")
A13: Schoonmaakwerkzaamheden 1x per jaar | F13: =IF(I13=0,"",I13) | G13: =IFERROR(J13,"") | I13: =IFERROR(IF(SUM($I$14*K13)=0,"",SUM($I$14*K13)),"") | J13: =IFERROR(SUM(J14*K13),"")
A14: Totale jaarprijs / jaaruren | F14: =IFERROR(IF(SUM(F11:F13)=0,"",SUM(F11:F13)),"") | G14: =IFERROR(SUM(G11:G13),"") -> 0 | I14: =IFERROR(IF(E100=0,"",E100),"") | J14: =IFERROR(SUM(I14/offertetarief),"") | K14: =IF(SUM(K11:K13)=100%,"","Geen 100%") -> Geen 100%
F15: Per dag | G15: Per jaar
A16: Uren direct toezicht | F16: =IFERROR(SUM((J14*directtoezicht)/E9),"") | G16: =IF(J14="","",SUM(J14*directtoezicht))
K17: Programma categorie | L17: Gemiddelde productie per m²
A18: Prestatie
A19: M² uit te besteden per jaar | D19: =D100 -> 61100 | E19: M² uit te besteden per dag | G19: =IFERROR(D100/E9,"") -> 235 | H19: Gem. prestatie | I19: =IFERROR(SUM(D19/J14),"") | K19: =IF(INDIRECT("'"&$H$5&"'!F539")="X","",IF(INDIRECT("'"&$H$5&"'!F539")="Vrije categorie","",INDIRECT("'"&$H$5&"'!F539"))) -> A
K20: =IF(INDIRECT("'"&$H$5&"'!F540")="X","",IF(INDIRECT("'"&$H$5&"'!F540")="Vrije categorie","",INDIRECT("'"&$H$5&"'!F540"))) -> B
A21: Extra werkzaamheden | D21: Prijs per | E21: Aantal | F21: Prijs per eenheid | G21: Beurtprijs | H21: Beurten per jaar | I21: Prijs per jaar | K21: =IF(INDIRECT("'"&$H$5&"'!F541")="X","",IF(INDIRECT("'"&$H$5&"'!F541")="Vrije categorie","",INDIRECT("'"&$H$5&"'!F541"))) -> C
A22: =VLOOKUP($H$4,Verzamelblad!$A$5:$EK$19,32,0) -> Dieptereiniging sanitair | D22: =VLOOKUP($H$4,Verzamelblad!$A$5:$EK$19,33,0) -> m² | E22: =VLOOKUP($H$4,Verzamelblad!$A$5:$DE$19,34) -> 25 | G22: =IF(IF(E22="","",SUM(E22*F22))=0,"",IF(E22="","",SUM(E22*F22))) | H22: =VLOOKUP($H$4,Verzamelblad!$A$5:$EK$19,35,0) -> 2 | I22: =IFERROR(IF(IF(H22="op afroep","",SUM(G22*H22))=0,"",IF(H22="op afroep","",SUM(G22*H22))),"") | K22: =IF(INDIRECT("'"&$H$5&"'!F542")="X","",IF(INDIRECT("'"&$H$5&"'!F542")="Vrije categorie","",INDIRECT("'"&$H$5&"'!F542"))) -> D
A23: =VLOOKUP($H$4,Verzamelblad!$A$5:$EK$19,36,0) -> 0 | D23: =VLOOKUP($H$4,Verzamelblad!$A$5:$EK$19,37,0) -> 0 | E23: =VLOOKUP($H$4,Verzamelblad!$A$5:$DE$19,38) -> 0 | G23: =IF(IF(E23="","",SUM(E23*F23))=0,"",IF(E23="","",SUM(E23*F23))) | H23: =VLOOKUP($H$4,Verzamelblad!$A$5:$EK$19,39,0) -> 0 | I23: =IFERROR(IF(IF(H23="op afroep","",SUM(G23*H23))=0,"",IF(H23="op afroep","",SUM(G23*H23))),"") | K23: =IF(INDIRECT("'"&$H$5&"'!F543")="X","",IF(INDIRECT("'"&$H$5&"'!F543")="Vrije categorie","",INDIRECT("'"&$H$5&"'!F543"))) -> E
A24: =VLOOKUP($H$4,Verzamelblad!$A$5:$EK$19,40,0) -> 0 | D24: =VLOOKUP($H$4,Verzamelblad!$A$5:$EK$19,41,0) -> 0 | E24: =VLOOKUP($H$4,Verzamelblad!$A$5:$DE$19,42) -> 0 | G24: =IF(IF(E24="","",SUM(E24*F24))=0,"",IF(E24="","",SUM(E24*F24))) | H24: =VLOOKUP($H$4,Verzamelblad!$A$5:$EK$19,43,0) -> 0 | I24: =IFERROR(IF(IF(H24="op afroep","",SUM(G24*H24))=0,"",IF(H24="op afroep","",SUM(G24*H24))),"") | K24: =IF(INDIRECT("'"&$H$5&"'!F544")="X","",IF(INDIRECT("'"&$H$5&"'!F544")="Vrije categorie","",INDIRECT("'"&$H$5&"'!F544"))) -> F
A25: =VLOOKUP($H$4,Verzamelblad!$A$5:$EK$19,44,0) -> 0 | D25: =VLOOKUP($H$4,Verzamelblad!$A$5:$EK$19,45,0) -> 0 | E25: =VLOOKUP($H$4,Verzamelblad!$A$5:$DE$19,46) -> 0 | G25: =IF(IF(E25="","",SUM(E25*F25))=0,"",IF(E25="","",SUM(E25*F25))) | H25: =VLOOKUP($H$4,Verzamelblad!$A$5:$EK$19,47,0) -> 0 | I25: =IFERROR(IF(IF(H25="op afroep","",SUM(G25*H25))=0,"",IF(H25="op afroep","",SUM(G25*H25))),"") | K25: =IF(INDIRECT("'"&$H$5&"'!F545")="X","",IF(INDIRECT("'"&$H$5&"'!F545")="Vrije categorie","",INDIRECT("'"&$H$5&"'!F545"))) -> G
A26: =VLOOKUP($H$4,Verzamelblad!$A$5:$EK$19,48,0) -> 0 | D26: =VLOOKUP($H$4,Verzamelblad!$A$5:$EK$19,49,0) -> 0 | E26: =VLOOKUP($H$4,Verzamelblad!$A$5:$DE$19,50) -> 0 | G26: =IF(IF(E26="","",SUM(E26*F26))=0,"",IF(E26="","",SUM(E26*F26))) | H26: =VLOOKUP($H$4,Verzamelblad!$A$5:$EK$19,51,0) -> 0 | I26: =IFERROR(IF(IF(H26="op afroep","",SUM(G26*H26))=0,"",IF(H26="op afroep","",SUM(G26*H26))),"") | K26: =IF(INDIRECT("'"&$H$5&"'!F546")="X","",IF(INDIRECT("'"&$H$5&"'!F546")="Vrije categorie","",INDIRECT("'"&$H$5&"'!F546"))) -> H
A27: =VLOOKUP($H$4,Verzamelblad!$A$5:$EK$19,52,0) -> 0 | D27: =VLOOKUP($H$4,Verzamelblad!$A$5:$EK$19,53,0) -> 0 | E27: =VLOOKUP($H$4,Verzamelblad!$A$5:$DE$19,54) -> 0 | G27: =IF(IF(E27="","",SUM(E27*F27))=0,"",IF(E27="","",SUM(E27*F27))) | H27: =VLOOKUP($H$4,Verzamelblad!$A$5:$EK$19,55,0) -> 0 | I27: =IFERROR(IF(IF(H27="op afroep","",SUM(G27*H27))=0,"",IF(H27="op afroep","",SUM(G27*H27))),"") | K27: =IF(INDIRECT("'"&$H$5&"'!F547")="X","",IF(INDIRECT("'"&$H$5&"'!F547")="Vrije categorie","",INDIRECT("'"&$H$5&"'!F547"))) -> I
A28: =VLOOKUP($H$4,Verzamelblad!$A$5:$EK$19,56,0) -> 0 | D28: =VLOOKUP($H$4,Verzamelblad!$A$5:$EK$19,57,0) -> 0 | E28: =VLOOKUP($H$4,Verzamelblad!$A$5:$DE$19,58) -> 0 | G28: =IF(IF(E28="","",SUM(E28*F28))=0,"",IF(E28="","",SUM(E28*F28))) | H28: =VLOOKUP($H$4,Verzamelblad!$A$5:$EK$19,59,0) -> 0 | I28: =IFERROR(IF(IF(H28="op afroep","",SUM(G28*H28))=0,"",IF(H28="op afroep","",SUM(G28*H28))),"") | K28: =IF(INDIRECT("'"&$H$5&"'!F548")="X","",IF(INDIRECT("'"&$H$5&"'!F548")="Vrije categorie","",INDIRECT("'"&$H$5&"'!F548"))) -> J
A29: =VLOOKUP($H$4,Verzamelblad!$A$5:$EK$19,60,0) -> 0 | D29: =VLOOKUP($H$4,Verzamelblad!$A$5:$EK$19,61,0) -> 0 | E29: =VLOOKUP($H$4,Verzamelblad!$A$5:$DE$19,62) -> 0 | G29: =IF(IF(E29="","",SUM(E29*F29))=0,"",IF(E29="","",SUM(E29*F29))) | H29: =VLOOKUP($H$4,Verzamelblad!$A$5:$EK$19,63,0) -> 0 | I29: =IFERROR(IF(IF(H29="op afroep","",SUM(G29*H29))=0,"",IF(H29="op afroep","",SUM(G29*H29))),"") | K29: =IF(INDIRECT("'"&$H$5&"'!F549")="X","",IF(INDIRECT("'"&$H$5&"'!F549")="Vrije categorie","",INDIRECT("'"&$H$5&"'!F549"))) -> K
A30: =VLOOKUP($H$4,Verzamelblad!$A$5:$EK$19,64,0) -> 0 | D30: =VLOOKUP($H$4,Verzamelblad!$A$5:$EK$19,65,0) -> 0 | E30: =VLOOKUP($H$4,Verzamelblad!$A$5:$DE$19,66) -> 0 | G30: =IF(IF(E30="","",SUM(E30*F30))=0,"",IF(E30="","",SUM(E30*F30))) | H30: =VLOOKUP($H$4,Verzamelblad!$A$5:$EK$19,67,0) -> 0 | I30: =IFERROR(IF(IF(H30="op afroep","",SUM(G30*H30))=0,"",IF(H30="op afroep","",SUM(G30*H30))),"") | K30: =IF(INDIRECT("'"&$H$5&"'!F550")="X","",IF(INDIRECT("'"&$H$5&"'!F550")="Vrije categorie","",INDIRECT("'"&$H$5&"'!F550")))
A31: =VLOOKUP($H$4,Verzamelblad!$A$5:$EK$19,68,0) -> 0 | D31: =VLOOKUP($H$4,Verzamelblad!$A$5:$EK$19,69,0) -> 0 | E31: =VLOOKUP($H$4,Verzamelblad!$A$5:$DE$19,70) -> 0 | G31: =IF(IF(E31="","",SUM(E31*F31))=0,"",IF(E31="","",SUM(E31*F31))) | H31: =VLOOKUP($H$4,Verzamelblad!$A$5:$EK$19,71,0) -> 0 | I31: =IFERROR(IF(IF(H31="op afroep","",SUM(G31*H31))=0,"",IF(H31="op afroep","",SUM(G31*H31))),"") | K31: =IF(INDIRECT("'"&$H$5&"'!F551")="X","",IF(INDIRECT("'"&$H$5&"'!F551")="Vrije categorie","",INDIRECT("'"&$H$5&"'!F551")))
A32: =VLOOKUP($H$4,Verzamelblad!$A$5:$EK$19,72,0) -> 0 | D32: =VLOOKUP($H$4,Verzamelblad!$A$5:$EK$19,73,0) -> 0 | E32: =VLOOKUP($H$4,Verzamelblad!$A$5:$DE$19,74) -> 0 | G32: =IF(IF(E32="","",SUM(E32*F32))=0,"",IF(E32="","",SUM(E32*F32))) | H32: =VLOOKUP($H$4,Verzamelblad!$A$5:$EK$19,75,0) -> 0 | I32: =IFERROR(IF(IF(H32="op afroep","",SUM(G32*H32))=0,"",IF(H32="op afroep","",SUM(G32*H32))),"") | K32: =IF(INDIRECT("'"&$H$5&"'!F552")="X","",IF(INDIRECT("'"&$H$5&"'!F552")="Vrije categorie","",INDIRECT("'"&$H$5&"'!F552")))
A33: Totaal | I33: =IF(SUM(I22:I32)=0,"",SUM(I22:I32)) | K33: =IF(INDIRECT("'"&$H$5&"'!F553")="X","",IF(INDIRECT("'"&$H$5&"'!F553")="Vrije categorie","",INDIRECT("'"&$H$5&"'!F553")))
A35: Vloeronderhoud | E35: M² | F35: Prijs per m² | G35: Beurtprijs | H35: Beurten per jaar | I35: Prijs per jaar
A36: =VLOOKUP($H$4,Verzamelblad!$A$5:$EK$19,16,0) -> Schrobben epoxyvloeren | E36: =SUM('2a'!J9:J13) -> 117 | G36: =IF(IF(E36="","",SUM(E36*F36))=0,"",IF(E36="","",SUM(E36*F36))) | H36: =VLOOKUP($H$4,Verzamelblad!$A$5:$DE$19,17) -> 2 | I36: =IFERROR(IF(IF(H36="op afroep","",SUM(G36*H36))=0,"",IF(H36="op afroep","",SUM(G36*H36))),"")
A37: =VLOOKUP($H$4,Verzamelblad!$A$5:$EK$19,18,0) -> 0 | E37: =VLOOKUP($H$4,Verzamelblad!$A$5:$DE$19,106) -> 0 | G37: =IF(IF(E37="","",SUM(E37*F37))=0,"",IF(E37="","",SUM(E37*F37))) | H37: =VLOOKUP($H$4,Verzamelblad!$A$5:$DE$19,19) -> 0 | I37: =IFERROR(IF(IF(H37="op afroep","",SUM(G37*H37))=0,"",IF(H37="op afroep","",SUM(G37*H37))),"")
A38: =VLOOKUP($H$4,Verzamelblad!$A$5:$EK$19,20,0) -> 0 | E38: =VLOOKUP($H$4,Verzamelblad!$A$5:$DE$19,107) -> 0 | G38: =IF(IF(E38="","",SUM(E38*F38))=0,"",IF(E38="","",SUM(E38*F38))) | H38: =VLOOKUP($H$4,Verzamelblad!$A$5:$DE$19,21) -> 0 | I38: =IFERROR(IF(IF(H38="op afroep","",SUM(G38*H38))=0,"",IF(H38="op afroep","",SUM(G38*H38))),"")
A39: =VLOOKUP($H$4,Verzamelblad!$A$5:$EK$19,22,0) -> 0 | E39: =VLOOKUP($H$4,Verzamelblad!$A$5:$DE$19,108) -> 0 | G39: =IF(IF(E39="","",SUM(E39*F39))=0,"",IF(E39="","",SUM(E39*F39))) | H39: =VLOOKUP($H$4,Verzamelblad!$A$5:$DE$19,23) -> 0 | I39: =IFERROR(IF(IF(H39="op afroep","",SUM(G39*H39))=0,"",IF(H39="op afroep","",SUM(G39*H39))),"")
A40: =VLOOKUP($H$4,Verzamelblad!$A$5:$EK$19,24,0) -> 0 | E40: =VLOOKUP($H$4,Verzamelblad!$A$5:$DE$19,109) -> 0 | G40: =IF(IF(E40="","",SUM(E40*F40))=0,"",IF(E40="","",SUM(E40*F40))) | H40: =VLOOKUP($H$4,Verzamelblad!$A$5:$DE$19,25) -> 0 | I40: =IFERROR(IF(IF(H40="op afroep","",SUM(G40*H40))=0,"",IF(H40="op afroep","",SUM(G40*H40))),"")
A41: =VLOOKUP($H$4,Verzamelblad!$A$5:$EK$19,26,0) -> 0 | E41: 0 | G41: =IF(IF(E41="","",SUM(E41*F41))=0,"",IF(E41="","",SUM(E41*F41))) | H41: =VLOOKUP($H$4,Verzamelblad!$A$5:$DE$19,27) -> 0 | I41: =IFERROR(IF(IF(H41="op afroep","",SUM(G41*H41))=0,"",IF(H41="op afroep","",SUM(G41*H41))),"")
A42: =VLOOKUP($H$4,Verzamelblad!$A$5:$EK$19,28,0) -> 0 | E42: 0 | G42: =IF(IF(E42="","",SUM(E42*F42))=0,"",IF(E42="","",SUM(E42*F42))) | H42: =VLOOKUP($H$4,Verzamelblad!$A$5:$DE$19,29) -> 0 | I42: =IFERROR(IF(IF(H42="op afroep","",SUM(G42*H42))=0,"",IF(H42="op afroep","",SUM(G42*H42))),"")
A43: =VLOOKUP($H$4,Verzamelblad!$A$5:$EK$19,30,0) -> 0 | E43: 0 | G43: =IF(IF(E43="","",SUM(E43*F43))=0,"",IF(E43="","",SUM(E43*F43))) | H43: =VLOOKUP($H$4,Verzamelblad!$A$5:$DE$19,31) -> 0 | I43: =IFERROR(IF(IF(H43="op afroep","",SUM(G43*H43))=0,"",IF(H43="op afroep","",SUM(G43*H43))),"")
A44: Totaal | I44: =IF(SUM(I36:I43)=0,"",SUM(I36:I43))
...

Sheet 2a
A1: ='2'!H4 -> 2 | B1: Object: | D1: =IF(VLOOKUP(A1,Verzamelblad!A5:E19,3)=0,"",VLOOKUP(A1,Verzamelblad!A5:E19,3)) -> Gemeentewerf Buitenpost
B2: Adres, plaats: | D2: =IF(CONCATENATE(VLOOKUP(A1,Verzamelblad!A5:E19,4)," te ",VLOOKUP(A1,Verzamelblad!A5:E19,5))=" te ","",CONCATENATE(VLOOKUP(A1,Verzamelblad!A5:E19,4)," te ",VLOOKUP(A1,Verzamelblad!A5:E19,5))) -> Vaart 4 te Buitenpost
A3: bwdl | B3: nr | C3: Ruimte | D3: ED | E3: Cat. | F3: Tapijt | G3: Linoleum | H3: PVC | I3: Hout | J3: Steen/ Pulastic | K3: m2 | L3: Freq | M3: m2 smk/jr
C4: Entree | E4: E | F4: 3 | J4: 29 | K4: =SUM(F4:J4) -> 32 | L4: =IF(E4="",0,IF(E4="X",0,VLOOKUP(E4,$F$539:$G$553,2))) -> 260 | M4: =SUM(K4*L4) -> 8320
C5: Overlegruimte | E5: B | F5: 25 | K5: =SUM(F5:J5) -> 25 | L5: =IF(E5="",0,IF(E5="X",0,VLOOKUP(E5,$F$539:$G$553,2))) -> 260 | M5: =SUM(K5*L5) -> 6500
C6: in: magazijn | E6: X | F6: 11 | K6: =SUM(F6:J6) -> 11 | L6: =IF(E6="",0,IF(E6="X",0,VLOOKUP(E6,$F$539:$G$553,2))) -> 0 | M6: =SUM(K6*L6) -> 0
C7: Kast | E7: X | J7: 2 | K7: =SUM(F7:J7) -> 2 | L7: =IF(E7="",0,IF(E7="X",0,VLOOKUP(E7,$F$539:$G$553,2))) -> 0 | M7: =SUM(K7*L7) -> 0
C8: Kast | E8: X | J8: 2 | K8: =SUM(F8:J8) -> 2 | L8: =IF(E8="",0,IF(E8="X",0,VLOOKUP(E8,$F$539:$G$553,2))) -> 0 | M8: =SUM(K8*L8) -> 0
C9: Keuken | E9: D | J9: 10 | K9: =SUM(F9:J9) -> 10 | L9: =IF(E9="",0,IF(E9="X",0,VLOOKUP(E9,$F$539:$G$553,2))) -> 260 | M9: =SUM(K9*L9) -> 2600
C10: Kantine | E10: C | J10: 64 | K10: =SUM(F10:J10) -> 64 | L10: =IF(E10="",0,IF(E10="X",0,VLOOKUP(E10,$F$539:$G$553,2))) -> 260 | M10: =SUM(K10*L10) -> 16640
C11: Gang | E11: E | J11: 18 | K11: =SUM(F11:J11) -> 18 | L11: =IF(E11="",0,IF(E11="X",0,VLOOKUP(E11,$F$539:$G$553,2))) -> 260 | M11: =SUM(K11*L11) -> 4680
C12: Toiletgroep 1xt 1xdouch 1xwb | E12: G | J12: 17 | K12: =SUM(F12:J12) -> 17 | L12: =IF(E12="",0,IF(E12="X",0,VLOOKUP(E12,$F$539:$G$553,2))) -> 260 | M12: =SUM(K12*L12) -> 4420
C13: Toiletgroep 2xt 2xu 1xwb | E13: G | J13: 8 | K13: =SUM(F13:J13) -> 8 | L13: =IF(E13="",0,IF(E13="X",0,VLOOKUP(E13,$F$539:$G$553,2))) -> 260 | M13: =SUM(K13*L13) -> 2080
C14: Kantoor | E14: B | G14: 13 | K14: =SUM(F14:J14) -> 13 | L14: =IF(E14="",0,IF(E14="X",0,VLOOKUP(E14,$F$539:$G$553,2))) -> 260 | M14: =SUM(K14*L14) -> 3380
C15: Kantoor Wegen & groen | E15: B | F15: 24 | K15: =SUM(F15:J15) -> 24 | L15: =IF(E15="",0,IF(E15="X",0,VLOOKUP(E15,$F$539:$G$553,2))) -> 260 | M15: =SUM(K15*L15) -> 6240
C16: Kantoor Rioler & gebouw | E16: B | F16: 24 | K16: =SUM(F16:J16) -> 24 | L16: =IF(E16="",0,IF(E16="X",0,VLOOKUP(E16,$F$539:$G$553,2))) -> 260 | M16: =SUM(K16*L16) -> 6240
C17: Werkplaats | E17: X | J17: 125 | K17: =SUM(F17:J17) -> 125 | L17: =IF(E17="",0,IF(E17="X",0,VLOOKUP(E17,$F$539:$G$553,2))) -> 0 | M17: =SUM(K17*L17) -> 0
C18: in: magazijn | E18: X | J18: 20 | K18: =SUM(F18:J18) -> 20 | L18: =IF(E18="",0,IF(E18="X",0,VLOOKUP(E18,$F$539:$G$553,2))) -> 0 | M18: =SUM(K18*L18) -> 0
C19: Trap | E19: X | J19: 6 | K19: =SUM(F19:J19) -> 6 | L19: =IF(E19="",0,IF(E19="X",0,VLOOKUP(E19,$F$539:$G$553,2))) -> 0 | M19: =SUM(K19*L19) -> 0
C20: Werkkast | E20: X | J20: 9 | K20: =SUM(F20:J20) -> 9 | L20: =IF(E20="",0,IF(E20="X",0,VLOOKUP(E20,$F$539:$G$553,2))) -> 0 | M20: =SUM(K20*L20) -> 0
C21: Brandweergarage | E21: X | J21: 86 | K21: =SUM(F21:J21) -> 86 | L21: =IF(E21="",0,IF(E21="X",0,VLOOKUP(E21,$F$539:$G$553,2))) -> 0 | M21: =SUM(K21*L21) -> 0
C22: in: magazijn | E22: X | J22: 5 | K22: =SUM(F22:J22) -> 5 | L22: =IF(E22="",0,IF(E22="X",0,VLOOKUP(E22,$F$539:$G$553,2))) -> 0 | M22: =SUM(K22*L22) -> 0
C23: in: cv-ruimte | E23: X | J23: 9 | K23: =SUM(F23:J23) -> 9 | L23: =IF(E23="",0,IF(E23="X",0,VLOOKUP(E23,$F$539:$G$553,2))) -> 0 | M23: =SUM(K23*L23) -> 0
C24: Kantine brandweer | E24: X | J24: 12 | K24: =SUM(F24:J24) -> 12 | L24: =IF(E24="",0,IF(E24="X",0,VLOOKUP(E24,$F$539:$G$553,2))) -> 0 | M24: =SUM(K24*L24) -> 0
C25: Stalling/garage | E25: X | J25: 130 | K25: =SUM(F25:J25) -> 130 | L25: =IF(E25="",0,IF(E25="X",0,VLOOKUP(E25,$F$539:$G$553,2))) -> 0 | M25: =SUM(K25*L25) -> 0
C26: Totaal: | F26: =SUM(F4:F25) -> 87 | G26: =SUM(G4:G25) -> 13 | H26: =SUM(H4:H25) -> 0 | I26: =SUM(I4:I25) -> 0 | J26: =SUM(J4:J25) -> 552 | K26: =SUM(F26:J26) -> 652
K28: =SUM(F28:J28) -> 0 | L28: =IF(D28="X",0,IF(E28="",0,IF(E28="X",0,VLOOKUP(E28,$F$539:$G$553,2)))) -> 0 | M28: =SUM(K28*L28) -> 0
K29: =SUM(F29:J29) -> 0 | L29: =IF(D29="X",0,IF(E29="",0,IF(E29="X",0,VLOOKUP(E29,$F$539:$G$553,2)))) -> 0 | M29: =SUM(K29*L29) -> 0
K30: =SUM(F30:J30) -> 0 | L30: =IF(D30="X",0,IF(E30="",0,IF(E30="X",0,VLOOKUP(E30,$F$539:$G$553,2)))) -> 0 | M30: =SUM(K30*L30) -> 0
K31: =SUM(F31:J31) -> 0 | L31: =IF(D31="X",0,IF(E31="",0,IF(E31="X",0,VLOOKUP(E31,$F$539:$G$553,2)))) -> 0 | M31: =SUM(K31*L31) -> 0
K32: =SUM(F32:J32) -> 0 | L32: =IF(D32="X",0,IF(E32="",0,IF(E32="X",0,VLOOKUP(E32,$F$539:$G$553,2)))) -> 0 | M32: =SUM(K32*L32) -> 0
K33: =SUM(F33:J33) -> 0 | L33: =IF(D33="X",0,IF(E33="",0,IF(E33="X",0,VLOOKUP(E33,$F$539:$G$553,2)))) -> 0 | M33: =SUM(K33*L33) -> 0
K34: =SUM(F34:J34) -> 0 | L34: =IF(D34="X",0,IF(E34="",0,IF(E34="X",0,VLOOKUP(E34,$F$539:$G$553,2)))) -> 0 | M34: =SUM(K34*L34) -> 0
K35: =SUM(F35:J35) -> 0 | L35: =IF(D35="X",0,IF(E35="",0,IF(E35="X",0,VLOOKUP(E35,$F$539:$G$553,2)))) -> 0 | M35: =SUM(K35*L35) -> 0
K36: =SUM(F36:J36) -> 0 | L36: =IF(D36="X",0,IF(E36="",0,IF(E36="X",0,VLOOKUP(E36,$F$539:$G$553,2)))) -> 0 | M36: =SUM(K36*L36) -> 0
K37: =SUM(F37:J37) -> 0 | L37: =IF(D37="X",0,IF(E37="",0,IF(E37="X",0,VLOOKUP(E37,$F$539:$G$553,2)))) -> 0 | M37: =SUM(K37*L37) -> 0
K38: =SUM(F38:J38) -> 0 | L38: =IF(D38="X",0,IF(E38="",0,IF(E38="X",0,VLOOKUP(E38,$F$539:$G$553,2)))) -> 0 | M38: =SUM(K38*L38) -> 0
K39: =SUM(F39:J39) -> 0 | L39: =IF(D39="X",0,IF(E39="",0,IF(E39="X",0,VLOOKUP(E39,$F$539:$G$553,2)))) -> 0 | M39: =SUM(K39*L39) -> 0
... K498: =SUM(F498:J498) -> 0 | L498: =IF(D498="X",0,IF(E498="",0,IF(E498="X",0,VLOOKUP(E498,$F$539:$G$553,2)))) -> 0 | M498: =SUM(K498*L498) -> 0
C499: Categorie: | M499: Tot/jr
...

Sheet 3
D2: =CONCATENATE("Uitvoeringsbepaling"," ",H4,", onderdeel van ",Verzamelblad!A2," ",Verzamelblad!A3) -> Uitvoeringsbepaling 3, onderdeel van Bestek
A4: Object: | B4: =VLOOKUP(H4,Verzamelblad!A5:E19,3) -> Gemeentewerf Surhuisterveen | F4: Uitvoeringsbepaling: | H4: 3
A5: Straat: | B5: =VLOOKUP(H4,Verzamelblad!A5:E19,4) -> Badlaan 2a | F5: Inventarisatie: | H5: =CONCATENATE(H4,"a") -> 3a
A6: Plaats: | B6: =VLOOKUP(H4,Verzamelblad!A5:E19,5) -> Surhuisterveen | F6: Revisiedatum:
A8: Gewenste aanvangstijd schoonmaak: | E8: =VLOOKUP($H$4,Verzamelblad!$A$5:$EK$19,14,0) -> 0
A9: Aantal dagen schoonmaak per jaar: | E9: =VLOOKUP($H$4,Verzamelblad!$A$5:$EK$19,6,0) -> 260
F10: Prijs | G10: Uren | H10: Gem. uren/dag | I10: Jaarpijs | J10: Jaaruren | K10: Verhouding
A11: Werkzaamheden met een frequentie tot 1/20 | F11: =IFERROR(IF(SUM(I11/12)=0,"",SUM(I11/12)),"") | G11: =IFERROR(SUM(J11/12),"") | H11: =IFERROR(SUM(J11/E9),"") | I11: =IFERROR(IF(SUM($I$14*K11)=0,"",SUM($I$14*K11)),"") | J11: =IFERROR(SUM(J14*K11),"")
A12: Schoonmaakwerkzaamheden 3x per jaar | F12: =IFERROR(IF(SUM(I12/3)=0,"",SUM(I12/3)),"") | G12: =IFERROR(SUM(J12/3),"") | I12: =IFERROR(IF(SUM($I$14*K12)=0,"",SUM($I$14*K12)),"") | J12: =IFERROR(SUM(J14*K12),"")
A13: Schoonmaakwerkzaamheden 1x per jaar | F13: =IF(I13=0,"",I13) | G13: =IFERROR(J13,"") | I13: =IFERROR(IF(SUM($I$14*K13)=0,"",SUM($I$14*K13)),"") | J13: =IFERROR(SUM(J14*K13),"")
A14: Totale jaarprijs / jaaruren | F14: =IFERROR(IF(SUM(F11:F13)=0,"",SUM(F11:F13)),"") | G14: =IFERROR(SUM(G11:G13),"") -> 0 | I14: =IFERROR(IF(E100=0,"",E100),"") | J14: =IFERROR(SUM(I14/offertetarief),"") | K14: =IF(SUM(K11:K13)=100%,"","Geen 100%") -> Geen 100%
F15: Per dag | G15: Per jaar
A16: Uren direct toezicht | F16: =IFERROR(SUM((J14*directtoezicht)/E9),"") | G16: =IF(J14="","",SUM(J14*directtoezicht))
K17: Programma categorie | L17: Gemiddelde productie per m²
A18: Prestatie
A19: M² uit te besteden per jaar | D19: =D100 -> 24960 | E19: M² uit te besteden per dag | G19: =IFERROR(D100/E9,"") -> 96 | H19: Gem. prestatie | I19: =IFERROR(SUM(D19/J14),"") | K19: =IF(INDIRECT("'"&$H$5&"'!F539")="x","",IF(INDIRECT("'"&$H$5&"'!F539")="Vrije categorie","",INDIRECT("'"&$H$5&"'!F539"))) -> A
K20: =IF(INDIRECT("'"&$H$5&"'!F540")="x","",IF(INDIRECT("'"&$H$5&"'!F540")="Vrije categorie","",INDIRECT("'"&$H$5&"'!F540"))) -> B
A21: Extra werkzaamheden | D21: Prijs per | E21: Aantal | F21: Prijs per eenheid | G21: Beurtprijs | H21: Beurten per jaar | I21: Prijs per jaar | K21: =IF(INDIRECT("'"&$H$5&"'!F541")="x","",IF(INDIRECT("'"&$H$5&"'!F541")="Vrije categorie","",INDIRECT("'"&$H$5&"'!F541"))) -> C
A22: =VLOOKUP($H$4,Verzamelblad!$A$5:$EK$19,32,0) -> Dieptereiniging sanitair | D22: =VLOOKUP($H$4,Verzamelblad!$A$5:$EK$19,33,0) -> m² | E22: =VLOOKUP($H$4,Verzamelblad!$A$5:$DE$19,34) -> 22 | G22: =IF(IF(E22="","",SUM(E22*F22))=0,"",IF(E22="","",SUM(E22*F22))) | H22: =VLOOKUP($H$4,Verzamelblad!$A$5:$EK$19,35,0) -> 2 | I22: =IFERROR(IF(IF(H22="op afroep","",SUM(G22*H22))=0,"",IF(H22="op afroep","",SUM(G22*H22))),"") | K22: =IF(INDIRECT("'"&$H$5&"'!F542")="x","",IF(INDIRECT("'"&$H$5&"'!F542")="Vrije categorie","",INDIRECT("'"&$H$5&"'!F542"))) -> D
A23: =VLOOKUP($H$4,Verzamelblad!$A$5:$EK$19,36,0) -> 0 | D23: =VLOOKUP($H$4,Verzamelblad!$A$5:$EK$19,37,0) -> 0 | E23: =VLOOKUP($H$4,Verzamelblad!$A$5:$DE$19,38) -> 0 | G23: =IF(IF(E23="","",SUM(E23*F23))=0,"",IF(E23="","",SUM(E23*F23))) | H23: =VLOOKUP($H$4,Verzamelblad!$A$5:$EK$19,39,0) -> 0 | I23: =IFERROR(IF(IF(H23="op afroep","",SUM(G23*H23))=0,"",IF(H23="op afroep","",SUM(G23*H23))),"") | K23: =IF(INDIRECT("'"&$H$5&"'!F543")="x","",IF(INDIRECT("'"&$H$5&"'!F543")="Vrije categorie","",INDIRECT("'"&$H$5&"'!F543"))) -> E
A24: =VLOOKUP($H$4,Verzamelblad!$A$5:$EK$19,40,0) -> 0 | D24: =VLOOKUP($H$4,Verzamelblad!$A$5:$EK$19,41,0) -> 0 | E24: =VLOOKUP($H$4,Verzamelblad!$A$5:$DE$19,42) -> 0 | G24: =IF(IF(E24="","",SUM(E24*F24))=0,"",IF(E24="","",SUM(E24*F24))) | H24: =VLOOKUP($H$4,Verzamelblad!$A$5:$EK$19,43,0) -> 0 | I24: =IFERROR(IF(IF(H24="op afroep","",SUM(G24*H24))=0,"",IF(H24="op afroep","",SUM(G24*H24))),"") | K24: =IF(INDIRECT("'"&$H$5&"'!F544")="x","",IF(INDIRECT("'"&$H$5&"'!F544")="Vrije categorie","",INDIRECT("'"&$H$5&"'!F544"))) -> F
A25: =VLOOKUP($H$4,Verzamelblad!$A$5:$EK$19,44,0) -> 0 | D25: =VLOOKUP($H$4,Verzamelblad!$A$5:$EK$19,45,0) -> 0 | E25: =VLOOKUP($H$4,Verzamelblad!$A$5:$DE$19,46) -> 0 | G25: =IF(IF(E25="","",SUM(E25*F25))=0,"",IF(E25="","",SUM(E25*F25))) | H25: =VLOOKUP($H$4,Verzamelblad!$A$5:$EK$19,47,0) -> 0 | I25: =IFERROR(IF(IF(H25="op afroep","",SUM(G25*H25))=0,"",IF(H25="op afroep","",SUM(G25*H25))),"") | K25: =IF(INDIRECT("'"&$H$5&"'!F545")="x","",IF(INDIRECT("'"&$H$5&"'!F545")="Vrije categorie","",INDIRECT("'"&$H$5&"'!F545"))) -> G
A26: =VLOOKUP($H$4,Verzamelblad!$A$5:$EK$19,48,0) -> 0 | D26: =VLOOKUP($H$4,Verzamelblad!$A$5:$EK$19,49,0) -> 0 | E26: =VLOOKUP($H$4,Verzamelblad!$A$5:$DE$19,50) -> 0 | G26: =IF(IF(E26="","",SUM(E26*F26))=0,"",IF(E26="","",SUM(E26*F26))) | H26: =VLOOKUP($H$4,Verzamelblad!$A$5:$EK$19,51,0) -> 0 | I26: =IFERROR(IF(IF(H26="op afroep","",SUM(G26*H26))=0,"",IF(H26="op afroep","",SUM(G26*H26))),"") | K26: =IF(INDIRECT("'"&$H$5&"'!F546")="x","",IF(INDIRECT("'"&$H$5&"'!F546")="Vrije categorie","",INDIRECT("'"&$H$5&"'!F546"))) -> H
A27: =VLOOKUP($H$4,Verzamelblad!$A$5:$EK$19,52,0) -> 0 | D27: =VLOOKUP($H$4,Verzamelblad!$A$5:$EK$19,53,0) -> 0 | E27: =VLOOKUP($H$4,Verzamelblad!$A$5:$DE$19,54) -> 0 | G27: =IF(IF(E27="","",SUM(E27*F27))=0,"",IF(E27="","",SUM(E27*F27))) | H27: =VLOOKUP($H$4,Verzamelblad!$A$5:$EK$19,55,0) -> 0 | I27: =IFERROR(IF(IF(H27="op afroep","",SUM(G27*H27))=0,"",IF(H27="op afroep","",SUM(G27*H27))),"") | K27: =IF(INDIRECT("'"&$H$5&"'!F547")="x","",IF(INDIRECT("'"&$H$5&"'!F547")="Vrije categorie","",INDIRECT("'"&$H$5&"'!F547"))) -> I
A28: =VLOOKUP($H$4,Verzamelblad!$A$5:$EK$19,56,0) -> 0 | D28: =VLOOKUP($H$4,Verzamelblad!$A$5:$EK$19,57,0) -> 0 | E28: =VLOOKUP($H$4,Verzamelblad!$A$5:$DE$19,58) -> 0 | G28: =IF(IF(E28="","",SUM(E28*F28))=0,"",IF(E28="","",SUM(E28*F28))) | H28: =VLOOKUP($H$4,Verzamelblad!$A$5:$EK$19,59,0) -> 0 | I28: =IFERROR(IF(IF(H28="op afroep","",SUM(G28*H28))=0,"",IF(H28="op afroep","",SUM(G28*H28))),"") | K28: =IF(INDIRECT("'"&$H$5&"'!F548")="x","",IF(INDIRECT("'"&$H$5&"'!F548")="Vrije categorie","",INDIRECT("'"&$H$5&"'!F548"))) -> J
A29: =VLOOKUP($H$4,Verzamelblad!$A$5:$EK$19,60,0) -> 0 | D29: =VLOOKUP($H$4,Verzamelblad!$A$5:$EK$19,61,0) -> 0 | E29: =VLOOKUP($H$4,Verzamelblad!$A$5:$DE$19,62) -> 0 | G29: =IF(IF(E29="","",SUM(E29*F29))=0,"",IF(E29="","",SUM(E29*F29))) | H29: =VLOOKUP($H$4,Verzamelblad!$A$5:$EK$19,63,0) -> 0 | I29: =IFERROR(IF(IF(H29="op afroep","",SUM(G29*H29))=0,"",IF(H29="op afroep","",SUM(G29*H29))),"") | K29: =IF(INDIRECT("'"&$H$5&"'!F549")="x","",IF(INDIRECT("'"&$H$5&"'!F549")="Vrije categorie","",INDIRECT("'"&$H$5&"'!F549"))) -> K
A30: =VLOOKUP($H$4,Verzamelblad!$A$5:$EK$19,64,0) -> 0 | D30: =VLOOKUP($H$4,Verzamelblad!$A$5:$EK$19,65,0) -> 0 | E30: =VLOOKUP($H$4,Verzamelblad!$A$5:$DE$19,66) -> 0 | G30: =IF(IF(E30="","",SUM(E30*F30))=0,"",IF(E30="","",SUM(E30*F30))) | H30: =VLOOKUP($H$4,Verzamelblad!$A$5:$EK$19,67,0) -> 0 | I30: =IFERROR(IF(IF(H30="op afroep","",SUM(G30*H30))=0,"",IF(H30="op afroep","",SUM(G30*H30))),"") | K30: =IF(INDIRECT("'"&$H$5&"'!F550")="x","",IF(INDIRECT("'"&$H$5&"'!F550")="Vrije categorie","",INDIRECT("'"&$H$5&"'!F550")))
A31: =VLOOKUP($H$4,Verzamelblad!$A$5:$EK$19,68,0) -> 0 | D31: =VLOOKUP($H$4,Verzamelblad!$A$5:$EK$19,69,0) -> 0 | E31: =VLOOKUP($H$4,Verzamelblad!$A$5:$DE$19,70) -> 0 | G31: =IF(IF(E31="","",SUM(E31*F31))=0,"",IF(E31="","",SUM(E31*F31))) | H31: =VLOOKUP($H$4,Verzamelblad!$A$5:$EK$19,71,0) -> 0 | I31: =IFERROR(IF(IF(H31="op afroep","",SUM(G31*H31))=0,"",IF(H31="op afroep","",SUM(G31*H31))),"") | K31: =IF(INDIRECT("'"&$H$5&"'!F551")="x","",IF(INDIRECT("'"&$H$5&"'!F551")="Vrije categorie","",INDIRECT("'"&$H$5&"'!F551")))
A32: =VLOOKUP($H$4,Verzamelblad!$A$5:$EK$19,72,0) -> 0 | D32: =VLOOKUP($H$4,Verzamelblad!$A$5:$EK$19,73,0) -> 0 | E32: =VLOOKUP($H$4,Verzamelblad!$A$5:$DE$19,74) -> 0 | G32: =IF(IF(E32="","",SUM(E32*F32))=0,"",IF(E32="","",SUM(E32*F32))) | H32: =VLOOKUP($H$4,Verzamelblad!$A$5:$EK$19,75,0) -> 0 | I32: =IFERROR(IF(IF(H32="op afroep","",SUM(G32*H32))=0,"",IF(H32="op afroep","",SUM(G32*H32))),"") | K32: =IF(INDIRECT("'"&$H$5&"'!F552")="x","",IF(INDIRECT("'"&$H$5&"'!F552")="Vrije categorie","",INDIRECT("'"&$H$5&"'!F552")))
A33: Totaal | I33: =IF(SUM(I22:I32)=0,"",SUM(I22:I32)) | K33: =IF(INDIRECT("'"&$H$5&"'!F553")="x","",IF(INDIRECT("'"&$H$5&"'!F553")="Vrije categorie","",INDIRECT("'"&$H$5&"'!F553")))
A35: Vloeronderhoud | E35: M² | F35: Prijs per m² | G35: Beurtprijs | H35: Beurten per jaar | I35: Prijs per jaar
A36: =VLOOKUP($H$4,Verzamelblad!$A$5:$EK$19,16,0) -> Schrobben vloeren (extra) | E36: ='3a'!J15 -> 416 | G36: =IF(IF(E36="","",SUM(E36*F36))=0,"",IF(E36="","",SUM(E36*F36))) | H36: =VLOOKUP($H$4,Verzamelblad!$A$5:$DE$19,17) -> op afroep | I36: =IFERROR(IF(IF(H36="op afroep","",SUM(G36*H36))=0,"",IF(H36="op afroep","",SUM(G36*H36))),"")
A37: =VLOOKUP($H$4,Verzamelblad!$A$5:$EK$19,18,0) -> 0 | E37: =VLOOKUP($H$4,Verzamelblad!$A$5:$DE$19,106) -> 0 | G37: =IF(IF(E37="","",SUM(E37*F37))=0,"",IF(E37="","",SUM(E37*F37))) | H37: =VLOOKUP($H$4,Verzamelblad!$A$5:$DE$19,19) -> 0 | I37: =IFERROR(IF(IF(H37="op afroep","",SUM(G37*H37))=0,"",IF(H37="op afroep","",SUM(G37*H37))),"")
