Workbook
Name bestekcontract: [1]verzamelblad!$A$2
Name bestekcontract: Verzamelblad!$A$2
Name besteknr: [1]verzamelblad!$A$3
Name besteknr: Verzamelblad!$A$3
Name directtoezicht: [1]uurtariefopbouw!$E$24
Name directtoezicht: Uurtariefopbouw!$E$7
Name offertetarief: [1]uurtariefopbouw!$F$35
Name offertetarief: Uurtariefopbouw!$F$15
Name opdrachtgever: 'Algemene gegevens'!$H$5
Name opdrachtgever: #REF!
Name opdrachtnemer: 'Algemene gegevens'!$H$15
Name opdrachtnemer: #REF!
Name opdrachtnemerplaats: 'Algemene gegevens'!$B$13
Name opdrachtnemerplaats: #REF!
Name plaatsopdrnmr: 'Algemene gegevens'!$B$13
Name plaatsopdrnmr: #REF!
Name regietarief: [1]uurtariefopbouw!$H$35
Name regietarief: Uurtariefopbouw!$H$15
Name spectarief: [1]uurtariefopbouw!$J$35
Name spectarief: Uurtariefopbouw!$J$15

Sheet Algemene gegevens
A1: Basisgegevens
A3: Algemene gegevens
A5: Volledige naam onderneming (handelsnaam KvK) | H5: Gemeente Achtkarspelen
A6: Vestigingsplaats onderneming (KvK) | H6: Buitenpost
A7: KvK-nummer | H7: 1176356
A8: Tekenbevoegde voor contract | H8: R. Wijnja
A9: Functie | H9: Teamleider Interne Diensten
A11: Contactpersoon offerte | H11: Vincent Noordhof
A12: Telefoonnummer kantoor | H12: 085 200 3991
A13: E-mailadres contactpersoon offerte | H13: via TenderNed
A15: Volledige naam schoonmaakbedrijf (Handelsnaam KvK)
A16: Vestigingsplaats schoonmaakbedrijf (KvK)
A17: KvK-nummer
A18: Tekenbevoegde schoonmaakbedrijf voor contract
A19: Functie
A20: Tekenbevoegde schoonmaakbedrijf voor supplementen
A21: Functie
A23: Contactpersoon offerte
A24: Telefoonnummer kantoor
A25: Postadres kantoor
A26: Postcode en plaats kantoor
A27: Mobiel nummer contactpersoon offerte
A28: E-mailadres contactpersoon offerte

Sheet Uurtariefopbouw
B1: Tariefblad
E4: Offertetarief | G4: Regietarief divers | I4: Specialistisch tarief
B5: Totale loonkosten
B6: Middelen, materialen, machines, werkkleding en materialen | F6: =IF(E6="","",SUM(E6*$F$5)) | H6: =IF(G6="","",SUM(G6*$H$5)) | J6: =IF(I6="","",SUM(I6*$J$5))
B7: Direct toezicht | F7: =IF(E7="","",SUM(E7*$F$5)) | H7: =IF(G7="","",SUM(G7*$H$5)) | J7: =IF(I7="","",SUM(I7*$J$5))
B8: Diversen, indien van toepassing omschrijving | F8: =IF(E8="","",SUM(E8*$F$5)) | H8: =IF(G8="","",SUM(G8*$H$5)) | J8: =IF(I8="","",SUM(I8*$J$5))
F9: =IF(E9="","",SUM(E9*$F$5)) | H9: =IF(G9="","",SUM(G9*$H$5)) | J9: =IF(I9="","",SUM(I9*$J$5))
B10: Totaal directe kosten | F10: =SUM(F5:F9) -> 0 | H10: =SUM(H5:H9) -> 0 | J10: =SUM(J5:J9) -> 0
B11: Indirect toezicht | F11: =IF(E11="","",SUM(E11*$F$10)) | H11: =IF(G11="","",SUM(G11*$H$10)) | J11: =IF(I11="","",SUM(I11*$J$10))
B12: Overhead | F12: =IF(E12="","",SUM(E12*$F$10)) | H12: =IF(G12="","",SUM(G12*$H$10)) | J12: =IF(I12="","",SUM(I12*$J$10))
B13: Risico en Winst | F13: =IF(E13="","",SUM(E13*F10)) | H13: =IF(G13="","",SUM(G13*H10)) | J13: =IF(I13="","",SUM(I13*J10))
B14: Totaal indirecte kosten | F14: =SUM(F11:F13) -> 0 | H14: =SUM(H11:H13) -> 0 | J14: =SUM(J11:J13) -> 0
B15: Totaal tarief | F15: =SUM(F10+F14) -> 0 | H15: =SUM(H10+H14) -> 0 | J15: =SUM(J10+J14) -> 0
B18: Regietarief diverse werkzaamheden
C19: MA | D19: DI | E19: WO | F19: DO | G19: VR | H19: ZA | I19: ZO | J19: FE
B20: 00:00 tot 06:00 | C20: =IFERROR(SUM($H$5*1.5)+($H$15-$H$5),"") -> 0 | D20: =IFERROR(SUM($H$5*1.3)+($H$15-$H$5),"") -> 0 | E20: =IFERROR(SUM($H$5*1.3)+($H$15-$H$5),"") -> 0 | F20: =IFERROR(SUM($H$5*1.3)+($H$15-$H$5),"") -> 0 | G20: =IFERROR(SUM($H$5*1.3)+($H$15-$H$5),"") -> 0 | H20: =IFERROR(SUM($H$5*1.5)+($H$15-$H$5),"") -> 0 | I20: =IFERROR(SUM($H$5*1.5)+($H$15-$H$5),"") -> 0 | J20: =IFERROR(SUM($H$5*2.5)+($H$15-$H$5),"") -> 0
B21: 06:00 tot 21:30 | C21: =IFERROR(SUM($H$5*1)+($H$15-$H$5),"") -> 0 | D21: =IFERROR(SUM($H$5*1)+($H$15-$H$5),"") -> 0 | E21: =IFERROR(SUM($H$5*1)+($H$15-$H$5),"") -> 0 | F21: =IFERROR(SUM($H$5*1)+($H$15-$H$5),"") -> 0 | G21: =IFERROR(SUM($H$5*1)+($H$15-$H$5),"") -> 0 | H21: =IFERROR(SUM($H$5*1.5)+($H$15-$H$5),"") -> 0 | I21: =IFERROR(SUM($H$5*1.5)+($H$15-$H$5),"") -> 0 | J21: =IFERROR(SUM($H$5*2.5)+($H$15-$H$5),"") -> 0
B22: 21:30 tot 24:00 | C22: =IFERROR(SUM($H$5*1.3)+($H$15-$H$5),"") -> 0 | D22: =IFERROR(SUM($H$5*1.3)+($H$15-$H$5),"") -> 0 | E22: =IFERROR(SUM($H$5*1.3)+($H$15-$H$5),"") -> 0 | F22: =IFERROR(SUM($H$5*1.3)+($H$15-$H$5),"") -> 0 | G22: =IFERROR(SUM($H$5*1.5)+($H$15-$H$5),"") -> 0 | H22: =IFERROR(SUM($H$5*1.5)+($H$15-$H$5),"") -> 0 | I22: =IFERROR(SUM($H$5*1.5)+($H$15-$H$5),"") -> 0 | J22: =IFERROR(SUM($H$5*2.5)+($H$15-$H$5),"") -> 0
B24: Regietarief specialistische werkzaamheden
C25: MA | D25: DI | E25: WO | F25: DO | G25: VR | H25: ZA | I25: ZO | J25: FE
B26: 00:00 tot 06:00 | C26: =IFERROR(SUM($J$5*1.5)+($J$15-$J$5),"") -> 0 | D26: =IFERROR(SUM($J$5*1.3)+($J$15-$J$5),"") -> 0 | E26: =IFERROR(SUM($J$5*1.3)+($J$15-$J$5),"") -> 0 | F26: =IFERROR(SUM($J$5*1.3)+($J$15-$J$5),"") -> 0 | G26: =IFERROR(SUM($J$5*1.3)+($J$15-$J$5),"") -> 0 | H26: =IFERROR(SUM($J$5*1.5)+($J$15-$J$5),"") -> 0 | I26: =IFERROR(SUM($J$5*1.5)+($J$15-$J$5),"") -> 0 | J26: =IFERROR(SUM($J$5*2.5)+($J$15-$J$5),"") -> 0
B27: 06:00 tot 21:30 | C27: =IFERROR(SUM($J$5*1)+($J$15-$J$5),"") -> 0 | D27: =IFERROR(SUM($J$5*1)+($J$15-$J$5),"") -> 0 | E27: =IFERROR(SUM($J$5*1)+($J$15-$J$5),"") -> 0 | F27: =IFERROR(SUM($J$5*1)+($J$15-$J$5),"") -> 0 | G27: =IFERROR(SUM($J$5*1)+($J$15-$J$5),"") -> 0 | H27: =IFERROR(SUM($J$5*1.5)+($J$15-$J$5),"") -> 0 | I27: =IFERROR(SUM($J$5*1.5)+($J$15-$J$5),"") -> 0 | J27: =IFERROR(SUM($J$5*2.5)+($J$15-$J$5),"") -> 0
B28: 21:30 tot 24:00 | C28: =IFERROR(SUM($J$5*1.3)+($J$15-$J$5),"") -> 0 | D28: =IFERROR(SUM($J$5*1.3)+($J$15-$J$5),"") -> 0 | E28: =IFERROR(SUM($J$5*1.3)+($J$15-$J$5),"") -> 0 | F28: =IFERROR(SUM($J$5*1.3)+($J$15-$J$5),"") -> 0 | G28: =IFERROR(SUM($J$5*1.5)+($J$15-$J$5),"") -> 0 | H28: =IFERROR(SUM($J$5*1.5)+($J$15-$J$5),"") -> 0 | I28: =IFERROR(SUM($J$5*1.5)+($J$15-$J$5),"") -> 0 | J28: =IFERROR(SUM($J$5*2.5)+($J$15-$J$5),"") -> 0

Sheet Verzamelblad
A1: 1 | B1: 2 | C1: 3 | D1: 4 | E1: 5 | F1: 6 | G1: 7 | H1: 8 | I1: 9 | J1: 10 | K1: 11 | L1: 12 | M1: 13 | N1: 14 | O1: 15 | P1: 16 | Q1: 17 | R1: 18 | S1: 19 | T1: 20 | U1: 21 | V1: 22 | W1: 23 | X1: 24 | Y1: 25 | Z1: 26 | AA1: 27 | AB1: 28 | AC1: 29 | AD1: 30 | AE1: 31 | AF1: 32 | AG1: 33 | AH1: 34 | AI1: 35 | AJ1: 36 | AK1: 37 | AL1: 38 | AM1: 39 | AN1: 40 | AO1: 41 | AP1: 42 | AQ1: 43 | AR1: 44 | AS1: 45 | AT1: 46 | AU1: 47 | AV1: 48 | AW1: 49 | AX1: 50 | AY1: 51 | AZ1: 52 | BA1: 53 | BB1: 54 | BC1: 55 | BD1: 56 | BE1: 57 | BF1: 58 | BG1: 59 | BH1: 60 | BI1: 61 | BJ1: 62 | BK1: 63 | BL1: 64 | BM1: 65 | BN1: 66 | BO1: 67 | BP1: 68 | BQ1: 69 | BR1: 70 | BS1: 71 | BT1: 72 | BU1: 73 | BV1: 74 | BW1: 75 | BX1: 76 | BY1: 77 | BZ1: 78 | CA1: 79 | CB1: 80 | CC1: 81 | CD1: 82 | CE1: 83 | CF1: 84 | CG1: 85 | CH1: 86 | CI1: 87 | CJ1: 88 | CK1: 89 | CL1: 90 | CM1: 91 | CN1: 92 | CO1: 93 | CP1: 94 | CQ1: 95 | CR1: 96 | CS1: 97 | CT1: 98 | CU1: 99 | CV1: 100 | CW1: 101 | CX1: 102 | CY1: 103 | CZ1: 104 | DA1: 105 | DB1: 106 | DC1: 107 | DD1: 108 | DE1: 109
A2: Bestek | C2: Ingangsdatum | D2: Soort inspectie | E2: Inspectie betaald door | F2: Aantal inspecties | G2: Prijs per m² | H2: Minimale prijs
C3: 45078 | D3: VSR | E3: Opdrachtgever | F3: 3 | CT3: C
B4: inv | C4: Naam object | D4: Adres | E4: Plaats | F4: Aantal dagen schoonmaak per jaar | G4: M² prijs inspectie | H4: Totaal m² schoonmaak per dag | I4: Inspectieprijs | J4: Aantal inspecties | K4: … | L4: … | M4: … | N4: Gewenste aanvangstijd | O4: … | P4: Soort vloeronderhoud | Q4: Frequentie | R4: Soort vloeronderhoud | S4: Frequentie | T4: Soort vloeronderhoud | U4: Frequentie | V4: Soort vloeronderhoud | W4: Frequentie | X4: Soort vloeronderhoud | Y4: Frequentie | Z4: Soort vloeronderhoud | AA4: Frequentie | AB4: Soort vloeronderhoud | AC4: Frequentie | AD4: Soort vloeronderhoud | AE4: Frequentie | AF4: Extra werk-zaamheden | AG4: Prijs per | AH4: Aantal | AI4: Beurten per jaar | AJ4: Extra werk-zaamheden | AK4: Prijs per | AL4: Aantal | AM4: Beurten per jaar | AN4: Extra werk-zaamheden | AO4: Prijs per | AP4: Aantal | AQ4: Beurten per jaar | AR4: Extra werk-zaamheden | AS4: Prijs per | AT4: Aantal | AU4: Beurten per jaar | AV4: Extra werk-zaamheden | AW4: Prijs per | AX4: Aantal | AY4: Beurten per jaar | AZ4: Extra werk-zaamheden | BA4: Prijs per | BB4: Aantal | BC4: Beurten per jaar | BD4: Extra werk-zaamheden | BE4: Prijs per | BF4: Aantal | BG4: Beurten per jaar | BH4: Extra werk-zaamheden | BI4: Prijs per | BJ4: Aantal | BK4: Beurten per jaar | BL4: Extra werk-zaamheden | BM4: Prijs per | BN4: Aantal | BO4: Beurten per jaar | BP4: Extra werk-zaamheden | BQ4: Prijs per | BR4: Aantal | BS4: Beurten per jaar | BT4: Extra werk-zaamheden | BU4: Prijs per | BV4: Aantal | BW4: Beurten per jaar | BX4: Glas-bewassing | BY4: Frequentie | BZ4: Glas-bewassing | CA4: Frequentie | CB4: Glas-bewassing | CC4: Frequentie | CD4: Glas-bewassing | CE4: Frequentie | CF4: Glas-bewassing | CG4: Frequentie | CH4: Glas-bewassing | CI4: Frequentie | CJ4: Glas-bewassing | CK4: Frequentie | CL4: Glas-bewassing | CM4: Frequentie | CN4: Glas-bewassing | CO4: Frequentie | CP4: Glas-bewassing | CQ4: Frequentie | CR4: Levering sanitaire voorzieningen | CS4: Aantal gebruikers per locatie | CT4: M² dieptereiniging | CU4: M² glasbewassing binnen | CV4: M² glasbewassing buiten | CW4: M² glasbewassing separatie | CX4: M² glasbewassing koepel | CY4: M² glasbewassing boeidelen | CZ4: M² glasbewassing Gevelbeplating | DA4: M² recoaten | DB4: M² topstrippen en topcoaten | DC4: M² volsprayen | DD4: M² tapijtreinigen | DE4: M² inloopzones
A5: 1 | B5: =CONCATENATE(A5,"a") -> 1a | C5: Gemeentehuis | D5: Stationstraat 18 | E5: Buitenpost | F5: 260 | G5: =IF($G$3="","",$G$3) | H5: =INDIRECT("'" & B5 & "'!$K$515") -> 6381.8 | I5: 425 | J5: =IF($F$3="","",$F$3) -> 3 | P5: Conserveren | Q5: op afroep | AF5: Dieptereiniging sanitair | AG5: m² | AH5: =CT5 -> 129.1 | AI5: 1 | AJ5: Schrobben terras raadzaal | AK5: beurt | AL5: 1 | AM5: 2 | AN5: Extra toiletronde | AO5: uur | AP5: 1.5 | AQ5: 208 | BX5: Gevelglas oudbouw buitenzijde enkelvoudig gemeten | BY5: 2 | BZ5: Gevelglas nieuwbouw Jeltingahuis en entree enkelvoudig gemeten | CA5: 3 | CB5: Gevelglas binnenzijde enkelvoudig gemeten | CC5: 2 | CD5: Separatieglas dubbelvoudig gemeten | CE5: 2 | CF5: 8 luiken en 15 lantaarns | CG5: 1 | CH5: Trespa, houtwerk en boeiranden | CI5: 1 | CT5: =SUMIF('1a'!$C$500:$C$514,"G",'1a'!$K$500:$K$514) -> 129.1 | CU5: =INDIRECT("'" & B5 & "'!$K$539") -> 1892.6 | CV5: =INDIRECT("'" & B5 & "'!$K$540") -> 1892.6 | CW5: =INDIRECT("'" & B5 & "'!$K$541") -> 1273.5 | CX5: =INDIRECT("'" & B5 & "'!$K$542") -> 0 | CY5: =INDIRECT("'" & B5 & "'!$K$543") -> 310 | CZ5: =INDIRECT("'" & B5 & "'!$K$544") -> 0 | DA5: =INDIRECT("'" & B5 & "'!$G$515") -> 320 | DB5: =DA5 -> 320 | DC5: =DA5 -> 320 | DD5: =INDIRECT("'" & B5 & "'!$F$515") -> 4494
A6: 2 | B6: =CONCATENATE(A6,"a") -> 2a | C6: Gemeentewerf Buitenpost | D6: Vaart 4 | E6: Buitenpost | F6: 260 | G6: =IF($G$3="","",$G$3) | H6: =INDIRECT("'" & B6 & "'!$K$515") -> 652 | I6: 100 | J6: =IF($F$3="","",$F$3) -> 3 | P6: Schrobben epoxyvloeren | Q6: 2 | AF6: Dieptereiniging sanitair | AG6: m² | AH6: =CT6 -> 25 | AI6: 2 | BX6: Gevelglas buitenzijde enkelvoudig gemeten | BY6: 2 | BZ6: Gevelglas binnenzijde enkelvoudig gemeten | CA6: 2 | CB6: Separatieglas dubbelvoudig gemeten | CC6: 2 | CD6: Ramen en deuren brandweer/garages | CE6: 2 | CT6: =SUMIF('2a'!$C$500:$C$514,"G",'2a'!$K$500:$K$514) -> 25 | CU6: =INDIRECT("'" & B6 & "'!$K$539") -> 110.225 | CV6: =INDIRECT("'" & B6 & "'!$K$540") -> 110.225 | CW6: =INDIRECT("'" & B6 & "'!$K$541") -> 23.95 | CX6: =INDIRECT("'" & B6 & "'!$K$542") -> 231.45 | CY6: =INDIRECT("'" & B6 & "'!$K$543") -> 0 | CZ6: =INDIRECT("'" & B6 & "'!$K$544") -> 0
A7: 3 | B7: =CONCATENATE(A7,"a") -> 3a | C7: Gemeentewerf Surhuisterveen | D7: Badlaan 2a | E7: Surhuisterveen | F7: 260 | G7: =IF($G$3="","",$G$3) | H7: =INDIRECT("'" & B7 & "'!$K$515") -> 418 | I7: 100 | J7: =IF($F$3="","",$F$3) -> 3 | P7: Schrobben vloeren (extra) | Q7: op afroep | AF7: Dieptereiniging sanitair | AG7: m² | AH7: =CT7 -> 22 | AI7: 2 | BX7: Glas bi/bui/sep | BY7: 2 | CT7: =SUMIF('3a'!$C$500:$C$514,"G",'3a'!$K$500:$K$514) -> 22 | CU7: =INDIRECT("'" & B7 & "'!$K$539") -> 62 | CV7: =INDIRECT("'" & B7 & "'!$K$540") -> 0 | CW7: =INDIRECT("'" & B7 & "'!$K$541") -> 0 | CX7: =INDIRECT("'" & B7 & "'!$K$542") -> 0 | CY7: =INDIRECT("'" & B7 & "'!$K$543") -> 0 | CZ7: =INDIRECT("'" & B7 & "'!$K$544") -> 0 | DA7: =INDIRECT("'" & B7 & "'!$G$515") -> 0 | DB7: =DA7 -> 0 | DC7: =DA7 -> 0
A8: 4 | B8: =CONCATENATE(A8,"a") -> 4a | C8: De Kruidhof | D8: Schoolstraat 29B | E8: Buitenpost | F8: 52 | G8: =IF($G$3="","",$G$3) | H8: =INDIRECT("'" & B8 & "'!$K$515") -> 264.18 | I8: 100 | J8: =IF($F$3="","",$F$3) -> 3 | P8: Schrobben vloeren (extra) | Q8: op afroep | AF8: Dieptereiniging sanitair | AG8: m² | AH8: =CT8 -> 0 | BX8: Gevelglas buitenzijde enkelvoudig gemeten | BY8: 2 | BZ8: Gevelglas binnenzijde enkelvoudig gemeten | CA8: 2 | CB8: Separatieglas dubbelvoudig gemeten | CC8: 2 | CD8: Gevelglas buitenzijde incl. kantoren | CE8: 3 | CF8: Gevelglas binnenzijde incl. kantoren | CG8: 3 | CH8: Separatieglas incl. kantoren | CI8: 3 | CT8: =SUMIF('4a'!$C$500:$C$514,"G",'4a'!$K$500:$K$514) -> 0 | CU8: =INDIRECT("'" & B8 & "'!$K$539") -> 104.11 | CV8: =INDIRECT("'" & B8 & "'!$K$540") -> 104.11 | CW8: =INDIRECT("'" & B8 & "'!$K$541") -> 14.14 | CX8: =INDIRECT("'" & B8 & "'!$K$542") -> 113.43 | CY8: =INDIRECT("'" & B8 & "'!$K$543") -> 113.43 | CZ8: =INDIRECT("'" & B8 & "'!$K$544") -> 17.54 | DA8: =INDIRECT("'" & B8 & "'!$G$515") -> 0 | DB8: =DA8 -> 0 | DC8: =DA8 -> 0
A9: 5 | B9: =CONCATENATE(A9,"a") -> 5a | G9: =IF($G$3="","",$G$3) | H9: =INDIRECT("'" & B9 & "'!$K$515") -> 0 | I9: =IFERROR(IF(SUM(G9*H9<IF($H$3="","",$H$3)),IF($H$3="","",$H$3),SUM(G9*H9)),"") | J9: =IF($F$3="","",$F$3) -> 3 | P9: Recoaten | R9: Topstrippen en topcoaten | T9: Volsprayen | V9: Tapijtreinigen | X9: Reinigen inloopzones | AF9: Dieptereiniging sanitair | AG9: m² | AH9: =CT9 -> 0 | BX9: Gevelglas buitenzijde enkelvoudig gemeten | BZ9: Gevelglas binnenzijde enkelvoudig gemeten | CB9: Separatieglas dubbelvoudig gemeten | CD9: Koepelglas enkelvoudig gemeten | CF9: Boeidelen | CH9: Gevelbeplating | CT9: =SUMIF('5a'!$C$500:$C$514,"G",'5a'!$K$500:$K$514) -> 0 | CU9: =INDIRECT("'" & B9 & "'!$K$539") -> 0 | CV9: =INDIRECT("'" & B9 & "'!$K$540") -> 0 | CW9: =INDIRECT("'" & B9 & "'!$K$541") -> 0 | CX9: =INDIRECT("'" & B9 & "'!$K$542") -> 0 | CY9: =INDIRECT("'" & B9 & "'!$K$543") -> 0 | CZ9: =INDIRECT("'" & B9 & "'!$K$544") -> 0 | DA9: =INDIRECT("'" & B9 & "'!$G$515") -> 0 | DB9: =DA9 -> 0 | DC9: =DA9 -> 0 | DD9: =INDIRECT("'" & B9 & "'!$F$515") -> 0

Sheet 1
D2: =CONCATENATE("Uitvoeringsbepaling"," ",H4,", onderdeel van ",Verzamelblad!A2," ",Verzamelblad!A3) -> Uitvoeringsbepaling 1, onderdeel van Bestek
A4: Object: | B4: =VLOOKUP(H4,Verzamelblad!A5:E19,3) -> Gemeentehuis | F4: Uitvoeringsbepaling: | H4: =Verzamelblad!A5 -> 1
A5: Straat: | B5: =VLOOKUP(H4,Verzamelblad!A5:E19,4) -> Stationstraat 18 | F5: Inventarisatie: | H5: =CONCATENATE(H4,"a") -> 1a
A6: Plaats: | B6: =VLOOKUP(H4,Verzamelblad!A5:E19,5) -> Buitenpost | F6: Revisiedatum:
A8: Gewenste aanvangstijd schoonmaak: | E8: =VLOOKUP($H$4,Verzamelblad!$A$5:$EK$19,14,0) -> 0
A9: Aantal dagen schoonmaak per jaar: | E9: =VLOOKUP($H$4,Verzamelblad!$A$5:$EK$19,6,0) -> 260
F10: Prijs | G10: Uren | H10: Gem. uren/dag | I10: Jaarpijs | J10: Jaaruren | K10: Verhouding
A11: Werkzaamheden met een frequentie tot 1/20 | F11: =IFERROR(IF(SUM(I11/12)=0,"",SUM(I11/12)),"") | G11: =IFERROR(SUM(J11/12),"") | H11: =IFERROR(SUM(J11/E9),"") | I11: =IFERROR(IF(SUM($I$14*K11)=0,"",SUM($I$14*K11)),"") | J11: =IFERROR(SUM(J14*K11),"")
A12: Schoonmaakwerkzaamheden 3x per jaar | F12: =IFERROR(IF(SUM(I12/3)=0,"",SUM(I12/3)),"") | G12: =IFERROR(SUM(J12/3),"") | I12: =IFERROR(IF(SUM($I$14*K12)=0,"",SUM($I$14*K12)),"") | J12: =IFERROR(SUM(J14*K12),"")
A13: Schoonmaakwerkzaamheden 1x per jaar | F13: =IF(I13=0,"",I13) | G13: =IFERROR(J13,"") | I13: =IFERROR(IF(SUM($I$14*K13)=0,"",SUM($I$14*K13)),"") | J13: =IFERROR(SUM(J14*K13),"")
A14: Totale jaarprijs / jaaruren | F14: =IFERROR(IF(SUM(F11:F13)=0,"",SUM(F11:F13)),"") | G14: =IFERROR(SUM(G11:G13),"") -> 0 | I14: =IFERROR(IF(E100=0,"",E100),"") | J14: =IFERROR(SUM(I14/offertetarief),"") | K14: =IF(SUM(K11:K13)=100%,"","Geen 100%") -> Geen 100%
F15: Per dag | G15: Per jaar
A16: Uren direct toezicht | F16: =IFERROR(SUM((J14*directtoezicht)/E9),"") | G16: =IF(J14="","",SUM(J14*directtoezicht))
K17: Programma categorie | L17: Gemiddelde productie per m²
A18: Prestatie
A19: M² uit te besteden per jaar | D19: =D100 -> 1062000 | E19: M² uit te besteden per dag | G19: =IFERROR(D100/E9,"") -> 4084.6154 | H19: Gem. prestatie | I19: =IFERROR(SUM(D19/J14),"") | K19: =IF(INDIRECT("'"&$H$5&"'!F539")="X","",IF(INDIRECT("'"&$H$5&"'!F539")="Vrije categorie","",INDIRECT("'"&$H$5&"'!F539"))) -> A
K20: =IF(INDIRECT("'"&$H$5&"'!F540")="X","",IF(INDIRECT("'"&$H$5&"'!F540")="Vrije categorie","",INDIRECT("'"&$H$5&"'!F540"))) -> B
A21: Extra werkzaamheden | D21: Prijs per | E21: Aantal | F21: Prijs per eenheid | G21: Beurtprijs | H21: Beurten per jaar | I21: Prijs per jaar | K21: =IF(INDIRECT("'"&$H$5&"'!F541")="X","",IF(INDIRECT("'"&$H$5&"'!F541")="Vrije categorie","",INDIRECT("'"&$H$5&"'!F541"))) -> C
A22: =VLOOKUP($H$4,Verzamelblad!$A$5:$EK$19,32,0) -> Dieptereiniging sanitair | D22: =VLOOKUP($H$4,Verzamelblad!$A$5:$EK$19,33,0) -> m² | E22: =VLOOKUP($H$4,Verzamelblad!$A$5:$DE$19,34) -> 129.1 | G22: =IF(IF(E22="","",SUM(E22*F22))=0,"",IF(E22="","",SUM(E22*F22))) | H22: =VLOOKUP($H$4,Verzamelblad!$A$5:$EK$19,35,0) -> 1 | I22: =IFERROR(IF(IF(H22="op afroep","",SUM(G22*H22))=0,"",IF(H22="op afroep","",SUM(G22*H22))),"") | K22: =IF(INDIRECT("'"&$H$5&"'!F542")="X","",IF(INDIRECT("'"&$H$5&"'!F542")="Vrije categorie","",INDIRECT("'"&$H$5&"'!F542"))) -> D
A23: =VLOOKUP($H$4,Verzamelblad!$A$5:$EK$19,36,0) -> Schrobben terras raadzaal | D23: =VLOOKUP($H$4,Verzamelblad!$A$5:$EK$19,37,0) -> beurt | E23: =VLOOKUP($H$4,Verzamelblad!$A$5:$DE$19,38) -> 1 | G23: =IF(IF(E23="","",SUM(E23*F23))=0,"",IF(E23="","",SUM(E23*F23))) | H23: =VLOOKUP($H$4,Verzamelblad!$A$5:$EK$19,39,0) -> 2 | I23: =IFERROR(IF(IF(H23="op afroep","",SUM(G23*H23))=0,"",IF(H23="op afroep","",SUM(G23*H23))),"") | K23: =IF(INDIRECT("'"&$H$5&"'!F543")="X","",IF(INDIRECT("'"&$H$5&"'!F543")="Vrije categorie","",INDIRECT("'"&$H$5&"'!F543"))) -> E
K24: =IF(INDIRECT("'"&$H$5&"'!F544")="X","",IF(INDIRECT("'"&$H$5&"'!F544")="Vrije categorie","",INDIRECT("'"&$H$5&"'!F544"))) -> F
A25: =VLOOKUP($H$4,Verzamelblad!$A$5:$EK$19,44,0) -> 0 | D25: =VLOOKUP($H$4,Verzamelblad!$A$5:$EK$19,45,0) -> 0 | E25: =VLOOKUP($H$4,Verzamelblad!$A$5:$DE$19,46) -> 0 | G25: =IF(IF(E25="","",SUM(E25*F25))=0,"",IF(E25="","",SUM(E25*F25))) | H25: =VLOOKUP($H$4,Verzamelblad!$A$5:$EK$19,47,0) -> 0 | I25: =IFERROR(IF(IF(H25="op afroep","",SUM(G25*H25))=0,"",IF(H25="op afroep","",SUM(G25*H25))),"") | K25: =IF(INDIRECT("'"&$H$5&"'!F545")="X","",IF(INDIRECT("'"&$H$5&"'!F545")="Vrije categorie","",INDIRECT("'"&$H$5&"'!F545"))) -> G
A26: =VLOOKUP($H$4,Verzamelblad!$A$5:$EK$19,48,0) -> 0 | D26: =VLOOKUP($H$4,Verzamelblad!$A$5:$EK$19,49,0) -> 0 | E26: =VLOOKUP($H$4,Verzamelblad!$A$5:$DE$19,50) -> 0 | G26: =IF(IF(E26="","",SUM(E26*F26))=0,"",IF(E26="","",SUM(E26*F26))) | H26: =VLOOKUP($H$4,Verzamelblad!$A$5:$EK$19,51,0) -> 0 | I26: =IFERROR(IF(IF(H26="op afroep","",SUM(G26*H26))=0,"",IF(H26="op afroep","",SUM(G26*H26))),"") | K26: =IF(INDIRECT("'"&$H$5&"'!F546")="X","",IF(INDIRECT("'"&$H$5&"'!F546")="Vrije categorie","",INDIRECT("'"&$H$5&"'!F546"))) -> H
A27: =VLOOKUP($H$4,Verzamelblad!$A$5:$EK$19,52,0) -> 0 | D27: =VLOOKUP($H$4,Verzamelblad!$A$5:$EK$19,53,0) -> 0 | E27: =VLOOKUP($H$4,Verzamelblad!$A$5:$DE$19,54) -> 0 | G27: =IF(IF(E27="","",SUM(E27*F27))=0,"",IF(E27="","",SUM(E27*F27))) | H27: =VLOOKUP($H$4,Verzamelblad!$A$5:$EK$19,55,0) -> 0 | I27: =IFERROR(IF(IF(H27="op afroep","",SUM(G27*H27))=0,"",IF(H27="op afroep","",SUM(G27*H27))),"") | K27: =IF(INDIRECT("'"&$H$5&"'!F547")="X","",IF(INDIRECT("'"&$H$5&"'!F547")="Vrije categorie","",INDIRECT("'"&$H$5&"'!F547"))) -> I
A28: =VLOOKUP($H$4,Verzamelblad!$A$5:$EK$19,56,0) -> 0 | D28: =VLOOKUP($H$4,Verzamelblad!$A$5:$EK$19,57,0) -> 0 | E28: =VLOOKUP($H$4,Verzamelblad!$A$5:$DE$19,58) -> 0 | G28: =IF(IF(E28="","",SUM(E28*F28))=0,"",IF(E28="","",SUM(E28*F28))) | H28: =VLOOKUP($H$4,Verzamelblad!$A$5:$EK$19,59,0) -> 0 | I28: =IFERROR(IF(IF(H28="op afroep","",SUM(G28*H28))=0,"",IF(H28="op afroep","",SUM(G28*H28))),"") | K28: =IF(INDIRECT("'"&$H$5&"'!F548")="X","",IF(INDIRECT("'"&$H$5&"'!F548")="Vrije categorie","",INDIRECT("'"&$H$5&"'!F548"))) -> J
A29: =VLOOKUP($H$4,Verzamelblad!$A$5:$EK$19,60,0) -> 0 | D29: =VLOOKUP($H$4,Verzamelblad!$A$5:$EK$19,61,0) -> 0 | E29: =VLOOKUP($H$4,Verzamelblad!$A$5:$DE$19,62) -> 0 | G29: =IF(IF(E29="","",SUM(E29*F29))=0,"",IF(E29="","",SUM(E29*F29))) | H29: =VLOOKUP($H$4,Verzamelblad!$A$5:$EK$19,63,0) -> 0 | I29: =IFERROR(IF(IF(H29="op afroep","",SUM(G29*H29))=0,"",IF(H29="op afroep","",SUM(G29*H29))),"") | K29: =IF(INDIRECT("'"&$H$5&"'!F549")="X","",IF(INDIRECT("'"&$H$5&"'!F549")="Vrije categorie","",INDIRECT("'"&$H$5&"'!F549"))) -> K
A30: =VLOOKUP($H$4,Verzamelblad!$A$5:$EK$19,64,0) -> 0 | D30: =VLOOKUP($H$4,Verzamelblad!$A$5:$EK$19,65,0) -> 0 | E30: =VLOOKUP($H$4,Verzamelblad!$A$5:$DE$19,66) -> 0 | G30: =IF(IF(E30="","",SUM(E30*F30))=0,"",IF(E30="","",SUM(E30*F30))) | H30: =VLOOKUP($H$4,Verzamelblad!$A$5:$EK$19,67,0) -> 0 | I30: =IFERROR(IF(IF(H30="op afroep","",SUM(G30*H30))=0,"",IF(H30="op afroep","",SUM(G30*H30))),"") | K30: =IF(INDIRECT("'"&$H$5&"'!F550")="X","",IF(INDIRECT("'"&$H$5&"'!F550")="Vrije categorie","",INDIRECT("'"&$H$5&"'!F550")))
A31: =VLOOKUP($H$4,Verzamelblad!$A$5:$EK$19,68,0) -> 0 | D31: =VLOOKUP($H$4,Verzamelblad!$A$5:$EK$19,69,0) -> 0 | E31: =VLOOKUP($H$4,Verzamelblad!$A$5:$DE$19,70) -> 0 | G31: =IF(IF(E31="","",SUM(E31*F31))=0,"",IF(E31="","",SUM(E31*F31))) | H31: =VLOOKUP($H$4,Verzamelblad!$A$5:$EK$19,71,0) -> 0 | I31: =IFERROR(IF(IF(H31="op afroep","",SUM(G31*H31))=0,"",IF(H31="op afroep","",SUM(G31*H31))),"") | K31: =IF(INDIRECT("'"&$H$5&"'!F551")="X","",IF(INDIRECT("'"&$H$5&"'!F551")="Vrije categorie","",INDIRECT("'"&$H$5&"'!F551")))
A32: =VLOOKUP($H$4,Verzamelblad!$A$5:$EK$19,72,0) -> 0 | D32: =VLOOKUP($H$4,Verzamelblad!$A$5:$EK$19,73,0) -> 0 | E32: =VLOOKUP($H$4,Verzamelblad!$A$5:$DE$19,74) -> 0 | G32: =IF(IF(E32="","",SUM(E32*F32))=0,"",IF(E32="","",SUM(E32*F32))) | H32: =VLOOKUP($H$4,Verzamelblad!$A$5:$EK$19,75,0) -> 0 | I32: =IFERROR(IF(IF(H32="op afroep","",SUM(G32*H32))=0,"",IF(H32="op afroep","",SUM(G32*H32))),"") | K32: =IF(INDIRECT("'"&$H$5&"'!F552")="X","",IF(INDIRECT("'"&$H$5&"'!F552")="Vrije categorie","",INDIRECT("'"&$H$5&"'!F552")))
A33: Totaal | I33: =IF(SUM(I22:I32)=0,"",SUM(I22:I32)) | K33: =IF(INDIRECT("'"&$H$5&"'!F553")="X","",IF(INDIRECT("'"&$H$5&"'!F553")="Vrije categorie","",INDIRECT("'"&$H$5&"'!F553")))
A35: Vloeronderhoud | E35: M² | F35: Prijs per m² | G35: Beurtprijs | H35: Beurten per jaar | I35: Prijs per jaar
A36: =VLOOKUP($H$4,Verzamelblad!$A$5:$EK$19,16,0) -> Conserveren | E36: =VLOOKUP($H$4,Verzamelblad!$A$5:$DE$19,105) -> 320 | G36: =IF(IF(E36="","",SUM(E36*F36))=0,"",IF(E36="","",SUM(E36*F36))) | H36: =VLOOKUP($H$4,Verzamelblad!$A$5:$DE$19,17) -> op afroep | I36: =IFERROR(IF(IF(H36="op afroep","",SUM(G36*H36))=0,"",IF(H36="op afroep","",SUM(G36*H36))),"")
A37: =VLOOKUP($H$4,Verzamelblad!$A$5:$EK$19,18,0) -> 0 | G37: =IF(IF(E37="","",SUM(E37*F37))=0,"",IF(E37="","",SUM(E37*F37))) | H37: =VLOOKUP($H$4,Verzamelblad!$A$5:$DE$19,19) -> 0 | I37: =IFERROR(IF(IF(H37="op afroep","",SUM(G37*H37))=0,"",IF(H37="op afroep","",SUM(G37*H37))),"")
A38: =VLOOKUP($H$4,Verzamelblad!$A$5:$EK$19,20,0) -> 0 | G38: =IF(IF(E38="","",SUM(E38*F38))=0,"",IF(E38="","",SUM(E38*F38))) | H38: =VLOOKUP($H$4,Verzamelblad!$A$5:$DE$19,21) -> 0 | I38: =IFERROR(IF(IF(H38="op afroep","",SUM(G38*H38))=0,"",IF(H38="op afroep","",SUM(G38*H38))),"")
A39: =VLOOKUP($H$4,Verzamelblad!$A$5:$EK$19,22,0) -> 0 | G39: =IF(IF(E39="","",SUM(E39*F39))=0,"",IF(E39="","",SUM(E39*F39))) | H39: =VLOOKUP($H$4,Verzamelblad!$A$5:$DE$19,23) -> 0 | I39: =IFERROR(IF(IF(H39="op afroep","",SUM(G39*H39))=0,"",IF(H39="op afroep","",SUM(G39*H39))),"")
A40: =VLOOKUP($H$4,Verzamelblad!$A$5:$EK$19,24,0) -> 0 | E40: =VLOOKUP($H$4,Verzamelblad!$A$5:$DE$19,109) -> 0 | G40: =IF(IF(E40="","",SUM(E40*F40))=0,"",IF(E40="","",SUM(E40*F40))) | H40: =VLOOKUP($H$4,Verzamelblad!$A$5:$DE$19,25) -> 0 | I40: =IFERROR(IF(IF(H40="op afroep","",SUM(G40*H40))=0,"",IF(H40="op afroep","",SUM(G40*H40))),"")
A41: =VLOOKUP($H$4,Verzamelblad!$A$5:$EK$19,26,0) -> 0 | E41: 0 | G41: =IF(IF(E41="","",SUM(E41*F41))=0,"",IF(E41="","",SUM(E41*F41))) | H41: =VLOOKUP($H$4,Verzamelblad!$A$5:$DE$19,27) -> 0 | I41: =IFERROR(IF(IF(H41="op afroep","",SUM(G41*H41))=0,"",IF(H41="op afroep","",SUM(G41*H41))),"")
A42: =VLOOKUP($H$4,Verzamelblad!$A$5:$EK$19,28,0) -> 0 | E42: 0 | G42: =IF(IF(E42="","",SUM(E42*F42))=0,"",IF(E42="","",SUM(E42*F42))) | H42: =VLOOKUP($H$4,Verzamelblad!$A$5:$DE$19,29) -> 0 | I42: =IFERROR(IF(IF(H42="op afroep","",SUM(G42*H42))=0,"",IF(H42="op afroep","",SUM(G42*H42))),"")
A43: =VLOOKUP($H$4,Verzamelblad!$A$5:$EK$19,30,0) -> 0 | E43: 0 | G43: =IF(IF(E43="","",SUM(E43*F43))=0,"",IF(E43="","",SUM(E43*F43))) | H43: =VLOOKUP($H$4,Verzamelblad!$A$5:$DE$19,31) -> 0 | I43: =IFERROR(IF(IF(H43="op afroep","",SUM(G43*H43))=0,"",IF(H43="op afroep","",SUM(G43*H43))),"")
A44: Totaal | I44: =IF(SUM(I36:I43)=0,"",SUM(I36:I43))
A46: Glasbewassing (incl. houtwerk en omlijsting) | E46: M² | F46: Prijs per m² | G46: Beurtprijs | H46: Beurten per jaar | I46: Prijs per jaar
A47: =VLOOKUP($H$4,Verzamelblad!$A$5:$EK$19,76,0) -> Gevelglas oudbouw buitenzijde enkelvoudig gemeten | E47: =VLOOKUP($H$4,Verzamelblad!$A$5:$DE$19,100)-368 -> 1524.6 | G47: =IF(IF(E47="","",SUM(E47*F47))=0,"",IF(E47="","",SUM(E47*F47))) | H47: =VLOOKUP($H$4,Verzamelblad!$A$5:$EK$19,77,0) -> 2 | I47: =IFERROR(IF(IF(H47="op afroep","",SUM(G47*H47))=0,"",IF(H47="op afroep","",SUM(G47*H47))),"")
A48: =VLOOKUP($H$4,Verzamelblad!$A$5:$EK$19,78,0) -> Gevelglas nieuwbouw Jeltingahuis en entree enkelvoudig gemeten | E48: =VLOOKUP($H$4,Verzamelblad!$A$5:$DE$19,99)-1524.6 -> 368 | G48: =IF(IF(E48="","",SUM(E48*F48))=0,"",IF(E48="","",SUM(E48*F48))) | H48: =VLOOKUP($H$4,Verzamelblad!$A$5:$EK$19,79,0) -> 3 | I48: =IFERROR(IF(IF(H48="op afroep","",SUM(G48*H48))=0,"",IF(H48="op afroep","",SUM(G48*H48))),"")
A49: =VLOOKUP($H$4,Verzamelblad!$A$5:$EK$19,80,0) -> Gevelglas binnenzijde enkelvoudig gemeten | E49: =VLOOKUP($H$4,Verzamelblad!$A$5:$DE$19,99) -> 1892.6 | G49: =IF(IF(E49="","",SUM(E49*F49))=0,"",IF(E49="","",SUM(E49*F49))) | H49: =VLOOKUP($H$4,Verzamelblad!$A$5:$EK$19,81,0) -> 2 | I49: =IFERROR(IF(IF(H49="op afroep","",SUM(G49*H49))=0,"",IF(H49="op afroep","",SUM(G49*H49))),"")
A50: =VLOOKUP($H$4,Verzamelblad!$A$5:$EK$19,82,0) -> Separatieglas dubbelvoudig gemeten | E50: =VLOOKUP($H$4,Verzamelblad!$A$5:$DE$19,101) -> 1273.5 | G50: =IF(IF(E50="","",SUM(E50*F50))=0,"",IF(E50="","",SUM(E50*F50))) | H50: =VLOOKUP($H$4,Verzamelblad!$A$5:$EK$19,83,0) -> 2 | I50: =IFERROR(IF(IF(H50="op afroep","",SUM(G50*H50))=0,"",IF(H50="op afroep","",SUM(G50*H50))),"")
A51: =VLOOKUP($H$4,Verzamelblad!$A$5:$EK$19,84,0) -> 8 luiken en 15 lantaarns | H51: =VLOOKUP($H$4,Verzamelblad!$A$5:$EK$19,85,0) -> 1 | I51: =IFERROR(IF(IF(H51="op afroep","",SUM(G51*H51))=0,"",IF(H51="op afroep","",SUM(G51*H51))),"")
A52: =VLOOKUP($H$4,Verzamelblad!$A$5:$EK$19,86,0) -> Trespa, houtwerk en boeiranden | E52: =VLOOKUP($H$4,Verzamelblad!$A$5:$DE$19,103) -> 310 | G52: =IF(IF(E52="","",SUM(E52*F52))=0,"",IF(E52="","",SUM(E52*F52))) | H52: =VLOOKUP($H$4,Verzamelblad!$A$5:$EK$19,87,0) -> 1 | I52: =IFERROR(IF(IF(H52="op afroep","",SUM(G52*H52))=0,"",IF(H52="op afroep","",SUM(G52*H52))),"")
A53: =VLOOKUP($H$4,Verzamelblad!$A$5:$EK$19,88,0) -> 0 | G53: =IF(IF(E53="","",SUM(E53*F53))=0,"",IF(E53="","",SUM(E53*F53))) | H53: =VLOOKUP($H$4,Verzamelblad!$A$5:$EK$19,89,0) -> 0 | I53: =IFERROR(IF(IF(H53="op afroep","",SUM(G53*H53))=0,"",IF(H53="op afroep","",SUM(G53*H53))),"")
A54: =VLOOKUP($H$4,Verzamelblad!$A$5:$EK$19,90,0) -> 0 | E54: 0 | G54: =IF(IF(E54="","",SUM(E54*F54))=0,"",IF(E54="","",SUM(E54*F54))) | H54: =VLOOKUP($H$4,Verzamelblad!$A$5:$EK$19,91,0) -> 0 | I54: =IFERROR(IF(IF(H54="op afroep","",SUM(G54*H54))=0,"",IF(H54="op afroep","",SUM(G54*H54))),"")
A55: =VLOOKUP($H$4,Verzamelblad!$A$5:$EK$19,92,0) -> 0 | E55: 0 | G55: =IF(IF(E55="","",SUM(E55*F55))=0,"",IF(E55="","",SUM(E55*F55))) | H55: =VLOOKUP($H$4,Verzamelblad!$A$5:$EK$19,93,0) -> 0 | I55: =IFERROR(IF(IF(H55="op afroep","",SUM(G55*H55))=0,"",IF(H55="op afroep","",SUM(G55*H55))),"")
A56: =VLOOKUP($H$4,Verzamelblad!$A$5:$EK$19,94,0) -> 0 | E56: 0 | G56: =IF(IF(E56="","",SUM(E56*F56))=0,"",IF(E56="","",SUM(E56*F56))) | H56: =VLOOKUP($H$4,Verzamelblad!$A$5:$EK$19,95,0) -> 0 | I56: =IFERROR(IF(IF(H56="op afroep","",SUM(G56*H56))=0,"",IF(H56="op afroep","",SUM(G56*H56))),"")
A57: Totaal | I57: =IF(SUM(I47:I56)=0,"",SUM(I47:I56))
A59: Sanitaire voorzieningen | E59: Artikel | F59: Omschrijving | G59: Aantal | H59: Prijs per maand | I59: Prijs per jaar
I60: =IFERROR(IF(IF(H60="op afroep","",SUM(G60*H60))=0,"",IF(H60="op afroep","",SUM(G60*H60))),"") | K60: Aantal gebruikers van deze locatie
I61: =IFERROR(IF(IF(H61="op afroep","",SUM(G61*H61))=0,"",IF(H61="op afroep","",SUM(G61*H61))),"") | K61: Medewerkers
I62: =IFERROR(IF(IF(H62="op afroep","",SUM(G62*H62))=0,"",IF(H62="op afroep","",SUM(G62*H62))),"") | K62: Bezoekers
I63: =IFERROR(IF(IF(H63="op afroep","",SUM(G63*H63))=0,"",IF(H63="op afroep","",SUM(G63*H63))),"")
I64: =IFERROR(IF(IF(H64="op afroep","",SUM(G64*H64))=0,"",IF(H64="op afroep","",SUM(G64*H64))),"")
I65: =IFERROR(IF(IF(H65="op afroep","",SUM(G65*H65))=0,"",IF(H65="op afroep","",SUM(G65*H65))),"")
A66: Totaal | I66: =IF(SUM(I60:I65)=0,"",SUM(I60:I65))
A68: Bijzonderheden
A76: Totaalprijs per jaar | I76: =IF(SUM(IF(I14="",0,I14)+IF(I33="",0,I33)+IF(I44="",0,I44)+IF(I57="",0,I57)+IF(I66="",0,I66))=0,"",SUM(IF(I14="",0,I14)+IF(I33="",0,I33)+IF(I44="",0,I44)+IF(I57="",0,I57)+IF(I66="",0,I66)))
A78: Maandfactuur (werkzaamheden met een frequentie tot 1x per maand) | I78: =IFERROR(I11/12,"")
A80: Kwaliteitsinspecties | E80: Prijs | F80: Aantal | I80: Prijs per jaar
A81: =Verzamelblad!D3 -> VSR | E81: =VLOOKUP($H$4,Verzamelblad!$A$5:$EK$19,9,0) -> 425 | F81: =VLOOKUP($H$4,Verzamelblad!$A$5:$EK$19,10,0) -> 3 | I81: =IFERROR(IF(SUM(E81*F81)=0,"",SUM(E81*F81)),"") -> 1275
A84: cat | D84: m2/jr | E84: prijs/jr
A85: =IF(K19=0,"",K19) -> A | D85: =IF(A85="",0,VLOOKUP(A85,INDIRECT("'"&$H$5&"'!C500:M515"),11,0)) -> 312416 | E85: =IF(L19=0,"",IF(L19="","",SUM(D85/L19)*Uurtariefopbouw!$F$15))
A86: =IF(K20=0,"",K20) -> B | D86: =IF(A86="",0,VLOOKUP(A86,INDIRECT("'"&$H$5&"'!C500:M515"),11,0)) -> 141440 | E86: =IF(L20=0,"",IF(L20="","",SUM(D86/L20)*Uurtariefopbouw!$F$15))
A87: =IF(K21=0,"",K21) -> C | D87: =IF(A87="",0,VLOOKUP(A87,INDIRECT("'"&$H$5&"'!C500:M515"),11,0)) -> 58240 | E87: =IF(L21=0,"",IF(L21="","",SUM(D87/L21)*Uurtariefopbouw!$F$15))
A88: =IF(K22=0,"",K22) -> D | D88: =IF(A88="",0,VLOOKUP(A88,INDIRECT("'"&$H$5&"'!C500:M515"),11,0)) -> 0 | E88: =IF(L22=0,"",IF(L22="","",SUM(D88/L22)*Uurtariefopbouw!$F$15))
A89: =IF(K23=0,"",K23) -> E | D89: =IF(A89="",0,VLOOKUP(A89,INDIRECT("'"&$H$5&"'!C500:M515"),11,0)) -> 514202 | E89: =IF(L23=0,"",IF(L23="","",SUM(D89/L23)*Uurtariefopbouw!$F$15))
A90: =IF(K24=0,"",K24) -> F | D90: =IF(A90="",0,VLOOKUP(A90,INDIRECT("'"&$H$5&"'!C500:M515"),11,0)) -> 0 | E90: =IF(L24=0,"",IF(L24="","",SUM(D90/L24)*Uurtariefopbouw!$F$15))
A91: =IF(K25=0,"",K25) -> G | D91: =IF(A91="",0,VLOOKUP(A91,INDIRECT("'"&$H$5&"'!C500:M515"),11,0)) -> 33566 | E91: =IF(L25=0,"",IF(L25="","",SUM(D91/L25)*Uurtariefopbouw!$F$15))
A92: =IF(K26=0,"",K26) -> H | D92: =IF(A92="",0,VLOOKUP(A92,INDIRECT("'"&$H$5&"'!C500:M515"),11,0)) -> 0 | E92: =IF(L26=0,"",IF(L26="","",SUM(D92/L26)*Uurtariefopbouw!$F$15))
A93: =IF(K27=0,"",K27) -> I | D93: =IF(A93="",0,VLOOKUP(A93,INDIRECT("'"&$H$5&"'!C500:M515"),11,0)) -> 0 | E93: =IF(L27=0,"",IF(L27="","",SUM(D93/L27)*Uurtariefopbouw!$F$15))
A94: =IF(K28=0,"",K28) -> J | D94: =IF(A94="",0,VLOOKUP(A94,INDIRECT("'"&$H$5&"'!C500:M515"),11,0)) -> 0 | E94: =IF(L28=0,"",IF(L28="","",SUM(D94/L28)*Uurtariefopbouw!$F$15))
A95: =IF(K29=0,"",K29) -> K | D95: =IF(A95="",0,VLOOKUP(A95,INDIRECT("'"&$H$5&"'!C500:M515"),11,0)) -> 2136 | E95: =IF(L29=0,"",IF(L29="","",SUM(D95/L29)*Uurtariefopbouw!$F$15))
A96: =IF(K30=0,"",K30) | D96: =IF(A96="",0,VLOOKUP(A96,INDIRECT("'"&$H$5&"'!C500:M515"),11,0)) -> 0 | E96: =IF(L30=0,"",IF(L30="","",SUM(D96/L30)*Uurtariefopbouw!$F$15))
... A99: =IF(K33=0,"",K33) | D99: =IF(A99="",0,VLOOKUP(A99,INDIRECT("'"&$H$5&"'!C500:M515"),11,0)) -> 0 | E99: =IF(L33=0,"",IF(L33="","",SUM(D99/L33)*Uurtariefopbouw!$F$15))
A100: Totaal: | D100: =SUM(D85:D99) -> 1062000 | E100: =SUM(E85:E99) -> 0

Sheet 1a
A1: ='1'!H4 -> 1 | B1: Object: | D1: =IF(VLOOKUP(A1,Verzamelblad!A5:E19,3)=0,"",VLOOKUP(A1,Verzamelblad!A5:E19,3)) -> Gemeentehuis
B2: Adres, plaats: | D2: =IF(CONCATENATE(VLOOKUP(A1,Verzamelblad!A5:E19,4)," te ",VLOOKUP(A1,Verzamelblad!A5:E19,5))=" te ","",CONCATENATE(VLOOKUP(A1,Verzamelblad!A5:E19,4)," te ",VLOOKUP(A1,Verzamelblad!A5:E19,5))) -> Stationstraat 18 te Buitenpost
A3: bwdl | B3: nr | C3: Ruimte | D3: ED | E3: Cat. | F3: Tapijt | G3: Linoleum | H3: PVC | I3: Hout | J3: Steen/ Pulastic | K3: m2 | L3: Freq | M3: m2 smk/jr
C4: Begane grond
A5: P | B5: 001 | C5: Entree | E5: E | F5: 26 | K5: =SUM(F5:J5) -> 26 | L5: =IF(D5="X",0,IF(E5="",0,IF(E5="X",0,VLOOKUP(E5,$F$539:$G$553,2)))) -> 260 | M5: =SUM(K5*L5) -> 6760
A6: P | B6: 001b | C6: Hal (receptie) | E6: E | J6: 150 | K6: =SUM(F6:J6) -> 150 | L6: =IF(D6="X",0,IF(E6="",0,IF(E6="X",0,VLOOKUP(E6,$F$539:$G$553,2)))) -> 260 | M6: =SUM(K6*L6) -> 39000
A7: P | B7: 009 | C7: Centrale hal | E7: E | J7: 188 | K7: =SUM(F7:J7) -> 188 | L7: =IF(D7="X",0,IF(E7="",0,IF(E7="X",0,VLOOKUP(E7,$F$539:$G$553,2)))) -> 260 | M7: =SUM(K7*L7) -> 48880
A8: P | C8: in: trap | E8: E | K8: =SUM(F8:J8) -> 0 | L8: =IF(D8="X",0,IF(E8="",0,IF(E8="X",0,VLOOKUP(E8,$F$539:$G$553,2)))) -> 260 | M8: =SUM(K8*L8) -> 0
A9: P | B9: 021 | C9: Garderobe | E9: E | J9: 9 | K9: =SUM(F9:J9) -> 9 | L9: =IF(D9="X",0,IF(E9="",0,IF(E9="X",0,VLOOKUP(E9,$F$539:$G$553,2)))) -> 260 | M9: =SUM(K9*L9) -> 2340
A10: P | B10: 024 | C10: Toiletgroep 2x t 2xu | E10: G | J10: 8 | K10: =SUM(F10:J10) -> 8 | L10: =IF(D10="X",0,IF(E10="",0,IF(E10="X",0,VLOOKUP(E10,$F$539:$G$553,2)))) -> 260 | M10: =SUM(K10*L10) -> 2080
A11: P | B11: 022 | C11: Mv toilet | E11: G | J11: 4.5 | K11: =SUM(F11:J11) -> 4.5 | L11: =IF(D11="X",0,IF(E11="",0,IF(E11="X",0,VLOOKUP(E11,$F$539:$G$553,2)))) -> 260 | M11: =SUM(K11*L11) -> 1170
A12: P | B12: 023 | C12: Toiletgroep 3x t | E12: G | K12: =SUM(F12:J12) -> 0 | L12: =IF(D12="X",0,IF(E12="",0,IF(E12="X",0,VLOOKUP(E12,$F$539:$G$553,2)))) -> 260 | M12: =SUM(K12*L12) -> 0
A13: P | B13: 020 | C13: Raadzaal | E13: B | H13: 180 | J13: 45 | K13: =SUM(F13:J13) -> 225 | L13: =IF(D13="X",0,IF(E13="",0,IF(E13="X",0,VLOOKUP(E13,$F$539:$G$553,2)))) -> 260 | M13: =SUM(K13*L13) -> 58500
B14: 025 | C14: (achter) berging | E14: X | G14: 27 | K14: =SUM(F14:J14) -> 27 | L14: =IF(D14="X",0,IF(E14="",0,IF(E14="X",0,VLOOKUP(E14,$F$539:$G$553,2)))) -> 0 | M14: =SUM(K14*L14) -> 0
B15: 015 | C15: Vergaderkamer | E15: A | F15: 37 | K15: =SUM(F15:J15) -> 37 | L15: =IF(D15="X",0,IF(E15="",0,IF(E15="X",0,VLOOKUP(E15,$F$539:$G$553,2)))) -> 104 | M15: =SUM(K15*L15) -> 3848
B16: 016 | C16: Vergaderkamer | E16: A | F16: 27 | K16: =SUM(F16:J16) -> 27 | L16: =IF(D16="X",0,IF(E16="",0,IF(E16="X",0,VLOOKUP(E16,$F$539:$G$553,2)))) -> 104 | M16: =SUM(K16*L16) -> 2808
A17: P | B17: 009a | C17: Pantry/bar | E17: B | J17: 14 | K17: =SUM(F17:J17) -> 14 | L17: =IF(D17="X",0,IF(E17="",0,IF(E17="X",0,VLOOKUP(E17,$F$539:$G$553,2)))) -> 260 | M17: =SUM(K17*L17) -> 3640
B18: 017 | C18: (achter) voorraadkast | E18: X | J18: 4 | K18: =SUM(F18:J18) -> 4 | L18: =IF(D18="X",0,IF(E18="",0,IF(E18="X",0,VLOOKUP(E18,$F$539:$G$553,2)))) -> 0 | M18: =SUM(K18*L18) -> 0
B19: 010 | C19: Gang | E19: E | F19: 17 | K19: =SUM(F19:J19) -> 17 | L19: =IF(D19="X",0,IF(E19="",0,IF(E19="X",0,VLOOKUP(E19,$F$539:$G$553,2)))) -> 260 | M19: =SUM(K19*L19) -> 4420
B20: 014 | C20: Nooduitgang | E20: E | F20: 7 | K20: =SUM(F20:J20) -> 7 | L20: =IF(D20="X",0,IF(E20="",0,IF(E20="X",0,VLOOKUP(E20,$F$539:$G$553,2)))) -> 260 | M20: =SUM(K20*L20) -> 1820
C21: in: trappenhuis | E21: E | K21: =SUM(F21:J21) -> 0 | L21: =IF(D21="X",0,IF(E21="",0,IF(E21="X",0,VLOOKUP(E21,$F$539:$G$553,2)))) -> 260 | M21: =SUM(K21*L21) -> 0
B22: 013 | C22: Kantoor Griffier | E22: A | F22: 20 | K22: =SUM(F22:J22) -> 20 | L22: =IF(D22="X",0,IF(E22="",0,IF(E22="X",0,VLOOKUP(E22,$F$539:$G$553,2)))) -> 104 | M22: =SUM(K22*L22) -> 2080
B23: 012 | C23: Kantoor onderst griff | E23: A | F23: 25 | K23: =SUM(F23:J23) -> 25 | L23: =IF(D23="X",0,IF(E23="",0,IF(E23="X",0,VLOOKUP(E23,$F$539:$G$553,2)))) -> 104 | M23: =SUM(K23*L23) -> 2600
B24: 011 | C24: Kantoor | E24: A | F24: 22 | K24: =SUM(F24:J24) -> 22 | L24: =IF(D24="X",0,IF(E24="",0,IF(E24="X",0,VLOOKUP(E24,$F$539:$G$553,2)))) -> 104 | M24: =SUM(K24*L24) -> 2288
A25: P | B25: 004 | C25: Spreekkamer 1 | E25: B | F25: 17 | K25: =SUM(F25:J25) -> 17 | L25: =IF(D25="X",0,IF(E25="",0,IF(E25="X",0,VLOOKUP(E25,$F$539:$G$553,2)))) -> 260 | M25: =SUM(K25*L25) -> 4420
A26: P | B26: 005 | C26: Spreekkamer 2 | E26: B | F26: 17 | K26: =SUM(F26:J26) -> 17 | L26: =IF(D26="X",0,IF(E26="",0,IF(E26="X",0,VLOOKUP(E26,$F$539:$G$553,2)))) -> 260 | M26: =SUM(K26*L26) -> 4420
A27: P | B27: 006 | C27: Wachtruimte | E27: B | F27: 17 | K27: =SUM(F27:J27) -> 17 | L27: =IF(D27="X",0,IF(E27="",0,IF(E27="X",0,VLOOKUP(E27,$F$539:$G$553,2)))) -> 260 | M27: =SUM(K27*L27) -> 4420
A28: P | B28: 007 | C28: Spreekkamer 3 | E28: B | F28: 17 | K28: =SUM(F28:J28) -> 17 | L28: =IF(D28="X",0,IF(E28="",0,IF(E28="X",0,VLOOKUP(E28,$F$539:$G$553,2)))) -> 260 | M28: =SUM(K28*L28) -> 4420
A29: P | B29: 008 | C29: Spreekkamer 4 | E29: B | F29: 17 | K29: =SUM(F29:J29) -> 17 | L29: =IF(D29="X",0,IF(E29="",0,IF(E29="X",0,VLOOKUP(E29,$F$539:$G$553,2)))) -> 260 | M29: =SUM(K29*L29) -> 4420
A30: P | B30: 004 | C30: Gang | E30: E | J30: 179 | K30: =SUM(F30:J30) -> 179 | L30: =IF(D30="X",0,IF(E30="",0,IF(E30="X",0,VLOOKUP(E30,$F$539:$G$553,2)))) -> 260 | M30: =SUM(K30*L30) -> 46540
C31: Trappenhuis | E31: E | I31: 16 | K31: =SUM(F31:J31) -> 16 | L31: =IF(D31="X",0,IF(E31="",0,IF(E31="X",0,VLOOKUP(E31,$F$539:$G$553,2)))) -> 260 | M31: =SUM(K31*L31) -> 4160
B32: C032 | C32: Hal | E32: E | F32: 115 | K32: =SUM(F32:J32) -> 115 | L32: =IF(D32="X",0,IF(E32="",0,IF(E32="X",0,VLOOKUP(E32,$F$539:$G$553,2)))) -> 260 | M32: =SUM(K32*L32) -> 29900
B33: A014c | C33: Overlegruimte | E33: A | F33: 26 | K33: =SUM(F33:J33) -> 26 | L33: =IF(D33="X",0,IF(E33="",0,IF(E33="X",0,VLOOKUP(E33,$F$539:$G$553,2)))) -> 104 | M33: =SUM(K33*L33) -> 2704
B34: A014b | C34: Overlegruimte | E34: A | F34: 25 | K34: =SUM(F34:J34) -> 25 | L34: =IF(D34="X",0,IF(E34="",0,IF(E34="X",0,VLOOKUP(E34,$F$539:$G$553,2)))) -> 104 | M34: =SUM(K34*L34) -> 2600
B35: A014a | C35: Servicedesk | E35: A | F35: 33 | K35: =SUM(F35:J35) -> 33 | L35: =IF(D35="X",0,IF(E35="",0,IF(E35="X",0,VLOOKUP(E35,$F$539:$G$553,2)))) -> 104 | M35: =SUM(K35*L35) -> 3432
B36: A015 | C36: Reproruimte | E36: A | F36: 25 | K36: =SUM(F36:J36) -> 25 | L36: =IF(D36="X",0,IF(E36="",0,IF(E36="X",0,VLOOKUP(E36,$F$539:$G$553,2)))) -> 104 | M36: =SUM(K36*L36) -> 2600
B37: A016 | C37: Magazijn | E37: X | G37: 24 | K37: =SUM(F37:J37) -> 24 | L37: =IF(D37="X",0,IF(E37="",0,IF(E37="X",0,VLOOKUP(E37,$F$539:$G$553,2)))) -> 0 | M37: =SUM(K37*L37) -> 0
C38: Trappenhuis | E38: E | G38: 10 | I38: 6.5 | K38: =SUM(F38:J38) -> 16.5 | L38: =IF(D38="X",0,IF(E38="",0,IF(E38="X",0,VLOOKUP(E38,$F$539:$G$553,2)))) -> 260 | M38: =SUM(K38*L38) -> 4290
B39: A019 | C39: Archief burgerz | E39: K | G39: 13 | K39: =SUM(F39:J39) -> 13 | L39: =IF(D39="X",0,IF(E39="",0,IF(E39="X",0,VLOOKUP(E39,$F$539:$G$553,2)))) -> 12 | M39: =SUM(K39*L39) -> 156
B40: A021 | C40: Archief extra | E40: X | G40: 6 | K40: =SUM(F40:J40) -> 6 | L40: =IF(D40="X",0,IF(E40="",0,IF(E40="X",0,VLOOKUP(E40,$F$539:$G$553,2)))) -> 0 | M40: =SUM(K40*L40) -> 0
B41: 022 | C41: Ondersteuning archief | E41: K | G41: 28 | K41: =SUM(F41:J41) -> 28 | L41: =IF(D41="X",0,IF(E41="",0,IF(E41="X",0,VLOOKUP(E41,$F$539:$G$553,2)))) -> 12 | M41: =SUM(K41*L41) -> 336
B42: A023 | C42: Ondersteuning archief | E42: K | G42: 36 | K42: =SUM(F42:J42) -> 36 | L42: =IF(D42="X",0,IF(E42="",0,IF(E42="X",0,VLOOKUP(E42,$F$539:$G$553,2)))) -> 12 | M42: =SUM(K42*L42) -> 432
B43: A024 | C43: Magazijn kantoor | E43: X | G43: 21 | K43: =SUM(F43:J43) -> 21 | L43: =IF(D43="X",0,IF(E43="",0,IF(E43="X",0,VLOOKUP(E43,$F$539:$G$553,2)))) -> 0 | M43: =SUM(K43*L43) -> 0
C44: (achter) papier afval | E44: X | J44: 12 | K44: =SUM(F44:J44) -> 12 | L44: =IF(D44="X",0,IF(E44="",0,IF(E44="X",0,VLOOKUP(E44,$F$539:$G$553,2)))) -> 0 | M44: =SUM(K44*L44) -> 0
B45: B025 | C45: Archiefbewaarplaats | E45: K | G45: 101 | K45: =SUM(F45:J45) -> 101 | L45: =IF(D45="X",0,IF(E45="",0,IF(E45="X",0,VLOOKUP(E45,$F$539:$G$553,2)))) -> 12 | M45: =SUM(K45*L45) -> 1212
B46: B030 | C46: Gang | E46: E | F46: 49 | K46: =SUM(F46:J46) -> 49 | L46: =IF(D46="X",0,IF(E46="",0,IF(E46="X",0,VLOOKUP(E46,$F$539:$G$553,2)))) -> 260 | M46: =SUM(K46*L46) -> 12740
B47: B031 | C47: Gang | E47: E | F47: 182 | K47: =SUM(F47:J47) -> 182 | L47: =IF(D47="X",0,IF(E47="",0,IF(E47="X",0,VLOOKUP(E47,$F$539:$G$553,2)))) -> 260 | M47: =SUM(K47*L47) -> 47320
B48: B027/B027a | C48: Bibliotheek/Vergaderruimte | E48: A | F48: 52 | K48: =SUM(F48:J48) -> 52 | L48: =IF(D48="X",0,IF(E48="",0,IF(E48="X",0,VLOOKUP(E48,$F$539:$G$553,2)))) -> 104 | M48: =SUM(K48*L48) -> 5408
K49: =SUM(F49:J49) -> 0 | L49: =IF(D49="X",0,IF(E49="",0,IF(E49="X",0,VLOOKUP(E49,$F$539:$G$553,2)))) -> 0 | M49: =SUM(K49*L49) -> 0
C50: Trappenhuis | E50: E | G50: 9 | I50: 4.5 | K50: =SUM(F50:J50) -> 13.5 | L50: =IF(D50="X",0,IF(E50="",0,IF(E50="X",0,VLOOKUP(E50,$F$539:$G$553,2)))) -> 260 | M50: =SUM(K50*L50) -> 3510
B51: B030a | C51: Kantoor | E51: A | F51: 8 | K51: =SUM(F51:J51) -> 8 | L51: =IF(D51="X",0,IF(E51="",0,IF(E51="X",0,VLOOKUP(E51,$F$539:$G$553,2)))) -> 104 | M51: =SUM(K51*L51) -> 832
B52: B030b | C52: Kantoor | E52: A | F52: 8 | K52: =SUM(F52:J52) -> 8 | L52: =IF(D52="X",0,IF(E52="",0,IF(E52="X",0,VLOOKUP(E52,$F$539:$G$553,2)))) -> 104 | M52: =SUM(K52*L52) -> 832
C53: Magazijn | E53: X | K53: =SUM(F53:J53) -> 0 | L53: =IF(D53="X",0,IF(E53="",0,IF(E53="X",0,VLOOKUP(E53,$F$539:$G$553,2)))) -> 0 | M53: =SUM(K53*L53) -> 0
C54: Douche | E54: G | J54: 6 | K54: =SUM(F54:J54) -> 6 | L54: =IF(D54="X",0,IF(E54="",0,IF(E54="X",0,VLOOKUP(E54,$F$539:$G$553,2)))) -> 260 | M54: =SUM(K54*L54) -> 1560
B55: C036 | C55: Kantoor | E55: A | F55: 17 | K55: =SUM(F55:J55) -> 17 | L55: =IF(D55="X",0,IF(E55="",0,IF(E55="X",0,VLOOKUP(E55,$F$539:$G$553,2)))) -> 104 | M55: =SUM(K55*L55) -> 1768
C56: Werkkast | E56: X | J56: 3 | K56: =SUM(F56:J56) -> 3 | L56: =IF(D56="X",0,IF(E56="",0,IF(E56="X",0,VLOOKUP(E56,$F$539:$G$553,2)))) -> 0 | M56: =SUM(K56*L56) -> 0
B57: C043 | C57: Gang | E57: E | F57: 50 | K57: =SUM(F57:J57) -> 50 | L57: =IF(D57="X",0,IF(E57="",0,IF(E57="X",0,VLOOKUP(E57,$F$539:$G$553,2)))) -> 260 | M57: =SUM(K57*L57) -> 13000
B58: C040 | C58: Kantoor | E58: B | F58: 109 | K58: =SUM(F58:J58) -> 109 | L58: =IF(D58="X",0,IF(E58="",0,IF(E58="X",0,VLOOKUP(E58,$F$539:$G$553,2)))) -> 260 | M58: =SUM(K58*L58) -> 28340
B59: C050 | C59: Gang | E59: E | F59: 17 | K59: =SUM(F59:J59) -> 17 | L59: =IF(D59="X",0,IF(E59="",0,IF(E59="X",0,VLOOKUP(E59,$F$539:$G$553,2)))) -> 260 | M59: =SUM(K59*L59) -> 4420
B60: C038 | C60: Kantoor | E60: A | F60: 23 | K60: =SUM(F60:J60) -> 23 | L60: =IF(D60="X",0,IF(E60="",0,IF(E60="X",0,VLOOKUP(E60,$F$539:$G$553,2)))) -> 104 | M60: =SUM(K60*L60) -> 2392
B61: C039 | C61: Cursusruimte | E61: A | F61: 51 | K61: =SUM(F61:J61) -> 51 | L61: =IF(D61="X",0,IF(E61="",0,IF(E61="X",0,VLOOKUP(E61,$F$539:$G$553,2)))) -> 104 | M61: =SUM(K61*L61) -> 5304
B62: C042 | C62: Nooduitgang | E62: E | F62: 15 | K62: =SUM(F62:J62) -> 15 | L62: =IF(D62="X",0,IF(E62="",0,IF(E62="X",0,VLOOKUP(E62,$F$539:$G$553,2)))) -> 260 | M62: =SUM(K62*L62) -> 3900
C63: in trap | E63: E | I63: 6 | K63: =SUM(F63:J63) -> 6 | L63: =IF(D63="X",0,IF(E63="",0,IF(E63="X",0,VLOOKUP(E63,$F$539:$G$553,2)))) -> 260 | M63: =SUM(K63*L63) -> 1560
B64: C041 | C64: Vergaderkamer | E64: A | F64: 64 | K64: =SUM(F64:J64) -> 64 | L64: =IF(D64="X",0,IF(E64="",0,IF(E64="X",0,VLOOKUP(E64,$F$539:$G$553,2)))) -> 104 | M64: =SUM(K64*L64) -> 6656
B65: C050a | C65: Kantoor | E65: A | F65: 9 | K65: =SUM(F65:J65) -> 9 | L65: =IF(D65="X",0,IF(E65="",0,IF(E65="X",0,VLOOKUP(E65,$F$539:$G$553,2)))) -> 104 | M65: =SUM(K65*L65) -> 936
B66: C051 | C66: Kantoor | E66: A | F66: 7 | K66: =SUM(F66:J66) -> 7 | L66: =IF(D66="X",0,IF(E66="",0,IF(E66="X",0,VLOOKUP(E66,$F$539:$G$553,2)))) -> 104 | M66: =SUM(K66*L66) -> 728
B67: C046 | C67: Kantoor | E67: A | F67: 54 | K67: =SUM(F67:J67) -> 54 | L67: =IF(D67="X",0,IF(E67="",0,IF(E67="X",0,VLOOKUP(E67,$F$539:$G$553,2)))) -> 104 | M67: =SUM(K67*L67) -> 5616
B68: C047 | C68: Archief en mag | E68: X | F68: 14 | K68: =SUM(F68:J68) -> 14 | L68: =IF(D68="X",0,IF(E68="",0,IF(E68="X",0,VLOOKUP(E68,$F$539:$G$553,2)))) -> 0 | M68: =SUM(K68*L68) -> 0
B69: C049 | C69: Toiletgroep 1xt 2x u | E69: G | J69: 11 | K69: =SUM(F69:J69) -> 11 | L69: =IF(D69="X",0,IF(E69="",0,IF(E69="X",0,VLOOKUP(E69,$F$539:$G$553,2)))) -> 260 | M69: =SUM(K69*L69) -> 2860
B70: C039 | C70: Werkkast | E70: X | J70: 2.5 | K70: =SUM(F70:J70) -> 2.5 | L70: =IF(D70="X",0,IF(E70="",0,IF(E70="X",0,VLOOKUP(E70,$F$539:$G$553,2)))) -> 0 | M70: =SUM(K70*L70) -> 0
B71: C048 | C71: Toiletgroep 3xt | E71: G | J71: 13 | K71: =SUM(F71:J71) -> 13 | L71: =IF(D71="X",0,IF(E71="",0,IF(E71="X",0,VLOOKUP(E71,$F$539:$G$553,2)))) -> 260 | M71: =SUM(K71*L71) -> 3380
B72: DD03 | C72: Lift | E72: E | J72: 2.3 | K72: =SUM(F72:J72) -> 2.3 | L72: =IF(D72="X",0,IF(E72="",0,IF(E72="X",0,VLOOKUP(E72,$F$539:$G$553,2)))) -> 260 | M72: =SUM(K72*L72) -> 598
A73: P | B73: 027 | C73: Frontoffice | E73: B | F73: 85 | K73: =SUM(F73:J73) -> 85 | L73: =IF(D73="X",0,IF(E73="",0,IF(E73="X",0,VLOOKUP(E73,$F$539:$G$553,2)))) -> 260 | M73: =SUM(K73*L73) -> 22100
B74: 028 | C74: Backoffice | E74: A | F74: 97 | K74: =SUM(F74:J74) -> 97 | L74: =IF(D74="X",0,IF(E74="",0,IF(E74="X",0,VLOOKUP(E74,$F$539:$G$553,2)))) -> 104 | M74: =SUM(K74*L74) -> 10088
B75: 055 | C75: Gang | E75: E | F75: 55 | K75: =SUM(F75:J75) -> 55 | L75: =IF(D75="X",0,IF(E75="",0,IF(E75="X",0,VLOOKUP(E75,$F$539:$G$553,2)))) -> 260 | M75: =SUM(K75*L75) -> 14300
C76: Hellingbaan | E76: E | F76: 10 | K76: =SUM(F76:J76) -> 10 | L76: =IF(D76="X",0,IF(E76="",0,IF(E76="X",0,VLOOKUP(E76,$F$539:$G$553,2)))) -> 260 | M76: =SUM(K76*L76) -> 2600
C77: Kantoor | E77: A | F77: 16 | K77: =SUM(F77:J77) -> 16 | L77: =IF(D77="X",0,IF(E77="",0,IF(E77="X",0,VLOOKUP(E77,$F$539:$G$553,2)))) -> 104 | M77: =SUM(K77*L77) -> 1664
C78: Toiletgroep 2xt | E78: G | J78: 7 | K78: =SUM(F78:J78) -> 7 | L78: =IF(D78="X",0,IF(E78="",0,IF(E78="X",0,VLOOKUP(E78,$F$539:$G$553,2)))) -> 260 | M78: =SUM(K78*L78) -> 1820
C79: Toiletgroep 2xt | E79: G | J79: 7 | K79: =SUM(F79:J79) -> 7 | L79: =IF(D79="X",0,IF(E79="",0,IF(E79="X",0,VLOOKUP(E79,$F$539:$G$553,2)))) -> 260 | M79: =SUM(K79*L79) -> 1820
C80: Trappetje | E80: E | I80: 4 | K80: =SUM(F80:J80) -> 4 | L80: =IF(D80="X",0,IF(E80="",0,IF(E80="X",0,VLOOKUP(E80,$F$539:$G$553,2)))) -> 260 | M80: =SUM(K80*L80) -> 1040
C81: Gang | E81: E | F81: 7 | K81: =SUM(F81:J81) -> 7 | L81: =IF(D81="X",0,IF(E81="",0,IF(E81="X",0,VLOOKUP(E81,$F$539:$G$553,2)))) -> 260 | M81: =SUM(K81*L81) -> 1820
B82: 008 | C82: Pantry | E82: A | J82: 4 | K82: =SUM(F82:J82) -> 4 | L82: =IF(D82="X",0,IF(E82="",0,IF(E82="X",0,VLOOKUP(E82,$F$539:$G$553,2)))) -> 104 | M82: =SUM(K82*L82) -> 416
B83: 007 | C83: Lift | E83: E | J83: 1.2 | K83: =SUM(F83:J83) -> 1.2 | L83: =IF(D83="X",0,IF(E83="",0,IF(E83="X",0,VLOOKUP(E83,$F$539:$G$553,2)))) -> 260 | M83: =SUM(K83*L83) -> 312
B84: 001 | C84: Gang | E84: E | F84: 14 | J84: 12 | K84: =SUM(F84:J84) -> 26 | L84: =IF(D84="X",0,IF(E84="",0,IF(E84="X",0,VLOOKUP(E84,$F$539:$G$553,2)))) -> 260 | M84: =SUM(K84*L84) -> 6760
C85: Trap | E85: E | I85: 4.6 | K85: =SUM(F85:J85) -> 4.6 | L85: =IF(D85="X",0,IF(E85="",0,IF(E85="X",0,VLOOKUP(E85,$F$539:$G$553,2)))) -> 260 | M85: =SUM(K85*L85) -> 1196
C86: Werkkast | E86: X | J86: 3 | K86: =SUM(F86:J86) -> 3 | L86: =IF(D86="X",0,IF(E86="",0,IF(E86="X",0,VLOOKUP(E86,$F$539:$G$553,2)))) -> 0 | M86: =SUM(K86*L86) -> 0
B87: 004 | C87: Grutte keamer | E87: A | F87: 61 | K87: =SUM(F87:J87) -> 61 | L87: =IF(D87="X",0,IF(E87="",0,IF(E87="X",0,VLOOKUP(E87,$F$539:$G$553,2)))) -> 104 | M87: =SUM(K87*L87) -> 6344
C88: Entree | E88: E | F88: 6 | K88: =SUM(F88:J88) -> 6 | L88: =IF(D88="X",0,IF(E88="",0,IF(E88="X",0,VLOOKUP(E88,$F$539:$G$553,2)))) -> 260 | M88: =SUM(K88*L88) -> 1560
B89: 002 | C89: Lytse keamer | E89: A | F89: 42 | K89: =SUM(F89:J89) -> 42 | L89: =IF(D89="X",0,IF(E89="",0,IF(E89="X",0,VLOOKUP(E89,$F$539:$G$553,2)))) -> 104 | M89: =SUM(K89*L89) -> 4368
B90: 003 | C90: Librije | E90: A | F90: 23 | K90: =SUM(F90:J90) -> 23 | L90: =IF(D90="X",0,IF(E90="",0,IF(E90="X",0,VLOOKUP(E90,$F$539:$G$553,2)))) -> 104 | M90: =SUM(K90*L90) -> 2392
C91: Rijwielenberging | E91: X | J91: 28 | K91: =SUM(F91:J91) -> 28 | L91: =IF(D91="X",0,IF(E91="",0,IF(E91="X",0,VLOOKUP(E91,$F$539:$G$553,2)))) -> 0 | M91: =SUM(K91*L91) -> 0
C92: Stalling motoren | E92: X | J92: 20 | K92: =SUM(F92:J92) -> 20 | L92: =IF(D92="X",0,IF(E92="",0,IF(E92="X",0,VLOOKUP(E92,$F$539:$G$553,2)))) -> 0 | M92: =SUM(K92*L92) -> 0
C93: Buitenberging | E93: X | J93: 10 | K93: =SUM(F93:J93) -> 10 | L93: =IF(D93="X",0,IF(E93="",0,IF(E93="X",0,VLOOKUP(E93,$F$539:$G$553,2)))) -> 0 | M93: =SUM(K93*L93) -> 0
C94: NSA | E94: X | J94: 20 | K94: =SUM(F94:J94) -> 20 | L94: =IF(D94="X",0,IF(E94="",0,IF(E94="X",0,VLOOKUP(E94,$F$539:$G$553,2)))) -> 0 | M94: =SUM(K94*L94) -> 0
C95: Totaal souterain | F95: =SUM(F5:F94) -> 1635 | G95: =SUM(G5:G94) -> 275 | H95: =SUM(H5:H94) -> 180 | I95: =SUM(I5:I94) -> 41.6 | J95: =SUM(J5:J94) -> 763.5 | K95: =SUM(F95:J95) -> 2895.1
C97: Begane grond
C98: Trap Centraal | E98: E | J98: 9 | K98: =SUM(F98:J98) -> 9 | L98: =IF(D98="X",0,IF(E98="",0,IF(E98="H",0,VLOOKUP(E98,$F$539:$G$553,2)))) -> 260 | M98: =SUM(K98*L98) -> 2340
B99: B135 | C99: Centrale hal | E99: E | F99: 160 | K99: =SUM(F99:J99) -> 160 | L99: =IF(D99="X",0,IF(E99="",0,IF(E99="H",0,VLOOKUP(E99,$F$539:$G$553,2)))) -> 260 | M99: =SUM(K99*L99) -> 41600
A100: P | B100: D102 | C100: Gaanderij incl brug | E100: E | F100: 105 | K100: =SUM(F100:J100) -> 105 | L100: =IF(D100="X",0,IF(E100="",0,IF(E100="H",0,VLOOKUP(E100,$F$539:$G$553,2)))) -> 260 | M100: =SUM(K100*L100) -> 27300
A101: P | B101: 101 | C101: Gang | E101: E | F101: 17 | K101: =SUM(F101:J101) -> 17 | L101: =IF(D101="X",0,IF(E101="",0,IF(E101="H",0,VLOOKUP(E101,$F$539:$G$553,2)))) -> 260 | M101: =SUM(K101*L101) -> 4420
...

Sheet 2
D2: =CONCATENATE("Uitvoeringsbepaling"," ",H4,", onderdeel van ",Verzamelblad!A2," ",Verzamelblad!A3) -> Uitvoeringsbepaling 2, onderdeel van Bestek
A4: Object: | B4: =VLOOKUP(H4,Verzamelblad!A5:E19,3) -> Gemeentewerf Buitenpost | F4: Uitvoeringsbepaling: | H4: 2
A5: Straat: | B5: =VLOOKUP(H4,Verzamelblad!A5:E19,4) -> Vaart 4 | F5: Inventarisatie: | H5: =CONCATENATE(H4,"a") -> 2a
A6: Plaats: | B6: =VLOOKUP(H4,Verzamelblad!A5:E19,5) -> Buitenpost | F6: Revisiedatum:
A8: Gewenste aanvangstijd schoonmaak: | E8: =VLOOKUP($H$4,Verzamelblad!$A$5:$EK$19,14,0) -> 0
A9: Aantal dagen schoonmaak per jaar: | E9: =VLOOKUP($H$4,Verzamelblad!$A$5:$EK$19,6,0) -> 260
F10: Prijs | G10: Uren | H10: Gem. uren/dag | I10: Jaarpijs | J10: Jaaruren | K10: Verhouding
A11: Werkzaamheden met een frequentie tot 1/20 | F11: =IFERROR(IF(SUM(I11/12)=0,"",SUM(I11/12)),"") | G11: =IFERROR(SUM(J11/12),"") | H11: =IFERROR(SUM(J11/E9),"") | I11: =IFERROR(IF(SUM($I$14*K11)=0,"",SUM($I$14*K11)),"") | J11: =IFERROR(SUM(J14*K11),"")
A12: Schoonmaakwerkzaamheden 3x per jaar | F12: =IFERROR(IF(SUM(I12/3)=0,"",SUM(I12/3)),"") | G12: =IFERROR(SUM(J12/3),"") | I12: =IFERROR(IF(SUM($I$14*K12)=0,"",SUM($I$14*K12)),"") | J12: =IFERROR(SUM(J14*K12),"")
A13: Schoonmaakwerkzaamheden 1x per jaar | F13: =IF(I13=0,"",I13) | G13: =IFERROR(J13,"") | I13: =IFERROR(IF(SUM($I$14*K13)=0,"",SUM($I$14*K13)),"") | J13: =IFERROR(SUM(J14*K13),"")
A14: Totale jaarprijs / jaaruren | F14: =IFERROR(IF(SUM(F11:F13)=0,"",SUM(F11:F13)),"") | G14: =IFERROR(SUM(G11:G13),"") -> 0 | I14: =IFERROR(IF(E100=0,"",E100),"") | J14: =IFERROR(SUM(I14/offertetarief),"") | K14: =IF(SUM(K11:K13)=100%,"","Geen 100%") -> Geen 100%
F15: Per dag | G15: Per jaar
A16: Uren direct toezicht | F16: =IFERROR(SUM((J14*directtoezicht)/E9),"") | G16: =IF(J14="","",SUM(J14*directtoezicht))
K17: Programma categorie | L17: Gemiddelde productie per m²
A18: Prestatie
A19: M² uit te besteden per jaar | D19: =D100 -> 61100 | E19: M² uit te besteden per dag | G19: =IFERROR(D100/E9,"") -> 235 | H19: Gem. prestatie | I19: =IFERROR(SUM(D19/J14),"") | K19: =IF(INDIRECT("'"&$H$5&"'!F539")="X","",IF(INDIRECT("'"&$H$5&"'!F539")="Vrije categorie","",INDIRECT("'"&$H$5&"'!F539"))) -> A
K20: =IF(INDIRECT("'"&$H$5&"'!F540")="X","",IF(INDIRECT("'"&$H$5&"'!F540")="Vrije categorie","",INDIRECT("'"&$H$5&"'!F540"))) -> B
A21: Extra werkzaamheden | D21: Prijs per | E21: Aantal | F21: Prijs per eenheid | G21: Beurtprijs | H21: Beurten per jaar | I21: Prijs per jaar | K21: =IF(INDIRECT("'"&$H$5&"'!F541")="X","",IF(INDIRECT("'"&$H$5&"'!F541")="Vrije categorie","",INDIRECT("'"&$H$5&"'!F541"))) -> C
A22: =VLOOKUP($H$4,Verzamelblad!$A$5:$EK$19,32,0) -> Dieptereiniging sanitair | D22: =VLOOKUP($H$4,Verzamelblad!$A$5:$EK$19,33,0) -> m² | E22: =VLOOKUP($H$4,Verzamelblad!$A$5:$DE$19,34) -> 25 | G22: =IF(IF(E22="","",SUM(E22*F22))=0,"",IF(E22="","",SUM(E22*F22))) | H22: =VLOOKUP($H$4,Verzamelblad!$A$5:$EK$19,35,0) -> 2 | I22: =IFERROR(IF(IF(H22="op afroep","",SUM(G22*H22))=0,"",IF(H22="op afroep","",SUM(G22*H22))),"") | K22: =IF(INDIRECT("'"&$H$5&"'!F542")="X","",IF(INDIRECT("'"&$H$5&"'!F542")="Vrije categorie","",INDIRECT("'"&$H$5&"'!F542"))) -> D
A23: =VLOOKUP($H$4,Verzamelblad!$A$5:$EK$19,36,0) -> 0 | D23: =VLOOKUP($H$4,Verzamelblad!$A$5:$EK$19,37,0) -> 0 | E23: =VLOOKUP($H$4,Verzamelblad!$A$5:$DE$19,38) -> 0 | G23: =IF(IF(E23="","",SUM(E23*F23))=0,"",IF(E23="","",SUM(E23*F23))) | H23: =VLOOKUP($H$4,Verzamelblad!$A$5:$EK$19,39,0) -> 0 | I23: =IFERROR(IF(IF(H23="op afroep","",SUM(G23*H23))=0,"",IF(H23="op afroep","",SUM(G23*H23))),"") | K23: =IF(INDIRECT("'"&$H$5&"'!F543")="X","",IF(INDIRECT("'"&$H$5&"'!F543")="Vrije categorie","",INDIRECT("'"&$H$5&"'!F543"))) -> E
A24: =VLOOKUP($H$4,Verzamelblad!$A$5:$EK$19,40,0) -> 0 | D24: =VLOOKUP($H$4,Verzamelblad!$A$5:$EK$19,41,0) -> 0 | E24: =VLOOKUP($H$4,Verzamelblad!$A$5:$DE$19,42) -> 0 | G24: =IF(IF(E24="","",SUM(E24*F24))=0,"",IF(E24="","",SUM(E24*F24))) | H24: =VLOOKUP($H$4,Verzamelblad!$A$5:$EK$19,43,0) -> 0 | I24: =IFERROR(IF(IF(H24="op afroep","",SUM(G24*H24))=0,"",IF(H24="op afroep","",SUM(G24*H24))),"") | K24: =IF(INDIRECT("'"&$H$5&"'!F544")="X","",IF(INDIRECT("'"&$H$5&"'!F544")="Vrije categorie","",INDIRECT("'"&$H$5&"'!F544"))) -> F
A25: =VLOOKUP($H$4,Verzamelblad!$A$5:$EK$19,44,0) -> 0 | D25: =VLOOKUP($H$4,Verzamelblad!$A$5:$EK$19,45,0) -> 0 | E25: =VLOOKUP($H$4,Verzamelblad!$A$5:$DE$19,46) -> 0 | G25: =IF(IF(E25="","",SUM(E25*F25))=0,"",IF(E25="","",SUM(E25*F25))) | H25: =VLOOKUP($H$4,Verzamelblad!$A$5:$EK$19,47,0) -> 0 | I25: =IFERROR(IF(IF(H25="op afroep","",SUM(G25*H25))=0,"",IF(H25="op afroep","",SUM(G25*H25))),"") | K25: =IF(INDIRECT("'"&$H$5&"'!F545")="X","",IF(INDIRECT("'"&$H$5&"'!F545")="Vrije categorie","",INDIRECT("'"&$H$5&"'!F545"))) -> G
A26: =VLOOKUP($H$4,Verzamelblad!$A$5:$EK$19,48,0) -> 0 | D26: =VLOOKUP($H$4,Verzamelblad!$A$5:$EK$19,49,0) -> 0 | E26: =VLOOKUP($H$4,Verzamelblad!$A$5:$DE$19,50) -> 0 | G26: =IF(IF(E26="","",SUM(E26*F26))=0,"",IF(E26="","",SUM(E26*F26))) | H26: =VLOOKUP($H$4,Verzamelblad!$A$5:$EK$19,51,0) -> 0 | I26: =IFERROR(IF(IF(H26="op afroep","",SUM(G26*H26))=0,"",IF(H26="op afroep","",SUM(G26*H26))),"") | K26: =IF(INDIRECT("'"&$H$5&"'!F546")="X","",IF(INDIRECT("'"&$H$5&"'!F546")="Vrije categorie","",INDIRECT("'"&$H$5&"'!F546"))) -> H
A27: =VLOOKUP($H$4,Verzamelblad!$A$5:$EK$19,52,0) -> 0 | D27: =VLOOKUP($H$4,Verzamelblad!$A$5:$EK$19,53,0) -> 0 | E27: =VLOOKUP($H$4,Verzamelblad!$A$5:$DE$19,54) -> 0 | G27: =IF(IF(E27="","",SUM(E27*F27))=0,"",IF(E27="","",SUM(E27*F27))) | H27: =VLOOKUP($H$4,Verzamelblad!$A$5:$EK$19,55,0) -> 0 | I27: =IFERROR(IF(IF(H27="op afroep","",SUM(G27*H27))=0,"",IF(H27="op afroep","",SUM(G27*H27))),"") | K27: =IF(INDIRECT("'"&$H$5&"'!F547")="X","",IF(INDIRECT("'"&$H$5&"'!F547")="Vrije categorie","",INDIRECT("'"&$H$5&"'!F547"))) -> I
A28: =VLOOKUP($H$4,Verzamelblad!$A$5:$EK$19,56,0) -> 0 | D28: =VLOOKUP($H$4,Verzamelblad!$A$5:$EK$19,57,0) -> 0 | E28: =VLOOKUP($H$4,Verzamelblad!$A$5:$DE$19,58) -> 0 | G28: =IF(IF(E28="","",SUM(E28*F28))=0,"",IF(E28="","",SUM(E28*F28))) | H28: =VLOOKUP($H$4,Verzamelblad!$A$5:$EK$19,59,0) -> 0 | I28: =IFERROR(IF(IF(H28="op afroep","",SUM(G28*H28))=0,"",IF(H28="op afroep","",SUM(G28*H28))),"") | K28: =IF(INDIRECT("'"&$H$5&"'!F548")="X","",IF(INDIRECT("'"&$H$5&"'!F548")="Vrije categorie","",INDIRECT("'"&$H$5&"'!F548"))) -> J
A29: =VLOOKUP($H$4,Verzamelblad!$A$5:$EK$19,60,0) -> 0 | D29: =VLOOKUP($H$4,Verzamelblad!$A$5:$EK$19,61,0) -> 0 | E29: =VLOOKUP($H$4,Verzamelblad!$A$5:$DE$19,62) -> 0 | G29: =IF(IF(E29="","",SUM(E29*F29))=0,"",IF(E29="","",SUM(E29*F29))) | H29: =VLOOKUP($H$4,Verzamelblad!$A$5:$EK$19,63,0) -> 0 | I29: =IFERROR(IF(IF(H29="op afroep","",SUM(G29*H29))=0,"",IF(H29="op afroep","",SUM(G29*H29))),"") | K29: =IF(INDIRECT("'"&$H$5&"'!F549")="X","",IF(INDIRECT("'"&$H$5&"'!F549")="Vrije categorie","",INDIRECT("'"&$H$5&"'!F549"))) -> K
A30: =VLOOKUP($H$4,Verzamelblad!$A$5:$EK$19,64,0) -> 0 | D30: =VLOOKUP($H$4,Verzamelblad!$A$5:$EK$19,65,0) -> 0 | E30: =VLOOKUP($H$4,Verzamelblad!$A$5:$DE$19,66) -> 0 | G30: =IF(IF(E30="","",SUM(E30*F30))=0,"",IF(E30="","",SUM(E30*F30))) | H30: =VLOOKUP($H$4,Verzamelblad!$A$5:$EK$19,67,0) -> 0 | I30: =IFERROR(IF(IF(H30="op afroep","",SUM(G30*H30))=0,"",IF(H30="op afroep","",SUM(G30*H30))),"") | K30: =IF(INDIRECT("'"&$H$5&"'!F550")="X","",IF(INDIRECT("'"&$H$5&"'!F550")="Vrije categorie","",INDIRECT("'"&$H$5&"'!F550")))
A31: =VLOOKUP($H$4,Verzamelblad!$A$5:$EK$19,68,0) -> 0 | D31: =VLOOKUP($H$4,Verzamelblad!$A$5:$EK$19,69,0) -> 0 | E31: =VLOOKUP($H$4,Verzamelblad!$A$5:$DE$19,70) -> 0 | G31: =IF(IF(E31="","",SUM(E31*F31))=0,"",IF(E31="","",SUM(E31*F31))) | H31: =VLOOKUP($H$4,Verzamelblad!$A$5:$EK$19,71,0) -> 0 | I31: =IFERROR(IF(IF(H31="op afroep","",SUM(G31*H31))=0,"",IF(H31="op afroep","",SUM(G31*H31))),"") | K31: =IF(INDIRECT("'"&$H$5&"'!F551")="X","",IF(INDIRECT("'"&$H$5&"'!F551")="Vrije categorie","",INDIRECT("'"&$H$5&"'!F551")))
A32: =VLOOKUP($H$4,Verzamelblad!$A$5:$EK$19,72,0) -> 0 | D32: =VLOOKUP($H$4,Verzamelblad!$A$5:$EK$19,73,0) -> 0 | E32: =VLOOKUP($H$4,Verzamelblad!$A$5:$DE$19,74) -> 0 | G32: =IF(IF(E32="","",SUM(E32*F32))=0,"",IF(E32="","",SUM(E32*F32))) | H32: =VLOOKUP($H$4,Verzamelblad!$A$5:$EK$19,75,0) -> 0 | I32: =IFERROR(IF(IF(H32="op afroep","",SUM(G32*H32))=0,"",IF(H32="op afroep","",SUM(G32*H32))),"") | K32: =IF(INDIRECT("'"&$H$5&"'!F552")="X","",IF(INDIRECT("'"&$H$5&"'!F552")="Vrije categorie","",INDIRECT("'"&$H$5&"'!F552")))
A33: Totaal | I33: =IF(SUM(I22:I32)=0,"",SUM(I22:I32)) | K33: =IF(INDIRECT("'"&$H$5&"'!F553")="X","",IF(INDIRECT("'"&$H$5&"'!F553")="Vrije categorie","",INDIRECT("'"&$H$5&"'!F553")))
A35: Vloeronderhoud | E35: M² | F35: Prijs per m² | G35: Beurtprijs | H35: Beurten per jaar | I35: Prijs per jaar
A36: =VLOOKUP($H$4,Verzamelblad!$A$5:$EK$19,16,0) -> Schrobben epoxyvloeren | E36: =SUM('2a'!J9:J13) -> 117 | G36: =IF(IF(E36="","",SUM(E36*F36))=0,"",IF(E36="","",SUM(E36*F36))) | H36: =VLOOKUP($H$4,Verzamelblad!$A$5:$DE$19,17) -> 2 | I36: =IFERROR(IF(IF(H36="op afroep","",SUM(G36*H36))=0,"",IF(H36="op afroep","",SUM(G36*H36))),"")
A37: =VLOOKUP($H$4,Verzamelblad!$A$5:$EK$19,18,0) -> 0 | E37: =VLOOKUP($H$4,Verzamelblad!$A$5:$DE$19,106) -> 0 | G37: =IF(IF(E37="","",SUM(E37*F37))=0,"",IF(E37="","",SUM(E37*F37))) | H37: =VLOOKUP($H$4,Verzamelblad!$A$5:$DE$19,19) -> 0 | I37: =IFERROR(IF(IF(H37="op afroep","",SUM(G37*H37))=0,"",IF(H37="op afroep","",SUM(G37*H37))),"")
A38: =VLOOKUP($H$4,Verzamelblad!$A$5:$EK$19,20,0) -> 0 | E38: =VLOOKUP($H$4,Verzamelblad!$A$5:$DE$19,107) -> 0 | G38: =IF(IF(E38="","",SUM(E38*F38))=0,"",IF(E38="","",SUM(E38*F38))) | H38: =VLOOKUP($H$4,Verzamelblad!$A$5:$DE$19,21) -> 0 | I38: =IFERROR(IF(IF(H38="op afroep","",SUM(G38*H38))=0,"",IF(H38="op afroep","",SUM(G38*H38))),"")
A39: =VLOOKUP($H$4,Verzamelblad!$A$5:$EK$19,22,0) -> 0 | E39: =VLOOKUP($H$4,Verzamelblad!$A$5:$DE$19,108) -> 0 | G39: =IF(IF(E39="","",SUM(E39*F39))=0,"",IF(E39="","",SUM(E39*F39))) | H39: =VLOOKUP($H$4,Verzamelblad!$A$5:$DE$19,23) -> 0 | I39: =IFERROR(IF(IF(H39="op afroep","",SUM(G39*H39))=0,"",IF(H39="op afroep","",SUM(G39*H39))),"")
A40: =VLOOKUP($H$4,Verzamelblad!$A$5:$EK$19,24,0) -> 0 | E40: =VLOOKUP($H$4,Verzamelblad!$A$5:$DE$19,109) -> 0 | G40: =IF(IF(E40="","",SUM(E40*F40))=0,"",IF(E40="","",SUM(E40*F40))) | H40: =VLOOKUP($H$4,Verzamelblad!$A$5:$DE$19,25) -> 0 | I40: =IFERROR(IF(IF(H40="op afroep","",SUM(G40*H40))=0,"",IF(H40="op afroep","",SUM(G40*H40))),"")
A41: =VLOOKUP($H$4,Verzamelblad!$A$5:$EK$19,26,0) -> 0 | E41: 0 | G41: =IF(IF(E41="","",SUM(E41*F41))=0,"",IF(E41="","",SUM(E41*F41))) | H41: =VLOOKUP($H$4,Verzamelblad!$A$5:$DE$19,27) -> 0 | I41: =IFERROR(IF(IF(H41="op afroep","",SUM(G41*H41))=0,"",IF(H41="op afroep","",SUM(G41*H41))),"")
A42: =VLOOKUP($H$4,Verzamelblad!$A$5:$EK$19,28,0) -> 0 | E42: 0 | G42: =IF(IF(E42="","",SUM(E42*F42))=0,"",IF(E42="","",SUM(E42*F42))) | H42: =VLOOKUP($H$4,Verzamelblad!$A$5:$DE$19,29) -> 0 | I42: =IFERROR(IF(IF(H42="op afroep","",SUM(G42*H42))=0,"",IF(H42="op afroep","",SUM(G42*H42))),"")
A43: =VLOOKUP($H$4,Verzamelblad!$A$5:$EK$19,30,0) -> 0 | E43: 0 | G43: =IF(IF(E43="","",SUM(E43*F43))=0,"",IF(E43="","",SUM(E43*F43))) | H43: =VLOOKUP($H$4,Verzamelblad!$A$5:$DE$19,31) -> 0 | I43: =IFERROR(IF(IF(H43="op afroep","",SUM(G43*H43))=0,"",IF(H43="op afroep","",SUM(G43*H43))),"")
A44: Totaal | I44: =IF(SUM(I36:I43)=0,"",SUM(I36:I43))
A46: Glasbewassing (incl. houtwerk en omlijsting) | E46: M² | F46: Prijs per m² | G46: Beurtprijs | H46: Beurten per jaar | I46: Prijs per jaar
A47: =VLOOKUP($H$4,Verzamelblad!$A$5:$EK$19,76,0) -> Gevelglas buitenzijde enkelvoudig gemeten | E47: =VLOOKUP($H$4,Verzamelblad!$A$5:$DE$19,100) -> 110.225 | G47: =IF(IF(E47="","",SUM(E47*F47))=0,"",IF(E47="","",SUM(E47*F47))) | H47: =VLOOKUP($H$4,Verzamelblad!$A$5:$EK$19,77,0) -> 2 | I47: =IFERROR(IF(IF(H47="op afroep","",SUM(G47*H47))=0,"",IF(H47="op afroep","",SUM(G47*H47))),"")
A48: =VLOOKUP($H$4,Verzamelblad!$A$5:$EK$19,78,0) -> Gevelglas binnenzijde enkelvoudig gemeten | E48: =VLOOKUP($H$4,Verzamelblad!$A$5:$DE$19,99) -> 110.225 | G48: =IF(IF(E48="","",SUM(E48*F48))=0,"",IF(E48="","",SUM(E48*F48))) | H48: =VLOOKUP($H$4,Verzamelblad!$A$5:$EK$19,79,0) -> 2 | I48: =IFERROR(IF(IF(H48="op afroep","",SUM(G48*H48))=0,"",IF(H48="op afroep","",SUM(G48*H48))),"")
A49: =VLOOKUP($H$4,Verzamelblad!$A$5:$EK$19,80,0) -> Separatieglas dubbelvoudig gemeten | E49: =VLOOKUP($H$4,Verzamelblad!$A$5:$DE$19,101) -> 23.95 | G49: =IF(IF(E49="","",SUM(E49*F49))=0,"",IF(E49="","",SUM(E49*F49))) | H49: =VLOOKUP($H$4,Verzamelblad!$A$5:$EK$19,81,0) -> 2 | I49: =IFERROR(IF(IF(H49="op afroep","",SUM(G49*H49))=0,"",IF(H49="op afroep","",SUM(G49*H49))),"")
A50: =VLOOKUP($H$4,Verzamelblad!$A$5:$EK$19,82,0) -> Ramen en deuren brandweer/garages | E50: =VLOOKUP($H$4,Verzamelblad!$A$5:$DE$19,102) -> 231.45 | G50: =IF(IF(E50="","",SUM(E50*F50))=0,"",IF(E50="","",SUM(E50*F50))) | H50: =VLOOKUP($H$4,Verzamelblad!$A$5:$EK$19,83,0) -> 2 | I50: =IFERROR(IF(IF(H50="op afroep","",SUM(G50*H50))=0,"",IF(H50="op afroep","",SUM(G50*H50))),"")
A51: =VLOOKUP($H$4,Verzamelblad!$A$5:$EK$19,84,0) -> 0 | E51: =VLOOKUP($H$4,Verzamelblad!$A$5:$DE$19,103) -> 0 | G51: =IF(IF(E51="","",SUM(E51*F51))=0,"",IF(E51="","",SUM(E51*F51))) | H51: =VLOOKUP($H$4,Verzamelblad!$A$5:$EK$19,85,0) -> 0 | I51: =IFERROR(IF(IF(H51="op afroep","",SUM(G51*H51))=0,"",IF(H51="op afroep","",SUM(G51*H51))),"")
A52: =VLOOKUP($H$4,Verzamelblad!$A$5:$EK$19,86,0) -> 0 | E52: =VLOOKUP($H$4,Verzamelblad!$A$5:$DE$19,104) -> 0 | G52: =IF(IF(E52="","",SUM(E52*F52))=0,"",IF(E52="","",SUM(E52*F52))) | H52: =VLOOKUP($H$4,Verzamelblad!$A$5:$EK$19,87,0) -> 0 | I52: =IFERROR(IF(IF(H52="op afroep","",SUM(G52*H52))=0,"",IF(H52="op afroep","",SUM(G52*H52))),"")
A53: =VLOOKUP($H$4,Verzamelblad!$A$5:$EK$19,88,0) -> 0 | G53: =IF(IF(E53="","",SUM(E53*F53))=0,"",IF(E53="","",SUM(E53*F53))) | H53: =VLOOKUP($H$4,Verzamelblad!$A$5:$EK$19,89,0) -> 0 | I53: =IFERROR(IF(IF(H53="op afroep","",SUM(G53*H53))=0,"",IF(H53="op afroep","",SUM(G53*H53))),"")
A54: =VLOOKUP($H$4,Verzamelblad!$A$5:$EK$19,90,0) -> 0 | E54: 0 | G54: =IF(IF(E54="","",SUM(E54*F54))=0,"",IF(E54="","",SUM(E54*F54))) | H54: =VLOOKUP($H$4,Verzamelblad!$A$5:$EK$19,91,0) -> 0 | I54: =IFERROR(IF(IF(H54="op afroep","",SUM(G54*H54))=0,"",IF(H54="op afroep","",SUM(G54*H54))),"")
A55: =VLOOKUP($H$4,Verzamelblad!$A$5:$EK$19,92,0) -> 0 | E55: 0 | G55: =IF(IF(E55="","",SUM(E55*F55))=0,"",IF(E55="","",SUM(E55*F55))) | H55: =VLOOKUP($H$4,Verzamelblad!$A$5:$EK$19,93,0) -> 0 | I55: =IFERROR(IF(IF(H55="op afroep","",SUM(G55*H55))=0,"",IF(H55="op afroep","",SUM(G55*H55))),"")
A56: =VLOOKUP($H$4,Verzamelblad!$A$5:$EK$19,94,0) -> 0 | E56: 0 | G56: =IF(IF(E56="","",SUM(E56*F56))=0,"",IF(E56="","",SUM(E56*F56))) | H56: =VLOOKUP($H$4,Verzamelblad!$A$5:$EK$19,95,0) -> 0 | I56: =IFERROR(IF(IF(H56="op afroep","",SUM(G56*H56))=0,"",IF(H56="op afroep","",SUM(G56*H56))),"")
A57: Totaal | I57: =IF(SUM(I47:I56)=0,"",SUM(I47:I56))
A59: Sanitaire voorzieningen | E59: Artikel | F59: Omschrijving | G59: Aantal | H59: Prijs per maand | I59: Prijs per jaar
I60: =IFERROR(IF(IF(H60="op afroep","",SUM(G60*H60))=0,"",IF(H60="op afroep","",SUM(G60*H60))),"") | K60: Aantal gebruikers van deze locatie
I61: =IFERROR(IF(IF(H61="op afroep","",SUM(G61*H61))=0,"",IF(H61="op afroep","",SUM(G61*H61))),"") | K61: Medewerkers
I62: =IFERROR(IF(IF(H62="op afroep","",SUM(G62*H62))=0,"",IF(H62="op afroep","",SUM(G62*H62))),"") | K62: Bezoekers
I63: =IFERROR(IF(IF(H63="op afroep","",SUM(G63*H63))=0,"",IF(H63="op afroep","",SUM(G63*H63))),"")
I64: =IFERROR(IF(IF(H64="op afroep","",SUM(G64*H64))=0,"",IF(H64="op afroep","",SUM(G64*H64))),"")
I65: =IFERROR(IF(IF(H65="op afroep","",SUM(G65*H65))=0,"",IF(H65="op afroep","",SUM(G65*H65))),"")
A66: Totaal | I66: =IF(SUM(I60:I65)=0,"",SUM(I60:I65))
A68: Bijzonderheden
A76: Totaalprijs per jaar | I76: =IF(SUM(IF(I14="",0,I14)+IF(I33="",0,I33)+IF(I44="",0,I44)+IF(I57="",0,I57)+IF(I66="",0,I66))=0,"",SUM(IF(I14="",0,I14)+IF(I33="",0,I33)+IF(I44="",0,I44)+IF(I57="",0,I57)+IF(I66="",0,I66)))
A78: Maandfactuur (werkzaamheden met een frequentie tot 1x per maand) | I78: =IFERROR(I11/12,"")
A80: Kwaliteitsinspecties | E80: Prijs | F80: Aantal | I80: Prijs per jaar
A81: =Verzamelblad!D3 -> VSR | E81: =VLOOKUP($H$4,Verzamelblad!$A$5:$EK$19,9,0) -> 100 | F81: =VLOOKUP($H$4,Verzamelblad!$A$5:$EK$19,10,0) -> 3 | I81: =IFERROR(IF(SUM(E81*F81)=0,"",SUM(E81*F81)),"") -> 300
A84: cat | D84: m2/jr | E84: prijs/jr
A85: =IF(K19=0,"",K19) -> A | D85: =IF(A85="",0,VLOOKUP(A85,INDIRECT("'"&$H$5&"'!C500:M515"),11,0)) -> 0 | E85: =IF(L19=0,"",IF(L19="","",SUM(D85/L19)*Uurtariefopbouw!$F$15))
A86: =IF(K20=0,"",K20) -> B | D86: =IF(A86="",0,VLOOKUP(A86,INDIRECT("'"&$H$5&"'!C500:M515"),11,0)) -> 22360 | E86: =IF(L20=0,"",IF(L20="","",SUM(D86/L20)*Uurtariefopbouw!$F$15))
A87: =IF(K21=0,"",K21) -> C | D87: =IF(A87="",0,VLOOKUP(A87,INDIRECT("'"&$H$5&"'!C500:M515"),11,0)) -> 16640 | E87: =IF(L21=0,"",IF(L21="","",SUM(D87/L21)*Uurtariefopbouw!$F$15))
A88: =IF(K22=0,"",K22) -> D | D88: =IF(A88="",0,VLOOKUP(A88,INDIRECT("'"&$H$5&"'!C500:M515"),11,0)) -> 2600 | E88: =IF(L22=0,"",IF(L22="","",SUM(D88/L22)*Uurtariefopbouw!$F$15))
A89: =IF(K23=0,"",K23) -> E | D89: =IF(A89="",0,VLOOKUP(A89,INDIRECT("'"&$H$5&"'!C500:M515"),11,0)) -> 13000 | E89: =IF(L23=0,"",IF(L23="","",SUM(D89/L23)*Uurtariefopbouw!$F$15))
A90: =IF(K24=0,"",K24) -> F | D90: =IF(A90="",0,VLOOKUP(A90,INDIRECT("'"&$H$5&"'!C500:M515"),11,0)) -> 0 | E90: =IF(L24=0,"",IF(L24="","",SUM(D90/L24)*Uurtariefopbouw!$F$15))
A91: =IF(K25=0,"",K25) -> G | D91: =IF(A91="",0,VLOOKUP(A91,INDIRECT("'"&$H$5&"'!C500:M515"),11,0)) -> 6500 | E91: =IF(L25=0,"",IF(L25="","",SUM(D91/L25)*Uurtariefopbouw!$F$15))
A92: =IF(K26=0,"",K26) -> H | D92: =IF(A92="",0,VLOOKUP(A92,INDIRECT("'"&$H$5&"'!C500:M515"),11,0)) -> 0 | E92: =IF(L26=0,"",IF(L26="","",SUM(D92/L26)*Uurtariefopbouw!$F$15))
A93: =IF(K27=0,"",K27) -> I | D93: =IF(A93="",0,VLOOKUP(A93,INDIRECT("'"&$H$5&"'!C500:M515"),11,0)) -> 0 | E93: =IF(L27=0,"",IF(L27="","",SUM(D93/L27)*Uurtariefopbouw!$F$15))
A94: =IF(K28=0,"",K28) -> J | D94: =IF(A94="",0,VLOOKUP(A94,INDIRECT("'"&$H$5&"'!C500:M515"),11,0)) -> 0 | E94: =IF(L28=0,"",IF(L28="","",SUM(D94/L28)*Uurtariefopbouw!$F$15))
A95: =IF(K29=0,"",K29) -> K | D95: =IF(A95="",0,VLOOKUP(A95,INDIRECT("'"&$H$5&"'!C500:M515"),11,0)) -> 0 | E95: =IF(L29=0,"",IF(L29="","",SUM(D95/L29)*Uurtariefopbouw!$F$15))
A96: =IF(K30=0,"",K30) | D96: =IF(A96="",0,VLOOKUP(A96,INDIRECT("'"&$H$5&"'!C500:M515"),11,0)) -> 0 | E96: =IF(L30=0,"",IF(L30="","",SUM(D96/L30)*Uurtariefopbouw!$F$15))
... A99: =IF(K33=0,"",K33) | D99: =IF(A99="",0,VLOOKUP(A99,INDIRECT("'"&$H$5&"'!C500:M515"),11,0)) -> 0 | E99: =IF(L33=0,"",IF(L33="","",SUM(D99/L33)*Uurtariefopbouw!$F$15))
A100: Totaal: | D100: =SUM(D85:D99) -> 61100 | E100: =SUM(E85:E99) -> 0

Sheet 2a
A1: ='2'!H4 -> 2 | B1: Object: | D1: =IF(VLOOKUP(A1,Verzamelblad!A5:E19,3)=0,"",VLOOKUP(A1,Verzamelblad!A5:E19,3)) -> Gemeentewerf Buitenpost
B2: Adres, plaats: | D2: =IF(CONCATENATE(VLOOKUP(A1,Verzamelblad!A5:E19,4)," te ",VLOOKUP(A1,Verzamelblad!A5:E19,5))=" te ","",CONCATENATE(VLOOKUP(A1,Verzamelblad!A5:E19,4)," te ",VLOOKUP(A1,Verzamelblad!A5:E19,5))) -> Vaart 4 te Buitenpost
A3: bwdl | B3: nr | C3: Ruimte | D3: ED | E3: Cat. | F3: Tapijt | G3: Linoleum | H3: PVC | I3: Hout | J3: Steen/ Pulastic | K3: m2 | L3: Freq | M3: m2 smk/jr
C4: Entree | E4: E | F4: 3 | J4: 29 | K4: =SUM(F4:J4) -> 32 | L4: =IF(E4="",0,IF(E4="X",0,VLOOKUP(E4,$F$539:$G$553,2))) -> 260 | M4: =SUM(K4*L4) -> 8320
C5: Overlegruimte | E5: B | F5: 25 | K5: =SUM(F5:J5) -> 25 | L5: =IF(E5="",0,IF(E5="X",0,VLOOKUP(E5,$F$539:$G$553,2))) -> 260 | M5: =SUM(K5*L5) -> 6500
C6: in: magazijn | E6: X | F6: 11 | K6: =SUM(F6:J6) -> 11 | L6: =IF(E6="",0,IF(E6="X",0,VLOOKUP(E6,$F$539:$G$553,2))) -> 0 | M6: =SUM(K6*L6) -> 0
C7: Kast | E7: X | J7: 2 | K7: =SUM(F7:J7) -> 2 | L7: =IF(E7="",0,IF(E7="X",0,VLOOKUP(E7,$F$539:$G$553,2))) -> 0 | M7: =SUM(K7*L7) -> 0
C8: Kast | E8: X | J8: 2 | K8: =SUM(F8:J8) -> 2 | L8: =IF(E8="",0,IF(E8="X",0,VLOOKUP(E8,$F$539:$G$553,2))) -> 0 | M8: =SUM(K8*L8) -> 0
C9: Keuken | E9: D | J9: 10 | K9: =SUM(F9:J9) -> 10 | L9: =IF(E9="",0,IF(E9="X",0,VLOOKUP(E9,$F$539:$G$553,2))) -> 260 | M9: =SUM(K9*L9) -> 2600
C10: Kantine | E10: C | J10: 64 | K10: =SUM(F10:J10) -> 64 | L10: =IF(E10="",0,IF(E10="X",0,VLOOKUP(E10,$F$539:$G$553,2))) -> 260 | M10: =SUM(K10*L10) -> 16640
C11: Gang | E11: E | J11: 18 | K11: =SUM(F11:J11) -> 18 | L11: =IF(E11="",0,IF(E11="X",0,VLOOKUP(E11,$F$539:$G$553,2))) -> 260 | M11: =SUM(K11*L11) -> 4680
C12: Toiletgroep 1xt 1xdouch 1xwb | E12: G | J12: 17 | K12: =SUM(F12:J12) -> 17 | L12: =IF(E12="",0,IF(E12="X",0,VLOOKUP(E12,$F$539:$G$553,2))) -> 260 | M12: =SUM(K12*L12) -> 4420
C13: Toiletgroep 2xt 2xu 1xwb | E13: G | J13: 8 | K13: =SUM(F13:J13) -> 8 | L13: =IF(E13="",0,IF(E13="X",0,VLOOKUP(E13,$F$539:$G$553,2))) -> 260 | M13: =SUM(K13*L13) -> 2080
C14: Kantoor | E14: B | G14: 13 | K14: =SUM(F14:J14) -> 13 | L14: =IF(E14="",0,IF(E14="X",0,VLOOKUP(E14,$F$539:$G$553,2))) -> 260 | M14: =SUM(K14*L14) -> 3380
C15: Kantoor Wegen & groen | E15: B | F15: 24 | K15: =SUM(F15:J15) -> 24 | L15: =IF(E15="",0,IF(E15="X",0,VLOOKUP(E15,$F$539:$G$553,2))) -> 260 | M15: =SUM(K15*L15) -> 6240
C16: Kantoor Rioler & gebouw | E16: B | F16: 24 | K16: =SUM(F16:J16) -> 24 | L16: =IF(E16="",0,IF(E16="X",0,VLOOKUP(E16,$F$539:$G$553,2))) -> 260 | M16: =SUM(K16*L16) -> 6240
C17: Werkplaats | E17: X | J17: 125 | K17: =SUM(F17:J17) -> 125 | L17: =IF(E17="",0,IF(E17="X",0,VLOOKUP(E17,$F$539:$G$553,2))) -> 0 | M17: =SUM(K17*L17) -> 0
C18: in: magazijn | E18: X | J18: 20 | K18: =SUM(F18:J18) -> 20 | L18: =IF(E18="",0,IF(E18="X",0,VLOOKUP(E18,$F$539:$G$553,2))) -> 0 | M18: =SUM(K18*L18) -> 0
C19: Trap | E19: X | J19: 6 | K19: =SUM(F19:J19) -> 6 | L19: =IF(E19="",0,IF(E19="X",0,VLOOKUP(E19,$F$539:$G$553,2))) -> 0 | M19: =SUM(K19*L19) -> 0
C20: Werkkast | E20: X | J20: 9 | K20: =SUM(F20:J20) -> 9 | L20: =IF(E20="",0,IF(E20="X",0,VLOOKUP(E20,$F$539:$G$553,2))) -> 0 | M20: =SUM(K20*L20) -> 0
C21: Brandweergarage | E21: X | J21: 86 | K21: =SUM(F21:J21) -> 86 | L21: =IF(E21="",0,IF(E21="X",0,VLOOKUP(E21,$F$539:$G$553,2))) -> 0 | M21: =SUM(K21*L21) -> 0
C22: in: magazijn | E22: X | J22: 5 | K22: =SUM(F22:J22) -> 5 | L22: =IF(E22="",0,IF(E22="X",0,VLOOKUP(E22,$F$539:$G$553,2))) -> 0 | M22: =SUM(K22*L22) -> 0
C23: in: cv-ruimte | E23: X | J23: 9 | K23: =SUM(F23:J23) -> 9 | L23: =IF(E23="",0,IF(E23="X",0,VLOOKUP(E23,$F$539:$G$553,2))) -> 0 | M23: =SUM(K23*L23) -> 0
C24: Kantine brandweer | E24: X | J24: 12 | K24: =SUM(F24:J24) -> 12 | L24: =IF(E24="",0,IF(E24="X",0,VLOOKUP(E24,$F$539:$G$553,2))) -> 0 | M24: =SUM(K24*L24) -> 0
C25: Stalling/garage | E25: X | J25: 130 | K25: =SUM(F25:J25) -> 130 | L25: =IF(E25="",0,IF(E25="X",0,VLOOKUP(E25,$F$539:$G$553,2))) -> 0 | M25: =SUM(K25*L25) -> 0
C26: Totaal: | F26: =SUM(F4:F25) -> 87 | G26: =SUM(G4:G25) -> 13 | H26: =SUM(H4:H25) -> 0 | I26: =SUM(I4:I25) -> 0 | J26: =SUM(J4:J25) -> 552 | K26: =SUM(F26:J26) -> 652
K28: =SUM(F28:J28) -> 0 | L28: =IF(D28="X",0,IF(E28="",0,IF(E28="X",0,VLOOKUP(E28,$F$539:$G$553,2)))) -> 0 | M28: =SUM(K28*L28) -> 0
K29: =SUM(F29:J29) -> 0 | L29: =IF(D29="X",0,IF(E29="",0,IF(E29="X",0,VLOOKUP(E29,$F$539:$G$553,2)))) -> 0 | M29: =SUM(K29*L29) -> 0
K30: =SUM(F30:J30) -> 0 | L30: =IF(D30="X",0,IF(E30="",0,IF(E30="X",0,VLOOKUP(E30,$F$539:$G$553,2)))) -> 0 | M30: =SUM(K30*L30) -> 0
K31: =SUM(F31:J31) -> 0 | L31: =IF(D31="X",0,IF(E31="",0,IF(E31="X",0,VLOOKUP(E31,$F$539:$G$553,2)))) -> 0 | M31: =SUM(K31*L31) -> 0
K32: =SUM(F32:J32) -> 0 | L32: =IF(D32="X",0,IF(E32="",0,IF(E32="X",0,VLOOKUP(E32,$F$539:$G$553,2)))) -> 0 | M32: =SUM(K32*L32) -> 0
K33: =SUM(F33:J33) -> 0 | L33: =IF(D33="X",0,IF(E33="",0,IF(E33="X",0,VLOOKUP(E33,$F$539:$G$553,2)))) -> 0 | M33: =SUM(K33*L33) -> 0
K34: =SUM(F34:J34) -> 0 | L34: =IF(D34="X",0,IF(E34="",0,IF(E34="X",0,VLOOKUP(E34,$F$539:$G$553,2)))) -> 0 | M34: =SUM(K34*L34) -> 0
K35: =SUM(F35:J35) -> 0 | L35: =IF(D35="X",0,IF(E35="",0,IF(E35="X",0,VLOOKUP(E35,$F$539:$G$553,2)))) -> 0 | M35: =SUM(K35*L35) -> 0
K36: =SUM(F36:J36) -> 0 | L36: =IF(D36="X",0,IF(E36="",0,IF(E36="X",0,VLOOKUP(E36,$F$539:$G$553,2)))) -> 0 | M36: =SUM(K36*L36) -> 0
K37: =SUM(F37:J37) -> 0 | L37: =IF(D37="X",0,IF(E37="",0,IF(E37="X",0,VLOOKUP(E37,$F$539:$G$553,2)))) -> 0 | M37: =SUM(K37*L37) -> 0
K38: =SUM(F38:J38) -> 0 | L38: =IF(D38="X",0,IF(E38="",0,IF(E38="X",0,VLOOKUP(E38,$F$539:$G$553,2)))) -> 0 | M38: =SUM(K38*L38) -> 0
K39: =SUM(F39:J39) -> 0 | L39: =IF(D39="X",0,IF(E39="",0,IF(E39="X",0,VLOOKUP(E39,$F$539:$G$553,2)))) -> 0 | M39: =SUM(K39*L39) -> 0
... K498: =SUM(F498:J498) -> 0 | L498: =IF(D498="X",0,IF(E498="",0,IF(E498="X",0,VLOOKUP(E498,$F$539:$G$553,2)))) -> 0 | M498: =SUM(K498*L498) -> 0
C499: Categorie: | M499: Tot/jr
C500: =IF(F539="","Vrije categorie",F539) -> A | F500: =SUMPRODUCT(--($E$4:$E$498=C500),--($D$4:$D$498=""),$F$4:$F$498) -> 0 | G500: =SUMPRODUCT(--($E$4:$E$498=C500),--($D$4:$D$498=""),$G$4:$G$498) -> 0 | H500: =SUMPRODUCT(--($E$4:$E$498=C500),--($D$4:$D$498=""),$H$4:$H$498) -> 0 | I500: =SUMPRODUCT(--($E$4:$E$498=C500),--($D$4:$D$498=""),$I$4:$I$498) -> 0 | J500: =SUMPRODUCT(--($E$4:$E$498=C500),--($D$4:$D$498=""),$J$4:$J$498) -> 0 | K500: =SUM(F500:J500) -> 0 | M500: =SUMPRODUCT(--($E$4:$E$498=C500),--($D$4:$D$498=""),$M$4:$M$498) -> 0
C501: =IF(F540="","Vrije categorie",F540) -> B | F501: =SUMPRODUCT(--($E$4:$E$498=C501),--($D$4:$D$498=""),$F$4:$F$498) -> 73 | G501: =SUMPRODUCT(--($E$4:$E$498=C501),--($D$4:$D$498=""),$G$4:$G$498) -> 13 | H501: =SUMPRODUCT(--($E$4:$E$498=C501),--($D$4:$D$498=""),$H$4:$H$498) -> 0 | I501: =SUMPRODUCT(--($E$4:$E$498=C501),--($D$4:$D$498=""),$I$4:$I$498) -> 0 | J501: =SUMPRODUCT(--($E$4:$E$498=C501),--($D$4:$D$498=""),$J$4:$J$498) -> 0 | K501: =SUM(F501:J501) -> 86 | M501: =SUMPRODUCT(--($E$4:$E$498=C501),--($D$4:$D$498=""),$M$4:$M$498) -> 22360
C502: =IF(F541="","Vrije categorie",F541) -> C | F502: =SUMPRODUCT(--($E$4:$E$498=C502),--($D$4:$D$498=""),$F$4:$F$498) -> 0 | G502: =SUMPRODUCT(--($E$4:$E$498=C502),--($D$4:$D$498=""),$G$4:$G$498) -> 0 | H502: =SUMPRODUCT(--($E$4:$E$498=C502),--($D$4:$D$498=""),$H$4:$H$498) -> 0 | I502: =SUMPRODUCT(--($E$4:$E$498=C502),--($D$4:$D$498=""),$I$4:$I$498) -> 0 | J502: =SUMPRODUCT(--($E$4:$E$498=C502),--($D$4:$D$498=""),$J$4:$J$498) -> 64 | K502: =SUM(F502:J502) -> 64 | M502: =SUMPRODUCT(--($E$4:$E$498=C502),--($D$4:$D$498=""),$M$4:$M$498) -> 16640
C503: =IF(F542="","Vrije categorie",F542) -> D | F503: =SUMPRODUCT(--($E$4:$E$498=C503),--($D$4:$D$498=""),$F$4:$F$498) -> 0 | G503: =SUMPRODUCT(--($E$4:$E$498=C503),--($D$4:$D$498=""),$G$4:$G$498) -> 0 | H503: =SUMPRODUCT(--($E$4:$E$498=C503),--($D$4:$D$498=""),$H$4:$H$498) -> 0 | I503: =SUMPRODUCT(--($E$4:$E$498=C503),--($D$4:$D$498=""),$I$4:$I$498) -> 0 | J503: =SUMPRODUCT(--($E$4:$E$498=C503),--($D$4:$D$498=""),$J$4:$J$498) -> 10 | K503: =SUM(F503:J503) -> 10 | M503: =SUMPRODUCT(--($E$4:$E$498=C503),--($D$4:$D$498=""),$M$4:$M$498) -> 2600
C504: =IF(F543="","Vrije categorie",F543) -> E | F504: =SUMPRODUCT(--($E$4:$E$498=C504),--($D$4:$D$498=""),$F$4:$F$498) -> 3 | G504: =SUMPRODUCT(--($E$4:$E$498=C504),--($D$4:$D$498=""),$G$4:$G$498) -> 0 | H504: =SUMPRODUCT(--($E$4:$E$498=C504),--($D$4:$D$498=""),$H$4:$H$498) -> 0 | I504: =SUMPRODUCT(--($E$4:$E$498=C504),--($D$4:$D$498=""),$I$4:$I$498) -> 0 | J504: =SUMPRODUCT(--($E$4:$E$498=C504),--($D$4:$D$498=""),$J$4:$J$498) -> 47 | K504: =SUM(F504:J504) -> 50 | M504: =SUMPRODUCT(--($E$4:$E$498=C504),--($D$4:$D$498=""),$M$4:$M$498) -> 13000
C505: =IF(F544="","Vrije categorie",F544) -> F | F505: =SUMPRODUCT(--($E$4:$E$498=C505),--($D$4:$D$498=""),$F$4:$F$498) -> 0 | G505: =SUMPRODUCT(--($E$4:$E$498=C505),--($D$4:$D$498=""),$G$4:$G$498) -> 0 | H505: =SUMPRODUCT(--($E$4:$E$498=C505),--($D$4:$D$498=""),$H$4:$H$498) -> 0 | I505: =SUMPRODUCT(--($E$4:$E$498=C505),--($D$4:$D$498=""),$I$4:$I$498) -> 0 | J505: =SUMPRODUCT(--($E$4:$E$498=C505),--($D$4:$D$498=""),$J$4:$J$498) -> 0 | K505: =SUM(F505:J505) -> 0 | M505: =SUMPRODUCT(--($E$4:$E$498=C505),--($D$4:$D$498=""),$M$4:$M$498) -> 0
C506: =IF(F545="","Vrije categorie",F545) -> G | F506: =SUMPRODUCT(--($E$4:$E$498=C506),--($D$4:$D$498=""),$F$4:$F$498) -> 0 | G506: =SUMPRODUCT(--($E$4:$E$498=C506),--($D$4:$D$498=""),$G$4:$G$498) -> 0 | H506: =SUMPRODUCT(--($E$4:$E$498=C506),--($D$4:$D$498=""),$H$4:$H$498) -> 0 | I506: =SUMPRODUCT(--($E$4:$E$498=C506),--($D$4:$D$498=""),$I$4:$I$498) -> 0 | J506: =SUMPRODUCT(--($E$4:$E$498=C506),--($D$4:$D$498=""),$J$4:$J$498) -> 25 | K506: =SUM(F506:J506) -> 25 | M506: =SUMPRODUCT(--($E$4:$E$498=C506),--($D$4:$D$498=""),$M$4:$M$498) -> 6500
C507: =IF(F546="","Vrije categorie",F546) -> H | F507: =SUMPRODUCT(--($E$4:$E$498=C507),--($D$4:$D$498=""),$F$4:$F$498) -> 0 | G507: =SUMPRODUCT(--($E$4:$E$498=C507),--($D$4:$D$498=""),$G$4:$G$498) -> 0 | H507: =SUMPRODUCT(--($E$4:$E$498=C507),--($D$4:$D$498=""),$H$4:$H$498) -> 0 | I507: =SUMPRODUCT(--($E$4:$E$498=C507),--($D$4:$D$498=""),$I$4:$I$498) -> 0 | J507: =SUMPRODUCT(--($E$4:$E$498=C507),--($D$4:$D$498=""),$J$4:$J$498) -> 0 | K507: =SUM(F507:J507) -> 0 | M507: =SUMPRODUCT(--($E$4:$E$498=C507),--($D$4:$D$498=""),$M$4:$M$498) -> 0
C508: =IF(F547="","Vrije categorie",F547) -> I | F508: =SUMPRODUCT(--($E$4:$E$498=C508),--($D$4:$D$498=""),$F$4:$F$498) -> 0 | G508: =SUMPRODUCT(--($E$4:$E$498=C508),--($D$4:$D$498=""),$G$4:$G$498) -> 0 | H508: =SUMPRODUCT(--($E$4:$E$498=C508),--($D$4:$D$498=""),$H$4:$H$498) -> 0 | I508: =SUMPRODUCT(--($E$4:$E$498=C508),--($D$4:$D$498=""),$I$4:$I$498) -> 0 | J508: =SUMPRODUCT(--($E$4:$E$498=C508),--($D$4:$D$498=""),$J$4:$J$498) -> 0 | K508: =SUM(F508:J508) -> 0 | M508: =SUMPRODUCT(--($E$4:$E$498=C508),--($D$4:$D$498=""),$M$4:$M$498) -> 0
C509: =IF(F548="","Vrije categorie",F548) -> J | F509: =SUMPRODUCT(--($E$4:$E$498=C509),--($D$4:$D$498=""),$F$4:$F$498) -> 0 | G509: =SUMPRODUCT(--($E$4:$E$498=C509),--($D$4:$D$498=""),$G$4:$G$498) -> 0 | H509: =SUMPRODUCT(--($E$4:$E$498=C509),--($D$4:$D$498=""),$H$4:$H$498) -> 0 | I509: =SUMPRODUCT(--($E$4:$E$498=C509),--($D$4:$D$498=""),$I$4:$I$498) -> 0 | J509: =SUMPRODUCT(--($E$4:$E$498=C509),--($D$4:$D$498=""),$J$4:$J$498) -> 0 | K509: =SUM(F509:J509) -> 0 | M509: =SUMPRODUCT(--($E$4:$E$498=C509),--($D$4:$D$498=""),$M$4:$M$498) -> 0
C510: =IF(F549="","Vrije categorie",F549) -> K | F510: =SUMPRODUCT(--($E$4:$E$498=C510),--($D$4:$D$498=""),$F$4:$F$498) -> 0 | G510: =SUMPRODUCT(--($E$4:$E$498=C510),--($D$4:$D$498=""),$G$4:$G$498) -> 0 | H510: =SUMPRODUCT(--($E$4:$E$498=C510),--($D$4:$D$498=""),$H$4:$H$498) -> 0 | I510: =SUMPRODUCT(--($E$4:$E$498=C510),--($D$4:$D$498=""),$I$4:$I$498) -> 0 | J510: =SUMPRODUCT(--($E$4:$E$498=C510),--($D$4:$D$498=""),$J$4:$J$498) -> 0 | K510: =SUM(F510:J510) -> 0 | M510: =SUMPRODUCT(--($E$4:$E$498=C510),--($D$4:$D$498=""),$M$4:$M$498) -> 0
C511: =IF(F550="","Vrije categorie",F550) -> X | F511: =SUMPRODUCT(--($E$4:$E$498=C511),--($D$4:$D$498=""),$F$4:$F$498) -> 11 | G511: =SUMPRODUCT(--($E$4:$E$498=C511),--($D$4:$D$498=""),$G$4:$G$498) -> 0 | H511: =SUMPRODUCT(--($E$4:$E$498=C511),--($D$4:$D$498=""),$H$4:$H$498) -> 0 | I511: =SUMPRODUCT(--($E$4:$E$498=C511),--($D$4:$D$498=""),$I$4:$I$498) -> 0 | J511: =SUMPRODUCT(--($E$4:$E$498=C511),--($D$4:$D$498=""),$J$4:$J$498) -> 406 | K511: =SUM(F511:J511) -> 417 | M511: =SUMPRODUCT(--($E$4:$E$498=C511),--($D$4:$D$498=""),$M$4:$M$498) -> 0
... C514: =IF(F553="","Vrije categorie",F553) -> Vrije categorie | F514: =SUMPRODUCT(--($E$4:$E$498=C514),--($D$4:$D$498=""),$F$4:$F$498) -> 0 | G514: =SUMPRODUCT(--($E$4:$E$498=C514),--($D$4:$D$498=""),$G$4:$G$498) -> 0 | H514: =SUMPRODUCT(--($E$4:$E$498=C514),--($D$4:$D$498=""),$H$4:$H$498) -> 0 | I514: =SUMPRODUCT(--($E$4:$E$498=C514),--($D$4:$D$498=""),$I$4:$I$498) -> 0 | J514: =SUMPRODUCT(--($E$4:$E$498=C514),--($D$4:$D$498=""),$J$4:$J$498) -> 0 | K514: =SUM(F514:J514) -> 0 | M514: =SUMPRODUCT(--($E$4:$E$498=C514),--($D$4:$D$498=""),$M$4:$M$498) -> 0
C515: Totaal uitbesteden: | F515: =SUM(F500:F514) -> 87 | G515: =SUM(G500:G514) -> 13 | H515: =SUM(H500:H514) -> 0 | I515: =SUM(I500:I514) -> 0 | J515: =SUM(J500:J514) -> 552 | K515: =SUM(K500:K514) -> 652 | M515: =SUM(M499:M514) -> 61100
C517: Categorie X (nio) | F517: {=SUMPRODUCT(--($E$4:$E$498="X"),$F$4:$F$498)} -> 11 | G517: {=SUMPRODUCT(--($E$4:$E$498="X"),G4:G498)} -> 0 | H517: {=SUMPRODUCT(--($E$4:$E$498="X"),H4:H498)} -> 0 | I517: {=SUMPRODUCT(--($E$4:$E$498="X"),I4:I498)} -> 0 | J517: {=SUMPRODUCT(--($E$4:$E$498="X"),J4:J498)} -> 406 | K517: =SUM(F517:J517) -> 417
C519: Eigen dienst:
C520: =C500 -> A | F520: =SUMPRODUCT(--($E$4:$E$498=C520),--($D$4:$D$498="X"),$F$4:$F$498) -> 0 | G520: =SUMPRODUCT(--($E$4:$E$498=C520),--($D$4:$D$498="X"),$G$4:$G$498) -> 0 | H520: =SUMPRODUCT(--($E$4:$E$498=C520),--($D$4:$D$498="X"),$H$4:$H$498) -> 0 | I520: =SUMPRODUCT(--($E$4:$E$498=C520),--($D$4:$D$498="X"),$I$4:$I$498) -> 0 | J520: =SUMPRODUCT(--($E$4:$E$498=C520),--($D$4:$D$498="X"),$J$4:$J$498) -> 0 | K520: =SUM(F520:J520) -> 0
C521: =C501 -> B | F521: =SUMPRODUCT(--($E$4:$E$498=C521),--($D$4:$D$498="X"),$F$4:$F$498) -> 0 | G521: =SUMPRODUCT(--($E$4:$E$498=C521),--($D$4:$D$498="X"),$G$4:$G$498) -> 0 | H521: =SUMPRODUCT(--($E$4:$E$498=C521),--($D$4:$D$498="X"),$H$4:$H$498) -> 0 | I521: =SUMPRODUCT(--($E$4:$E$498=C521),--($D$4:$D$498="X"),$I$4:$I$498) -> 0 | J521: =SUMPRODUCT(--($E$4:$E$498=C521),--($D$4:$D$498="X"),$J$4:$J$498) -> 0 | K521: =SUM(F521:J521) -> 0
C522: =C502 -> C | F522: =SUMPRODUCT(--($E$4:$E$498=C522),--($D$4:$D$498="X"),$F$4:$F$498) -> 0 | G522: =SUMPRODUCT(--($E$4:$E$498=C522),--($D$4:$D$498="X"),$G$4:$G$498) -> 0 | H522: =SUMPRODUCT(--($E$4:$E$498=C522),--($D$4:$D$498="X"),$H$4:$H$498) -> 0 | I522: =SUMPRODUCT(--($E$4:$E$498=C522),--($D$4:$D$498="X"),$I$4:$I$498) -> 0 | J522: =SUMPRODUCT(--($E$4:$E$498=C522),--($D$4:$D$498="X"),$J$4:$J$498) -> 0 | K522: =SUM(F522:J522) -> 0
C523: =C503 -> D | F523: =SUMPRODUCT(--($E$4:$E$498=C523),--($D$4:$D$498="X"),$F$4:$F$498) -> 0 | G523: =SUMPRODUCT(--($E$4:$E$498=C523),--($D$4:$D$498="X"),$G$4:$G$498) -> 0 | H523: =SUMPRODUCT(--($E$4:$E$498=C523),--($D$4:$D$498="X"),$H$4:$H$498) -> 0 | I523: =SUMPRODUCT(--($E$4:$E$498=C523),--($D$4:$D$498="X"),$I$4:$I$498) -> 0 | J523: =SUMPRODUCT(--($E$4:$E$498=C523),--($D$4:$D$498="X"),$J$4:$J$498) -> 0 | K523: =SUM(F523:J523) -> 0
C524: =C504 -> E | F524: =SUMPRODUCT(--($E$4:$E$498=C524),--($D$4:$D$498="X"),$F$4:$F$498) -> 0 | G524: =SUMPRODUCT(--($E$4:$E$498=C524),--($D$4:$D$498="X"),$G$4:$G$498) -> 0 | H524: =SUMPRODUCT(--($E$4:$E$498=C524),--($D$4:$D$498="X"),$H$4:$H$498) -> 0 | I524: =SUMPRODUCT(--($E$4:$E$498=C524),--($D$4:$D$498="X"),$I$4:$I$498) -> 0 | J524: =SUMPRODUCT(--($E$4:$E$498=C524),--($D$4:$D$498="X"),$J$4:$J$498) -> 0 | K524: =SUM(F524:J524) -> 0
C525: =C505 -> F | F525: =SUMPRODUCT(--($E$4:$E$498=C525),--($D$4:$D$498="X"),$F$4:$F$498) -> 0 | G525: =SUMPRODUCT(--($E$4:$E$498=C525),--($D$4:$D$498="X"),$G$4:$G$498) -> 0 | H525: =SUMPRODUCT(--($E$4:$E$498=C525),--($D$4:$D$498="X"),$H$4:$H$498) -> 0 | I525: =SUMPRODUCT(--($E$4:$E$498=C525),--($D$4:$D$498="X"),$I$4:$I$498) -> 0 | J525: =SUMPRODUCT(--($E$4:$E$498=C525),--($D$4:$D$498="X"),$J$4:$J$498) -> 0 | K525: =SUM(F525:J525) -> 0
C526: =C506 -> G | F526: =SUMPRODUCT(--($E$4:$E$498=C526),--($D$4:$D$498="X"),$F$4:$F$498) -> 0 | G526: =SUMPRODUCT(--($E$4:$E$498=C526),--($D$4:$D$498="X"),$G$4:$G$498) -> 0 | H526: =SUMPRODUCT(--($E$4:$E$498=C526),--($D$4:$D$498="X"),$H$4:$H$498) -> 0 | I526: =SUMPRODUCT(--($E$4:$E$498=C526),--($D$4:$D$498="X"),$I$4:$I$498) -> 0 | J526: =SUMPRODUCT(--($E$4:$E$498=C526),--($D$4:$D$498="X"),$J$4:$J$498) -> 0 | K526: =SUM(F526:J526) -> 0
C527: =C507 -> H | F527: =SUMPRODUCT(--($E$4:$E$498=C527),--($D$4:$D$498="X"),$F$4:$F$498) -> 0 | G527: =SUMPRODUCT(--($E$4:$E$498=C527),--($D$4:$D$498="X"),$G$4:$G$498) -> 0 | H527: =SUMPRODUCT(--($E$4:$E$498=C527),--($D$4:$D$498="X"),$H$4:$H$498) -> 0 | I527: =SUMPRODUCT(--($E$4:$E$498=C527),--($D$4:$D$498="X"),$I$4:$I$498) -> 0 | J527: =SUMPRODUCT(--($E$4:$E$498=C527),--($D$4:$D$498="X"),$J$4:$J$498) -> 0 | K527: =SUM(F527:J527) -> 0
C528: =C508 -> I | F528: =SUMPRODUCT(--($E$4:$E$498=C528),--($D$4:$D$498="X"),$F$4:$F$498) -> 0 | G528: =SUMPRODUCT(--($E$4:$E$498=C528),--($D$4:$D$498="X"),$G$4:$G$498) -> 0 | H528: =SUMPRODUCT(--($E$4:$E$498=C528),--($D$4:$D$498="X"),$H$4:$H$498) -> 0 | I528: =SUMPRODUCT(--($E$4:$E$498=C528),--($D$4:$D$498="X"),$I$4:$I$498) -> 0 | J528: =SUMPRODUCT(--($E$4:$E$498=C528),--($D$4:$D$498="X"),$J$4:$J$498) -> 0 | K528: =SUM(F528:J528) -> 0
C529: =C509 -> J | F529: =SUMPRODUCT(--($E$4:$E$498=C529),--($D$4:$D$498="X"),$F$4:$F$498) -> 0 | G529: =SUMPRODUCT(--($E$4:$E$498=C529),--($D$4:$D$498="X"),$G$4:$G$498) -> 0 | H529: =SUMPRODUCT(--($E$4:$E$498=C529),--($D$4:$D$498="X"),$H$4:$H$498) -> 0 | I529: =SUMPRODUCT(--($E$4:$E$498=C529),--($D$4:$D$498="X"),$I$4:$I$498) -> 0 | J529: =SUMPRODUCT(--($E$4:$E$498=C529),--($D$4:$D$498="X"),$J$4:$J$498) -> 0 | K529: =SUM(F529:J529) -> 0
C530: =C510 -> K | F530: =SUMPRODUCT(--($E$4:$E$498=C530),--($D$4:$D$498="X"),$F$4:$F$498) -> 0 | G530: =SUMPRODUCT(--($E$4:$E$498=C530),--($D$4:$D$498="X"),$G$4:$G$498) -> 0 | H530: =SUMPRODUCT(--($E$4:$E$498=C530),--($D$4:$D$498="X"),$H$4:$H$498) -> 0 | I530: =SUMPRODUCT(--($E$4:$E$498=C530),--($D$4:$D$498="X"),$I$4:$I$498) -> 0 | J530: =SUMPRODUCT(--($E$4:$E$498=C530),--($D$4:$D$498="X"),$J$4:$J$498) -> 0 | K530: =SUM(F530:J530) -> 0
C531: =C511 -> X | F531: =SUMPRODUCT(--($E$4:$E$498=C531),--($D$4:$D$498="X"),$F$4:$F$498) -> 0 | G531: =SUMPRODUCT(--($E$4:$E$498=C531),--($D$4:$D$498="X"),$G$4:$G$498) -> 0 | H531: =SUMPRODUCT(--($E$4:$E$498=C531),--($D$4:$D$498="X"),$H$4:$H$498) -> 0 | I531: =SUMPRODUCT(--($E$4:$E$498=C531),--($D$4:$D$498="X"),$I$4:$I$498) -> 0 | J531: =SUMPRODUCT(--($E$4:$E$498=C531),--($D$4:$D$498="X"),$J$4:$J$498) -> 0 | K531: =SUM(F531:J531) -> 0
... C534: =C514 -> Vrije categorie | F534: =SUMPRODUCT(--($E$4:$E$498=C534),--($D$4:$D$498="X"),$F$4:$F$498) -> 0 | G534: =SUMPRODUCT(--($E$4:$E$498=C534),--($D$4:$D$498="X"),$G$4:$G$498) -> 0 | H534: =SUMPRODUCT(--($E$4:$E$498=C534),--($D$4:$D$498="X"),$H$4:$H$498) -> 0 | I534: =SUMPRODUCT(--($E$4:$E$498=C534),--($D$4:$D$498="X"),$I$4:$I$498) -> 0 | J534: =SUMPRODUCT(--($E$4:$E$498=C534),--($D$4:$D$498="X"),$J$4:$J$498) -> 0 | K534: =SUM(F534:J534) -> 0
C535: Totaal eigen dienst: | F535: =SUM(F520:F534) -> 0 | G535: =SUM(G520:G534) -> 0 | H535: =SUM(H520:H534) -> 0 | I535: =SUM(I520:I534) -> 0 | J535: =SUM(J520:J534) -> 0 | K535: =SUM(K520:K534) -> 0
F538: Categorie | G538: Frequentie | I538: Soort glas | K538: M²
F539: =IF('1a'!F539=0,"",'1a'!F539) -> A | G539: =IF('1a'!G539=0,"",'1a'!G539) -> 104 | I539: Binnenzijde | K539: 110.225
F540: =IF('1a'!F540=0,"",'1a'!F540) -> B | G540: =IF('1a'!G540=0,"",'1a'!G540) -> 260 | I540: Buitenzijde | K540: 110.225
F541: =IF('1a'!F541=0,"",'1a'!F541) -> C | G541: =IF('1a'!G541=0,"",'1a'!G541) -> 260 | I541: Separatie | K541: 23.95
F542: =IF('1a'!F542=0,"",'1a'!F542) -> D | G542: =IF('1a'!G542=0,"",'1a'!G542) -> 260 | I542: Ramen en deuren brandweer/garages | K542: 231.45
F543: =IF('1a'!F543=0,"",'1a'!F543) -> E | G543: =IF('1a'!G543=0,"",'1a'!G543) -> 260 | I543: Boeidelen
F544: =IF('1a'!F544=0,"",'1a'!F544) -> F | G544: =IF('1a'!G544=0,"",'1a'!G544) -> 260 | I544: Gevelbeplating
F545: =IF('1a'!F545=0,"",'1a'!F545) -> G | G545: =IF('1a'!G545=0,"",'1a'!G545) -> 260
F546: =IF('1a'!F546=0,"",'1a'!F546) -> H | G546: =IF('1a'!G546=0,"",'1a'!G546) -> 260
F547: =IF('1a'!F547=0,"",'1a'!F547) -> I | G547: =IF('1a'!G547=0,"",'1a'!G547) -> 260
F548: =IF('1a'!F548=0,"",'1a'!F548) -> J | G548: =IF('1a'!G548=0,"",'1a'!G548) -> 260
F549: =IF('1a'!F549=0,"",'1a'!F549) -> K | G549: =IF('1a'!G549=0,"",'1a'!G549) -> 12
F550: =IF('1a'!F550=0,"",'1a'!F550) -> X | G550: =IF('1a'!G550=0,"0",'1a'!G550) -> 0
F551: =IF('1a'!F551=0,"",'1a'!F551) -> Vrije categorie | G551: =IF('1a'!G551=0,"",'1a'!G551)
F552: =IF('1a'!F552=0,"",'1a'!F552) -> Vrije categorie | G552: =IF('1a'!G552=0,"",'1a'!G552)
F553: =IF('1a'!F553=0,"",'1a'!F553) -> Vrije categorie | G553: =IF('1a'!G553=0,"",'1a'!G553)

Sheet 3
D2: =CONCATENATE("Uitvoeringsbepaling"," ",H4,", onderdeel van ",Verzamelblad!A2," ",Verzamelblad!A3) -> Uitvoeringsbepaling 3, onderdeel van Bestek
A4: Object: | B4: =VLOOKUP(H4,Verzamelblad!A5:E19,3) -> Gemeentewerf Surhuisterveen | F4: Uitvoeringsbepaling: | H4: 3
A5: Straat: | B5: =VLOOKUP(H4,Verzamelblad!A5:E19,4) -> Badlaan 2a | F5: Inventarisatie: | H5: =CONCATENATE(H4,"a") -> 3a
A6: Plaats: | B6: =VLOOKUP(H4,Verzamelblad!A5:E19,5) -> Surhuisterveen | F6: Revisiedatum:
A8: Gewenste aanvangstijd schoonmaak: | E8: =VLOOKUP($H$4,Verzamelblad!$A$5:$EK$19,14,0) -> 0
A9: Aantal dagen schoonmaak per jaar: | E9: =VLOOKUP($H$4,Verzamelblad!$A$5:$EK$19,6,0) -> 260
F10: Prijs | G10: Uren | H10: Gem. uren/dag | I10: Jaarpijs | J10: Jaaruren | K10: Verhouding
A11: Werkzaamheden met een frequentie tot 1/20 | F11: =IFERROR(IF(SUM(I11/12)=0,"",SUM(I11/12)),"") | G11: =IFERROR(SUM(J11/12),"") | H11: =IFERROR(SUM(J11/E9),"") | I11: =IFERROR(IF(SUM($I$14*K11)=0,"",SUM($I$14*K11)),"") | J11: =IFERROR(SUM(J14*K11),"")
A12: Schoonmaakwerkzaamheden 3x per jaar | F12: =IFERROR(IF(SUM(I12/3)=0,"",SUM(I12/3)),"") | G12: =IFERROR(SUM(J12/3),"") | I12: =IFERROR(IF(SUM($I$14*K12)=0,"",SUM($I$14*K12)),"") | J12: =IFERROR(SUM(J14*K12),"")
A13: Schoonmaakwerkzaamheden 1x per jaar | F13: =IF(I13=0,"",I13) | G13: =IFERROR(J13,"") | I13: =IFERROR(IF(SUM($I$14*K13)=0,"",SUM($I$14*K13)),"") | J13: =IFERROR(SUM(J14*K13),"")
A14: Totale jaarprijs / jaaruren | F14: =IFERROR(IF(SUM(F11:F13)=0,"",SUM(F11:F13)),"") | G14: =IFERROR(SUM(G11:G13),"") -> 0 | I14: =IFERROR(IF(E100=0,"",E100),"") | J14: =IFERROR(SUM(I14/offertetarief),"") | K14: =IF(SUM(K11:K13)=100%,"","Geen 100%") -> Geen 100%
F15: Per dag | G15: Per jaar
A16: Uren direct toezicht | F16: =IFERROR(SUM((J14*directtoezicht)/E9),"") | G16: =IF(J14="","",SUM(J14*directtoezicht))
K17: Programma categorie | L17: Gemiddelde productie per m²
A18: Prestatie
A19: M² uit te besteden per jaar | D19: =D100 -> 24960 | E19: M² uit te besteden per dag | G19: =IFERROR(D100/E9,"") -> 96 | H19: Gem. prestatie | I19: =IFERROR(SUM(D19/J14),"") | K19: =IF(INDIRECT("'"&$H$5&"'!F539")="x","",IF(INDIRECT("'"&$H$5&"'!F539")="Vrije categorie","",INDIRECT("'"&$H$5&"'!F539"))) -> A
K20: =IF(INDIRECT("'"&$H$5&"'!F540")="x","",IF(INDIRECT("'"&$H$5&"'!F540")="Vrije categorie","",INDIRECT("'"&$H$5&"'!F540"))) -> B
A21: Extra werkzaamheden | D21: Prijs per | E21: Aantal | F21: Prijs per eenheid | G21: Beurtprijs | H21: Beurten per jaar | I21: Prijs per jaar | K21: =IF(INDIRECT("'"&$H$5&"'!F541")="x","",IF(INDIRECT("'"&$H$5&"'!F541")="Vrije categorie","",INDIRECT("'"&$H$5&"'!F541"))) -> C
A22: =VLOOKUP($H$4,Verzamelblad!$A$5:$EK$19,32,0) -> Dieptereiniging sanitair | D22: =VLOOKUP($H$4,Verzamelblad!$A$5:$EK$19,33,0) -> m² | E22: =VLOOKUP($H$4,Verzamelblad!$A$5:$DE$19,34) -> 22 | G22: =IF(IF(E22="","",SUM(E22*F22))=0,"",IF(E22="","",SUM(E22*F22))) | H22: =VLOOKUP($H$4,Verzamelblad!$A$5:$EK$19,35,0) -> 2 | I22: =IFERROR(IF(IF(H22="op afroep","",SUM(G22*H22))=0,"",IF(H22="op afroep","",SUM(G22*H22))),"") | K22: =IF(INDIRECT("'"&$H$5&"'!F542")="x","",IF(INDIRECT("'"&$H$5&"'!F542")="Vrije categorie","",INDIRECT("'"&$H$5&"'!F542"))) -> D
A23: =VLOOKUP($H$4,Verzamelblad!$A$5:$EK$19,36,0) -> 0 | D23: =VLOOKUP($H$4,Verzamelblad!$A$5:$EK$19,37,0) -> 0 | E23: =VLOOKUP($H$4,Verzamelblad!$A$5:$DE$19,38) -> 0 | G23: =IF(IF(E23="","",SUM(E23*F23))=0,"",IF(E23="","",SUM(E23*F23))) | H23: =VLOOKUP($H$4,Verzamelblad!$A$5:$EK$19,39,0) -> 0 | I23: =IFERROR(IF(IF(H23="op afroep","",SUM(G23*H23))=0,"",IF(H23="op afroep","",SUM(G23*H23))),"") | K23: =IF(INDIRECT("'"&$H$5&"'!F543")="x","",IF(INDIRECT("'"&$H$5&"'!F543")="Vrije categorie","",INDIRECT("'"&$H$5&"'!F543"))) -> E
A24: =VLOOKUP($H$4,Verzamelblad!$A$5:$EK$19,40,0) -> 0 | D24: =VLOOKUP($H$4,Verzamelblad!$A$5:$EK$19,41,0) -> 0 | E24: =VLOOKUP($H$4,Verzamelblad!$A$5:$DE$19,42) -> 0 | G24: =IF(IF(E24="","",SUM(E24*F24))=0,"",IF(E24="","",SUM(E24*F24))) | H24: =VLOOKUP($H$4,Verzamelblad!$A$5:$EK$19,43,0) -> 0 | I24: =IFERROR(IF(IF(H24="op afroep","",SUM(G24*H24))=0,"",IF(H24="op afroep","",SUM(G24*H24))),"") | K24: =IF(INDIRECT("'"&$H$5&"'!F544")="x","",IF(INDIRECT("'"&$H$5&"'!F544")="Vrije categorie","",INDIRECT("'"&$H$5&"'!F544"))) -> F
A25: =VLOOKUP($H$4,Verzamelblad!$A$5:$EK$19,44,0) -> 0 | D25: =VLOOKUP($H$4,Verzamelblad!$A$5:$EK$19,45,0) -> 0 | E25: =VLOOKUP($H$4,Verzamelblad!$A$5:$DE$19,46) -> 0 | G25: =IF(IF(E25="","",SUM(E25*F25))=0,"",IF(E25="","",SUM(E25*F25))) | H25: =VLOOKUP($H$4,Verzamelblad!$A$5:$EK$19,47,0) -> 0 | I25: =IFERROR(IF(IF(H25="op afroep","",SUM(G25*H25))=0,"",IF(H25="op afroep","",SUM(G25*H25))),"") | K25: =IF(INDIRECT("'"&$H$5&"'!F545")="x","",IF(INDIRECT("'"&$H$5&"'!F545")="Vrije categorie","",INDIRECT("'"&$H$5&"'!F545"))) -> G
A26: =VLOOKUP($H$4,Verzamelblad!$A$5:$EK$19,48,0) -> 0 | D26: =VLOOKUP($H$4,Verzamelblad!$A$5:$EK$19,49,0) -> 0 | E26: =VLOOKUP($H$4,Verzamelblad!$A$5:$DE$19,50) -> 0 | G26: =IF(IF(E26="","",SUM(E26*F26))=0,"",IF(E26="","",SUM(E26*F26))) | H26: =VLOOKUP($H$4,Verzamelblad!$A$5:$EK$19,51,0) -> 0 | I26: =IFERROR(IF(IF(H26="op afroep","",SUM(G26*H26))=0,"",IF(H26="op afroep","",SUM(G26*H26))),"") | K26: =IF(INDIRECT("'"&$H$5&"'!F546")="x","",IF(INDIRECT("'"&$H$5&"'!F546")="Vrije categorie","",INDIRECT("'"&$H$5&"'!F546"))) -> H
A27: =VLOOKUP($H$4,Verzamelblad!$A$5:$EK$19,52,0) -> 0 | D27: =VLOOKUP($H$4,Verzamelblad!$A$5:$EK$19,53,0) -> 0 | E27: =VLOOKUP($H$4,Verzamelblad!$A$5:$DE$19,54) -> 0 | G27: =IF(IF(E27="","",SUM(E27*F27))=0,"",IF(E27="","",SUM(E27*F27))) | H27: =VLOOKUP($H$4,Verzamelblad!$A$5:$EK$19,55,0) -> 0 | I27: =IFERROR(IF(IF(H27="op afroep","",SUM(G27*H27))=0,"",IF(H27="op afroep","",SUM(G27*H27))),"") | K27: =IF(INDIRECT("'"&$H$5&"'!F547")="x","",IF(INDIRECT("'"&$H$5&"'!F547")="Vrije categorie","",INDIRECT("'"&$H$5&"'!F547"))) -> I
A28: =VLOOKUP($H$4,Verzamelblad!$A$5:$EK$19,56,0) -> 0 | D28: =VLOOKUP($H$4,Verzamelblad!$A$5:$EK$19,57,0) -> 0 | E28: =VLOOKUP($H$4,Verzamelblad!$A$5:$DE$19,58) -> 0 | G28: =IF(IF(E28="","",SUM(E28*F28))=0,"",IF(E28="","",SUM(E28*F28))) | H28: =VLOOKUP($H$4,Verzamelblad!$A$5:$EK$19,59,0) -> 0 | I28: =IFERROR(IF(IF(H28="op afroep","",SUM(G28*H28))=0,"",IF(H28="op afroep","",SUM(G28*H28))),"") | K28: =IF(INDIRECT("'"&$H$5&"'!F548")="x","",IF(INDIRECT("'"&$H$5&"'!F548")="Vrije categorie","",INDIRECT("'"&$H$5&"'!F548"))) -> J
A29: =VLOOKUP($H$4,Verzamelblad!$A$5:$EK$19,60,0) -> 0 | D29: =VLOOKUP($H$4,Verzamelblad!$A$5:$EK$19,61,0) -> 0 | E29: =VLOOKUP($H$4,Verzamelblad!$A$5:$DE$19,62) -> 0 | G29: =IF(IF(E29="","",SUM(E29*F29))=0,"",IF(E29="","",SUM(E29*F29))) | H29: =VLOOKUP($H$4,Verzamelblad!$A$5:$EK$19,63,0) -> 0 | I29: =IFERROR(IF(IF(H29="op afroep","",SUM(G29*H29))=0,"",IF(H29="op afroep","",SUM(G29*H29))),"") | K29: =IF(INDIRECT("'"&$H$5&"'!F549")="x","",IF(INDIRECT("'"&$H$5&"'!F549")="Vrije categorie","",INDIRECT("'"&$H$5&"'!F549"))) -> K
A30: =VLOOKUP($H$4,Verzamelblad!$A$5:$EK$19,64,0) -> 0 | D30: =VLOOKUP($H$4,Verzamelblad!$A$5:$EK$19,65,0) -> 0 | E30: =VLOOKUP($H$4,Verzamelblad!$A$5:$DE$19,66) -> 0 | G30: =IF(IF(E30="","",SUM(E30*F30))=0,"",IF(E30="","",SUM(E30*F30))) | H30: =VLOOKUP($H$4,Verzamelblad!$A$5:$EK$19,67,0) -> 0 | I30: =IFERROR(IF(IF(H30="op afroep","",SUM(G30*H30))=0,"",IF(H30="op afroep","",SUM(G30*H30))),"") | K30: =IF(INDIRECT("'"&$H$5&"'!F550")="x","",IF(INDIRECT("'"&$H$5&"'!F550")="Vrije categorie","",INDIRECT("'"&$H$5&"'!F550")))
A31: =VLOOKUP($H$4,Verzamelblad!$A$5:$EK$19,68,0) -> 0 | D31: =VLOOKUP($H$4,Verzamelblad!$A$5:$EK$19,69,0) -> 0 | E31: =VLOOKUP($H$4,Verzamelblad!$A$5:$DE$19,70) -> 0 | G31: =IF(IF(E31="","",SUM(E31*F31))=0,"",IF(E31="","",SUM(E31*F31))) | H31: =VLOOKUP($H$4,Verzamelblad!$A$5:$EK$19,71,0) -> 0 | I31: =IFERROR(IF(IF(H31="op afroep","",SUM(G31*H31))=0,"",IF(H31="op afroep","",SUM(G31*H31))),"") | K31: =IF(INDIRECT("'"&$H$5&"'!F551")="x","",IF(INDIRECT("'"&$H$5&"'!F551")="Vrije categorie","",INDIRECT("'"&$H$5&"'!F551")))
A32: =VLOOKUP($H$4,Verzamelblad!$A$5:$EK$19,72,0) -> 0 | D32: =VLOOKUP($H$4,Verzamelblad!$A$5:$EK$19,73,0) -> 0 | E32: =VLOOKUP($H$4,Verzamelblad!$A$5:$DE$19,74) -> 0 | G32: =IF(IF(E32="","",SUM(E32*F32))=0,"",IF(E32="","",SUM(E32*F32))) | H32: =VLOOKUP($H$4,Verzamelblad!$A$5:$EK$19,75,0) -> 0 | I32: =IFERROR(IF(IF(H32="op afroep","",SUM(G32*H32))=0,"",IF(H32="op afroep","",SUM(G32*H32))),"") | K32: =IF(INDIRECT("'"&$H$5&"'!F552")="x","",IF(INDIRECT("'"&$H$5&"'!F552")="Vrije categorie","",INDIRECT("'"&$H$5&"'!F552")))
A33: Totaal | I33: =IF(SUM(I22:I32)=0,"",SUM(I22:I32)) | K33: =IF(INDIRECT("'"&$H$5&"'!F553")="x","",IF(INDIRECT("'"&$H$5&"'!F553")="Vrije categorie","",INDIRECT("'"&$H$5&"'!F553")))
A35: Vloeronderhoud | E35: M² | F35: Prijs per m² | G35: Beurtprijs | H35: Beurten per jaar | I35: Prijs per jaar
A36: =VLOOKUP($H$4,Verzamelblad!$A$5:$EK$19,16,0) -> Schrobben vloeren (extra) | E36: ='3a'!J15 -> 416 | G36: =IF(IF(E36="","",SUM(E36*F36))=0,"",IF(E36="","",SUM(E36*F36))) | H36: =VLOOKUP($H$4,Verzamelblad!$A$5:$DE$19,17) -> op afroep | I36: =IFERROR(IF(IF(H36="op afroep","",SUM(G36*H36))=0,"",IF(H36="op afroep","",SUM(G36*H36))),"")
A37: =VLOOKUP($H$4,Verzamelblad!$A$5:$EK$19,18,0) -> 0 | E37: =VLOOKUP($H$4,Verzamelblad!$A$5:$DE$19,106) -> 0 | G37: =IF(IF(E37="","",SUM(E37*F37))=0,"",IF(E37="","",SUM(E37*F37))) | H37: =VLOOKUP($H$4,Verzamelblad!$A$5:$DE$19,19) -> 0 | I37: =IFERROR(IF(IF(H37="op afroep","",SUM(G37*H37))=0,"",IF(H37="op afroep","",SUM(G37*H37))),"")
A38: =VLOOKUP($H$4,Verzamelblad!$A$5:$EK$19,20,0) -> 0 | E38: =VLOOKUP($H$4,Verzamelblad!$A$5:$DE$19,107) -> 0 | G38: =IF(IF(E38="","",SUM(E38*F38))=0,"",IF(E38="","",SUM(E38*F38))) | H38: =VLOOKUP($H$4,Verzamelblad!$A$5:$DE$19,21) -> 0 | I38: =IFERROR(IF(IF(H38="op afroep","",SUM(G38*H38))=0,"",IF(H38="op afroep","",SUM(G38*H38))),"")
A39: =VLOOKUP($H$4,Verzamelblad!$A$5:$EK$19,22,0) -> 0 | E39: =VLOOKUP($H$4,Verzamelblad!$A$5:$DE$19,108) -> 0 | G39: =IF(IF(E39="","",SUM(E39*F39))=0,"",IF(E39="","",SUM(E39*F39))) | H39: =VLOOKUP($H$4,Verzamelblad!$A$5:$DE$19,23) -> 0 | I39: =IFERROR(IF(IF(H39="op afroep","",SUM(G39*H39))=0,"",IF(H39="op afroep","",SUM(G39*H39))),"")
A40: =VLOOKUP($H$4,Verzamelblad!$A$5:$EK$19,24,0) -> 0 | E40: =VLOOKUP($H$4,Verzamelblad!$A$5:$DE$19,109) -> 0 | G40: =IF(IF(E40="","",SUM(E40*F40))=0,"",IF(E40="","",SUM(E40*F40))) | H40: =VLOOKUP($H$4,Verzamelblad!$A$5:$DE$19,25) -> 0 | I40: =IFERROR(IF(IF(H40="op afroep","",SUM(G40*H40))=0,"",IF(H40="op afroep","",SUM(G40*H40))),"")
A41: =VLOOKUP($H$4,Verzamelblad!$A$5:$EK$19,26,0) -> 0 | E41: 0 | G41: =IF(IF(E41="","",SUM(E41*F41))=0,"",IF(E41="","",SUM(E41*F41))) | H41: =VLOOKUP($H$4,Verzamelblad!$A$5:$DE$19,27) -> 0 | I41: =IFERROR(IF(IF(H41="op afroep","",SUM(G41*H41))=0,"",IF(H41="op afroep","",SUM(G41*H41))),"")
A42: =VLOOKUP($H$4,Verzamelblad!$A$5:$EK$19,28,0) -> 0 | E42: 0 | G42: =IF(IF(E42="","",SUM(E42*F42))=0,"",IF(E42="","",SUM(E42*F42))) | H42: =VLOOKUP($H$4,Verzamelblad!$A$5:$DE$19,29) -> 0 | I42: =IFERROR(IF(IF(H42="op afroep","",SUM(G42*H42))=0,"",IF(H42="op afroep","",SUM(G42*H42))),"")
A43: =VLOOKUP($H$4,Verzamelblad!$A$5:$EK$19,30,0) -> 0 | E43: 0 | G43: =IF(IF(E43="","",SUM(E43*F43))=0,"",IF(E43="","",SUM(E43*F43))) | H43: =VLOOKUP($H$4,Verzamelblad!$A$5:$DE$19,31) -> 0 | I43: =IFERROR(IF(IF(H43="op afroep","",SUM(G43*H43))=0,"",IF(H43="op afroep","",SUM(G43*H43))),"")
A44: Totaal | I44: =IF(SUM(I36:I43)=0,"",SUM(I36:I43))
A46: Glasbewassing (incl. houtwerk en omlijsting) | E46: M² | F46: Prijs per m² | G46: Beurtprijs | H46: Beurten per jaar | I46: Prijs per jaar
A47: =VLOOKUP($H$4,Verzamelblad!$A$5:$EK$19,76,0) -> Glas bi/bui/sep | E47: =VLOOKUP($H$4,Verzamelblad!$A$5:$DE$19,99) -> 62 | G47: =IF(IF(E47="","",SUM(E47*F47))=0,"",IF(E47="","",SUM(E47*F47))) | H47: =VLOOKUP($H$4,Verzamelblad!$A$5:$EK$19,77,0) -> 2 | I47: =IFERROR(IF(IF(H47="op afroep","",SUM(G47*H47))=0,"",IF(H47="op afroep","",SUM(G47*H47))),"")
A48: =VLOOKUP($H$4,Verzamelblad!$A$5:$EK$19,78,0) -> 0 | E48: =VLOOKUP($H$4,Verzamelblad!$A$5:$DE$19,100) -> 0 | G48: =IF(IF(E48="","",SUM(E48*F48))=0,"",IF(E48="","",SUM(E48*F48))) | H48: =VLOOKUP($H$4,Verzamelblad!$A$5:$EK$19,79,0) -> 0 | I48: =IFERROR(IF(IF(H48="op afroep","",SUM(G48*H48))=0,"",IF(H48="op afroep","",SUM(G48*H48))),"")
A49: =VLOOKUP($H$4,Verzamelblad!$A$5:$EK$19,80,0) -> 0 | E49: =VLOOKUP($H$4,Verzamelblad!$A$5:$DE$19,101) -> 0 | G49: =IF(IF(E49="","",SUM(E49*F49))=0,"",IF(E49="","",SUM(E49*F49))) | H49: =VLOOKUP($H$4,Verzamelblad!$A$5:$EK$19,81,0) -> 0 | I49: =IFERROR(IF(IF(H49="op afroep","",SUM(G49*H49))=0,"",IF(H49="op afroep","",SUM(G49*H49))),"")
A50: =VLOOKUP($H$4,Verzamelblad!$A$5:$EK$19,82,0) -> 0 | E50: =VLOOKUP($H$4,Verzamelblad!$A$5:$DE$19,102) -> 0 | G50: =IF(IF(E50="","",SUM(E50*F50))=0,"",IF(E50="","",SUM(E50*F50))) | H50: =VLOOKUP($H$4,Verzamelblad!$A$5:$EK$19,83,0) -> 0 | I50: =IFERROR(IF(IF(H50="op afroep","",SUM(G50*H50))=0,"",IF(H50="op afroep","",SUM(G50*H50))),"")
A51: =VLOOKUP($H$4,Verzamelblad!$A$5:$EK$19,84,0) -> 0 | E51: =VLOOKUP($H$4,Verzamelblad!$A$5:$DE$19,103) -> 0 | G51: =IF(IF(E51="","",SUM(E51*F51))=0,"",IF(E51="","",SUM(E51*F51))) | H51: =VLOOKUP($H$4,Verzamelblad!$A$5:$EK$19,85,0) -> 0 | I51: =IFERROR(IF(IF(H51="op afroep","",SUM(G51*H51))=0,"",IF(H51="op afroep","",SUM(G51*H51))),"")
A52: =VLOOKUP($H$4,Verzamelblad!$A$5:$EK$19,86,0) -> 0 | E52: =VLOOKUP($H$4,Verzamelblad!$A$5:$DE$19,104) -> 0 | G52: =IF(IF(E52="","",SUM(E52*F52))=0,"",IF(E52="","",SUM(E52*F52))) | H52: =VLOOKUP($H$4,Verzamelblad!$A$5:$EK$19,87,0) -> 0 | I52: =IFERROR(IF(IF(H52="op afroep","",SUM(G52*H52))=0,"",IF(H52="op afroep","",SUM(G52*H52))),"")
A53: =VLOOKUP($H$4,Verzamelblad!$A$5:$EK$19,88,0) -> 0 | G53: =IF(IF(E53="","",SUM(E53*F53))=0,"",IF(E53="","",SUM(E53*F53))) | H53: =VLOOKUP($H$4,Verzamelblad!$A$5:$EK$19,89,0) -> 0 | I53: =IFERROR(IF(IF(H53="op afroep","",SUM(G53*H53))=0,"",IF(H53="op afroep","",SUM(G53*H53))),"")
A54: =VLOOKUP($H$4,Verzamelblad!$A$5:$EK$19,90,0) -> 0 | E54: 0 | G54: =IF(IF(E54="","",SUM(E54*F54))=0,"",IF(E54="","",SUM(E54*F54))) | H54: =VLOOKUP($H$4,Verzamelblad!$A$5:$EK$19,91,0) -> 0 | I54: =IFERROR(IF(IF(H54="op afroep","",SUM(G54*H54))=0,"",IF(H54="op afroep","",SUM(G54*H54))),"")
A55: =VLOOKUP($H$4,Verzamelblad!$A$5:$EK$19,92,0) -> 0 | E55: 0 | G55: =IF(IF(E55="","",SUM(E55*F55))=0,"",IF(E55="","",SUM(E55*F55))) | H55: =VLOOKUP($H$4,Verzamelblad!$A$5:$EK$19,93,0) -> 0 | I55: =IFERROR(IF(IF(H55="op afroep","",SUM(G55*H55))=0,"",IF(H55="op afroep","",SUM(G55*H55))),"")
A56: =VLOOKUP($H$4,Verzamelblad!$A$5:$EK$19,94,0) -> 0 | E56: 0 | G56: =IF(IF(E56="","",SUM(E56*F56))=0,"",IF(E56="","",SUM(E56*F56))) | H56: =VLOOKUP($H$4,Verzamelblad!$A$5:$EK$19,95,0) -> 0 | I56: =IFERROR(IF(IF(H56="op afroep","",SUM(G56*H56))=0,"",IF(H56="op afroep","",SUM(G56*H56))),"")
A57: Totaal | I57: =IF(SUM(I47:I56)=0,"",SUM(I47:I56))
A59: Sanitaire voorzieningen | E59: Artikel | F59: Omschrijving | G59: Aantal | H59: Prijs per maand | I59: Prijs per jaar
I60: =IFERROR(IF(IF(H60="op afroep","",SUM(G60*H60))=0,"",IF(H60="op afroep","",SUM(G60*H60))),"") | K60: Aantal gebruikers van deze locatie
I61: =IFERROR(IF(IF(H61="op afroep","",SUM(G61*H61))=0,"",IF(H61="op afroep","",SUM(G61*H61))),"") | K61: Medewerkers
I62: =IFERROR(IF(IF(H62="op afroep","",SUM(G62*H62))=0,"",IF(H62="op afroep","",SUM(G62*H62))),"") | K62: Bezoekers
I63: =IFERROR(IF(IF(H63="op afroep","",SUM(G63*H63))=0,"",IF(H63="op afroep","",SUM(G63*H63))),"")
I64: =IFERROR(IF(IF(H64="op afroep","",SUM(G64*H64))=0,"",IF(H64="op afroep","",SUM(G64*H64))),"")
I65: =IFERROR(IF(IF(H65="op afroep","",SUM(G65*H65))=0,"",IF(H65="op afroep","",SUM(G65*H65))),"")
A66: Totaal | I66: =IF(SUM(I60:I65)=0,"",SUM(I60:I65))
A68: Bijzonderheden
A76: Totaalprijs per jaar | I76: =IF(SUM(IF(I14="",0,I14)+IF(I33="",0,I33)+IF(I44="",0,I44)+IF(I57="",0,I57)+IF(I66="",0,I66))=0,"",SUM(IF(I14="",0,I14)+IF(I33="",0,I33)+IF(I44="",0,I44)+IF(I57="",0,I57)+IF(I66="",0,I66)))
A78: Maandfactuur (werkzaamheden met een frequentie tot 1x per maand) | I78: =IFERROR(I11/12,"")
A80: Kwaliteitsinspecties | E80: Prijs | F80: Aantal | I80: Prijs per jaar
A81: =Verzamelblad!D3 -> VSR | E81: =VLOOKUP($H$4,Verzamelblad!$A$5:$EK$19,9,0) -> 100 | F81: =VLOOKUP($H$4,Verzamelblad!$A$5:$EK$19,10,0) -> 3 | I81: =IFERROR(IF(SUM(E81*F81)=0,"",SUM(E81*F81)),"") -> 300
A84: cat | D84: m2/jr | E84: prijs/jr
A85: =IF(K19=0,"",K19) -> A | D85: =IF(A85="",0,VLOOKUP(A85,INDIRECT("'"&$H$5&"'!C500:M515"),11,0)) -> 0 | E85: =IF(L19=0,"",IF(L19="","",SUM(D85/L19)*Uurtariefopbouw!$F$15))
A86: =IF(K20=0,"",K20) -> B | D86: =IF(A86="",0,VLOOKUP(A86,INDIRECT("'"&$H$5&"'!C500:M515"),11,0)) -> 4160 | E86: =IF(L20=0,"",IF(L20="","",SUM(D86/L20)*Uurtariefopbouw!$F$15))
A87: =IF(K21=0,"",K21) -> C | D87: =IF(A87="",0,VLOOKUP(A87,INDIRECT("'"&$H$5&"'!C500:M515"),11,0)) -> 10920 | E87: =IF(L21=0,"",IF(L21="","",SUM(D87/L21)*Uurtariefopbouw!$F$15))
A88: =IF(K22=0,"",K22) -> D | D88: =IF(A88="",0,VLOOKUP(A88,INDIRECT("'"&$H$5&"'!C500:M515"),11,0)) -> 0 | E88: =IF(L22=0,"",IF(L22="","",SUM(D88/L22)*Uurtariefopbouw!$F$15))
A89: =IF(K23=0,"",K23) -> E | D89: =IF(A89="",0,VLOOKUP(A89,INDIRECT("'"&$H$5&"'!C500:M515"),11,0)) -> 4160 | E89: =IF(L23=0,"",IF(L23="","",SUM(D89/L23)*Uurtariefopbouw!$F$15))
A90: =IF(K24=0,"",K24) -> F | D90: =IF(A90="",0,VLOOKUP(A90,INDIRECT("'"&$H$5&"'!C500:M515"),11,0)) -> 0 | E90: =IF(L24=0,"",IF(L24="","",SUM(D90/L24)*Uurtariefopbouw!$F$15))
A91: =IF(K25=0,"",K25) -> G | D91: =IF(A91="",0,VLOOKUP(A91,INDIRECT("'"&$H$5&"'!C500:M515"),11,0)) -> 5720 | E91: =IF(L25=0,"",IF(L25="","",SUM(D91/L25)*Uurtariefopbouw!$F$15))
A92: =IF(K26=0,"",K26) -> H | D92: =IF(A92="",0,VLOOKUP(A92,INDIRECT("'"&$H$5&"'!C500:M515"),11,0)) -> 0 | E92: =IF(L26=0,"",IF(L26="","",SUM(D92/L26)*Uurtariefopbouw!$F$15))
A93: =IF(K27=0,"",K27) -> I | D93: =IF(A93="",0,VLOOKUP(A93,INDIRECT("'"&$H$5&"'!C500:M515"),11,0)) -> 0 | E93: =IF(L27=0,"",IF(L27="","",SUM(D93/L27)*Uurtariefopbouw!$F$15))
A94: =IF(K28=0,"",K28) -> J | D94: =IF(A94="",0,VLOOKUP(A94,INDIRECT("'"&$H$5&"'!C500:M515"),11,0)) -> 0 | E94: =IF(L28=0,"",IF(L28="","",SUM(D94/L28)*Uurtariefopbouw!$F$15))
A95: =IF(K29=0,"",K29) -> K | D95: =IF(A95="",0,VLOOKUP(A95,INDIRECT("'"&$H$5&"'!C500:M515"),11,0)) -> 0 | E95: =IF(L29=0,"",IF(L29="","",SUM(D95/L29)*Uurtariefopbouw!$F$15))
A96: =IF(K30=0,"",K30) | D96: =IF(A96="",0,VLOOKUP(A96,INDIRECT("'"&$H$5&"'!C500:M515"),11,0)) -> 0 | E96: =IF(L30=0,"",IF(L30="","",SUM(D96/L30)*Uurtariefopbouw!$F$15))
... A99: =IF(K33=0,"",K33) | D99: =IF(A99="",0,VLOOKUP(A99,INDIRECT("'"&$H$5&"'!C500:M515"),11,0)) -> 0 | E99: =IF(L33=0,"",IF(L33="","",SUM(D99/L33)*Uurtariefopbouw!$F$15))
A100: Totaal: | D100: =SUM(D85:D99) -> 24960 | E100: =SUM(E85:E99) -> 0

Sheet 3a
A1: ='3'!H4 -> 3 | B1: Object: | D1: =IF(VLOOKUP(A1,Verzamelblad!A5:E19,3)=0,"",VLOOKUP(A1,Verzamelblad!A5:E19,3)) -> Gemeentewerf Surhuisterveen
B2: Adres, plaats: | D2: =IF(CONCATENATE(VLOOKUP(A1,Verzamelblad!A5:E19,4)," te ",VLOOKUP(A1,Verzamelblad!A5:E19,5))=" te ","",CONCATENATE(VLOOKUP(A1,Verzamelblad!A5:E19,4)," te ",VLOOKUP(A1,Verzamelblad!A5:E19,5))) -> Badlaan 2a te Surhuisterveen
A3: bwdl | B3: nr | C3: Ruimte | D3: ED | E3: Cat. | F3: Tapijt | G3: Linoleum | H3: PVC | I3: Hout | J3: Epoxy | K3: m2 | L3: Freq | M3: m2 smk/jr
C4: Begane grond
B5: 1 | C5: Entree | E5: E | F5: 2 | J5: 14 | K5: =SUM(F5:J5) -> 16 | L5: =IF(D5="X",0,IF(E5="",0,IF(E5="X",0,VLOOKUP(E5,$F$539:$G$553,2)))) -> 260 | M5: =SUM(K5*L5) -> 4160
B6: 2 | C6: Wasruimte | E6: G | J6: 10 | K6: =SUM(F6:J6) -> 10 | L6: =IF(D6="X",0,IF(E6="",0,IF(E6="X",0,VLOOKUP(E6,$F$539:$G$553,2)))) -> 260 | M6: =SUM(K6*L6) -> 2600
B7: 3 | C7: Dames Miva Douche | E7: G | J7: 4 | K7: =SUM(F7:J7) -> 4 | L7: =IF(D7="X",0,IF(E7="",0,IF(E7="X",0,VLOOKUP(E7,$F$539:$G$553,2)))) -> 260 | M7: =SUM(K7*L7) -> 1040
B8: 4 | C8: Stalling / Garage / Wegen | E8: X | J8: 160 | K8: =SUM(F8:J8) -> 160 | L8: =IF(D8="X",0,IF(E8="",0,IF(E8="X",0,VLOOKUP(E8,$F$539:$G$553,2)))) -> 0 | M8: =SUM(K8*L8) -> 0
B9: 5 | C9: Stalling | E9: X | J9: 63 | K9: =SUM(F9:J9) -> 63 | L9: =IF(D9="X",0,IF(E9="",0,IF(E9="X",0,VLOOKUP(E9,$F$539:$G$553,2)))) -> 0 | M9: =SUM(K9*L9) -> 0
B10: 6 | C10: Heren toilet | E10: G | J10: 8 | K10: =SUM(F10:J10) -> 8 | L10: =IF(D10="X",0,IF(E10="",0,IF(E10="X",0,VLOOKUP(E10,$F$539:$G$553,2)))) -> 260 | M10: =SUM(K10*L10) -> 2080
B11: 7 | C11: Kantine | E11: C | J11: 42 | K11: =SUM(F11:J11) -> 42 | L11: =IF(D11="X",0,IF(E11="",0,IF(E11="X",0,VLOOKUP(E11,$F$539:$G$553,2)))) -> 260 | M11: =SUM(K11*L11) -> 10920
B12: 8 | C12: Berging | E12: X | J12: 2 | K12: =SUM(F12:J12) -> 2 | L12: =IF(D12="X",0,IF(E12="",0,IF(E12="X",0,VLOOKUP(E12,$F$539:$G$553,2)))) -> 0 | M12: =SUM(K12*L12) -> 0
B13: 9 | C13: Kantoor | E13: B | J13: 16 | K13: =SUM(F13:J13) -> 16 | L13: =IF(D13="X",0,IF(E13="",0,IF(E13="X",0,VLOOKUP(E13,$F$539:$G$553,2)))) -> 260 | M13: =SUM(K13*L13) -> 4160
B14: 10 | C14: Stalling / Garage / Groen | E14: X | J14: 97 | K14: =SUM(F14:J14) -> 97 | L14: =IF(D14="X",0,IF(E14="",0,IF(E14="X",0,VLOOKUP(E14,$F$539:$G$553,2)))) -> 0 | M14: =SUM(K14*L14) -> 0
C15: Totaal | F15: =SUM(F5:F14) -> 2 | G15: =SUM(G5:G14) -> 0 | H15: =SUM(H5:H14) -> 0 | I15: =SUM(I5:I14) -> 0 | J15: =SUM(J5:J14) -> 416 | K15: =SUM(F15:J15) -> 418
K17: =SUM(F17:J17) -> 0 | L17: =IF(D17="X",0,IF(E17="",0,IF(E17="X",0,VLOOKUP(E17,$F$539:$G$553,2)))) -> 0 | M17: =SUM(K17*L17) -> 0
K18: =SUM(F18:J18) -> 0 | L18: =IF(D18="X",0,IF(E18="",0,IF(E18="X",0,VLOOKUP(E18,$F$539:$G$553,2)))) -> 0 | M18: =SUM(K18*L18) -> 0
K19: =SUM(F19:J19) -> 0 | L19: =IF(D19="X",0,IF(E19="",0,IF(E19="X",0,VLOOKUP(E19,$F$539:$G$553,2)))) -> 0 | M19: =SUM(K19*L19) -> 0
K20: =SUM(F20:J20) -> 0 | L20: =IF(D20="X",0,IF(E20="",0,IF(E20="X",0,VLOOKUP(E20,$F$539:$G$553,2)))) -> 0 | M20: =SUM(K20*L20) -> 0
K21: =SUM(F21:J21) -> 0 | L21: =IF(D21="X",0,IF(E21="",0,IF(E21="X",0,VLOOKUP(E21,$F$539:$G$553,2)))) -> 0 | M21: =SUM(K21*L21) -> 0
K22: =SUM(F22:J22) -> 0 | L22: =IF(D22="X",0,IF(E22="",0,IF(E22="X",0,VLOOKUP(E22,$F$539:$G$553,2)))) -> 0 | M22: =SUM(K22*L22) -> 0
K23: =SUM(F23:J23) -> 0 | L23: =IF(D23="X",0,IF(E23="",0,IF(E23="X",0,VLOOKUP(E23,$F$539:$G$553,2)))) -> 0 | M23: =SUM(K23*L23) -> 0
K24: =SUM(F24:J24) -> 0 | L24: =IF(D24="X",0,IF(E24="",0,IF(E24="X",0,VLOOKUP(E24,$F$539:$G$553,2)))) -> 0 | M24: =SUM(K24*L24) -> 0
K25: =SUM(F25:J25) -> 0 | L25: =IF(D25="X",0,IF(E25="",0,IF(E25="X",0,VLOOKUP(E25,$F$539:$G$553,2)))) -> 0 | M25: =SUM(K25*L25) -> 0
K26: =SUM(F26:J26) -> 0 | L26: =IF(D26="X",0,IF(E26="",0,IF(E26="X",0,VLOOKUP(E26,$F$539:$G$553,2)))) -> 0 | M26: =SUM(K26*L26) -> 0
K27: =SUM(F27:J27) -> 0 | L27: =IF(D27="X",0,IF(E27="",0,IF(E27="X",0,VLOOKUP(E27,$F$539:$G$553,2)))) -> 0 | M27: =SUM(K27*L27) -> 0
K28: =SUM(F28:J28) -> 0 | L28: =IF(D28="X",0,IF(E28="",0,IF(E28="X",0,VLOOKUP(E28,$F$539:$G$553,2)))) -> 0 | M28: =SUM(K28*L28) -> 0
... K498: =SUM(F498:J498) -> 0 | L498: =IF(D498="X",0,IF(E498="",0,IF(E498="X",0,VLOOKUP(E498,$F$539:$G$553,2)))) -> 0 | M498: =SUM(K498*L498) -> 0
C499: Categorie: | M499: Tot/jr
C500: =IF(F539="","Vrije categorie",F539) -> A | F500: =SUMPRODUCT(--($E$4:$E$498=C500),--($D$4:$D$498=""),$F$4:$F$498) -> 0 | G500: =SUMPRODUCT(--($E$4:$E$498=C500),--($D$4:$D$498=""),$G$4:$G$498) -> 0 | H500: =SUMPRODUCT(--($E$4:$E$498=C500),--($D$4:$D$498=""),$H$4:$H$498) -> 0 | I500: =SUMPRODUCT(--($E$4:$E$498=C500),--($D$4:$D$498=""),$I$4:$I$498) -> 0 | J500: =SUMPRODUCT(--($E$4:$E$498=C500),--($D$4:$D$498=""),$J$4:$J$498) -> 0 | K500: =SUM(F500:J500) -> 0 | M500: =SUMPRODUCT(--($E$4:$E$498=C500),--($D$4:$D$498=""),$M$4:$M$498) -> 0
C501: =IF(F540="","Vrije categorie",F540) -> B | F501: =SUMPRODUCT(--($E$4:$E$498=C501),--($D$4:$D$498=""),$F$4:$F$498) -> 0 | G501: =SUMPRODUCT(--($E$4:$E$498=C501),--($D$4:$D$498=""),$G$4:$G$498) -> 0 | H501: =SUMPRODUCT(--($E$4:$E$498=C501),--($D$4:$D$498=""),$H$4:$H$498) -> 0 | I501: =SUMPRODUCT(--($E$4:$E$498=C501),--($D$4:$D$498=""),$I$4:$I$498) -> 0 | J501: =SUMPRODUCT(--($E$4:$E$498=C501),--($D$4:$D$498=""),$J$4:$J$498) -> 16 | K501: =SUM(F501:J501) -> 16 | M501: =SUMPRODUCT(--($E$4:$E$498=C501),--($D$4:$D$498=""),$M$4:$M$498) -> 4160
C502: =IF(F541="","Vrije categorie",F541) -> C | F502: =SUMPRODUCT(--($E$4:$E$498=C502),--($D$4:$D$498=""),$F$4:$F$498) -> 0 | G502: =SUMPRODUCT(--($E$4:$E$498=C502),--($D$4:$D$498=""),$G$4:$G$498) -> 0 | H502: =SUMPRODUCT(--($E$4:$E$498=C502),--($D$4:$D$498=""),$H$4:$H$498) -> 0 | I502: =SUMPRODUCT(--($E$4:$E$498=C502),--($D$4:$D$498=""),$I$4:$I$498) -> 0 | J502: =SUMPRODUCT(--($E$4:$E$498=C502),--($D$4:$D$498=""),$J$4:$J$498) -> 42 | K502: =SUM(F502:J502) -> 42 | M502: =SUMPRODUCT(--($E$4:$E$498=C502),--($D$4:$D$498=""),$M$4:$M$498) -> 10920
C503: =IF(F542="","Vrije categorie",F542) -> D | F503: =SUMPRODUCT(--($E$4:$E$498=C503),--($D$4:$D$498=""),$F$4:$F$498) -> 0 | G503: =SUMPRODUCT(--($E$4:$E$498=C503),--($D$4:$D$498=""),$G$4:$G$498) -> 0 | H503: =SUMPRODUCT(--($E$4:$E$498=C503),--($D$4:$D$498=""),$H$4:$H$498) -> 0 | I503: =SUMPRODUCT(--($E$4:$E$498=C503),--($D$4:$D$498=""),$I$4:$I$498) -> 0 | J503: =SUMPRODUCT(--($E$4:$E$498=C503),--($D$4:$D$498=""),$J$4:$J$498) -> 0 | K503: =SUM(F503:J503) -> 0 | M503: =SUMPRODUCT(--($E$4:$E$498=C503),--($D$4:$D$498=""),$M$4:$M$498) -> 0
C504: =IF(F543="","Vrije categorie",F543) -> E | F504: =SUMPRODUCT(--($E$4:$E$498=C504),--($D$4:$D$498=""),$F$4:$F$498) -> 2 | G504: =SUMPRODUCT(--($E$4:$E$498=C504),--($D$4:$D$498=""),$G$4:$G$498) -> 0 | H504: =SUMPRODUCT(--($E$4:$E$498=C504),--($D$4:$D$498=""),$H$4:$H$498) -> 0 | I504: =SUMPRODUCT(--($E$4:$E$498=C504),--($D$4:$D$498=""),$I$4:$I$498) -> 0 | J504: =SUMPRODUCT(--($E$4:$E$498=C504),--($D$4:$D$498=""),$J$4:$J$498) -> 14 | K504: =SUM(F504:J504) -> 16 | M504: =SUMPRODUCT(--($E$4:$E$498=C504),--($D$4:$D$498=""),$M$4:$M$498) -> 4160
C505: =IF(F544="","Vrije categorie",F544) -> F | F505: =SUMPRODUCT(--($E$4:$E$498=C505),--($D$4:$D$498=""),$F$4:$F$498) -> 0 | G505: =SUMPRODUCT(--($E$4:$E$498=C505),--($D$4:$D$498=""),$G$4:$G$498) -> 0 | H505: =SUMPRODUCT(--($E$4:$E$498=C505),--($D$4:$D$498=""),$H$4:$H$498) -> 0 | I505: =SUMPRODUCT(--($E$4:$E$498=C505),--($D$4:$D$498=""),$I$4:$I$498) -> 0 | J505: =SUMPRODUCT(--($E$4:$E$498=C505),--($D$4:$D$498=""),$J$4:$J$498) -> 0 | K505: =SUM(F505:J505) -> 0 | M505: =SUMPRODUCT(--($E$4:$E$498=C505),--($D$4:$D$498=""),$M$4:$M$498) -> 0
C506: =IF(F545="","Vrije categorie",F545) -> G | F506: =SUMPRODUCT(--($E$4:$E$498=C506),--($D$4:$D$498=""),$F$4:$F$498) -> 0 | G506: =SUMPRODUCT(--($E$4:$E$498=C506),--($D$4:$D$498=""),$G$4:$G$498) -> 0 | H506: =SUMPRODUCT(--($E$4:$E$498=C506),--($D$4:$D$498=""),$H$4:$H$498) -> 0 | I506: =SUMPRODUCT(--($E$4:$E$498=C506),--($D$4:$D$498=""),$I$4:$I$498) -> 0 | J506: =SUMPRODUCT(--($E$4:$E$498=C506),--($D$4:$D$498=""),$J$4:$J$498) -> 22 | K506: =SUM(F506:J506) -> 22 | M506: =SUMPRODUCT(--($E$4:$E$498=C506),--($D$4:$D$498=""),$M$4:$M$498) -> 5720
C507: =IF(F546="","Vrije categorie",F546) -> H | F507: =SUMPRODUCT(--($E$4:$E$498=C507),--($D$4:$D$498=""),$F$4:$F$498) -> 0 | G507: =SUMPRODUCT(--($E$4:$E$498=C507),--($D$4:$D$498=""),$G$4:$G$498) -> 0 | H507: =SUMPRODUCT(--($E$4:$E$498=C507),--($D$4:$D$498=""),$H$4:$H$498) -> 0 | I507: =SUMPRODUCT(--($E$4:$E$498=C507),--($D$4:$D$498=""),$I$4:$I$498) -> 0 | J507: =SUMPRODUCT(--($E$4:$E$498=C507),--($D$4:$D$498=""),$J$4:$J$498) -> 0 | K507: =SUM(F507:J507) -> 0 | M507: =SUMPRODUCT(--($E$4:$E$498=C507),--($D$4:$D$498=""),$M$4:$M$498) -> 0
C508: =IF(F547="","Vrije categorie",F547) -> I | F508: =SUMPRODUCT(--($E$4:$E$498=C508),--($D$4:$D$498=""),$F$4:$F$498) -> 0 | G508: =SUMPRODUCT(--($E$4:$E$498=C508),--($D$4:$D$498=""),$G$4:$G$498) -> 0 | H508: =SUMPRODUCT(--($E$4:$E$498=C508),--($D$4:$D$498=""),$H$4:$H$498) -> 0 | I508: =SUMPRODUCT(--($E$4:$E$498=C508),--($D$4:$D$498=""),$I$4:$I$498) -> 0 | J508: =SUMPRODUCT(--($E$4:$E$498=C508),--($D$4:$D$498=""),$J$4:$J$498) -> 0 | K508: =SUM(F508:J508) -> 0 | M508: =SUMPRODUCT(--($E$4:$E$498=C508),--($D$4:$D$498=""),$M$4:$M$498) -> 0
C509: =IF(F548="","Vrije categorie",F548) -> J | F509: =SUMPRODUCT(--($E$4:$E$498=C509),--($D$4:$D$498=""),$F$4:$F$498) -> 0 | G509: =SUMPRODUCT(--($E$4:$E$498=C509),--($D$4:$D$498=""),$G$4:$G$498) -> 0 | H509: =SUMPRODUCT(--($E$4:$E$498=C509),--($D$4:$D$498=""),$H$4:$H$498) -> 0 | I509: =SUMPRODUCT(--($E$4:$E$498=C509),--($D$4:$D$498=""),$I$4:$I$498) -> 0 | J509: =SUMPRODUCT(--($E$4:$E$498=C509),--($D$4:$D$498=""),$J$4:$J$498) -> 0 | K509: =SUM(F509:J509) -> 0 | M509: =SUMPRODUCT(--($E$4:$E$498=C509),--($D$4:$D$498=""),$M$4:$M$498) -> 0
C510: =IF(F549="","Vrije categorie",F549) -> K | F510: =SUMPRODUCT(--($E$4:$E$498=C510),--($D$4:$D$498=""),$F$4:$F$498) -> 0 | G510: =SUMPRODUCT(--($E$4:$E$498=C510),--($D$4:$D$498=""),$G$4:$G$498) -> 0 | H510: =SUMPRODUCT(--($E$4:$E$498=C510),--($D$4:$D$498=""),$H$4:$H$498) -> 0 | I510: =SUMPRODUCT(--($E$4:$E$498=C510),--($D$4:$D$498=""),$I$4:$I$498) -> 0 | J510: =SUMPRODUCT(--($E$4:$E$498=C510),--($D$4:$D$498=""),$J$4:$J$498) -> 0 | K510: =SUM(F510:J510) -> 0 | M510: =SUMPRODUCT(--($E$4:$E$498=C510),--($D$4:$D$498=""),$M$4:$M$498) -> 0
C511: =IF(F550="","Vrije categorie",F550) -> X | F511: =SUMPRODUCT(--($E$4:$E$498=C511),--($D$4:$D$498=""),$F$4:$F$498) -> 0 | G511: =SUMPRODUCT(--($E$4:$E$498=C511),--($D$4:$D$498=""),$G$4:$G$498) -> 0 | H511: =SUMPRODUCT(--($E$4:$E$498=C511),--($D$4:$D$498=""),$H$4:$H$498) -> 0 | I511: =SUMPRODUCT(--($E$4:$E$498=C511),--($D$4:$D$498=""),$I$4:$I$498) -> 0 | J511: =SUMPRODUCT(--($E$4:$E$498=C511),--($D$4:$D$498=""),$J$4:$J$498) -> 322 | K511: =SUM(F511:J511) -> 322 | M511: =SUMPRODUCT(--($E$4:$E$498=C511),--($D$4:$D$498=""),$M$4:$M$498) -> 0
... C514: =IF(F553="","Vrije categorie",F553) -> Vrije categorie | F514: =SUMPRODUCT(--($E$4:$E$498=C514),--($D$4:$D$498=""),$F$4:$F$498) -> 0 | G514: =SUMPRODUCT(--($E$4:$E$498=C514),--($D$4:$D$498=""),$G$4:$G$498) -> 0 | H514: =SUMPRODUCT(--($E$4:$E$498=C514),--($D$4:$D$498=""),$H$4:$H$498) -> 0 | I514: =SUMPRODUCT(--($E$4:$E$498=C514),--($D$4:$D$498=""),$I$4:$I$498) -> 0 | J514: =SUMPRODUCT(--($E$4:$E$498=C514),--($D$4:$D$498=""),$J$4:$J$498) -> 0 | K514: =SUM(F514:J514) -> 0 | M514: =SUMPRODUCT(--($E$4:$E$498=C514),--($D$4:$D$498=""),$M$4:$M$498) -> 0
C515: Totaal uitbesteden: | F515: =SUM(F500:F514) -> 2 | G515: =SUM(G500:G514) -> 0 | H515: =SUM(H500:H514) -> 0 | I515: =SUM(I500:I514) -> 0 | J515: =SUM(J500:J514) -> 416 | K515: =SUM(K500:K514) -> 418 | M515: =SUM(M499:M514) -> 24960
C517: Categorie X (nio) | F517: {=SUMPRODUCT(--($E$4:$E$498="X"),$F$4:$F$498)} -> 0 | G517: {=SUMPRODUCT(--($E$4:$E$498="X"),G4:G498)} -> 0 | H517: {=SUMPRODUCT(--($E$4:$E$498="X"),H4:H498)} -> 0 | I517: {=SUMPRODUCT(--($E$4:$E$498="X"),I4:I498)} -> 0 | J517: {=SUMPRODUCT(--($E$4:$E$498="X"),J4:J498)} -> 322 | K517: =SUM(F517:J517) -> 322
C519: Eigen dienst:
C520: =C500 -> A | F520: =SUMPRODUCT(--($E$4:$E$498=C520),--($D$4:$D$498="X"),$F$4:$F$498) -> 0 | G520: =SUMPRODUCT(--($E$4:$E$498=C520),--($D$4:$D$498="X"),$G$4:$G$498) -> 0 | H520: =SUMPRODUCT(--($E$4:$E$498=C520),--($D$4:$D$498="X"),$H$4:$H$498) -> 0 | I520: =SUMPRODUCT(--($E$4:$E$498=C520),--($D$4:$D$498="X"),$I$4:$I$498) -> 0 | J520: =SUMPRODUCT(--($E$4:$E$498=C520),--($D$4:$D$498="X"),$J$4:$J$498) -> 0 | K520: =SUM(F520:J520) -> 0
C521: =C501 -> B | F521: =SUMPRODUCT(--($E$4:$E$498=C521),--($D$4:$D$498="X"),$F$4:$F$498) -> 0 | G521: =SUMPRODUCT(--($E$4:$E$498=C521),--($D$4:$D$498="X"),$G$4:$G$498) -> 0 | H521: =SUMPRODUCT(--($E$4:$E$498=C521),--($D$4:$D$498="X"),$H$4:$H$498) -> 0 | I521: =SUMPRODUCT(--($E$4:$E$498=C521),--($D$4:$D$498="X"),$I$4:$I$498) -> 0 | J521: =SUMPRODUCT(--($E$4:$E$498=C521),--($D$4:$D$498="X"),$J$4:$J$498) -> 0 | K521: =SUM(F521:J521) -> 0
C522: =C502 -> C | F522: =SUMPRODUCT(--($E$4:$E$498=C522),--($D$4:$D$498="X"),$F$4:$F$498) -> 0 | G522: =SUMPRODUCT(--($E$4:$E$498=C522),--($D$4:$D$498="X"),$G$4:$G$498) -> 0 | H522: =SUMPRODUCT(--($E$4:$E$498=C522),--($D$4:$D$498="X"),$H$4:$H$498) -> 0 | I522: =SUMPRODUCT(--($E$4:$E$498=C522),--($D$4:$D$498="X"),$I$4:$I$498) -> 0 | J522: =SUMPRODUCT(--($E$4:$E$498=C522),--($D$4:$D$498="X"),$J$4:$J$498) -> 0 | K522: =SUM(F522:J522) -> 0
C523: =C503 -> D | F523: =SUMPRODUCT(--($E$4:$E$498=C523),--($D$4:$D$498="X"),$F$4:$F$498) -> 0 | G523: =SUMPRODUCT(--($E$4:$E$498=C523),--($D$4:$D$498="X"),$G$4:$G$498) -> 0 | H523: =SUMPRODUCT(--($E$4:$E$498=C523),--($D$4:$D$498="X"),$H$4:$H$498) -> 0 | I523: =SUMPRODUCT(--($E$4:$E$498=C523),--($D$4:$D$498="X"),$I$4:$I$498) -> 0 | J523: =SUMPRODUCT(--($E$4:$E$498=C523),--($D$4:$D$498="X"),$J$4:$J$498) -> 0 | K523: =SUM(F523:J523) -> 0
C524: =C504 -> E | F524: =SUMPRODUCT(--($E$4:$E$498=C524),--($D$4:$D$498="X"),$F$4:$F$498) -> 0 | G524: =SUMPRODUCT(--($E$4:$E$498=C524),--($D$4:$D$498="X"),$G$4:$G$498) -> 0 | H524: =SUMPRODUCT(--($E$4:$E$498=C524),--($D$4:$D$498="X"),$H$4:$H$498) -> 0 | I524: =SUMPRODUCT(--($E$4:$E$498=C524),--($D$4:$D$498="X"),$I$4:$I$498) -> 0 | J524: =SUMPRODUCT(--($E$4:$E$498=C524),--($D$4:$D$498="X"),$J$4:$J$498) -> 0 | K524: =SUM(F524:J524) -> 0
C525: =C505 -> F | F525: =SUMPRODUCT(--($E$4:$E$498=C525),--($D$4:$D$498="X"),$F$4:$F$498) -> 0 | G525: =SUMPRODUCT(--($E$4:$E$498=C525),--($D$4:$D$498="X"),$G$4:$G$498) -> 0 | H525: =SUMPRODUCT(--($E$4:$E$498=C525),--($D$4:$D$498="X"),$H$4:$H$498) -> 0 | I525: =SUMPRODUCT(--($E$4:$E$498=C525),--($D$4:$D$498="X"),$I$4:$I$498) -> 0 | J525: =SUMPRODUCT(--($E$4:$E$498=C525),--($D$4:$D$498="X"),$J$4:$J$498) -> 0 | K525: =SUM(F525:J525) -> 0
C526: =C506 -> G | F526: =SUMPRODUCT(--($E$4:$E$498=C526),--($D$4:$D$498="X"),$F$4:$F$498) -> 0 | G526: =SUMPRODUCT(--($E$4:$E$498=C526),--($D$4:$D$498="X"),$G$4:$G$498) -> 0 | H526: =SUMPRODUCT(--($E$4:$E$498=C526),--($D$4:$D$498="X"),$H$4:$H$498) -> 0 | I526: =SUMPRODUCT(--($E$4:$E$498=C526),--($D$4:$D$498="X"),$I$4:$I$498) -> 0 | J526: =SUMPRODUCT(--($E$4:$E$498=C526),--($D$4:$D$498="X"),$J$4:$J$498) -> 0 | K526: =SUM(F526:J526) -> 0
C527: =C507 -> H | F527: =SUMPRODUCT(--($E$4:$E$498=C527),--($D$4:$D$498="X"),$F$4:$F$498) -> 0 | G527: =SUMPRODUCT(--($E$4:$E$498=C527),--($D$4:$D$498="X"),$G$4:$G$498) -> 0 | H527: =SUMPRODUCT(--($E$4:$E$498=C527),--($D$4:$D$498="X"),$H$4:$H$498) -> 0 | I527: =SUMPRODUCT(--($E$4:$E$498=C527),--($D$4:$D$498="X"),$I$4:$I$498) -> 0 | J527: =SUMPRODUCT(--($E$4:$E$498=C527),--($D$4:$D$498="X"),$J$4:$J$498) -> 0 | K527: =SUM(F527:J527) -> 0
C528: =C508 -> I | F528: =SUMPRODUCT(--($E$4:$E$498=C528),--($D$4:$D$498="X"),$F$4:$F$498) -> 0 | G528: =SUMPRODUCT(--($E$4:$E$498=C528),--($D$4:$D$498="X"),$G$4:$G$498) -> 0 | H528: =SUMPRODUCT(--($E$4:$E$498=C528),--($D$4:$D$498="X"),$H$4:$H$498) -> 0 | I528: =SUMPRODUCT(--($E$4:$E$498=C528),--($D$4:$D$498="X"),$I$4:$I$498) -> 0 | J528: =SUMPRODUCT(--($E$4:$E$498=C528),--($D$4:$D$498="X"),$J$4:$J$498) -> 0 | K528: =SUM(F528:J528) -> 0
C529: =C509 -> J | F529: =SUMPRODUCT(--($E$4:$E$498=C529),--($D$4:$D$498="X"),$F$4:$F$498) -> 0 | G529: =SUMPRODUCT(--($E$4:$E$498=C529),--($D$4:$D$498="X"),$G$4:$G$498) -> 0 | H529: =SUMPRODUCT(--($E$4:$E$498=C529),--($D$4:$D$498="X"),$H$4:$H$498) -> 0 | I529: =SUMPRODUCT(--($E$4:$E$498=C529),--($D$4:$D$498="X"),$I$4:$I$498) -> 0 | J529: =SUMPRODUCT(--($E$4:$E$498=C529),--($D$4:$D$498="X"),$J$4:$J$498) -> 0 | K529: =SUM(F529:J529) -> 0
C530: =C510 -> K | F530: =SUMPRODUCT(--($E$4:$E$498=C530),--($D$4:$D$498="X"),$F$4:$F$498) -> 0 | G530: =SUMPRODUCT(--($E$4:$E$498=C530),--($D$4:$D$498="X"),$G$4:$G$498) -> 0 | H530: =SUMPRODUCT(--($E$4:$E$498=C530),--($D$4:$D$498="X"),$H$4:$H$498) -> 0 | I530: =SUMPRODUCT(--($E$4:$E$498=C530),--($D$4:$D$498="X"),$I$4:$I$498) -> 0 | J530: =SUMPRODUCT(--($E$4:$E$498=C530),--($D$4:$D$498="X"),$J$4:$J$498) -> 0 | K530: =SUM(F530:J530) -> 0
C531: =C511 -> X | F531: =SUMPRODUCT(--($E$4:$E$498=C531),--($D$4:$D$498="X"),$F$4:$F$498) -> 0 | G531: =SUMPRODUCT(--($E$4:$E$498=C531),--($D$4:$D$498="X"),$G$4:$G$498) -> 0 | H531: =SUMPRODUCT(--($E$4:$E$498=C531),--($D$4:$D$498="X"),$H$4:$H$498) -> 0 | I531: =SUMPRODUCT(--($E$4:$E$498=C531),--($D$4:$D$498="X"),$I$4:$I$498) -> 0 | J531: =SUMPRODUCT(--($E$4:$E$498=C531),--($D$4:$D$498="X"),$J$4:$J$498) -> 0 | K531: =SUM(F531:J531) -> 0
... C534: =C514 -> Vrije categorie | F534: =SUMPRODUCT(--($E$4:$E$498=C534),--($D$4:$D$498="X"),$F$4:$F$498) -> 0 | G534: =SUMPRODUCT(--($E$4:$E$498=C534),--($D$4:$D$498="X"),$G$4:$G$498) -> 0 | H534: =SUMPRODUCT(--($E$4:$E$498=C534),--($D$4:$D$498="X"),$H$4:$H$498) -> 0 | I534: =SUMPRODUCT(--($E$4:$E$498=C534),--($D$4:$D$498="X"),$I$4:$I$498) -> 0 | J534: =SUMPRODUCT(--($E$4:$E$498=C534),--($D$4:$D$498="X"),$J$4:$J$498) -> 0 | K534: =SUM(F534:J534) -> 0
C535: Totaal eigen dienst: | F535: =SUM(F520:F534) -> 0 | G535: =SUM(G520:G534) -> 0 | H535: =SUM(H520:H534) -> 0 | I535: =SUM(I520:I534) -> 0 | J535: =SUM(J520:J534) -> 0 | K535: =SUM(K520:K534) -> 0
F538: Categorie | G538: Frequentie | I538: Soort glas | K538: M²
F539: =IF('1a'!F539=0,"",'1a'!F539) -> A | G539: =IF('1a'!G539=0,"",'1a'!G539) -> 104 | I539: Glas bi/bui/sep | K539: 62
F540: =IF('1a'!F540=0,"",'1a'!F540) -> B | G540: =IF('1a'!G540=0,"",'1a'!G540) -> 260
F541: =IF('1a'!F541=0,"",'1a'!F541) -> C | G541: =IF('1a'!G541=0,"",'1a'!G541) -> 260
F542: =IF('1a'!F542=0,"",'1a'!F542) -> D | G542: =IF('1a'!G542=0,"",'1a'!G542) -> 260 | I542: Koepel
F543: =IF('1a'!F543=0,"",'1a'!F543) -> E | G543: =IF('1a'!G543=0,"",'1a'!G543) -> 260 | I543: Boeidelen
F544: =IF('1a'!F544=0,"",'1a'!F544) -> F | G544: =IF('1a'!G544=0,"",'1a'!G544) -> 260 | I544: Gevelbeplating
F545: =IF('1a'!F545=0,"",'1a'!F545) -> G | G545: =IF('1a'!G545=0,"",'1a'!G545) -> 260
F546: =IF('1a'!F546=0,"",'1a'!F546) -> H | G546: =IF('1a'!G546=0,"",'1a'!G546) -> 260
F547: =IF('1a'!F547=0,"",'1a'!F547) -> I | G547: =IF('1a'!G547=0,"",'1a'!G547) -> 260
F548: =IF('1a'!F548=0,"",'1a'!F548) -> J | G548: =IF('1a'!G548=0,"",'1a'!G548) -> 260
F549: =IF('1a'!F549=0,"",'1a'!F549) -> K | G549: =IF('1a'!G549=0,"",'1a'!G549) -> 12
F550: =IF('1a'!F550=0,"",'1a'!F550) -> X | G550: =IF('1a'!G550=0,"0",'1a'!G550) -> 0
F551: =IF('1a'!F551=0,"",'1a'!F551) -> Vrije categorie | G551: =IF('1a'!G551=0,"",'1a'!G551)
F552: =IF('1a'!F552=0,"",'1a'!F552) -> Vrije categorie | G552: =IF('1a'!G552=0,"",'1a'!G552)
F553: =IF('1a'!F553=0,"",'1a'!F553) -> Vrije categorie | G553: =IF('1a'!G553=0,"",'1a'!G553)

Sheet 4
D2: =CONCATENATE("Uitvoeringsbepaling"," ",H4,", onderdeel van ",Verzamelblad!A2," ",Verzamelblad!A3) -> Uitvoeringsbepaling 4, onderdeel van Bestek
A4: Object: | B4: =VLOOKUP(H4,Verzamelblad!A5:E19,3) -> De Kruidhof | F4: Uitvoeringsbepaling: | H4: 4
A5: Straat: | B5: =VLOOKUP(H4,Verzamelblad!A5:E19,4) -> Schoolstraat 29B | F5: Inventarisatie: | H5: =CONCATENATE(H4,"a") -> 4a
A6: Plaats: | B6: =VLOOKUP(H4,Verzamelblad!A5:E19,5) -> Buitenpost | F6: Revisiedatum:
A8: Gewenste aanvangstijd schoonmaak: | E8: =VLOOKUP($H$4,Verzamelblad!$A$5:$EK$19,14,0) -> 0
A9: Aantal dagen schoonmaak per jaar: | E9: =VLOOKUP($H$4,Verzamelblad!$A$5:$EK$19,6,0) -> 52
F10: Prijs | G10: Uren | H10: Gem. uren/dag | I10: Jaarpijs | J10: Jaaruren | K10: Verhouding
A11: Werkzaamheden met een frequentie tot 1/20 | F11: =IFERROR(IF(SUM(I11/12)=0,"",SUM(I11/12)),"") | G11: =IFERROR(SUM(J11/12),"") | H11: =IFERROR(SUM(J11/E9),"") | I11: =IFERROR(IF(SUM($I$14*K11)=0,"",SUM($I$14*K11)),"") | J11: =IFERROR(SUM(J14*K11),"")
A12: Schoonmaakwerkzaamheden 3x per jaar | F12: =IFERROR(IF(SUM(I12/3)=0,"",SUM(I12/3)),"") | G12: =IFERROR(SUM(J12/3),"") | I12: =IFERROR(IF(SUM($I$14*K12)=0,"",SUM($I$14*K12)),"") | J12: =IFERROR(SUM(J14*K12),"")
A13: Schoonmaakwerkzaamheden 1x per jaar | F13: =IF(I13=0,"",I13) | G13: =IFERROR(J13,"") | I13: =IFERROR(IF(SUM($I$14*K13)=0,"",SUM($I$14*K13)),"") | J13: =IFERROR(SUM(J14*K13),"")
A14: Totale jaarprijs / jaaruren | F14: =IFERROR(IF(SUM(F11:F13)=0,"",SUM(F11:F13)),"") | G14: =IFERROR(SUM(G11:G13),"") -> 0 | I14: =IFERROR(IF(E100=0,"",E100),"") | J14: =IFERROR(SUM(I14/offertetarief),"") | K14: =IF(SUM(K11:K13)=100%,"","Geen 100%") -> Geen 100%
F15: Per dag | G15: Per jaar
A16: Uren direct toezicht | F16: =IFERROR(SUM((J14*directtoezicht)/E9),"") | G16: =IF(J14="","",SUM(J14*directtoezicht))
K17: Programma categorie | L17: Gemiddelde productie per m²
A18: Prestatie
A19: M² uit te besteden per jaar | D19: =D100 -> 13737.36 | E19: M² uit te besteden per dag | G19: =IFERROR(D100/E9,"") -> 264.18 | H19: Gem. prestatie | I19: =IFERROR(SUM(D19/J14),"") | K19: =IF(INDIRECT("'"&$H$5&"'!F539")="X","",IF(INDIRECT("'"&$H$5&"'!F539")="Vrije categorie","",INDIRECT("'"&$H$5&"'!F539"))) -> A
K20: =IF(INDIRECT("'"&$H$5&"'!F540")="X","",IF(INDIRECT("'"&$H$5&"'!F540")="Vrije categorie","",INDIRECT("'"&$H$5&"'!F540"))) -> B
A21: Extra werkzaamheden | D21: Prijs per | E21: Aantal | F21: Prijs per eenheid | G21: Beurtprijs | H21: Beurten per jaar | I21: Prijs per jaar | K21: =IF(INDIRECT("'"&$H$5&"'!F541")="X","",IF(INDIRECT("'"&$H$5&"'!F541")="Vrije categorie","",INDIRECT("'"&$H$5&"'!F541"))) -> C
A22: =VLOOKUP($H$4,Verzamelblad!$A$5:$EK$19,32,0) -> Dieptereiniging sanitair | D22: =VLOOKUP($H$4,Verzamelblad!$A$5:$EK$19,33,0) -> m² | E22: =VLOOKUP($H$4,Verzamelblad!$A$5:$DE$19,34) -> 0 | G22: =IF(IF(E22="","",SUM(E22*F22))=0,"",IF(E22="","",SUM(E22*F22))) | H22: =VLOOKUP($H$4,Verzamelblad!$A$5:$EK$19,35,0) -> 0 | I22: =IFERROR(IF(IF(H22="op afroep","",SUM(G22*H22))=0,"",IF(H22="op afroep","",SUM(G22*H22))),"") | K22: =IF(INDIRECT("'"&$H$5&"'!F542")="X","",IF(INDIRECT("'"&$H$5&"'!F542")="Vrije categorie","",INDIRECT("'"&$H$5&"'!F542"))) -> D
A23: =VLOOKUP($H$4,Verzamelblad!$A$5:$EK$19,36,0) -> 0 | D23: =VLOOKUP($H$4,Verzamelblad!$A$5:$EK$19,37,0) -> 0 | E23: =VLOOKUP($H$4,Verzamelblad!$A$5:$DE$19,38) -> 0 | G23: =IF(IF(E23="","",SUM(E23*F23))=0,"",IF(E23="","",SUM(E23*F23))) | H23: =VLOOKUP($H$4,Verzamelblad!$A$5:$EK$19,39,0) -> 0 | I23: =IFERROR(IF(IF(H23="op afroep","",SUM(G23*H23))=0,"",IF(H23="op afroep","",SUM(G23*H23))),"") | K23: =IF(INDIRECT("'"&$H$5&"'!F543")="X","",IF(INDIRECT("'"&$H$5&"'!F543")="Vrije categorie","",INDIRECT("'"&$H$5&"'!F543"))) -> E
A24: =VLOOKUP($H$4,Verzamelblad!$A$5:$EK$19,40,0) -> 0 | D24: =VLOOKUP($H$4,Verzamelblad!$A$5:$EK$19,41,0) -> 0 | E24: =VLOOKUP($H$4,Verzamelblad!$A$5:$DE$19,42) -> 0 | G24: =IF(IF(E24="","",SUM(E24*F24))=0,"",IF(E24="","",SUM(E24*F24))) | H24: =VLOOKUP($H$4,Verzamelblad!$A$5:$EK$19,43,0) -> 0 | I24: =IFERROR(IF(IF(H24="op afroep","",SUM(G24*H24))=0,"",IF(H24="op afroep","",SUM(G24*H24))),"") | K24: =IF(INDIRECT("'"&$H$5&"'!F544")="X","",IF(INDIRECT("'"&$H$5&"'!F544")="Vrije categorie","",INDIRECT("'"&$H$5&"'!F544"))) -> F
A25: =VLOOKUP($H$4,Verzamelblad!$A$5:$EK$19,44,0) -> 0 | D25: =VLOOKUP($H$4,Verzamelblad!$A$5:$EK$19,45,0) -> 0 | E25: =VLOOKUP($H$4,Verzamelblad!$A$5:$DE$19,46) -> 0 | G25: =IF(IF(E25="","",SUM(E25*F25))=0,"",IF(E25="","",SUM(E25*F25))) | H25: =VLOOKUP($H$4,Verzamelblad!$A$5:$EK$19,47,0) -> 0 | I25: =IFERROR(IF(IF(H25="op afroep","",SUM(G25*H25))=0,"",IF(H25="op afroep","",SUM(G25*H25))),"") | K25: =IF(INDIRECT("'"&$H$5&"'!F545")="X","",IF(INDIRECT("'"&$H$5&"'!F545")="Vrije categorie","",INDIRECT("'"&$H$5&"'!F545"))) -> G
A26: =VLOOKUP($H$4,Verzamelblad!$A$5:$EK$19,48,0) -> 0 | D26: =VLOOKUP($H$4,Verzamelblad!$A$5:$EK$19,49,0) -> 0 | E26: =VLOOKUP($H$4,Verzamelblad!$A$5:$DE$19,50) -> 0 | G26: =IF(IF(E26="","",SUM(E26*F26))=0,"",IF(E26="","",SUM(E26*F26))) | H26: =VLOOKUP($H$4,Verzamelblad!$A$5:$EK$19,51,0) -> 0 | I26: =IFERROR(IF(IF(H26="op afroep","",SUM(G26*H26))=0,"",IF(H26="op afroep","",SUM(G26*H26))),"") | K26: =IF(INDIRECT("'"&$H$5&"'!F546")="X","",IF(INDIRECT("'"&$H$5&"'!F546")="Vrije categorie","",INDIRECT("'"&$H$5&"'!F546"))) -> H
A27: =VLOOKUP($H$4,Verzamelblad!$A$5:$EK$19,52,0) -> 0 | D27: =VLOOKUP($H$4,Verzamelblad!$A$5:$EK$19,53,0) -> 0 | E27: =VLOOKUP($H$4,Verzamelblad!$A$5:$DE$19,54) -> 0 | G27: =IF(IF(E27="","",SUM(E27*F27))=0,"",IF(E27="","",SUM(E27*F27))) | H27: =VLOOKUP($H$4,Verzamelblad!$A$5:$EK$19,55,0) -> 0 | I27: =IFERROR(IF(IF(H27="op afroep","",SUM(G27*H27))=0,"",IF(H27="op afroep","",SUM(G27*H27))),"") | K27: =IF(INDIRECT("'"&$H$5&"'!F547")="X","",IF(INDIRECT("'"&$H$5&"'!F547")="Vrije categorie","",INDIRECT("'"&$H$5&"'!F547"))) -> I
A28: =VLOOKUP($H$4,Verzamelblad!$A$5:$EK$19,56,0) -> 0 | D28: =VLOOKUP($H$4,Verzamelblad!$A$5:$EK$19,57,0) -> 0 | E28: =VLOOKUP($H$4,Verzamelblad!$A$5:$DE$19,58) -> 0 | G28: =IF(IF(E28="","",SUM(E28*F28))=0,"",IF(E28="","",SUM(E28*F28))) | H28: =VLOOKUP($H$4,Verzamelblad!$A$5:$EK$19,59,0) -> 0 | I28: =IFERROR(IF(IF(H28="op afroep","",SUM(G28*H28))=0,"",IF(H28="op afroep","",SUM(G28*H28))),"") | K28: =IF(INDIRECT("'"&$H$5&"'!F548")="X","",IF(INDIRECT("'"&$H$5&"'!F548")="Vrije categorie","",INDIRECT("'"&$H$5&"'!F548"))) -> J
A29: =VLOOKUP($H$4,Verzamelblad!$A$5:$EK$19,60,0) -> 0 | D29: =VLOOKUP($H$4,Verzamelblad!$A$5:$EK$19,61,0) -> 0 | E29: =VLOOKUP($H$4,Verzamelblad!$A$5:$DE$19,62) -> 0 | G29: =IF(IF(E29="","",SUM(E29*F29))=0,"",IF(E29="","",SUM(E29*F29))) | H29: =VLOOKUP($H$4,Verzamelblad!$A$5:$EK$19,63,0) -> 0 | I29: =IFERROR(IF(IF(H29="op afroep","",SUM(G29*H29))=0,"",IF(H29="op afroep","",SUM(G29*H29))),"") | K29: =IF(INDIRECT("'"&$H$5&"'!F549")="X","",IF(INDIRECT("'"&$H$5&"'!F549")="Vrije categorie","",INDIRECT("'"&$H$5&"'!F549"))) -> K
A30: =VLOOKUP($H$4,Verzamelblad!$A$5:$EK$19,64,0) -> 0 | D30: =VLOOKUP($H$4,Verzamelblad!$A$5:$EK$19,65,0) -> 0 | E30: =VLOOKUP($H$4,Verzamelblad!$A$5:$DE$19,66) -> 0 | G30: =IF(IF(E30="","",SUM(E30*F30))=0,"",IF(E30="","",SUM(E30*F30))) | H30: =VLOOKUP($H$4,Verzamelblad!$A$5:$EK$19,67,0) -> 0 | I30: =IFERROR(IF(IF(H30="op afroep","",SUM(G30*H30))=0,"",IF(H30="op afroep","",SUM(G30*H30))),"") | K30: =IF(INDIRECT("'"&$H$5&"'!F550")="X","",IF(INDIRECT("'"&$H$5&"'!F550")="Vrije categorie","",INDIRECT("'"&$H$5&"'!F550")))
A31: =VLOOKUP($H$4,Verzamelblad!$A$5:$EK$19,68,0) -> 0 | D31: =VLOOKUP($H$4,Verzamelblad!$A$5:$EK$19,69,0) -> 0 | E31: =VLOOKUP($H$4,Verzamelblad!$A$5:$DE$19,70) -> 0 | G31: =IF(IF(E31="","",SUM(E31*F31))=0,"",IF(E31="","",SUM(E31*F31))) | H31: =VLOOKUP($H$4,Verzamelblad!$A$5:$EK$19,71,0) -> 0 | I31: =IFERROR(IF(IF(H31="op afroep","",SUM(G31*H31))=0,"",IF(H31="op afroep","",SUM(G31*H31))),"") | K31: =IF(INDIRECT("'"&$H$5&"'!F551")="X","",IF(INDIRECT("'"&$H$5&"'!F551")="Vrije categorie","",INDIRECT("'"&$H$5&"'!F551")))
A32: =VLOOKUP($H$4,Verzamelblad!$A$5:$EK$19,72,0) -> 0 | D32: =VLOOKUP($H$4,Verzamelblad!$A$5:$EK$19,73,0) -> 0 | E32: =VLOOKUP($H$4,Verzamelblad!$A$5:$DE$19,74) -> 0 | G32: =IF(IF(E32="","",SUM(E32*F32))=0,"",IF(E32="","",SUM(E32*F32))) | H32: =VLOOKUP($H$4,Verzamelblad!$A$5:$EK$19,75,0) -> 0 | I32: =IFERROR(IF(IF(H32="op afroep","",SUM(G32*H32))=0,"",IF(H32="op afroep","",SUM(G32*H32))),"") | K32: =IF(INDIRECT("'"&$H$5&"'!F552")="X","",IF(INDIRECT("'"&$H$5&"'!F552")="Vrije categorie","",INDIRECT("'"&$H$5&"'!F552")))
A33: Totaal | I33: =IF(SUM(I22:I32)=0,"",SUM(I22:I32)) | K33: =IF(INDIRECT("'"&$H$5&"'!F553")="X","",IF(INDIRECT("'"&$H$5&"'!F553")="Vrije categorie","",INDIRECT("'"&$H$5&"'!F553")))
A35: Vloeronderhoud | E35: M² | F35: Prijs per m² | G35: Beurtprijs | H35: Beurten per jaar | I35: Prijs per jaar
A36: =VLOOKUP($H$4,Verzamelblad!$A$5:$EK$19,16,0) -> Schrobben vloeren (extra) | E36: ='4a'!J11 -> 188.5 | G36: =IF(IF(E36="","",SUM(E36*F36))=0,"",IF(E36="","",SUM(E36*F36))) | H36: =VLOOKUP($H$4,Verzamelblad!$A$5:$DE$19,17) -> op afroep | I36: =IFERROR(IF(IF(H36="op afroep","",SUM(G36*H36))=0,"",IF(H36="op afroep","",SUM(G36*H36))),"")
A37: =VLOOKUP($H$4,Verzamelblad!$A$5:$EK$19,18,0) -> 0 | E37: =VLOOKUP($H$4,Verzamelblad!$A$5:$DE$19,106) -> 0 | G37: =IF(IF(E37="","",SUM(E37*F37))=0,"",IF(E37="","",SUM(E37*F37))) | H37: =VLOOKUP($H$4,Verzamelblad!$A$5:$DE$19,19) -> 0 | I37: =IFERROR(IF(IF(H37="op afroep","",SUM(G37*H37))=0,"",IF(H37="op afroep","",SUM(G37*H37))),"")
A38: =VLOOKUP($H$4,Verzamelblad!$A$5:$EK$19,20,0) -> 0 | E38: =VLOOKUP($H$4,Verzamelblad!$A$5:$DE$19,107) -> 0 | G38: =IF(IF(E38="","",SUM(E38*F38))=0,"",IF(E38="","",SUM(E38*F38))) | H38: =VLOOKUP($H$4,Verzamelblad!$A$5:$DE$19,21) -> 0 | I38: =IFERROR(IF(IF(H38="op afroep","",SUM(G38*H38))=0,"",IF(H38="op afroep","",SUM(G38*H38))),"")
A39: =VLOOKUP($H$4,Verzamelblad!$A$5:$EK$19,22,0) -> 0 | E39: =VLOOKUP($H$4,Verzamelblad!$A$5:$DE$19,108) -> 0 | G39: =IF(IF(E39="","",SUM(E39*F39))=0,"",IF(E39="","",SUM(E39*F39))) | H39: =VLOOKUP($H$4,Verzamelblad!$A$5:$DE$19,23) -> 0 | I39: =IFERROR(IF(IF(H39="op afroep","",SUM(G39*H39))=0,"",IF(H39="op afroep","",SUM(G39*H39))),"")
A40: =VLOOKUP($H$4,Verzamelblad!$A$5:$EK$19,24,0) -> 0 | E40: =VLOOKUP($H$4,Verzamelblad!$A$5:$DE$19,109) -> 0 | G40: =IF(IF(E40="","",SUM(E40*F40))=0,"",IF(E40="","",SUM(E40*F40))) | H40: =VLOOKUP($H$4,Verzamelblad!$A$5:$DE$19,25) -> 0 | I40: =IFERROR(IF(IF(H40="op afroep","",SUM(G40*H40))=0,"",IF(H40="op afroep","",SUM(G40*H40))),"")
A41: =VLOOKUP($H$4,Verzamelblad!$A$5:$EK$19,26,0) -> 0 | E41: 0 | G41: =IF(IF(E41="","",SUM(E41*F41))=0,"",IF(E41="","",SUM(E41*F41))) | H41: =VLOOKUP($H$4,Verzamelblad!$A$5:$DE$19,27) -> 0 | I41: =IFERROR(IF(IF(H41="op afroep","",SUM(G41*H41))=0,"",IF(H41="op afroep","",SUM(G41*H41))),"")
A42: =VLOOKUP($H$4,Verzamelblad!$A$5:$EK$19,28,0) -> 0 | E42: 0 | G42: =IF(IF(E42="","",SUM(E42*F42))=0,"",IF(E42="","",SUM(E42*F42))) | H42: =VLOOKUP($H$4,Verzamelblad!$A$5:$DE$19,29) -> 0 | I42: =IFERROR(IF(IF(H42="op afroep","",SUM(G42*H42))=0,"",IF(H42="op afroep","",SUM(G42*H42))),"")
A43: =VLOOKUP($H$4,Verzamelblad!$A$5:$EK$19,30,0) -> 0 | E43: 0 | G43: =IF(IF(E43="","",SUM(E43*F43))=0,"",IF(E43="","",SUM(E43*F43))) | H43: =VLOOKUP($H$4,Verzamelblad!$A$5:$DE$19,31) -> 0 | I43: =IFERROR(IF(IF(H43="op afroep","",SUM(G43*H43))=0,"",IF(H43="op afroep","",SUM(G43*H43))),"")
A44: Totaal | I44: =IF(SUM(I36:I43)=0,"",SUM(I36:I43))
A46: Glasbewassing (incl. houtwerk en omlijsting) | E46: M² | F46: Prijs per m² | G46: Beurtprijs | H46: Beurten per jaar | I46: Prijs per jaar
A47: =VLOOKUP($H$4,Verzamelblad!$A$5:$EK$19,76,0) -> Gevelglas buitenzijde enkelvoudig gemeten | E47: =VLOOKUP($H$4,Verzamelblad!$A$5:$DE$19,100) -> 104.11 | G47: =IF(IF(E47="","",SUM(E47*F47))=0,"",IF(E47="","",SUM(E47*F47))) | H47: =VLOOKUP($H$4,Verzamelblad!$A$5:$EK$19,77,0) -> 2 | I47: =IFERROR(IF(IF(H47="op afroep","",SUM(G47*H47))=0,"",IF(H47="op afroep","",SUM(G47*H47))),"")
A48: =VLOOKUP($H$4,Verzamelblad!$A$5:$EK$19,78,0) -> Gevelglas binnenzijde enkelvoudig gemeten | E48: =VLOOKUP($H$4,Verzamelblad!$A$5:$DE$19,99) -> 104.11 | G48: =IF(IF(E48="","",SUM(E48*F48))=0,"",IF(E48="","",SUM(E48*F48))) | H48: =VLOOKUP($H$4,Verzamelblad!$A$5:$EK$19,79,0) -> 2 | I48: =IFERROR(IF(IF(H48="op afroep","",SUM(G48*H48))=0,"",IF(H48="op afroep","",SUM(G48*H48))),"")
A49: =VLOOKUP($H$4,Verzamelblad!$A$5:$EK$19,80,0) -> Separatieglas dubbelvoudig gemeten | E49: =VLOOKUP($H$4,Verzamelblad!$A$5:$DE$19,101) -> 14.14 | G49: =IF(IF(E49="","",SUM(E49*F49))=0,"",IF(E49="","",SUM(E49*F49))) | H49: =VLOOKUP($H$4,Verzamelblad!$A$5:$EK$19,81,0) -> 2 | I49: =IFERROR(IF(IF(H49="op afroep","",SUM(G49*H49))=0,"",IF(H49="op afroep","",SUM(G49*H49))),"")
A50: =VLOOKUP($H$4,Verzamelblad!$A$5:$EK$19,82,0) -> Gevelglas buitenzijde incl. kantoren | E50: =VLOOKUP($H$4,Verzamelblad!$A$5:$DE$19,102) -> 113.43 | G50: =IF(IF(E50="","",SUM(E50*F50))=0,"",IF(E50="","",SUM(E50*F50))) | H50: =VLOOKUP($H$4,Verzamelblad!$A$5:$EK$19,83,0) -> 3 | I50: =IFERROR(IF(IF(H50="op afroep","",SUM(G50*H50))=0,"",IF(H50="op afroep","",SUM(G50*H50))),"")
A51: =VLOOKUP($H$4,Verzamelblad!$A$5:$EK$19,84,0) -> Gevelglas binnenzijde incl. kantoren | E51: =VLOOKUP($H$4,Verzamelblad!$A$5:$DE$19,103) -> 113.43 | G51: =IF(IF(E51="","",SUM(E51*F51))=0,"",IF(E51="","",SUM(E51*F51))) | H51: =VLOOKUP($H$4,Verzamelblad!$A$5:$EK$19,85,0) -> 3 | I51: =IFERROR(IF(IF(H51="op afroep","",SUM(G51*H51))=0,"",IF(H51="op afroep","",SUM(G51*H51))),"")
A52: =VLOOKUP($H$4,Verzamelblad!$A$5:$EK$19,86,0) -> Separatieglas incl. kantoren | E52: =VLOOKUP($H$4,Verzamelblad!$A$5:$DE$19,104) -> 17.54 | G52: =IF(IF(E52="","",SUM(E52*F52))=0,"",IF(E52="","",SUM(E52*F52))) | H52: =VLOOKUP($H$4,Verzamelblad!$A$5:$EK$19,87,0) -> 3 | I52: =IFERROR(IF(IF(H52="op afroep","",SUM(G52*H52))=0,"",IF(H52="op afroep","",SUM(G52*H52))),"")
A53: =VLOOKUP($H$4,Verzamelblad!$A$5:$EK$19,88,0) -> 0 | G53: =IF(IF(E53="","",SUM(E53*F53))=0,"",IF(E53="","",SUM(E53*F53))) | H53: =VLOOKUP($H$4,Verzamelblad!$A$5:$EK$19,89,0) -> 0 | I53: =IFERROR(IF(IF(H53="op afroep","",SUM(G53*H53))=0,"",IF(H53="op afroep","",SUM(G53*H53))),"")
A54: =VLOOKUP($H$4,Verzamelblad!$A$5:$EK$19,90,0) -> 0 | E54: 0 | G54: =IF(IF(E54="","",SUM(E54*F54))=0,"",IF(E54="","",SUM(E54*F54))) | H54: =VLOOKUP($H$4,Verzamelblad!$A$5:$EK$19,91,0) -> 0 | I54: =IFERROR(IF(IF(H54="op afroep","",SUM(G54*H54))=0,"",IF(H54="op afroep","",SUM(G54*H54))),"")
A55: =VLOOKUP($H$4,Verzamelblad!$A$5:$EK$19,92,0) -> 0 | E55: 0 | G55: =IF(IF(E55="","",SUM(E55*F55))=0,"",IF(E55="","",SUM(E55*F55))) | H55: =VLOOKUP($H$4,Verzamelblad!$A$5:$EK$19,93,0) -> 0 | I55: =IFERROR(IF(IF(H55="op afroep","",SUM(G55*H55))=0,"",IF(H55="op afroep","",SUM(G55*H55))),"")
A56: Glasbewassing vindt iedere 6 weken plaats tussen 1 april en 1 oktober. De eerste glasbewassing vindt plaats vlak voor 1 april (i.v.m. de opening). De overige 4 beurten vinden vervolgens (in overleg) plaats in de volgende weeknummers: 20, 26, 32 en 38. De kantoren dienen alleen meegenomen te worden in de eerste, derde en vijfde beurt. Voor deze glasbewassingsbeurten geldt dan een andere prijs zoals hierboven te zien.
A57: Totaal | I57: =IF(SUM(I47:I56)=0,"",SUM(I47:I56))
A59: Sanitaire voorzieningen | E59: Artikel | F59: Omschrijving | G59: Aantal | H59: Prijs per maand | I59: Prijs per jaar
I60: =IFERROR(IF(IF(H60="op afroep","",SUM(G60*H60))=0,"",IF(H60="op afroep","",SUM(G60*H60))),"") | K60: Aantal gebruikers van deze locatie
I61: =IFERROR(IF(IF(H61="op afroep","",SUM(G61*H61))=0,"",IF(H61="op afroep","",SUM(G61*H61))),"") | K61: Medewerkers
I62: =IFERROR(IF(IF(H62="op afroep","",SUM(G62*H62))=0,"",IF(H62="op afroep","",SUM(G62*H62))),"") | K62: Bezoekers
I63: =IFERROR(IF(IF(H63="op afroep","",SUM(G63*H63))=0,"",IF(H63="op afroep","",SUM(G63*H63))),"")
I64: =IFERROR(IF(IF(H64="op afroep","",SUM(G64*H64))=0,"",IF(H64="op afroep","",SUM(G64*H64))),"")
I65: =IFERROR(IF(IF(H65="op afroep","",SUM(G65*H65))=0,"",IF(H65="op afroep","",SUM(G65*H65))),"")
A66: Totaal | I66: =IF(SUM(I60:I65)=0,"",SUM(I60:I65))
A68: Bijzonderheden
A76: Totaalprijs per jaar | I76: =IF(SUM(IF(I14="",0,I14)+IF(I33="",0,I33)+IF(I44="",0,I44)+IF(I57="",0,I57)+IF(I66="",0,I66))=0,"",SUM(IF(I14="",0,I14)+IF(I33="",0,I33)+IF(I44="",0,I44)+IF(I57="",0,I57)+IF(I66="",0,I66)))
A78: Maandfactuur (werkzaamheden met een frequentie tot 1x per maand) | I78: =IFERROR(I11/12,"")
A80: Kwaliteitsinspecties | E80: Prijs | F80: Aantal | I80: Prijs per jaar
A81: =Verzamelblad!D3 -> VSR | E81: =VLOOKUP($H$4,Verzamelblad!$A$5:$EK$19,9,0) -> 100 | F81: =VLOOKUP($H$4,Verzamelblad!$A$5:$EK$19,10,0) -> 3 | I81: =IFERROR(IF(SUM(E81*F81)=0,"",SUM(E81*F81)),"") -> 300
A84: cat | D84: m2/jr | E84: prijs/jr
A85: =IF(K19=0,"",K19) -> A | D85: =IF(A85="",0,VLOOKUP(A85,INDIRECT("'"&$H$5&"'!C500:M515"),11,0)) -> 0 | E85: =IF(L19=0,"",IF(L19="","",SUM(D85/L19)*Uurtariefopbouw!$F$15))
A86: =IF(K20=0,"",K20) -> B | D86: =IF(A86="",0,VLOOKUP(A86,INDIRECT("'"&$H$5&"'!C500:M515"),11,0)) -> 10471.76 | E86: =IF(L20=0,"",IF(L20="","",SUM(D86/L20)*Uurtariefopbouw!$F$15))
A87: =IF(K21=0,"",K21) -> C | D87: =IF(A87="",0,VLOOKUP(A87,INDIRECT("'"&$H$5&"'!C500:M515"),11,0)) -> 0 | E87: =IF(L21=0,"",IF(L21="","",SUM(D87/L21)*Uurtariefopbouw!$F$15))
A88: =IF(K22=0,"",K22) -> D | D88: =IF(A88="",0,VLOOKUP(A88,INDIRECT("'"&$H$5&"'!C500:M515"),11,0)) -> 0 | E88: =IF(L22=0,"",IF(L22="","",SUM(D88/L22)*Uurtariefopbouw!$F$15))
A89: =IF(K23=0,"",K23) -> E | D89: =IF(A89="",0,VLOOKUP(A89,INDIRECT("'"&$H$5&"'!C500:M515"),11,0)) -> 3265.6 | E89: =IF(L23=0,"",IF(L23="","",SUM(D89/L23)*Uurtariefopbouw!$F$15))
A90: =IF(K24=0,"",K24) -> F | D90: =IF(A90="",0,VLOOKUP(A90,INDIRECT("'"&$H$5&"'!C500:M515"),11,0)) -> 0 | E90: =IF(L24=0,"",IF(L24="","",SUM(D90/L24)*Uurtariefopbouw!$F$15))
A91: =IF(K25=0,"",K25) -> G | D91: =IF(A91="",0,VLOOKUP(A91,INDIRECT("'"&$H$5&"'!C500:M515"),11,0)) -> 0 | E91: =IF(L25=0,"",IF(L25="","",SUM(D91/L25)*Uurtariefopbouw!$F$15))
A92: =IF(K26=0,"",K26) -> H | D92: =IF(A92="",0,VLOOKUP(A92,INDIRECT("'"&$H$5&"'!C500:M515"),11,0)) -> 0 | E92: =IF(L26=0,"",IF(L26="","",SUM(D92/L26)*Uurtariefopbouw!$F$15))
A93: =IF(K27=0,"",K27) -> I | D93: =IF(A93="",0,VLOOKUP(A93,INDIRECT("'"&$H$5&"'!C500:M515"),11,0)) -> 0 | E93: =IF(L27=0,"",IF(L27="","",SUM(D93/L27)*Uurtariefopbouw!$F$15))
A94: =IF(K28=0,"",K28) -> J | D94: =IF(A94="",0,VLOOKUP(A94,INDIRECT("'"&$H$5&"'!C500:M515"),11,0)) -> 0 | E94: =IF(L28=0,"",IF(L28="","",SUM(D94/L28)*Uurtariefopbouw!$F$15))
A95: =IF(K29=0,"",K29) -> K | D95: =IF(A95="",0,VLOOKUP(A95,INDIRECT("'"&$H$5&"'!C500:M515"),11,0)) -> 0 | E95: =IF(L29=0,"",IF(L29="","",SUM(D95/L29)*Uurtariefopbouw!$F$15))
A96: =IF(K30=0,"",K30) | D96: =IF(A96="",0,VLOOKUP(A96,INDIRECT("'"&$H$5&"'!C500:M515"),11,0)) -> 0 | E96: =IF(L30=0,"",IF(L30="","",SUM(D96/L30)*Uurtariefopbouw!$F$15))
... A99: =IF(K33=0,"",K33) | D99: =IF(A99="",0,VLOOKUP(A99,INDIRECT("'"&$H$5&"'!C500:M515"),11,0)) -> 0 | E99: =IF(L33=0,"",IF(L33="","",SUM(D99/L33)*Uurtariefopbouw!$F$15))
A100: Totaal: | D100: =SUM(D85:D99) -> 13737.36 | E100: =SUM(E85:E99) -> 0

Sheet 4a
A1: ='4'!H4 -> 4 | B1: Object: | D1: =IF(VLOOKUP(A1,Verzamelblad!A5:E19,3)=0,"",VLOOKUP(A1,Verzamelblad!A5:E19,3)) -> De Kruidhof
B2: Adres, plaats: | D2: =IF(CONCATENATE(VLOOKUP(A1,Verzamelblad!A5:E19,4)," te ",VLOOKUP(A1,Verzamelblad!A5:E19,5))=" te ","",CONCATENATE(VLOOKUP(A1,Verzamelblad!A5:E19,4)," te ",VLOOKUP(A1,Verzamelblad!A5:E19,5))) -> Schoolstraat 29B te Buitenpost
A3: bwdl | B3: nr | C3: Ruimte | D3: ED | E3: Cat. | F3: Tapijt | G3: Linoleum | H3: PVC | I3: Hout | J3: Steen/ Pulastic | K3: m2 | L3: Freq | M3: m2 smk/jr
C4: Begane grond
C5: Kantoor | E5: B | F5: 11.63 | K5: =SUM(F5:J5) -> 11.63 | L5: =IF(D5="X",0,IF(E5="",0,IF(E5="x",0,VLOOKUP(E5,$F$539:$G$553,2)))) -> 52 | M5: =SUM(K5*L5) -> 604.76
C6: Kantoor | E6: B | F6: 23 | K6: =SUM(F6:J6) -> 23 | L6: =IF(D6="X",0,IF(E6="",0,IF(E6="x",0,VLOOKUP(E6,$F$539:$G$553,2)))) -> 52 | M6: =SUM(K6*L6) -> 1196
C7: Expositieruimte | E7: B | F7: 6.75 | J7: 160 | K7: =SUM(F7:J7) -> 166.75 | L7: =IF(D7="X",0,IF(E7="",0,IF(E7="x",0,VLOOKUP(E7,$F$539:$G$553,2)))) -> 52 | M7: =SUM(K7*L7) -> 8671
C8: Entree achter | E8: E | F8: 25 | K8: =SUM(F8:J8) -> 25 | L8: =IF(D8="X",0,IF(E8="",0,IF(E8="x",0,VLOOKUP(E8,$F$539:$G$553,2)))) -> 52 | M8: =SUM(K8*L8) -> 1300
C9: Gang entree | E9: E | F9: 9.3 | K9: =SUM(F9:J9) -> 9.3 | L9: =IF(D9="X",0,IF(E9="",0,IF(E9="x",0,VLOOKUP(E9,$F$539:$G$553,2)))) -> 52 | M9: =SUM(K9*L9) -> 483.6
C10: Gang | E10: E | J10: 28.5 | K10: =SUM(F10:J10) -> 28.5 | L10: =IF(D10="X",0,IF(E10="",0,IF(E10="x",0,VLOOKUP(E10,$F$539:$G$553,2)))) -> 52 | M10: =SUM(K10*L10) -> 1482
C11: Totaal Kruidhof | F11: =SUM(F4:F10) -> 75.68 | G11: =SUM(G4:G10) -> 0 | H11: =SUM(H4:H10) -> 0 | I11: =SUM(I4:I10) -> 0 | J11: =SUM(J4:J10) -> 188.5 | K11: =SUM(F11:J11) -> 264.18
K13: =SUM(F13:J13) -> 0 | L13: =IF(D13="X",0,IF(E13="",0,IF(E13="x",0,VLOOKUP(E13,$F$539:$G$553,2)))) -> 0 | M13: =SUM(K13*L13) -> 0
K14: =SUM(F14:J14) -> 0 | L14: =IF(D14="X",0,IF(E14="",0,IF(E14="x",0,VLOOKUP(E14,$F$539:$G$553,2)))) -> 0 | M14: =SUM(K14*L14) -> 0
K15: =SUM(F15:J15) -> 0 | L15: =IF(D15="X",0,IF(E15="",0,IF(E15="x",0,VLOOKUP(E15,$F$539:$G$553,2)))) -> 0 | M15: =SUM(K15*L15) -> 0
K16: =SUM(F16:J16) -> 0 | L16: =IF(D16="X",0,IF(E16="",0,IF(E16="x",0,VLOOKUP(E16,$F$539:$G$553,2)))) -> 0 | M16: =SUM(K16*L16) -> 0
K17: =SUM(F17:J17) -> 0 | L17: =IF(D17="X",0,IF(E17="",0,IF(E17="x",0,VLOOKUP(E17,$F$539:$G$553,2)))) -> 0 | M17: =SUM(K17*L17) -> 0
K18: =SUM(F18:J18) -> 0 | L18: =IF(D18="X",0,IF(E18="",0,IF(E18="x",0,VLOOKUP(E18,$F$539:$G$553,2)))) -> 0 | M18: =SUM(K18*L18) -> 0
K19: =SUM(F19:J19) -> 0 | L19: =IF(D19="X",0,IF(E19="",0,IF(E19="x",0,VLOOKUP(E19,$F$539:$G$553,2)))) -> 0 | M19: =SUM(K19*L19) -> 0
K20: =SUM(F20:J20) -> 0 | L20: =IF(D20="X",0,IF(E20="",0,IF(E20="x",0,VLOOKUP(E20,$F$539:$G$553,2)))) -> 0 | M20: =SUM(K20*L20) -> 0
K21: =SUM(F21:J21) -> 0 | L21: =IF(D21="X",0,IF(E21="",0,IF(E21="x",0,VLOOKUP(E21,$F$539:$G$553,2)))) -> 0 | M21: =SUM(K21*L21) -> 0
K22: =SUM(F22:J22) -> 0 | L22: =IF(D22="X",0,IF(E22="",0,IF(E22="x",0,VLOOKUP(E22,$F$539:$G$553,2)))) -> 0 | M22: =SUM(K22*L22) -> 0
K23: =SUM(F23:J23) -> 0 | L23: =IF(D23="X",0,IF(E23="",0,IF(E23="x",0,VLOOKUP(E23,$F$539:$G$553,2)))) -> 0 | M23: =SUM(K23*L23) -> 0
K24: =SUM(F24:J24) -> 0 | L24: =IF(D24="X",0,IF(E24="",0,IF(E24="x",0,VLOOKUP(E24,$F$539:$G$553,2)))) -> 0 | M24: =SUM(K24*L24) -> 0
... K498: =SUM(F498:J498) -> 0 | L498: =IF(D498="X",0,IF(E498="",0,IF(E498="x",0,VLOOKUP(E498,$F$539:$G$553,2)))) -> 0 | M498: =SUM(K498*L498) -> 0
C499: Categorie: | M499: Tot/jr
C500: =IF(F539="","Vrije categorie",F539) -> A | F500: =SUMPRODUCT(--($E$4:$E$498=C500),--($D$4:$D$498=""),$F$4:$F$498) -> 0 | G500: =SUMPRODUCT(--($E$4:$E$498=C500),--($D$4:$D$498=""),$G$4:$G$498) -> 0 | H500: =SUMPRODUCT(--($E$4:$E$498=C500),--($D$4:$D$498=""),$H$4:$H$498) -> 0 | I500: =SUMPRODUCT(--($E$4:$E$498=C500),--($D$4:$D$498=""),$I$4:$I$498) -> 0 | J500: =SUMPRODUCT(--($E$4:$E$498=C500),--($D$4:$D$498=""),$J$4:$J$498) -> 0 | K500: =SUM(F500:J500) -> 0 | M500: =SUMPRODUCT(--($E$4:$E$498=C500),--($D$4:$D$498=""),$M$4:$M$498) -> 0
C501: =IF(F540="","Vrije categorie",F540) -> B | F501: =SUMPRODUCT(--($E$4:$E$498=C501),--($D$4:$D$498=""),$F$4:$F$498) -> 41.38 | G501: =SUMPRODUCT(--($E$4:$E$498=C501),--($D$4:$D$498=""),$G$4:$G$498) -> 0 | H501: =SUMPRODUCT(--($E$4:$E$498=C501),--($D$4:$D$498=""),$H$4:$H$498) -> 0 | I501: =SUMPRODUCT(--($E$4:$E$498=C501),--($D$4:$D$498=""),$I$4:$I$498) -> 0 | J501: =SUMPRODUCT(--($E$4:$E$498=C501),--($D$4:$D$498=""),$J$4:$J$498) -> 160 | K501: =SUM(F501:J501) -> 201.38 | M501: =SUMPRODUCT(--($E$4:$E$498=C501),--($D$4:$D$498=""),$M$4:$M$498) -> 10471.76
C502: =IF(F541="","Vrije categorie",F541) -> C | F502: =SUMPRODUCT(--($E$4:$E$498=C502),--($D$4:$D$498=""),$F$4:$F$498) -> 0 | G502: =SUMPRODUCT(--($E$4:$E$498=C502),--($D$4:$D$498=""),$G$4:$G$498) -> 0 | H502: =SUMPRODUCT(--($E$4:$E$498=C502),--($D$4:$D$498=""),$H$4:$H$498) -> 0 | I502: =SUMPRODUCT(--($E$4:$E$498=C502),--($D$4:$D$498=""),$I$4:$I$498) -> 0 | J502: =SUMPRODUCT(--($E$4:$E$498=C502),--($D$4:$D$498=""),$J$4:$J$498) -> 0 | K502: =SUM(F502:J502) -> 0 | M502: =SUMPRODUCT(--($E$4:$E$498=C502),--($D$4:$D$498=""),$M$4:$M$498) -> 0
C503: =IF(F542="","Vrije categorie",F542) -> D | F503: =SUMPRODUCT(--($E$4:$E$498=C503),--($D$4:$D$498=""),$F$4:$F$498) -> 0 | G503: =SUMPRODUCT(--($E$4:$E$498=C503),--($D$4:$D$498=""),$G$4:$G$498) -> 0 | H503: =SUMPRODUCT(--($E$4:$E$498=C503),--($D$4:$D$498=""),$H$4:$H$498) -> 0 | I503: =SUMPRODUCT(--($E$4:$E$498=C503),--($D$4:$D$498=""),$I$4:$I$498) -> 0 | J503: =SUMPRODUCT(--($E$4:$E$498=C503),--($D$4:$D$498=""),$J$4:$J$498) -> 0 | K503: =SUM(F503:J503) -> 0 | M503: =SUMPRODUCT(--($E$4:$E$498=C503),--($D$4:$D$498=""),$M$4:$M$498) -> 0
C504: =IF(F543="","Vrije categorie",F543) -> E | F504: =SUMPRODUCT(--($E$4:$E$498=C504),--($D$4:$D$498=""),$F$4:$F$498) -> 34.3 | G504: =SUMPRODUCT(--($E$4:$E$498=C504),--($D$4:$D$498=""),$G$4:$G$498) -> 0 | H504: =SUMPRODUCT(--($E$4:$E$498=C504),--($D$4:$D$498=""),$H$4:$H$498) -> 0 | I504: =SUMPRODUCT(--($E$4:$E$498=C504),--($D$4:$D$498=""),$I$4:$I$498) -> 0 | J504: =SUMPRODUCT(--($E$4:$E$498=C504),--($D$4:$D$498=""),$J$4:$J$498) -> 28.5 | K504: =SUM(F504:J504) -> 62.8 | M504: =SUMPRODUCT(--($E$4:$E$498=C504),--($D$4:$D$498=""),$M$4:$M$498) -> 3265.6
C505: =IF(F544="","Vrije categorie",F544) -> F | F505: =SUMPRODUCT(--($E$4:$E$498=C505),--($D$4:$D$498=""),$F$4:$F$498) -> 0 | G505: =SUMPRODUCT(--($E$4:$E$498=C505),--($D$4:$D$498=""),$G$4:$G$498) -> 0 | H505: =SUMPRODUCT(--($E$4:$E$498=C505),--($D$4:$D$498=""),$H$4:$H$498) -> 0 | I505: =SUMPRODUCT(--($E$4:$E$498=C505),--($D$4:$D$498=""),$I$4:$I$498) -> 0 | J505: =SUMPRODUCT(--($E$4:$E$498=C505),--($D$4:$D$498=""),$J$4:$J$498) -> 0 | K505: =SUM(F505:J505) -> 0 | M505: =SUMPRODUCT(--($E$4:$E$498=C505),--($D$4:$D$498=""),$M$4:$M$498) -> 0
C506: =IF(F545="","Vrije categorie",F545) -> G | F506: =SUMPRODUCT(--($E$4:$E$498=C506),--($D$4:$D$498=""),$F$4:$F$498) -> 0 | G506: =SUMPRODUCT(--($E$4:$E$498=C506),--($D$4:$D$498=""),$G$4:$G$498) -> 0 | H506: =SUMPRODUCT(--($E$4:$E$498=C506),--($D$4:$D$498=""),$H$4:$H$498) -> 0 | I506: =SUMPRODUCT(--($E$4:$E$498=C506),--($D$4:$D$498=""),$I$4:$I$498) -> 0 | J506: =SUMPRODUCT(--($E$4:$E$498=C506),--($D$4:$D$498=""),$J$4:$J$498) -> 0 | K506: =SUM(F506:J506) -> 0 | M506: =SUMPRODUCT(--($E$4:$E$498=C506),--($D$4:$D$498=""),$M$4:$M$498) -> 0
C507: =IF(F546="","Vrije categorie",F546) -> H | F507: =SUMPRODUCT(--($E$4:$E$498=C507),--($D$4:$D$498=""),$F$4:$F$498) -> 0 | G507: =SUMPRODUCT(--($E$4:$E$498=C507),--($D$4:$D$498=""),$G$4:$G$498) -> 0 | H507: =SUMPRODUCT(--($E$4:$E$498=C507),--($D$4:$D$498=""),$H$4:$H$498) -> 0 | I507: =SUMPRODUCT(--($E$4:$E$498=C507),--($D$4:$D$498=""),$I$4:$I$498) -> 0 | J507: =SUMPRODUCT(--($E$4:$E$498=C507),--($D$4:$D$498=""),$J$4:$J$498) -> 0 | K507: =SUM(F507:J507) -> 0 | M507: =SUMPRODUCT(--($E$4:$E$498=C507),--($D$4:$D$498=""),$M$4:$M$498) -> 0
C508: =IF(F547="","Vrije categorie",F547) -> I | F508: =SUMPRODUCT(--($E$4:$E$498=C508),--($D$4:$D$498=""),$F$4:$F$498) -> 0 | G508: =SUMPRODUCT(--($E$4:$E$498=C508),--($D$4:$D$498=""),$G$4:$G$498) -> 0 | H508: =SUMPRODUCT(--($E$4:$E$498=C508),--($D$4:$D$498=""),$H$4:$H$498) -> 0 | I508: =SUMPRODUCT(--($E$4:$E$498=C508),--($D$4:$D$498=""),$I$4:$I$498) -> 0 | J508: =SUMPRODUCT(--($E$4:$E$498=C508),--($D$4:$D$498=""),$J$4:$J$498) -> 0 | K508: =SUM(F508:J508) -> 0 | M508: =SUMPRODUCT(--($E$4:$E$498=C508),--($D$4:$D$498=""),$M$4:$M$498) -> 0
C509: =IF(F548="","Vrije categorie",F548) -> J | F509: =SUMPRODUCT(--($E$4:$E$498=C509),--($D$4:$D$498=""),$F$4:$F$498) -> 0 | G509: =SUMPRODUCT(--($E$4:$E$498=C509),--($D$4:$D$498=""),$G$4:$G$498) -> 0 | H509: =SUMPRODUCT(--($E$4:$E$498=C509),--($D$4:$D$498=""),$H$4:$H$498) -> 0 | I509: =SUMPRODUCT(--($E$4:$E$498=C509),--($D$4:$D$498=""),$I$4:$I$498) -> 0 | J509: =SUMPRODUCT(--($E$4:$E$498=C509),--($D$4:$D$498=""),$J$4:$J$498) -> 0 | K509: =SUM(F509:J509) -> 0 | M509: =SUMPRODUCT(--($E$4:$E$498=C509),--($D$4:$D$498=""),$M$4:$M$498) -> 0
C510: =IF(F549="","Vrije categorie",F549) -> K | F510: =SUMPRODUCT(--($E$4:$E$498=C510),--($D$4:$D$498=""),$F$4:$F$498) -> 0 | G510: =SUMPRODUCT(--($E$4:$E$498=C510),--($D$4:$D$498=""),$G$4:$G$498) -> 0 | H510: =SUMPRODUCT(--($E$4:$E$498=C510),--($D$4:$D$498=""),$H$4:$H$498) -> 0 | I510: =SUMPRODUCT(--($E$4:$E$498=C510),--($D$4:$D$498=""),$I$4:$I$498) -> 0 | J510: =SUMPRODUCT(--($E$4:$E$498=C510),--($D$4:$D$498=""),$J$4:$J$498) -> 0 | K510: =SUM(F510:J510) -> 0 | M510: =SUMPRODUCT(--($E$4:$E$498=C510),--($D$4:$D$498=""),$M$4:$M$498) -> 0
C511: =IF(F550="","Vrije categorie",F550) -> X | F511: =SUMPRODUCT(--($E$4:$E$498=C511),--($D$4:$D$498=""),$F$4:$F$498) -> 0 | G511: =SUMPRODUCT(--($E$4:$E$498=C511),--($D$4:$D$498=""),$G$4:$G$498) -> 0 | H511: =SUMPRODUCT(--($E$4:$E$498=C511),--($D$4:$D$498=""),$H$4:$H$498) -> 0 | I511: =SUMPRODUCT(--($E$4:$E$498=C511),--($D$4:$D$498=""),$I$4:$I$498) -> 0 | J511: =SUMPRODUCT(--($E$4:$E$498=C511),--($D$4:$D$498=""),$J$4:$J$498) -> 0 | K511: =SUM(F511:J511) -> 0 | M511: =SUMPRODUCT(--($E$4:$E$498=C511),--($D$4:$D$498=""),$M$4:$M$498) -> 0
... C514: =IF(F553="","Vrije categorie",F553) -> Vrije categorie | F514: =SUMPRODUCT(--($E$4:$E$498=C514),--($D$4:$D$498=""),$F$4:$F$498) -> 0 | G514: =SUMPRODUCT(--($E$4:$E$498=C514),--($D$4:$D$498=""),$G$4:$G$498) -> 0 | H514: =SUMPRODUCT(--($E$4:$E$498=C514),--($D$4:$D$498=""),$H$4:$H$498) -> 0 | I514: =SUMPRODUCT(--($E$4:$E$498=C514),--($D$4:$D$498=""),$I$4:$I$498) -> 0 | J514: =SUMPRODUCT(--($E$4:$E$498=C514),--($D$4:$D$498=""),$J$4:$J$498) -> 0 | K514: =SUM(F514:J514) -> 0 | M514: =SUMPRODUCT(--($E$4:$E$498=C514),--($D$4:$D$498=""),$M$4:$M$498) -> 0
C515: Totaal uitbesteden: | F515: =SUM(F500:F514) -> 75.68 | G515: =SUM(G500:G514) -> 0 | H515: =SUM(H500:H514) -> 0 | I515: =SUM(I500:I514) -> 0 | J515: =SUM(J500:J514) -> 188.5 | K515: =SUM(K500:K514) -> 264.18 | M515: =SUM(M499:M514) -> 13737.36
C517: Categorie X (nio) | F517: {=SUMPRODUCT(--($E$4:$E$498="X"),$F$4:$F$498)} -> 0 | G517: {=SUMPRODUCT(--($E$4:$E$498="X"),G4:G498)} -> 0 | H517: {=SUMPRODUCT(--($E$4:$E$498="X"),H4:H498)} -> 0 | I517: {=SUMPRODUCT(--($E$4:$E$498="X"),I4:I498)} -> 0 | J517: {=SUMPRODUCT(--($E$4:$E$498="X"),J4:J498)} -> 0 | K517: =SUM(F517:J517) -> 0
C519: Eigen dienst:
C520: =C500 -> A | F520: =SUMPRODUCT(--($E$4:$E$498=C520),--($D$4:$D$498="X"),$F$4:$F$498) -> 0 | G520: =SUMPRODUCT(--($E$4:$E$498=C520),--($D$4:$D$498="X"),$G$4:$G$498) -> 0 | H520: =SUMPRODUCT(--($E$4:$E$498=C520),--($D$4:$D$498="X"),$H$4:$H$498) -> 0 | I520: =SUMPRODUCT(--($E$4:$E$498=C520),--($D$4:$D$498="X"),$I$4:$I$498) -> 0 | J520: =SUMPRODUCT(--($E$4:$E$498=C520),--($D$4:$D$498="X"),$J$4:$J$498) -> 0 | K520: =SUM(F520:J520) -> 0
C521: =C501 -> B | F521: =SUMPRODUCT(--($E$4:$E$498=C521),--($D$4:$D$498="X"),$F$4:$F$498) -> 0 | G521: =SUMPRODUCT(--($E$4:$E$498=C521),--($D$4:$D$498="X"),$G$4:$G$498) -> 0 | H521: =SUMPRODUCT(--($E$4:$E$498=C521),--($D$4:$D$498="X"),$H$4:$H$498) -> 0 | I521: =SUMPRODUCT(--($E$4:$E$498=C521),--($D$4:$D$498="X"),$I$4:$I$498) -> 0 | J521: =SUMPRODUCT(--($E$4:$E$498=C521),--($D$4:$D$498="X"),$J$4:$J$498) -> 0 | K521: =SUM(F521:J521) -> 0
C522: =C502 -> C | F522: =SUMPRODUCT(--($E$4:$E$498=C522),--($D$4:$D$498="X"),$F$4:$F$498) -> 0 | G522: =SUMPRODUCT(--($E$4:$E$498=C522),--($D$4:$D$498="X"),$G$4:$G$498) -> 0 | H522: =SUMPRODUCT(--($E$4:$E$498=C522),--($D$4:$D$498="X"),$H$4:$H$498) -> 0 | I522: =SUMPRODUCT(--($E$4:$E$498=C522),--($D$4:$D$498="X"),$I$4:$I$498) -> 0 | J522: =SUMPRODUCT(--($E$4:$E$498=C522),--($D$4:$D$498="X"),$J$4:$J$498) -> 0 | K522: =SUM(F522:J522) -> 0
C523: =C503 -> D | F523: =SUMPRODUCT(--($E$4:$E$498=C523),--($D$4:$D$498="X"),$F$4:$F$498) -> 0 | G523: =SUMPRODUCT(--($E$4:$E$498=C523),--($D$4:$D$498="X"),$G$4:$G$498) -> 0 | H523: =SUMPRODUCT(--($E$4:$E$498=C523),--($D$4:$D$498="X"),$H$4:$H$498) -> 0 | I523: =SUMPRODUCT(--($E$4:$E$498=C523),--($D$4:$D$498="X"),$I$4:$I$498) -> 0 | J523: =SUMPRODUCT(--($E$4:$E$498=C523),--($D$4:$D$498="X"),$J$4:$J$498) -> 0 | K523: =SUM(F523:J523) -> 0
C524: =C504 -> E | F524: =SUMPRODUCT(--($E$4:$E$498=C524),--($D$4:$D$498="X"),$F$4:$F$498) -> 0 | G524: =SUMPRODUCT(--($E$4:$E$498=C524),--($D$4:$D$498="X"),$G$4:$G$498) -> 0 | H524: =SUMPRODUCT(--($E$4:$E$498=C524),--($D$4:$D$498="X"),$H$4:$H$498) -> 0 | I524: =SUMPRODUCT(--($E$4:$E$498=C524),--($D$4:$D$498="X"),$I$4:$I$498) -> 0 | J524: =SUMPRODUCT(--($E$4:$E$498=C524),--($D$4:$D$498="X"),$J$4:$J$498) -> 0 | K524: =SUM(F524:J524) -> 0
C525: =C505 -> F | F525: =SUMPRODUCT(--($E$4:$E$498=C525),--($D$4:$D$498="X"),$F$4:$F$498) -> 0 | G525: =SUMPRODUCT(--($E$4:$E$498=C525),--($D$4:$D$498="X"),$G$4:$G$498) -> 0 | H525: =SUMPRODUCT(--($E$4:$E$498=C525),--($D$4:$D$498="X"),$H$4:$H$498) -> 0 | I525: =SUMPRODUCT(--($E$4:$E$498=C525),--($D$4:$D$498="X"),$I$4:$I$498) -> 0 | J525: =SUMPRODUCT(--($E$4:$E$498=C525),--($D$4:$D$498="X"),$J$4:$J$498) -> 0 | K525: =SUM(F525:J525) -> 0
C526: =C506 -> G | F526: =SUMPRODUCT(--($E$4:$E$498=C526),--($D$4:$D$498="X"),$F$4:$F$498) -> 0 | G526: =SUMPRODUCT(--($E$4:$E$498=C526),--($D$4:$D$498="X"),$G$4:$G$498) -> 0 | H526: =SUMPRODUCT(--($E$4:$E$498=C526),--($D$4:$D$498="X"),$H$4:$H$498) -> 0 | I526: =SUMPRODUCT(--($E$4:$E$498=C526),--($D$4:$D$498="X"),$I$4:$I$498) -> 0 | J526: =SUMPRODUCT(--($E$4:$E$498=C526),--($D$4:$D$498="X"),$J$4:$J$498) -> 0 | K526: =SUM(F526:J526) -> 0
C527: =C507 -> H | F527: =SUMPRODUCT(--($E$4:$E$498=C527),--($D$4:$D$498="X"),$F$4:$F$498) -> 0 | G527: =SUMPRODUCT(--($E$4:$E$498=C527),--($D$4:$D$498="X"),$G$4:$G$498) -> 0 | H527: =SUMPRODUCT(--($E$4:$E$498=C527),--($D$4:$D$498="X"),$H$4:$H$498) -> 0 | I527: =SUMPRODUCT(--($E$4:$E$498=C527),--($D$4:$D$498="X"),$I$4:$I$498) -> 0 | J527: =SUMPRODUCT(--($E$4:$E$498=C527),--($D$4:$D$498="X"),$J$4:$J$498) -> 0 | K527: =SUM(F527:J527) -> 0
C528: =C508 -> I | F528: =SUMPRODUCT(--($E$4:$E$498=C528),--($D$4:$D$498="X"),$F$4:$F$498) -> 0 | G528: =SUMPRODUCT(--($E$4:$E$498=C528),--($D$4:$D$498="X"),$G$4:$G$498) -> 0 | H528: =SUMPRODUCT(--($E$4:$E$498=C528),--($D$4:$D$498="X"),$H$4:$H$498) -> 0 | I528: =SUMPRODUCT(--($E$4:$E$498=C528),--($D$4:$D$498="X"),$I$4:$I$498) -> 0 | J528: =SUMPRODUCT(--($E$4:$E$498=C528),--($D$4:$D$498="X"),$J$4:$J$498) -> 0 | K528: =SUM(F528:J528) -> 0
C529: =C509 -> J | F529: =SUMPRODUCT(--($E$4:$E$498=C529),--($D$4:$D$498="X"),$F$4:$F$498) -> 0 | G529: =SUMPRODUCT(--($E$4:$E$498=C529),--($D$4:$D$498="X"),$G$4:$G$498) -> 0 | H529: =SUMPRODUCT(--($E$4:$E$498=C529),--($D$4:$D$498="X"),$H$4:$H$498) -> 0 | I529: =SUMPRODUCT(--($E$4:$E$498=C529),--($D$4:$D$498="X"),$I$4:$I$498) -> 0 | J529: =SUMPRODUCT(--($E$4:$E$498=C529),--($D$4:$D$498="X"),$J$4:$J$498) -> 0 | K529: =SUM(F529:J529) -> 0
C530: =C510 -> K | F530: =SUMPRODUCT(--($E$4:$E$498=C530),--($D$4:$D$498="X"),$F$4:$F$498) -> 0 | G530: =SUMPRODUCT(--($E$4:$E$498=C530),--($D$4:$D$498="X"),$G$4:$G$498) -> 0 | H530: =SUMPRODUCT(--($E$4:$E$498=C530),--($D$4:$D$498="X"),$H$4:$H$498) -> 0 | I530: =SUMPRODUCT(--($E$4:$E$498=C530),--($D$4:$D$498="X"),$I$4:$I$498) -> 0 | J530: =SUMPRODUCT(--($E$4:$E$498=C530),--($D$4:$D$498="X"),$J$4:$J$498) -> 0 | K530: =SUM(F530:J530) -> 0
C531: =C511 -> X | F531: =SUMPRODUCT(--($E$4:$E$498=C531),--($D$4:$D$498="X"),$F$4:$F$498) -> 0 | G531: =SUMPRODUCT(--($E$4:$E$498=C531),--($D$4:$D$498="X"),$G$4:$G$498) -> 0 | H531: =SUMPRODUCT(--($E$4:$E$498=C531),--($D$4:$D$498="X"),$H$4:$H$498) -> 0 | I531: =SUMPRODUCT(--($E$4:$E$498=C531),--($D$4:$D$498="X"),$I$4:$I$498) -> 0 | J531: =SUMPRODUCT(--($E$4:$E$498=C531),--($D$4:$D$498="X"),$J$4:$J$498) -> 0 | K531: =SUM(F531:J531) -> 0
... C534: =C514 -> Vrije categorie | F534: =SUMPRODUCT(--($E$4:$E$498=C534),--($D$4:$D$498="X"),$F$4:$F$498) -> 0 | G534: =SUMPRODUCT(--($E$4:$E$498=C534),--($D$4:$D$498="X"),$G$4:$G$498) -> 0 | H534: =SUMPRODUCT(--($E$4:$E$498=C534),--($D$4:$D$498="X"),$H$4:$H$498) -> 0 | I534: =SUMPRODUCT(--($E$4:$E$498=C534),--($D$4:$D$498="X"),$I$4:$I$498) -> 0 | J534: =SUMPRODUCT(--($E$4:$E$498=C534),--($D$4:$D$498="X"),$J$4:$J$498) -> 0 | K534: =SUM(F534:J534) -> 0
C535: Totaal eigen dienst: | F535: =SUM(F520:F534) -> 0 | G535: =SUM(G520:G534) -> 0 | H535: =SUM(H520:H534) -> 0 | I535: =SUM(I520:I534) -> 0 | J535: =SUM(J520:J534) -> 0 | K535: =SUM(K520:K534) -> 0
F538: Categorie | G538: Frequentie | I538: Soort glas | K538: M²
F539: =IF('1a'!F539=0,"",'1a'!F539) -> A | G539: 52 | I539: Binnenzijde | K539: 104.11
F540: =IF('1a'!F540=0,"",'1a'!F540) -> B | G540: 52 | I540: Buitenzijde | K540: 104.11
F541: =IF('1a'!F541=0,"",'1a'!F541) -> C | G541: 52 | I541: Separatie | K541: 14.14
F542: =IF('1a'!F542=0,"",'1a'!F542) -> D | G542: 52 | I542: Gevelglas buitenzijde incl. kantoren | K542: 113.43
F543: =IF('1a'!F543=0,"",'1a'!F543) -> E | G543: 52 | I543: Gevelglas binnenzijde incl. kantoren | K543: 113.43
F544: =IF('1a'!F544=0,"",'1a'!F544) -> F | G544: 52 | I544: Separatie incl. kantoren | K544: 17.54
F545: =IF('1a'!F545=0,"",'1a'!F545) -> G | G545: 52
F546: =IF('1a'!F546=0,"",'1a'!F546) -> H | G546: 52
F547: =IF('1a'!F547=0,"",'1a'!F547) -> I | G547: 52
F548: =IF('1a'!F548=0,"",'1a'!F548) -> J | G548: 52
F549: =IF('1a'!F549=0,"",'1a'!F549) -> K | G549: 12
F550: =IF('1a'!F550=0,"",'1a'!F550) -> X | G550: =IF('1a'!G550=0,"0",'1a'!G550) -> 0
F551: =IF('1a'!F551=0,"",'1a'!F551) -> Vrije categorie | G551: =IF('1a'!G551=0,"",'1a'!G551)
F552: =IF('1a'!F552=0,"",'1a'!F552) -> Vrije categorie | G552: =IF('1a'!G552=0,"",'1a'!G552)
F553: =IF('1a'!F553=0,"",'1a'!F553) -> Vrije categorie | G553: =IF('1a'!G553=0,"",'1a'!G553)

Sheet Totaalblad
B1: Totaalblad
DK2: prijs /m2
V3: Totalen overzicht | AA3: extra 1 | AB3: extra 1 | AC3: extra 2 | AE3: extra 3 | AG3: extra 4 | AI3: extra 5 | AK3: extra 6 | AM3: extra 7 | AO3: extra 8 | AQ3: extra 9 | AS3: extra 10 | AU3: extra 11 | AW3: vloer 1 | AY3: vloer 2 | BA3: vloer 3 | BC3: vloer 4 | BE3: vloer 5 | BG3: vloer 6 | BI3: vloer 7 | BK3: glas 1 | BM3: glas 2 | BO3: glas 3 | BQ3: glas 4 | BS3: glas 5 | BU3: glas 6 | BW3: glas 7 | BY3: glas 8 | CA3: glas 9 | CC3: glas 10 | DK3: netto meters
B4: Locatie | C4: Maandfactuur* | D4: Maandprijs | E4: Maandprijs x12 | F4: Kwartaalbeurt | G4: Kwartaalbeurt x3 | H4: Jaarbeurt | I4: Extra werk-zaamheden | J4: Vloer-onderhoud | K4: Glasbewassing | L4: Sanitaire voorzieningen | M4: Uren maand schoonmaak x12 | N4: Uren kwartaal beurt x3 | O4: Uren jaarbeurt | P4: Uren direct toezicht per dag | Q4: Totaalprijs per jaar | T4: Maanduren x12 | U4: Kwartaalbeurt uren x3 | V4: Offerte tarief | W4: Regie tarief | X4: Specialistisch tarief | Y4: Tot uren per jaar | Z4: Gemiddelde m2 prestatie | AB4: prijs per eenheid | AD4: prijs per eenheid | AE4: 0 | AF4: prijs per eenheid | AG4: 0 | AH4: prijs per eenheid | AI4: 0 | AJ4: prijs per eenheid | AK4: 0 | AL4: prijs per eenheid | AM4: 0 | AN4: prijs per eenheid | AO4: 0 | AP4: prijs per eenheid | AQ4: 0 | AR4: prijs per eenheid | AS4: 0 | AT4: prijs per eenheid | AU4: 0 | AV4: prijs per eenheid | AW4: sprayen | AX4: prijs per eenheid | AY4: conserveren | AZ4: prijs per eenheid | BA4: tapijtreinigen | BB4: prijs per eenheid | BC4: 0 | BD4: prijs per eenheid | BE4: 0 | BF4: prijs per eenheid | BG4: 0 | BH4: prijs per eenheid | BI4: 0 | BJ4: prijs per eenheid | BL4: prijs per eenheid | BN4: prijs per eenheid | BP4: prijs per eenheid | BR4: prijs per eenheid | BS4: 0 | BT4: prijs per eenheid | BU4: 0 | BV4: prijs per eenheid | BW4: 0 | BX4: prijs per eenheid | BY4: 0 | BZ4: prijs per eenheid | CA4: 0 | CB4: prijs per eenheid | CC4: 0 | CD4: prijs per eenheid | CE4: Totaalprijs per jaar | CF4: Totaal m2 uitbesteden/dag | CG4: Totaal m2 uitbesteden jr | CH4: categorie 1 | CI4: prestatie | CJ4: categorie 2 | CL4: categorie 3 | CN4: categorie 4 | CP4: categorie 5 | CR4: categorie 6 | CT4: categorie 7 | CV4: categorie 8 | CX4: categorie 9 | CZ4: categorie 10 | DB4: categorie 11 | DD4: categorie 12 | DF4: categorie 13 | DH4: categorie 14 | DJ4: categorie 15 | DK4: totaalprijs
A5: 1 | B5: =INDIRECT("'" & A5 & "'!$B$4") -> Gemeentehuis | C5: =IF(INDIRECT("'" & A5 & "'!$I$78")=0,"",INDIRECT("'" & A5 & "'!$I$78")) | D5: =IF(INDIRECT("'" & A5 & "'!$F$11")=0,"",INDIRECT("'" & A5 & "'!$F$11")) | E5: =IF(INDIRECT("'" & A5 & "'!$I$11")=0,"",INDIRECT("'" & A5 & "'!$I$11")) | F5: =IF(INDIRECT("'" & A5 & "'!$F$12")=0,"",INDIRECT("'" & A5 & "'!$F$12")) | G5: =IF(INDIRECT("'" & A5 & "'!$I$12")=0,"",INDIRECT("'" & A5 & "'!$I$12")) | H5: =IF(INDIRECT("'" & A5 & "'!$F$13")=0,"",INDIRECT("'" & A5 & "'!$F$13")) | I5: =IF(INDIRECT("'" & A5 & "'!$I$33")=0,"",INDIRECT("'" & A5 & "'!$I$33")) | J5: =IF(INDIRECT("'" & A5 & "'!$I$44")=0,"",INDIRECT("'" & A5 & "'!$I$44")) | K5: =IF(INDIRECT("'" & A5 & "'!$I$57")=0,"",INDIRECT("'" & A5 & "'!$I$57")) | L5: =IF(INDIRECT("'" & A5 & "'!$I$66")=0,"",INDIRECT("'" & A5 & "'!$I$66")) | M5: =IFERROR(INDIRECT("'" & A5 & "'!$J$11"),"") | N5: =IFERROR(INDIRECT("'" & A5 & "'!$J$12"),"") | O5: =IFERROR(INDIRECT("'" & A5 & "'!$J$13"),"") | P5: =IFERROR(INDIRECT("'" & A5 & "'!$F$16"),"") | Q5: =IF(INDIRECT("'" & A5 & "'!$I$76")=0,"",INDIRECT("'" & A5 & "'!$I$76")) | T5: =M5 | U5: =N5 | V5: =offertetarief -> 0 | W5: =regietarief -> 0 | X5: =spectarief -> 0 | Y5: =INDIRECT("'" & A5 & "'!$I$14") | Z5: =INDIRECT("'" & A5 & "'!$I$19") | AA5: =INDIRECT("'" & A5 & "'!$I$22") | AB5: =INDIRECT("'" & A5 & "'!$F$22") -> 0 | AC5: =INDIRECT("'" & A5 & "'!$I$23") | AD5: =INDIRECT("'" & A5 & "'!$F$23") -> 0 | AE5: =INDIRECT("'" & A5 & "'!$I$24") -> 0 | AF5: =INDIRECT("'" & A5 & "'!$F$24") -> 0 | AG5: =INDIRECT("'" & A5 & "'!$I$25") | AH5: =INDIRECT("'" & A5 & "'!$F$25") -> 0 | AI5: =INDIRECT("'" & A5 & "'!$I$26") | AJ5: =INDIRECT("'" & A5 & "'!$F$26") -> 0 | AK5: =INDIRECT("'" & A5 & "'!$I$27") | AL5: =INDIRECT("'" & A5 & "'!$F$27") -> 0 | AM5: =INDIRECT("'" & A5 & "'!$I$28") | AN5: =INDIRECT("'" & A5 & "'!$F$28") -> 0 | AO5: =INDIRECT("'" & A5 & "'!$I$29") | AP5: =INDIRECT("'" & A5 & "'!$F$29") -> 0 | AQ5: =INDIRECT("'" & A5 & "'!$I$30") | AR5: =INDIRECT("'" & A5 & "'!$F$30") -> 0 | AS5: =INDIRECT("'" & A5 & "'!$I$31") | AT5: =INDIRECT("'" & A5 & "'!$F$31") -> 0 | AU5: =INDIRECT("'" & A5 & "'!$I$32") | AV5: =INDIRECT("'" & A5 & "'!$F$32") -> 0 | AW5: =INDIRECT("'" & A5 & "'!$I$36") | AX5: =INDIRECT("'" & A5 & "'!$F$36") -> 0 | AY5: =INDIRECT("'" & A5 & "'!$I$37") | AZ5: =INDIRECT("'" & A5 & "'!$F$37") -> 0 | BA5: =INDIRECT("'" & A5 & "'!$I$38") | BB5: =INDIRECT("'" & A5 & "'!$F$38") -> 0 | BC5: =INDIRECT("'" & A5 & "'!$I$39") | BD5: =INDIRECT("'" & A5 & "'!$F$39") -> 0 | BE5: =INDIRECT("'" & A5 & "'!$I$40") | BF5: =INDIRECT("'" & A5 & "'!$F$40") -> 0 | BG5: =INDIRECT("'" & A5 & "'!$I$41") | BH5: =INDIRECT("'" & A5 & "'!$F$41") -> 0 | BI5: =INDIRECT("'" & A5 & "'!$I$42") | BJ5: =INDIRECT("'" & A5 & "'!$F$42") -> 0 | BK5: =INDIRECT("'" & A5 & "'!$I$47") | BL5: =INDIRECT("'" & A5 & "'!$F$47") -> 0 | BM5: =INDIRECT("'" & A5 & "'!$I$48") | BN5: =INDIRECT("'" & A5 & "'!$F$48") -> 0 | BO5: =INDIRECT("'" & A5 & "'!$I$49") | BP5: =INDIRECT("'" & A5 & "'!$F$49") -> 0 | BQ5: =INDIRECT("'" & A5 & "'!$I$50") | BR5: =INDIRECT("'" & A5 & "'!$F$50") -> 0 | BS5: =INDIRECT("'" & A5 & "'!$I$51") | BT5: =INDIRECT("'" & A5 & "'!$F$51") -> 0 | BU5: =INDIRECT("'" & A5 & "'!$I$52") | BV5: =INDIRECT("'" & A5 & "'!$F$52") -> 0 | BW5: =INDIRECT("'" & A5 & "'!$I$53") | BX5: =INDIRECT("'" & A5 & "'!$F$53") -> 0 | BY5: =INDIRECT("'" & A5 & "'!$I$54") | BZ5: =INDIRECT("'" & A5 & "'!$F$54") -> 0 | CA5: =INDIRECT("'" & A5 & "'!$I$55") | CB5: =INDIRECT("'" & A5 & "'!$F$55") -> 0 | CC5: =INDIRECT("'" & A5 & "'!$I$56") | CD5: =INDIRECT("'" & A5 & "'!$F$56") -> 0 | CE5: =INDIRECT("'" & A5 & "'!$I$76") | CF5: =INDIRECT("'" & A5 & "'!$G$19") -> 4084.6154 | CG5: =INDIRECT("'" & A5 & "'!$D$19") -> 1062000 | CH5: =INDIRECT("'" & A5 & "'!$M$19") -> 0 | CI5: =INDIRECT("'" & A5 & "'!$N$19") -> 0 | CJ5: =INDIRECT("'" & A5 & "'!$M$20") -> 0 | CK5: =INDIRECT("'" & A5 & "'!$N$20") -> 0 | CL5: =INDIRECT("'" & A5 & "'!$M$21") -> 0 | CM5: =INDIRECT("'" & A5 & "'!$N$21") -> 0 | CN5: =INDIRECT("'" & A5 & "'!$M$22") -> 0 | CO5: =INDIRECT("'" & A5 & "'!$N$22") -> 0 | CP5: =INDIRECT("'" & A5 & "'!$M$23") -> 0 | CQ5: =INDIRECT("'" & A5 & "'!$N$23") -> 0 | CR5: =INDIRECT("'" & A5 & "'!$M$24") -> 0 | CS5: =INDIRECT("'" & A5 & "'!$N$24") -> 0 | CT5: =INDIRECT("'" & A5 & "'!$M$25") -> 0 | CU5: =INDIRECT("'" & A5 & "'!$N$25") -> 0 | CV5: =INDIRECT("'" & A5 & "'!$M$26") -> 0 | CW5: =INDIRECT("'" & A5 & "'!$N$26") -> 0 | CX5: =INDIRECT("'" & A5 & "'!$M$27") -> 0 | CY5: =INDIRECT("'" & A5 & "'!$N$27") -> 0 | CZ5: =INDIRECT("'" & A5 & "'!$M$28") -> 0 | DA5: =INDIRECT("'" & A5 & "'!$N$28") -> 0 | DB5: =INDIRECT("'" & A5 & "'!$M$29") -> 0 | DC5: =INDIRECT("'" & A5 & "'!$N$29") -> 0 | DD5: =INDIRECT("'" & A5 & "'!$M$30") -> 0 | DE5: =INDIRECT("'" & A5 & "'!$N$30") -> 0 | DF5: =INDIRECT("'" & A5 & "'!$M$31") -> 0 | DG5: =INDIRECT("'" & A5 & "'!$N$31") -> 0 | DH5: =INDIRECT("'" & A5 & "'!$M$32") -> 0 | DI5: =INDIRECT("'" & A5 & "'!$N$32") -> 0 | DJ5: =INDIRECT("'" & A5 & "'!$M$33") -> 0 | DK5: =INDIRECT("'" & A5 & "'!$N$33") -> 0 | DL5: =SUM(CE5/CF5) -> #VALUE!
A6: =Verzamelblad!A6 -> 2 | B6: =INDIRECT("'" & A6 & "'!$B$4") -> Gemeentewerf Buitenpost | C6: =IF(INDIRECT("'" & A6 & "'!$I$78")=0,"",INDIRECT("'" & A6 & "'!$I$78")) | D6: =IF(INDIRECT("'" & A6 & "'!$F$11")=0,"",INDIRECT("'" & A6 & "'!$F$11")) | E6: =IF(INDIRECT("'" & A6 & "'!$I$11")=0,"",INDIRECT("'" & A6 & "'!$I$11")) | F6: =IF(INDIRECT("'" & A6 & "'!$F$12")=0,"",INDIRECT("'" & A6 & "'!$F$12")) | G6: =IF(INDIRECT("'" & A6 & "'!$I$12")=0,"",INDIRECT("'" & A6 & "'!$I$12")) | H6: =IF(INDIRECT("'" & A6 & "'!$F$13")=0,"",INDIRECT("'" & A6 & "'!$F$13")) | I6: =IF(INDIRECT("'" & A6 & "'!$I$33")=0,"",INDIRECT("'" & A6 & "'!$I$33")) | J6: =IF(INDIRECT("'" & A6 & "'!$I$44")=0,"",INDIRECT("'" & A6 & "'!$I$44")) | K6: =IF(INDIRECT("'" & A6 & "'!$I$57")=0,"",INDIRECT("'" & A6 & "'!$I$57")) | L6: =IF(INDIRECT("'" & A6 & "'!$I$66")=0,"",INDIRECT("'" & A6 & "'!$I$66")) | M6: =IFERROR(INDIRECT("'" & A6 & "'!$J$11"),"") | N6: =IFERROR(INDIRECT("'" & A6 & "'!$J$12"),"") | O6: =IFERROR(INDIRECT("'" & A6 & "'!$J$13"),"") | P6: =IFERROR(INDIRECT("'" & A6 & "'!$F$16"),"") | Q6: =IF(INDIRECT("'" & A6 & "'!$I$76")=0,"",INDIRECT("'" & A6 & "'!$I$76")) | T6: =M6 | U6: =N6 | V6: =offertetarief -> 0 | W6: =regietarief -> 0 | X6: =spectarief -> 0 | Y6: =INDIRECT("'" & A6 & "'!$I$14") | Z6: =INDIRECT("'" & A6 & "'!$I$19") | AA6: =INDIRECT("'" & A6 & "'!$I$22") | AB6: =INDIRECT("'" & A6 & "'!$F$22") -> 0 | AC6: =INDIRECT("'" & A6 & "'!$I$23") | AD6: =INDIRECT("'" & A6 & "'!$F$23") -> 0 | AE6: =INDIRECT("'" & A6 & "'!$I$24") | AF6: =INDIRECT("'" & A6 & "'!$F$24") -> 0 | AG6: =INDIRECT("'" & A6 & "'!$I$25") | AH6: =INDIRECT("'" & A6 & "'!$F$25") -> 0 | AI6: =INDIRECT("'" & A6 & "'!$I$26") | AJ6: =INDIRECT("'" & A6 & "'!$F$26") -> 0 | AK6: =INDIRECT("'" & A6 & "'!$I$27") | AL6: =INDIRECT("'" & A6 & "'!$F$27") -> 0 | AM6: =INDIRECT("'" & A6 & "'!$I$28") | AN6: =INDIRECT("'" & A6 & "'!$F$28") -> 0 | AO6: =INDIRECT("'" & A6 & "'!$I$29") | AP6: =INDIRECT("'" & A6 & "'!$F$29") -> 0 | AQ6: =INDIRECT("'" & A6 & "'!$I$30") | AR6: =INDIRECT("'" & A6 & "'!$F$30") -> 0 | AS6: =INDIRECT("'" & A6 & "'!$I$31") | AT6: =INDIRECT("'" & A6 & "'!$F$31") -> 0 | AU6: =INDIRECT("'" & A6 & "'!$I$32") | AV6: =INDIRECT("'" & A6 & "'!$F$32") -> 0 | AW6: =INDIRECT("'" & A6 & "'!$I$36") | AX6: =INDIRECT("'" & A6 & "'!$F$36") -> 0 | AY6: =INDIRECT("'" & A6 & "'!$I$37") | AZ6: =INDIRECT("'" & A6 & "'!$F$37") -> 0 | BA6: =INDIRECT("'" & A6 & "'!$I$38") | BB6: =INDIRECT("'" & A6 & "'!$F$38") -> 0 | BC6: =INDIRECT("'" & A6 & "'!$I$39") | BD6: =INDIRECT("'" & A6 & "'!$F$39") -> 0 | BE6: =INDIRECT("'" & A6 & "'!$I$40") | BF6: =INDIRECT("'" & A6 & "'!$F$40") -> 0 | BG6: =INDIRECT("'" & A6 & "'!$I$41") | BH6: =INDIRECT("'" & A6 & "'!$F$41") -> 0 | BI6: =INDIRECT("'" & A6 & "'!$I$42") | BJ6: =INDIRECT("'" & A6 & "'!$F$42") -> 0 | BK6: =INDIRECT("'" & A6 & "'!$I$47") | BL6: =INDIRECT("'" & A6 & "'!$F$47") -> 0 | BM6: =INDIRECT("'" & A6 & "'!$I$48") | BN6: =INDIRECT("'" & A6 & "'!$F$48") -> 0 | BO6: =INDIRECT("'" & A6 & "'!$I$49") | BP6: =INDIRECT("'" & A6 & "'!$F$49") -> 0 | BQ6: =INDIRECT("'" & A6 & "'!$I$50") | BR6: =INDIRECT("'" & A6 & "'!$F$50") -> 0 | BS6: =INDIRECT("'" & A6 & "'!$I$51") | BT6: =INDIRECT("'" & A6 & "'!$F$51") -> 0 | BU6: =INDIRECT("'" & A6 & "'!$I$52") | BV6: =INDIRECT("'" & A6 & "'!$F$52") -> 0 | BW6: =INDIRECT("'" & A6 & "'!$I$53") | BX6: =INDIRECT("'" & A6 & "'!$F$53") -> 0 | BY6: =INDIRECT("'" & A6 & "'!$I$54") | BZ6: =INDIRECT("'" & A6 & "'!$F$54") -> 0 | CA6: =INDIRECT("'" & A6 & "'!$I$55") | CB6: =INDIRECT("'" & A6 & "'!$F$55") -> 0 | CC6: =INDIRECT("'" & A6 & "'!$I$56") | CD6: =INDIRECT("'" & A6 & "'!$F$56") -> 0 | CE6: =INDIRECT("'" & A6 & "'!$I$76") | CF6: =INDIRECT("'" & A6 & "'!$G$19") -> 235 | CG6: =INDIRECT("'" & A6 & "'!$D$19") -> 61100 | CH6: =INDIRECT("'" & A6 & "'!$M$19") -> 0 | CI6: =INDIRECT("'" & A6 & "'!$N$19") -> 0 | CJ6: =INDIRECT("'" & A6 & "'!$M$20") -> 0 | CK6: =INDIRECT("'" & A6 & "'!$N$20") -> 0 | CL6: =INDIRECT("'" & A6 & "'!$M$21") -> 0 | CM6: =INDIRECT("'" & A6 & "'!$N$21") -> 0 | CN6: =INDIRECT("'" & A6 & "'!$M$22") -> 0 | CO6: =INDIRECT("'" & A6 & "'!$N$22") -> 0 | CP6: =INDIRECT("'" & A6 & "'!$M$23") -> 0 | CQ6: =INDIRECT("'" & A6 & "'!$N$23") -> 0 | CR6: =INDIRECT("'" & A6 & "'!$M$24") -> 0 | CS6: =INDIRECT("'" & A6 & "'!$N$24") -> 0 | CT6: =INDIRECT("'" & A6 & "'!$M$25") -> 0 | CU6: =INDIRECT("'" & A6 & "'!$N$25") -> 0 | CV6: =INDIRECT("'" & A6 & "'!$M$26") -> 0 | CW6: =INDIRECT("'" & A6 & "'!$N$26") -> 0 | CX6: =INDIRECT("'" & A6 & "'!$M$27") -> 0 | CY6: =INDIRECT("'" & A6 & "'!$N$27") -> 0 | CZ6: =INDIRECT("'" & A6 & "'!$M$28") -> 0 | DA6: =INDIRECT("'" & A6 & "'!$N$28") -> 0 | DB6: =INDIRECT("'" & A6 & "'!$M$29") -> 0 | DC6: =INDIRECT("'" & A6 & "'!$N$29") -> 0 | DD6: =INDIRECT("'" & A6 & "'!$M$30") -> 0 | DE6: =INDIRECT("'" & A6 & "'!$N$30") -> 0 | DF6: =INDIRECT("'" & A6 & "'!$M$31") -> 0 | DG6: =INDIRECT("'" & A6 & "'!$N$31") -> 0 | DH6: =INDIRECT("'" & A6 & "'!$M$32") -> 0 | DI6: =INDIRECT("'" & A6 & "'!$N$32") -> 0 | DJ6: =INDIRECT("'" & A6 & "'!$M$33") -> 0 | DK6: =INDIRECT("'" & A6 & "'!$N$33") -> 0 | DL6: =SUM(CE6/CF6) -> #VALUE!
A7: =Verzamelblad!A7 -> 3 | B7: =INDIRECT("'" & A7 & "'!$B$4") -> Gemeentewerf Surhuisterveen | C7: =IF(INDIRECT("'" & A7 & "'!$I$78")=0,"",INDIRECT("'" & A7 & "'!$I$78")) | D7: =IF(INDIRECT("'" & A7 & "'!$F$11")=0,"",INDIRECT("'" & A7 & "'!$F$11")) | E7: =IF(INDIRECT("'" & A7 & "'!$I$11")=0,"",INDIRECT("'" & A7 & "'!$I$11")) | F7: =IF(INDIRECT("'" & A7 & "'!$F$12")=0,"",INDIRECT("'" & A7 & "'!$F$12")) | G7: =IF(INDIRECT("'" & A7 & "'!$I$12")=0,"",INDIRECT("'" & A7 & "'!$I$12")) | H7: =IF(INDIRECT("'" & A7 & "'!$F$13")=0,"",INDIRECT("'" & A7 & "'!$F$13")) | I7: =IF(INDIRECT("'" & A7 & "'!$I$33")=0,"",INDIRECT("'" & A7 & "'!$I$33")) | J7: =IF(INDIRECT("'" & A7 & "'!$I$44")=0,"",INDIRECT("'" & A7 & "'!$I$44")) | K7: =IF(INDIRECT("'" & A7 & "'!$I$57")=0,"",INDIRECT("'" & A7 & "'!$I$57")) | L7: =IF(INDIRECT("'" & A7 & "'!$I$66")=0,"",INDIRECT("'" & A7 & "'!$I$66")) | M7: =IFERROR(INDIRECT("'" & A7 & "'!$J$11"),"") | N7: =IFERROR(INDIRECT("'" & A7 & "'!$J$12"),"") | O7: =IFERROR(INDIRECT("'" & A7 & "'!$J$13"),"") | P7: =IFERROR(INDIRECT("'" & A7 & "'!$F$16"),"") | Q7: =IF(INDIRECT("'" & A7 & "'!$I$76")=0,"",INDIRECT("'" & A7 & "'!$I$76")) | T7: =M7 | U7: =N7 | V7: =offertetarief -> 0 | W7: =regietarief -> 0 | X7: =spectarief -> 0 | Y7: =INDIRECT("'" & A7 & "'!$I$14") | Z7: =INDIRECT("'" & A7 & "'!$I$19") | AA7: =INDIRECT("'" & A7 & "'!$I$22") | AB7: =INDIRECT("'" & A7 & "'!$F$22") -> 0 | AC7: =INDIRECT("'" & A7 & "'!$I$23") | AD7: =INDIRECT("'" & A7 & "'!$F$23") -> 0 | AE7: =INDIRECT("'" & A7 & "'!$I$24") | AF7: =INDIRECT("'" & A7 & "'!$F$24") -> 0 | AG7: =INDIRECT("'" & A7 & "'!$I$25") | AH7: =INDIRECT("'" & A7 & "'!$F$25") -> 0 | AI7: =INDIRECT("'" & A7 & "'!$I$26") | AJ7: =INDIRECT("'" & A7 & "'!$F$26") -> 0 | AK7: =INDIRECT("'" & A7 & "'!$I$27") | AL7: =INDIRECT("'" & A7 & "'!$F$27") -> 0 | AM7: =INDIRECT("'" & A7 & "'!$I$28") | AN7: =INDIRECT("'" & A7 & "'!$F$28") -> 0 | AO7: =INDIRECT("'" & A7 & "'!$I$29") | AP7: =INDIRECT("'" & A7 & "'!$F$29") -> 0 | AQ7: =INDIRECT("'" & A7 & "'!$I$30") | AR7: =INDIRECT("'" & A7 & "'!$F$30") -> 0 | AS7: =INDIRECT("'" & A7 & "'!$I$31") | AT7: =INDIRECT("'" & A7 & "'!$F$31") -> 0 | AU7: =INDIRECT("'" & A7 & "'!$I$32") | AV7: =INDIRECT("'" & A7 & "'!$F$32") -> 0 | AW7: =INDIRECT("'" & A7 & "'!$I$36") | AX7: =INDIRECT("'" & A7 & "'!$F$36") -> 0 | AY7: =INDIRECT("'" & A7 & "'!$I$37") | AZ7: =INDIRECT("'" & A7 & "'!$F$37") -> 0 | BA7: =INDIRECT("'" & A7 & "'!$I$38") | BB7: =INDIRECT("'" & A7 & "'!$F$38") -> 0 | BC7: =INDIRECT("'" & A7 & "'!$I$39") | BD7: =INDIRECT("'" & A7 & "'!$F$39") -> 0 | BE7: =INDIRECT("'" & A7 & "'!$I$40") | BF7: =INDIRECT("'" & A7 & "'!$F$40") -> 0 | BG7: =INDIRECT("'" & A7 & "'!$I$41") | BH7: =INDIRECT("'" & A7 & "'!$F$41") -> 0 | BI7: =INDIRECT("'" & A7 & "'!$I$42") | BJ7: =INDIRECT("'" & A7 & "'!$F$42") -> 0 | BK7: =INDIRECT("'" & A7 & "'!$I$47") | BL7: =INDIRECT("'" & A7 & "'!$F$47") -> 0 | BM7: =INDIRECT("'" & A7 & "'!$I$48") | BN7: =INDIRECT("'" & A7 & "'!$F$48") -> 0 | BO7: =INDIRECT("'" & A7 & "'!$I$49") | BP7: =INDIRECT("'" & A7 & "'!$F$49") -> 0 | BQ7: =INDIRECT("'" & A7 & "'!$I$50") | BR7: =INDIRECT("'" & A7 & "'!$F$50") -> 0 | BS7: =INDIRECT("'" & A7 & "'!$I$51") | BT7: =INDIRECT("'" & A7 & "'!$F$51") -> 0 | BU7: =INDIRECT("'" & A7 & "'!$I$52") | BV7: =INDIRECT("'" & A7 & "'!$F$52") -> 0 | BW7: =INDIRECT("'" & A7 & "'!$I$53") | BX7: =INDIRECT("'" & A7 & "'!$F$53") -> 0 | BY7: =INDIRECT("'" & A7 & "'!$I$54") | BZ7: =INDIRECT("'" & A7 & "'!$F$54") -> 0 | CA7: =INDIRECT("'" & A7 & "'!$I$55") | CB7: =INDIRECT("'" & A7 & "'!$F$55") -> 0 | CC7: =INDIRECT("'" & A7 & "'!$I$56") | CD7: =INDIRECT("'" & A7 & "'!$F$56") -> 0 | CE7: =INDIRECT("'" & A7 & "'!$I$76") | CF7: =INDIRECT("'" & A7 & "'!$G$19") -> 96 | CG7: =INDIRECT("'" & A7 & "'!$D$19") -> 24960 | CH7: =INDIRECT("'" & A7 & "'!$M$19") -> 0 | CI7: =INDIRECT("'" & A7 & "'!$N$19") -> 0 | CJ7: =INDIRECT("'" & A7 & "'!$M$20") -> 0 | CK7: =INDIRECT("'" & A7 & "'!$N$20") -> 0 | CL7: =INDIRECT("'" & A7 & "'!$M$21") -> 0 | CM7: =INDIRECT("'" & A7 & "'!$N$21") -> 0 | CN7: =INDIRECT("'" & A7 & "'!$M$22") -> 0 | CO7: =INDIRECT("'" & A7 & "'!$N$22") -> 0 | CP7: =INDIRECT("'" & A7 & "'!$M$23") -> 0 | CQ7: =INDIRECT("'" & A7 & "'!$N$23") -> 0 | CR7: =INDIRECT("'" & A7 & "'!$M$24") -> 0 | CS7: =INDIRECT("'" & A7 & "'!$N$24") -> 0 | CT7: =INDIRECT("'" & A7 & "'!$M$25") -> 0 | CU7: =INDIRECT("'" & A7 & "'!$N$25") -> 0 | CV7: =INDIRECT("'" & A7 & "'!$M$26") -> 0 | CW7: =INDIRECT("'" & A7 & "'!$N$26") -> 0 | CX7: =INDIRECT("'" & A7 & "'!$M$27") -> 0 | CY7: =INDIRECT("'" & A7 & "'!$N$27") -> 0 | CZ7: =INDIRECT("'" & A7 & "'!$M$28") -> 0 | DA7: =INDIRECT("'" & A7 & "'!$N$28") -> 0 | DB7: =INDIRECT("'" & A7 & "'!$M$29") -> 0 | DC7: =INDIRECT("'" & A7 & "'!$N$29") -> 0 | DD7: =INDIRECT("'" & A7 & "'!$M$30") -> 0 | DE7: =INDIRECT("'" & A7 & "'!$N$30") -> 0 | DF7: =INDIRECT("'" & A7 & "'!$M$31") -> 0 | DG7: =INDIRECT("'" & A7 & "'!$N$31") -> 0 | DH7: =INDIRECT("'" & A7 & "'!$M$32") -> 0 | DI7: =INDIRECT("'" & A7 & "'!$N$32") -> 0 | DJ7: =INDIRECT("'" & A7 & "'!$M$33") -> 0 | DK7: =INDIRECT("'" & A7 & "'!$N$33") -> 0 | DL7: =SUM(CE7/CF7) -> #VALUE!
A8: =Verzamelblad!A8 -> 4 | B8: =INDIRECT("'" & A8 & "'!$B$4") -> De Kruidhof | C8: =IF(INDIRECT("'" & A8 & "'!$I$78")=0,"",INDIRECT("'" & A8 & "'!$I$78")) | D8: =IF(INDIRECT("'" & A8 & "'!$F$11")=0,"",INDIRECT("'" & A8 & "'!$F$11")) | E8: =IF(INDIRECT("'" & A8 & "'!$I$11")=0,"",INDIRECT("'" & A8 & "'!$I$11")) | F8: =IF(INDIRECT("'" & A8 & "'!$F$12")=0,"",INDIRECT("'" & A8 & "'!$F$12")) | G8: =IF(INDIRECT("'" & A8 & "'!$I$12")=0,"",INDIRECT("'" & A8 & "'!$I$12")) | H8: =IF(INDIRECT("'" & A8 & "'!$F$13")=0,"",INDIRECT("'" & A8 & "'!$F$13")) | I8: =IF(INDIRECT("'" & A8 & "'!$I$33")=0,"",INDIRECT("'" & A8 & "'!$I$33")) | J8: =IF(INDIRECT("'" & A8 & "'!$I$44")=0,"",INDIRECT("'" & A8 & "'!$I$44")) | K8: =IF(INDIRECT("'" & A8 & "'!$I$57")=0,"",INDIRECT("'" & A8 & "'!$I$57")) | L8: =IF(INDIRECT("'" & A8 & "'!$I$66")=0,"",INDIRECT("'" & A8 & "'!$I$66")) | M8: =IFERROR(INDIRECT("'" & A8 & "'!$J$11"),"") | N8: =IFERROR(INDIRECT("'" & A8 & "'!$J$12"),"") | O8: =IFERROR(INDIRECT("'" & A8 & "'!$J$13"),"") | P8: =IFERROR(INDIRECT("'" & A8 & "'!$F$16"),"") | Q8: =IF(INDIRECT("'" & A8 & "'!$I$76")=0,"",INDIRECT("'" & A8 & "'!$I$76")) | T8: =M8 | U8: =N8 | V8: =offertetarief -> 0 | W8: =regietarief -> 0 | X8: =spectarief -> 0 | Y8: =INDIRECT("'" & A8 & "'!$I$14") | Z8: =INDIRECT("'" & A8 & "'!$I$19") | AA8: =INDIRECT("'" & A8 & "'!$I$22") | AB8: =INDIRECT("'" & A8 & "'!$F$22") -> 0 | AC8: =INDIRECT("'" & A8 & "'!$I$23") | AD8: =INDIRECT("'" & A8 & "'!$F$23") -> 0 | AE8: =INDIRECT("'" & A8 & "'!$I$24") | AF8: =INDIRECT("'" & A8 & "'!$F$24") -> 0 | AG8: =INDIRECT("'" & A8 & "'!$I$25") | AH8: =INDIRECT("'" & A8 & "'!$F$25") -> 0 | AI8: =INDIRECT("'" & A8 & "'!$I$26") | AJ8: =INDIRECT("'" & A8 & "'!$F$26") -> 0 | AK8: =INDIRECT("'" & A8 & "'!$I$27") | AL8: =INDIRECT("'" & A8 & "'!$F$27") -> 0 | AM8: =INDIRECT("'" & A8 & "'!$I$28") | AN8: =INDIRECT("'" & A8 & "'!$F$28") -> 0 | AO8: =INDIRECT("'" & A8 & "'!$I$29") | AP8: =INDIRECT("'" & A8 & "'!$F$29") -> 0 | AQ8: =INDIRECT("'" & A8 & "'!$I$30") | AR8: =INDIRECT("'" & A8 & "'!$F$30") -> 0 | AS8: =INDIRECT("'" & A8 & "'!$I$31") | AT8: =INDIRECT("'" & A8 & "'!$F$31") -> 0 | AU8: =INDIRECT("'" & A8 & "'!$I$32") | AV8: =INDIRECT("'" & A8 & "'!$F$32") -> 0 | AW8: =INDIRECT("'" & A8 & "'!$I$36") | AX8: =INDIRECT("'" & A8 & "'!$F$36") -> 0 | AY8: =INDIRECT("'" & A8 & "'!$I$37") | AZ8: =INDIRECT("'" & A8 & "'!$F$37") -> 0 | BA8: =INDIRECT("'" & A8 & "'!$I$38") | BB8: =INDIRECT("'" & A8 & "'!$F$38") -> 0 | BC8: =INDIRECT("'" & A8 & "'!$I$39") | BD8: =INDIRECT("'" & A8 & "'!$F$39") -> 0 | BE8: =INDIRECT("'" & A8 & "'!$I$40") | BF8: =INDIRECT("'" & A8 & "'!$F$40") -> 0 | BG8: =INDIRECT("'" & A8 & "'!$I$41") | BH8: =INDIRECT("'" & A8 & "'!$F$41") -> 0 | BI8: =INDIRECT("'" & A8 & "'!$I$42") | BJ8: =INDIRECT("'" & A8 & "'!$F$42") -> 0 | BK8: =INDIRECT("'" & A8 & "'!$I$47") | BL8: =INDIRECT("'" & A8 & "'!$F$47") -> 0 | BM8: =INDIRECT("'" & A8 & "'!$I$48") | BN8: =INDIRECT("'" & A8 & "'!$F$48") -> 0 | BO8: =INDIRECT("'" & A8 & "'!$I$49") | BP8: =INDIRECT("'" & A8 & "'!$F$49") -> 0 | BQ8: =INDIRECT("'" & A8 & "'!$I$50") | BR8: =INDIRECT("'" & A8 & "'!$F$50") -> 0 | BS8: =INDIRECT("'" & A8 & "'!$I$51") | BT8: =INDIRECT("'" & A8 & "'!$F$51") -> 0 | BU8: =INDIRECT("'" & A8 & "'!$I$52") | BV8: =INDIRECT("'" & A8 & "'!$F$52") -> 0 | BW8: =INDIRECT("'" & A8 & "'!$I$53") | BX8: =INDIRECT("'" & A8 & "'!$F$53") -> 0 | BY8: =INDIRECT("'" & A8 & "'!$I$54") | BZ8: =INDIRECT("'" & A8 & "'!$F$54") -> 0 | CA8: =INDIRECT("'" & A8 & "'!$I$55") | CB8: =INDIRECT("'" & A8 & "'!$F$55") -> 0 | CC8: =INDIRECT("'" & A8 & "'!$I$56") -> 0 | CD8: =INDIRECT("'" & A8 & "'!$F$56") -> 0 | CE8: =INDIRECT("'" & A8 & "'!$I$76") | CF8: =INDIRECT("'" & A8 & "'!$G$19") -> 264.18 | CG8: =INDIRECT("'" & A8 & "'!$D$19") -> 13737.36 | CH8: =INDIRECT("'" & A8 & "'!$M$19") -> 0 | CI8: =INDIRECT("'" & A8 & "'!$N$19") -> 0 | CJ8: =INDIRECT("'" & A8 & "'!$M$20") -> 0 | CK8: =INDIRECT("'" & A8 & "'!$N$20") -> 0 | CL8: =INDIRECT("'" & A8 & "'!$M$21") -> 0 | CM8: =INDIRECT("'" & A8 & "'!$N$21") -> 0 | CN8: =INDIRECT("'" & A8 & "'!$M$22") -> 0 | CO8: =INDIRECT("'" & A8 & "'!$N$22") -> 0 | CP8: =INDIRECT("'" & A8 & "'!$M$23") -> 0 | CQ8: =INDIRECT("'" & A8 & "'!$N$23") -> 0 | CR8: =INDIRECT("'" & A8 & "'!$M$24") -> 0 | CS8: =INDIRECT("'" & A8 & "'!$N$24") -> 0 | CT8: =INDIRECT("'" & A8 & "'!$M$25") -> 0 | CU8: =INDIRECT("'" & A8 & "'!$N$25") -> 0 | CV8: =INDIRECT("'" & A8 & "'!$M$26") -> 0 | CW8: =INDIRECT("'" & A8 & "'!$N$26") -> 0 | CX8: =INDIRECT("'" & A8 & "'!$M$27") -> 0 | CY8: =INDIRECT("'" & A8 & "'!$N$27") -> 0 | CZ8: =INDIRECT("'" & A8 & "'!$M$28") -> 0 | DA8: =INDIRECT("'" & A8 & "'!$N$28") -> 0 | DB8: =INDIRECT("'" & A8 & "'!$M$29") -> 0 | DC8: =INDIRECT("'" & A8 & "'!$N$29") -> 0 | DD8: =INDIRECT("'" & A8 & "'!$M$30") -> 0 | DE8: =INDIRECT("'" & A8 & "'!$N$30") -> 0 | DF8: =INDIRECT("'" & A8 & "'!$M$31") -> 0 | DG8: =INDIRECT("'" & A8 & "'!$N$31") -> 0 | DH8: =INDIRECT("'" & A8 & "'!$M$32") -> 0 | DI8: =INDIRECT("'" & A8 & "'!$N$32") -> 0 | DJ8: =INDIRECT("'" & A8 & "'!$M$33") -> 0 | DK8: =INDIRECT("'" & A8 & "'!$N$33") -> 0 | DL8: =SUM(CE8/CF8) -> #VALUE!
A9: =Verzamelblad!A9 -> 5 | B9: =INDIRECT("'" & A9 & "'!$B$4") -> 0 | C9: =IF(INDIRECT("'" & A9 & "'!$I$78")=0,"",INDIRECT("'" & A9 & "'!$I$78")) | D9: =IF(INDIRECT("'" & A9 & "'!$F$11")=0,"",INDIRECT("'" & A9 & "'!$F$11")) | E9: =IF(INDIRECT("'" & A9 & "'!$I$11")=0,"",INDIRECT("'" & A9 & "'!$I$11")) | F9: =IF(INDIRECT("'" & A9 & "'!$F$12")=0,"",INDIRECT("'" & A9 & "'!$F$12")) | G9: =IF(INDIRECT("'" & A9 & "'!$I$12")=0,"",INDIRECT("'" & A9 & "'!$I$12")) | H9: =IF(INDIRECT("'" & A9 & "'!$F$13")=0,"",INDIRECT("'" & A9 & "'!$F$13")) | I9: =IF(INDIRECT("'" & A9 & "'!$I$33")=0,"",INDIRECT("'" & A9 & "'!$I$33")) | J9: =IF(INDIRECT("'" & A9 & "'!$I$44")=0,"",INDIRECT("'" & A9 & "'!$I$44")) | K9: =IF(INDIRECT("'" & A9 & "'!$I$57")=0,"",INDIRECT("'" & A9 & "'!$I$57")) | L9: =IF(INDIRECT("'" & A9 & "'!$I$66")=0,"",INDIRECT("'" & A9 & "'!$I$66")) | M9: =IFERROR(INDIRECT("'" & A9 & "'!$J$11"),"") | N9: =IFERROR(INDIRECT("'" & A9 & "'!$J$12"),"") | O9: =IFERROR(INDIRECT("'" & A9 & "'!$J$13"),"") | P9: =IFERROR(INDIRECT("'" & A9 & "'!$F$16"),"") | Q9: =IF(INDIRECT("'" & A9 & "'!$I$76")=0,"",INDIRECT("'" & A9 & "'!$I$76")) | T9: =M9 | U9: =N9 | V9: =offertetarief -> 0 | W9: =regietarief -> 0 | X9: =spectarief -> 0 | Y9: =INDIRECT("'" & A9 & "'!$I$14") | Z9: =INDIRECT("'" & A9 & "'!$I$19") | AA9: =INDIRECT("'" & A9 & "'!$I$22") | AB9: =INDIRECT("'" & A9 & "'!$F$22") -> 0 | AC9: =INDIRECT("'" & A9 & "'!$I$23") | AD9: =INDIRECT("'" & A9 & "'!$F$23") -> 0 | AE9: =INDIRECT("'" & A9 & "'!$I$24") | AF9: =INDIRECT("'" & A9 & "'!$F$24") -> 0 | AG9: =INDIRECT("'" & A9 & "'!$I$25") | AH9: =INDIRECT("'" & A9 & "'!$F$25") -> 0 | AI9: =INDIRECT("'" & A9 & "'!$I$26") | AJ9: =INDIRECT("'" & A9 & "'!$F$26") -> 0 | AK9: =INDIRECT("'" & A9 & "'!$I$27") | AL9: =INDIRECT("'" & A9 & "'!$F$27") -> 0 | AM9: =INDIRECT("'" & A9 & "'!$I$28") | AN9: =INDIRECT("'" & A9 & "'!$F$28") -> 0 | AO9: =INDIRECT("'" & A9 & "'!$I$29") | AP9: =INDIRECT("'" & A9 & "'!$F$29") -> 0 | AQ9: =INDIRECT("'" & A9 & "'!$I$30") | AR9: =INDIRECT("'" & A9 & "'!$F$30") -> 0 | AS9: =INDIRECT("'" & A9 & "'!$I$31") | AT9: =INDIRECT("'" & A9 & "'!$F$31") -> 0 | AU9: =INDIRECT("'" & A9 & "'!$I$32") | AV9: =INDIRECT("'" & A9 & "'!$F$32") -> 0 | AW9: =INDIRECT("'" & A9 & "'!$I$36") | AX9: =INDIRECT("'" & A9 & "'!$F$36") -> 0 | AY9: =INDIRECT("'" & A9 & "'!$I$37") | AZ9: =INDIRECT("'" & A9 & "'!$F$37") -> 0 | BA9: =INDIRECT("'" & A9 & "'!$I$38") | BB9: =INDIRECT("'" & A9 & "'!$F$38") -> 0 | BC9: =INDIRECT("'" & A9 & "'!$I$39") | BD9: =INDIRECT("'" & A9 & "'!$F$39") -> 0 | BE9: =INDIRECT("'" & A9 & "'!$I$40") | BF9: =INDIRECT("'" & A9 & "'!$F$40") -> 0 | BG9: =INDIRECT("'" & A9 & "'!$I$41") | BH9: =INDIRECT("'" & A9 & "'!$F$41") -> 0 | BI9: =INDIRECT("'" & A9 & "'!$I$42") | BJ9: =INDIRECT("'" & A9 & "'!$F$42") -> 0 | BK9: =INDIRECT("'" & A9 & "'!$I$47") | BL9: =INDIRECT("'" & A9 & "'!$F$47") -> 0 | BM9: =INDIRECT("'" & A9 & "'!$I$48") | BN9: =INDIRECT("'" & A9 & "'!$F$48") -> 0 | BO9: =INDIRECT("'" & A9 & "'!$I$49") | BP9: =INDIRECT("'" & A9 & "'!$F$49") -> 0 | BQ9: =INDIRECT("'" & A9 & "'!$I$50") | BR9: =INDIRECT("'" & A9 & "'!$F$50") -> 0 | BS9: =INDIRECT("'" & A9 & "'!$I$51") | BT9: =INDIRECT("'" & A9 & "'!$F$51") -> 0 | BU9: =INDIRECT("'" & A9 & "'!$I$52") | BV9: =INDIRECT("'" & A9 & "'!$F$52") -> 0 | BW9: =INDIRECT("'" & A9 & "'!$I$53") | BX9: =INDIRECT("'" & A9 & "'!$F$53") -> 0 | BY9: =INDIRECT("'" & A9 & "'!$I$54") | BZ9: =INDIRECT("'" & A9 & "'!$F$54") -> 0 | CA9: =INDIRECT("'" & A9 & "'!$I$55") | CB9: =INDIRECT("'" & A9 & "'!$F$55") -> 0 | CC9: =INDIRECT("'" & A9 & "'!$I$56") | CD9: =INDIRECT("'" & A9 & "'!$F$56") -> 0 | CE9: =INDIRECT("'" & A9 & "'!$I$76") | CF9: =INDIRECT("'" & A9 & "'!$G$19") | CG9: =INDIRECT("'" & A9 & "'!$D$19") -> 0 | CH9: =INDIRECT("'" & A9 & "'!$M$19") -> 0 | CI9: =INDIRECT("'" & A9 & "'!$N$19") -> 0 | CJ9: =INDIRECT("'" & A9 & "'!$M$20") -> 0 | CK9: =INDIRECT("'" & A9 & "'!$N$20") -> 0 | CL9: =INDIRECT("'" & A9 & "'!$M$21") -> 0 | CM9: =INDIRECT("'" & A9 & "'!$N$21") -> 0 | CN9: =INDIRECT("'" & A9 & "'!$M$22") -> 0 | CO9: =INDIRECT("'" & A9 & "'!$N$22") -> 0 | CP9: =INDIRECT("'" & A9 & "'!$M$23") -> 0 | CQ9: =INDIRECT("'" & A9 & "'!$N$23") -> 0 | CR9: =INDIRECT("'" & A9 & "'!$M$24") -> 0 | CS9: =INDIRECT("'" & A9 & "'!$N$24") -> 0 | CT9: =INDIRECT("'" & A9 & "'!$M$25") -> 0 | CU9: =INDIRECT("'" & A9 & "'!$N$25") -> 0 | CV9: =INDIRECT("'" & A9 & "'!$M$26") -> 0 | CW9: =INDIRECT("'" & A9 & "'!$N$26") -> 0 | CX9: =INDIRECT("'" & A9 & "'!$M$27") -> 0 | CY9: =INDIRECT("'" & A9 & "'!$N$27") -> 0 | CZ9: =INDIRECT("'" & A9 & "'!$M$28") -> 0 | DA9: =INDIRECT("'" & A9 & "'!$N$28") -> 0 | DB9: =INDIRECT("'" & A9 & "'!$M$29") -> 0 | DC9: =INDIRECT("'" & A9 & "'!$N$29") -> 0 | DD9: =INDIRECT("'" & A9 & "'!$M$30") -> 0 | DE9: =INDIRECT("'" & A9 & "'!$N$30") -> 0 | DF9: =INDIRECT("'" & A9 & "'!$M$31") -> 0 | DG9: =INDIRECT("'" & A9 & "'!$N$31") -> 0 | DH9: =INDIRECT("'" & A9 & "'!$M$32") -> 0 | DI9: =INDIRECT("'" & A9 & "'!$N$32") -> 0 | DJ9: =INDIRECT("'" & A9 & "'!$M$33") -> 0 | DK9: =INDIRECT("'" & A9 & "'!$N$33") -> 0 | DL9: =SUM(CE9/CF9) -> #VALUE!
B11: Totalen: | E11: =IF(SUM(E5:E9)=0,"",SUM(E5:E9)) | G11: =IF(SUM(G5:G9)=0,"",SUM(G5:G9)) | H11: =IF(SUM(H5:H9)=0,"",SUM(H5:H9)) | I11: =IF(SUM(I5:I9)=0,"",SUM(I5:I9)) | J11: =IF(SUM(J5:J9)=0,"",SUM(J5:J9)) | K11: =IF(SUM(K5:K9)=0,"",SUM(K5:K9)) | L11: =IF(SUM(L5:L9)=0,"",SUM(L5:L9)) | M11: =IF(SUM(M5:M9)=0,"",SUM(M5:M9)) | N11: =IF(SUM(N5:N9)=0,"",SUM(N5:N9)) | ... Q11: =IF(SUM(Q5:Q9)=0,"",SUM(Q5:Q9))
B13: * Werkzaamheden met een frequentie tot 1x per maand

Sheet 5
D2: =CONCATENATE("Uitvoeringsbepaling"," ",H4,", onderdeel van ",Verzamelblad!A2," ",Verzamelblad!A3) -> Uitvoeringsbepaling 5, onderdeel van Bestek
A4: Object: | B4: =VLOOKUP(H4,Verzamelblad!A5:E19,3) -> 0 | F4: Uitvoeringsbepaling: | H4: 5
A5: Straat: | B5: =VLOOKUP(H4,Verzamelblad!A5:E19,4) -> 0 | F5: Inventarisatie: | H5: =CONCATENATE(H4,"a") -> 5a
A6: Plaats: | B6: =VLOOKUP(H4,Verzamelblad!A5:E19,5) -> 0 | F6: Revisiedatum:
A8: Gewenste aanvangstijd schoonmaak: | E8: =VLOOKUP($H$4,Verzamelblad!$A$5:$EK$19,14,0) -> 0
A9: Aantal dagen schoonmaak per jaar: | E9: =VLOOKUP($H$4,Verzamelblad!$A$5:$EK$19,6,0) -> 0
F10: Prijs | G10: Uren | H10: Gem. uren/dag | I10: Jaarpijs | J10: Jaaruren | K10: Verhouding
A11: Werkzaamheden met een frequentie tot 1/20 | F11: =IFERROR(IF(SUM(I11/12)=0,"",SUM(I11/12)),"") | G11: =IFERROR(SUM(J11/12),"") | H11: =IFERROR(SUM(J11/E9),"") | I11: =IFERROR(IF(SUM($I$14*K11)=0,"",SUM($I$14*K11)),"") | J11: =IFERROR(SUM(J14*K11),"")
A12: Schoonmaakwerkzaamheden 3x per jaar | F12: =IFERROR(IF(SUM(I12/3)=0,"",SUM(I12/3)),"") | G12: =IFERROR(SUM(J12/3),"") | I12: =IFERROR(IF(SUM($I$14*K12)=0,"",SUM($I$14*K12)),"") | J12: =IFERROR(SUM(J14*K12),"")
A13: Schoonmaakwerkzaamheden 1x per jaar | F13: =IF(I13=0,"",I13) | G13: =IFERROR(J13,"") | I13: =IFERROR(IF(SUM($I$14*K13)=0,"",SUM($I$14*K13)),"") | J13: =IFERROR(SUM(J14*K13),"")
A14: Totale jaarprijs / jaaruren | F14: =IFERROR(IF(SUM(F11:F13)=0,"",SUM(F11:F13)),"") | G14: =IFERROR(SUM(G11:G13),"") -> 0 | I14: =IFERROR(IF(E100=0,"",E100),"") | J14: =IFERROR(SUM(I14/offertetarief),"") | K14: =IF(SUM(K11:K13)=100%,"","Geen 100%") -> Geen 100%
F15: Per dag | G15: Per jaar
A16: Uren direct toezicht | F16: =IFERROR(SUM((J14*directtoezicht)/E9),"") | G16: =IF(J14="","",SUM(J14*directtoezicht))
K17: Programma categorie | L17: Gemiddelde productie per m²
A18: Prestatie
A19: M² uit te besteden per jaar | D19: =D100 -> 0 | E19: M² uit te besteden per dag | G19: =IFERROR(D100/E9,"") | H19: Gem. prestatie | I19: =IFERROR(SUM(D19/J14),"") | K19: =IF(INDIRECT("'"&$H$5&"'!F539")="H","",IF(INDIRECT("'"&$H$5&"'!F539")="Vrije categorie","",INDIRECT("'"&$H$5&"'!F539"))) -> A
K20: =IF(INDIRECT("'"&$H$5&"'!F540")="H","",IF(INDIRECT("'"&$H$5&"'!F540")="Vrije categorie","",INDIRECT("'"&$H$5&"'!F540"))) -> B
A21: Extra werkzaamheden | D21: Prijs per | E21: Aantal | F21: Prijs per eenheid | G21: Beurtprijs | H21: Beurten per jaar | I21: Prijs per jaar | K21: =IF(INDIRECT("'"&$H$5&"'!F541")="H","",IF(INDIRECT("'"&$H$5&"'!F541")="Vrije categorie","",INDIRECT("'"&$H$5&"'!F541"))) -> C
A22: =VLOOKUP($H$4,Verzamelblad!$A$5:$EK$19,32,0) -> Dieptereiniging sanitair | D22: =VLOOKUP($H$4,Verzamelblad!$A$5:$EK$19,33,0) -> m² | E22: =VLOOKUP($H$4,Verzamelblad!$A$5:$DE$19,34) -> 0 | G22: =IF(IF(E22="","",SUM(E22*F22))=0,"",IF(E22="","",SUM(E22*F22))) | H22: =VLOOKUP($H$4,Verzamelblad!$A$5:$EK$19,35,0) -> 0 | I22: =IFERROR(IF(IF(H22="op afroep","",SUM(G22*H22))=0,"",IF(H22="op afroep","",SUM(G22*H22))),"") | K22: =IF(INDIRECT("'"&$H$5&"'!F542")="H","",IF(INDIRECT("'"&$H$5&"'!F542")="Vrije categorie","",INDIRECT("'"&$H$5&"'!F542"))) -> D
A23: =VLOOKUP($H$4,Verzamelblad!$A$5:$EK$19,36,0) -> 0 | D23: =VLOOKUP($H$4,Verzamelblad!$A$5:$EK$19,37,0) -> 0 | E23: =VLOOKUP($H$4,Verzamelblad!$A$5:$DE$19,38) -> 0 | G23: =IF(IF(E23="","",SUM(E23*F23))=0,"",IF(E23="","",SUM(E23*F23))) | H23: =VLOOKUP($H$4,Verzamelblad!$A$5:$EK$19,39,0) -> 0 | I23: =IFERROR(IF(IF(H23="op afroep","",SUM(G23*H23))=0,"",IF(H23="op afroep","",SUM(G23*H23))),"") | K23: =IF(INDIRECT("'"&$H$5&"'!F543")="H","",IF(INDIRECT("'"&$H$5&"'!F543")="Vrije categorie","",INDIRECT("'"&$H$5&"'!F543"))) -> E
A24: =VLOOKUP($H$4,Verzamelblad!$A$5:$EK$19,40,0) -> 0 | D24: =VLOOKUP($H$4,Verzamelblad!$A$5:$EK$19,41,0) -> 0 | E24: =VLOOKUP($H$4,Verzamelblad!$A$5:$DE$19,42) -> 0 | G24: =IF(IF(E24="","",SUM(E24*F24))=0,"",IF(E24="","",SUM(E24*F24))) | H24: =VLOOKUP($H$4,Verzamelblad!$A$5:$EK$19,43,0) -> 0 | I24: =IFERROR(IF(IF(H24="op afroep","",SUM(G24*H24))=0,"",IF(H24="op afroep","",SUM(G24*H24))),"") | K24: =IF(INDIRECT("'"&$H$5&"'!F544")="H","",IF(INDIRECT("'"&$H$5&"'!F544")="Vrije categorie","",INDIRECT("'"&$H$5&"'!F544"))) -> F
A25: =VLOOKUP($H$4,Verzamelblad!$A$5:$EK$19,44,0) -> 0 | D25: =VLOOKUP($H$4,Verzamelblad!$A$5:$EK$19,45,0) -> 0 | E25: =VLOOKUP($H$4,Verzamelblad!$A$5:$DE$19,46) -> 0 | G25: =IF(IF(E25="","",SUM(E25*F25))=0,"",IF(E25="","",SUM(E25*F25))) | H25: =VLOOKUP($H$4,Verzamelblad!$A$5:$EK$19,47,0) -> 0 | I25: =IFERROR(IF(IF(H25="op afroep","",SUM(G25*H25))=0,"",IF(H25="op afroep","",SUM(G25*H25))),"") | K25: =IF(INDIRECT("'"&$H$5&"'!F545")="H","",IF(INDIRECT("'"&$H$5&"'!F545")="Vrije categorie","",INDIRECT("'"&$H$5&"'!F545"))) -> G
