Workbook

Sheet Invulinstructie
A1: Invulinstructie prijzenblad
A3: Opdrachtnemer dient ten behoeve van deze aanbesteding het volledige Prijzenblad in te vullen. Opdrachtnemer dient uitsluitend gebruik te maken van dit model. Opdrachtnemer mag geen wijzigingen aanbrengen in het model, zoals het toevoegen/verwijderen van regels. Bij tabbladen 1b t/m 2e alleen de gele vlakken invullen.
A4: Onderdeel 1a: Inschrijfstaat In dit tabblad worden de totaalprijzen opgegeven voor de keuring en het preventief onderhoud per jaar (tabblad 2a), het correctief onderhoud o.b.v. fictieve afname (tabblad 2b) en de levering o.b.v. fictieve offerte. Dit overzicht wordt beoordeeld conform hetgeen beschreven is in het Aanbestedingsdocument. De Inschrijfstaat dient rechtsgeldig ondertekend te worden door een daartoe bevoegd persoon en dient te worden bijgevoegd bij de Inschrijving.
A5: Onderdeel 1b: Controle gewichten In dit tabblad worden de gewichten opgegeven van de te leveren volumecontainers, perscontainers en persinstallatie (zie eis 0.2 van het programma van eisen)
A6: Onderdeel 2a: All-in onderhoud In dit tabblad worden de jaarlijkse kosten (per systeem) voor het all-in onderhoud van de containers/ installaties ingevuld, rekening houdend met de eisen zoals opgegeven in de aanbestedingsdocumenten. Onder all-in onderhoud verstaat de aanbestedende dienst preventief en correctief onderhoud, keuren en materiaalverbruik. Dit all-in tarief zal alleen betaald worden tijdens de garantietermijn van 5 jaar. Onderhoudskosten die gemaakt worden naar aanleiding van verwijtbare schade vallen hierbuiten. Opdrachtnemer kan geen rechten ontlenen aan het fictieve aantal.
A7: Onderdeel 2b: Regulier onderhoud In dit tabblad worden de kosten voor de keuring en onderhoud van de containers/ installaties ingevuld, rekening houdend met de eisen zoals opgegeven in de aanbestedingsdocumenten. Dit tarief zal betaald worden voor de periode na de eerste 5 jaar all-in onderhoud. Opdrachtnemer dient per systeem de jaarlijkse kosten t.b.v. de keuring, het onderhoud en het opstellen van een adviesrapport op te geven. Opdrachtnemer kan geen rechten ontlenen aan het fictieve aantal.
A8: Onderdeel 2c: Schade en storing In dit tabblad worden de kosten voor het "correctief" onderhoud, bijvoorbeeld herstellen van verwijtbare schade aan of oplossen van storingen door verkeerd gebruik van de containers/ installaties ingevuld, rekening houdend met de eisen zoals opgegeven in de aanbestedingsdocumenten. Opdrachtnemer dient voor de kosten voor de inzet van personeel het all-in uurtarief van de monteur op te geven. Deze worden vermenigvuldigd met een fictief aantal uur per jaar om te komen tot een totaalprijs voor de beoordeling. Tevens wordt een voorrijtarief opgegeven, welke ook wordt vermenigvuldigd met een fictief aantal. Dit voorrijtarief is geldig voor alle locaties van Opdrachtgever. Opdrachtnemer kan geen rechten ontlenen aan het fictieve aantal.
A9: Onderdeel 2d: Levering In dit tabblad worden de kosten voor de levering van nieuwe containers/ installaties ingevuld, rekening houdend met de eisen zoals opgegeven in de aanbestedingsdocumenten. Opdrachtnemer kan geen rechten ontlenen aan de fictieve afname.
A10: Onderdeel 2e: E-beheermodule In dit tabblad worden de kosten voor het gebruik van een e-beheermodule en het leveren van losse trackers ingevuld, rekening houdend met de eisen zoals opgegeven in de aanbestedingsdocumenten. Opdrachtnemer kan geen rechten ontlenen aan de fictieve afname.

Sheet 1. Inschrijfstaat
A1: 1. Inschrijfstaat
A3: Onderdeel | B3: Prijs excl. BTW | C3: Prijs incl. BTW
A4: Totaal: 2a. All-in onderhoud | B4: ='2a. All-in onderhoud'!H30 -> 0 | C4: =B4*1.21 -> 0
A5: Totaal: 2b. Regulier onderhoud | B5: ='2b. Regulier onderhoud'!H30 -> 0 | C5: =B5*1.21 -> 0
A6: Totaal: 2c. Schade en storing | B6: ='2c. Schade en storing'!D8 -> 0 | C6: =B6*1.21 -> 0
A7: Totaal: 2d. Levering | B7: ='2d. Levering'!F30 -> 0 | C7: =B7*1.21 -> 0
A8: Totaal: 2e. E-beheermodule + extra trackers | B8: ='2e. e-beheermodule'!D14 -> 0 | C8: =B8*1.21 -> 0
A9: Inschrijfprijs | B9: =SUM(B4:B8) -> 0 | C9: =B9*1.21 -> 0
A12: Datum:
A13: Handtekening rechtsgeldig vertegenwoordiger:
A14: Naam:
A15: Functie:
A16: Organisatie:

Sheet 1b. controle gewichten
A1: 1b. Controle gewichten
A3: Type container | B3: Inhoud m³ | C3: tekening nr GAD | D3: Kilogram | E3: minimaal | F3: opties | G3: Kilogram | H3: Gewicht
A4: Containers
A5: Puin / aarde container | B5: 12 | C5: 1 | D5: 3016 | E5: =(D5/100)*95.9 -> 2892.344 | F5: Volgens programma van eisen | H5: =IF(G5>E5,"AKKOORD","TE LICHT") -> TE LICHT
A6: Gips / gasbeton container | B6: 15 | C6: 2 | D6: 3400 | E6: =(D6/100)*95.9 -> 3260.6 | F6: Volgens programma van eisen | H6: =IF(G6>E6,"AKKOORD","TE LICHT") -> TE LICHT
A7: Asbest container | B7: 28 | C7: 5 | D7: 3030 | E7: =(D7/100)*95.9 -> 2905.77 | F7: Volgens programma van eisen | H7: =IF(G7>E7,"AKKOORD","TE LICHT") -> TE LICHT
A8: Tapijtcontainer met klep (Type 1) | B8: 38 | C8: 7 | D8: 4750 | E8: =(D8/100)*95.9 -> 4555.25 | F8: met enkelzijdige scharnierende hydraulische klep | H8: =IF(G8>E8,"AKKOORD","TE LICHT") -> TE LICHT
A9: Volumecontainer met klep (Type 1) | B9: 38 | C9: 7 | D9: 4750 | E9: =(D9/100)*95.9 -> 4555.25 | F9: met enkelzijdige scharnierende hydraulische klep | H9: =IF(G9>E9,"AKKOORD","TE LICHT") -> TE LICHT
A10: Volumecontainer met klep (Type 2) | B10: 38 | C10: 4 | D10: 4950 | E10: =(D10/100)*95.9 -> 4747.05 | F10: met dubbelzijdige scharnierende hydraulische klep | H10: =IF(G10>E10,"AKKOORD","TE LICHT") -> TE LICHT
A11: Volumecontainer met klapnet afdeksysteem | B11: 38 | C11: 11 | D11: 4250 | E11: =(D11/100)*95.9 -> 4075.75 | F11: met klapnet afdeksysteem | H11: =IF(G11>E11,"AKKOORD","TE LICHT") -> TE LICHT
A12: Volumecontainer voorzien van een afdeksysteem (vouwzeil) | B12: 38 | C12: 8 | D12: 3800 | E12: =(D12/100)*95.9 -> 3644.2 | F12: met afdekzeil systeem | H12: =IF(G12>E12,"AKKOORD","TE LICHT") -> TE LICHT
A13: Glas container | B13: 38 | C13: 12 | D13: 4200 | E13: =(D13/100)*95.9 -> 4027.8 | F13: Volgens programma van eisen | H13: =IF(G13>E13,"AKKOORD","TE LICHT") -> TE LICHT
A14: Magazijncontainer | B14: 40 | C14: 6 | D14: 3100 | E14: =(D14/100)*95.9 -> 2972.9 | F14: Volgens programma van eisen | H14: =IF(G14>E14,"AKKOORD","TE LICHT") -> TE LICHT
A15: Nb Type 1 en 2 kunnen zowel met een ingebouwd hydraulisch aggregaat als door middel van een Snelfaster P 206 F worden bediend. | E15: =(D15/100)*95.9 -> 0
E16: =(D16/100)*95.9 -> 0
A17: Perscontainer | E17: =(D17/100)*95.9 -> 0
A18: Zelfpersende container | B18: 24 | D18: 5400 | E18: =(D18/100)*95.9 -> 5178.6 | F18: standdaard container | H18: =IF(G18>E18,"AKKOORD","TE LICHT") -> TE LICHT
E19: =(D19/100)*95.9 -> 0
A20: Persinstallatie | E20: =(D20/100)*95.9 -> 0
A21: Stationaire Pers | B21: 2 | D21: 3400 | E21: =(D21/100)*95.9 -> 3260.6 | F21: Volgens programma van eisen exclusief trechter | H21: =IF(G21>E21,"AKKOORD","TE LICHT") -> TE LICHT
A22: Wisselcontainers | B22: 32 | D22: 3300 | E22: =(D22/100)*95.9 -> 3164.7 | F22: Volgens programma van eisen met afsluitschuif (standaard container) | H22: =IF(G22>E22,"AKKOORD","TE LICHT") -> TE LICHT
A26: Alleen de gele vlakken invullen
A29: De door u op te geven eigen gewichten van de te leveren volumecontainers, perscontainers en persinstallaties mogen niet meer dan 4% naar beneden afwijken (dus lichter) van bovengenoemde gewichten.
A30: Gewichten welke meer afwijken dan bovengenoemde 4% zullen leiden tot diskwalificatie van uw inschrijving.
A32: De gewichten zijn exclusief opbouwdelen
A33: Onder opbouw delen verstaan wij o.a.. Pers cilinders, hydropomp/aggregaat, slangen, afstandsbediening, etc.
A34: Bij pers installaties is dit exclusief trechter
A35: Bij perscontainers is dit de standaard perscontainer, zonder verhoogde zijwanden, terughoudschuif etc.

Sheet 2a. All-in onderhoud
A1: Prijzen per jaar voor het all-in onderhoud
A3: Type container | B3: Inhoud m³ | C3: opties (zie beschrijvingen in de Factsheets) | D3: Stuks | E3: Keuring + adviesrapport | F3: Onderhoud | G3: Prijs per stuk | H3: Totaalprijs per jaar excl. BTW
A4: Containers
A5: Puin / aarde container | B5: 12 | C5: Volgens programma van eisen | D5: 5 | E5: Ja | F5: 1x per jaar | H5: =D5*G5 -> 0
A6: Gips / gasbeton container | B6: 15 | C6: Volgens programma van eisen | D6: 3 | E6: Ja | F6: 1x per jaar | H6: =D6*G6 -> 0
A7: Asbest container | B7: 28 | C7: Volgens programma van eisen | D7: 2 | E7: Ja | F7: 1x per jaar | H7: =D7*G7 -> 0
A8: Tapijtcontainer met klep (Type 1) | B8: 38 | C8: met afstandsbediening en ingebouwd aggregaat | D8: 1 | E8: Ja | F8: 1x per jaar | H8: =D8*G8 -> 0
A9: Volumecontainer met klep (Type 1) | B9: 38 | C9: met enkelzijdige scharnierende hydraulische klep | D9: 4 | E9: Ja | F9: 1x per jaar | H9: =D9*G9 -> 0
A10: Volumecontainer met klep (Type 2) | B10: 38 | C10: met dubbelzijdige scharnierende hydraulische klep | D10: 2 | E10: Ja | F10: 1x per jaar | H10: =D10*G10 -> 0
A11: Volumecontainer met klapnet afdeksysteem | B11: 38 | C11: met klapnet afdeksysteem | D11: 3 | E11: Ja | F11: 1x per jaar | H11: =D11*G11 -> 0
A12: Volumecontainer voorzien van een afdeksysteem (vouwzeil) | B12: 38 | C12: met afdekzeil systeem | D12: 4 | E12: Ja | F12: 1x per jaar | H12: =D12*G12 -> 0
A13: Volumecontainer met een ingebouwd hydraulisch aggregaat | B13: 38 | C13: Volgens programma van eisen | D13: 4 | E13: Ja | F13: 1x per jaar | H13: =D13*G13 -> 0
A14: Glas container | B14: 38 | C14: Volgens programma van eisen | D14: 2 | E14: Ja | F14: 1x per jaar | H14: =D14*G14 -> 0
A15: Magazijncontainer | B15: 40 | C15: Volgens programma van eisen | D15: 2 | E15: Ja | F15: 1x per jaar | H15: =D15*G15 -> 0
A16: Nb Type 1 en 2 kunnen zowel met een ingebouwd hydraulisch aggregaat als door middel van een Snelfaster P 206 F worden bediend.
A18: Perscontainer
A19: Zelfpersende container (1) | B19: 24 | C19: Zwevend container dak | D19: 1 | E19: Ja | F19: 2x per jaar | H19: =D19*G19 -> 0
A20: Zelfpersende container (2) a | B20: 24 | C20: Zijwanden en afsluiting optie 2a | D20: 5 | E20: Ja | F20: 2x per jaar | H20: =D20*G20 -> 0
A21: Zelfpersende container (2) b | B21: 24 | C21: Zijwanden en inworpzijde optie 2b | D21: 1 | E21: Ja | F21: 2x per jaar | H21: =D21*G21 -> 0
A22: Zelfpersende container (2) c | B22: 24 | C22: Afsluiting vulopening met klep/deksel boven persblok 2c | D22: 1 | E22: Ja | F22: 2x per jaar | H22: =D22*G22 -> 0
A23: Zelfpersende container (3) | B23: 24 | C23: Terughoudschuif | D23: 5 | E23: Ja | F23: 2x per jaar | H23: =D23*G23 -> 0
A24: Zelfpersende container (4) | B24: 24 | C24: Afstandsbediening | D24: 1 | E24: Ja | F24: 2x per jaar | H24: =D24*G24 -> 0
A26: Persinstallatie
A27: Stationaire Pers | C27: Volgens programma van eisen met trechter | D27: 2 | E27: Ja | F27: 2x per jaar | H27: =D27*G27 -> 0
A28: Wisselcontainers | B28: 32 | C28: Volgens programma van eisen met afsluitschuif | D28: 8 | E28: Ja | F28: 2x per jaar | H28: =D28*G28 -> 0
A30: Alleen de gele vlakken invullen | G30: Totaal | H30: =SUM(H5:H28) -> 0

Sheet 2b. Regulier onderhoud
A1: Prijzen per jaar voor het regulier onderhoud
A3: Type container | B3: Inhoud m³ | C3: opties (zie beschrijvingen in de Factsheets) | D3: Stuks | E3: Keuring + adviesrapport | F3: Onderhoud | G3: Prijs per stuk | H3: Totaalprijs per jaar excl. BTW
A4: Containers
A5: Puin / aarde container | B5: 12 | C5: Volgens programma van eisen | D5: 5 | E5: Ja | F5: 1x per jaar | H5: =D5*G5 -> 0
A6: Gips / gasbeton container | B6: 15 | C6: Volgens programma van eisen | D6: 3 | E6: Ja | F6: 1x per jaar | H6: =D6*G6 -> 0
A7: Asbest container | B7: 28 | C7: Volgens programma van eisen | D7: 2 | E7: Ja | F7: 1x per jaar | H7: =D7*G7 -> 0
A8: Tapijtcontainer met klep (Type 1) | B8: 38 | C8: met afstandsbediening en ingebouwd aggregaat | D8: 1 | E8: Ja | F8: 1x per jaar | H8: =D8*G8 -> 0
A9: Volumecontainer met klep (Type 1) | B9: 38 | C9: met enkelzijdige scharnierende hydraulische klep | D9: 4 | E9: Ja | F9: 1x per jaar | H9: =D9*G9 -> 0
A10: Volumecontainer met klep (Type 2) | B10: 38 | C10: met dubbelzijdige scharnierende hydraulische klep | D10: 2 | E10: Ja | F10: 1x per jaar | H10: =D10*G10 -> 0
A11: Volumecontainer met klapnet afdeksysteem | B11: 38 | C11: met klapnet afdeksysteem | D11: 3 | E11: Ja | F11: 1x per jaar | H11: =D11*G11 -> 0
A12: Volumecontainer voorzien van een afdeksysteem (vouwzeil) | B12: 38 | C12: met afdekzeil systeem | D12: 4 | E12: Ja | F12: 1x per jaar | H12: =D12*G12 -> 0
A13: Volumecontainer met een ingebouwd hydraulisch aggregaat | B13: 38 | C13: Volgens programma van eisen | D13: 4 | E13: Ja | F13: 1x per jaar | H13: =D13*G13 -> 0
A14: Glas container | B14: 38 | C14: Volgens programma van eisen | D14: 2 | E14: Ja | F14: 1x per jaar | H14: =D14*G14 -> 0
A15: Magazijncontainer | B15: 40 | C15: Volgens programma van eisen | D15: 2 | E15: Ja | F15: 1x per jaar | H15: =D15*G15 -> 0
A16: Nb Type 1 en 2 kunnen zowel met een ingebouwd hydraulisch aggregaat als door middel van een Snelfaster P 206 F worden bediend.
A18: Perscontainer
A19: Zelfpersende container (1) | B19: 24 | C19: Zwevend container dak | D19: 1 | E19: Ja | F19: 2x per jaar | H19: =D19*G19 -> 0
A20: Zelfpersende container (2) a | B20: 24 | C20: Zijwanden en afsluiting optie 2a | D20: 5 | E20: Ja | F20: 2x per jaar | H20: =D20*G20 -> 0
A21: Zelfpersende container (2) b | B21: 24 | C21: Zijwanden en inworpzijde optie 2b | D21: 1 | E21: Ja | F21: 2x per jaar | H21: =D21*G21 -> 0
A22: Zelfpersende container (2) c | B22: 24 | C22: Afsluiting vulopening met klep/deksel boven persblok 2c | D22: 1 | E22: Ja | F22: 2x per jaar | H22: =D22*G22 -> 0
A23: Zelfpersende container (3) | B23: 24 | C23: Terughoudschuif | D23: 5 | E23: Ja | F23: 2x per jaar | H23: =D23*G23 -> 0
A24: Zelfpersende container (4) | B24: 24 | C24: Afstandsbediening | D24: 1 | E24: Ja | F24: 2x per jaar | H24: =D24*G24 -> 0
A26: Persinstallatie
A27: Stationaire Pers | C27: Volgens programma van eisen met trechter | D27: 2 | E27: Ja | F27: 2x per jaar | H27: =D27*G27 -> 0
A28: Wisselcontainers | B28: 32 | C28: Volgens programma van eisen met afsluitschuif | D28: 8 | E28: Ja | F28: 2x per jaar | H28: =D28*G28 -> 0
A30: Alleen de gele vlakken invullen | G30: Totaal | H30: =SUM(H5:H28) -> 0

Sheet 2c. Schade en storing
A1: Prijzen voor het herstellen van schade en verhelpen van storingen
A3: Soort medewerker | B3: Fictief aantal uur per jaar | C3: Uurtarief werkdagen | D3: Totaalprijs excl. BTW
A4: Monteur | B4: 105 | C4: 0 | D4: =B4*C4 -> 0
A6: Overige kosten | B6: Fictief aantal keer | C6: Tarief per keer | D6: Totaalprijs excl. BTW
A7: Voorrijtarief | B7: 35 | C7: 0 | D7: =B7*C7 -> 0
C8: Totaalprijs per jaar | D8: =D4+D7 -> 0
A11: Alleen de gele vlakken invullen

Sheet 2d. Levering
A1: Prijzen per jaar voor het all-in onderhoud
A3: Type container | B3: Inhoud m³ | C3: opties | D3: Stuks | E3: Prijs per stuk | F3: Totaalprijs per jaar excl. BTW
A4: Containers
A5: Puin / aarde container | B5: 12 | C5: Volgens programma van eisen | D5: 5 | F5: =D5*E5 -> 0
A6: Gips / gasbeton container | B6: 15 | C6: Volgens programma van eisen | D6: 3 | F6: =D6*E6 -> 0
A7: Asbest container | B7: 28 | C7: Volgens programma van eisen | D7: 2 | F7: =D7*E7 -> 0
A8: Tapijtcontainer met klep (Type 1) | B8: 38 | C8: met afstandsbediening en ingebouwd aggregaat | D8: 1 | F8: =D8*E8 -> 0
A9: Volumecontainer met klep (Type 1) | B9: 38 | C9: met enkelzijdige scharnierende hydraulische klep | D9: 4 | F9: =D9*E9 -> 0
A10: Volumecontainer met klep (Type 2) | B10: 38 | C10: met dubbelzijdige scharnierende hydraulische klep | D10: 2 | F10: =D10*E10 -> 0
A11: Volumecontainer met klapnet afdeksysteem | B11: 38 | C11: met klapnet afdeksysteem | D11: 3 | F11: =D11*E11 -> 0
A12: Volumecontainer voorzien van een afdeksysteem (vouwzeil) | B12: 38 | C12: met afdekzeil systeem | D12: 4 | F12: =D12*E12 -> 0
A13: Volumecontainer met een ingebouwd hydraulisch aggregaat | B13: 38 | C13: Volgens programma van eisen | D13: 4 | F13: =D13*E13 -> 0
A14: Glas container | B14: 38 | C14: Volgens programma van eisen | D14: 2 | F14: =D14*E14 -> 0
A15: Magazijncontainer | B15: 40 | C15: Volgens programma van eisen | D15: 2 | F15: =D15*E15 -> 0
A16: Nb Type 1 en 2 kunnen zowel met een ingebouwd hydraulisch aggregaat als door middel van een Snelfaster P 206 F worden bediend.
A18: Perscontainer
A19: Zelfpersende container (1) | B19: 24 | C19: Zwevend container dak | D19: 1 | F19: =D19*E19 -> 0
A20: Zelfpersende container (2) a | B20: 24 | C20: Zijwanden en afsluiting optie 2a | D20: 5 | F20: =D20*E20 -> 0
A21: Zelfpersende container (2) b | B21: 24 | C21: Zijwanden en inworpzijde optie 2b | D21: 1 | F21: =D21*E21 -> 0
A22: Zelfpersende container (2) c | B22: 24 | C22: Afsluiting vulopening met klep/deksel boven persblok 2c | D22: 1 | F22: =D22*E22 -> 0
A23: Zelfpersende container (3) | B23: 24 | C23: Terughoudschuif | D23: 5 | F23: =D23*E23 -> 0
A24: Zelfpersende container (4) | B24: 24 | C24: Afstandsbediening | D24: 1 | F24: =D24*E24 -> 0
A26: Persinstallatie
A27: Stationaire Pers | C27: Volgens programma van eisen met trechter | D27: 2 | F27: =D27*E27 -> 0
A28: Wisselcontainers | B28: 32 | C28: Volgens programma van eisen met afsluitschuif | D28: 8 | F28: =D28*E28 -> 0
A30: Alleen de gele vlakken invullen | E30: Totaal | F30: =SUM(F5:F28) -> 0

Sheet 2e. e-beheermodule
A1: Prijzen per jaar voor de e-beheermodule + extra trackers
B3: Aantal gebruikers | C3: Prijs per maand | D3: Prijs per jaar
A4: E-beheermodule | B4: 20 | C4: 0 | D4: =C4*12 -> 0
B7: Aantal | C7: Prijs per stuk | D7: Totaal
A8: Losse trackers voor e-beheermodule | B8: 100 | C8: 0 | D8: =B8*C8 -> 0
B10: Aantal | C10: Prijs per stuk | D10: Totaal per jaar
A11: Maandprijs dataoverdracht per stuk | B11: 100 | C11: 0 | D11: =B11*C11 -> 0
C14: Totaalprijs e-beheermodule + extra trackers | D14: =SUM(D4:D11) -> 0
A17: Alleen de gele vlakken invullen
