Workbook

Sheet Inschrijfbiljet
A1: Inschrijfformulieren Gemeente Nieuwegein
A2: Inspanningsgericht onderhoud E-installaties
A4: De hierna te noemen inschrijver
A5: gevestigd te
B7: verklaart zich door ondertekening van dit inschrijvingsbiljet bereid tot het inspanningsgericht onderhoud E-installaties van de Gemeente Nieuwegein conform Beschrijvend document met casenummer: 374078
B11: en overeenkomstig de Nota('s) van inlichtingen, resp. Staten van Aanvulling en Wijzigingen.
A14: in het 1e contractjaar (2023) aan te nemen voor de volgende bedragen en verrekenprijzen:
B16: Kosten preventief OH | H16: ='Verzamelblad per gebouw'!Y48 -> 0
B17: Kosten gemaximaliseerde afkoop (eerste vier manuren en € 100,- materiaal) | H17: ='Verzamelblad per gebouw'!Z48 -> 0
B18: Kosten beheer | H18: ='Verzamelblad per gebouw'!AA48 -> 0
B19: Totaal inschrijving | H19: =SUM(H16:H18) -> 0
B21: Inschrijving (op basis van berekening vanuit calculatieschema B) | H21: =Rekenblad!D4 -> 0
B22: Inschrijving (op basis van berekening vanuit calculatieschema proj. C) | H22: =Rekenblad!D5 -> 0
B23: Totaal 'gewogen' inschrijving | H23: =Rekenblad!D8 -> 0
A26: De bedragen zijn exclusief BTW met prijspeil 2023
A29: Voorts verklaart de inschrijver dat de door hem ingevulde en onderstaand vermelde bijlagen
A30: deel uitmaken van dit inschrijvingsbiljet:
B32: - bijlage A Inventaris | F32: - bijlage C calc. schema proj
B33: - bijlage B calc. schema | F33: - bijlage D voorst. subco.
A36: Gedaan te | G36: datum:
A38: De inschrijver, | D38: fg
A40: Handtekening: | H40: Firmastempel:

Sheet Verzamelblad per gebouw
B1: =Inschrijfbiljet!A1 -> Inschrijfformulieren Gemeente Nieuwegein
G3: 61 | H3: 62 | I3: 63 | J3: 64 | K3: 65 | L3: 56 | M3: 57 | N3: 58 | O3: 65 | P3: 67 | Q3: 84
A4: Naam | B4: Straat naam + nr. | C4: Postcode | D4: Stad | E4: Circa (m2), BVO | F4: In inventaris | G4: Centrale elektrotechnische voorz. Alg. | H4: Krachtstroom | I4: Verlichting | J4: Communicatie | K4: Beveiliging (incl. elektrische deuren) | L4: Warmtedistributie | M4: Luchtbehandeling | N4: Klimaatregelingsinstallaties | O4: Beveiliging | P4: Gebouwbeheersysteem | Q4: Keukeninventaris | Y4: Totaal preventief onderhoud | Z4: Gemaximaliseerde afkoop (eerste vier manuren en € 100,- materiaal) | AA4: Beheer (zoals omschreven in paragraaf 3.3 en 3.4 van het onderhoudsbestek)
A5: Aanbiedstation | B5: Utrechthaven 6 | C5: 3433 PN | D5: Nieuwegein | E5: 295 | F5: Ja | Y5: =SUM(G5:P5) -> 0
A6: Balkenloods 't Laantje | B6: Lekstraat 1 | C6: 3433ZB | D6: Nieuwegein | E6: 59 | F6: Ja | Y6: =SUM(G6:X6) -> 0
A7: Brandweerkazerne Noord | B7: Nevelgaarde 1 | C7: 3436 ZZ | D7: Nieuwegein | E7: 2067 | F7: Ja | Y7: =SUM(G7:X7) -> 0
A8: Brandweerpost Zuid | B8: Henri Dunantlaan 1 | C8: 3434 CH | D8: Nieuwegein | E8: 202 | F8: Ja | Y8: =SUM(G8:X8) -> 0
A9: Brede school Batau Centrum | B9: Heemraadsweide 5 | C9: 3437 CA | D9: Nieuwegein | E9: 3017 | F9: Ja | Y9: =SUM(G9:X9) -> 0
A10: Brede school Batau Zuid | B10: Kersegaarde 17 | C10: 3436 GC | D10: Nieuwegein | E10: 2837 | F10: Ja | Y10: =SUM(G10:X10) -> 0
A11: Brede school de Lotus | B11: Lupinestraat 17 | C11: 3434 HA | D11: Nieuwegein | E11: 3300 | F11: Ja | Y11: =SUM(G11:X11) -> 0
A12: Brede school Doorslag Centrum | B12: Parelduiker 15 | C12: 3435 EM | D12: Nieuwegein | E12: 5289 | F12: Ja | Y12: =SUM(G12:X12) -> 0
A13: Brede school Doorslag Noord | B13: Groenling 1 | C13: 3435 BT | D13: Nieuwegein | E13: 4402 | F13: Ja | Y13: =SUM(G13:X13) -> 0
A14: Buurthuis de Brink (Doorslag Centrum) | B14: Parelduiker 13 | C14: 3435 EP | D14: Nieuwegein | E14: 1162 | F14: Ja | Y14: =SUM(G14:X14) -> 0
A15: Buurthuis Fokkesteeg Zuid | B15: Hoornseschans 101 | C15: 3432 TK | D15: Nieuwegein | E15: 642 | F15: Ja | Y15: =SUM(G15:X15) -> 0
A16: Ford Vreeswijk gebouw D | B16: Ford Vreeswijk 1 | C16: 3433 ZZ | D16: Nieuwegein | E16: 70 | F16: Ja | Y16: =SUM(G16:X16) -> 0
A17: Ford Vreeswijk Gebouw G | B17: Ford Vreeswijk 1a | C17: 3433 ZZ | D17: Nieuwegein | E17: 1214 | F17: Ja | Y17: =SUM(G17:X17) -> 0
... A47: Theater en Kunstencentrum de KOM | B47: Stadsplein 6 | C47: 3431 LZ | D47: Nieuwegein | E47: 9339 | F47: Ja | Y47: =SUM(G47:X47) -> 0
A48: in het 1e contractjaar (2022) aan te nemen voor de volgende bedragen en verrekenprijzen: | F48: Totalen | G48: =SUM(G5:G47) -> 0 | H48: =SUM(H5:H47) -> 0 | I48: =SUM(I5:I47) -> 0 | J48: =SUM(J5:J47) -> 0 | K48: =SUM(K5:K47) -> 0 | L48: =SUM(L5:L42) -> 0 | M48: =SUM(M5:M42) -> 0 | N48: =SUM(N5:N42) -> 0 | O48: =SUM(O5:O42) -> 0 | P48: =SUM(P5:P42) -> 0 | Q48: =SUM(Q5:Q42) -> 0 | R48: =SUM(R5:R9) -> 0 | S48: =SUM(S5:S9) -> 0 | T48: =SUM(T5:T9) -> 0 | U48: =SUM(U5:U9) -> 0 | V48: =SUM(V5:V9) -> 0 | W48: =SUM(W5:W9) -> 0 | X48: =SUM(X5:X9) -> 0 | Y48: =SUM(Y5:Y47) -> 0 | Z48: =SUM(Z5:Z47) -> 0 | AA48: =SUM(AA5:AA47) -> 0
B51: Gedaan te | C51: =Inschrijfbiljet!D36 -> 0 | Y51: =Inschrijfbiljet!H36 -> 0
B53: De inschrijver, | C53: =Inschrijfbiljet!E4 -> 0
B56: Handtekening:

Sheet A Inventaris
A1: Gebouwnaam | B1: Adres | C1: Plaats | D1: Bouwlaag / Component locatie | E1: Discipline | F1: Hoofdelementomschrijving | G1: Hoofdelement- code | H1: Subelement- code | I1: Component fabrikant | J1: Component type | K1: Component capaciteit | L1: Component aantal/post | M1: Component bouwjaar | O1: kosten prev OH | P1: kosten gemaximaliseerde afkoop | R1: Conditie | S1: Conditie gewenst | T1: Conditie aanvang contract 2015 | U1: Conditie score kaart aanwezig
A3: Aanbiedstation | B3: Utrechthaven 3 | C3: Nieuwegein | F3: Noodverlichting (decentraal) | G3: 6324 | I3: Blessing | L3: 2 | M3: 2007
A4: Aanbiedstation | B4: Utrechthaven 3 | C4: Nieuwegein | F4: Vluchtwegverlichting (decentraal) | G4: 6324 | I4: Blessing | L4: 2 | M4: 2007
A5: Aanbiedstation | B5: Utrechthaven 3 | C5: Nieuwegein | D5: Dak | F5: PV-installatie | G5: 6150 | I5: Fronius | J5: Symo 12.5-3-M | K5: Incl. omvormer | L5: 46 | M5: 2007
A6: Aanbiedstation | B6: Utrechthaven 3 | C6: Nieuwegein | F6: Brandmeldinstallatie | G6: 6511 | I6: Hekatron | K6: 3 HM, 2 SW, 7 RM. | L6: 1 | M6: 2007
A7: Aanbiedstation | B7: Utrechthaven 3 | C7: Nieuwegein | F7: Inbraak-alarminstallatie | G7: 6521 | I7: AlphaVision | K7: 2 MC, 5 PIR | L7: 1 | M7: 2007
A8: Aanbiedstation | B8: Utrechthaven 3 | C8: Nieuwegein | D8: Dak | F8: Bliksembeveiliging installatie | G8: 6171 | K8: 1 potentiaalver., 8 aansluitingen. | L8: 1 | M8: 2007
A9: Aanbiedstation | B9: Utrechthaven 3 | C9: Nieuwegein | D9: Meterkast | F9: Laagspanning (hoofd)Verdeelinrichting | G9: 6151 | I9: Merlin Gerin | K9: HS 63A, 10 x 400V(ab), 17 x 240V(a) | L9: 1 | M9: 2007
A10: Aanbiedstation | B10: Utrechthaven 3 | C10: Nieuwegein | D10: Kraanstalling | F10: Laagspanning (hoofd)Verdeelinrichting | G10: 6151 | I10: Merlin Gerin | K10: HS 32A, 2 x 400V (1ab+1a), 3x240V | L10: 1 | M10: 2007
A11: Balkenloods 't Laantje | B11: Lekstraat 1 | C11: Nieuwegein | D11: Berging | F11: Laagspanning (hoofd)Verdeelinrichting | G11: 6151 | I11: Holec | K11: HS 16A | L11: 1 | M11: 1969
A12: Brandweerpost Zuid | B12: Henri Dunantlaan 1 | C12: Nieuwegein | F12: Noodverlichting (decentraal) | G12: 6324 | I12: Divers | L12: 12 | M12: 2018
A13: Brandweerpost Zuid | B13: Henri Dunantlaan 1 | C13: Nieuwegein | F13: Vluchtwegverlichting (decentraal) | G13: 6324 | I13: E-Tech | L13: 4 | M13: 2018
A14: Brandweerpost Zuid | B14: Henri Dunantlaan 1 | C14: Nieuwegein | D14: Dak | F14: PV-installatie | G14: 6150 | I14: Sunny Tripower | J14: STP7000TL-20 | K14: Incl. omvormer | L14: 30 | M14: 2018
A15: Brandweerpost Zuid | B15: Henri Dunantlaan 1 | C15: Nieuwegein | D15: Hoofdentree b.g. | F15: Intercom installatie | G15: 6422 | I15: Paxton | K15: 1 buitenpost en 1 binnenpost | L15: 1 | M15: 2018
A16: Brandweerpost Zuid | B16: Henri Dunantlaan 1 | C16: Nieuwegein | F16: Inbraak-alarminstallatie | G16: 6521 | I16: Galaxy | J16: GD48 | K16: 1 I/O, 9 MC, 7 PIR | L16: 1 | M16: 2018
A17: Brandweerpost Zuid | B17: Henri Dunantlaan 1 | C17: Nieuwegein | F17: Toegangscontrole systeem | G17: 6522 | I17: Paxton | K17: 6 kaartlezers | L17: 1 | M17: 2018
A18: Brandweerpost Zuid | B18: Henri Dunantlaan 1 | C18: Nieuwegein | D18: 0.2 Meterkast | F18: Laagspanning (hoofd)Verdeelinrichting | G18: 6151 | I18: Hager | K18: 24x230V+6x400V, HS80A | L18: 1 | M18: 2018
A19: Brandweerkazerne Noord | B19: Nevelgaarde 1 | C19: Nieuwegein | D19: Technische ruimte 2e verdieping | F19: Noodstroom aggregraat | G19: 6111 | I19: Stamford | J19: UC1224E14 | K19: 60 kVA | L19: 1 | M19: 1990
A20: Brandweerkazerne Noord | B20: Nevelgaarde 1 | C20: Nieuwegein | D20: Technische ruimte trappenhal 1e verdieping | F20: Laagspanning (hoofd)Verdeelinrichting | G20: 6151 | I20: Halyester | K20: 10x230V, HS63A | L20: 1 | M20: 1997
A21: Brandweerkazerne Noord | B21: Nevelgaarde 1 | C21: Nieuwegein | D21: Technische ruimte trappenhal 2e verdieping | F21: Laagspanning (hoofd)Verdeelinrichting | G21: 6151 | I21: Halyester | K21: 33x230V+4x230V, HS63A | L21: 1 | M21: 1997
A22: Brandweerkazerne Noord | B22: Nevelgaarde 1 | C22: Nieuwegein | D22: Technische ruimte | F22: Laagspanning (hoofd)Verdeelinrichting | G22: 6151 | I22: Halyester | K22: 21x230V, HS63A | L22: 1 | M22: 1997
A23: Brandweerkazerne Noord | B23: Nevelgaarde 1 | C23: Nieuwegein | D23: Technische ruimte trappenhal b.g. | F23: Laagspanning (hoofd)Verdeelinrichting | G23: 6151 | I23: Halyester | K23: 10x400V, HS160A | L23: 1 | M23: 1997
A24: Brandweerkazerne Noord | B24: Nevelgaarde 1 | C24: Nieuwegein | D24: Technische ruimte trappenhal b.g. | F24: Laagspanning (hoofd)Verdeelinrichting | G24: 6151 | I24: Halyester | K24: 15x230V+3x400V | L24: 1 | M24: 1997
A25: Brandweerkazerne Noord | B25: Nevelgaarde 1 | C25: Nieuwegein | D25: Technische ruimte b.g. | F25: Laagspanning (hoofd)Verdeelinrichting | G25: 6151 | I25: Halyester | K25: 3x230V+2x400V, HS63A | L25: 1 | M25: 1997
A26: Brandweerkazerne Noord | B26: Nevelgaarde 1 | C26: Nieuwegein | D26: Technische ruimte | F26: Laagspanning (hoofd)Verdeelinrichting | G26: 6151 | I26: Halyester | K26: 8x230V+3x400V, HS40A | L26: 1 | M26: 1997
A27: Brandweerkazerne Noord | B27: Nevelgaarde 1 | C27: Nieuwegein | D27: Dak | F27: Bliksembeveiliging installatie | G27: 6171 | L27: 1 | M27: 1997
A28: Brandweerkazerne Noord | B28: Nevelgaarde 1 | C28: Nieuwegein | F28: Noodverlichting (decentraal) | G28: 6324 | L28: 21 | M28: 2015
A29: Brandweerkazerne Noord | B29: Nevelgaarde 1 | C29: Nieuwegein | F29: Vluchtwegverlichting (decentraal) | G29: 6324 | I29: Van Lien | L29: 21 | M29: 2015
A30: Brandweerkazerne Noord | B30: Nevelgaarde 1 | C30: Nieuwegein | D30: Hoofdingang | F30: Intercom installatie | G30: 6422 | I30: Paxton | L30: 1 | M30: 2018
A31: Brandweerkazerne Noord | B31: Nevelgaarde 1 | C31: Nieuwegein | F31: Brandmeldinstallatie | G31: 6511 | I31: Hertek | J31: Penta 5175 | K31: 13 HM, 40 SW, 41 RM. | L31: 1 | M31: 2016
A32: Brandweerkazerne Noord | B32: Nevelgaarde 1 | C32: Nieuwegein | F32: Omroep- en ontruimingsinstallatie | G32: 6511 | L32: 1 | M32: 2016
A33: Brandweerkazerne Noord | B33: Nevelgaarde 1 | C33: Nieuwegein | F33: Inbraak-alarminstallatie | G33: 6521 | I33: Artitech | J33: ATS | K33: 1 I/O, 13 MC, 19 PIR | L33: 1 | M33: 2016
A34: Brede school de Lotus | B34: Lupinestraat 15-23 | C34: Nieuwegein | F34: Centraal bedien paneel verlichting | G34: 6100 | L34: 1 | M34: 2013
A35: Brede school de Lotus | B35: Lupinestraat 15-23 | C35: Nieuwegein | D35: 0.73 | F35: Laagspanning (hoofd)Verdeelinrichting | G35: 6151 | I35: Eltechna | K35: 7x230V+14x400V, HS125A | L35: 1 | M35: 2013
A36: Brede school de Lotus | B36: Lupinestraat 15-23 | C36: Nieuwegein | D36: 0.73 | F36: Laagspanning (hoofd)Verdeelinrichting | G36: 6151 | I36: Eltechna | J36: Pragma Plus | K36: 34x230V+5x400V, HS63A | L36: 1 | M36: 2013
A37: Brede school de Lotus | B37: Lupinestraat 15-23 | C37: Nieuwegein | D37: 0.19 | F37: Laagspanning (hoofd)Verdeelinrichting | G37: 6151 | I37: Eltechna | J37: Pragma Plus | K37: 17x230V+2x400V, HS63A | L37: 1 | M37: 2013
A38: Brede school de Lotus | B38: Lupinestraat 15-23 | C38: Nieuwegein | D38: 0.22 | F38: Laagspanning (hoofd)Verdeelinrichting | G38: 6151 | I38: Eltechna | J38: Pragma Plus | K38: 8x230V+1x400V, HS63A | L38: 1 | M38: 2013
A39: Brede school de Lotus | B39: Lupinestraat 15-23 | C39: Nieuwegein | D39: 0.37 | F39: Laagspanning (hoofd)Verdeelinrichting | G39: 6151 | I39: Eltechna | J39: Pragma Plus | K39: 15x230V+2x400V, HS63A | L39: 1 | M39: 2013
A40: Brede school de Lotus | B40: Lupinestraat 15-23 | C40: Nieuwegein | D40: 0.49 | F40: Laagspanning (hoofd)Verdeelinrichting | G40: 6151 | I40: Eltechna | J40: Pragma Plus | K40: 23x230V+1x400V, HS63A | L40: 1 | M40: 2013
A41: Brede school de Lotus | B41: Lupinestraat 15-23 | C41: Nieuwegein | D41: 0.61 | F41: Laagspanning (hoofd)Verdeelinrichting | G41: 6151 | I41: Eltechna | J41: Pragma Plus | K41: 26x230V+1x400V, HS63A | L41: 1 | M41: 2013
...

Sheet B calc schema
B1: =Inschrijfbiljet!A1 -> Inschrijfformulieren Gemeente Nieuwegein
A3: Calculatieschema en uurtarieven voor onderhoud
A4: Voor verrekenbaar correctief onderhoud en regie werkzaamheden op afroep
C6: Inschrijver: | E6: =Inschrijfbiljet!E4 -> 0
A8: De inschrijver verklaart de verrekenbare correctieve onderhoudswerkzaamheden
A9: en regie werkzaamheden op afroep ten behoeve van de te onderhouden installaties, conform de bepalingen
A10: in het beschrijvend document te zullen uitvoeren op basis van onderstaand calculatieschema en uurtarieven:
A13: 1) | B13: Calculatieschema
B14: • | C14: Netto materiaalprijs | G14: € | H14: A
B15: • | C15: Toeslag op groot materiaal: > € 1.000,00 | G15: € | H15: A1 | L15: =F15*Rekenblad!D3*0.03 -> 0
C16: Toeslag op klein materiaal: < € 1.000,00 | G16: € | H16: A2 | L16: =F16*Rekenblad!D3*0.02 -> 0
G17: € | H17: A1 + A2 = | I17: X
B18: Werk derden: | G18: € | H18: B
B19: Toeslag op werk derden: | G19: € | H19: C | L19: =F19*Rekenblad!D3*0.025 -> 0
G20: € | H20: B + C = | I20: Y
B21: Lonen: Manuren a) x manuurtarief 2): | I21: Z
B22: Totaalbedrag incl. projectleiding, werkvoorbereiding, calculatie, engineering, aanleveren revisiegegevens en winst & risico
I23: X + Y + Z | L23: =SUM(L40:L43,L35:L38,L19,L15:L16) -> 0
B25: a) | C25: Voor de calculatie van manuren zal waar mogelijk worden uitgegaan van de UNETO-normen, resp. Gustav Ende
C26: met de volgende correctiefactoren:
C27: • UNETO x | D27: 1
C28: • G.E. x | D28: 1
A30: 2) | B30: Manuurtarieven voor onderhoud:
B31: MANUURTARIEVEN
F32: Werkdagen | G32: Werkdagen | H32: Werkdagen | I32: Zon- en
F33: 7.00 - 19.00 | G33: 19.00 - 24:00 | H33: 's nachts + | I33: feest-
F34: uur | G34: uur | H34: zaterdagen | I34: dagen
B35: • | C35: Monteur / technicus E | G35: Tarief + 25% | H35: Tarief + 50% | I35: Tarief + 75% | L35: =F35*Rekenblad!D3*0.003 -> 0
B36: • | C36: Tekenaar | G36: Tarief + 25% | H36: Tarief + 50% | I36: Tarief + 75% | L36: =F36*Rekenblad!D3*0.003 -> 0
B37: • | C37: Servicemonteur / technicus E | G37: Tarief + 25% | H37: Tarief + 50% | I37: Tarief + 75% | L37: =F37*Rekenblad!D3*0.003 -> 0
G38: Tarief + 25% | H38: Tarief + 50% | I38: Tarief + 75% | L38: =F38*Rekenblad!D3*0.0001 -> 0
B39: • | C39: Servicespecialist
C40: – Brand- en beveiliging | G40: Tarief + 25% | H40: Tarief + 50% | I40: Tarief + 75% | L40: =F40*Rekenblad!D3*0.003 -> 0
C41: – Installatieverantwoordelijke | G41: Tarief + 25% | H41: Tarief + 50% | I41: Tarief + 75% | L41: =F41*Rekenblad!D3*0.002 -> 0
L42: =F42*Rekenblad!D3*0.0002 -> 0
L43: =100*F43 -> 0
B45: Alle bedragen zijn exclusief BTW.
B46: Voorrijkosten, reisuren en reiskosten zijn niet verrekenbaar, doch in de tarieven inbegrepen.
A49: Gedaan te | D49: =Inschrijfbiljet!D36 -> 0 | F49: datum: | G49: =Inschrijfbiljet!H36 -> 0
A51: De inschrijver, | D51: =Inschrijfbiljet!D38:G38 -> fg
...

Sheet C calc schema proj
B1: =Inschrijfbiljet!A1 -> Inschrijfformulieren Gemeente Nieuwegein
A3: Calculatieschema en uurtarieven voor projecten e.d. tot € 50.000
D4: Voor projecten, uitbreidingen, vervangingen en wijzigingen
C6: Inschrijver: | E6: =Inschrijfbiljet!E4:H4 -> 0
A8: De inschrijver verklaart klussen, projecten, omdificaties, enz. welke op basis van offerte met open begroting zullen worden gegund,
A9: aan te zullen bieden op basis van onderstaand calculatieschema en uurtarieven. Zij verklaart dit schema en uurtarieven
A10: bovendien als maximum te zullen hanteren bij aanbestedingen boven € 50.000.
A12: 1) | B12: Calculatieschema
B13: • | C13: Netto materiaalprijs | G13: € | H13: A
B14: • | C14: Toeslag op groot materiaal: > € 1.000,00 | G14: € | H14: A1 | L14: =F14*Rekenblad!D3*0.03 -> 0
C15: Toeslag op klein materiaal: < € 1.000,00 | G15: € | H15: A2 | L15: =F15*Rekenblad!D3*0.02 -> 0
G16: € | H16: A1 + A2 = | I16: X
B17: Werk derden: | G17: € | H17: B
B18: Toeslag op werk derden: | G18: € | H18: C | L18: =F18*Rekenblad!D3*0.025 -> 0
G19: € | H19: B + C = | I19: Y
B20: Lonen: uren a) x tarief betreffende monteur / technicus en of specialist | I20: Z
B21: Subtotaal exclusief eventuele engineering | I21: X + Y + Z
B22: Toeslag voor engineering / ontwerp b) | I22: F
B23: Totaalbedrag incl. projectleiding, werkvoorbereiding, calculatie, revisietek en winst & risico
I24: X+Y+Z+F | L24: =L14+L15+L18+M30+L31+L38+L39+L40+L41 -> 0
B26: a) | C26: Voor de calculatie van manuren zal waar mogelijk | F26: b) toeslag voor engineering / ontwerp:
C27: worden uitgegaan van de UNETO-normen, | F27: Bij volledig uitgewerkte uitvraag | M27: =H27*Rekenblad!D3*0.0185 -> 0
C28: resp. Gustav Ende met de volgende correctiefactoren: | F28: Bij een uitvraag obv richtlijnen | M28: =H28*Rekenblad!D3*0.0185 -> 0
C29: • UNETO x | F29: Bij volledige engineering door inschrijver | L29: =D29*Rekenblad!D3*0.12 -> 0 | M29: =H29*Rekenblad!D3*0.0185 -> 0
C30: • G.E. x | L30: =D30*Rekenblad!D3*0.12 -> 0 | M30: =SUM(M27:M29) -> 0
L31: =SUM(L29:L30) -> 0
A33: 2) | B33: Manuurtarieven voor projecten e.d.:
B34: MANUURTARIEVEN
F35: Werkdagen | G35: Werkdagen | H35: Werkdagen | I35: Zon- en
F36: 8.00 - 17.00 | G36: 17.00 - 24.00 | H36: 's nachts + | I36: feest-
F37: uur | G37: uur | H37: zaterdagen | I37: dagen
B38: • | C38: Monteur / technicus W | G38: Tarief + 25% | H38: Tarief + 50% | I38: Tarief + 75% | L38: =F38*Rekenblad!D3*0.0015 -> 0
B39: • | C39: Monteur / technicus E | G39: Tarief + 25% | H39: Tarief + 50% | I39: Tarief + 75% | L39: =F39*Rekenblad!D3*0.003 -> 0
B40: • | C40: Specialist W technische installaties | G40: Tarief + 25% | H40: Tarief + 50% | I40: Tarief + 75% | L40: =F40*Rekenblad!D3*0.0015 -> 0
B41: • | C41: Specialist E technische installaties | G41: Tarief + 25% | H41: Tarief + 50% | I41: Tarief + 75% | L41: =F41*Rekenblad!D3*0.004 -> 0
B43: Alle bedragen zijn exclusief BTW.
B44: Voorrijkosten, reisuren en reiskosten zijn niet verrekenbaar, doch in de tarieven inbegrepen.
A47: Gedaan te | D47: =Inschrijfbiljet!D36:F36 -> 0 | F47: datum: | G47: =Inschrijfbiljet!H36 -> 0
A49: De inschrijver,
D50: =Inschrijfbiljet!D38:G38 -> fg
...

Sheet Rekenblad
C3: Kosten vanuit verzamelblad per gebouw (Totaal) | D3: ='Verzamelblad per gebouw'!Y48+'Verzamelblad per gebouw'!Z48+'Verzamelblad per gebouw'!AA48 -> 0 | F3: =D3*0.5335 -> 0
C4: Inschrijving (op basis van berekening calculatieschema B) | D4: ='B calc schema'!L23 -> 0
C5: Inschrijving (op basis van berekening calculatieschema proj. C) | D5: ='C calc schema proj'!L24 -> 0
C8: Totaal 'gewogen' inschrijving incl. B&C | D8: =F3+D4+D5 -> 0
