Workbook

Sheet Totaal
B3: Programma van Eisen Constructief Schoonmaken
B4: Jaar uitvoering | C4: 2022-2023
B6: Station | C6: Totale aanbiedingsprijs
B7: Capelle Schollevaar | C7: ='Capelle Schollevaar'!X61 -> #DIV/0!
B8: Rotterdam Alexander | C8: ='Rotterdam Alexander'!X61 -> #DIV/0!
B9: Rotterdam Lombardijen | C9: ='Rotterdam Lombardijen'!X62 -> #DIV/0!
B10: Rotterdam Zuid | C10: ='Rotterdam Zuid'!X61 -> #DIV/0!
B11: Sliedrecht | C11: =Sliedrecht!X61 -> #DIV/0!
B13: Totaal (inschrijfsom) | C13: =SUM(C7:C11) -> #DIV/0!

Sheet Capelle Schollevaar
C2: Station Capelle Schollevaar | F2: Methode | G2: Methode | H2: Schoonmaak | I2: Kengetal | J2: Arbeids | K2: Uurtarief | L2: Uurtarief | M2: Prijzen | N2: Uitvoering | O2: Aanvraag | Q2: Veiligheid | S2: Planning | T2: Aantal | V2: Veiligheid | X2: Totaal
B3: Programma van Eisen Constructief Schoonmaken | F3: Voor- | G3: Uitvoering | H3: Resultaat | I3: Uitvoering | J3: Uren | K3: Nacht- | L3: Dag- | M3: CS | N3: Zone | O3: Maatregel | P3: Tarief | Q3: Personeel | R3: Tarief | S3: Uitvoering | U3: Beheer | V3: Personeel | W3: Totaal | X3: CS
B4: Jaar uitvoering | C4: 2022 | F4: schrift | K4: dienst | L4: dienst
B5: Bouwwerk (SAP) | C5: Materiaalafwerking | D5: Aantallen | S5: Nacht/dag
B7: Perron overkapping | C7: Latten plafonds | D7: 540 | E7: m2 | F7: R1 | G7: U1 | H7: S1 | I7: 0 | J7: =D7/I7 -> #DIV/0! | K7: 0 | L7: 0 | M7: =J7*K7 -> #DIV/0! | N7: N.V.T. | Q7: TEV | R7: 0 | S7: N | T7: 0 | U7: 0 | V7: =T7*R7 -> 0 | W7: =U7+V7 -> 0 | X7: =W7+M7 -> #DIV/0!
B8: Perron overkapping | C8: Latten plafonds | D8: 100 | E8: m2 | F8: R1 | G8: U1 | H8: S1 | I8: 0 | J8: =D8/I8 -> #DIV/0! | K8: 0 | L8: 0 | M8: =J8*K8 -> #DIV/0! | N8: B | Q8: GRW | R8: 0 | S8: N | T8: 0 | V8: =T8*R8 -> 0 | W8: =U8+V8 -> 0 | X8: =W8+M8 -> #DIV/0!
B9: Perron overkapping | C9: Latten plafonds | D9: 30 | E9: m2 | F9: R1 | G9: U1 | H9: S1 | I9: 0 | J9: =D9/I9 -> #DIV/0! | K9: 0 | L9: 0 | M9: =J9*K9 -> #DIV/0! | N9: A | O9: BD | P9: in combinatie met dakrand | S9: N | U9: 0 | V9: =T9*R9 -> 0 | W9: =U9+V9 -> 0 | X9: =W9+M9 -> #DIV/0!
B10: Perron overkapping | C10: Latten plafonds spoor 1 | D10: 30 | E10: m2 | F10: R1 | G10: U1 | H10: S1 | I10: 0 | J10: =D10/I10 -> #DIV/0! | K10: 0 | L10: 0 | M10: =J10*K10 -> #DIV/0! | N10: A | O10: BD/SL | P10: in combinatie met dakrand | S10: N | U10: 0 | V10: =T10*R10 -> 0 | W10: =U10+V10 -> 0 | X10: =W10+M10 -> #DIV/0!
B12: Perron overkapping | C12: Boeidelen/dakrand | D12: 104 | E12: m2 | F12: R2 | G12: U1/U4/U5/U9 | H12: S2 | I12: 0 | J12: =D12/I12 -> #DIV/0! | K12: 0 | L12: 0 | M12: =J12*K12 -> #DIV/0! | N12: N.V.T. | Q12: TEV | R12: 0 | S12: N | T12: 0 | U12: 0 | V12: =T12*R12 -> 0 | W12: =U12+V12 -> 0 | X12: =W12+M12 -> #DIV/0!
B13: Perron overkapping | C13: Boeidelen/dakrand | D13: 40 | E13: m2 | F13: R2 | G13: U1/U4/U5/U9 | H13: S2 | I13: 0 | J13: =D13/I13 -> #DIV/0! | K13: 0 | L13: 0 | M13: =J13*K13 -> #DIV/0! | N13: A | O13: BD | P13: 0 | Q13: GRW | R13: 0 | S13: N | T13: 0 | U13: =T13*P13 -> 0 | V13: =T13*R13 -> 0 | W13: =U13+V13 -> 0 | X13: =W13+M13 -> #DIV/0!
B14: Perron overkapping | C14: Boeidelen/dakrand spoor 1 | D14: 40 | E14: m2 | F14: R2 | G14: U1/U4/U5/U9 | H14: S2 | I14: 0 | J14: =D14/I14 -> #DIV/0! | K14: 0 | L14: 0 | M14: =J14*K14 -> #DIV/0! | N14: A | O14: BD/SL | P14: 0 | Q14: LWB | R14: 0 | S14: N | T14: 0 | U14: =T14*P14 -> 0 | V14: =T14*R14 -> 0 | W14: =U14+V14 -> 0 | X14: =W14+M14 -> #DIV/0!
B16: Hellingbaan | C16: Diverse | D16: 347 | E16: m2 | F16: R2 | G16: U1/U4/U5/U9 | H16: S2 | I16: 0 | J16: =D16/I16 -> #DIV/0! | K16: 0 | L16: 0 | M16: =J16*K16 -> #DIV/0! | N16: N.V.T. | S16: N | U16: 0 | V16: =Q16*T16 -> 0 | W16: =U16+V16 -> 0 | X16: =W16+M16 -> #DIV/0!
B17: Tunnel | C17: Diverse | D17: 132 | E17: m2 | F17: R2 | G17: U1/U4/U5/U9 | H17: S2 | I17: 0 | J17: =D17/I17 -> #DIV/0! | K17: 0 | L17: 0 | M17: =J17*K17 -> #DIV/0! | N17: N.V.T. | S17: N | U17: 0 | V17: =Q17*T17 -> 0 | W17: =U17+V17 -> 0 | X17: =W17+M17 -> #DIV/0!
B39: Totaal | J39: =SUM(J7:J38) -> #DIV/0!
B41: Veiligheid Admin.
B42: VG & O | C42: door opdrachtgever | D42: 0 | E42: st | M42: 0 | U42: 0 | V42: 0 | W42: =U42 -> 0 | X42: =W42+M42 -> 0
B43: VG & U | D43: 0 | E43: st | M43: 0 | U43: 0 | V43: 0 | W43: =U43*D43 -> 0 | X43: =W43+M43 -> 0
B44: RIE | D44: 0 | E44: st | M44: 0 | U44: 0 | V44: 0 | W44: =U44*D44 -> 0 | X44: =W44+M44 -> 0
B45: PVT | D45: 0 | E45: st | M45: 0 | U45: 0 | V45: 0 | W45: =U45*D45 -> 0 | X45: =W45+M45 -> 0
B46: PVB | D46: 0 | E46: st | M46: 0 | U46: 0 | V46: 0 | W46: =U46*D46 -> 0 | X46: =W46+M46 -> 0
B48: Organisatiekosten
B49: Bouwkeet, Toilet | D49: 0 | E49: dg | K49: 0 | M49: =K49*D49 -> 0 | U49: 0 | V49: 0 | W49: 0 | X49: =M49 -> 0
B50: Waterwagen, aggregaat | D50: 0 | E50: dg | K50: 0 | M50: =K50*D50 -> 0 | U50: 0 | V50: 0 | W50: 0 | X50: =M50 -> 0
B51: Reiskosten | C51: 5% van de directe uren | D51: 0 | E51: post | K51: 0 | M51: =K51*D51 -> 0 | U51: 0 | V51: 0 | W51: 0 | X51: =M51 -> 0
B52: Steigers, Hoogwerkers etc. | C52: aan/afvoer klimvoorz/maken afzetting | D52: 0 | E52: post | K52: 0 | M52: =K52*D52 -> 0 | U52: 0 | V52: 0 | W52: 0 | X52: =M52 -> 0
B53: Parkeerkosten | D53: 0 | E53: dg | K53: 0 | M53: =K53*D53 -> 0 | U53: 0 | V53: 0 | W53: 0 | X53: =M53 -> 0
B54: Diversen, onvoorzien | C54: van begroting | D54: 0 | E54: % | M54: =SUM(M5:M53)/100*D54 -> #DIV/0! | U54: 0 | V54: 0 | W54: =SUM(W7:W53)/100*D54 -> 0 | X54: =W54+M54 -> #DIV/0!
B55: Subtotaal | M55: =SUM(M5:M54) -> #DIV/0! | U55: =SUM(U7:U54) -> 0 | V55: =SUM(V7:V54) -> 0 | W55: =SUM(W7:W54) -> 0 | X55: =SUM(X7:X54) -> #DIV/0!
B56: Algemene Kosten | D56: 0 | E56: % | M56: =M55/100*D56 -> #DIV/0! | U56: 0 | V56: 0 | W56: =W55/100*D56 -> 0 | X56: =W56+M56 -> #DIV/0!
B57: Subtotaal | M57: =M56+M55 -> #DIV/0! | W57: =W56+W55 -> 0 | X57: =X56+X55 -> #DIV/0!
B58: Winst & Risico | D58: 0 | E58: % | M58: =M57/100*D58 -> #DIV/0! | U58: 0 | V58: 0 | W58: =W57/100*D58 -> 0 | X58: =W58+M58 -> #DIV/0!
B59: Subtotaal | M59: =M58+M57 -> #DIV/0! | W59: =W58+W57 -> 0 | X59: =X58+X57 -> #DIV/0!
B60: Optie: Afronding / Korting | X60: 0
B61: Totaal: | X61: =X60+X59 -> #DIV/0!
B62: Reinigingsvoorschriften
B63: R1 | C63: Stof en spinrag vrijmaken
B64: R2 | C64: Geheel nat reinigen
B65: R3 | C65: Grafitti verwijderen
B66: R4 | C66: Coating aanbrengen
B67: Werkmethodiek
B68: U1 | C68: Handmatig reinigen
B69: U2 | C69: Tuckerpool methode
B70: U3 | C70: Dry Wash systeem
B71: U4 | C71: Hoge druk reiniging
B72: U5 | C72: Glazenwassen
B73: U6 | C73: Schrobben
B74: U7 | C74: Shampoo methode
B75: U8 | C75: Conserveren
B76: U9 | C76: Tele-Wash
B77: U10 | C77: Trappen, tegelwerkwanden: inzetten met reiniger, doorborstelen, HD-reinigen
B78: Schoonmaak Resultaat
B79: S1 | C79: Vrij van stof en spinrag
B80: S2 | C80: Vrij van aangehecht vuil
B81: S3 | C81: Vrij van grafitti bekladding
B82: S4 | C82: Coating resultaat

Sheet Rotterdam Alexander
C2: Station Rotterdam Alexander | F2: Methode | G2: Methode | H2: Schoonmaak | I2: Kengetal | J2: Arbeids | K2: Uurtarief | L2: Uurtarief | M2: Prijzen | N2: Uitvoering | O2: Aanvraag | Q2: Veiligheid | S2: Planning | T2: Aantal | V2: Veiligheid | X2: Totaal
B3: Programma van Eisen Constructief Schoonmaken | F3: Voor- | G3: Uitvoering | H3: Resultaat | I3: Uitvoering | J3: Uren | K3: Nacht- | L3: Dag- | M3: CS | N3: Zone | O3: Maatregel | P3: Tarief | Q3: Personeel | R3: Tarief | S3: Uitvoering | U3: Beheer | V3: Personeel | W3: Totaal | X3: CS
B4: Jaar uitvoering | C4: 2022 | F4: schrift | K4: dienst | L4: dienst
B5: Bouwwerk (SAP) | C5: Materiaalafwerking | D5: Aantallen | S5: Nacht/dag
B7: Perron overkapping | C7: Diverse | D7: 1033 | E7: m2 | F7: R2 | G7: U1/U4/U9 | H7: S2 | I7: 0 | J7: =D7/I7 -> #DIV/0! | K7: 0 | L7: 0 | M7: =J7*K7 -> #DIV/0! | N7: N.V.T. | Q7: TEV | R7: 0 | S7: N | T7: 0 | U7: 0 | V7: =T7*R7 -> 0 | W7: =U7+V7 -> 0 | X7: =W7+M7 -> #DIV/0!
B8: Perron overkapping | C8: Diverse | D8: 170 | E8: m2 | F8: R2 | G8: U1/U4/U9 | H8: S2 | I8: 0 | J8: =D8/I8 -> #DIV/0! | K8: 0 | L8: 0 | M8: =J8*K8 -> #DIV/0! | N8: B | Q8: GRW | R8: 0 | S8: N | T8: 0 | V8: =T8*R8 -> 0 | W8: =U8+V8 -> 0 | X8: =W8+M8 -> #DIV/0!
B9: Perron overkapping | C9: Diverse | D9: 51 | E9: m2 | F9: R2 | G9: U1/U4/U9 | H9: S2 | I9: 0 | J9: =D9/I9 -> #DIV/0! | K9: 0 | L9: 0 | M9: =J9*K9 -> #DIV/0! | N9: A | O9: BD | P9: 0 | Q9: GRW | R9: 0 | S9: N | T9: 0 | U9: =T9*P9 -> 0 | V9: =T9*R9 -> 0 | W9: =U9+V9 -> 0 | X9: =W9+M9 -> #DIV/0!
B10: Perron overkapping | C10: Diverse spoor 2 | D10: 51 | E10: m2 | F10: R2 | G10: U1/U4/U9 | H10: S2 | I10: 0 | J10: =D10/I10 -> #DIV/0! | K10: 0 | L10: 0 | M10: =J10*K10 -> #DIV/0! | N10: A | O10: BD/SL | P10: 0 | Q10: LWB | R10: 0 | S10: N | T10: 0 | U10: =T10*P10 -> 0 | V10: =T10*R10 -> 0 | W10: =U10+V10 -> 0 | X10: =W10+M10 -> #DIV/0!
B11: Diketant Perrons | C11: Beton in spoor | D11: 60 | E11: m2 | F11: R3/R4 | G11: U4/U8 | H11: S3/S4 | I11: 0 | J11: =D11/I11 -> #DIV/0! | K11: 0 | L11: 0 | M11: =J11*K11 -> #DIV/0! | N11: A | O11: BD | P11: 0 | Q11: GRW | R11: 0 | S11: N | T11: 0 | U11: =T11*P11 -> 0 | V11: =T11*R11 -> 0 | W11: =U11+V11 -> 0 | X11: =W11+M11 -> #DIV/0!
B14: Stationshal | C14: Diverse | D14: 517 | E14: m2 | F14: R2 | G14: U1/U4/U9 | H14: S2 | I14: 0 | J14: =D14/I14 -> #DIV/0! | K14: 0 | L14: 0 | M14: =J14*K14 -> #DIV/0! | N14: N.V.T. | X14: =W14+M14 -> #DIV/0!
B15: Hellingbaan | C15: Diverse | D15: 41 | E15: m2 | F15: R2 | G15: U1/U4/U9 | H15: S2 | I15: 0 | J15: =D15/I15 -> #DIV/0! | K15: 0 | L15: 0 | M15: =J15*K15 -> #DIV/0! | N15: N.V.T. | X15: =W15+M15 -> #DIV/0!
B17: Betonwand taluud | C17: zijde spoor 2 | D17: 35 | E17: m2 | F17: R4 | G17: U8 | H17: S4 | I17: 0 | J17: =D17/I17 -> #DIV/0! | K17: 0 | L17: 0 | M17: =J17*K17 -> #DIV/0! | N17: N.V.T. | X17: =W17+M17 -> #DIV/0!
B18: Boeideel entree | C18: zijde spoor 2 | D18: 24 | E18: m2 | F18: R2 | G18: U1/U4/U9 | H18: S2 | I18: 0 | J18: =D18/I18 -> #DIV/0! | K18: 0 | L18: 0 | M18: =J18*K18 -> #DIV/0! | N18: N.V.T. | X18: =W18+M18 -> #DIV/0!
B39: Totaal | J39: =SUM(J7:J38) -> #DIV/0!
B41: Veiligheid Admin.
B42: VG & O | C42: door opdrachtgever | D42: 0 | E42: st | M42: 0 | U42: 0 | V42: 0 | W42: =U42 -> 0 | X42: =W42+M42 -> 0
B43: VG & U | D43: 0 | E43: st | M43: 0 | U43: 0 | V43: 0 | W43: =U43*D43 -> 0 | X43: =W43+M43 -> 0
B44: RIE | D44: 0 | E44: st | M44: 0 | U44: 0 | V44: 0 | W44: =U44*D44 -> 0 | X44: =W44+M44 -> 0
B45: PVT | D45: 0 | E45: st | M45: 0 | U45: 0 | V45: 0 | W45: =U45*D45 -> 0 | X45: =W45+M45 -> 0
B46: PVB | D46: 0 | E46: st | M46: 0 | U46: 0 | V46: 0 | W46: =U46*D46 -> 0 | X46: =W46+M46 -> 0
B48: Organisatiekosten
B49: Bouwkeet, Toilet | D49: 0 | E49: dg | K49: 0 | M49: =K49*D49 -> 0 | U49: 0 | V49: 0 | W49: 0 | X49: =M49 -> 0
B50: Waterwagen, aggregaat | D50: 0 | E50: dg | K50: 0 | M50: =K50*D50 -> 0 | U50: 0 | V50: 0 | W50: 0 | X50: =M50 -> 0
B51: Reiskosten | D51: 0 | E51: post | K51: 0 | M51: =K51*D51 -> 0 | U51: 0 | V51: 0 | W51: 0 | X51: =M51 -> 0
B52: Steigers, Hoogwerkers etc. | D52: 0 | E52: post | K52: 0 | M52: =K52*D52 -> 0 | U52: 0 | V52: 0 | W52: 0 | X52: =M52 -> 0
B53: Parkeerkosten | D53: 0 | E53: dg | K53: 0 | M53: =K53*D53 -> 0 | U53: 0 | V53: 0 | W53: 0 | X53: =M53 -> 0
B54: Diversen, onvoorzien | C54: van begroting | D54: 0 | E54: % | M54: =SUM(M5:M53)/100*D54 -> #DIV/0! | U54: 0 | V54: 0 | W54: =SUM(W7:W53)/100*D54 -> 0 | X54: =W54+M54 -> #DIV/0!
B55: Subtotaal | M55: =SUM(M5:M54) -> #DIV/0! | U55: =SUM(U7:U54) -> 0 | V55: =SUM(V7:V54) -> 0 | W55: =SUM(W7:W54) -> 0 | X55: =SUM(X7:X54) -> #DIV/0!
B56: Algemene Kosten | D56: 0 | E56: % | M56: =M55/100*D56 -> #DIV/0! | U56: 0 | V56: 0 | W56: =W55/100*D56 -> 0 | X56: =W56+M56 -> #DIV/0!
B57: Subtotaal | M57: =M56+M55 -> #DIV/0! | W57: =W56+W55 -> 0 | X57: =X56+X55 -> #DIV/0!
B58: Winst & Risico | D58: 0 | E58: % | M58: =M57/100*D58 -> #DIV/0! | U58: 0 | V58: 0 | W58: =W57/100*D58 -> 0 | X58: =W58+M58 -> #DIV/0!
B59: Subtotaal | M59: =M58+M57 -> #DIV/0! | W59: =W58+W57 -> 0 | X59: =X58+X57 -> #DIV/0!
B60: Optie: Afronding / Korting | X60: 0
B61: Totaal: | X61: =X59+X60 -> #DIV/0!
B62: Reinigingsvoorschriften
B63: R1 | C63: Stof en spinrag vrijmaken
B64: R2 | C64: Geheel nat reinigen
B65: R3 | C65: Grafitti verwijderen
B66: R4 | C66: Coating aanbrengen
B67: Werkmethodiek
B68: U1 | C68: Handmatig reinigen
B69: U2 | C69: Tuckerpool methode
B70: U3 | C70: Dry Wash systeem
B71: U4 | C71: Hoge druk reiniging
B72: U5 | C72: Glazenwassen
B73: U6 | C73: Schrobben
B74: U7 | C74: Shampoo methode
B75: U8 | C75: Conserveren
B76: U9 | C76: Tele-Wash
B77: U10 | C77: Trappen, tegelwerkwanden: inzetten met reiniger, doorborstelen, HD-reinigen
B78: Schoonmaak Resultaat
B79: S1 | C79: Vrij van stof en spinrag
B80: S2 | C80: Vrij van aangehecht vuil
B81: S3 | C81: Vrij van grafitti bekladding
B82: S4 | C82: Coating resultaat

Sheet Rotterdam Lombardijen
C2: Station Rotterdam Lombardijen | F2: Methode | G2: Methode | H2: Schoonmaak | I2: Kengetal | J2: Arbeids | K2: Uurtarief | L2: Uurtarief | M2: Prijzen | N2: Uitvoering | O2: Aanvraag | Q2: Veiligheid | S2: Planning | T2: Aantal | V2: Veiligheid | X2: Totaal
B3: Programma van Eisen Constructief Schoonmaken | F3: Voor- | G3: Uitvoering | H3: Resultaat | I3: Uitvoering | J3: Uren | K3: Nacht- | L3: Dag- | M3: CS | N3: Zone | O3: Maatregel | P3: Tarief | Q3: Personeel | R3: Tarief | S3: Uitvoering | U3: Beheer | V3: Personeel | W3: Totaal | X3: CS
B4: Jaar uitvoering | C4: 2022 | F4: schrift | K4: dienst | L4: dienst
B5: Bouwwerk (SAP) | C5: Materiaalafwerking | D5: Aantallen | S5: Nacht/dag
B7: Perron overkapping | C7: Diverse | D7: 2089 | E7: m2 | F7: R2 | G7: U1/U4/U9 | H7: S2 | I7: 0 | J7: =D7/I7 -> #DIV/0! | K7: 0 | L7: 0 | M7: =J7*K7 -> #DIV/0! | N7: N.V.T. | Q7: TEV | R7: 0 | S7: N | T7: 0 | U7: 0 | V7: =T7*R7 -> 0 | W7: =U7+V7 -> 0 | X7: =W7+M7 -> #DIV/0!
B8: Perron overkapping | C8: Diverse | D8: 480 | E8: m2 | F8: R2 | G8: U1/U4/U9 | H8: S2 | I8: 0 | J8: =D8/I8 -> #DIV/0! | K8: 0 | L8: 0 | M8: =J8*K8 -> #DIV/0! | N8: B | Q8: GRW | R8: 0 | S8: N | T8: 0 | V8: =T8*R8 -> 0 | W8: =U8+V8 -> 0 | X8: =W8+M8 -> #DIV/0!
B9: Perron overkapping | C9: Diverse | D9: 288 | E9: m2 | F9: R2 | G9: U1/U4/U9 | H9: S2 | I9: 0 | J9: =D9/I9 -> #DIV/0! | K9: 0 | L9: 0 | M9: =J9*K9 -> #DIV/0! | N9: A | O9: BD | P9: 0 | Q9: GRW | R9: 0 | S9: N | T9: 0 | U9: =T9*P9 -> 0 | V9: =T9*R9 -> 0 | W9: =U9+V9 -> 0 | X9: =W9+M9 -> #DIV/0!
B10: Perron overkapping | C10: Buitenzijde windscherm | D10: 240 | E10: m2 | F10: R2 | G10: U1/U4/U9 | H10: S2 | I10: 0 | J10: =D10/I10 -> #DIV/0! | K10: 0 | L10: 0 | M10: =J10*K10 -> #DIV/0! | N10: A | O10: BD/SL | P10: 0 | Q10: LWB | R10: 0 | S10: N | T10: 0 | U10: =T10*P10 -> 0 | V10: =T10*R10 -> 0 | W10: =U10+V10 -> 0 | X10: =W10+M10 -> #DIV/0!
B13: Gesloten Abri | C13: Diverse | D13: 76 | E13: m2 | F13: R2 | G13: U1/U4/U9 | H13: S2 | I13: 0 | J13: =D13/I13 -> #DIV/0! | K13: 0 | L13: 0 | M13: =J13*K13 -> #DIV/0! | N13: N.V.T. | S13: N | X13: =W13+M13 -> #DIV/0!
B14: Stationshal | C14: Diverse | D14: 1057 | E14: m2 | F14: R2 | G14: U1/U4/U9 | H14: S2 | I14: 0 | J14: =D14/I14 -> #DIV/0! | K14: 0 | L14: 0 | M14: =J14*K14 -> #DIV/0! | N14: N.V.T. | S14: N | X14: =W14+M14 -> #DIV/0!
B40: Totaal | J40: =SUM(J7:J39) -> #DIV/0!
B42: Veiligheid Admin.
B43: VG & O | C43: door opdrachtgever | D43: 0 | E43: st | M43: 0 | U43: 0 | V43: 0 | W43: =U43 -> 0 | X43: =W43+M43 -> 0
B44: VG & U | D44: 0 | E44: st | M44: 0 | U44: 0 | V44: 0 | W44: =U44*D44 -> 0 | X44: =W44+M44 -> 0
B45: RIE | D45: 0 | E45: st | M45: 0 | U45: 0 | V45: 0 | W45: =U45*D45 -> 0 | X45: =W45+M45 -> 0
B46: PVT | D46: 0 | E46: st | M46: 0 | U46: 0 | V46: 0 | W46: =U46*D46 -> 0 | X46: =W46+M46 -> 0
B47: PVB | D47: 0 | E47: st | M47: 0 | U47: 0 | V47: 0 | W47: =U47*D47 -> 0 | X47: =W47+M47 -> 0
B49: Organisatiekosten
B50: Bouwkeet, Toilet | D50: 0 | E50: dg | K50: 0 | M50: =K50*D50 -> 0 | U50: 0 | V50: 0 | W50: 0 | X50: =M50 -> 0
B51: Waterwagen, aggregaat | D51: 0 | E51: dg | K51: 0 | M51: =K51*D51 -> 0 | U51: 0 | V51: 0 | W51: 0 | X51: =M51 -> 0
B52: Reiskosten | D52: 0 | E52: post | K52: 0 | M52: =K52*D52 -> 0 | U52: 0 | V52: 0 | W52: 0 | X52: =M52 -> 0
B53: Steigers, Hoogwerkers etc. | D53: 0 | E53: post | K53: 0 | M53: =K53*D53 -> 0 | U53: 0 | V53: 0 | W53: 0 | X53: =M53 -> 0
B54: Parkeerkosten | D54: 0 | E54: dg | K54: 0 | M54: =K54*D54 -> 0 | U54: 0 | V54: 0 | W54: 0 | X54: =M54 -> 0
B55: Diversen, onvoorzien | C55: van begroting | D55: 0 | E55: % | M55: =SUM(M5:M54)/100*D55 -> #DIV/0! | U55: 0 | V55: 0 | W55: =SUM(W7:W54)/100*D55 -> 0 | X55: =W55+M55 -> #DIV/0!
B56: Subtotaal | M56: =SUM(M5:M55) -> #DIV/0! | U56: =SUM(U7:U55) -> 0 | V56: =SUM(V7:V55) -> 0 | W56: =SUM(W7:W55) -> 0 | X56: =SUM(X7:X55) -> #DIV/0!
B57: Algemene Kosten | D57: 0 | E57: % | M57: =M56/100*D57 -> #DIV/0! | U57: 0 | V57: 0 | W57: =W56/100*D57 -> 0 | X57: =W57+M57 -> #DIV/0!
B58: Subtotaal | M58: =M57+M56 -> #DIV/0! | W58: =W57+W56 -> 0 | X58: =X57+X56 -> #DIV/0!
B59: Winst & Risico | D59: 0 | E59: % | M59: =M58/100*D59 -> #DIV/0! | U59: 0 | V59: 0 | W59: =W58/100*D59 -> 0 | X59: =W59+M59 -> #DIV/0!
B60: Subtotaal | M60: =M59+M58 -> #DIV/0! | W60: =W59+W58 -> 0 | X60: =X59+X58 -> #DIV/0!
B61: Optie: Afronding / Korting | X61: 0
B62: Totaal: | X62: =X60+X61 -> #DIV/0!
B63: Reinigingsvoorschriften
B64: R1 | C64: Stof en spinrag vrijmaken
B65: R2 | C65: Geheel nat reinigen
B66: R3 | C66: Grafitti verwijderen
B67: R4 | C67: Coating aanbrengen
B68: Werkmethodiek
B69: U1 | C69: Handmatig reinigen
B70: U2 | C70: Tuckerpool methode
B71: U3 | C71: Dry Wash systeem
B72: U4 | C72: Hoge druk reiniging
B73: U5 | C73: Glazenwassen
B74: U6 | C74: Schrobben
B75: U7 | C75: Shampoo methode
B76: U8 | C76: Conserveren
B77: U9 | C77: Tele-Wash
B78: U10 | C78: Trappen, tegelwerkwanden: inzetten met reiniger, doorborstelen, HD-reinigen
B79: Schoonmaak Resultaat
B80: S1 | C80: Vrij van stof en spinrag
B81: S2 | C81: Vrij van aangehecht vuil
B82: S3 | C82: Vrij van grafitti bekladding
B83: S4 | C83: Coating resultaat

Sheet Rotterdam Zuid
C2: Station Rotterdam Zuid | F2: Methode | G2: Methode | H2: Schoonmaak | I2: Kengetal | J2: Arbeids | K2: Uurtarief | L2: Uurtarief | M2: Prijzen | N2: Uitvoering | O2: Aanvraag | Q2: Veiligheid | S2: Planning | T2: Aantal | V2: Veiligheid | X2: Totaal
B3: Programma van Eisen Constructief Schoonmaken | F3: Voor- | G3: Uitvoering | H3: Resultaat | I3: Uitvoering | J3: Uren | K3: Nacht- | L3: Dag- | M3: CS | N3: Zone | O3: Maatregel | P3: Tarief | Q3: Personeel | R3: Tarief | S3: Uitvoering | U3: Beheer | V3: Personeel | W3: Totaal | X3: CS
B4: Jaar uitvoering | C4: 2022 | F4: schrift | K4: dienst | L4: dienst
B5: Bouwwerk (SAP) | C5: Materiaalafwerking | D5: Aantallen | S5: Nacht/dag
B7: Perron overkapping | C7: Plafond hout / metaal constructie / kunststof beplating | D7: 133 | E7: m2 | F7: R2 | G7: U1/U4/U9 | H7: S2 | I7: 0 | J7: =D7/I7 -> #DIV/0! | K7: 0 | L7: 0 | M7: =J7*K7 -> #DIV/0! | N7: N.V.T. | Q7: TEV | R7: 0 | S7: N | T7: 0 | U7: 0 | V7: =T7*R7 -> 0 | W7: =U7+V7 -> 0 | X7: =W7+M7 -> #DIV/0!
B8: Perron overkapping | C8: Plafond hout / metaal constructie / kunststof beplating | D8: 140 | E8: m2 | F8: R2 | G8: U1/U4/U9 | H8: S2 | I8: 0 | J8: =D8/I8 -> #DIV/0! | K8: 0 | L8: 0 | M8: =J8*K8 -> #DIV/0! | N8: B | O8: in combinatie met A | R8: 0 | S8: N | T8: 0 | V8: =T8*R8 -> 0 | W8: =U8+V8 -> 0 | X8: =W8+M8 -> #DIV/0!
B9: Perron overkapping | C9: Plafond hout / metaal constructie / kunststof beplating | D9: 84 | E9: m2 | F9: R2 | G9: U1/U4/U9 | H9: S2 | I9: 0 | J9: =D9/I9 -> #DIV/0! | K9: 0 | L9: 0 | M9: =J9*K9 -> #DIV/0! | N9: A | O9: BD | P9: 0 | Q9: GRW | R9: 0 | S9: N | T9: 0 | U9: =T9*P9 -> 0 | V9: =T9*R9 -> 0 | W9: =U9+V9 -> 0 | X9: =W9+M9 -> #DIV/0!
B11: Brug | C11: Plafond hout / metaal constructie | D11: 355 | E11: m2 | F11: R2 | G11: U1/U4/U9 | H11: S2 | I11: 0 | J11: =D11/I11 -> #DIV/0! | K11: 0 | L11: 0 | M11: =J11*K11 -> #DIV/0! | N11: N.V.T. | S11: N | T11: 0 | U11: =T11*P11 -> 0 | V11: =T11*R11 -> 0 | W11: =U11+V11 -> 0 | X11: =W11+M11 -> #DIV/0!
B12: Windscherm | C12: Diverse | D12: 18 | E12: m2 | F12: R2 | G12: U1/U4/U9 | H12: S2 | I12: 0 | J12: =D12/I12 -> #DIV/0! | K12: 0 | L12: 0 | M12: =J12*K12 -> #DIV/0! | N12: N.V.T. | P12: 0 | R12: 0 | S12: N | T12: 0 | U12: =T12*P12 -> 0 | V12: =T12*R12 -> 0 | W12: =U12+V12 -> 0 | X12: =W12+M12 -> #DIV/0!
B14: Diverse liggers | C14: Beton | D14: 45 | E14: m2 | F14: R2 | G14: U1/U4/U9 | H14: S2 | I14: 0 | J14: =D14/I14 -> #DIV/0! | K14: 0 | L14: 0 | M14: =J14*K14 -> #DIV/0! | N14: A | O14: BD/SL | P14: 0 | Q14: LWB | R14: 0 | S14: N | T14: 0 | U14: =T14*P14 -> 0 | V14: =T14*R14 -> 0 | W14: =U14+V14 -> 0 | X14: =W14+M14 -> #DIV/0!
B39: Totaal | J39: =SUM(J7:J38) -> #DIV/0!
B41: Veiligheid Admin.
B42: VG & O | C42: door opdrachtgever | D42: 0 | E42: st | M42: 0 | U42: 0 | V42: 0 | W42: =U42 -> 0 | X42: =W42+M42 -> 0
B43: VG & U | D43: 0 | E43: st | M43: 0 | U43: 0 | V43: 0 | W43: =U43*D43 -> 0 | X43: =W43+M43 -> 0
B44: RIE | D44: 0 | E44: st | M44: 0 | U44: 0 | V44: 0 | W44: =U44*D44 -> 0 | X44: =W44+M44 -> 0
B45: PVT | D45: 0 | E45: st | M45: 0 | U45: 0 | V45: 0 | W45: =U45*D45 -> 0 | X45: =W45+M45 -> 0
B46: PVB | D46: 0 | E46: st | M46: 0 | U46: 0 | V46: 0 | W46: =U46*D46 -> 0 | X46: =W46+M46 -> 0
B48: Organisatiekosten
B49: Bouwkeet, Toilet | D49: 0 | E49: dg | K49: 0 | M49: =K49*D49 -> 0 | U49: 0 | V49: 0 | W49: 0 | X49: =M49 -> 0
B50: Waterwagen, aggregaat | D50: 0 | E50: dg | K50: 0 | M50: =K50*D50 -> 0 | U50: 0 | V50: 0 | W50: 0 | X50: =M50 -> 0
B51: Reiskosten | D51: 0 | E51: post | K51: 0 | M51: =K51*D51 -> 0 | U51: 0 | V51: 0 | W51: 0 | X51: =M51 -> 0
B52: Steigers, Hoogwerkers etc. | D52: 0 | E52: post | K52: 0 | M52: =K52*D52 -> 0 | U52: 0 | V52: 0 | W52: 0 | X52: =M52 -> 0
B53: Parkeerkosten | D53: 0 | E53: dg | K53: 0 | M53: =K53*D53 -> 0 | U53: 0 | V53: 0 | W53: 0 | X53: =M53 -> 0
B54: Diversen, onvoorzien | C54: van begroting | D54: 0 | E54: % | M54: =SUM(M5:M53)/100*D54 -> #DIV/0! | U54: 0 | V54: 0 | W54: =SUM(W7:W53)/100*D54 -> 0 | X54: =W54+M54 -> #DIV/0!
B55: Subtotaal | M55: =SUM(M5:M54) -> #DIV/0! | U55: =SUM(U7:U54) -> 0 | V55: =SUM(V7:V54) -> 0 | W55: =SUM(W7:W54) -> 0 | X55: =SUM(X7:X54) -> #DIV/0!
B56: Algemene Kosten | D56: 0 | E56: % | M56: =M55/100*D56 -> #DIV/0! | U56: 0 | V56: 0 | W56: =W55/100*D56 -> 0 | X56: =W56+M56 -> #DIV/0!
B57: Subtotaal | M57: =M56+M55 -> #DIV/0! | W57: =W56+W55 -> 0 | X57: =X56+X55 -> #DIV/0!
B58: Winst & Risico | D58: 0 | E58: % | M58: =M57/100*D58 -> #DIV/0! | U58: 0 | V58: 0 | W58: =W57/100*D58 -> 0 | X58: =W58+M58 -> #DIV/0!
B59: Subtotaal | M59: =M58+M57 -> #DIV/0! | W59: =W58+W57 -> 0 | X59: =X58+X57 -> #DIV/0!
B60: Optie: Afronding / Korting | X60: 0
B61: Totaal: | X61: =X59+X60 -> #DIV/0!
B62: Reinigingsvoorschriften
B63: R1 | C63: Stof en spinrag vrijmaken
B64: R2 | C64: Geheel nat reinigen
B65: R3 | C65: Grafitti verwijderen
B66: R4 | C66: Coating aanbrengen
B67: Werkmethodiek
B68: U1 | C68: Handmatig reinigen
B69: U2 | C69: Tuckerpool methode
B70: U3 | C70: Dry Wash systeem
B71: U4 | C71: Hoge druk reiniging
B72: U5 | C72: Glazenwassen
B73: U6 | C73: Schrobben
B74: U7 | C74: Shampoo methode
B75: U8 | C75: Conserveren
B76: U9 | C76: Tele-Wash
B77: U10 | C77: Trappen, tegelwerkwanden: inzetten met reiniger, doorborstelen, HD-reinigen
B78: Schoonmaak Resultaat
B79: S1 | C79: Vrij van stof en spinrag
B80: S2 | C80: Vrij van aangehecht vuil
B81: S3 | C81: Vrij van grafitti bekladding
B82: S4 | C82: Coating resultaat

Sheet Sliedrecht
C2: Station Sliedrecht | F2: Methode | G2: Methode | H2: Schoonmaak | I2: Kengetal | J2: Arbeids | K2: Uurtarief | L2: Uurtarief | M2: Prijzen | N2: Uitvoering | O2: Aanvraag | Q2: Veiligheid | S2: Planning | T2: Aantal | V2: Veiligheid | X2: Totaal
B3: Programma van Eisen Constructief Schoonmaken | F3: Voor- | G3: Uitvoering | H3: Resultaat | I3: Uitvoering | J3: Uren | K3: Nacht- | L3: Dag- | M3: CS | N3: Zone | O3: Maatregel | P3: Tarief | Q3: Personeel | R3: Tarief | S3: Uitvoering | U3: Beheer | V3: Personeel | W3: Totaal | X3: CS
B4: Jaar uitvoering | C4: 2022 | F4: schrift | K4: dienst | L4: dienst
B5: Bouwwerk (SAP) | C5: Materiaalafwerking | D5: Aantallen | S5: Nacht/dag
B7: Perron overkapping | C7: Dakbeschot hout | D7: 257 | E7: m2 | F7: R2 | G7: U4/U9 | H7: S2 | I7: 0 | J7: =D7/I7 -> #DIV/0! | K7: 0 | L7: 0 | M7: =J7*K7 -> #DIV/0! | N7: N.V.T. | Q7: TEV | R7: 0 | S7: N | T7: 0 | U7: 0 | V7: =T7*R7 -> 0 | W7: =U7+V7 -> 0 | X7: =W7+M7 -> #DIV/0!
B8: Perron overkapping | C8: Dakbeschot hout | D8: 45 | E8: m2 | F8: R2 | G8: U4/U9 | H8: S2 | I8: 0 | J8: =D8/I8 -> #DIV/0! | K8: 0 | L8: 0 | M8: =J8*K8 -> #DIV/0! | N8: B | O8: in combinatie met A | V8: =T8*R8 -> 0 | W8: =U8+V8 -> 0 | X8: =W8+M8 -> #DIV/0!
B9: Perron overkapping | C9: Dakbeschot hout | D9: 27 | E9: m2 | F9: R2 | G9: U4/U9 | H9: S2 | I9: 0 | J9: =D9/I9 -> #DIV/0! | K9: 0 | L9: 0 | M9: =J9*K9 -> #DIV/0! | N9: A | O9: BD | P9: 0 | Q9: GRW | R9: 0 | S9: N | T9: 0 | U9: =T9*P9 -> 0 | V9: =T9*R9 -> 0 | W9: =U9+V9 -> 0 | X9: =W9+M9 -> #DIV/0!
B12: Hellingbaan | C12: Diverse | D12: 138 | E12: m2 | F12: R2 | G12: U4 | H12: S2 | I12: 0 | J12: =D12/I12 -> #DIV/0! | K12: 0 | L12: 0 | M12: =J12*K12 -> #DIV/0! | N12: N.V.T. | X12: =W12+M12 -> #DIV/0!
B39: Totaal | J39: =SUM(J7:J38) -> #DIV/0!
B41: Veiligheid Admin.
B42: VG & O | C42: door opdrachtgever | D42: 0 | E42: st | M42: 0 | U42: 0 | V42: 0 | W42: =U42 -> 0 | X42: =W42+M42 -> 0
B43: VG & U | D43: 0 | E43: st | M43: 0 | U43: 0 | V43: 0 | W43: =U43*D43 -> 0 | X43: =W43+M43 -> 0
B44: RIE | D44: 0 | E44: st | M44: 0 | U44: 0 | V44: 0 | W44: =U44*D44 -> 0 | X44: =W44+M44 -> 0
B45: PVT | D45: 0 | E45: st | M45: 0 | U45: 0 | V45: 0 | W45: =U45*D45 -> 0 | X45: =W45+M45 -> 0
B46: PVB | D46: 0 | E46: st | M46: 0 | U46: 0 | V46: 0 | W46: =U46*D46 -> 0 | X46: =W46+M46 -> 0
B48: Organisatiekosten
B49: Bouwkeet, Toilet | D49: 0 | E49: dg | K49: 0 | M49: =K49*D49 -> 0 | U49: 0 | V49: 0 | W49: 0 | X49: =M49 -> 0
B50: Waterwagen, aggregaat | D50: 0 | E50: dg | K50: 0 | M50: =K50*D50 -> 0 | U50: 0 | V50: 0 | W50: 0 | X50: =M50 -> 0
B51: Reiskosten | D51: 0 | E51: post | K51: 0 | M51: =K51*D51 -> 0 | U51: 0 | V51: 0 | W51: 0 | X51: =M51 -> 0
B52: Steigers, Hoogwerkers etc. | D52: 0 | E52: post | K52: 0 | M52: =K52*D52 -> 0 | U52: 0 | V52: 0 | W52: 0 | X52: =M52 -> 0
B53: Parkeerkosten | D53: 0 | E53: dg | K53: 0 | M53: =K53*D53 -> 0 | U53: 0 | V53: 0 | W53: 0 | X53: =M53 -> 0
B54: Diversen, onvoorzien | C54: van begroting | D54: 0 | E54: % | M54: =SUM(M5:M53)/100*D54 -> #DIV/0! | U54: 0 | V54: 0 | W54: =SUM(W7:W53)/100*D54 -> 0 | X54: =W54+M54 -> #DIV/0!
B55: Subtotaal | M55: =SUM(M5:M54) -> #DIV/0! | U55: =SUM(U7:U54) -> 0 | V55: =SUM(V7:V54) -> 0 | W55: =SUM(W7:W54) -> 0 | X55: =SUM(X7:X54) -> #DIV/0!
B56: Algemene Kosten | D56: 0 | E56: % | M56: =M55/100*D56 -> #DIV/0! | U56: 0 | V56: 0 | W56: =W55/100*D56 -> 0 | X56: =W56+M56 -> #DIV/0!
B57: Subtotaal | M57: =M56+M55 -> #DIV/0! | W57: =W56+W55 -> 0 | X57: =X56+X55 -> #DIV/0!
B58: Winst & Risico | D58: 0 | E58: % | M58: =M57/100*D58 -> #DIV/0! | U58: 0 | V58: 0 | W58: =W57/100*D58 -> 0 | X58: =W58+M58 -> #DIV/0!
B59: Subtotaal | M59: =M58+M57 -> #DIV/0! | W59: =W58+W57 -> 0 | X59: =X58+X57 -> #DIV/0!
B60: Optie: Afronding / Korting | X60: 0
B61: Totaal: | X61: =X59+X60 -> #DIV/0!
B62: Reinigingsvoorschriften
B63: R1 | C63: Stof en spinrag vrijmaken
B64: R2 | C64: Geheel nat reinigen
B65: R3 | C65: Grafitti verwijderen
B66: R4 | C66: Coating aanbrengen
B67: Werkmethodiek
B68: U1 | C68: Handmatig reinigen
B69: U2 | C69: Tuckerpool methode
B70: U3 | C70: Dry Wash systeem
B71: U4 | C71: Hoge druk reiniging
B72: U5 | C72: Glazenwassen
B73: U6 | C73: Schrobben
B74: U7 | C74: Shampoo methode
B75: U8 | C75: Conserveren
B76: U9 | C76: Tele-Wash
B77: U10 | C77: Trappen, tegelwerkwanden: inzetten met reiniger, doorborstelen, HD-reinigen
B78: Schoonmaak Resultaat
B79: S1 | C79: Vrij van stof en spinrag
B80: S2 | C80: Vrij van aangehecht vuil
B81: S3 | C81: Vrij van grafitti bekladding
B82: S4 | C82: Coating resultaat
