Workbook
Name Betrekking_op_object: [1]Vragenlijst!$D$18
Name Brondocument: Tabel1[Brondocument]
Name Datum_ingevuld: [1]Vragenlijst!$J$2
Name Eistype: 'geg-val'!$A$2:$A$8
Name form_bestand: RIGHT(CELL("bestandsnaam",[1]Vragenlijst!XFD1),LEN(CELL("bestandsnaam",[1]Vragenlijst!XFD1))-SEARCH("[",CELL("bestandsnaam",[1]Vragenlijst!XFD1),1))
Name Hyperlink_naar_bewijs_2: [1]Vragenlijst!$G$43
Name Methode: 'geg-val'!#REF!
Name Objecten: [1]Objecten!$A$2:$A$100
Name Status: 'geg-val'!$C$2:$C$13
Name Type_doc: 'geg-val'!$B$2:$B$9

Sheet KES_document_oud
A1: Opdrachtgever: | C1: Waterschap Brabantse Delta
A2: Project: | C2: Westelijke Langstraat
A3: Projectnr. OG: | C3: 800430
A4: Klanteisspecificatie
A5: Projectnr. Kragten: | C5: WBD034
A6: Versie | B6: Status | C6: Datum | D6: Opgesteld: [par.] | E6: Verificatie: [par.] | F6: Validatie: [par.]
A7: 1.0 | B7: Concept | C7: 43761 | D7: MLA
A8: 1.1 | B8: Concept | C8: 43776 | D8: MLA
A14: Volgnr | B14: Klanteis-ID | C14: Betrekking op Object/ locatie | D14: Klantnaam | E14: Klanteistitel | F14: Omschrijving klanteis | G14: Toelichting: | H14: Variant waar de klanteis | I14: Klanteisinitiator | J14: Brondocument | K14: Datum brondocument | L14: Hardheid van de eis | M14: Status | N14: Datum status | O14: Verificatie van de klanteis | P14: Verificatie datum | Q14: Honoreringsadvies | R14: Honorering door: | S14: Honoreringsdatum | T14: Onderbouwing honoreringsadvies | U14: Onderbouwing besluit | V14: Honorering in: | W14: Vertaald in:
A15: Prov. 1 | B15: KES011 | C15: ##Invullen## | D15: ##Invullen## | E15: De Hoven - afgraving in combinatie met verflauwen taluds | F15: Afgraven (20cm) dient in combinatie met het verflauwen van de oevers plaats te vinden. | G15: De Hoven bestaat momenteel uit bloemrijke graslanden met o.a. scherpe boterbloem en paarse klaver. De potentie qua biodiversiteit is zichtbaar in de watergangen. Geïsoleerde watergangen staan vooral onder invloed van schoon, zwak zuur grondwater (geen landbouwinvloed). Hierin treedt een fraaie verlanding op met Draadzegge, Waterdrieblad, Holpijp, Moeraswederik. In voedselrijkere sloten zie je Slangenwortel en Lisdodde. De oevers zijn nu heel steil waardoor het areaal voor moerasplanten gering is. Bij de inrichting zou afgraven (20 cm) in combinatie met het verflauwen van de oevers tot een mooie uitbreiding van waardevolle moerasvegetaties kunnen leiden. | H15: ##Invullen## | I15: Deelnemers veldbezoek 22 mei 2018 | J15: Verificatie bij Remco | K15: ##Invullen## | L15: ##Invullen## | M15: Actueel | N15: 43342 | O15: ##Invullen## | P15: ##Invullen## | Q15: Honoreren | R15: ##Invullen## | S15: ##Invullen## | T15: Uitwerking vindt plaats in de planproucten. | U15: ##Invullen## | V15: ##Invullen## | W15: ##Invullen Kragten##
A16: Prov. 2 | B16: KES013 | C16: ##Invullen## | D16: ##Invullen## | E16: De Hoven - liesgras | F16: Bij het schonen van sloten dient liesgras te worden verwijderd. | G16: Sommige sloten hebben liesgras. Bij het schonen moeten juist deze planten worden verwijderd. | H16: ##Invullen## | I16: Deelnemers veldbezoek 22 mei 2018 | J16: Verslag veldbezoek Westelijke Langstraat 22 mei 2018 | K16: ##Invullen## | L16: ##Invullen## | M16: Actueel | N16: 43342 | O16: ##Invullen## | P16: ##Invullen## | Q16: Honorering onder voorwaarde | R16: ##Invullen## | S16: ##Invullen## | T16: Voorwaarde is dat de klanteis alleen wordt uitgevoerd ter plaatse van de maatregelen uit het inrichtingsplan. Dit betekent dat alleen waar op basis van het inrichtingsplan gegraven moet worden deze klanteis wordt gehonoreerd. De klanteis wordt in het contract opgenomen. | U16: ##Invullen## | V16: ##Invullen## | W16: ##Invullen Kragten##
A17: Prov. 3 | B17: KES015 | C17: ##Invullen## | D17: ##Invullen## | E17: Natuur | F17: Regenwaterlenzen moeten worden voorkomen door oppervlakkige afstroming mogelijk te maken. Ondiepe greppels aanleggen indien nodig. | G17: Je wilt dat de basenrijk grondwater de wortelzone kan bereiken. | H17: ##Invullen## | I17: Deelnemers veldbezoek 22 mei 2018 | J17: Verslag veldbezoek Westelijke Langstraat 22 mei 2018 | K17: ##Invullen## | L17: ##Invullen## | M17: Actueel | N17: 43342 | O17: ##Invullen## | P17: ##Invullen## | Q17: Honorering onder voorwaarde | R17: ##Invullen## | S17: ##Invullen## | T17: Voorwaarde is dat de klanteis alleen wordt uitgevoerd voor maatregelen uit het inrichtingsplan.De klanteis wordt in het contract opgenomen. | U17: ##Invullen## | V17: ##Invullen## | W17: ##Invullen Kragten##
A18: Prov. 4 | B18: KES018 | C18: ##Invullen## | D18: ##Invullen## | E18: Afgraven | F18: Micro-reliëf aanbrengen Labbegat 1 | G18: Het is zaak niet alles vlak af te graven. Bij afgraven kleilenzen behouden waardoor microreliëf ontstaat. | H18: ##Invullen## | I18: Deelnemers veldbezoek 22 mei 2018 | J18: Verslag veldbezoek Westelijke Langstraat 22 mei 2018 | K18: ##Invullen## | L18: ##Invullen## | M18: Actueel | N18: 43342 | O18: ##Invullen## | P18: ##Invullen## | Q18: Honoreren | R18: ##Invullen## | S18: ##Invullen## | T18: Uitwerking vindt plaats in planproducten | U18: ##Invullen## | V18: ##Invullen## | W18: ##Invullen Kragten##
A19: Prov. 5 | B19: KES028 | C19: ##Invullen## | D19: ##Invullen## | E19: Landschap - behouden | F19: De openheid van het landschap en vrije uitzichten worden binnen de toekomstige ontwikkeling behouden | G19: De wens is om de openheid van het landschap te behouden. Hierbij wordt de opmerking gemaakt dat ‘openheid’ vrij subjectief is. Een slagenlandschap kan nog steeds als open worden beleefd. Voorkomen van vermindering van vrije uitzichten is een wens. | H19: ##Invullen## | I19: Slagkracht wit | J19: Verslag Bijeenkomst slagracht wit 23 januari 2018 | K19: ##Invullen## | L19: ##Invullen## | M19: Actueel | N19: 43342 | O19: ##Invullen## | P19: ##Invullen## | Q19: Honoreren | R19: ##Invullen## | S19: ##Invullen## | T19: Uitwerking vindt plaats in planproducten. In het VKA zijn geen bouwwerken of vergravingen opgenomen die conflicteren met deze wens | U19: ##Invullen## | V19: ##Invullen## | W19: ##Invullen Kragten##
A20: Prov. 6 | B20: KES029 | C20: ##Invullen## | D20: ##Invullen## | E20: Landschap - behouden | F20: Behouden horizontale lijnelementen van de winterdijk, het ZAK en het halve zolenpad | G20: Focus voor het behoud van kenmerkende patronen in het landschap die zijn ontstaan door menselijk gebruik en die verbonden zijn aan verschillende tijdsperioden en zo gezamenlijk het 'gelaagde landschap' vormen. | H20: ##Invullen## | I20: Slagkracht Oranje | J20: Rapportage inventarisatie en waardering landschap, erfgoed en recreatie Westelijke Langstraat, Arcadis 2017 | K20: ##Invullen## | L20: ##Invullen## | M20: Actueel | N20: 43342 | O20: ##Invullen## | P20: ##Invullen## | Q20: Honoreren | R20: ##Invullen## | S20: ##Invullen## | T20: Uitwerking vindt plaats in planproducten. In het VKA zijn geen bouwwerken of vergravingen opgenomen die conflicteren met deze wens | U20: ##Invullen## | V20: ##Invullen## | W20: ##Invullen Kragten##
A21: Prov. 7 | B21: KES030 | C21: ##Invullen## | D21: ##Invullen## | E21: Landschap - behouden | F21: Behouden verticale lijnen van de turfvaarten, de zijdwende, de Diefdijk en voormalige zijkaden | G21: Focus voor het behoud van kenmerkende patronen in het landschap die zijn ontstaan door menselijk gebruik en die verbonden zijn aan verschillende tijdsperioden en zo gezamenlijk het 'gelaagde landschap' vormen. | H21: ##Invullen## | I21: Slagkracht Oranje | J21: Rapportage inventarisatie en waardering landschap, erfgoed en recreatie Westelijke Langstraat, Arcadis 2017 | K21: ##Invullen## | L21: ##Invullen## | M21: Actueel | N21: 43342 | O21: ##Invullen## | P21: ##Invullen## | Q21: Honoreren | R21: ##Invullen## | S21: ##Invullen## | T21: Uitwerking vindt plaats in planproducten. In het VKA zijn geen bouwwerken of vergravingen opgenomen die conflicteren met deze wens | U21: ##Invullen## | V21: ##Invullen## | W21: ##Invullen Kragten##
A22: Prov. 8 | B22: KES031 | C22: ##Invullen## | D22: ##Invullen## | E22: Landschap - behouden | F22: Behouden van slagen en heggen als verticale en horizontale lijnen | G22: Focus voor het behoud van kenmerkende patronen in het landschap die zijn ontstaan door menselijk gebruik en die verbonden zijn aan verschillende tijdsperioden en zo gezamenlijk het 'gelaagde landschap' vormen. | H22: ##Invullen## | I22: Slagkracht Oranje | J22: Rapportage inventarisatie en waardering landschap, erfgoed en recreatie Westelijke Langstraat, Arcadis 2017 | K22: ##Invullen## | L22: ##Invullen## | M22: Actueel | N22: 43342 | O22: ##Invullen## | P22: ##Invullen## | Q22: Honoreren | R22: ##Invullen## | S22: ##Invullen## | T22: Uitwerking vindt plaats in planproducten. In het VKA zijn geen bouwwerken of vergravingen opgenomen die conflicteren met deze wens | U22: ##Invullen## | V22: ##Invullen## | W22: ##Invullen Kragten##
A23: Prov. 9 | B23: KES080 | C23: ##Invullen## | D23: ##Invullen## | E23: Cultuurhistorie - ontwikkelen | F23: De bewoning- , landbouw- en militaire geschiedenis terugbrengen door het reconstrueren van de Schans aan de Winterdijk | G23: Door de Schans aan de Winterdijk te reconstrueren wordt niet alleen aandacht besteed aan het verhaal van de bewoning- en landbouwgeschiedenis van het gebied, maar ook aan het verhaal van de militaire geschiedenis en de Zuiderwaterlinie. De schans kan bijvoorbeeld gereconstrueerd worden met het zand dat afkomstig is van de afgravingen voor vernatting van het gebied. Momenteel is deze niet zichtbaar omdat hij is afgegraven. De wens bestaat om een nieuwe Schans aan te leggen (circa 35 meter breed). Deze hoeft niet op de oorspronkelijke locatie te liggen, maar wel ergens waar deze goed past in de beleefbaarheid van het landschap (bijvoorbeeld tussen De Hoven en De Dellen). Het idee bestaat om de schans voor fietsers beleefbaar te maken, door de fietsers door de schans te leiden. Aangezien de schans een verhoging in het landschap is biedt deze een goede gelegenheid om een mooi uitzicht over de Westelijke Langstraat te hebben. Een bankje en informatieborden zijn daarom zeer welkom. | H23: ##Invullen## | I23: Slagkracht Oranje / gemeente Waalwijk | J23: Rapportage inventarisatie en waardering landschap, erfgoed en recreatie Westelijke Langstraat, Arcadis 2017 + Verslag bijeenkomst slagkracht oranje 17 april | K23: ##Invullen## | L23: ##Invullen## | M23: Actueel | N23: 43342 | O23: ##Invullen## | P23: ##Invullen## | Q23: Honorering onder voorwaarde | R23: ##Invullen## | S23: ##Invullen## | T23: Klanteisen worden gehonoreerd onder voorwaarde dat de te ontwikkelen waarde niet in strijd zijn met natuurwaarde. | U23: Klanteisen worden gehonoreerd onder voorwaarde dat de gemeente Waalwijk voor de uitvoering zorgt en medewerking van eigenaar (SBB) | V23: ##Invullen## | W23: ##Invullen Kragten##
A24: Prov. 10 | B24: KES091 | C24: ##Invullen## | D24: ##Invullen## | E24: Particulier Natuurbeheer | F24: Klanteisen voor particulier natuurbeheer worden mogelijk gemaakt. | G24: Voor inrichtingsmaatregelen in het kader van particulier natuurbeheer zijn schriftelijk afspraken gemaakt door de provincie met particulieren. Een toelichting op deze afspraken zijn in bijlage III van de oplegnotitie bij de KES opgenomen. | H24: ##Invullen## | I24: Provincie Noord-Brabant | K24: ##Invullen## | L24: ##Invullen## | M24: Actueel | N24: 43412 | O24: ##Invullen## | P24: ##Invullen## | Q24: Honoreren | R24: ##Invullen## | S24: ##Invullen## | T24: Honoreren conform de afspraken van Peter Buster landen deze klanteisen in inrichringsplan. Het gaat hierbij om de klanteisen waarvoor voor 1 december 2018 een overeenkomst is bereikt. | U24: ##Invullen## | V24: ##Invullen## | W24: ##Invullen Kragten##
A25: Prov. 11 | B25: KES092 | C25: ##Invullen## | D25: ##Invullen## | E25: A59 | F25: Minimale ontwateringsdiepte | G25: Rijkswaterstaat eist dat de ontwateringsdiepte minimaal 1,6 meter onder de bovenkant van de verharding blijft. Dit omdat het zand onder fundering niet mag bevriezen. Dat moet worden meegenomen in een eventuele maximale grondwaterstand. Informatie over de bovenkant van de verharding is uit Digitaal Topografisch Bestand (DTB) te halen. De DTB is open source beschikbaar. Omdat de waarde van het DTM een standaardafwijking kan hebben is de eis bijgesteld tot 1,6m onder de bovenkant verharding. | H25: ##Invullen## | I25: Rijkswaterstaat | J25: Verslag gesprek ophalen klanteisen Rijkswaterstaat 25 oktober | K25: ##Invullen## | L25: ##Invullen## | M25: Actueel | N25: 43412 | O25: ##Invullen## | P25: ##Invullen## | Q25: Honoreren | R25: ##Invullen## | S25: ##Invullen## | T25: Uitwerking vindt plaats in planproducten | U25: ##Invullen## | V25: ##Invullen## | W25: ##Invullen Kragten##
A26: Prov. 12 | B26: KES093 | C26: ##Invullen## | D26: ##Invullen## | E26: A59 | F26: Toetsing stabiliteit geluidswal | G26: Rijkswaterstaat adviseert een check op de stabiliteit van de geluidswal (en het grondlichaam) langs de A59 te doen als gevolg van de peilverhoging. De geluidswal is aangelegd door de gemeente. | H26: ##Invullen## | I26: Rijkswaterstaat | J26: Verslag gesprek ophalen klanteisen Rijkswaterstaat 25 oktober | K26: ##Invullen## | L26: ##Invullen## | M26: Actueel | N26: 43412 | O26: ##Invullen## | P26: ##Invullen## | Q26: Afwijzen | R26: ##Invullen## | S26: ##Invullen## | T26: Toetsing stabiliteit geluidswal voorleggen en laten uitvoeren door gemeente. | U26: ##Invullen## | V26: ##Invullen## | W26: ##Invullen Kragten##
A27: Prov. 13 | B27: KES096 | C27: ##Invullen## | D27: ##Invullen## | E27: Maatregelen beheer en onderhoud | F27: Plaatsen/verwijderen van poorten | G27: Staatsbosbeheer wil dat een aantal poorten geplaatst/verwijderd worden, verspreid over het plangebied. De poorten moeten identiek zijn aan de huidige zwarte poorten met vierkante buizen. De locatie van deze poorten is weergegeven in de bijlage van het verslag 'Van VKA naar Inrichtingsplan en beheer- en onderhoudsplan' | H27: ##Invullen## | I27: Staatsbosbeheer | J27: verslag overleg 'Van VKA naar Inrichtingsplan en beheer- en onderhoudsplan' | K27: ##Invullen## | L27: ##Invullen## | M27: Actueel | N27: 43445 | O27: ##Invullen## | P27: ##Invullen## | Q27: Honoreren | R27: ##Invullen## | S27: ##Invullen## | T27: Uitwerking vindt plaats in planproducten | U27: ##Invullen## | V27: ##Invullen## | W27: ##Invullen Kragten##
A28: Prov. 14 | B28: KES097 | C28: ##Invullen## | D28: ##Invullen## | E28: Maatregelen beheer en onderhoud | F28: Aanbrengen nieuwe opritten en verharding voor vrachtwagens | G28: Aanbrengen van drie nieuwe apparellen en 100 m2 verharding voor vrachtwagens langs de Winterdijk in De Hoven en 100 m2 verharding voor vrachtwagens langs de Koesteeg in Labbegat 2. | H28: ##Invullen## | I28: Staatsbosbeheer | J28: verslag overleg 'Van VKA naar Inrichtingsplan en beheer- en onderhoudsplan' | K28: ##Invullen## | L28: ##Invullen## | M28: Actueel | N28: 43445 | O28: ##Invullen## | P28: ##Invullen## | Q28: Honoreren | R28: ##Invullen## | S28: ##Invullen## | T28: Uitwerking vindt plaats in planproducten | U28: ##Invullen## | V28: ##Invullen## | W28: ##Invullen Kragten##
A29: Prov. 15 | B29: KES098 | C29: ##Invullen## | D29: ##Invullen## | E29: Maatregelen beheer en onderhoud | F29: Bomen rooien | G29: Bomen rooien op locatie zoals weergegeven in de bijlage van het verslag 'Van VKA naar Inrichtingsplan en beheer- en onderhoudsplan'. | H29: ##Invullen## | I29: Staatsbosbeheer | J29: verslag overleg 'Van VKA naar Inrichtingsplan en beheer- en onderhoudsplan' | K29: ##Invullen## | L29: ##Invullen## | M29: Actueel | N29: 43445 | O29: ##Invullen## | P29: ##Invullen## | Q29: Afwijzen | R29: ##Invullen## | S29: ##Invullen## | T29: Uitwerking vindt plaats in planproducten | U29: ##Invullen## | V29: ##Invullen## | W29: ##Invullen Kragten##
A30: Prov. 16 | B30: KES099 | C30: ##Invullen## | D30: ##Invullen## | E30: Maatregelen beheer en onderhoud | F30: Duiker i.p.v. brug | G30: Tussen Zuidewijn en Labbegat 2 moet een duiker komen i.p.v. een brug. De locatie is weergegeven in de bijlage van het verslag 'Van VKA naar Inrichtingsplan en beheer- en onderhoudsplan'. | H30: ##Invullen## | I30: Staatsbosbeheer | J30: verslag overleg 'Van VKA naar Inrichtingsplan en beheer- en onderhoudsplan' | K30: ##Invullen## | L30: ##Invullen## | M30: Actueel | N30: 43445 | O30: ##Invullen## | P30: ##Invullen## | Q30: Honoreren | R30: ##Invullen## | S30: ##Invullen## | T30: Uitwerking vindt plaats in planproducten | U30: ##Invullen## | V30: ##Invullen## | W30: ##Invullen Kragten##
A31: Prov. 17 | B31: KES100 | C31: ##Invullen## | D31: ##Invullen## | E31: Maatregelen beheer en onderhoud | F31: Stuwen in het ZAK | G31: Stuwen in het ZAK moeten automatisch en vispaseerbaar zijn | H31: ##Invullen## | I31: Waterschap Brabantse Delta | J31: verslag overleg 'Van VKA naar Inrichtingsplan en beheer- en onderhoudsplan' | K31: ##Invullen## | L31: ##Invullen## | M31: Actueel | N31: 43445 | O31: ##Invullen## | P31: ##Invullen## | Q31: Honoreren | R31: ##Invullen## | S31: ##Invullen## | T31: Uitwerking vindt plaats in planproducten | U31: ##Invullen## | V31: ##Invullen## | W31: ##Invullen Kragten##
A32: Prov. 18 | B32: KES101 | C32: ##Invullen## | D32: ##Invullen## | E32: Maatregelen beheer en onderhoud | F32: Stuwen in gebieden SBB | G32: Stuwen in gebieden die volledig water uit gebieden SBB reguleren moeten door SBB worden beheerd. Deze stuwen hebben dan namelijk alleen een natuurfunctie. | H32: ##Invullen## | I32: Waterschap Brabantse Delta | J32: verslag overleg 'Van VKA naar Inrichtingsplan en beheer- en onderhoudsplan' | K32: ##Invullen## | L32: ##Invullen## | M32: Actueel | N32: 43445 | O32: ##Invullen## | P32: ##Invullen## | Q32: Honoreren | R32: ##Invullen## | S32: ##Invullen## | T32: Uitwerking vindt plaats in planproducten | U32: ##Invullen## | V32: ##Invullen## | W32: ##Invullen Kragten##
A33: Prov. 19 | B33: KES104 | C33: ##Invullen## | D33: ##Invullen## | E33: Maatregelen beheer en onderhoud | F33: Meekoppelkans ophogen gebied buiten plangebied | G33: Ten zuiden van Den Dulver, buiten het plagebied, ligt een heel nat gebied dat opgehoogd kan worden. Dit is een meekoppelkans om de afgegraven grond uit het plangebied te verwerken. | H33: ##Invullen## | I33: Waterschap Brabantse Delta | J33: verslag overleg 'Van VKA naar Inrichtingsplan en beheer- en onderhoudsplan' | K33: ##Invullen## | L33: ##Invullen## | M33: Actueel | N33: 43445 | O33: ##Invullen## | P33: ##Invullen## | Q33: Honoreren | R33: ##Invullen## | S33: ##Invullen## | T33: Honoreren ondanks dat buiten scope ligt. | U33: ##Invullen## | V33: ##Invullen## | W33: ##Invullen Kragten##
A34: Prov. 20 | B34: KES106 | C34: ##Invullen## | D34: ##Invullen## | E34: Maatregelen beheer en onderhoud | F34: Onderhoudspaden waterschap | G34: Waterschap brabantse Delta heeft de volgende eisen aan de inrichting gesteld ten behoeve van onderhoudspaden: - Bij nieuwe watergang breeder dan 7m een met tweezijdig onderhoudspad van 5m; - Bij nieuwe watergang smaller dan 7m een met eenzijdig onderhoudspad van 5m; - Schouwpad moet een drooglegging hebben van 1m; - Een schouwpaddam heeft een kruin van 6m en bevat een duiker van 7,2m; - Onderhoud moet tot het gemaal uitgevoerd kunnen worden. | H34: ##Invullen## | I34: Waterschap Brabantse Delta | J34: verslag overleg 'Van VKA naar Inrichtingsplan en beheer- en onderhoudsplan' | K34: ##Invullen## | L34: ##Invullen## | M34: Actueel | N34: 43445 | O34: ##Invullen## | P34: ##Invullen## | Q34: Honoreren | R34: ##Invullen## | S34: ##Invullen## | T34: Uitwerking vindt plaats in planproducten | U34: ##Invullen## | V34: ##Invullen## | W34: ##Invullen Kragten##
A35: Prov. 21 | C35: ##Invullen## | D35: ##Invullen## | E35: ##Invullen## | F35: aanvullen KES eisen Waterdossiers en grondzaken verwerken in deze KES | G35: ##Invullen## | H35: ##Invullen## | I35: ##Invullen## | J35: Notitie Reikwijdte en Detailniveau | K35: ##Invullen## | L35: ##Invullen## | M35: ##Invullen## | N35: ##Invullen## | O35: ##Invullen## | P35: ##Invullen## | Q35: ##Invullen## | R35: ##Invullen## | S35: ##Invullen## | T35: ##Invullen## | U35: ##Invullen## | V35: ##Invullen## | W35: ##Invullen Kragten##
A36: Prov. 22 | C36: ##Invullen## | D36: ##Invullen## | E36: ##Invullen## | F36: opnemen: KES vanuit het project dat de aannemer een eenheidsprijs maakt voor op orde brengen van bestaande watergangen (uitbaggeren/herprofileren/uitmaaien). extra reclame willen we maken maar organisatie ligt bij aannemer. | G36: ##Invullen## | H36: ##Invullen## | I36: ##Invullen## | J36: Notitie Reikwijdte en Detailniveau | K36: ##Invullen## | L36: ##Invullen## | M36: ##Invullen## | N36: ##Invullen## | O36: ##Invullen## | P36: ##Invullen## | Q36: ##Invullen## | R36: ##Invullen## | S36: ##Invullen## | T36: ##Invullen## | U36: ##Invullen## | V36: ##Invullen## | W36: ##Invullen Kragten##
A37: Prov. 23 | C37: ##Invullen## | D37: ##Invullen## | E37: ##Invullen## | G37: ##Invullen## | H37: ##Invullen## | I37: ##Invullen## | J37: Rapportage inventarisatie en waardering landschap erfgoed en recreatie Westelijke Langstraat, Arcadis 2016 | K37: ##Invullen## | L37: ##Invullen## | M37: Actueel | N37: ##Invullen## | O37: ##Invullen## | P37: ##Invullen## | Q37: ##Invullen## | R37: ##Invullen## | S37: ##Invullen## | T37: ##Invullen## | U37: ##Invullen## | V37: ##Invullen## | W37: ##Invullen Kragten##
A38: Kragt.001 | C38: ##Invullen## | D38: ##Invullen## | E38: ##Invullen## | F38: ##Invullen## | G38: ##Invullen## | H38: ##Invullen## | I38: ##Invullen## | J38: ##Invullen## | K38: ##Invullen## | L38: ##Invullen## | M38: ##Invullen## | N38: ##Invullen## | O38: ##Invullen## | P38: ##Invullen## | Q38: ##Invullen## | R38: ##Invullen## | S38: ##Invullen## | T38: ##Invullen## | U38: ##Invullen## | V38: ##Invullen## | W38: ##Invullen Kragten##
A39: Kragt.002 | C39: ##Invullen## | D39: ##Invullen## | E39: ##Invullen## | F39: ##Invullen## | G39: ##Invullen## | H39: ##Invullen## | I39: ##Invullen## | J39: ##Invullen## | K39: ##Invullen## | L39: ##Invullen## | M39: ##Invullen## | N39: ##Invullen## | O39: ##Invullen## | P39: ##Invullen## | Q39: ##Invullen## | R39: ##Invullen## | S39: ##Invullen## | T39: ##Invullen## | U39: ##Invullen## | V39: ##Invullen## | W39: ##Invullen Kragten##
A40: Kragt.003 | C40: ##Invullen## | D40: ##Invullen## | E40: ##Invullen## | F40: ##Invullen## | G40: ##Invullen## | H40: ##Invullen## | I40: ##Invullen## | J40: ##Invullen## | K40: ##Invullen## | L40: ##Invullen## | M40: ##Invullen## | N40: ##Invullen## | O40: ##Invullen## | P40: ##Invullen## | Q40: ##Invullen## | R40: ##Invullen## | S40: ##Invullen## | T40: ##Invullen## | U40: ##Invullen## | V40: ##Invullen## | W40: ##Invullen Kragten##
A41: Kragt.004 | C41: ##Invullen## | D41: ##Invullen## | E41: ##Invullen## | F41: ##Invullen## | G41: ##Invullen## | H41: ##Invullen## | I41: ##Invullen## | J41: ##Invullen## | K41: ##Invullen## | L41: ##Invullen## | M41: ##Invullen## | N41: ##Invullen## | O41: ##Invullen## | P41: ##Invullen## | Q41: ##Invullen## | R41: ##Invullen## | S41: ##Invullen## | T41: ##Invullen## | U41: ##Invullen## | V41: ##Invullen## | W41: ##Invullen Kragten##
A42: Kragt.005 | C42: ##Invullen## | D42: ##Invullen## | E42: ##Invullen## | F42: ##Invullen## | G42: ##Invullen## | H42: ##Invullen## | I42: ##Invullen## | J42: ##Invullen## | K42: ##Invullen## | L42: ##Invullen## | M42: ##Invullen## | N42: ##Invullen## | O42: ##Invullen## | P42: ##Invullen## | Q42: ##Invullen## | R42: ##Invullen## | S42: ##Invullen## | T42: ##Invullen## | U42: ##Invullen## | V42: ##Invullen## | W42: ##Invullen Kragten##
A43: Kragt.006 | C43: ##Invullen## | D43: ##Invullen## | E43: ##Invullen## | F43: ##Invullen## | G43: ##Invullen## | H43: ##Invullen## | I43: ##Invullen## | J43: ##Invullen## | K43: ##Invullen## | L43: ##Invullen## | M43: ##Invullen## | N43: ##Invullen## | O43: ##Invullen## | P43: ##Invullen## | Q43: ##Invullen## | R43: ##Invullen## | S43: ##Invullen## | T43: ##Invullen## | U43: ##Invullen## | V43: ##Invullen## | W43: ##Invullen Kragten##
A44: Kragt.007 | C44: ##Invullen## | D44: ##Invullen## | E44: ##Invullen## | F44: ##Invullen## | G44: ##Invullen## | H44: ##Invullen## | I44: ##Invullen## | J44: ##Invullen## | K44: ##Invullen## | L44: ##Invullen## | M44: ##Invullen## | N44: ##Invullen## | O44: ##Invullen## | P44: ##Invullen## | Q44: ##Invullen## | R44: ##Invullen## | S44: ##Invullen## | T44: ##Invullen## | U44: ##Invullen## | V44: ##Invullen## | W44: ##Invullen Kragten##
A45: Kragt.008 | C45: ##Invullen## | D45: ##Invullen## | E45: ##Invullen## | F45: ##Invullen## | G45: ##Invullen## | H45: ##Invullen## | I45: ##Invullen## | J45: ##Invullen## | K45: ##Invullen## | L45: ##Invullen## | M45: ##Invullen## | N45: ##Invullen## | O45: ##Invullen## | P45: ##Invullen## | Q45: ##Invullen## | R45: ##Invullen## | S45: ##Invullen## | T45: ##Invullen## | U45: ##Invullen## | V45: ##Invullen## | W45: ##Invullen Kragten##
A46: Kragt.009 | C46: ##Invullen## | D46: ##Invullen## | E46: ##Invullen## | F46: ##Invullen## | G46: ##Invullen## | H46: ##Invullen## | I46: ##Invullen## | J46: ##Invullen## | K46: ##Invullen## | L46: ##Invullen## | M46: ##Invullen## | N46: ##Invullen## | O46: ##Invullen## | P46: ##Invullen## | Q46: ##Invullen## | R46: ##Invullen## | S46: ##Invullen## | T46: ##Invullen## | U46: ##Invullen## | V46: ##Invullen## | W46: ##Invullen Kragten##
A47: Kragt.010 | C47: ##Invullen## | D47: ##Invullen## | E47: ##Invullen## | F47: ##Invullen## | G47: ##Invullen## | H47: ##Invullen## | I47: ##Invullen## | J47: ##Invullen## | K47: ##Invullen## | L47: ##Invullen## | M47: ##Invullen## | N47: ##Invullen## | O47: ##Invullen## | P47: ##Invullen## | Q47: ##Invullen## | R47: ##Invullen## | S47: ##Invullen## | T47: ##Invullen## | U47: ##Invullen## | V47: ##Invullen## | W47: ##Invullen Kragten##
A48: Kragt.011 | C48: ##Invullen## | D48: ##Invullen## | E48: ##Invullen## | F48: ##Invullen## | G48: ##Invullen## | H48: ##Invullen## | I48: ##Invullen## | J48: ##Invullen## | K48: ##Invullen## | L48: ##Invullen## | M48: ##Invullen## | N48: ##Invullen## | O48: ##Invullen## | P48: ##Invullen## | Q48: ##Invullen## | R48: ##Invullen## | S48: ##Invullen## | T48: ##Invullen## | U48: ##Invullen## | V48: ##Invullen## | W48: ##Invullen Kragten##
A49: Kragt.012 | C49: ##Invullen## | D49: ##Invullen## | E49: ##Invullen## | F49: ##Invullen## | G49: ##Invullen## | H49: ##Invullen## | I49: ##Invullen## | J49: ##Invullen## | K49: ##Invullen## | L49: ##Invullen## | M49: ##Invullen## | N49: ##Invullen## | O49: ##Invullen## | P49: ##Invullen## | Q49: ##Invullen## | R49: ##Invullen## | S49: ##Invullen## | T49: ##Invullen## | U49: ##Invullen## | V49: ##Invullen## | W49: ##Invullen Kragten##
A50: Kragt.013 | C50: ##Invullen## | D50: ##Invullen## | E50: ##Invullen## | F50: ##Invullen## | G50: ##Invullen## | H50: ##Invullen## | I50: ##Invullen## | J50: ##Invullen## | K50: ##Invullen## | L50: ##Invullen## | M50: ##Invullen## | N50: ##Invullen## | O50: ##Invullen## | P50: ##Invullen## | Q50: ##Invullen## | R50: ##Invullen## | S50: ##Invullen## | T50: ##Invullen## | U50: ##Invullen## | V50: ##Invullen## | W50: ##Invullen Kragten##

Sheet Algemeen
A1: Projectnaam: Westelijke Langstraat
A2: Projectnummer: | C2: WBD034
A3: Betreft: | C3: =KES_document_oud!D1 -> 0
A4: Versie: | C4: =KES_document_oud!D2 -> 0
A5: Datum: | C5: =KES_document_oud!D3 -> 0
A7: Opsteller:
A8: Validatie:
A9: Verificatie:
A11: Overzicht wijzigingen / revisies | E11: Controle
A12: Versie | B12: Datum | C12: Omschrijving, onderwerp | D12: Status | E12: Datum V&V | F12: Opgesteld | G12: Verificatie | H12: Validatie
A13: 1.1
A14: 1.2
A23: Eisen verificatieplan

Sheet KES_document 
A1: Opdrachtgever: | E1: Hoogheemraadschap van Delftland
A2: Project: | E2: Gemaal Commandeurspolder
A3: Projectnr. OG:
A4: Klanteisspecificatie
A5: Projectnr. Kragten: | C5: HHD021 | E5: HHD021
A6: Versie | B6: Status | C6: Datum | D6: Opgesteld: [par.] | E6: Verificatie: [par.] | F6: Validatie: [par.]
A7: 1.0 | B7: Concept | C7: =NOW() -> 44881.85 | D7: HKE/MLA | E7: BCO | F7: GVH
A15: Klanteis-ID | B15: Honoreringsstatus | C15: Wens_Bindend | D15: Betrekking op Object/ locatie | E15: Klantnaam | F15: Klanteistitel | G15: Omschrijving klanteis | H15: Toelichting: | I15: Klanteisinitiator | J15: Brondocumentcode | K15: Brondocument | L15: Directory | M15: Hyperlink | N15: Datum brondocument | O15: Honoreringsadvies | P15: Onderbouwing honoreringsadvies | Q15: Gehonoreerd door: | R15: Status | S15: Datum status | T15: Vertaald in: | U15: Verificatie of Validatie methode: | V15: Aantekeningen Kragten | W15: Reactie kragten ##-##-2021
A16: KES_001 | C16: Bindend | D16: Monumentale waarde | E16: Hoogheemraadschap van Delftland | F16: Herbestemmen gemaal Commandeurskade 17 | G16: Herbestemming van het gemaal kan onder gelijkwaardige voorwaarden als bij gemaal Vlaardingsekade 59 te Schipluiden. | H16: Aanbevelingen beleidsmedewerker Ruimtelijke Ordening en Erfgroed: 1. Bestaande dienstwoning mag worden gebruikt als permanente woning en het gemaal en het bakkerhuisje mogen worden gebruikt als bijgebouw bij de woning, inclusief het gebruik t.b.v. nevenactiviteiten als een bed en breakfast. 2. Aan de woonbestemming een voorwaardelijke verplichting koppelen dat de bestemming pas mag worden gerealiseerd, nadat het bakkershuisje is gerealiseerd. 3. Het toevoegen van een tweede woning lijkt niet mogelijk binnen de regels van het bestemmingsplan. | I16: Kragten | J16: =IF(LEN(K16)>0,_xlfn.XLOOKUP(K16,Tabel1[Brondocument],Tabel1[Bron_id]),"") -> KDOC_0001 | K16: 20201103 Randvoorwaarden voor herbestemmen gemaal Commandeurskade 17 Maasland | N16: =IF(LEN(K16)>0,_xlfn.XLOOKUP(K16,Tabel1[Brondocument],Tabel1[Datum]),"") -> 44138 | O16: Honoreren onder voorwaarde | P16: Bestemmingsplanwijzinging bespreken met gemeente Midden-Delfland. Formeel besluit opnemen als bindende klanteis. | Q16: Opdrachtgever | R16: niet verwerkt in BP omdat het risico op vertraging voor nieuwbouw te groot is vanwege het aspect parkeren.
A17: KES_002 | C17: Wens | D17: Inpassing landschap | E17: Gemeente Midden-Delfland | F17: Inpassing gemaal | G17: Zorgvuldige inpassing en vormgeving van gemaal die goed passen in de ruimtelijke setting | H17: Aanbevelingen vanuit Polderarchitect: Een gebiedsvreemd betonnen element in de polder met stalen hekken eromheen voldoet niet. Een nieuw gemaal mag best wel ‘smoel’ en uitstraling hebben en uitdrukking geven aan zijn wezenlijke functie in het watersysteem. Zeker als het geheel van installaties, infrastructuur en landschappelijke elementen zich goed voegt in de aanwezige ruimtelijke kwaliteiten. | I17: Kragten | J17: =IF(LEN(K17)>0,_xlfn.XLOOKUP(K17,Tabel1[Brondocument],Tabel1[Bron_id]),"") -> KDOC_0002 | K17: 20201216 advies gemaal commandeurspolder - 04-2020 def | N17: =IF(LEN(K17)>0,_xlfn.XLOOKUP(K17,Tabel1[Brondocument],Tabel1[Datum]),"") -> 44221 | O17: Honoreren onder voorwaarde | P17: Esthetische keuze, ten aanzien van uitstraling dienen besproken te worden met de gemeente Midden-Delfland. Rekening houden met (wettelijke) eisen tav veiligheid/arbo, bijv. tav hekken en functie van het gemaal. | Q17: verder uit te werken en keuzes te maken middels beeldkwaliteitsplan
A18: KES_003 | C18: Wens | D18: Inpassing landschap | E18: Gemeente Midden-Delfland | F18: Landschapsontwerp | G18: Wij pleiten voor een zorgvuldig landschapsontwerp voor het gemaal en zijn directe omgeving, inclusief de toegangspaden, in- en uitlaat, verharding, eventuele brug, landschapselementen en beplanting. | H18: Het huidige gemaal is via een karrespoor bereikbaar, is het noodzakelijk om een verharde weg naar het nieuwe gemaal aan te leggen? Beperk het nieuw aan te leggen verharding tot een minimum. Respecteer ook het slotenpatroon; geef nieuwe toeleidende sloten of verbredingen zorgvuldig vorm. | I18: Kragten | J18: =IF(LEN(K18)>0,_xlfn.XLOOKUP(K18,Tabel1[Brondocument],Tabel1[Bron_id]),"") -> KDOC_0002 | K18: 20201216 advies gemaal commandeurspolder - 04-2020 def | N18: =IF(LEN(K18)>0,_xlfn.XLOOKUP(K18,Tabel1[Brondocument],Tabel1[Datum]),"") -> 44221 | O18: Honoreren onder voorwaarde | P18: Esthetische keuze, ten aanzien van uitstraling en landschappelijk inpassing dienen besproken te worden met de gemeente Midden-Delfland. Rekening houden met functionele eisen, bijv. tav verhardingstype irt belasting onderhoudsverkeer. | Q18: rekening houdend met onderhoudsvoertuigen vanwege de juiste verkeersbelasting.
A19: KES_004 | C19: Wens | D19: Inpassing landschap | E19: Gemeente Midden-Delfland | F19: Soort gemaal | G19: Een bovengronds, mooi en goed ingepast gemaal kan voor zowel de Molenweg als de Kwakelweg leiden tot de gewenste ruimtelijke kwaliteit. Referentie: het gemaal bij de Vlaardingsekade/ Vlietzicht. | H19: Een ondergronds gemaal behoort misschien ook tot de mogelijkheden, maar dan verdienen vormgeving en inpassing van de infrastructuur en omheining extra aandacht. Die moeten duidelijk uitdrukking en betekenis geven aan de functie en de plek; het ondergrondse gemaal zoals op de foto’s gepresenteerd komt met zijn hekken er omheen hard en gebiedsvreemd over. | I19: Kragten | J19: =IF(LEN(K19)>0,_xlfn.XLOOKUP(K19,Tabel1[Brondocument],Tabel1[Bron_id]),"") -> KDOC_0002 | K19: 20201216 advies gemaal commandeurspolder - 04-2020 def | N19: =IF(LEN(K19)>0,_xlfn.XLOOKUP(K19,Tabel1[Brondocument],Tabel1[Datum]),"") -> 44221 | O19: Honoreren | P19: Esthetische keuze, ten aanzien van uitstraling en landschappelijk inpassing dienen besproken te worden met de gemeente Midden-Delfland | Q19: keuze gemaakt voor ondergronds. Combinatie bakkershuisje en beeldkwaliteitsplan.
A20: KES_005 | C20: Wens | D20: Inpassing landschap | E20: Gemeente Midden-Delfland | F20: Inpassing gemaal | G20: Zorg dat het nieuwe gemaal goed en zorgvuldig is gesitueerd ten opzichte van en ingepast is in het poldersysteem. | H20: Vandaar dat wij zowel locatie 1 als locatie 2 (beide aan het uiteinde van de centrale sloot) goed kunnen begrijpen. Integreer het nieuwe geheel (van bebouwing, infrastructuur, afrastering, beplanting) in één geheel dat logisch op de polderstructuur aansluit. De leesbaarheid van plek en functie (een sterk punt van het huidige ensemble) zou minstens gelijk moeten blijven. | I20: Kragten | J20: =IF(LEN(K20)>0,_xlfn.XLOOKUP(K20,Tabel1[Brondocument],Tabel1[Bron_id]),"") -> KDOC_0002 | K20: 20201216 advies gemaal commandeurspolder - 04-2020 def | N20: =IF(LEN(K20)>0,_xlfn.XLOOKUP(K20,Tabel1[Brondocument],Tabel1[Datum]),"") -> 44221 | O20: Honoreren onder voorwaarde | P20: Esthetische keuze, ten aanzien van uitstraling en landschappelijk inpassing dienen besproken te worden met de gemeente Midden-Delfland | Q20: keuze gemaakt voor ondergronds. Combinatie bakkershuisje en beeldkwaliteitsplan. Zo goed mogelijk in lijn met watergangen.
A21: KES_006 | C21: Wens | D21: Inpassing landschap | E21: Gemeente Midden-Delfland | F21: Locatie 1, Commandeurskade | G21: Respecteer op locatie 1 de ruimtelijke kwaliteit van het bestaande monumentale ensemble. Zorg ervoor dat het nieuwe gemaal inclusief de toeleidende natte en droge infrastructuur ruimtelijk los komen te liggen van het bestaande ensemble. | H21: Als wordt gekozen voor een nieuw gemaal naast het oude zal dat zorgvuldig moeten worden ingepast; het systeem van in- en uitlaat en de aansluiting op het slotenpatroon om het gemaal heen vereisen de nodige aandacht. Er moeten geen visuele barrières worden opgeworpen of onduidelijke overhoeken ontstaan. Het nieuwe gemaal moet door zijn materialisering en omheining geen gebiedsvreemd element dat raar afsteekt tegen het bestaande ensemble. | I21: Kragten | J21: =IF(LEN(K21)>0,_xlfn.XLOOKUP(K21,Tabel1[Brondocument],Tabel1[Bron_id]),"") -> KDOC_0002 | K21: 20201216 advies gemaal commandeurspolder - 04-2020 def | N21: =IF(LEN(K21)>0,_xlfn.XLOOKUP(K21,Tabel1[Brondocument],Tabel1[Datum]),"") -> 44221 | O21: Honoreren onder voorwaarde | P21: Afhankelijk van de variantkeuze. Zorg ervoor dat het nieuwe gemaal inclusief de toeleidende natte en droge infrastructuur ruimtelijk los komen te liggen van het bestaande ensemble. | Q21: Opdrachtgever
A22: KES_007 | C22: Wens | D22: Inpassing landschap | E22: Gemeente Midden-Delfland | F22: Locatie 2, Kwakelweg | G22: Aan de Kwakelweg (locatie 2) vraagt de bestaande ruimtelijke structuur op de potentiele locatie tussen boezem (Middelwatering) en open polder om precisie in de situering en inpassing; aan deze zijde van de boezem is nu een open vista op het polderlandschap aanwezig. | H22: Een goed ingepast bovengronds gemaal op polderniveau is hier goed denkbaar. Een bovengrondse gemaal geeft immers een duidelijker expressie aan de functie dan een ondergrondse installatie. We zouden dit alternatief op deze plek graag nader uitgewerkt zien. | I22: Kragten | J22: =IF(LEN(K22)>0,_xlfn.XLOOKUP(K22,Tabel1[Brondocument],Tabel1[Bron_id]),"") -> KDOC_0002 | K22: 20201216 advies gemaal commandeurspolder - 04-2020 def | N22: =IF(LEN(K22)>0,_xlfn.XLOOKUP(K22,Tabel1[Brondocument],Tabel1[Datum]),"") -> 44221 | O22: Anders: locatie 2 nvt | P22: Afhankelijk van de variantkeuze. Een bovengrondse gemaal, als alternatief, op deze plek nader uitwerken. | Q22: vervallen
A23: KES_008 | C23: Wens | D23: Inpassing landschap | E23: Direct omwonende | F23: Inpassing gemaal | G23: Reactie op de visualisaties: Het oogt nu als een flinke massa, ook voor de ondergrondse versie. Dit zou beter ingepast moeten worden in de omgeving. Een groenere uitstraling wordt heel belangrijk gevonden want het is nu een heel authentieke plek. | I23: Kragten | J23: =IF(LEN(K23)>0,_xlfn.XLOOKUP(K23,Tabel1[Brondocument],Tabel1[Bron_id]),"") -> KDOC_0003 | K23: 20210416 Presentatie en aandachtspunten opgehaald tijdens informatiemoment gemaal Commandeurspolder | N23: =IF(LEN(K23)>0,_xlfn.XLOOKUP(K23,Tabel1[Brondocument],Tabel1[Datum]),"") -> 44302 | O23: Honoreren onder voorwaarde | P23: Afhankelijk van de variantkeuze. Rekening houden met landschappelijke inpassing van gemaal. Materialisatie volgt in BKP. Zo veel mogelijk bovengrondse elementen beperken. | Q23: Opdrachtgever
A24: KES_009 | C24: Wens | D24: Inpassing landschap | E24: Bomen werkgroep Midden-Delfland ver. | F24: Bestaande bomen | G24: Er zijn grote zorgen betreffende de bomen rondom het bestaande gemaal. Deze zijn onderdeel van het monumentale ensemble. Met name de knotwilgen rij wordt van grote waarde gezien. Tijdens het overleg wordt aangegeven dat dit in de verdere uitwerking zeker wordt meegenomen. | I24: Kragten | J24: =IF(LEN(K24)>0,_xlfn.XLOOKUP(K24,Tabel1[Brondocument],Tabel1[Bron_id]),"") -> KDOC_0003 | K24: 20210416 Presentatie en aandachtspunten opgehaald tijdens informatiemoment gemaal Commandeurspolder | N24: =IF(LEN(K24)>0,_xlfn.XLOOKUP(K24,Tabel1[Brondocument],Tabel1[Datum]),"") -> 44302 | O24: Honoreren onder voorwaarde | P24: Afhankelijk van de variantkeuze. Rekening houden met zoveel mogelijk behoud van bestaande bomen (knotwilgen) over verplaatsen van relatief nieuwe boom i.v.m. historische waarde | Q24: Opdrachtgever
A25: KES_010 | C25: Wens | D25: Samenscholing | E25: Direct omwonende | F25: Overlast hangjongeren | G25: Het nieuwe gemaal moet geen nieuwe hangplek worden. | I25: Kragten | J25: =IF(LEN(K25)>0,_xlfn.XLOOKUP(K25,Tabel1[Brondocument],Tabel1[Bron_id]),"") -> KDOC_0003 | K25: 20210416 Presentatie en aandachtspunten opgehaald tijdens informatiemoment gemaal Commandeurspolder | N25: =IF(LEN(K25)>0,_xlfn.XLOOKUP(K25,Tabel1[Brondocument],Tabel1[Datum]),"") -> 44302 | O25: Honoreren | P25: Inrichting rondom gemaal on aantrekkelijk(geen zitgelegenheid) maken voor jongeren. Gemaalterrein voorzien van afscheiding | Q25: Opdrachtgever
A26: KES_011 | C26: Bindend | D26: Kabels en leidingen | E26: Westland Infra | F26: Verlegging van de kabels | G26: Voor verlegging van de kabels op de locatie bij het bestaande poldergemaal Commandeurskade moet gelet op de beschikbare capaciteit bij Westland Infra gerekend worden op een doorlooptijd van ca. 1 – 1.5 jaar vanaf heden tot start verleggingen. | I26: Kragten | J26: =IF(LEN(K26)>0,_xlfn.XLOOKUP(K26,Tabel1[Brondocument],Tabel1[Bron_id]),"") -> KDOC_0005 | K26: 20210428-HHD021-VERSLAG-nutsbespreking-Commandeurskade | N26: =IF(LEN(K26)>0,_xlfn.XLOOKUP(K26,Tabel1[Brondocument],Tabel1[Datum]),"") -> 44314 | O26: Honoreren | P26: Deze eis heeft invloed op de variantkeuze en planning. | Q26: Opdrachtgever
A27: KES_012 | C27: Wens | D27: Inpassing landschap | E27: Direct omwonende | F27: Inpassing gemaal | G27: Respecteer op locatie 1 de ruimtelijke kwaliteit van het bestaande monumentale ensemble. | H27: Nu er is gekozen voor een nieuw gemaal naast het oude zal dat zorgvuldig moeten worden ingepast. Het nieuwe gemaal moet door zijn materialisering en omheining geen gebiedsvreemd element vormen dat raar afsteekt tegen het bestaande ensemble, bijvoorbeeld geen opvallend hek rondom het gemaal (als er een hekwerk omheen moet dat bijvoorkeur een landelijke uitstraling), bijvoorkeur een ondergronds gemaal, geen betonplaat maar open verharding rondom het gemaal waar gras doorheen kan groeien. Als er sprake is van een betonplaat, kan de beton dan worden voorzien van bijv. een groene kleurstof zodat het beter inpasbaar is. | I27: Kragten | J27: =IF(LEN(K27)>0,_xlfn.XLOOKUP(K27,Tabel1[Brondocument],Tabel1[Bron_id]),"") -> KDOC_0006 | K27: 20210430 aandachtspunten rioolgemaal door omgeving plus aanvullingen gesprek 1 juni | N27: =IF(LEN(K27)>0,_xlfn.XLOOKUP(K27,Tabel1[Brondocument],Tabel1[Datum]),"") -> 44316 | O27: Honoreren onder voorwaarde | P27: Er wordt in de uitwerkingen gekeken naar een zorgvuldige inpassing die voldoet aan de veiligheidseisen waarbij wordt gekeken naar een natuurlijkere uitstraling. | Q27: Opdrachtgever
A28: KES_013 | C28: Wens | D28: overlast uitvoering en in bedrijf zijn gemaal | E28: Direct omwonende | F28: geluids- en trillingsoverlast | G28: Aandacht voor geluids- en trillingsoverlast in de bouwfase en voorkomen van geluidsoverlast in beheersfase. Niet meer geluid dan in de huidige situatie als het in bedrijf is. | H28: Omgeving geeft aan dat er bij het passeren van zwaar verkeer sprake is van trillingen. Een 0-meting voorafgaand aan de werkzaamheden kan helpen om te zien of er door de werkzaamheden schade is ontstaan | I28: Kragten | J28: =IF(LEN(K28)>0,_xlfn.XLOOKUP(K28,Tabel1[Brondocument],Tabel1[Bron_id]),"") -> KDOC_0006 | K28: 20210430 aandachtspunten rioolgemaal door omgeving plus aanvullingen gesprek 1 juni | N28: =IF(LEN(K28)>0,_xlfn.XLOOKUP(K28,Tabel1[Brondocument],Tabel1[Datum]),"") -> 44316 | O28: Honoreren | P28: We houden ons aan de wettelijke eisen voor geluid. Een 0-meting voorafgaand aan de werkzaamheden opnemen in PvE. | Q28: Opdrachtgever
A29: KES_014 | C29: Wens | D29: Perceel I 895 | E29: Familie van Woerden | F29: grond behoud | G29: Eigenaar wil perceel behouden en niet verkopen voor de aanleg van het gemaal. | I29: Kragten | J29: =IF(LEN(K29)>0,_xlfn.XLOOKUP(K29,Tabel1[Brondocument],Tabel1[Bron_id]),"") -> KDOC_0006 | K29: 20210430 aandachtspunten rioolgemaal door omgeving plus aanvullingen gesprek 1 juni | N29: =IF(LEN(K29)>0,_xlfn.XLOOKUP(K29,Tabel1[Brondocument],Tabel1[Datum]),"") -> 44316 | O29: Honoreren onder voorwaarde | P29: Bekijken of ontwerp kan worden aangepast. Betreft nu 2 m2 overlap, of in gesprek gaan met de familie van Woerden. | Q29: Opdrachtgever
A30: KES_015 | C30: Wens | D30: Monumentale waarde | E30: Direct omwonende | F30: Restauratie bakkershuisje | G30: Bestaande gebouwen opknappen en eventueel gebruiken voor installatie van pomp zodat het bakkershuisje ook een functie krijgt. | I30: Kragten | J30: =IF(LEN(K30)>0,_xlfn.XLOOKUP(K30,Tabel1[Brondocument],Tabel1[Bron_id]),"") -> KDOC_0006 | K30: 20210430 aandachtspunten rioolgemaal door omgeving plus aanvullingen gesprek 1 juni | N30: =IF(LEN(K30)>0,_xlfn.XLOOKUP(K30,Tabel1[Brondocument],Tabel1[Datum]),"") -> 44316 | O30: Honoreren | P30: Restauratie is al een verplichting die gemeente heeft gesteld. Gebruik van het bakkershuisje geeft het gebouw een nieuwe functie wat bijdraagt aan toekomstig behoud. | Q30: Opdrachtgever
A31: KES_016 | C31: Wens | D31: Toegangspad en hek boven aan dijk | E31: Direct omwonende | F31: Toegangspad | G31: Behoud van toegangspad en inclusief poort boven aan dijk, om ongeoorloofd bezoek te voorkomen. Bij voorkeur ook de poort dicht laten staan. | I31: Kragten | J31: =IF(LEN(K31)>0,_xlfn.XLOOKUP(K31,Tabel1[Brondocument],Tabel1[Bron_id]),"") -> KDOC_0006 | K31: 20210430 aandachtspunten rioolgemaal door omgeving plus aanvullingen gesprek 1 juni | N31: =IF(LEN(K31)>0,_xlfn.XLOOKUP(K31,Tabel1[Brondocument],Tabel1[Datum]),"") -> 44316 | O31: Honoreren | P31: Huidige situatie bij poort/ toegangspad (nabij brug Commandeurskade 30) naar nieuwe gemaal wordt gehandhaafd. Poort blijft in eindsituatie aanwezig. Sluit aan bij de wens van Delfland dat de toegangsweg niet gebruikt wordt door derden. | Q31: Opdrachtgever
A32: KES_017 | C32: Wens | D32: Wandel-fietspad | E32: Direct omwonende | F32: Fietstoegankelijkheid | G32: Minder steile oprit aan de Noordzijde (pad rondom huidige gemaal). Maar wel toegankelijk blijven voor fietsers en voetgangers (anders moeten scholieren veel te ver omrijden of gaan ze over de Molenweg en dat is veel te gevaarlijk). | I32: Kragten | J32: =IF(LEN(K32)>0,_xlfn.XLOOKUP(K32,Tabel1[Brondocument],Tabel1[Bron_id]),"") -> KDOC_0004 | K32: 20210420 Commandeurspoldergemaal Maasland | N32: =IF(LEN(K32)>0,_xlfn.XLOOKUP(K32,Tabel1[Brondocument],Tabel1[Datum]),"") -> 44306 | O32: Honoreren onder voorwaarde | P32: Dit valt buiten de scope. Wordt wel besproken met gemeente om te kijken of hier wel wat aan gedaan kan worden. Misschien kunnen we wel het fietsbruggetje aanpassen als dat krooshek weg kan? valt dan onder ontmantelen oude gemaal rekening houdend met monument | Q32: Opdrachtgever
A33: KES_018 | C33: Wens | D33: Monumentale waarde | E33: Historische Vereniging Maasland | F33: Restauratie bakkershuisje | G33: Restauratieplan bestaande bakkershuisje tijdig voorleggen aan Commissie Welstand en Erfgoed | I33: Kragten | J33: =IF(LEN(K33)>0,_xlfn.XLOOKUP(K33,Tabel1[Brondocument],Tabel1[Bron_id]),"") -> KDOC_0007 | K33: 20210429 Gemaal Commandeurspolder | N33: =IF(LEN(K33)>0,_xlfn.XLOOKUP(K33,Tabel1[Brondocument],Tabel1[Datum]),"") -> 44315 | O33: Honoreren | P33: Noodzakelijk voor het verkrijgen van medewerking door de gemeente | Q33: Opdrachtgever
A34: KES_019 | C34: Wens | D34: Aansturing onderzoeken en werkzaamheden | E34: Direct omwonende | F34: Uitvoeren onderzoeken en werkzaamheden. | G34: Mevrouw Zegwaard heeft meerdere keren aangegeven dat bij het uitvoeren van onderzoeken duidelijk moet worden aangegeven dat men het gemaal moet benaderen via de brug bij Commandeurskade 28 en dat niet het adres Commandeurskade 17 moet worden gehanteerd voor de navigatie. Dan moet namelijk gekeerd worden op het perceel van deze bewoners vanwege de doodlopende weg. | I34: Kragten | J34: =IF(LEN(K34)>0,_xlfn.XLOOKUP(K34,Tabel1[Brondocument],Tabel1[Bron_id]),"") | N34: =IF(LEN(K34)>0,_xlfn.XLOOKUP(K34,Tabel1[Brondocument],Tabel1[Datum]),"") | O34: Honoreren | P34: In opdrachten aan externen duidelijk aangeven wat de aanvoerroute is voor het uitvoeren van onderzoeken /werkzaamheden. | Q34: Opdrachtgever
A35: KES_020 | C35: Wens | D35: Perceel bestaande gemaal | E35: Direct omwonende | F35: Oude objecten behouden | G35: Rondom het bestaande gemaal, op het perceel van Commandeurskade 17 staan oude objecten die van oorsprong een relatie met het gemaal hebben. Omgeving geeft aan dat dit interessant is om te behouden. | I35: Kragten | J35: =IF(LEN(K35)>0,_xlfn.XLOOKUP(K35,Tabel1[Brondocument],Tabel1[Bron_id]),"") -> KDOC_0006 | K35: 20210430 aandachtspunten rioolgemaal door omgeving plus aanvullingen gesprek 1 juni | N35: =IF(LEN(K35)>0,_xlfn.XLOOKUP(K35,Tabel1[Brondocument],Tabel1[Datum]),"") -> 44316 | O35: Honoreren | P35: Meenemen in het proces rondom monumentaal ensemble dat behouden moet blijven. Bakkershuisje reconstrueren tbv bedieng nieuwe gemaal (nieuwe functie). | Q35: Opdrachtgever
A36: KES_021 | C36: Wens | D36: Kroosvlonder achter gemaal | E36: Direct omwonende | F36: Verwijderen kroosvlonder bij inlaat huidig gemaal. En veilig maken hekwerk langs fiets/wandelpad | G36: Langs het fiets/wandel bruggetje hangt nog een bruggetje. Dit is bouwvallig. Bewoners vragen om dit te verwijderen als het geen functie meer heeft. Daarnaast wordt gevraagd of het hekwerk langs het bruggetje van het fiets/wandelpad veiliger kan worden gemaakt. | I36: Kragten | J36: =IF(LEN(K36)>0,_xlfn.XLOOKUP(K36,Tabel1[Brondocument],Tabel1[Bron_id]),"") -> KDOC_0006 | K36: 20210430 aandachtspunten rioolgemaal door omgeving plus aanvullingen gesprek 1 juni | N36: =IF(LEN(K36)>0,_xlfn.XLOOKUP(K36,Tabel1[Brondocument],Tabel1[Datum]),"") -> 44316 | O36: Honoreren | P36: Onderdeel van ontmantelen oude gemaal Delfland. | Q36: Opdrachtgever
A37: KES_022 | C37: Bindend | D37: Verleggen E-kabels en trafo | E37: Westland Infra | F37: Afmetingen nieuwe trafo | G37: Afmetingen compactstation benodigd voor nieuwe trafo: 1,8 x 2,8 x hoogte 1,5 m en 1 meter vrije kabelruimte rondom. Westlandinfra heeft met de ruimte rondom voor kabels dan in totaal een oppervlak van 4x5 m nodig. Trafo/compactstation buiten bakkershuisje plaatsen ivm ontploffingsgevaar. | I37: Kragten | J37: =IF(LEN(K37)>0,_xlfn.XLOOKUP(K37,Tabel1[Brondocument],Tabel1[Bron_id]),"") -> KDOC_0008 | K37: 20210531 Update info verleggingen E-kabels en traf locatie Commandeurskade | N37: =IF(LEN(K37)>0,_xlfn.XLOOKUP(K37,Tabel1[Brondocument],Tabel1[Datum]),"") -> 44347 | O37: Honoreren | P37: Afmetingen en aanvullende voorschriften van Westland Infra opvolgen, zijn leidend, voor ruimtebeslag in voorlopig ontwerp. | Q37: Opdrachtgever
A38: KES_023 | C38: Bindend | D38: verkeersoplossing gemaalterrein | E38: Hoogheemraadschap van Delftland | F38: Voldoende ruimte voor verkeersbewegingen op gemaal terrein | G38: Op het gemaalterrein wordt voldoende ruimte voor keren gerealiseerd waarbij het verhard oppervlak zoveel mogelijk wordt beperkt. Vergelijkbaar met het voorbeeld brondocument. | I38: Kragen | J38: =IF(LEN(K38)>0,_xlfn.XLOOKUP(K38,Tabel1[Brondocument],Tabel1[Bron_id]),"") -> KDOC_0011 | K38: 20210708 Memo Verkeersoplossing gemaal Oud en Nieuw Wateringveldsche polder | N38: =IF(LEN(K38)>0,_xlfn.XLOOKUP(K38,Tabel1[Brondocument],Tabel1[Datum]),"") -> 44385 | O38: Honoreren | P38: Eisen waar vanuit het hoogheemraadschap rekening mee worden gehouden, worden mee genomen in ontwerp
A39: KES_024 | C39: Bindend | D39: krooshekreinigers | E39: Hoogheemraadschap van Delftland | F39: Rekening houden met uitgangspunten voor het veilig testen van onderhouden van krooshekreinigers | I39: Kragten | J39: =IF(LEN(K39)>0,_xlfn.XLOOKUP(K39,Tabel1[Brondocument],Tabel1[Bron_id]),"") -> KDOC_0010 | K39: 20210708 Uitgangspunten voor het veilig testen en onderhouden van krooshekreinigers versie 20 november 2020 | N39: =IF(LEN(K39)>0,_xlfn.XLOOKUP(K39,Tabel1[Brondocument],Tabel1[Datum]),"") -> 44385 | O39: Honoreren | P39: Eisen waar vanuit het hoogheemraadschap rekening mee worden gehouden, worden mee genomen in contractdocument.
A40: KES_025 | C40: Wens | D40: hekwerk | E40: Direct omwonende | F40: Geen aantrekkelijk hekwerk maken om op te klimmen vanwege risico's binnen gemaal terrein. | G40: Omwonenden zien risico dat kinderen over het hekwerk klimmen en dan terecht komen op het gemaal terrein met de nodige risico's voor valgevaar. | I40: Kragten | O40: Honoreren onder voorwaarde | P40: Het hekwerk moet voldoen aan de eisen die het Hoogheemraadschap stelt en er wordt rekening mee gehouden dat dit niet aantrekkelijk is om op te klimmen.
A41: KES_026 | C41: Eis | D41: bedieningskast | E41: Hoogheemraadschap van Delftland | F41: afmetingen bedieningskast | G41: Ten behoeve van de dagelijkse bediening wordt er op het gemaaldek een bedieningsconsole geplaatst. Deze heeft een afmeting van 1,80(h)x1,20(b)x0,60(d). | J41: =Brondocumenten!A14 -> KDOC_0013 | K41: 20220322 plaatsen e-kasten in het bakhuisje
A42: KES_027 | C42: Eis | D42: schakelkast | E42: Hoogheemraadschap van Delftland | F42: schakelkast | G42: Na overleg met de beheerder en gebruikers is besloten de schakelskasten in het bakhuisje te plaatsen. Om het gemaal vanuit het bakhuisje te kunnen bereiken moet de taludtrap met leuning in het ontwerp gehandhaafd blijven. | H42: Meegeven aan restauratie architect | J42: =Brondocumenten!A14 -> KDOC_0013 | K42: 20220322 plaatsen e-kasten in het bakhuisje | N42: =IF(LEN(K42)>0,_xlfn.XLOOKUP(K42,Tabel1[Brondocument],Tabel1[Datum]),"") -> 44642
A43: KES_028 | C43: Eis | D43: toegangspad | E43: Hoogheemraadschap van Delftland | G43: Aansluitend aan de trap komt een (personen)draaipoort in het hekwerk. | J43: =Brondocumenten!A14 -> KDOC_0013 | K43: 20220322 plaatsen e-kasten in het bakhuisje
A44: KES_029 | C44: Eis | D44: Electravoorziening | E44: Westland Infra | G44: Rondom compact station alleen laag wortelende beplanting i.v.m. aanwezige kabels | J44: =Brondocumenten!A13 -> KDOC_0012 | K44: 20220223 WIN routes richting gemaal Commandeurspolder gesprek perceel eigenaar J vd Berg
A45: KES_030 | C45: Bindend | D45: hekwerk | E45: Hoogheemraadschap van Delftland | F45: veiligheidszones | G45: Vrachtwagen moet kunnen keren op het terrein. Als sprake is van maar een hekwerk, dan moet dat rondom de krooshekreiniger hoger zijn (1,8m) en dan kan de vrachtwagen er niet bij. Door nu twee hekwerken toe te passen kan het eerste (buitenste) hekwerk 1,5 m hoog zijn en het tweede hekwerk mag dan lager zijn (1,1 m). In feite worden daarmee twee veiligheidszones gecreëerd. | H45: Hoogheemraadschap is verantwoordelijk voor veiligheid en wil daarom een hek rondom het krooshek en een hek rondom het terrein dat nodig is voor werkzaamheden, materieel en draaibewegingen van voertuigen. Draaicirkels meenemen bij verdere ontwerp.  Mogelijk dat er nog iets mogelijk is om het buitenste hekwerk wat te verkleinen, maar dat zal niet meer zijn dan enkele meters. | J45: =Brondocumenten!A15 -> KDOC_0014 | K45: 20220217 HHD021 | Samenvatting overleg 14022022
A46: KES_31 | G46: hoek leuning definitieve brug onder hoek van 15 graden | J46: =IF(LEN(K46)>0,_xlfn.XLOOKUP(K46,Tabel1[Brondocument],Tabel1[Bron_id]),"")
A47: KES_32 | G47: klanteis van woerden ivm tijdelijke bouwweg zie bijlage C6, systeemgrens van de ontwerp nota
A48: KES_33 | G48: Afspraken maken met mevr. Vlis. (commandeurskade 30) Over start uitvoering irt haar woning en toestemming tijdelijke brug op haar perceel
A49: KES_34 | G49: Gebruik Vlietlanden uitgesloten
A50: KES_35 | G50: De notenboom aan de polderkant van het oude gemaal moet Na uitvoering van de werken teruggezet worden. De Es en wilg moeten vervangen worden
A51: KES_36 | G51: het wandel/fietspad ter plaatse van het oude gemaal moet tijdens uitvoering van de werken te allen tijde blijven functioneren
A52: KES_37 | G52: Omwonende zuidzijde commandeurskade mogen niet worden gehinderd. Toegang van en naar het gemaal moet via de noordzijde plaatvinden. Parkeren aan de zuidzijde is niet toegestaan.
A53: KES_38 | G53: Omwonende noordzijde commandeurskade mogen niet worden afgesloten van het openbaar wegennet. Bedrijfsvoering en hulpdiensten moeten dit gebied kunnen bereiken.
A54: KES_39 | G54: KPN geeft aan dat aannemer zo vroegmogelijk in gesprek moet gaan met kpn irt uitvoering
A55: KES_40 | G55: Er moet afgestemd worden met Gemeente Midden-Delfland en Provincie irt verkeersveiligheid. Te denkane aan producten als opstellen TVM en BLVC plan
A56: KES_41 | G56: Er moet voldaan worden aan eisen uit projectplan waterwet. Zo moet voldaan worden aan de uitvoeringsfasering
A57: KES_42 | G57: Het BKP plan moet nageleefd worden, eis komt van gemeente en commissie W&E
A58: KES_43 | G58: Westland Infra gaat trace verleggen. Zie vragenspecificatie

Sheet Brondocumenten
A1: Bron_id | B1: Brondocument | C1: Datum
A2: KDOC_0001 | B2: 20201103 Randvoorwaarden voor herbestemmen gemaal Commandeurskade 17 Maasland | C2: 44138
A3: KDOC_0002 | B3: 20201216 advies gemaal commandeurspolder - 04-2020 def | C3: 44221
A4: KDOC_0003 | B4: 20210416 Presentatie en aandachtspunten opgehaald tijdens informatiemoment gemaal Commandeurspolder | C4: 44302
A5: KDOC_0004 | B5: 20210420 Commandeurspoldergemaal Maasland | C5: 44306
A6: KDOC_0005 | B6: 20210428-HHD021-VERSLAG-nutsbespreking-Commandeurskade | C6: 44314
A7: KDOC_0006 | B7: 20210430 aandachtspunten rioolgemaal door omgeving plus aanvullingen gesprek 1 juni | C7: 44316
A8: KDOC_0007 | B8: 20210429 Gemaal Commandeurspolder | C8: 44315
A9: KDOC_0008 | B9: 20210531 Update info verleggingen E-kabels en traf locatie Commandeurskade | C9: 44347
A10: KDOC_0009 | B10: 20210531 HHD021 door ontwerpen versus constrcutieberekeningen | C10: 44347
A11: KDOC_0010 | B11: 20210708 Uitgangspunten voor het veilig testen en onderhouden van krooshekreinigers versie 20 november 2020 | C11: 44385
A12: KDOC_0011 | B12: 20210708 Memo Verkeersoplossing gemaal Oud en Nieuw Wateringveldsche polder | C12: 44385
A13: KDOC_0012 | B13: 20220223 WIN routes richting gemaal Commandeurspolder gesprek perceel eigenaar J vd Berg | C13: 44615
... A15: KDOC_0014 | B15: 20220217 HHD021 | Samenvatting overleg 14022022 | C15: 44609

Sheet word-data
A1: ='KES_document '!#REF! -> #REF! | B1: ='KES_document '!A15 -> Klanteis-ID | C1: ='KES_document '!D15 -> Betrekking op Object/ locatie | D1: ='KES_document '!E15 -> Klantnaam | E1: ='KES_document '!F15 -> Klanteistitel | F1: ='KES_document '!G15 -> Omschrijving klanteis | G1: ='KES_document '!H15 -> Toelichting: | H1: ='KES_document '!I15 -> Klanteisinitiator | I1: ='KES_document '!#REF! -> #REF! | J1: ='KES_document '!L15 -> Directory | K1: ='KES_document '!M15 -> Hyperlink | L1: ='KES_document '!N15 -> Datum brondocument | M1: ='KES_document '!O15 -> Honoreringsadvies | N1: ='KES_document '!P15 -> Onderbouwing honoreringsadvies | O1: ='KES_document '!Q15 -> Gehonoreerd door: | P1: ='KES_document '!R15 -> Status | Q1: ='KES_document '!S15 -> Datum status | ... T1: ='KES_document '!V15 -> Aantekeningen Kragten
A2: =IF('KES_document '!#REF!=0,"",'KES_document '!#REF!) -> #REF! | B2: ='KES_document '!A16 -> KES_001 | C2: =IF('KES_document '!D16=0,"",'KES_document '!D16) -> Monumentale waarde | D2: =IF('KES_document '!E16=0,"",'KES_document '!E16) -> Hoogheemraadschap van Delftland | E2: =IF('KES_document '!F16=0,"",'KES_document '!F16) -> Herbestemmen gemaal Commandeurskade 17 | F2: =IF('KES_document '!G16=0,"",'KES_document '!G16) -> Herbestemming van het gemaal kan onder gelijkwaardige voorwaarden als bij gemaal Vlaardingsekade 59 te Schipluiden. | G2: =IF('KES_document '!H16=0,"",'KES_document '!H16) -> Aanbevelingen beleidsmedewerker Ruimtelijke Ordening en Erfgroed: 1. Bestaande dienstwoning mag worden gebruikt als permanente woning en het gemaal en het bakkerhuisje mogen worden gebruikt als bijgebouw bij de woning, inclusief het gebruik t.b.v. nevenactiviteiten als een bed en breakfast. 2. Aan de woonbestemming een voorwaardelijke verplichting koppelen dat de bestemming pas mag worden gerealiseerd, nadat het bakkershuisje is gerealiseerd. 3. Het toevoegen van een tweede woning lijkt niet mogelijk binnen de regels van het bestemmingsplan. | H2: =IF('KES_document '!I16=0,"",'KES_document '!I16) -> Kragten | I2: =IF('KES_document '!#REF!=0,"",'KES_document '!#REF!) -> #REF! | J2: =IF('KES_document '!L16=0,"",'KES_document '!L16) | K2: =IF('KES_document '!M16=0,"",'KES_document '!M16) | L2: =TEXT('KES_document '!N16,"dd-mm-jjjj") -> 03-11-2020 | M2: =IF('KES_document '!O16=0,"",'KES_document '!O16) -> Honoreren onder voorwaarde | N2: =IF('KES_document '!P16=0,"",'KES_document '!P16) -> Bestemmingsplanwijzinging bespreken met gemeente Midden-Delfland. Formeel besluit opnemen als bindende klanteis. | O2: =IF('KES_document '!Q16=0,"",'KES_document '!Q16) -> Opdrachtgever | P2: =IF('KES_document '!R16=0,"",'KES_document '!R16) -> niet verwerkt in BP omdat het risico op vertraging voor nieuwbouw te groot is vanwege het aspect parkeren. | Q2: =TEXT('KES_document '!S16,"dd-mm-jjjj") -> 00-01-1900 | R2: =IF('KES_document '!T16=0,"",'KES_document '!T16) | S2: =IF('KES_document '!U16=0,"",'KES_document '!U16) | T2: =IF('KES_document '!V16=0,"",'KES_document '!V16)
A3: =IF('KES_document '!#REF!=0,"",'KES_document '!#REF!) -> #REF! | B3: ='KES_document '!A17 -> KES_002 | C3: =IF('KES_document '!D17=0,"",'KES_document '!D17) -> Inpassing landschap | D3: =IF('KES_document '!E17=0,"",'KES_document '!E17) -> Gemeente Midden-Delfland | E3: =IF('KES_document '!F17=0,"",'KES_document '!F17) -> Inpassing gemaal | F3: =IF('KES_document '!G17=0,"",'KES_document '!G17) -> Zorgvuldige inpassing en vormgeving van gemaal die goed passen in de ruimtelijke setting | G3: =IF('KES_document '!H17=0,"",'KES_document '!H17) -> Aanbevelingen vanuit Polderarchitect: Een gebiedsvreemd betonnen element in de polder met stalen hekken eromheen voldoet niet. Een nieuw gemaal mag best wel ‘smoel’ en uitstraling hebben en uitdrukking geven aan zijn wezenlijke functie in het watersysteem. Zeker als het geheel van installaties, infrastructuur en landschappelijke elementen zich goed voegt in de aanwezige ruimtelijke kwaliteiten. | H3: =IF('KES_document '!I17=0,"",'KES_document '!I17) -> Kragten | I3: =IF('KES_document '!#REF!=0,"",'KES_document '!#REF!) -> #REF! | J3: =IF('KES_document '!L17=0,"",'KES_document '!L17) | K3: =IF('KES_document '!M17=0,"",'KES_document '!M17) | L3: =TEXT('KES_document '!N17,"dd-mm-jjjj") -> 25-01-2021 | M3: =IF('KES_document '!O17=0,"",'KES_document '!O17) -> Honoreren onder voorwaarde | N3: =IF('KES_document '!P17=0,"",'KES_document '!P17) -> Esthetische keuze, ten aanzien van uitstraling dienen besproken te worden met de gemeente Midden-Delfland. Rekening houden met (wettelijke) eisen tav veiligheid/arbo, bijv. tav hekken en functie van het gemaal. | O3: =IF('KES_document '!Q17=0,"",'KES_document '!Q17) -> verder uit te werken en keuzes te maken middels beeldkwaliteitsplan | P3: =IF('KES_document '!R17=0,"",'KES_document '!R17) | Q3: =TEXT('KES_document '!S17,"dd-mm-jjjj") -> 00-01-1900 | R3: =IF('KES_document '!T17=0,"",'KES_document '!T17) | S3: =IF('KES_document '!U17=0,"",'KES_document '!U17) | T3: =IF('KES_document '!V17=0,"",'KES_document '!V17)
A4: =IF('KES_document '!#REF!=0,"",'KES_document '!#REF!) -> #REF! | B4: ='KES_document '!A18 -> KES_003 | C4: =IF('KES_document '!D18=0,"",'KES_document '!D18) -> Inpassing landschap | D4: =IF('KES_document '!E18=0,"",'KES_document '!E18) -> Gemeente Midden-Delfland | E4: =IF('KES_document '!F18=0,"",'KES_document '!F18) -> Landschapsontwerp | F4: =IF('KES_document '!G18=0,"",'KES_document '!G18) -> Wij pleiten voor een zorgvuldig landschapsontwerp voor het gemaal en zijn directe omgeving, inclusief de toegangspaden, in- en uitlaat, verharding, eventuele brug, landschapselementen en beplanting. | G4: =IF('KES_document '!H18=0,"",'KES_document '!H18) -> Het huidige gemaal is via een karrespoor bereikbaar, is het noodzakelijk om een verharde weg naar het nieuwe gemaal aan te leggen? Beperk het nieuw aan te leggen verharding tot een minimum. Respecteer ook het slotenpatroon; geef nieuwe toeleidende sloten of verbredingen zorgvuldig vorm. | H4: =IF('KES_document '!I18=0,"",'KES_document '!I18) -> Kragten | I4: =IF('KES_document '!#REF!=0,"",'KES_document '!#REF!) -> #REF! | J4: =IF('KES_document '!L18=0,"",'KES_document '!L18) | K4: =IF('KES_document '!M18=0,"",'KES_document '!M18) | L4: =TEXT('KES_document '!N18,"dd-mm-jjjj") -> 25-01-2021 | M4: =IF('KES_document '!O18=0,"",'KES_document '!O18) -> Honoreren onder voorwaarde | N4: =IF('KES_document '!P18=0,"",'KES_document '!P18) -> Esthetische keuze, ten aanzien van uitstraling en landschappelijk inpassing dienen besproken te worden met de gemeente Midden-Delfland. Rekening houden met functionele eisen, bijv. tav verhardingstype irt belasting onderhoudsverkeer. | O4: =IF('KES_document '!Q18=0,"",'KES_document '!Q18) -> rekening houdend met onderhoudsvoertuigen vanwege de juiste verkeersbelasting. | P4: =IF('KES_document '!R18=0,"",'KES_document '!R18) | Q4: =TEXT('KES_document '!S18,"dd-mm-jjjj") -> 00-01-1900 | R4: =IF('KES_document '!T18=0,"",'KES_document '!T18) | S4: =IF('KES_document '!U18=0,"",'KES_document '!U18) | T4: =IF('KES_document '!V18=0,"",'KES_document '!V18)
A5: =IF('KES_document '!#REF!=0,"",'KES_document '!#REF!) -> #REF! | B5: ='KES_document '!A19 -> KES_004 | C5: =IF('KES_document '!D19=0,"",'KES_document '!D19) -> Inpassing landschap | D5: =IF('KES_document '!E19=0,"",'KES_document '!E19) -> Gemeente Midden-Delfland | E5: =IF('KES_document '!F19=0,"",'KES_document '!F19) -> Soort gemaal | F5: =IF('KES_document '!G19=0,"",'KES_document '!G19) -> Een bovengronds, mooi en goed ingepast gemaal kan voor zowel de Molenweg als de Kwakelweg leiden tot de gewenste ruimtelijke kwaliteit. Referentie: het gemaal bij de Vlaardingsekade/ Vlietzicht. | G5: =IF('KES_document '!H19=0,"",'KES_document '!H19) -> Een ondergronds gemaal behoort misschien ook tot de mogelijkheden, maar dan verdienen vormgeving en inpassing van de infrastructuur en omheining extra aandacht. Die moeten duidelijk uitdrukking en betekenis geven aan de functie en de plek; het ondergrondse gemaal zoals op de foto’s gepresenteerd komt met zijn hekken er omheen hard en gebiedsvreemd over. | H5: =IF('KES_document '!I19=0,"",'KES_document '!I19) -> Kragten | I5: =IF('KES_document '!#REF!=0,"",'KES_document '!#REF!) -> #REF! | J5: =IF('KES_document '!L19=0,"",'KES_document '!L19) | K5: =IF('KES_document '!M19=0,"",'KES_document '!M19) | L5: =TEXT('KES_document '!N19,"dd-mm-jjjj") -> 25-01-2021 | M5: =IF('KES_document '!O19=0,"",'KES_document '!O19) -> Honoreren | N5: =IF('KES_document '!P19=0,"",'KES_document '!P19) -> Esthetische keuze, ten aanzien van uitstraling en landschappelijk inpassing dienen besproken te worden met de gemeente Midden-Delfland | O5: =IF('KES_document '!Q19=0,"",'KES_document '!Q19) -> keuze gemaakt voor ondergronds. Combinatie bakkershuisje en beeldkwaliteitsplan. | P5: =IF('KES_document '!R19=0,"",'KES_document '!R19) | Q5: =TEXT('KES_document '!S19,"dd-mm-jjjj") -> 00-01-1900 | R5: =IF('KES_document '!T19=0,"",'KES_document '!T19) | S5: =IF('KES_document '!U19=0,"",'KES_document '!U19) | T5: =IF('KES_document '!V19=0,"",'KES_document '!V19)
A6: =IF('KES_document '!#REF!=0,"",'KES_document '!#REF!) -> #REF! | B6: ='KES_document '!A20 -> KES_005 | C6: =IF('KES_document '!D20=0,"",'KES_document '!D20) -> Inpassing landschap | D6: =IF('KES_document '!E20=0,"",'KES_document '!E20) -> Gemeente Midden-Delfland | E6: =IF('KES_document '!F20=0,"",'KES_document '!F20) -> Inpassing gemaal | F6: =IF('KES_document '!G20=0,"",'KES_document '!G20) -> Zorg dat het nieuwe gemaal goed en zorgvuldig is gesitueerd ten opzichte van en ingepast is in het poldersysteem. | G6: =IF('KES_document '!H20=0,"",'KES_document '!H20) -> Vandaar dat wij zowel locatie 1 als locatie 2 (beide aan het uiteinde van de centrale sloot) goed kunnen begrijpen. Integreer het nieuwe geheel (van bebouwing, infrastructuur, afrastering, beplanting) in één geheel dat logisch op de polderstructuur aansluit. De leesbaarheid van plek en functie (een sterk punt van het huidige ensemble) zou minstens gelijk moeten blijven. | H6: =IF('KES_document '!I20=0,"",'KES_document '!I20) -> Kragten | I6: =IF('KES_document '!#REF!=0,"",'KES_document '!#REF!) -> #REF! | J6: =IF('KES_document '!L20=0,"",'KES_document '!L20) | K6: =IF('KES_document '!M20=0,"",'KES_document '!M20) | L6: =TEXT('KES_document '!N20,"dd-mm-jjjj") -> 25-01-2021 | M6: =IF('KES_document '!O20=0,"",'KES_document '!O20) -> Honoreren onder voorwaarde | N6: =IF('KES_document '!P20=0,"",'KES_document '!P20) -> Esthetische keuze, ten aanzien van uitstraling en landschappelijk inpassing dienen besproken te worden met de gemeente Midden-Delfland | O6: =IF('KES_document '!Q20=0,"",'KES_document '!Q20) -> keuze gemaakt voor ondergronds. Combinatie bakkershuisje en beeldkwaliteitsplan. Zo goed mogelijk in lijn met watergangen. | P6: =IF('KES_document '!R20=0,"",'KES_document '!R20) | Q6: =TEXT('KES_document '!S20,"dd-mm-jjjj") -> 00-01-1900 | R6: =IF('KES_document '!T20=0,"",'KES_document '!T20) | S6: =IF('KES_document '!U20=0,"",'KES_document '!U20) | T6: =IF('KES_document '!V20=0,"",'KES_document '!V20)
A7: =IF('KES_document '!#REF!=0,"",'KES_document '!#REF!) -> #REF! | B7: ='KES_document '!A21 -> KES_006 | C7: =IF('KES_document '!D21=0,"",'KES_document '!D21) -> Inpassing landschap | D7: =IF('KES_document '!E21=0,"",'KES_document '!E21) -> Gemeente Midden-Delfland | E7: =IF('KES_document '!F21=0,"",'KES_document '!F21) -> Locatie 1, Commandeurskade | F7: =IF('KES_document '!G21=0,"",'KES_document '!G21) -> Respecteer op locatie 1 de ruimtelijke kwaliteit van het bestaande monumentale ensemble. Zorg ervoor dat het nieuwe gemaal inclusief de toeleidende natte en droge infrastructuur ruimtelijk los komen te liggen van het bestaande ensemble. | G7: =IF('KES_document '!H21=0,"",'KES_document '!H21) -> Als wordt gekozen voor een nieuw gemaal naast het oude zal dat zorgvuldig moeten worden ingepast; het systeem van in- en uitlaat en de aansluiting op het slotenpatroon om het gemaal heen vereisen de nodige aandacht. Er moeten geen visuele barrières worden opgeworpen of onduidelijke overhoeken ontstaan. Het nieuwe gemaal moet door zijn materialisering en omheining geen gebiedsvreemd element dat raar afsteekt tegen het bestaande ensemble. | H7: =IF('KES_document '!I21=0,"",'KES_document '!I21) -> Kragten | I7: =IF('KES_document '!#REF!=0,"",'KES_document '!#REF!) -> #REF! | J7: =IF('KES_document '!L21=0,"",'KES_document '!L21) | K7: =IF('KES_document '!M21=0,"",'KES_document '!M21) | L7: =TEXT('KES_document '!N21,"dd-mm-jjjj") -> 25-01-2021 | M7: =IF('KES_document '!O21=0,"",'KES_document '!O21) -> Honoreren onder voorwaarde | N7: =IF('KES_document '!P21=0,"",'KES_document '!P21) -> Afhankelijk van de variantkeuze. Zorg ervoor dat het nieuwe gemaal inclusief de toeleidende natte en droge infrastructuur ruimtelijk los komen te liggen van het bestaande ensemble. | O7: =IF('KES_document '!Q21=0,"",'KES_document '!Q21) -> Opdrachtgever | P7: =IF('KES_document '!R21=0,"",'KES_document '!R21) | Q7: =TEXT('KES_document '!S21,"dd-mm-jjjj") -> 00-01-1900 | R7: =IF('KES_document '!T21=0,"",'KES_document '!T21) | S7: =IF('KES_document '!U21=0,"",'KES_document '!U21) | T7: =IF('KES_document '!V21=0,"",'KES_document '!V21)
A8: =IF('KES_document '!#REF!=0,"",'KES_document '!#REF!) -> #REF! | B8: ='KES_document '!A22 -> KES_007 | C8: =IF('KES_document '!D22=0,"",'KES_document '!D22) -> Inpassing landschap | D8: =IF('KES_document '!E22=0,"",'KES_document '!E22) -> Gemeente Midden-Delfland | E8: =IF('KES_document '!F22=0,"",'KES_document '!F22) -> Locatie 2, Kwakelweg | F8: =IF('KES_document '!G22=0,"",'KES_document '!G22) -> Aan de Kwakelweg (locatie 2) vraagt de bestaande ruimtelijke structuur op de potentiele locatie tussen boezem (Middelwatering) en open polder om precisie in de situering en inpassing; aan deze zijde van de boezem is nu een open vista op het polderlandschap aanwezig. | G8: =IF('KES_document '!H22=0,"",'KES_document '!H22) -> Een goed ingepast bovengronds gemaal op polderniveau is hier goed denkbaar. Een bovengrondse gemaal geeft immers een duidelijker expressie aan de functie dan een ondergrondse installatie. We zouden dit alternatief op deze plek graag nader uitgewerkt zien. | H8: =IF('KES_document '!I22=0,"",'KES_document '!I22) -> Kragten | I8: =IF('KES_document '!#REF!=0,"",'KES_document '!#REF!) -> #REF! | J8: =IF('KES_document '!L22=0,"",'KES_document '!L22) | K8: =IF('KES_document '!M22=0,"",'KES_document '!M22) | L8: =TEXT('KES_document '!N22,"dd-mm-jjjj") -> 25-01-2021 | M8: =IF('KES_document '!O22=0,"",'KES_document '!O22) -> Anders: locatie 2 nvt | N8: =IF('KES_document '!P22=0,"",'KES_document '!P22) -> Afhankelijk van de variantkeuze. Een bovengrondse gemaal, als alternatief, op deze plek nader uitwerken. | O8: =IF('KES_document '!Q22=0,"",'KES_document '!Q22) -> vervallen | P8: =IF('KES_document '!R22=0,"",'KES_document '!R22) | Q8: =TEXT('KES_document '!S22,"dd-mm-jjjj") -> 00-01-1900 | R8: =IF('KES_document '!T22=0,"",'KES_document '!T22) | S8: =IF('KES_document '!U22=0,"",'KES_document '!U22) | T8: =IF('KES_document '!V22=0,"",'KES_document '!V22)
A9: =IF('KES_document '!#REF!=0,"",'KES_document '!#REF!) -> #REF! | B9: ='KES_document '!A23 -> KES_008 | C9: =IF('KES_document '!D23=0,"",'KES_document '!D23) -> Inpassing landschap | D9: =IF('KES_document '!E23=0,"",'KES_document '!E23) -> Direct omwonende | E9: =IF('KES_document '!F23=0,"",'KES_document '!F23) -> Inpassing gemaal | F9: =IF('KES_document '!G23=0,"",'KES_document '!G23) -> Reactie op de visualisaties: Het oogt nu als een flinke massa, ook voor de ondergrondse versie. Dit zou beter ingepast moeten worden in de omgeving. Een groenere uitstraling wordt heel belangrijk gevonden want het is nu een heel authentieke plek. | G9: =IF('KES_document '!H23=0,"",'KES_document '!H23) | H9: =IF('KES_document '!I23=0,"",'KES_document '!I23) -> Kragten | I9: =IF('KES_document '!#REF!=0,"",'KES_document '!#REF!) -> #REF! | J9: =IF('KES_document '!L23=0,"",'KES_document '!L23) | K9: =IF('KES_document '!M23=0,"",'KES_document '!M23) | L9: =TEXT('KES_document '!N23,"dd-mm-jjjj") -> 16-04-2021 | M9: =IF('KES_document '!O23=0,"",'KES_document '!O23) -> Honoreren onder voorwaarde | N9: =IF('KES_document '!P23=0,"",'KES_document '!P23) -> Afhankelijk van de variantkeuze. Rekening houden met landschappelijke inpassing van gemaal. Materialisatie volgt in BKP. Zo veel mogelijk bovengrondse elementen beperken. | O9: =IF('KES_document '!Q23=0,"",'KES_document '!Q23) -> Opdrachtgever | P9: =IF('KES_document '!R23=0,"",'KES_document '!R23) | Q9: =TEXT('KES_document '!S23,"dd-mm-jjjj") -> 00-01-1900 | R9: =IF('KES_document '!T23=0,"",'KES_document '!T23) | S9: =IF('KES_document '!U23=0,"",'KES_document '!U23) | T9: =IF('KES_document '!V23=0,"",'KES_document '!V23)
A10: =IF('KES_document '!#REF!=0,"",'KES_document '!#REF!) -> #REF! | B10: ='KES_document '!#REF! -> #REF! | C10: =IF('KES_document '!#REF!=0,"",'KES_document '!#REF!) -> #REF! | D10: =IF('KES_document '!#REF!=0,"",'KES_document '!#REF!) -> #REF! | E10: =IF('KES_document '!#REF!=0,"",'KES_document '!#REF!) -> #REF! | F10: =IF('KES_document '!#REF!=0,"",'KES_document '!#REF!) -> #REF! | G10: =IF('KES_document '!#REF!=0,"",'KES_document '!#REF!) -> #REF! | H10: =IF('KES_document '!#REF!=0,"",'KES_document '!#REF!) -> #REF! | I10: =IF('KES_document '!#REF!=0,"",'KES_document '!#REF!) -> #REF! | J10: =IF('KES_document '!#REF!=0,"",'KES_document '!#REF!) -> #REF! | K10: =IF('KES_document '!#REF!=0,"",'KES_document '!#REF!) -> #REF! | L10: =TEXT('KES_document '!#REF!,"dd-mm-jjjj") -> #REF! | M10: =IF('KES_document '!#REF!=0,"",'KES_document '!#REF!) -> #REF! | N10: =IF('KES_document '!#REF!=0,"",'KES_document '!#REF!) -> #REF! | O10: =IF('KES_document '!#REF!=0,"",'KES_document '!#REF!) -> #REF! | P10: =IF('KES_document '!#REF!=0,"",'KES_document '!#REF!) -> #REF! | Q10: =TEXT('KES_document '!#REF!,"dd-mm-jjjj") -> #REF! | R10: =IF('KES_document '!#REF!=0,"",'KES_document '!#REF!) -> #REF! | S10: =IF('KES_document '!#REF!=0,"",'KES_document '!#REF!) -> #REF! | T10: =IF('KES_document '!#REF!=0,"",'KES_document '!#REF!) -> #REF!
A11: =IF('KES_document '!#REF!=0,"",'KES_document '!#REF!) -> #REF! | B11: ='KES_document '!#REF! -> #REF! | C11: =IF('KES_document '!#REF!=0,"",'KES_document '!#REF!) -> #REF! | D11: =IF('KES_document '!#REF!=0,"",'KES_document '!#REF!) -> #REF! | E11: =IF('KES_document '!#REF!=0,"",'KES_document '!#REF!) -> #REF! | F11: =IF('KES_document '!#REF!=0,"",'KES_document '!#REF!) -> #REF! | G11: =IF('KES_document '!#REF!=0,"",'KES_document '!#REF!) -> #REF! | H11: =IF('KES_document '!#REF!=0,"",'KES_document '!#REF!) -> #REF! | I11: =IF('KES_document '!#REF!=0,"",'KES_document '!#REF!) -> #REF! | J11: =IF('KES_document '!#REF!=0,"",'KES_document '!#REF!) -> #REF! | K11: =IF('KES_document '!#REF!=0,"",'KES_document '!#REF!) -> #REF! | L11: =TEXT('KES_document '!#REF!,"dd-mm-jjjj") -> #REF! | M11: =IF('KES_document '!#REF!=0,"",'KES_document '!#REF!) -> #REF! | N11: =IF('KES_document '!#REF!=0,"",'KES_document '!#REF!) -> #REF! | O11: =IF('KES_document '!#REF!=0,"",'KES_document '!#REF!) -> #REF! | P11: =IF('KES_document '!#REF!=0,"",'KES_document '!#REF!) -> #REF! | Q11: =TEXT('KES_document '!#REF!,"dd-mm-jjjj") -> #REF! | R11: =IF('KES_document '!#REF!=0,"",'KES_document '!#REF!) -> #REF! | S11: =IF('KES_document '!#REF!=0,"",'KES_document '!#REF!) -> #REF! | T11: =IF('KES_document '!#REF!=0,"",'KES_document '!#REF!) -> #REF!
A12: =IF('KES_document '!#REF!=0,"",'KES_document '!#REF!) -> #REF! | B12: ='KES_document '!A24 -> KES_009 | C12: =IF('KES_document '!D24=0,"",'KES_document '!D24) -> Inpassing landschap | D12: =IF('KES_document '!E24=0,"",'KES_document '!E24) -> Bomen werkgroep Midden-Delfland ver. | E12: =IF('KES_document '!F24=0,"",'KES_document '!F24) -> Bestaande bomen | F12: =IF('KES_document '!G24=0,"",'KES_document '!G24) -> Er zijn grote zorgen betreffende de bomen rondom het bestaande gemaal. Deze zijn onderdeel van het monumentale ensemble. Met name de knotwilgen rij wordt van grote waarde gezien. Tijdens het overleg wordt aangegeven dat dit in de verdere uitwerking zeker wordt meegenomen. | G12: =IF('KES_document '!H24=0,"",'KES_document '!H24) | H12: =IF('KES_document '!I24=0,"",'KES_document '!I24) -> Kragten | I12: =IF('KES_document '!#REF!=0,"",'KES_document '!#REF!) -> #REF! | J12: =IF('KES_document '!L24=0,"",'KES_document '!L24) | K12: =IF('KES_document '!M24=0,"",'KES_document '!M24) | L12: =TEXT('KES_document '!N24,"dd-mm-jjjj") -> 16-04-2021 | M12: =IF('KES_document '!O24=0,"",'KES_document '!O24) -> Honoreren onder voorwaarde | N12: =IF('KES_document '!P24=0,"",'KES_document '!P24) -> Afhankelijk van de variantkeuze. Rekening houden met zoveel mogelijk behoud van bestaande bomen (knotwilgen) over verplaatsen van relatief nieuwe boom i.v.m. historische waarde | O12: =IF('KES_document '!Q24=0,"",'KES_document '!Q24) -> Opdrachtgever | P12: =IF('KES_document '!R24=0,"",'KES_document '!R24) | Q12: =TEXT('KES_document '!S24,"dd-mm-jjjj") -> 00-01-1900 | R12: =IF('KES_document '!T24=0,"",'KES_document '!T24) | S12: =IF('KES_document '!U24=0,"",'KES_document '!U24) | T12: =IF('KES_document '!V24=0,"",'KES_document '!V24)
A13: =IF('KES_document '!#REF!=0,"",'KES_document '!#REF!) -> #REF! | B13: ='KES_document '!A25 -> KES_010 | C13: =IF('KES_document '!D25=0,"",'KES_document '!D25) -> Samenscholing | D13: =IF('KES_document '!E25=0,"",'KES_document '!E25) -> Direct omwonende | E13: =IF('KES_document '!F25=0,"",'KES_document '!F25) -> Overlast hangjongeren | F13: =IF('KES_document '!G25=0,"",'KES_document '!G25) -> Het nieuwe gemaal moet geen nieuwe hangplek worden. | G13: =IF('KES_document '!H25=0,"",'KES_document '!H25) | H13: =IF('KES_document '!I25=0,"",'KES_document '!I25) -> Kragten | I13: =IF('KES_document '!#REF!=0,"",'KES_document '!#REF!) -> #REF! | J13: =IF('KES_document '!L25=0,"",'KES_document '!L25) | K13: =IF('KES_document '!M25=0,"",'KES_document '!M25) | L13: =TEXT('KES_document '!N25,"dd-mm-jjjj") -> 16-04-2021 | M13: =IF('KES_document '!O25=0,"",'KES_document '!O25) -> Honoreren | N13: =IF('KES_document '!P25=0,"",'KES_document '!P25) -> Inrichting rondom gemaal on aantrekkelijk(geen zitgelegenheid) maken voor jongeren. Gemaalterrein voorzien van afscheiding | O13: =IF('KES_document '!Q25=0,"",'KES_document '!Q25) -> Opdrachtgever | P13: =IF('KES_document '!R25=0,"",'KES_document '!R25) | Q13: =TEXT('KES_document '!S25,"dd-mm-jjjj") -> 00-01-1900 | R13: =IF('KES_document '!T25=0,"",'KES_document '!T25) | S13: =IF('KES_document '!U25=0,"",'KES_document '!U25) | T13: =IF('KES_document '!V25=0,"",'KES_document '!V25)
A14: =IF('KES_document '!#REF!=0,"",'KES_document '!#REF!) -> #REF! | B14: ='KES_document '!A26 -> KES_011 | C14: =IF('KES_document '!D26=0,"",'KES_document '!D26) -> Kabels en leidingen | D14: =IF('KES_document '!E26=0,"",'KES_document '!E26) -> Westland Infra | E14: =IF('KES_document '!F26=0,"",'KES_document '!F26) -> Verlegging van de kabels | F14: =IF('KES_document '!G26=0,"",'KES_document '!G26) -> Voor verlegging van de kabels op de locatie bij het bestaande poldergemaal Commandeurskade moet gelet op de beschikbare capaciteit bij Westland Infra gerekend worden op een doorlooptijd van ca. 1 – 1.5 jaar vanaf heden tot start verleggingen. | G14: =IF('KES_document '!H26=0,"",'KES_document '!H26) | H14: =IF('KES_document '!I26=0,"",'KES_document '!I26) -> Kragten | I14: =IF('KES_document '!#REF!=0,"",'KES_document '!#REF!) -> #REF! | J14: =IF('KES_document '!L26=0,"",'KES_document '!L26) | K14: =IF('KES_document '!M26=0,"",'KES_document '!M26) | L14: =TEXT('KES_document '!N26,"dd-mm-jjjj") -> 28-04-2021 | M14: =IF('KES_document '!O26=0,"",'KES_document '!O26) -> Honoreren | N14: =IF('KES_document '!P26=0,"",'KES_document '!P26) -> Deze eis heeft invloed op de variantkeuze en planning. | O14: =IF('KES_document '!Q26=0,"",'KES_document '!Q26) -> Opdrachtgever | P14: =IF('KES_document '!R26=0,"",'KES_document '!R26) | Q14: =TEXT('KES_document '!S26,"dd-mm-jjjj") -> 00-01-1900 | R14: =IF('KES_document '!T26=0,"",'KES_document '!T26) | S14: =IF('KES_document '!U26=0,"",'KES_document '!U26) | T14: =IF('KES_document '!V26=0,"",'KES_document '!V26)
A15: =IF('KES_document '!#REF!=0,"",'KES_document '!#REF!) -> #REF! | B15: ='KES_document '!A27 -> KES_012 | C15: =IF('KES_document '!D27=0,"",'KES_document '!D27) -> Inpassing landschap | D15: =IF('KES_document '!E27=0,"",'KES_document '!E27) -> Direct omwonende | E15: =IF('KES_document '!F27=0,"",'KES_document '!F27) -> Inpassing gemaal | F15: =IF('KES_document '!G27=0,"",'KES_document '!G27) -> Respecteer op locatie 1 de ruimtelijke kwaliteit van het bestaande monumentale ensemble. | G15: =IF('KES_document '!H27=0,"",'KES_document '!H27) -> Nu er is gekozen voor een nieuw gemaal naast het oude zal dat zorgvuldig moeten worden ingepast. Het nieuwe gemaal moet door zijn materialisering en omheining geen gebiedsvreemd element vormen dat raar afsteekt tegen het bestaande ensemble, bijvoorbeeld geen opvallend hek rondom het gemaal (als er een hekwerk omheen moet dat bijvoorkeur een landelijke uitstraling), bijvoorkeur een ondergronds gemaal, geen betonplaat maar open verharding rondom het gemaal waar gras doorheen kan groeien. Als er sprake is van een betonplaat, kan de beton dan worden voorzien van bijv. een groene kleurstof zodat het beter inpasbaar is. | H15: =IF('KES_document '!I27=0,"",'KES_document '!I27) -> Kragten | I15: =IF('KES_document '!#REF!=0,"",'KES_document '!#REF!) -> #REF! | J15: =IF('KES_document '!L27=0,"",'KES_document '!L27) | K15: =IF('KES_document '!M27=0,"",'KES_document '!M27) | L15: =TEXT('KES_document '!N27,"dd-mm-jjjj") -> 30-04-2021 | M15: =IF('KES_document '!O27=0,"",'KES_document '!O27) -> Honoreren onder voorwaarde | N15: =IF('KES_document '!P27=0,"",'KES_document '!P27) -> Er wordt in de uitwerkingen gekeken naar een zorgvuldige inpassing die voldoet aan de veiligheidseisen waarbij wordt gekeken naar een natuurlijkere uitstraling. | O15: =IF('KES_document '!Q27=0,"",'KES_document '!Q27) -> Opdrachtgever | P15: =IF('KES_document '!R27=0,"",'KES_document '!R27) | Q15: =TEXT('KES_document '!S27,"dd-mm-jjjj") -> 00-01-1900 | R15: =IF('KES_document '!T27=0,"",'KES_document '!T27) | S15: =IF('KES_document '!U27=0,"",'KES_document '!U27) | T15: =IF('KES_document '!V27=0,"",'KES_document '!V27)
A16: =IF('KES_document '!#REF!=0,"",'KES_document '!#REF!) -> #REF! | B16: ='KES_document '!A28 -> KES_013 | C16: =IF('KES_document '!D28=0,"",'KES_document '!D28) -> overlast uitvoering en in bedrijf zijn gemaal | D16: =IF('KES_document '!E28=0,"",'KES_document '!E28) -> Direct omwonende | E16: =IF('KES_document '!F28=0,"",'KES_document '!F28) -> geluids- en trillingsoverlast | F16: =IF('KES_document '!G28=0,"",'KES_document '!G28) -> Aandacht voor geluids- en trillingsoverlast in de bouwfase en voorkomen van geluidsoverlast in beheersfase. Niet meer geluid dan in de huidige situatie als het in bedrijf is. | G16: =IF('KES_document '!H28=0,"",'KES_document '!H28) -> Omgeving geeft aan dat er bij het passeren van zwaar verkeer sprake is van trillingen. Een 0-meting voorafgaand aan de werkzaamheden kan helpen om te zien of er door de werkzaamheden schade is ontstaan | H16: =IF('KES_document '!I28=0,"",'KES_document '!I28) -> Kragten | I16: =IF('KES_document '!#REF!=0,"",'KES_document '!#REF!) -> #REF! | J16: =IF('KES_document '!L28=0,"",'KES_document '!L28) | K16: =IF('KES_document '!M28=0,"",'KES_document '!M28) | L16: =TEXT('KES_document '!N28,"dd-mm-jjjj") -> 30-04-2021 | M16: =IF('KES_document '!O28=0,"",'KES_document '!O28) -> Honoreren | N16: =IF('KES_document '!P28=0,"",'KES_document '!P28) -> We houden ons aan de wettelijke eisen voor geluid. Een 0-meting voorafgaand aan de werkzaamheden opnemen in PvE. | O16: =IF('KES_document '!Q28=0,"",'KES_document '!Q28) -> Opdrachtgever | P16: =IF('KES_document '!R28=0,"",'KES_document '!R28) | Q16: =TEXT('KES_document '!S28,"dd-mm-jjjj") -> 00-01-1900 | R16: =IF('KES_document '!T28=0,"",'KES_document '!T28) | S16: =IF('KES_document '!U28=0,"",'KES_document '!U28) | T16: =IF('KES_document '!V28=0,"",'KES_document '!V28)
A17: =IF('KES_document '!#REF!=0,"",'KES_document '!#REF!) -> #REF! | B17: ='KES_document '!A29 -> KES_014 | C17: =IF('KES_document '!D29=0,"",'KES_document '!D29) -> Perceel I 895 | D17: =IF('KES_document '!E29=0,"",'KES_document '!E29) -> Familie van Woerden | E17: =IF('KES_document '!F29=0,"",'KES_document '!F29) -> grond behoud | F17: =IF('KES_document '!G29=0,"",'KES_document '!G29) -> Eigenaar wil perceel behouden en niet verkopen voor de aanleg van het gemaal. | G17: =IF('KES_document '!H29=0,"",'KES_document '!H29) | H17: =IF('KES_document '!I29=0,"",'KES_document '!I29) -> Kragten | I17: =IF('KES_document '!#REF!=0,"",'KES_document '!#REF!) -> #REF! | J17: =IF('KES_document '!L29=0,"",'KES_document '!L29) | K17: =IF('KES_document '!M29=0,"",'KES_document '!M29) | L17: =TEXT('KES_document '!N29,"dd-mm-jjjj") -> 30-04-2021 | M17: =IF('KES_document '!O29=0,"",'KES_document '!O29) -> Honoreren onder voorwaarde | N17: =IF('KES_document '!P29=0,"",'KES_document '!P29) -> Bekijken of ontwerp kan worden aangepast. Betreft nu 2 m2 overlap, of in gesprek gaan met de familie van Woerden. | O17: =IF('KES_document '!Q29=0,"",'KES_document '!Q29) -> Opdrachtgever | P17: =IF('KES_document '!R29=0,"",'KES_document '!R29) | Q17: =TEXT('KES_document '!S29,"dd-mm-jjjj") -> 00-01-1900 | R17: =IF('KES_document '!T29=0,"",'KES_document '!T29) | S17: =IF('KES_document '!U29=0,"",'KES_document '!U29) | T17: =IF('KES_document '!V29=0,"",'KES_document '!V29)
A18: =IF('KES_document '!#REF!=0,"",'KES_document '!#REF!) -> #REF! | B18: ='KES_document '!A30 -> KES_015 | C18: =IF('KES_document '!D30=0,"",'KES_document '!D30) -> Monumentale waarde | D18: =IF('KES_document '!E30=0,"",'KES_document '!E30) -> Direct omwonende | E18: =IF('KES_document '!F30=0,"",'KES_document '!F30) -> Restauratie bakkershuisje | F18: =IF('KES_document '!G30=0,"",'KES_document '!G30) -> Bestaande gebouwen opknappen en eventueel gebruiken voor installatie van pomp zodat het bakkershuisje ook een functie krijgt. | G18: =IF('KES_document '!H30=0,"",'KES_document '!H30) | H18: =IF('KES_document '!I30=0,"",'KES_document '!I30) -> Kragten | I18: =IF('KES_document '!#REF!=0,"",'KES_document '!#REF!) -> #REF! | J18: =IF('KES_document '!L30=0,"",'KES_document '!L30) | K18: =IF('KES_document '!M30=0,"",'KES_document '!M30) | L18: =TEXT('KES_document '!N30,"dd-mm-jjjj") -> 30-04-2021 | M18: =IF('KES_document '!O30=0,"",'KES_document '!O30) -> Honoreren | N18: =IF('KES_document '!P30=0,"",'KES_document '!P30) -> Restauratie is al een verplichting die gemeente heeft gesteld. Gebruik van het bakkershuisje geeft het gebouw een nieuwe functie wat bijdraagt aan toekomstig behoud. | O18: =IF('KES_document '!Q30=0,"",'KES_document '!Q30) -> Opdrachtgever | P18: =IF('KES_document '!R30=0,"",'KES_document '!R30) | Q18: =TEXT('KES_document '!S30,"dd-mm-jjjj") -> 00-01-1900 | R18: =IF('KES_document '!T30=0,"",'KES_document '!T30) | S18: =IF('KES_document '!U30=0,"",'KES_document '!U30) | T18: =IF('KES_document '!V30=0,"",'KES_document '!V30)
A19: =IF('KES_document '!#REF!=0,"",'KES_document '!#REF!) -> #REF! | B19: ='KES_document '!A31 -> KES_016 | C19: =IF('KES_document '!D31=0,"",'KES_document '!D31) -> Toegangspad en hek boven aan dijk | D19: =IF('KES_document '!E31=0,"",'KES_document '!E31) -> Direct omwonende | E19: =IF('KES_document '!F31=0,"",'KES_document '!F31) -> Toegangspad | F19: =IF('KES_document '!G31=0,"",'KES_document '!G31) -> Behoud van toegangspad en inclusief poort boven aan dijk, om ongeoorloofd bezoek te voorkomen. Bij voorkeur ook de poort dicht laten staan. | G19: =IF('KES_document '!H31=0,"",'KES_document '!H31) | H19: =IF('KES_document '!I31=0,"",'KES_document '!I31) -> Kragten | I19: =IF('KES_document '!#REF!=0,"",'KES_document '!#REF!) -> #REF! | J19: =IF('KES_document '!L31=0,"",'KES_document '!L31) | K19: =IF('KES_document '!M31=0,"",'KES_document '!M31) | L19: =TEXT('KES_document '!N31,"dd-mm-jjjj") -> 30-04-2021 | M19: =IF('KES_document '!O31=0,"",'KES_document '!O31) -> Honoreren | N19: =IF('KES_document '!P31=0,"",'KES_document '!P31) -> Huidige situatie bij poort/ toegangspad (nabij brug Commandeurskade 30) naar nieuwe gemaal wordt gehandhaafd. Poort blijft in eindsituatie aanwezig. Sluit aan bij de wens van Delfland dat de toegangsweg niet gebruikt wordt door derden. | O19: =IF('KES_document '!Q31=0,"",'KES_document '!Q31) -> Opdrachtgever | P19: =IF('KES_document '!R31=0,"",'KES_document '!R31) | Q19: =TEXT('KES_document '!S31,"dd-mm-jjjj") -> 00-01-1900 | R19: =IF('KES_document '!T31=0,"",'KES_document '!T31) | S19: =IF('KES_document '!U31=0,"",'KES_document '!U31) | T19: =IF('KES_document '!V31=0,"",'KES_document '!V31)
A20: =IF('KES_document '!#REF!=0,"",'KES_document '!#REF!) -> #REF! | B20: ='KES_document '!A36 -> KES_021 | C20: =IF('KES_document '!D36=0,"",'KES_document '!D36) -> Kroosvlonder achter gemaal | D20: =IF('KES_document '!E36=0,"",'KES_document '!E36) -> Direct omwonende | E20: =IF('KES_document '!F36=0,"",'KES_document '!F36) -> Verwijderen kroosvlonder bij inlaat huidig gemaal. En veilig maken hekwerk langs fiets/wandelpad | F20: =IF('KES_document '!G36=0,"",'KES_document '!G36) -> Langs het fiets/wandel bruggetje hangt nog een bruggetje. Dit is bouwvallig. Bewoners vragen om dit te verwijderen als het geen functie meer heeft. Daarnaast wordt gevraagd of het hekwerk langs het bruggetje van het fiets/wandelpad veiliger kan worden gemaakt. | G20: =IF('KES_document '!H36=0,"",'KES_document '!H36) | H20: =IF('KES_document '!I36=0,"",'KES_document '!I36) -> Kragten | I20: =IF('KES_document '!#REF!=0,"",'KES_document '!#REF!) -> #REF! | J20: =IF('KES_document '!L36=0,"",'KES_document '!L36) | K20: =IF('KES_document '!M36=0,"",'KES_document '!M36) | L20: =TEXT('KES_document '!N36,"dd-mm-jjjj") -> 30-04-2021 | M20: =IF('KES_document '!O36=0,"",'KES_document '!O36) -> Honoreren | N20: =IF('KES_document '!P36=0,"",'KES_document '!P36) -> Onderdeel van ontmantelen oude gemaal Delfland. | O20: =IF('KES_document '!Q36=0,"",'KES_document '!Q36) -> Opdrachtgever | P20: =IF('KES_document '!R36=0,"",'KES_document '!R36) | Q20: =TEXT('KES_document '!S36,"dd-mm-jjjj") -> 00-01-1900 | R20: =IF('KES_document '!T36=0,"",'KES_document '!T36) | S20: =IF('KES_document '!U36=0,"",'KES_document '!U36) | T20: =IF('KES_document '!V36=0,"",'KES_document '!V36)
A21: =IF('KES_document '!#REF!=0,"",'KES_document '!#REF!) -> #REF! | B21: ='KES_document '!A37 -> KES_022 | C21: =IF('KES_document '!D37=0,"",'KES_document '!D37) -> Verleggen E-kabels en trafo | D21: =IF('KES_document '!E37=0,"",'KES_document '!E37) -> Westland Infra | E21: =IF('KES_document '!F37=0,"",'KES_document '!F37) -> Afmetingen nieuwe trafo | F21: =IF('KES_document '!G37=0,"",'KES_document '!G37) -> Afmetingen compactstation benodigd voor nieuwe trafo: 1,8 x 2,8 x hoogte 1,5 m en 1 meter vrije kabelruimte rondom. Westlandinfra heeft met de ruimte rondom voor kabels dan in totaal een oppervlak van 4x5 m nodig. Trafo/compactstation buiten bakkershuisje plaatsen ivm ontploffingsgevaar. | G21: =IF('KES_document '!H37=0,"",'KES_document '!H37) | H21: =IF('KES_document '!I37=0,"",'KES_document '!I37) -> Kragten | I21: =IF('KES_document '!#REF!=0,"",'KES_document '!#REF!) -> #REF! | J21: =IF('KES_document '!L37=0,"",'KES_document '!L37) | K21: =IF('KES_document '!M37=0,"",'KES_document '!M37) | L21: =TEXT('KES_document '!N37,"dd-mm-jjjj") -> 31-05-2021 | M21: =IF('KES_document '!O37=0,"",'KES_document '!O37) -> Honoreren | N21: =IF('KES_document '!P37=0,"",'KES_document '!P37) -> Afmetingen en aanvullende voorschriften van Westland Infra opvolgen, zijn leidend, voor ruimtebeslag in voorlopig ontwerp. | O21: =IF('KES_document '!Q37=0,"",'KES_document '!Q37) -> Opdrachtgever | P21: =IF('KES_document '!R37=0,"",'KES_document '!R37) | Q21: =TEXT('KES_document '!S37,"dd-mm-jjjj") -> 00-01-1900 | R21: =IF('KES_document '!T37=0,"",'KES_document '!T37) | S21: =IF('KES_document '!U37=0,"",'KES_document '!U37) | T21: =IF('KES_document '!V37=0,"",'KES_document '!V37)
A22: =IF('KES_document '!#REF!=0,"",'KES_document '!#REF!) -> #REF! | B22: ='KES_document '!#REF! -> #REF! | C22: =IF('KES_document '!#REF!=0,"",'KES_document '!#REF!) -> #REF! | D22: =IF('KES_document '!#REF!=0,"",'KES_document '!#REF!) -> #REF! | E22: =IF('KES_document '!#REF!=0,"",'KES_document '!#REF!) -> #REF! | F22: =IF('KES_document '!#REF!=0,"",'KES_document '!#REF!) -> #REF! | G22: =IF('KES_document '!#REF!=0,"",'KES_document '!#REF!) -> #REF! | H22: =IF('KES_document '!#REF!=0,"",'KES_document '!#REF!) -> #REF! | I22: =IF('KES_document '!#REF!=0,"",'KES_document '!#REF!) -> #REF! | J22: =IF('KES_document '!#REF!=0,"",'KES_document '!#REF!) -> #REF! | K22: =IF('KES_document '!#REF!=0,"",'KES_document '!#REF!) -> #REF! | L22: =TEXT('KES_document '!#REF!,"dd-mm-jjjj") -> #REF! | M22: =IF('KES_document '!#REF!=0,"",'KES_document '!#REF!) -> #REF! | N22: =IF('KES_document '!#REF!=0,"",'KES_document '!#REF!) -> #REF! | O22: =IF('KES_document '!#REF!=0,"",'KES_document '!#REF!) -> #REF! | P22: =IF('KES_document '!#REF!=0,"",'KES_document '!#REF!) -> #REF! | Q22: =TEXT('KES_document '!#REF!,"dd-mm-jjjj") -> #REF! | R22: =IF('KES_document '!#REF!=0,"",'KES_document '!#REF!) -> #REF! | S22: =IF('KES_document '!#REF!=0,"",'KES_document '!#REF!) -> #REF! | T22: =IF('KES_document '!#REF!=0,"",'KES_document '!#REF!) -> #REF!
A23: =IF('KES_document '!#REF!=0,"",'KES_document '!#REF!) -> #REF! | B23: ='KES_document '!#REF! -> #REF! | C23: =IF('KES_document '!#REF!=0,"",'KES_document '!#REF!) -> #REF! | D23: =IF('KES_document '!#REF!=0,"",'KES_document '!#REF!) -> #REF! | E23: =IF('KES_document '!#REF!=0,"",'KES_document '!#REF!) -> #REF! | F23: =IF('KES_document '!#REF!=0,"",'KES_document '!#REF!) -> #REF! | G23: =IF('KES_document '!#REF!=0,"",'KES_document '!#REF!) -> #REF! | H23: =IF('KES_document '!#REF!=0,"",'KES_document '!#REF!) -> #REF! | I23: =IF('KES_document '!#REF!=0,"",'KES_document '!#REF!) -> #REF! | J23: =IF('KES_document '!#REF!=0,"",'KES_document '!#REF!) -> #REF! | K23: =IF('KES_document '!#REF!=0,"",'KES_document '!#REF!) -> #REF! | L23: =TEXT('KES_document '!#REF!,"dd-mm-jjjj") -> #REF! | M23: =IF('KES_document '!#REF!=0,"",'KES_document '!#REF!) -> #REF! | N23: =IF('KES_document '!#REF!=0,"",'KES_document '!#REF!) -> #REF! | O23: =IF('KES_document '!#REF!=0,"",'KES_document '!#REF!) -> #REF! | P23: =IF('KES_document '!#REF!=0,"",'KES_document '!#REF!) -> #REF! | Q23: =TEXT('KES_document '!#REF!,"dd-mm-jjjj") -> #REF! | R23: =IF('KES_document '!#REF!=0,"",'KES_document '!#REF!) -> #REF! | S23: =IF('KES_document '!#REF!=0,"",'KES_document '!#REF!) -> #REF! | T23: =IF('KES_document '!#REF!=0,"",'KES_document '!#REF!) -> #REF!
A24: =IF('KES_document '!#REF!=0,"",'KES_document '!#REF!) -> #REF! | B24: ='KES_document '!#REF! -> #REF! | C24: =IF('KES_document '!#REF!=0,"",'KES_document '!#REF!) -> #REF! | D24: =IF('KES_document '!#REF!=0,"",'KES_document '!#REF!) -> #REF! | E24: =IF('KES_document '!#REF!=0,"",'KES_document '!#REF!) -> #REF! | F24: =IF('KES_document '!#REF!=0,"",'KES_document '!#REF!) -> #REF! | G24: =IF('KES_document '!#REF!=0,"",'KES_document '!#REF!) -> #REF! | H24: =IF('KES_document '!#REF!=0,"",'KES_document '!#REF!) -> #REF! | I24: =IF('KES_document '!#REF!=0,"",'KES_document '!#REF!) -> #REF! | J24: =IF('KES_document '!#REF!=0,"",'KES_document '!#REF!) -> #REF! | K24: =IF('KES_document '!#REF!=0,"",'KES_document '!#REF!) -> #REF! | L24: =TEXT('KES_document '!#REF!,"dd-mm-jjjj") -> #REF! | M24: =IF('KES_document '!#REF!=0,"",'KES_document '!#REF!) -> #REF! | N24: =IF('KES_document '!#REF!=0,"",'KES_document '!#REF!) -> #REF! | O24: =IF('KES_document '!#REF!=0,"",'KES_document '!#REF!) -> #REF! | P24: =IF('KES_document '!#REF!=0,"",'KES_document '!#REF!) -> #REF! | Q24: =TEXT('KES_document '!#REF!,"dd-mm-jjjj") -> #REF! | R24: =IF('KES_document '!#REF!=0,"",'KES_document '!#REF!) -> #REF! | S24: =IF('KES_document '!#REF!=0,"",'KES_document '!#REF!) -> #REF! | T24: =IF('KES_document '!#REF!=0,"",'KES_document '!#REF!) -> #REF!
A25: =IF('KES_document '!#REF!=0,"",'KES_document '!#REF!) -> #REF! | B25: ='KES_document '!#REF! -> #REF! | C25: =IF('KES_document '!#REF!=0,"",'KES_document '!#REF!) -> #REF! | D25: =IF('KES_document '!#REF!=0,"",'KES_document '!#REF!) -> #REF! | E25: =IF('KES_document '!#REF!=0,"",'KES_document '!#REF!) -> #REF! | F25: =IF('KES_document '!#REF!=0,"",'KES_document '!#REF!) -> #REF! | G25: =IF('KES_document '!#REF!=0,"",'KES_document '!#REF!) -> #REF! | H25: =IF('KES_document '!#REF!=0,"",'KES_document '!#REF!) -> #REF! | I25: =IF('KES_document '!#REF!=0,"",'KES_document '!#REF!) -> #REF! | J25: =IF('KES_document '!#REF!=0,"",'KES_document '!#REF!) -> #REF! | K25: =IF('KES_document '!#REF!=0,"",'KES_document '!#REF!) -> #REF! | L25: =TEXT('KES_document '!#REF!,"dd-mm-jjjj") -> #REF! | M25: =IF('KES_document '!#REF!=0,"",'KES_document '!#REF!) -> #REF! | N25: =IF('KES_document '!#REF!=0,"",'KES_document '!#REF!) -> #REF! | O25: =IF('KES_document '!#REF!=0,"",'KES_document '!#REF!) -> #REF! | P25: =IF('KES_document '!#REF!=0,"",'KES_document '!#REF!) -> #REF! | Q25: =TEXT('KES_document '!#REF!,"dd-mm-jjjj") -> #REF! | R25: =IF('KES_document '!#REF!=0,"",'KES_document '!#REF!) -> #REF! | S25: =IF('KES_document '!#REF!=0,"",'KES_document '!#REF!) -> #REF! | T25: =IF('KES_document '!#REF!=0,"",'KES_document '!#REF!) -> #REF!
A26: =IF('KES_document '!#REF!=0,"",'KES_document '!#REF!) -> #REF! | B26: ='KES_document '!#REF! -> #REF! | C26: =IF('KES_document '!#REF!=0,"",'KES_document '!#REF!) -> #REF! | D26: =IF('KES_document '!#REF!=0,"",'KES_document '!#REF!) -> #REF! | E26: =IF('KES_document '!#REF!=0,"",'KES_document '!#REF!) -> #REF! | F26: =IF('KES_document '!#REF!=0,"",'KES_document '!#REF!) -> #REF! | G26: =IF('KES_document '!#REF!=0,"",'KES_document '!#REF!) -> #REF! | H26: =IF('KES_document '!#REF!=0,"",'KES_document '!#REF!) -> #REF! | I26: =IF('KES_document '!#REF!=0,"",'KES_document '!#REF!) -> #REF! | J26: =IF('KES_document '!#REF!=0,"",'KES_document '!#REF!) -> #REF! | K26: =IF('KES_document '!#REF!=0,"",'KES_document '!#REF!) -> #REF! | L26: =TEXT('KES_document '!#REF!,"dd-mm-jjjj") -> #REF! | M26: =IF('KES_document '!#REF!=0,"",'KES_document '!#REF!) -> #REF! | N26: =IF('KES_document '!#REF!=0,"",'KES_document '!#REF!) -> #REF! | O26: =IF('KES_document '!#REF!=0,"",'KES_document '!#REF!) -> #REF! | P26: =IF('KES_document '!#REF!=0,"",'KES_document '!#REF!) -> #REF! | Q26: =TEXT('KES_document '!#REF!,"dd-mm-jjjj") -> #REF! | R26: =IF('KES_document '!#REF!=0,"",'KES_document '!#REF!) -> #REF! | S26: =IF('KES_document '!#REF!=0,"",'KES_document '!#REF!) -> #REF! | T26: =IF('KES_document '!#REF!=0,"",'KES_document '!#REF!) -> #REF!
A27: =IF('KES_document '!#REF!=0,"",'KES_document '!#REF!) -> #REF! | B27: ='KES_document '!#REF! -> #REF! | C27: =IF('KES_document '!#REF!=0,"",'KES_document '!#REF!) -> #REF! | D27: =IF('KES_document '!#REF!=0,"",'KES_document '!#REF!) -> #REF! | E27: =IF('KES_document '!#REF!=0,"",'KES_document '!#REF!) -> #REF! | F27: =IF('KES_document '!#REF!=0,"",'KES_document '!#REF!) -> #REF! | G27: =IF('KES_document '!#REF!=0,"",'KES_document '!#REF!) -> #REF! | H27: =IF('KES_document '!#REF!=0,"",'KES_document '!#REF!) -> #REF! | I27: =IF('KES_document '!#REF!=0,"",'KES_document '!#REF!) -> #REF! | J27: =IF('KES_document '!#REF!=0,"",'KES_document '!#REF!) -> #REF! | K27: =IF('KES_document '!#REF!=0,"",'KES_document '!#REF!) -> #REF! | L27: =TEXT('KES_document '!#REF!,"dd-mm-jjjj") -> #REF! | M27: =IF('KES_document '!#REF!=0,"",'KES_document '!#REF!) -> #REF! | N27: =IF('KES_document '!#REF!=0,"",'KES_document '!#REF!) -> #REF! | O27: =IF('KES_document '!#REF!=0,"",'KES_document '!#REF!) -> #REF! | P27: =IF('KES_document '!#REF!=0,"",'KES_document '!#REF!) -> #REF! | Q27: =TEXT('KES_document '!#REF!,"dd-mm-jjjj") -> #REF! | R27: =IF('KES_document '!#REF!=0,"",'KES_document '!#REF!) -> #REF! | S27: =IF('KES_document '!#REF!=0,"",'KES_document '!#REF!) -> #REF! | T27: =IF('KES_document '!#REF!=0,"",'KES_document '!#REF!) -> #REF!
A28: =IF('KES_document '!#REF!=0,"",'KES_document '!#REF!) -> #REF! | B28: ='KES_document '!#REF! -> #REF! | C28: =IF('KES_document '!#REF!=0,"",'KES_document '!#REF!) -> #REF! | D28: =IF('KES_document '!#REF!=0,"",'KES_document '!#REF!) -> #REF! | E28: =IF('KES_document '!#REF!=0,"",'KES_document '!#REF!) -> #REF! | F28: =IF('KES_document '!#REF!=0,"",'KES_document '!#REF!) -> #REF! | G28: =IF('KES_document '!#REF!=0,"",'KES_document '!#REF!) -> #REF! | H28: =IF('KES_document '!#REF!=0,"",'KES_document '!#REF!) -> #REF! | I28: =IF('KES_document '!#REF!=0,"",'KES_document '!#REF!) -> #REF! | J28: =IF('KES_document '!#REF!=0,"",'KES_document '!#REF!) -> #REF! | K28: =IF('KES_document '!#REF!=0,"",'KES_document '!#REF!) -> #REF! | L28: =TEXT('KES_document '!#REF!,"dd-mm-jjjj") -> #REF! | M28: =IF('KES_document '!#REF!=0,"",'KES_document '!#REF!) -> #REF! | N28: =IF('KES_document '!#REF!=0,"",'KES_document '!#REF!) -> #REF! | O28: =IF('KES_document '!#REF!=0,"",'KES_document '!#REF!) -> #REF! | P28: =IF('KES_document '!#REF!=0,"",'KES_document '!#REF!) -> #REF! | Q28: =TEXT('KES_document '!#REF!,"dd-mm-jjjj") -> #REF! | R28: =IF('KES_document '!#REF!=0,"",'KES_document '!#REF!) -> #REF! | S28: =IF('KES_document '!#REF!=0,"",'KES_document '!#REF!) -> #REF! | T28: =IF('KES_document '!#REF!=0,"",'KES_document '!#REF!) -> #REF!
A29: =IF('KES_document '!#REF!=0,"",'KES_document '!#REF!) -> #REF! | B29: ='KES_document '!#REF! -> #REF! | C29: =IF('KES_document '!#REF!=0,"",'KES_document '!#REF!) -> #REF! | D29: =IF('KES_document '!#REF!=0,"",'KES_document '!#REF!) -> #REF! | E29: =IF('KES_document '!#REF!=0,"",'KES_document '!#REF!) -> #REF! | F29: =IF('KES_document '!#REF!=0,"",'KES_document '!#REF!) -> #REF! | G29: =IF('KES_document '!#REF!=0,"",'KES_document '!#REF!) -> #REF! | H29: =IF('KES_document '!#REF!=0,"",'KES_document '!#REF!) -> #REF! | I29: =IF('KES_document '!#REF!=0,"",'KES_document '!#REF!) -> #REF! | J29: =IF('KES_document '!#REF!=0,"",'KES_document '!#REF!) -> #REF! | K29: =IF('KES_document '!#REF!=0,"",'KES_document '!#REF!) -> #REF! | L29: =TEXT('KES_document '!#REF!,"dd-mm-jjjj") -> #REF! | M29: =IF('KES_document '!#REF!=0,"",'KES_document '!#REF!) -> #REF! | N29: =IF('KES_document '!#REF!=0,"",'KES_document '!#REF!) -> #REF! | O29: =IF('KES_document '!#REF!=0,"",'KES_document '!#REF!) -> #REF! | P29: =IF('KES_document '!#REF!=0,"",'KES_document '!#REF!) -> #REF! | Q29: =TEXT('KES_document '!#REF!,"dd-mm-jjjj") -> #REF! | R29: =IF('KES_document '!#REF!=0,"",'KES_document '!#REF!) -> #REF! | S29: =IF('KES_document '!#REF!=0,"",'KES_document '!#REF!) -> #REF! | T29: =IF('KES_document '!#REF!=0,"",'KES_document '!#REF!) -> #REF!
A30: =IF('KES_document '!#REF!=0,"",'KES_document '!#REF!) -> #REF! | B30: ='KES_document '!#REF! -> #REF! | C30: =IF('KES_document '!#REF!=0,"",'KES_document '!#REF!) -> #REF! | D30: =IF('KES_document '!#REF!=0,"",'KES_document '!#REF!) -> #REF! | E30: =IF('KES_document '!#REF!=0,"",'KES_document '!#REF!) -> #REF! | F30: =IF('KES_document '!#REF!=0,"",'KES_document '!#REF!) -> #REF! | G30: =IF('KES_document '!#REF!=0,"",'KES_document '!#REF!) -> #REF! | H30: =IF('KES_document '!#REF!=0,"",'KES_document '!#REF!) -> #REF! | I30: =IF('KES_document '!#REF!=0,"",'KES_document '!#REF!) -> #REF! | J30: =IF('KES_document '!#REF!=0,"",'KES_document '!#REF!) -> #REF! | K30: =IF('KES_document '!#REF!=0,"",'KES_document '!#REF!) -> #REF! | L30: =TEXT('KES_document '!#REF!,"dd-mm-jjjj") -> #REF! | M30: =IF('KES_document '!#REF!=0,"",'KES_document '!#REF!) -> #REF! | N30: =IF('KES_document '!#REF!=0,"",'KES_document '!#REF!) -> #REF! | O30: =IF('KES_document '!#REF!=0,"",'KES_document '!#REF!) -> #REF! | P30: =IF('KES_document '!#REF!=0,"",'KES_document '!#REF!) -> #REF! | Q30: =TEXT('KES_document '!#REF!,"dd-mm-jjjj") -> #REF! | R30: =IF('KES_document '!#REF!=0,"",'KES_document '!#REF!) -> #REF! | S30: =IF('KES_document '!#REF!=0,"",'KES_document '!#REF!) -> #REF! | T30: =IF('KES_document '!#REF!=0,"",'KES_document '!#REF!) -> #REF!
A31: =IF('KES_document '!#REF!=0,"",'KES_document '!#REF!) -> #REF! | B31: ='KES_document '!#REF! -> #REF! | C31: =IF('KES_document '!#REF!=0,"",'KES_document '!#REF!) -> #REF! | D31: =IF('KES_document '!#REF!=0,"",'KES_document '!#REF!) -> #REF! | E31: =IF('KES_document '!#REF!=0,"",'KES_document '!#REF!) -> #REF! | F31: =IF('KES_document '!#REF!=0,"",'KES_document '!#REF!) -> #REF! | G31: =IF('KES_document '!#REF!=0,"",'KES_document '!#REF!) -> #REF! | H31: =IF('KES_document '!#REF!=0,"",'KES_document '!#REF!) -> #REF! | I31: =IF('KES_document '!#REF!=0,"",'KES_document '!#REF!) -> #REF! | J31: =IF('KES_document '!#REF!=0,"",'KES_document '!#REF!) -> #REF! | K31: =IF('KES_document '!#REF!=0,"",'KES_document '!#REF!) -> #REF! | L31: =TEXT('KES_document '!#REF!,"dd-mm-jjjj") -> #REF! | M31: =IF('KES_document '!#REF!=0,"",'KES_document '!#REF!) -> #REF! | N31: =IF('KES_document '!#REF!=0,"",'KES_document '!#REF!) -> #REF! | O31: =IF('KES_document '!#REF!=0,"",'KES_document '!#REF!) -> #REF! | P31: =IF('KES_document '!#REF!=0,"",'KES_document '!#REF!) -> #REF! | Q31: =TEXT('KES_document '!#REF!,"dd-mm-jjjj") -> #REF! | R31: =IF('KES_document '!#REF!=0,"",'KES_document '!#REF!) -> #REF! | S31: =IF('KES_document '!#REF!=0,"",'KES_document '!#REF!) -> #REF! | T31: =IF('KES_document '!#REF!=0,"",'KES_document '!#REF!) -> #REF!
A32: =IF('KES_document '!#REF!=0,"",'KES_document '!#REF!) -> #REF! | B32: ='KES_document '!#REF! -> #REF! | C32: =IF('KES_document '!#REF!=0,"",'KES_document '!#REF!) -> #REF! | D32: =IF('KES_document '!#REF!=0,"",'KES_document '!#REF!) -> #REF! | E32: =IF('KES_document '!#REF!=0,"",'KES_document '!#REF!) -> #REF! | F32: =IF('KES_document '!#REF!=0,"",'KES_document '!#REF!) -> #REF! | G32: =IF('KES_document '!#REF!=0,"",'KES_document '!#REF!) -> #REF! | H32: =IF('KES_document '!#REF!=0,"",'KES_document '!#REF!) -> #REF! | I32: =IF('KES_document '!#REF!=0,"",'KES_document '!#REF!) -> #REF! | J32: =IF('KES_document '!#REF!=0,"",'KES_document '!#REF!) -> #REF! | K32: =IF('KES_document '!#REF!=0,"",'KES_document '!#REF!) -> #REF! | L32: =TEXT('KES_document '!#REF!,"dd-mm-jjjj") -> #REF! | M32: =IF('KES_document '!#REF!=0,"",'KES_document '!#REF!) -> #REF! | N32: =IF('KES_document '!#REF!=0,"",'KES_document '!#REF!) -> #REF! | O32: =IF('KES_document '!#REF!=0,"",'KES_document '!#REF!) -> #REF! | P32: =IF('KES_document '!#REF!=0,"",'KES_document '!#REF!) -> #REF! | Q32: =TEXT('KES_document '!#REF!,"dd-mm-jjjj") -> #REF! | R32: =IF('KES_document '!#REF!=0,"",'KES_document '!#REF!) -> #REF! | S32: =IF('KES_document '!#REF!=0,"",'KES_document '!#REF!) -> #REF! | T32: =IF('KES_document '!#REF!=0,"",'KES_document '!#REF!) -> #REF!
A33: =IF('KES_document '!#REF!=0,"",'KES_document '!#REF!) -> #REF! | B33: ='KES_document '!#REF! -> #REF! | C33: =IF('KES_document '!#REF!=0,"",'KES_document '!#REF!) -> #REF! | D33: =IF('KES_document '!#REF!=0,"",'KES_document '!#REF!) -> #REF! | E33: =IF('KES_document '!#REF!=0,"",'KES_document '!#REF!) -> #REF! | F33: =IF('KES_document '!#REF!=0,"",'KES_document '!#REF!) -> #REF! | G33: =IF('KES_document '!#REF!=0,"",'KES_document '!#REF!) -> #REF! | H33: =IF('KES_document '!#REF!=0,"",'KES_document '!#REF!) -> #REF! | I33: =IF('KES_document '!#REF!=0,"",'KES_document '!#REF!) -> #REF! | J33: =IF('KES_document '!#REF!=0,"",'KES_document '!#REF!) -> #REF! | K33: =IF('KES_document '!#REF!=0,"",'KES_document '!#REF!) -> #REF! | L33: =TEXT('KES_document '!#REF!,"dd-mm-jjjj") -> #REF! | M33: =IF('KES_document '!#REF!=0,"",'KES_document '!#REF!) -> #REF! | N33: =IF('KES_document '!#REF!=0,"",'KES_document '!#REF!) -> #REF! | O33: =IF('KES_document '!#REF!=0,"",'KES_document '!#REF!) -> #REF! | P33: =IF('KES_document '!#REF!=0,"",'KES_document '!#REF!) -> #REF! | Q33: =TEXT('KES_document '!#REF!,"dd-mm-jjjj") -> #REF! | R33: =IF('KES_document '!#REF!=0,"",'KES_document '!#REF!) -> #REF! | S33: =IF('KES_document '!#REF!=0,"",'KES_document '!#REF!) -> #REF! | T33: =IF('KES_document '!#REF!=0,"",'KES_document '!#REF!) -> #REF!
... A350: =IF('KES_document '!#REF!=0,"",'KES_document '!#REF!) -> #REF! | B350: ='KES_document '!#REF! -> #REF! | C350: =IF('KES_document '!#REF!=0,"",'KES_document '!#REF!) -> #REF! | D350: =IF('KES_document '!#REF!=0,"",'KES_document '!#REF!) -> #REF! | E350: =IF('KES_document '!#REF!=0,"",'KES_document '!#REF!) -> #REF! | F350: =IF('KES_document '!#REF!=0,"",'KES_document '!#REF!) -> #REF! | G350: =IF('KES_document '!#REF!=0,"",'KES_document '!#REF!) -> #REF! | H350: =IF('KES_document '!#REF!=0,"",'KES_document '!#REF!) -> #REF! | I350: =IF('KES_document '!#REF!=0,"",'KES_document '!#REF!) -> #REF! | J350: =IF('KES_document '!#REF!=0,"",'KES_document '!#REF!) -> #REF! | K350: =IF('KES_document '!#REF!=0,"",'KES_document '!#REF!) -> #REF! | L350: =TEXT('KES_document '!#REF!,"dd-mm-jjjj") -> #REF! | M350: =IF('KES_document '!#REF!=0,"",'KES_document '!#REF!) -> #REF! | N350: =IF('KES_document '!#REF!=0,"",'KES_document '!#REF!) -> #REF! | O350: =IF('KES_document '!#REF!=0,"",'KES_document '!#REF!) -> #REF! | P350: =IF('KES_document '!#REF!=0,"",'KES_document '!#REF!) -> #REF! | Q350: =TEXT('KES_document '!#REF!,"dd-mm-jjjj") -> #REF! | R350: =IF('KES_document '!#REF!=0,"",'KES_document '!#REF!) -> #REF! | S350: =IF('KES_document '!#REF!=0,"",'KES_document '!#REF!) -> #REF! | T350: =IF('KES_document '!#REF!=0,"",'KES_document '!#REF!) -> #REF!

Sheet Klantnamen
A1: Klantnaam
A2: Hoogheemraadschap van Delftland
A3: Gemeente Midden-Delfland
A4: Direct omwonende
A5: Bomen werkgroep Midden-Delfland ver.
A6: Westland Infra
A7: Familie van Woerden
A8: Historische Vereniging Maasland
A9: -
A10: -
A11: -
A12: -

Sheet geg-val
A1: Bron | B1: Type eis | C1: Status | D1: Honoreringsadvies | E1: Vertaald in: | F1: Honoreringsstatus
A2: DOC###_001 | B2: Buiten scope | C2: Bespreken met stakeholder | D2: Honoreren | E2: Werkafspraak | F2: Geborgd
A3: DOC###_002 | B3: Proceseis | C3: Voorleggen aan IPM-team | D3: Honoreren onder voorwaarde | E3: Systeemeis | F3: Gehonoreerd
A4: DOC###_003 | B4: Ontwerpeis | C4: Effecten onderzoeken | D4: Afwijzen | E4: Inrichtingsplan | F4: Afgewezen
A5: DOC###_004 | B5: Uitvoeringseis | C5: Ontwerpopgave | D5: Anders:……... | E5: Risicodossier | F5: Ter discussie
A6: DOC###_005 | B6: Projectrandvoorwaarde | C6: Bespreken met OG | E6: Beheer- en Onderhoudsplan
A7: DOC###_006 | B7: Werkafspraak | C7: Gehonoreerd
A8: DOC###_007 | B8: Opnemen in risicodossier | C8: Gehonoreerd onder voorwaarden
A9: DOC###_008 | B9: n.v.t. | C9: Buiten scope OG[Vervallen]
A10: DOC###_009 | C10: Niet gehonoreerd[Vervallen]
A11: DOC###_010 | C11: Ter acceptatie door IPM OG
A12: DOC###_011 | C12: Ter verificatie bij stakeholder
A13: DOC###_012 | C13: Vervallen
A14: DOC###_013
A15: DOC###_014
A16: DOC###_015
A17: DOC###_016
A18: DOC###_017
A19: DOC###_018
A20: DOC###_019
A21: DOC###_020
A22: DOC###_021
A23: DOC###_022
A24: DOC###_023
A25: DOC###_024
... A37: DOC###_036

Sheet Kolom indeling
B2: Volgnr | C2: Nummering Kragten en Provincie Noord-Brabant
B3: Klanteis-ID | C3: KES__1
B4: Betrekking op | C4: Object/ locatie/ document Waar heeft eis betrekking op: document, gebied, object , straatnaam, perceel nummer, etc etc.
B5: Klantnaam | C5: stakeholder
B6: Klanteistitel | C6: Onder welk object of onderwerp valt de klanteis te rangschikken
B7: Omschrijving klanteis | C7: Wat wenst of eist de stakeholder
B8: Toelichting: | C8: Eventueel aanvulling op de wens of eis
B9: Klanteisinitiator | C9: Waterschap/ Provincie/
C10: Kragten
B11: Brondocument | C11: Verslag/ rapport/ etc etc
B12: Datum brondocument | C12: Datum brondocument
B13: Honoreringsadvies | C13: · Honoreren
C14: · Honoreren onder voorwaarde
C15: · Afwijzen
B16: Onderbouwing honoreringsadvies | C16: Waarom honoreren of afwijzen
C17: Welke voorwaarde
B18: Status | C18: · Bespreken met stakeholder
C19: · Voorleggen aan IPM-team
C20: · Ter acceptatie door IPM OG
C21: · Effecten onderzoeken
C22: · Ontwerpopgave
C23: · Bespreken met OG
C24: · Gehonoreerd
C25: · Gehonoreerd onder voorwaarden
C26: · Buiten scope OG[Vervallen]
C27: · Niet gehonoreerd[Vervallen]
C28: · Ter verificatie bij stakeholder
C29: · Ter acceptatie door IPM OG
C30: · Vervallen
B31: Datum status | C31: Datum statuswijziging
B32: Vertaald in: | C32: · Werkafspraak
C33: · Systeemeis
C34: · Inrichtingsplan
C35: · Risicodossier
B36: Verificatie of Validatie methode: | C36: · Voor aanbesteding definitieve eis bespreken met stakeholder.
C37: · In plan voorbereiding eis bespreken met stakeholder.
C38: · Voor uitvoering eis bespreken met stakeholder.
C39: · Tijdens uitvoering eis bespreken met stakeholder.
C40: · Na uitvoering eis bespreken met stakeholder.
C41: · Anders: ……………
