Workbook

Sheet Categorie 1
A1: Bijlage 7: Productenlijst assortiment | H1: versie 1.0
A2: Functionele Uitvraag met kenmerk: | D2: 2022.PA01 - Leermiddelen
A4: Productcategorie: | C4: 1. Methoden en leermiddelen
A6: Productcode Artikelnummer | B6: Optionele Indelingscode | C6: A-merk of Huismerk | D6: Optioneel Fabrikant | E6: Merk | F6: Productomschrijving | G6: Variatie (bijv. kleur) | H6: Verkoop adviesprijs excl btw

Sheet Categorie 2
A1: ='Categorie 1'!A1 -> Bijlage 7: Productenlijst assortiment | H1: ='Categorie 1'!H1 -> versie 1.0
A2: ='Categorie 1'!A2 -> Functionele Uitvraag met kenmerk: | D2: 2022.PA01 - Leermiddelen
A4: ='Categorie 1'!A4 -> Productcategorie: | C4: 2. Software en licenties behorend bij methoden en leermiddelen
A6: ='Categorie 1'!A6 -> Productcode Artikelnummer | B6: ='Categorie 1'!B6 -> Optionele Indelingscode | C6: ='Categorie 1'!C6 -> A-merk of Huismerk | D6: ='Categorie 1'!D6 -> Optioneel Fabrikant | E6: ='Categorie 1'!E6 -> Merk | F6: ='Categorie 1'!F6 -> Productomschrijving | G6: ='Categorie 1'!G6 -> Variatie (bijv. kleur) | H6: ='Categorie 1'!H6 -> Verkoop adviesprijs excl btw

Sheet Categorie 3
A1: ='Categorie 1'!A1 -> Bijlage 7: Productenlijst assortiment | H1: ='Categorie 1'!H1 -> versie 1.0
A2: ='Categorie 1'!A2 -> Functionele Uitvraag met kenmerk: | D2: 2022.PA01 - Leermiddelen
A4: ='Categorie 1'!A4 -> Productcategorie: | C4: 3. School-, verbruiks-, en schrijfmateriaal voor kinderen
A6: ='Categorie 1'!A6 -> Productcode Artikelnummer | B6: ='Categorie 1'!B6 -> Optionele Indelingscode | C6: ='Categorie 1'!C6 -> A-merk of Huismerk | D6: ='Categorie 1'!D6 -> Optioneel Fabrikant | E6: ='Categorie 1'!E6 -> Merk | F6: ='Categorie 1'!F6 -> Productomschrijving | G6: ='Categorie 1'!G6 -> Variatie (bijv. kleur) | H6: ='Categorie 1'!H6 -> Verkoop adviesprijs excl btw

Sheet Categorie 4
A1: ='Categorie 1'!A1 -> Bijlage 7: Productenlijst assortiment | H1: ='Categorie 1'!H1 -> versie 1.0
A2: ='Categorie 1'!A2 -> Functionele Uitvraag met kenmerk: | D2: 2022.PA01 - Leermiddelen
A4: ='Categorie 1'!A4 -> Productcategorie: | C4: 4. Handvaardigheidsmateriaal
A6: ='Categorie 1'!A6 -> Productcode Artikelnummer | B6: ='Categorie 1'!B6 -> Optionele Indelingscode | C6: ='Categorie 1'!C6 -> A-merk of Huismerk | D6: ='Categorie 1'!D6 -> Optioneel Fabrikant | E6: ='Categorie 1'!E6 -> Merk | F6: ='Categorie 1'!F6 -> Productomschrijving | G6: ='Categorie 1'!G6 -> Variatie (bijv. kleur) | H6: ='Categorie 1'!H6 -> Verkoop adviesprijs excl btw

Sheet Categorie 5
A1: ='Categorie 1'!A1 -> Bijlage 7: Productenlijst assortiment | H1: ='Categorie 1'!H1 -> versie 1.0
A2: ='Categorie 1'!A2 -> Functionele Uitvraag met kenmerk: | D2: 2022.PA01 - Leermiddelen
A4: ='Categorie 1'!A4 -> Productcategorie: | C4: 5. Spel- en ontwikkelingsmateriaal
A6: ='Categorie 1'!A6 -> Productcode Artikelnummer | B6: ='Categorie 1'!B6 -> Optionele Indelingscode | C6: ='Categorie 1'!C6 -> A-merk of Huismerk | D6: ='Categorie 1'!D6 -> Optioneel Fabrikant | E6: ='Categorie 1'!E6 -> Merk | F6: ='Categorie 1'!F6 -> Productomschrijving | G6: ='Categorie 1'!G6 -> Variatie (bijv. kleur) | H6: ='Categorie 1'!H6 -> Verkoop adviesprijs excl btw

Sheet Categorie 6
A1: ='Categorie 1'!A1 -> Bijlage 7: Productenlijst assortiment | H1: ='Categorie 1'!H1 -> versie 1.0
A2: ='Categorie 1'!A2 -> Functionele Uitvraag met kenmerk: | D2: 2022.PA01 - Leermiddelen
A4: ='Categorie 1'!A4 -> Productcategorie: | C4: 6. Leerhulpmiddelen en -toestellen
A6: ='Categorie 1'!A6 -> Productcode Artikelnummer | B6: ='Categorie 1'!B6 -> Optionele Indelingscode | C6: ='Categorie 1'!C6 -> A-merk of Huismerk | D6: ='Categorie 1'!D6 -> Optioneel Fabrikant | E6: ='Categorie 1'!E6 -> Merk | F6: ='Categorie 1'!F6 -> Productomschrijving | G6: ='Categorie 1'!G6 -> Variatie (bijv. kleur) | H6: ='Categorie 1'!H6 -> Verkoop adviesprijs excl btw
