Workbook

Sheet Basisgegevens
A1: Basisgegevens
A3: Naam opdrachtgever | B3: Stichting Carmelcollege
A4: Vestigingsplaats opdrachtgever | B4: Hengelo
A5: Contactperso(o)n(en) | B5: Johan Baars
A6: Telefoonummer contactpersonen | B6: Communicatie via TenderNed
A7: E-mail adres contactpersoon | B7: Communicatie via TenderNed
A9: Volledige naam leverancier (Handelsnaam Kvk)
A10: Vestigingsplaats leverancier (Kvk)
A11: Kvk-nummer
A12: Tekenbevoegde contract
A13: Functie
A15: Contactpersoon aanbesteding
A16: Postadres kantoor
A17: PC + woonplaats kantoor
A18: Mobiel nummer contactpersoon aanbesteding
A19: E-mail adres contactpersoon aanbesteding
A21: Invulinstructie:
A22: Inschrijver dient bij het invullen van het Prijzenblad rekening te houden met de volgende aspecten:
... A29: De prijzen zijn inclusief alle kosten zoals (niet limitatief), (arbeids-)middelen, vervoerskosten, winst en overhead, kwaliteitskeuringen, (her)opleidingen.

Sheet Totaalblad
A1: Totaalblad
A9: Prijzen vaste jaren
A10: Multifunctionals | B10: Aantal | C10: Prijs per maand | D10: Totaal inschrijfprijs (84 maanden)
A11: MFP 1 | B11: 75 | C11: ='Prijzenblad Multifunctionals'!B13 -> 0 | D11: =B11*C11*84 -> 0
A12: MFP 2 | B12: 148 | C12: ='Prijzenblad Multifunctionals'!E13 -> 0 | D12: =B12*C12*84 -> 0
A13: MFP 3 | B13: 132 | C13: ='Prijzenblad Multifunctionals'!H13 -> 0 | D13: =B13*C13*84 -> 0
A14: Finisher | B14: 12 | C14: ='Prijzenblad Multifunctionals'!H10 -> 0 | D14: =B14*C14*84 -> 0
A16: Prijzen Optiejaren
A17: Multifunctionals | B17: Aantal | C17: Prijs per maand | D17: Totaal inschrijfprijs (12 maanden)
A18: MFP 1 | B18: 75 | C18: ='Prijzenblad Multifunctionals'!B22 -> 0 | D18: =B18*C18*12 -> 0
A19: MFP 2 | B19: 148 | C19: ='Prijzenblad Multifunctionals'!E22 -> 0 | D19: =B19*C19*12 -> 0
A20: MFP 3 | B20: 132 | C20: ='Prijzenblad Multifunctionals'!H22 -> 0 | D20: =B20*C20*12 -> 0
A21: Finisher | B21: 12 | C21: ='Prijzenblad Multifunctionals'!H10 -> 0 | D21: =B21*C21*12 -> 0
A23: Prijzen vaste jaren
A24: Multifunctionals | B24: Aantal | C24: Prijs per maand | D24: Totaal inschrijfprijs (84 maanden)
A25: Repro 1 | B25: 15 | C25: ='Prijzenblad Repro''s'!B10 -> 0 | D25: =B25*C25*84 -> 0
A26: Repro 2 | B26: 22 | C26: ='Prijzenblad Repro''s'!E10 -> 0 | D26: =B26*C26*84 -> 0
A27: Repro 3 | B27: 2 | C27: ='Prijzenblad Repro''s'!H10 -> 0 | D27: =B27*C27*84 -> 0
A29: Prijzen Optiejaren
A30: Multifunctionals | B30: Aantal | C30: Prijs per maand | D30: Totaal inschrijfprijs (12 maanden)
A31: Repro 1 | B31: 15 | C31: ='Prijzenblad Repro''s'!B17 -> 0 | D31: =B31*C31*12 -> 0
A32: Repro 2 | B32: 22 | C32: ='Prijzenblad Repro''s'!E17 -> 0 | D32: =B32*C32*12 -> 0
A33: Repro 3 | B33: 2 | C33: ='Prijzenblad Repro''s'!H17 -> 0 | D33: =B33*C33*12 -> 0
A35: Afdrukken
A36: Afdrukken | C36: Prijs per jaar | D36: Totaal inschrijfprijs (7 Jaar)
A37: Afdrukken zwart/wit en kleur | C37: ='Prijzenblad verbruiksgoederen'!D7 -> 0 | D37: =C37*7 -> 0
A39: Implementatiekosten
C40: Prijs totaal | D40: Totaal inschrijfprijs
A41: Implementatiekosten | C41: ='Prijzenblad verbruiksgoederen'!B16 -> 0 | D41: =C41 -> 0
A43: Papier
C44: Prijs totaal | D44: Totaal inschrijfprijs (7 jaar)
A45: Papierkosten | C45: ='Prijzenblad verbruiksgoederen'!D13 -> 0 | D45: =C45*7 -> 0
A47: Totaal inschrijfprijs | D47: =D11+D12+D13+D18+D19+D20+D25+D26+D27+D31+D32+D33+D37+D41 -> 0

Sheet Prijzenblad Multifunctionals
A1: Prijzenblad Multifunctionals
A4: MFP 1 | D4: MFP 2 | G4: MFP 3
A5: Aangeboden machine | D5: Aangeboden machine | G5: Aangeboden machine
A7: Prijzen vaste jaren | B7: prijs per maand | D7: Prijzen vaste jaren | E7: prijs per maand | G7: Prijzen vaste jaren | H7: prijs per maand
A8: Huurprijs per maand, op basis van 84 maanden | D8: Huurprijs per maand, op basis van 84 maanden | G8: Huurprijs per maand, op basis van 84 maanden
A9: Software licentie, op basis van 84 maanden | D9: Software licentie, op basis van 84 maanden | G9: Software licentie, op basis van 84 maanden
G10: Optioneel: Finisher
A13: Totaal prijs per maand | B13: =SUM(B8:B10) -> 0 | D13: Totaal prijs per maand | E13: =SUM(E8:E12) -> 0 | G13: Totaal prijs per maand | H13: =SUM(H8:H9) -> 0
A16: Prijzen optie jaren | B16: prijs per maand | D16: Prijzen optie jaren | E16: prijs per maand | G16: Prijzen optie jaren | H16: prijs per maand
A17: Huurprijs per maand, op basis van 12 maanden | D17: Huurprijs per maand, op basis van 12 maanden | G17: Huurprijs per maand, op basis van 12 maanden
A18: Software licentie, op basis van 12 maanden | D18: Software licentie, op basis van 12 maanden | G18: Software licentie, op basis van 12 maanden
G19: Optioneel: Finisher
A22: Totaal prijs per maand | B22: =SUM(B17:B19) -> 0 | D22: Totaal prijs per maand | E22: =SUM(E17:E21) -> 0 | G22: Totaal prijs per maand | H22: =SUM(H17:H18) -> 0

Sheet Prijzenblad Repro's
A1: Prijzenblad Repro's
A3: Repro 1 | D3: Repro 2 | G3: Repro 3
A4: Aangeboden machine | D4: Aangeboden machine | G4: Aangeboden machine
A6: Prijzen vaste jaren | B6: prijs per maand | D6: Prijzen vaste jaren | E6: prijs per maand | G6: Prijzen vaste jaren | H6: prijs per maand
A7: Huurprijs per maand, op basis van 84 maanden | D7: Huurprijs per maand, op basis van 84 maanden | G7: Huurprijs per maand, op basis van 84 maanden
A8: Software licentie, op basis van 84 maanden | D8: Software licentie, op basis van 84 maanden | G8: Software licentie, op basis van 84 maanden
A10: Totaal prijs per maand | B10: =SUM(B7:B9) -> 0 | D10: Totaal prijs per maand | E10: =SUM(E7:E9) -> 0 | G10: Totaal prijs per maand | H10: =SUM(H7:H9) -> 0
A13: Prijzen optie jaar | B13: prijs per maand | D13: Prijzen optie jaar | E13: prijs per maand | G13: Prijzen optie jaar | H13: prijs per maand
A14: Huurprijs per maand, op basis van 12 maanden | D14: Huurprijs per maand, op basis van 12 maanden | G14: Huurprijs per maand, op basis van 12 maanden
A15: Software licentie, op basis van 12 maanden | D15: Software licentie, op basis van 12 maanden | G15: Software licentie, op basis van 12 maanden
A17: Totaal prijs per maand | B17: =SUM(B14:B16) -> 0 | D17: Totaal prijs per maand | E17: =SUM(E14:E16) -> 0 | G17: Totaal prijs per maand | H17: =SUM(H14:H16) -> 0

Sheet Prijzenblad verbruiksgoederen
A1: Prijzenblad verbruiksgoederen
A3: Afdrukken
C4: Aantal tellertikken per jaar | D4: Totale afdrukkosten per jaar
A5: Prijs per tellertik Zwart Wit | C5: 26300000 | D5: =B5*C5 -> 0
A6: Prijs per tellertik Kleur | C6: 15900000 | D6: =B6*C6 -> 0
A7: Totaal | D7: =SUM(D5:D6) -> 0
A9: Papier
B10: Prijs per pak, 500 vel | C10: Aantal per jaar | D10: Totaal kosten papier per jaar
A11: Papier A4, wit, 80 grams | C11: 34000 | D11: =B11*C11 -> 0
A12: Papier A3, wit, 80 grams | C12: 2500 | D12: =B12*C12 -> 0
A13: Totaal | D13: =SUM(D11:D12) -> 0
A15: Implementatiekosten
A16: Totale implementatiekosten
