Workbook
Name Aanpassing_frequenties: Productienormen!$A$22:$D$36
Name Arbeidsprestatie: Productienormen!#REF!
Name cat_omschrijving: Productienormen!$A$14:$D$20
Name Frequentie_omschrijving: Productienormen!$A$23:$B$36
Name Frequenties: Productienormen!$A$23:$A$36
Name Glas: Tarieven!$A$50:$D$54
Name Legenda_vloerafwerking: Productienormen!$A$6:$B$10
Name Rekentarief: Tarieven!$D$46
Name rekentarief150: Tarieven!$G$46
Name Rekentarief30: Tarieven!$E$46
Name Rekentarief50: Tarieven!$F$46
Name Ruimte_code: Productienormen!$A$14:$A$20
Name Vloer_code: Productienormen!$A$6:$A$10
Name Vloeronderhoud: Tarieven!$A$56:$D$58

Sheet Overzicht locaties
A1: Totaaloverzicht locaties Bevolkingsonderzoek Nederland
L2: Kantoorpand
A3: Regio | B3: Gebouw # | C3: Loc.code | D3: Locatie | E3: Soort locatie | F3: Adres | G3: Postcode | H3: Plaats | I3: Aantal medewerkers BVO NL | J3: Bezetting medewerkers BVO NL | L3: Kantoorpand + vaste screeningseenheid
A4: Zuid | B4: 1 | C4: CE18 | D4: Vestiging Maastricht | E4: Kantoorpand | F4: Australiëlaan 12 | G4: 6199 AA | H4: Maastricht | L4: Vaste screeningseenheid
A5: Zuid | B5: 2 | C5: CE05 | D5: Vestiging Venlo | E5: Kantoorpand | F5: Ruijsstraat 86 | G5: 5921 VR | H5: Venlo | L5: Screeningseenheid, type B
A6: Zuid | B6: 3 | C6: CE01 + SE31 | D6: Vestiging Breda | E6: Kantoorpand + vaste screeningseenheid | F6: Bijster 16 | G6: 4817 HX | H6: Breda | L6: Screeningseenheid, type A
A7: Zuid | B7: 4 | C7: CE03 + SE25 | D7: Vestiging Eindhoven | E7: Kantoorpand + vaste screeningseenheid | F7: Larixplein 5 | G7: 5616 VB | H7: Eindhoven | L7: Screeningseenheid, overig
A8: Zuid | B8: 5 | C8: SE29 | D8: Screeningseenheid | E8: Screeningseenheid, type B | F8: Variabel | G8: Variabel | H8: Venlo | L8: Screeningseenheid, type Smit
A9: Zuid | B9: 6 | C9: SE30 | D9: Screeningseenheid | E9: Screeningseenheid, type B | F9: Variabel | G9: Variabel | H9: De Peel
A10: Zuid | B10: 7 | C10: SE32 | D10: Screeningseenheid | E10: Screeningseenheid, type B | F10: Variabel | G10: Variabel | H10: Oss
A11: Zuid | B11: 8 | C11: SE27 | D11: Screeningseenheid | E11: Screeningseenheid, type B | F11: Variabel | G11: Variabel | H11: Tilburg
A12: Zuid | B12: 9 | C12: SE28 | D12: Screeningseenheid | E12: Screeningseenheid, type B | F12: Variabel | G12: Variabel | H12: De Biesbosch
A13: Zuid | B13: 10 | C13: SE88 | D13: Screeningseenheid | E13: Screeningseenheid, type B | F13: Variabel | G13: Variabel | H13: Roosendaal
A14: Zuid | B14: 11 | C14: SE26 | D14: Screeningseenheid | E14: Screeningseenheid, type B | F14: Variabel | G14: Variabel | H14: De Kempen
A15: Zuid | B15: 12 | C15: SE91 | D15: Screeningseenheid | E15: Screeningseenheid, type Smit | F15: Variabel | G15: Variabel | H15: De Meijerij
A16: Zuid | B16: 13 | C16: SE89 | D16: Screeningseenheid | E16: Screeningseenheid, type B | F16: Variabel | G16: Variabel | H16: Den Bosch
A17: Zuid | B17: 14 | C17: SE71 | D17: Screeningseenheid | E17: Screeningseenheid, type B | F17: Variabel | G17: Variabel | H17: Weert
A18: Zuid | B18: 15 | C18: SE72 | D18: Screeningseenheid | E18: Screeningseenheid, type B | F18: Variabel | G18: Variabel | H18: Sittard
A19: Zuid | B19: 16 | C19: SE73 | D19: Screeningseenheid | E19: Screeningseenheid, type B | F19: Variabel | G19: Variabel | H19: Heerlen
A20: Zuid | B20: 17 | C20: SE81 | D20: Screeningseenheid | E20: Screeningseenheid, type B | F20: Variabel | G20: Variabel | H20: Maastricht
... A38: Midden-West | B38: 35 | C38: CE XX | D38: Vestiging Amsterdam | E38: Kantoorpand | F38: Hoogoorddreef 54-E | G38: 1101BE | H38: Amsterdam
A39: Midden-West | B39: 36 | C39: Utr. | D39: Vestiging Utrecht | E39: Kantoorpand | F39: Godebalkwartier 435 | H39: Utrecht
A40: Midden-West | B40: 37 | C40: SE33 | D40: Vaste screeningseenheid | E40: Vaste screeningseenheid | F40: Amstelboulevard 134/ 138 | G40: 1096 HL | H40: Amsterdam
A41: Midden-West | B41: 38 | C41: SE19 | D41: Vaste screeningseenheid | E41: Vaste screeningseenheid | F41: Stationsplein 91 | G41: 3511ED | H41: Utrecht
A42: Midden-West | B42: 39 | C42: Type B | D42: Screeningseenheid | E42: Screeningseenheid, type B | F42: Variabel | G42: Variabel | H42: ?
A43: Midden-West | B43: 40 | C43: Type B | D43: Screeningseenheid | E43: Screeningseenheid, type B | F43: Variabel | G43: Variabel | H43: ?
A44: Midden-West | B44: 41 | C44: Type B | D44: Screeningseenheid | E44: Screeningseenheid, type B | F44: Variabel | G44: Variabel | H44: ?
A45: Midden-West | B45: 42 | C45: Type B | D45: Screeningseenheid | E45: Screeningseenheid, type B | F45: Variabel | G45: Variabel | H45: ?
A46: Midden-West | B46: 43 | C46: Type B | D46: Screeningseenheid | E46: Screeningseenheid, type B | F46: Variabel | G46: Variabel | H46: ?
A47: Midden-West | B47: 44 | C47: Type B | D47: Screeningseenheid | E47: Screeningseenheid, type B | F47: Variabel | G47: Variabel | H47: ?
A48: Midden-West | B48: 45 | C48: Type B | D48: Screeningseenheid | E48: Screeningseenheid, type B | F48: Variabel | G48: Variabel | H48: ?
A49: Midden-West | B49: 46 | C49: Type B | D49: Screeningseenheid | E49: Screeningseenheid, type B | F49: Variabel | G49: Variabel | H49: ?
A50: Midden-West | B50: 47 | C50: Type B | D50: Screeningseenheid | E50: Screeningseenheid, type B | F50: Variabel | G50: Variabel | H50: ?
A51: Midden-West | B51: 48 | C51: Type B | D51: Screeningseenheid | E51: Screeningseenheid, type B | F51: Variabel | G51: Variabel | H51: ?
... A79: Oost | B79: 76 | C79: Type B | D79: Screeningseenheid | E79: Screeningseenheid, type B | F79: Variabel | G79: Variabel | H79: ?
B80: * Voorbeeld. Aantal medewerkers 2 / 19. 2 Medewerkers zijn 5 dagen per week aanwezig (zie kolom bezetting). 19 medewerkers zijn min.1x per week + ad hoc aanwezig.

Sheet Tarieven
A1: Inschrijver vult de geel gearceerde cellen in.
A4: Tariefsopbouw
A5: Regulier = (werkdagen 6.00 - 21.30)
A6: Nacht = (werkdagen 21.30 - 6.00) | E6: Bijzondere uren
A7: Weekend = (vr. 21.30 - ma. 6.00) | D7: Regulier | E7: Nacht | F7: Weekend | G7: Feestdagen
A8: A: Personeelskosten Basisuurloon: loonroep 1 | B8: Inzet (uren) | C8: Uurloon 1-1-2023 | D8: Gemiddeld loonbedrag | E8: +30 | F8: +50 | G8: +150
A9: 0 dienstjaren | B9: 0 | C9: 0 | D9: =C9*B9 -> 0 | E9: =D9*1.3 -> 0 | F9: =D9*1.5 -> 0 | G9: =D9*2.5 -> 0
A10: 1 dienstjaren | B10: 0 | C10: 0 | D10: =C10*B10 -> 0 | E10: =D10*1.3 -> 0 | F10: =D10*1.5 -> 0 | G10: =D10*2.5 -> 0
A11: 2 dienstjaren | B11: 0 | C11: 0 | D11: =C11*B11 -> 0 | E11: =D11*1.3 -> 0 | F11: =D11*1.5 -> 0 | G11: =D11*2.5 -> 0
A12: 3 dienstjaren | B12: 0 | C12: 0 | D12: =C12*B12 -> 0 | E12: =D12*1.3 -> 0 | F12: =D12*1.5 -> 0 | G12: =D12*2.5 -> 0
A13: 4 dienstjaren of meer | B13: 0 | C13: 0 | D13: =C13*B13 -> 0 | E13: =D13*1.3 -> 0 | F13: =D13*1.5 -> 0 | G13: =D13*2.5 -> 0
A14: Jeugd (<22 jaar) | B14: 0 | C14: 0 | D14: =C14*B14 -> 0 | E14: =D14*1.3 -> 0 | F14: =D14*1.5 -> 0 | G14: =D14*2.5 -> 0
A15: Over te nemen personeel | B15: 0 | C15: 0 | D15: =C15*B15 -> 0 | E15: =D15*1.3 -> 0 | F15: =D15*1.5 -> 0 | G15: =D15*2.5 -> 0
A16: Gemiddeld basisuurloon | B16: =SUM(B9:B15) -> 0 | D16: =SUM(D9:D15) -> 0 | E16: =SUM(E9:E15) -> 0 | F16: =SUM(F9:F15) -> 0 | G16: =SUM(G9:G15) -> 0
B18: Inzet (uren) | C18: % | D18: Euro
A19: Eindejaarsuitkering | C19: 0 | D19: =D$16*$C19 -> 0 | E19: =E$16*$C19 -> 0 | F19: =F$16*$C19 -> 0 | G19: =G$16*$C19 -> 0
A20: Vakantietoeslag | C20: 0 | D20: =D$16*$C20 -> 0 | E20: =E$16*$C20 -> 0 | F20: =F$16*$C20 -> 0 | G20: =G$16*$C20 -> 0
A21: Wettelijke sociale lasten | C21: 0 | D21: =D$16*$C21 -> 0 | E21: =E$16*$C21 -> 0 | F21: =F$16*$C21 -> 0 | G21: =G$16*$C21 -> 0
A22: Suppletie ziekengeld | C22: 0 | D22: =D$16*$C22 -> 0 | E22: =E$16*$C22 -> 0 | F22: =F$16*$C22 -> 0 | G22: =G$16*$C22 -> 0
A23: Vakantiedagen, -toeslag, feestdagen | C23: 0 | D23: =D$16*$C23 -> 0 | E23: =E$16*$C23 -> 0 | F23: =F$16*$C23 -> 0 | G23: =G$16*$C23 -> 0
A24: overig | C24: 0 | D24: =D$16*$C24 -> 0 | E24: =E$16*$C24 -> 0 | F24: =F$16*$C24 -> 0 | G24: =G$16*$C24 -> 0
A25: Totaal loonkosten per uur inclusief toeslagen | D25: =SUM(D16:D24) -> 0 | E25: =SUM(E16:E24) -> 0 | F25: =SUM(F16:F24) -> 0 | G25: =SUM(G16:G24) -> 0
A27: B: Materialen en middelen | D27: Euro
A28: Materiaalkosten | D28: 0 | E28: =D28 -> 0 | F28: =E28 -> 0 | G28: =F28 -> 0
A29: Zakken | D29: 0 | E29: =D29 -> 0 | F29: =E29 -> 0 | G29: =F29 -> 0
A30: Machinekosten | D30: 0 | E30: 0 | F30: 0 | G30: 0
A31: Totaal kosten materialen en middelen per uur | D31: =SUM(D28:D30) -> 0 | E31: =SUM(E28:E30) -> 0 | F31: =SUM(F28:F30) -> 0 | G31: =SUM(G28:G30) -> 0
A33: Totaal directe kosten (A+B) | D33: =D31+D25 -> 0 | E33: =E31+E25 -> 0 | F33: =F31+F25 -> 0 | G33: =G31+G25 -> 0
A35: C: Indirecte kosten | D35: Euro
A36: Direct toezicht | D36: 0 | E36: 0 | F36: 0 | G36: 0
A37: Indirect toezicht | D37: 0 | E37: =D37 -> 0 | F37: =E37 -> 0 | G37: =F37 -> 0
A38: Management kosten | D38: 0 | E38: =D38 -> 0 | F38: =E38 -> 0 | G38: =F38 -> 0
A39: Administratiekosten | D39: 0 | E39: =D39 -> 0 | F39: =E39 -> 0 | G39: =F39 -> 0
A40: PZ-kosten inlcusief opleiding | D40: 0 | E40: =D40 -> 0 | F40: =E40 -> 0 | G40: =F40 -> 0
A41: Huisvestingskosten | D41: 0 | E41: =D41 -> 0 | F41: =E41 -> 0 | G41: =F41 -> 0
A42: Risico en winst | D42: 0 | E42: =D42 -> 0 | F42: =E42 -> 0 | G42: =F42 -> 0
A43: overig | D43: 0 | E43: 0 | F43: 0 | G43: 0
A44: Totaal indirecte kosten | D44: =SUM(D36:D43) -> 0 | E44: =SUM(E36:E43) -> 0 | F44: =SUM(F36:F43) -> 0 | G44: =SUM(G36:G43) -> 0
A46: Rekentarief (tevens tbv regiewerkzaamheden) | D46: =(D44+D33) -> 0 | E46: =(E44+E33) -> 0 | F46: =(F44+F33) -> 0 | G46: =(G44+G33) -> 0
C47: 24.996023
...

Sheet Productienormen
B1: Inschrijver vult de geel gearceerde cellen in.
A3: Vloerafwerking en aanpassing frequenties
A5: Legenda vloerafwerking
A6: 1 | B6: Vloerafwerking met polymeer beschermlaag
A7: 2 | B7: Harde vloeren zonder extra behandeling
A8: 3 | B8: Harde vloer zonder polymeer beschermlaag, met behandeling
A9: 4 | B9: Tapijt
A10: 5 | B10: Hout
A13: Ruimte categorie | C13: VSR | D13: AQL
A14: nio | B14: niet in onderhoud
A15: 1 | B15: Kantoorruimte / vergaderruimte | C15: Bureau | D15: AQL 7%
A16: 2 | B16: Sanitaire ruimte | C16: Sanitair | D16: AQL 4%
A17: 3 | B17: Verkeersruimte / Garderobe / Wachtruimte | C17: Verkeer | D17: AQL 7%
A18: 4 | B18: Medische ruimte | C18: Behandel | D18: AQL 3%
A19: 5 | B19: Pantry / keuken / koffie / restaurant | C19: Verkeer | D19: AQL 7%
A20: 6 | B20: Overig / Magazijn / Archief / Berging / Technische ruimte | C20: Verkeer | D20: AQL 7%
A22: Aanpassing frequenties | C22: Freq/jaar | D22: Aanpassing
A23: 10w | B23: 5 x per week plus naloopronde | C23: 255 | D23: 0
A24: 5w | B24: 5 x per week | C24: 255 | D24: 1
A25: 4w | B25: 4 x per week | C25: =4*52 -> 208 | D25: 0
A26: 3w | B26: 3 x per week | C26: 156 | D26: 0
A27: 2w | B27: 2 x per week | C27: 104 | D27: 0
A28: 1w | B28: 1x per week | C28: 52 | D28: 0
A29: 2m | B29: 2x per maand | C29: 24 | D29: 0
A30: 26j | B30: om de week | C30: 26 | D30: 0
A31: 1m | B31: 1 x per maand | C31: 12 | D31: 0
A32: 6j | B32: 6 x per jaar | C32: 6 | D32: 0
A33: 4j | B33: 4 x per jaar | C33: 4 | D33: 0
A34: 3j | B34: 3 x per jaar | C34: 3 | D34: 0
A35: 2j | B35: 2 x per jaar | C35: 2 | D35: 0
A36: 1j | B36: 1 x per jaar | C36: 1 | D36: 0

Sheet Ruimtegegevens
B1: Inschrijver vult de geel gearceerde cellen in.
A3: Ruimtegegevens | O3: Frequentie | T3: VSR | Y3: Regulier (werkdagen 6.00 - 21.30) | AB3: Nacht (werkdagen 21.30 - 6.00)) | AE3: Weekend (vr. 21.30 - ma. 6.00) | AH3: Feestdagen | AK3: Totaal
A4: Gebouw # | B4: Locatie | C4: Etage | D4: Ruimtenummer | E4: Ruimtenaam | F4: Ruimte categorie | G4: Omschrijving | H4: Vloerafwerking | I4: Vloercode | J4: Omschrijving | K4: Totaal Oppervlak | L4: Oppervlak i.o. | M4: Oppervlak n.i.o | O4: Regulier | P4: Nacht | Q4: Weekend | R4: Feestdag | T4: Cat. | U4: Norm | W4: Prestatie m2/uur | Y4: Uren / jaar | Z4: Kosten / jaar (excl. BTW) | AB4: Uren / jaar | AC4: Kosten / jaar (excl. BTW) | AE4: Uren / jaar | AF4: Kosten / jaar (excl. BTW) | AH4: Uren / jaar | AI4: Kosten / jaar (excl. BTW) | AK4: Uren / jaar | AL4: Kosten / jaar (excl. BTW)
A5: 1 | B5: =VLOOKUP(A5,'Overzicht locaties'!B:D,2,0) -> CE18 | C5: Begane grond | D5: geen nummer | E5: Berging schoonmaak | F5: 6 | G5: =VLOOKUP(F5,cat_omschrijving,2,0) -> Overig / Magazijn / Archief / Berging / Technische ruimte | H5: Tegel | I5: 2 | J5: =VLOOKUP(I5,Legenda_vloerafwerking,2,0) -> Harde vloeren zonder extra behandeling | K5: 5.86 | L5: =K5-M5 -> 5.86 | M5: =IF(F5="nio",K5,0) -> 0 | O5: 5w | T5: =IF(F5="nio","_",VLOOKUP(F5,cat_omschrijving,3,0)) -> Verkeer | U5: =IF(F5="nio","_",VLOOKUP(F5,cat_omschrijving,4,0)) -> AQL 7% | W5: 100 | Y5: =IF(F5="nio","_",(L5/W5)*VLOOKUP(O5,Aanpassing_frequenties,3,0)) -> 14.943 | Z5: =IF(F5="nio","_",Y5*Rekentarief) -> 0 | AB5: =IF(OR($F5="nio",P5=""),"_",($L5/$W5)*VLOOKUP(P5,Aanpassing_frequenties,3,0)) -> _ | AC5: =IF(OR($F5="nio",P5=""),"_",AB5*Rekentarief30) -> _ | AE5: =IF(OR($F5="nio",Q5=""),"_",($L5/$W5)*VLOOKUP(Q5,Aanpassing_frequenties,3,0)) -> _ | AF5: =IF(OR($F5="nio",Q5=""),"_",AE5*Rekentarief50) -> _ | AH5: =IF(OR($F5="nio",R5=""),"_",($L5/$W5)*VLOOKUP(R5,Aanpassing_frequenties,3,0)) -> _ | AI5: =IF(OR($F5="nio",R5=""),"_",AH5*rekentarief150) -> _ | AK5: =IF(F5="nio","_",SUM(Y5,AB5,AE5,AH5)) -> 14.943 | AL5: =IF(F5="nio","_",SUM(Z5,AC5,AF5,AI5)) -> 0
A6: 1 | B6: =VLOOKUP(A6,'Overzicht locaties'!B:D,2,0) -> CE18 | C6: Begane grond | D6: 1 | E6: Financien | F6: 1 | G6: =VLOOKUP(F6,cat_omschrijving,2,0) -> Kantoorruimte / vergaderruimte | H6: Tapijt | I6: 4 | J6: =VLOOKUP(I6,Legenda_vloerafwerking,2,0) -> Tapijt | K6: 31.12 | L6: =K6-M6 -> 31.12 | M6: =IF(F6="nio",K6,0) -> 0 | O6: 5w | T6: =IF(F6="nio","_",VLOOKUP(F6,cat_omschrijving,3,0)) -> Bureau | U6: =IF(F6="nio","_",VLOOKUP(F6,cat_omschrijving,4,0)) -> AQL 7% | W6: 100 | Y6: =IF(F6="nio","_",(L6/W6)*VLOOKUP(O6,Aanpassing_frequenties,3,0)) -> 79.356 | Z6: =IF(F6="nio","_",Y6*Rekentarief) -> 0 | AB6: =IF(OR($F6="nio",P6=""),"_",($L6/$W6)*VLOOKUP(P6,Aanpassing_frequenties,3,0)) -> _ | AC6: =IF(OR($F6="nio",P6=""),"_",AB6*Rekentarief30) -> _ | AE6: =IF(OR($F6="nio",Q6=""),"_",($L6/$W6)*VLOOKUP(Q6,Aanpassing_frequenties,3,0)) -> _ | AF6: =IF(OR($F6="nio",Q6=""),"_",AE6*Rekentarief50) -> _ | AH6: =IF(OR($F6="nio",R6=""),"_",($L6/$W6)*VLOOKUP(R6,Aanpassing_frequenties,3,0)) -> _ | AI6: =IF(OR($F6="nio",R6=""),"_",AH6*rekentarief150) -> _ | AK6: =IF(F6="nio","_",SUM(Y6,AB6,AE6,AH6)) -> 79.356 | AL6: =IF(F6="nio","_",SUM(Z6,AC6,AF6,AI6)) -> 0
A7: 1 | B7: =VLOOKUP(A7,'Overzicht locaties'!B:D,2,0) -> CE18 | C7: Begane grond | D7: 2 | E7: Secretariaat | F7: 1 | G7: =VLOOKUP(F7,cat_omschrijving,2,0) -> Kantoorruimte / vergaderruimte | H7: Tapijt | I7: 4 | J7: =VLOOKUP(I7,Legenda_vloerafwerking,2,0) -> Tapijt | K7: 38.01 | L7: =K7-M7 -> 38.01 | M7: =IF(F7="nio",K7,0) -> 0 | O7: 5w | T7: =IF(F7="nio","_",VLOOKUP(F7,cat_omschrijving,3,0)) -> Bureau | U7: =IF(F7="nio","_",VLOOKUP(F7,cat_omschrijving,4,0)) -> AQL 7% | W7: 100 | Y7: =IF(F7="nio","_",(L7/W7)*VLOOKUP(O7,Aanpassing_frequenties,3,0)) -> 96.9255 | Z7: =IF(F7="nio","_",Y7*Rekentarief) -> 0 | AB7: =IF(OR($F7="nio",P7=""),"_",($L7/$W7)*VLOOKUP(P7,Aanpassing_frequenties,3,0)) -> _ | AC7: =IF(OR($F7="nio",P7=""),"_",AB7*Rekentarief30) -> _ | AE7: =IF(OR($F7="nio",Q7=""),"_",($L7/$W7)*VLOOKUP(Q7,Aanpassing_frequenties,3,0)) -> _ | AF7: =IF(OR($F7="nio",Q7=""),"_",AE7*Rekentarief50) -> _ | AH7: =IF(OR($F7="nio",R7=""),"_",($L7/$W7)*VLOOKUP(R7,Aanpassing_frequenties,3,0)) -> _ | AI7: =IF(OR($F7="nio",R7=""),"_",AH7*rekentarief150) -> _ | AK7: =IF(F7="nio","_",SUM(Y7,AB7,AE7,AH7)) -> 96.9255 | AL7: =IF(F7="nio","_",SUM(Z7,AC7,AF7,AI7)) -> 0
A8: 1 | B8: =VLOOKUP(A8,'Overzicht locaties'!B:D,2,0) -> CE18 | C8: Begane grond | D8: 3 | E8: Staf | F8: 1 | G8: =VLOOKUP(F8,cat_omschrijving,2,0) -> Kantoorruimte / vergaderruimte | H8: Tapijt | I8: 4 | J8: =VLOOKUP(I8,Legenda_vloerafwerking,2,0) -> Tapijt | K8: 78.38 | L8: =K8-M8 -> 78.38 | M8: =IF(F8="nio",K8,0) -> 0 | O8: 5w | T8: =IF(F8="nio","_",VLOOKUP(F8,cat_omschrijving,3,0)) -> Bureau | U8: =IF(F8="nio","_",VLOOKUP(F8,cat_omschrijving,4,0)) -> AQL 7% | W8: 100 | Y8: =IF(F8="nio","_",(L8/W8)*VLOOKUP(O8,Aanpassing_frequenties,3,0)) -> 199.869 | Z8: =IF(F8="nio","_",Y8*Rekentarief) -> 0 | AB8: =IF(OR($F8="nio",P8=""),"_",($L8/$W8)*VLOOKUP(P8,Aanpassing_frequenties,3,0)) -> _ | AC8: =IF(OR($F8="nio",P8=""),"_",AB8*Rekentarief30) -> _ | AE8: =IF(OR($F8="nio",Q8=""),"_",($L8/$W8)*VLOOKUP(Q8,Aanpassing_frequenties,3,0)) -> _ | AF8: =IF(OR($F8="nio",Q8=""),"_",AE8*Rekentarief50) -> _ | AH8: =IF(OR($F8="nio",R8=""),"_",($L8/$W8)*VLOOKUP(R8,Aanpassing_frequenties,3,0)) -> _ | AI8: =IF(OR($F8="nio",R8=""),"_",AH8*rekentarief150) -> _ | AK8: =IF(F8="nio","_",SUM(Y8,AB8,AE8,AH8)) -> 199.869 | AL8: =IF(F8="nio","_",SUM(Z8,AC8,AF8,AI8)) -> 0
A9: 1 | B9: =VLOOKUP(A9,'Overzicht locaties'!B:D,2,0) -> CE18 | C9: Begane grond | D9: 4 | E9: Printer | F9: 3 | G9: =VLOOKUP(F9,cat_omschrijving,2,0) -> Verkeersruimte / Garderobe / Wachtruimte | H9: Tapijt | I9: 4 | J9: =VLOOKUP(I9,Legenda_vloerafwerking,2,0) -> Tapijt | K9: 6.59 | L9: =K9-M9 -> 6.59 | M9: =IF(F9="nio",K9,0) -> 0 | O9: 5w | T9: =IF(F9="nio","_",VLOOKUP(F9,cat_omschrijving,3,0)) -> Verkeer | U9: =IF(F9="nio","_",VLOOKUP(F9,cat_omschrijving,4,0)) -> AQL 7% | W9: 100 | Y9: =IF(F9="nio","_",(L9/W9)*VLOOKUP(O9,Aanpassing_frequenties,3,0)) -> 16.8045 | Z9: =IF(F9="nio","_",Y9*Rekentarief) -> 0 | AB9: =IF(OR($F9="nio",P9=""),"_",($L9/$W9)*VLOOKUP(P9,Aanpassing_frequenties,3,0)) -> _ | AC9: =IF(OR($F9="nio",P9=""),"_",AB9*Rekentarief30) -> _ | AE9: =IF(OR($F9="nio",Q9=""),"_",($L9/$W9)*VLOOKUP(Q9,Aanpassing_frequenties,3,0)) -> _ | AF9: =IF(OR($F9="nio",Q9=""),"_",AE9*Rekentarief50) -> _ | AH9: =IF(OR($F9="nio",R9=""),"_",($L9/$W9)*VLOOKUP(R9,Aanpassing_frequenties,3,0)) -> _ | AI9: =IF(OR($F9="nio",R9=""),"_",AH9*rekentarief150) -> _ | AK9: =IF(F9="nio","_",SUM(Y9,AB9,AE9,AH9)) -> 16.8045 | AL9: =IF(F9="nio","_",SUM(Z9,AC9,AF9,AI9)) -> 0
A10: 1 | B10: =VLOOKUP(A10,'Overzicht locaties'!B:D,2,0) -> CE18 | C10: Begane grond | D10: 5 | E10: Bestuurder | F10: 1 | G10: =VLOOKUP(F10,cat_omschrijving,2,0) -> Kantoorruimte / vergaderruimte | H10: Tapijt | I10: 4 | J10: =VLOOKUP(I10,Legenda_vloerafwerking,2,0) -> Tapijt | K10: 21.66 | L10: =K10-M10 -> 21.66 | M10: =IF(F10="nio",K10,0) -> 0 | O10: 5w | T10: =IF(F10="nio","_",VLOOKUP(F10,cat_omschrijving,3,0)) -> Bureau | U10: =IF(F10="nio","_",VLOOKUP(F10,cat_omschrijving,4,0)) -> AQL 7% | W10: 100 | Y10: =IF(F10="nio","_",(L10/W10)*VLOOKUP(O10,Aanpassing_frequenties,3,0)) -> 55.233 | Z10: =IF(F10="nio","_",Y10*Rekentarief) -> 0 | AB10: =IF(OR($F10="nio",P10=""),"_",($L10/$W10)*VLOOKUP(P10,Aanpassing_frequenties,3,0)) -> _ | AC10: =IF(OR($F10="nio",P10=""),"_",AB10*Rekentarief30) -> _ | AE10: =IF(OR($F10="nio",Q10=""),"_",($L10/$W10)*VLOOKUP(Q10,Aanpassing_frequenties,3,0)) -> _ | AF10: =IF(OR($F10="nio",Q10=""),"_",AE10*Rekentarief50) -> _ | AH10: =IF(OR($F10="nio",R10=""),"_",($L10/$W10)*VLOOKUP(R10,Aanpassing_frequenties,3,0)) -> _ | AI10: =IF(OR($F10="nio",R10=""),"_",AH10*rekentarief150) -> _ | AK10: =IF(F10="nio","_",SUM(Y10,AB10,AE10,AH10)) -> 55.233 | AL10: =IF(F10="nio","_",SUM(Z10,AC10,AF10,AI10)) -> 0
A11: 1 | B11: =VLOOKUP(A11,'Overzicht locaties'!B:D,2,0) -> CE18 | C11: Begane grond | D11: 6 | E11: CE-Maastricht | F11: 1 | G11: =VLOOKUP(F11,cat_omschrijving,2,0) -> Kantoorruimte / vergaderruimte | H11: Tapijt | I11: 4 | J11: =VLOOKUP(I11,Legenda_vloerafwerking,2,0) -> Tapijt | K11: 35.79 | L11: =K11-M11 -> 35.79 | M11: =IF(F11="nio",K11,0) -> 0 | O11: 5w | T11: =IF(F11="nio","_",VLOOKUP(F11,cat_omschrijving,3,0)) -> Bureau | U11: =IF(F11="nio","_",VLOOKUP(F11,cat_omschrijving,4,0)) -> AQL 7% | W11: 100 | Y11: =IF(F11="nio","_",(L11/W11)*VLOOKUP(O11,Aanpassing_frequenties,3,0)) -> 91.2645 | Z11: =IF(F11="nio","_",Y11*Rekentarief) -> 0 | AB11: =IF(OR($F11="nio",P11=""),"_",($L11/$W11)*VLOOKUP(P11,Aanpassing_frequenties,3,0)) -> _ | AC11: =IF(OR($F11="nio",P11=""),"_",AB11*Rekentarief30) -> _ | AE11: =IF(OR($F11="nio",Q11=""),"_",($L11/$W11)*VLOOKUP(Q11,Aanpassing_frequenties,3,0)) -> _ | AF11: =IF(OR($F11="nio",Q11=""),"_",AE11*Rekentarief50) -> _ | AH11: =IF(OR($F11="nio",R11=""),"_",($L11/$W11)*VLOOKUP(R11,Aanpassing_frequenties,3,0)) -> _ | AI11: =IF(OR($F11="nio",R11=""),"_",AH11*rekentarief150) -> _ | AK11: =IF(F11="nio","_",SUM(Y11,AB11,AE11,AH11)) -> 91.2645 | AL11: =IF(F11="nio","_",SUM(Z11,AC11,AF11,AI11)) -> 0
A12: 1 | B12: =VLOOKUP(A12,'Overzicht locaties'!B:D,2,0) -> CE18 | C12: Begane grond | D12: 7 | E12: Managers | F12: 1 | G12: =VLOOKUP(F12,cat_omschrijving,2,0) -> Kantoorruimte / vergaderruimte | H12: Tapijt | I12: 4 | J12: =VLOOKUP(I12,Legenda_vloerafwerking,2,0) -> Tapijt | K12: 19.06 | L12: =K12-M12 -> 19.06 | M12: =IF(F12="nio",K12,0) -> 0 | O12: 5w | T12: =IF(F12="nio","_",VLOOKUP(F12,cat_omschrijving,3,0)) -> Bureau | U12: =IF(F12="nio","_",VLOOKUP(F12,cat_omschrijving,4,0)) -> AQL 7% | W12: 100 | Y12: =IF(F12="nio","_",(L12/W12)*VLOOKUP(O12,Aanpassing_frequenties,3,0)) -> 48.603 | Z12: =IF(F12="nio","_",Y12*Rekentarief) -> 0 | AB12: =IF(OR($F12="nio",P12=""),"_",($L12/$W12)*VLOOKUP(P12,Aanpassing_frequenties,3,0)) -> _ | AC12: =IF(OR($F12="nio",P12=""),"_",AB12*Rekentarief30) -> _ | AE12: =IF(OR($F12="nio",Q12=""),"_",($L12/$W12)*VLOOKUP(Q12,Aanpassing_frequenties,3,0)) -> _ | AF12: =IF(OR($F12="nio",Q12=""),"_",AE12*Rekentarief50) -> _ | AH12: =IF(OR($F12="nio",R12=""),"_",($L12/$W12)*VLOOKUP(R12,Aanpassing_frequenties,3,0)) -> _ | AI12: =IF(OR($F12="nio",R12=""),"_",AH12*rekentarief150) -> _ | AK12: =IF(F12="nio","_",SUM(Y12,AB12,AE12,AH12)) -> 48.603 | AL12: =IF(F12="nio","_",SUM(Z12,AC12,AF12,AI12)) -> 0
A13: 1 | B13: =VLOOKUP(A13,'Overzicht locaties'!B:D,2,0) -> CE18 | C13: Begane grond | D13: 8 | E13: Printerruimte bulkprinters | F13: 3 | G13: =VLOOKUP(F13,cat_omschrijving,2,0) -> Verkeersruimte / Garderobe / Wachtruimte | H13: Tapijt | I13: 4 | J13: =VLOOKUP(I13,Legenda_vloerafwerking,2,0) -> Tapijt | K13: 13.54 | L13: =K13-M13 -> 13.54 | M13: =IF(F13="nio",K13,0) -> 0 | O13: 5w | T13: =IF(F13="nio","_",VLOOKUP(F13,cat_omschrijving,3,0)) -> Verkeer | U13: =IF(F13="nio","_",VLOOKUP(F13,cat_omschrijving,4,0)) -> AQL 7% | W13: 100 | Y13: =IF(F13="nio","_",(L13/W13)*VLOOKUP(O13,Aanpassing_frequenties,3,0)) -> 34.527 | Z13: =IF(F13="nio","_",Y13*Rekentarief) -> 0 | AB13: =IF(OR($F13="nio",P13=""),"_",($L13/$W13)*VLOOKUP(P13,Aanpassing_frequenties,3,0)) -> _ | AC13: =IF(OR($F13="nio",P13=""),"_",AB13*Rekentarief30) -> _ | AE13: =IF(OR($F13="nio",Q13=""),"_",($L13/$W13)*VLOOKUP(Q13,Aanpassing_frequenties,3,0)) -> _ | AF13: =IF(OR($F13="nio",Q13=""),"_",AE13*Rekentarief50) -> _ | AH13: =IF(OR($F13="nio",R13=""),"_",($L13/$W13)*VLOOKUP(R13,Aanpassing_frequenties,3,0)) -> _ | AI13: =IF(OR($F13="nio",R13=""),"_",AH13*rekentarief150) -> _ | AK13: =IF(F13="nio","_",SUM(Y13,AB13,AE13,AH13)) -> 34.527 | AL13: =IF(F13="nio","_",SUM(Z13,AC13,AF13,AI13)) -> 0
A14: 1 | B14: =VLOOKUP(A14,'Overzicht locaties'!B:D,2,0) -> CE18 | C14: Begane grond | D14: 9 | E14: CE-Maastricht | F14: 1 | G14: =VLOOKUP(F14,cat_omschrijving,2,0) -> Kantoorruimte / vergaderruimte | H14: Tapijt | I14: 4 | J14: =VLOOKUP(I14,Legenda_vloerafwerking,2,0) -> Tapijt | K14: 28.29 | L14: =K14-M14 -> 28.29 | M14: =IF(F14="nio",K14,0) -> 0 | O14: 5w | T14: =IF(F14="nio","_",VLOOKUP(F14,cat_omschrijving,3,0)) -> Bureau | U14: =IF(F14="nio","_",VLOOKUP(F14,cat_omschrijving,4,0)) -> AQL 7% | W14: 100 | Y14: =IF(F14="nio","_",(L14/W14)*VLOOKUP(O14,Aanpassing_frequenties,3,0)) -> 72.1395 | Z14: =IF(F14="nio","_",Y14*Rekentarief) -> 0 | AB14: =IF(OR($F14="nio",P14=""),"_",($L14/$W14)*VLOOKUP(P14,Aanpassing_frequenties,3,0)) -> _ | AC14: =IF(OR($F14="nio",P14=""),"_",AB14*Rekentarief30) -> _ | AE14: =IF(OR($F14="nio",Q14=""),"_",($L14/$W14)*VLOOKUP(Q14,Aanpassing_frequenties,3,0)) -> _ | AF14: =IF(OR($F14="nio",Q14=""),"_",AE14*Rekentarief50) -> _ | AH14: =IF(OR($F14="nio",R14=""),"_",($L14/$W14)*VLOOKUP(R14,Aanpassing_frequenties,3,0)) -> _ | AI14: =IF(OR($F14="nio",R14=""),"_",AH14*rekentarief150) -> _ | AK14: =IF(F14="nio","_",SUM(Y14,AB14,AE14,AH14)) -> 72.1395 | AL14: =IF(F14="nio","_",SUM(Z14,AC14,AF14,AI14)) -> 0
A15: 1 | B15: =VLOOKUP(A15,'Overzicht locaties'!B:D,2,0) -> CE18 | C15: Begane grond | D15: 10 | E15: Overlegruimte | F15: 1 | G15: =VLOOKUP(F15,cat_omschrijving,2,0) -> Kantoorruimte / vergaderruimte | H15: Tapijt | I15: 4 | J15: =VLOOKUP(I15,Legenda_vloerafwerking,2,0) -> Tapijt | K15: 20.84 | L15: =K15-M15 -> 20.84 | M15: =IF(F15="nio",K15,0) -> 0 | O15: 5w | T15: =IF(F15="nio","_",VLOOKUP(F15,cat_omschrijving,3,0)) -> Bureau | U15: =IF(F15="nio","_",VLOOKUP(F15,cat_omschrijving,4,0)) -> AQL 7% | W15: 100 | Y15: =IF(F15="nio","_",(L15/W15)*VLOOKUP(O15,Aanpassing_frequenties,3,0)) -> 53.142 | Z15: =IF(F15="nio","_",Y15*Rekentarief) -> 0 | AB15: =IF(OR($F15="nio",P15=""),"_",($L15/$W15)*VLOOKUP(P15,Aanpassing_frequenties,3,0)) -> _ | AC15: =IF(OR($F15="nio",P15=""),"_",AB15*Rekentarief30) -> _ | AE15: =IF(OR($F15="nio",Q15=""),"_",($L15/$W15)*VLOOKUP(Q15,Aanpassing_frequenties,3,0)) -> _ | AF15: =IF(OR($F15="nio",Q15=""),"_",AE15*Rekentarief50) -> _ | AH15: =IF(OR($F15="nio",R15=""),"_",($L15/$W15)*VLOOKUP(R15,Aanpassing_frequenties,3,0)) -> _ | AI15: =IF(OR($F15="nio",R15=""),"_",AH15*rekentarief150) -> _ | AK15: =IF(F15="nio","_",SUM(Y15,AB15,AE15,AH15)) -> 53.142 | AL15: =IF(F15="nio","_",SUM(Z15,AC15,AF15,AI15)) -> 0
A16: 1 | B16: =VLOOKUP(A16,'Overzicht locaties'!B:D,2,0) -> CE18 | C16: Begane grond | D16: 11 | E16: Radiologen | F16: 1 | G16: =VLOOKUP(F16,cat_omschrijving,2,0) -> Kantoorruimte / vergaderruimte | H16: Tapijt | I16: 4 | J16: =VLOOKUP(I16,Legenda_vloerafwerking,2,0) -> Tapijt | K16: 21.23 | L16: =K16-M16 -> 21.23 | M16: =IF(F16="nio",K16,0) -> 0 | O16: 5w | T16: =IF(F16="nio","_",VLOOKUP(F16,cat_omschrijving,3,0)) -> Bureau | U16: =IF(F16="nio","_",VLOOKUP(F16,cat_omschrijving,4,0)) -> AQL 7% | W16: 100 | Y16: =IF(F16="nio","_",(L16/W16)*VLOOKUP(O16,Aanpassing_frequenties,3,0)) -> 54.1365 | Z16: =IF(F16="nio","_",Y16*Rekentarief) -> 0 | AB16: =IF(OR($F16="nio",P16=""),"_",($L16/$W16)*VLOOKUP(P16,Aanpassing_frequenties,3,0)) -> _ | AC16: =IF(OR($F16="nio",P16=""),"_",AB16*Rekentarief30) -> _ | AE16: =IF(OR($F16="nio",Q16=""),"_",($L16/$W16)*VLOOKUP(Q16,Aanpassing_frequenties,3,0)) -> _ | AF16: =IF(OR($F16="nio",Q16=""),"_",AE16*Rekentarief50) -> _ | AH16: =IF(OR($F16="nio",R16=""),"_",($L16/$W16)*VLOOKUP(R16,Aanpassing_frequenties,3,0)) -> _ | AI16: =IF(OR($F16="nio",R16=""),"_",AH16*rekentarief150) -> _ | AK16: =IF(F16="nio","_",SUM(Y16,AB16,AE16,AH16)) -> 54.1365 | AL16: =IF(F16="nio","_",SUM(Z16,AC16,AF16,AI16)) -> 0
A17: 1 | B17: =VLOOKUP(A17,'Overzicht locaties'!B:D,2,0) -> CE18 | C17: Begane grond | D17: geen nummer | E17: Entree en verkeersruimte | F17: 3 | G17: =VLOOKUP(F17,cat_omschrijving,2,0) -> Verkeersruimte / Garderobe / Wachtruimte | H17: Tapijt | I17: 4 | J17: =VLOOKUP(I17,Legenda_vloerafwerking,2,0) -> Tapijt | K17: 46 | L17: =K17-M17 -> 46 | M17: =IF(F17="nio",K17,0) -> 0 | O17: 5w | T17: =IF(F17="nio","_",VLOOKUP(F17,cat_omschrijving,3,0)) -> Verkeer | U17: =IF(F17="nio","_",VLOOKUP(F17,cat_omschrijving,4,0)) -> AQL 7% | W17: 100 | Y17: =IF(F17="nio","_",(L17/W17)*VLOOKUP(O17,Aanpassing_frequenties,3,0)) -> 117.3 | Z17: =IF(F17="nio","_",Y17*Rekentarief) -> 0 | AB17: =IF(OR($F17="nio",P17=""),"_",($L17/$W17)*VLOOKUP(P17,Aanpassing_frequenties,3,0)) -> _ | AC17: =IF(OR($F17="nio",P17=""),"_",AB17*Rekentarief30) -> _ | AE17: =IF(OR($F17="nio",Q17=""),"_",($L17/$W17)*VLOOKUP(Q17,Aanpassing_frequenties,3,0)) -> _ | AF17: =IF(OR($F17="nio",Q17=""),"_",AE17*Rekentarief50) -> _ | AH17: =IF(OR($F17="nio",R17=""),"_",($L17/$W17)*VLOOKUP(R17,Aanpassing_frequenties,3,0)) -> _ | AI17: =IF(OR($F17="nio",R17=""),"_",AH17*rekentarief150) -> _ | AK17: =IF(F17="nio","_",SUM(Y17,AB17,AE17,AH17)) -> 117.3 | AL17: =IF(F17="nio","_",SUM(Z17,AC17,AF17,AI17)) -> 0
A18: 1 | B18: =VLOOKUP(A18,'Overzicht locaties'!B:D,2,0) -> CE18 | C18: Begane grond | D18: 12 | E18: Postkamer | F18: 1 | G18: =VLOOKUP(F18,cat_omschrijving,2,0) -> Kantoorruimte / vergaderruimte | H18: Tapijt | I18: 4 | J18: =VLOOKUP(I18,Legenda_vloerafwerking,2,0) -> Tapijt | K18: 59 | L18: =K18-M18 -> 59 | M18: =IF(F18="nio",K18,0) -> 0 | O18: 5w | T18: =IF(F18="nio","_",VLOOKUP(F18,cat_omschrijving,3,0)) -> Bureau | U18: =IF(F18="nio","_",VLOOKUP(F18,cat_omschrijving,4,0)) -> AQL 7% | W18: 100 | Y18: =IF(F18="nio","_",(L18/W18)*VLOOKUP(O18,Aanpassing_frequenties,3,0)) -> 150.45 | Z18: =IF(F18="nio","_",Y18*Rekentarief) -> 0 | AB18: =IF(OR($F18="nio",P18=""),"_",($L18/$W18)*VLOOKUP(P18,Aanpassing_frequenties,3,0)) -> _ | AC18: =IF(OR($F18="nio",P18=""),"_",AB18*Rekentarief30) -> _ | AE18: =IF(OR($F18="nio",Q18=""),"_",($L18/$W18)*VLOOKUP(Q18,Aanpassing_frequenties,3,0)) -> _ | AF18: =IF(OR($F18="nio",Q18=""),"_",AE18*Rekentarief50) -> _ | AH18: =IF(OR($F18="nio",R18=""),"_",($L18/$W18)*VLOOKUP(R18,Aanpassing_frequenties,3,0)) -> _ | AI18: =IF(OR($F18="nio",R18=""),"_",AH18*rekentarief150) -> _ | AK18: =IF(F18="nio","_",SUM(Y18,AB18,AE18,AH18)) -> 150.45 | AL18: =IF(F18="nio","_",SUM(Z18,AC18,AF18,AI18)) -> 0
A19: 1 | B19: =VLOOKUP(A19,'Overzicht locaties'!B:D,2,0) -> CE18 | C19: 1e verdieping | D19: geen nummer | E19: Pantry | F19: 5 | G19: =VLOOKUP(F19,cat_omschrijving,2,0) -> Pantry / keuken / koffie / restaurant | H19: Tegel | I19: 3 | J19: =VLOOKUP(I19,Legenda_vloerafwerking,2,0) -> Harde vloer zonder polymeer beschermlaag, met behandeling | K19: 4 | L19: =K19-M19 -> 4 | M19: =IF(F19="nio",K19,0) -> 0 | O19: 5w | T19: =IF(F19="nio","_",VLOOKUP(F19,cat_omschrijving,3,0)) -> Verkeer | U19: =IF(F19="nio","_",VLOOKUP(F19,cat_omschrijving,4,0)) -> AQL 7% | W19: 100 | Y19: =IF(F19="nio","_",(L19/W19)*VLOOKUP(O19,Aanpassing_frequenties,3,0)) -> 10.2 | Z19: =IF(F19="nio","_",Y19*Rekentarief) -> 0 | AB19: =IF(OR($F19="nio",P19=""),"_",($L19/$W19)*VLOOKUP(P19,Aanpassing_frequenties,3,0)) -> _ | AC19: =IF(OR($F19="nio",P19=""),"_",AB19*Rekentarief30) -> _ | AE19: =IF(OR($F19="nio",Q19=""),"_",($L19/$W19)*VLOOKUP(Q19,Aanpassing_frequenties,3,0)) -> _ | AF19: =IF(OR($F19="nio",Q19=""),"_",AE19*Rekentarief50) -> _ | AH19: =IF(OR($F19="nio",R19=""),"_",($L19/$W19)*VLOOKUP(R19,Aanpassing_frequenties,3,0)) -> _ | AI19: =IF(OR($F19="nio",R19=""),"_",AH19*rekentarief150) -> _ | AK19: =IF(F19="nio","_",SUM(Y19,AB19,AE19,AH19)) -> 10.2 | AL19: =IF(F19="nio","_",SUM(Z19,AC19,AF19,AI19)) -> 0
A20: 1 | B20: =VLOOKUP(A20,'Overzicht locaties'!B:D,2,0) -> CE18 | C20: 1e verdieping | D20: 13 | E20: Toiletten | F20: 2 | G20: =VLOOKUP(F20,cat_omschrijving,2,0) -> Sanitaire ruimte | H20: Tegel | I20: 3 | J20: =VLOOKUP(I20,Legenda_vloerafwerking,2,0) -> Harde vloer zonder polymeer beschermlaag, met behandeling | K20: 7.5 | L20: =K20-M20 -> 7.5 | M20: =IF(F20="nio",K20,0) -> 0 | O20: 5w | T20: =IF(F20="nio","_",VLOOKUP(F20,cat_omschrijving,3,0)) -> Sanitair | U20: =IF(F20="nio","_",VLOOKUP(F20,cat_omschrijving,4,0)) -> AQL 4% | W20: 100 | Y20: =IF(F20="nio","_",(L20/W20)*VLOOKUP(O20,Aanpassing_frequenties,3,0)) -> 19.125 | Z20: =IF(F20="nio","_",Y20*Rekentarief) -> 0 | AB20: =IF(OR($F20="nio",P20=""),"_",($L20/$W20)*VLOOKUP(P20,Aanpassing_frequenties,3,0)) -> _ | AC20: =IF(OR($F20="nio",P20=""),"_",AB20*Rekentarief30) -> _ | AE20: =IF(OR($F20="nio",Q20=""),"_",($L20/$W20)*VLOOKUP(Q20,Aanpassing_frequenties,3,0)) -> _ | AF20: =IF(OR($F20="nio",Q20=""),"_",AE20*Rekentarief50) -> _ | AH20: =IF(OR($F20="nio",R20=""),"_",($L20/$W20)*VLOOKUP(R20,Aanpassing_frequenties,3,0)) -> _ | AI20: =IF(OR($F20="nio",R20=""),"_",AH20*rekentarief150) -> _ | AK20: =IF(F20="nio","_",SUM(Y20,AB20,AE20,AH20)) -> 19.125 | AL20: =IF(F20="nio","_",SUM(Z20,AC20,AF20,AI20)) -> 0
A21: 1 | B21: =VLOOKUP(A21,'Overzicht locaties'!B:D,2,0) -> CE18 | C21: 1e verdieping | D21: 14 | E21: Toiletten | F21: 2 | G21: =VLOOKUP(F21,cat_omschrijving,2,0) -> Sanitaire ruimte | H21: Tegel | I21: 3 | J21: =VLOOKUP(I21,Legenda_vloerafwerking,2,0) -> Harde vloer zonder polymeer beschermlaag, met behandeling | K21: 7.5 | L21: =K21-M21 -> 7.5 | M21: =IF(F21="nio",K21,0) -> 0 | O21: 5w | T21: =IF(F21="nio","_",VLOOKUP(F21,cat_omschrijving,3,0)) -> Sanitair | U21: =IF(F21="nio","_",VLOOKUP(F21,cat_omschrijving,4,0)) -> AQL 4% | W21: 100 | Y21: =IF(F21="nio","_",(L21/W21)*VLOOKUP(O21,Aanpassing_frequenties,3,0)) -> 19.125 | Z21: =IF(F21="nio","_",Y21*Rekentarief) -> 0 | AB21: =IF(OR($F21="nio",P21=""),"_",($L21/$W21)*VLOOKUP(P21,Aanpassing_frequenties,3,0)) -> _ | AC21: =IF(OR($F21="nio",P21=""),"_",AB21*Rekentarief30) -> _ | AE21: =IF(OR($F21="nio",Q21=""),"_",($L21/$W21)*VLOOKUP(Q21,Aanpassing_frequenties,3,0)) -> _ | AF21: =IF(OR($F21="nio",Q21=""),"_",AE21*Rekentarief50) -> _ | AH21: =IF(OR($F21="nio",R21=""),"_",($L21/$W21)*VLOOKUP(R21,Aanpassing_frequenties,3,0)) -> _ | AI21: =IF(OR($F21="nio",R21=""),"_",AH21*rekentarief150) -> _ | AK21: =IF(F21="nio","_",SUM(Y21,AB21,AE21,AH21)) -> 19.125 | AL21: =IF(F21="nio","_",SUM(Z21,AC21,AF21,AI21)) -> 0
A22: 1 | B22: =VLOOKUP(A22,'Overzicht locaties'!B:D,2,0) -> CE18 | C22: 1e verdieping | D22: geen nummer | E22: Verkeersruimte | F22: 3 | G22: =VLOOKUP(F22,cat_omschrijving,2,0) -> Verkeersruimte / Garderobe / Wachtruimte | H22: Tapijt | I22: 4 | J22: =VLOOKUP(I22,Legenda_vloerafwerking,2,0) -> Tapijt | K22: 63.49 | L22: =K22-M22 -> 63.49 | M22: =IF(F22="nio",K22,0) -> 0 | O22: 5w | T22: =IF(F22="nio","_",VLOOKUP(F22,cat_omschrijving,3,0)) -> Verkeer | U22: =IF(F22="nio","_",VLOOKUP(F22,cat_omschrijving,4,0)) -> AQL 7% | W22: 100 | Y22: =IF(F22="nio","_",(L22/W22)*VLOOKUP(O22,Aanpassing_frequenties,3,0)) -> 161.8995 | Z22: =IF(F22="nio","_",Y22*Rekentarief) -> 0 | AB22: =IF(OR($F22="nio",P22=""),"_",($L22/$W22)*VLOOKUP(P22,Aanpassing_frequenties,3,0)) -> _ | AC22: =IF(OR($F22="nio",P22=""),"_",AB22*Rekentarief30) -> _ | AE22: =IF(OR($F22="nio",Q22=""),"_",($L22/$W22)*VLOOKUP(Q22,Aanpassing_frequenties,3,0)) -> _ | AF22: =IF(OR($F22="nio",Q22=""),"_",AE22*Rekentarief50) -> _ | AH22: =IF(OR($F22="nio",R22=""),"_",($L22/$W22)*VLOOKUP(R22,Aanpassing_frequenties,3,0)) -> _ | AI22: =IF(OR($F22="nio",R22=""),"_",AH22*rekentarief150) -> _ | AK22: =IF(F22="nio","_",SUM(Y22,AB22,AE22,AH22)) -> 161.8995 | AL22: =IF(F22="nio","_",SUM(Z22,AC22,AF22,AI22)) -> 0
A23: 1 | B23: =VLOOKUP(A23,'Overzicht locaties'!B:D,2,0) -> CE18 | C23: 1e verdieping | D23: geen nummer | E23: Kelder | F23: 6 | G23: =VLOOKUP(F23,cat_omschrijving,2,0) -> Overig / Magazijn / Archief / Berging / Technische ruimte | H23: Betonvloer | I23: 2 | J23: =VLOOKUP(I23,Legenda_vloerafwerking,2,0) -> Harde vloeren zonder extra behandeling | K23: 124.97 | L23: =K23-M23 -> 124.97 | M23: =IF(F23="nio",K23,0) -> 0 | O23: 1j | T23: =IF(F23="nio","_",VLOOKUP(F23,cat_omschrijving,3,0)) -> Verkeer | U23: =IF(F23="nio","_",VLOOKUP(F23,cat_omschrijving,4,0)) -> AQL 7% | W23: 100 | Y23: =IF(F23="nio","_",(L23/W23)*VLOOKUP(O23,Aanpassing_frequenties,3,0)) -> 1.2497 | Z23: =IF(F23="nio","_",Y23*Rekentarief) -> 0 | AB23: =IF(OR($F23="nio",P23=""),"_",($L23/$W23)*VLOOKUP(P23,Aanpassing_frequenties,3,0)) -> _ | AC23: =IF(OR($F23="nio",P23=""),"_",AB23*Rekentarief30) -> _ | AE23: =IF(OR($F23="nio",Q23=""),"_",($L23/$W23)*VLOOKUP(Q23,Aanpassing_frequenties,3,0)) -> _ | AF23: =IF(OR($F23="nio",Q23=""),"_",AE23*Rekentarief50) -> _ | AH23: =IF(OR($F23="nio",R23=""),"_",($L23/$W23)*VLOOKUP(R23,Aanpassing_frequenties,3,0)) -> _ | AI23: =IF(OR($F23="nio",R23=""),"_",AH23*rekentarief150) -> _ | AK23: =IF(F23="nio","_",SUM(Y23,AB23,AE23,AH23)) -> 1.2497 | AL23: =IF(F23="nio","_",SUM(Z23,AC23,AF23,AI23)) -> 0
A24: 1 | B24: =VLOOKUP(A24,'Overzicht locaties'!B:D,2,0) -> CE18 | C24: 1e verdieping | D24: geen nummer | E24: Archief | F24: 6 | G24: =VLOOKUP(F24,cat_omschrijving,2,0) -> Overig / Magazijn / Archief / Berging / Technische ruimte | H24: Betonvloer | I24: 2 | J24: =VLOOKUP(I24,Legenda_vloerafwerking,2,0) -> Harde vloeren zonder extra behandeling | K24: 56.94 | L24: =K24-M24 -> 56.94 | M24: =IF(F24="nio",K24,0) -> 0 | O24: 1j | T24: =IF(F24="nio","_",VLOOKUP(F24,cat_omschrijving,3,0)) -> Verkeer | U24: =IF(F24="nio","_",VLOOKUP(F24,cat_omschrijving,4,0)) -> AQL 7% | W24: 100 | Y24: =IF(F24="nio","_",(L24/W24)*VLOOKUP(O24,Aanpassing_frequenties,3,0)) -> 0.5694 | Z24: =IF(F24="nio","_",Y24*Rekentarief) -> 0 | AB24: =IF(OR($F24="nio",P24=""),"_",($L24/$W24)*VLOOKUP(P24,Aanpassing_frequenties,3,0)) -> _ | AC24: =IF(OR($F24="nio",P24=""),"_",AB24*Rekentarief30) -> _ | AE24: =IF(OR($F24="nio",Q24=""),"_",($L24/$W24)*VLOOKUP(Q24,Aanpassing_frequenties,3,0)) -> _ | AF24: =IF(OR($F24="nio",Q24=""),"_",AE24*Rekentarief50) -> _ | AH24: =IF(OR($F24="nio",R24=""),"_",($L24/$W24)*VLOOKUP(R24,Aanpassing_frequenties,3,0)) -> _ | AI24: =IF(OR($F24="nio",R24=""),"_",AH24*rekentarief150) -> _ | AK24: =IF(F24="nio","_",SUM(Y24,AB24,AE24,AH24)) -> 0.5694 | AL24: =IF(F24="nio","_",SUM(Z24,AC24,AF24,AI24)) -> 0
A25: 2 | B25: =VLOOKUP(A25,'Overzicht locaties'!B:D,2,0) -> CE05 | C25: 1e verdieping | D25: 1 | E25: CE Venlo | F25: 1 | G25: =VLOOKUP(F25,cat_omschrijving,2,0) -> Kantoorruimte / vergaderruimte | H25: Tapijt | I25: 4 | J25: =VLOOKUP(I25,Legenda_vloerafwerking,2,0) -> Tapijt | K25: 38.59 | L25: =K25-M25 -> 38.59 | M25: =IF(F25="nio",K25,0) -> 0 | O25: 2w | T25: =IF(F25="nio","_",VLOOKUP(F25,cat_omschrijving,3,0)) -> Bureau | U25: =IF(F25="nio","_",VLOOKUP(F25,cat_omschrijving,4,0)) -> AQL 7% | W25: 100 | Y25: =IF(F25="nio","_",(L25/W25)*VLOOKUP(O25,Aanpassing_frequenties,3,0)) -> 40.1336 | Z25: =IF(F25="nio","_",Y25*Rekentarief) -> 0 | AB25: =IF(OR($F25="nio",P25=""),"_",($L25/$W25)*VLOOKUP(P25,Aanpassing_frequenties,3,0)) -> _ | AC25: =IF(OR($F25="nio",P25=""),"_",AB25*Rekentarief30) -> _ | AE25: =IF(OR($F25="nio",Q25=""),"_",($L25/$W25)*VLOOKUP(Q25,Aanpassing_frequenties,3,0)) -> _ | AF25: =IF(OR($F25="nio",Q25=""),"_",AE25*Rekentarief50) -> _ | AH25: =IF(OR($F25="nio",R25=""),"_",($L25/$W25)*VLOOKUP(R25,Aanpassing_frequenties,3,0)) -> _ | AI25: =IF(OR($F25="nio",R25=""),"_",AH25*rekentarief150) -> _ | AK25: =IF(F25="nio","_",SUM(Y25,AB25,AE25,AH25)) -> 40.1336 | AL25: =IF(F25="nio","_",SUM(Z25,AC25,AF25,AI25)) -> 0
A26: 2 | B26: =VLOOKUP(A26,'Overzicht locaties'!B:D,2,0) -> CE05 | C26: 1e verdieping | D26: 2 | E26: CE Venlo incl. pantry | F26: 1 | G26: =VLOOKUP(F26,cat_omschrijving,2,0) -> Kantoorruimte / vergaderruimte | H26: Tapijt/vinyl | I26: 4 | J26: =VLOOKUP(I26,Legenda_vloerafwerking,2,0) -> Tapijt | K26: =(25.22 + 3.13) -> 28.35 | L26: =K26-M26 -> 28.35 | M26: =IF(F26="nio",K26,0) -> 0 | O26: 2w | T26: =IF(F26="nio","_",VLOOKUP(F26,cat_omschrijving,3,0)) -> Bureau | U26: =IF(F26="nio","_",VLOOKUP(F26,cat_omschrijving,4,0)) -> AQL 7% | W26: 100 | Y26: =IF(F26="nio","_",(L26/W26)*VLOOKUP(O26,Aanpassing_frequenties,3,0)) -> 29.484 | Z26: =IF(F26="nio","_",Y26*Rekentarief) -> 0 | AB26: =IF(OR($F26="nio",P26=""),"_",($L26/$W26)*VLOOKUP(P26,Aanpassing_frequenties,3,0)) -> _ | AC26: =IF(OR($F26="nio",P26=""),"_",AB26*Rekentarief30) -> _ | AE26: =IF(OR($F26="nio",Q26=""),"_",($L26/$W26)*VLOOKUP(Q26,Aanpassing_frequenties,3,0)) -> _ | AF26: =IF(OR($F26="nio",Q26=""),"_",AE26*Rekentarief50) -> _ | AH26: =IF(OR($F26="nio",R26=""),"_",($L26/$W26)*VLOOKUP(R26,Aanpassing_frequenties,3,0)) -> _ | AI26: =IF(OR($F26="nio",R26=""),"_",AH26*rekentarief150) -> _ | AK26: =IF(F26="nio","_",SUM(Y26,AB26,AE26,AH26)) -> 29.484 | AL26: =IF(F26="nio","_",SUM(Z26,AC26,AF26,AI26)) -> 0
A27: 2 | B27: =VLOOKUP(A27,'Overzicht locaties'!B:D,2,0) -> CE05 | C27: 1e verdieping | D27: 3 | E27: Toiletten | F27: 2 | G27: =VLOOKUP(F27,cat_omschrijving,2,0) -> Sanitaire ruimte | H27: Tegel | I27: 2 | J27: =VLOOKUP(I27,Legenda_vloerafwerking,2,0) -> Harde vloeren zonder extra behandeling | K27: =(1.23+1.23+2.59) -> 5.05 | L27: =K27-M27 -> 5.05 | M27: =IF(F27="nio",K27,0) -> 0 | O27: 2w | T27: =IF(F27="nio","_",VLOOKUP(F27,cat_omschrijving,3,0)) -> Sanitair | U27: =IF(F27="nio","_",VLOOKUP(F27,cat_omschrijving,4,0)) -> AQL 4% | W27: 100 | Y27: =IF(F27="nio","_",(L27/W27)*VLOOKUP(O27,Aanpassing_frequenties,3,0)) -> 5.252 | Z27: =IF(F27="nio","_",Y27*Rekentarief) -> 0 | AB27: =IF(OR($F27="nio",P27=""),"_",($L27/$W27)*VLOOKUP(P27,Aanpassing_frequenties,3,0)) -> _ | AC27: =IF(OR($F27="nio",P27=""),"_",AB27*Rekentarief30) -> _ | AE27: =IF(OR($F27="nio",Q27=""),"_",($L27/$W27)*VLOOKUP(Q27,Aanpassing_frequenties,3,0)) -> _ | AF27: =IF(OR($F27="nio",Q27=""),"_",AE27*Rekentarief50) -> _ | AH27: =IF(OR($F27="nio",R27=""),"_",($L27/$W27)*VLOOKUP(R27,Aanpassing_frequenties,3,0)) -> _ | AI27: =IF(OR($F27="nio",R27=""),"_",AH27*rekentarief150) -> _ | AK27: =IF(F27="nio","_",SUM(Y27,AB27,AE27,AH27)) -> 5.252 | AL27: =IF(F27="nio","_",SUM(Z27,AC27,AF27,AI27)) -> 0
A28: 2 | B28: =VLOOKUP(A28,'Overzicht locaties'!B:D,2,0) -> CE05 | C28: 1e verdieping | D28: 4 | E28: CV-ketel + schoonmaak | F28: 6 | G28: =VLOOKUP(F28,cat_omschrijving,2,0) -> Overig / Magazijn / Archief / Berging / Technische ruimte | H28: beton | I28: 2 | J28: =VLOOKUP(I28,Legenda_vloerafwerking,2,0) -> Harde vloeren zonder extra behandeling | K28: 2.67 | L28: =K28-M28 -> 2.67 | M28: =IF(F28="nio",K28,0) -> 0 | O28: 1j | T28: =IF(F28="nio","_",VLOOKUP(F28,cat_omschrijving,3,0)) -> Verkeer | U28: =IF(F28="nio","_",VLOOKUP(F28,cat_omschrijving,4,0)) -> AQL 7% | W28: 100 | Y28: =IF(F28="nio","_",(L28/W28)*VLOOKUP(O28,Aanpassing_frequenties,3,0)) -> 0.0267 | Z28: =IF(F28="nio","_",Y28*Rekentarief) -> 0 | AB28: =IF(OR($F28="nio",P28=""),"_",($L28/$W28)*VLOOKUP(P28,Aanpassing_frequenties,3,0)) -> _ | AC28: =IF(OR($F28="nio",P28=""),"_",AB28*Rekentarief30) -> _ | AE28: =IF(OR($F28="nio",Q28=""),"_",($L28/$W28)*VLOOKUP(Q28,Aanpassing_frequenties,3,0)) -> _ | AF28: =IF(OR($F28="nio",Q28=""),"_",AE28*Rekentarief50) -> _ | AH28: =IF(OR($F28="nio",R28=""),"_",($L28/$W28)*VLOOKUP(R28,Aanpassing_frequenties,3,0)) -> _ | AI28: =IF(OR($F28="nio",R28=""),"_",AH28*rekentarief150) -> _ | AK28: =IF(F28="nio","_",SUM(Y28,AB28,AE28,AH28)) -> 0.0267 | AL28: =IF(F28="nio","_",SUM(Z28,AC28,AF28,AI28)) -> 0
A29: 2 | B29: =VLOOKUP(A29,'Overzicht locaties'!B:D,2,0) -> CE05 | C29: 1e verdieping | D29: 5 | E29: Serverrruimte | F29: 6 | G29: =VLOOKUP(F29,cat_omschrijving,2,0) -> Overig / Magazijn / Archief / Berging / Technische ruimte | H29: vinyl | I29: 3 | J29: =VLOOKUP(I29,Legenda_vloerafwerking,2,0) -> Harde vloer zonder polymeer beschermlaag, met behandeling | K29: 4.99 | L29: =K29-M29 -> 4.99 | M29: =IF(F29="nio",K29,0) -> 0 | O29: 2w | T29: =IF(F29="nio","_",VLOOKUP(F29,cat_omschrijving,3,0)) -> Verkeer | U29: =IF(F29="nio","_",VLOOKUP(F29,cat_omschrijving,4,0)) -> AQL 7% | W29: 100 | Y29: =IF(F29="nio","_",(L29/W29)*VLOOKUP(O29,Aanpassing_frequenties,3,0)) -> 5.1896 | Z29: =IF(F29="nio","_",Y29*Rekentarief) -> 0 | AB29: =IF(OR($F29="nio",P29=""),"_",($L29/$W29)*VLOOKUP(P29,Aanpassing_frequenties,3,0)) -> _ | AC29: =IF(OR($F29="nio",P29=""),"_",AB29*Rekentarief30) -> _ | AE29: =IF(OR($F29="nio",Q29=""),"_",($L29/$W29)*VLOOKUP(Q29,Aanpassing_frequenties,3,0)) -> _ | AF29: =IF(OR($F29="nio",Q29=""),"_",AE29*Rekentarief50) -> _ | AH29: =IF(OR($F29="nio",R29=""),"_",($L29/$W29)*VLOOKUP(R29,Aanpassing_frequenties,3,0)) -> _ | AI29: =IF(OR($F29="nio",R29=""),"_",AH29*rekentarief150) -> _ | AK29: =IF(F29="nio","_",SUM(Y29,AB29,AE29,AH29)) -> 5.1896 | AL29: =IF(F29="nio","_",SUM(Z29,AC29,AF29,AI29)) -> 0
A30: 2 | B30: =VLOOKUP(A30,'Overzicht locaties'!B:D,2,0) -> CE05 | C30: 1e verdieping | D30: 6 | E30: Kantoor | F30: 1 | G30: =VLOOKUP(F30,cat_omschrijving,2,0) -> Kantoorruimte / vergaderruimte | H30: vinyl | I30: 3 | J30: =VLOOKUP(I30,Legenda_vloerafwerking,2,0) -> Harde vloer zonder polymeer beschermlaag, met behandeling | K30: 24.19 | L30: =K30-M30 -> 24.19 | M30: =IF(F30="nio",K30,0) -> 0 | O30: 2w | T30: =IF(F30="nio","_",VLOOKUP(F30,cat_omschrijving,3,0)) -> Bureau | U30: =IF(F30="nio","_",VLOOKUP(F30,cat_omschrijving,4,0)) -> AQL 7% | W30: 100 | Y30: =IF(F30="nio","_",(L30/W30)*VLOOKUP(O30,Aanpassing_frequenties,3,0)) -> 25.1576 | Z30: =IF(F30="nio","_",Y30*Rekentarief) -> 0 | AB30: =IF(OR($F30="nio",P30=""),"_",($L30/$W30)*VLOOKUP(P30,Aanpassing_frequenties,3,0)) -> _ | AC30: =IF(OR($F30="nio",P30=""),"_",AB30*Rekentarief30) -> _ | AE30: =IF(OR($F30="nio",Q30=""),"_",($L30/$W30)*VLOOKUP(Q30,Aanpassing_frequenties,3,0)) -> _ | AF30: =IF(OR($F30="nio",Q30=""),"_",AE30*Rekentarief50) -> _ | AH30: =IF(OR($F30="nio",R30=""),"_",($L30/$W30)*VLOOKUP(R30,Aanpassing_frequenties,3,0)) -> _ | AI30: =IF(OR($F30="nio",R30=""),"_",AH30*rekentarief150) -> _ | AK30: =IF(F30="nio","_",SUM(Y30,AB30,AE30,AH30)) -> 25.1576 | AL30: =IF(F30="nio","_",SUM(Z30,AC30,AF30,AI30)) -> 0
A31: 2 | B31: =VLOOKUP(A31,'Overzicht locaties'!B:D,2,0) -> CE05 | C31: 1e verdieping | D31: 7 | E31: Overlegruimte | F31: 1 | G31: =VLOOKUP(F31,cat_omschrijving,2,0) -> Kantoorruimte / vergaderruimte | H31: vinyl | I31: 3 | J31: =VLOOKUP(I31,Legenda_vloerafwerking,2,0) -> Harde vloer zonder polymeer beschermlaag, met behandeling | K31: 25.48 | L31: =K31-M31 -> 25.48 | M31: =IF(F31="nio",K31,0) -> 0 | O31: 2w | T31: =IF(F31="nio","_",VLOOKUP(F31,cat_omschrijving,3,0)) -> Bureau | U31: =IF(F31="nio","_",VLOOKUP(F31,cat_omschrijving,4,0)) -> AQL 7% | W31: 100 | Y31: =IF(F31="nio","_",(L31/W31)*VLOOKUP(O31,Aanpassing_frequenties,3,0)) -> 26.4992 | Z31: =IF(F31="nio","_",Y31*Rekentarief) -> 0 | AB31: =IF(OR($F31="nio",P31=""),"_",($L31/$W31)*VLOOKUP(P31,Aanpassing_frequenties,3,0)) -> _ | AC31: =IF(OR($F31="nio",P31=""),"_",AB31*Rekentarief30) -> _ | AE31: =IF(OR($F31="nio",Q31=""),"_",($L31/$W31)*VLOOKUP(Q31,Aanpassing_frequenties,3,0)) -> _ | AF31: =IF(OR($F31="nio",Q31=""),"_",AE31*Rekentarief50) -> _ | AH31: =IF(OR($F31="nio",R31=""),"_",($L31/$W31)*VLOOKUP(R31,Aanpassing_frequenties,3,0)) -> _ | AI31: =IF(OR($F31="nio",R31=""),"_",AH31*rekentarief150) -> _ | AK31: =IF(F31="nio","_",SUM(Y31,AB31,AE31,AH31)) -> 26.4992 | AL31: =IF(F31="nio","_",SUM(Z31,AC31,AF31,AI31)) -> 0
A32: 2 | B32: =VLOOKUP(A32,'Overzicht locaties'!B:D,2,0) -> CE05 | C32: 1e verdieping | D32: 8 | E32: Radiologen ruimte | F32: 4 | G32: =VLOOKUP(F32,cat_omschrijving,2,0) -> Medische ruimte | H32: vinyl | I32: 3 | J32: =VLOOKUP(I32,Legenda_vloerafwerking,2,0) -> Harde vloer zonder polymeer beschermlaag, met behandeling | K32: 24.18 | L32: =K32-M32 -> 24.18 | M32: =IF(F32="nio",K32,0) -> 0 | O32: 2w | T32: =IF(F32="nio","_",VLOOKUP(F32,cat_omschrijving,3,0)) -> Behandel | U32: =IF(F32="nio","_",VLOOKUP(F32,cat_omschrijving,4,0)) -> AQL 3% | W32: 100 | Y32: =IF(F32="nio","_",(L32/W32)*VLOOKUP(O32,Aanpassing_frequenties,3,0)) -> 25.1472 | Z32: =IF(F32="nio","_",Y32*Rekentarief) -> 0 | AB32: =IF(OR($F32="nio",P32=""),"_",($L32/$W32)*VLOOKUP(P32,Aanpassing_frequenties,3,0)) -> _ | AC32: =IF(OR($F32="nio",P32=""),"_",AB32*Rekentarief30) -> _ | AE32: =IF(OR($F32="nio",Q32=""),"_",($L32/$W32)*VLOOKUP(Q32,Aanpassing_frequenties,3,0)) -> _ | AF32: =IF(OR($F32="nio",Q32=""),"_",AE32*Rekentarief50) -> _ | AH32: =IF(OR($F32="nio",R32=""),"_",($L32/$W32)*VLOOKUP(R32,Aanpassing_frequenties,3,0)) -> _ | AI32: =IF(OR($F32="nio",R32=""),"_",AH32*rekentarief150) -> _ | AK32: =IF(F32="nio","_",SUM(Y32,AB32,AE32,AH32)) -> 25.1472 | AL32: =IF(F32="nio","_",SUM(Z32,AC32,AF32,AI32)) -> 0
A33: 2 | B33: =VLOOKUP(A33,'Overzicht locaties'!B:D,2,0) -> CE05 | C33: 1e verdieping | D33: geen nummer | E33: Opslagruimte | F33: 6 | G33: =VLOOKUP(F33,cat_omschrijving,2,0) -> Overig / Magazijn / Archief / Berging / Technische ruimte | H33: tapijt | I33: 4 | J33: =VLOOKUP(I33,Legenda_vloerafwerking,2,0) -> Tapijt | K33: 21.2 | L33: =K33-M33 -> 21.2 | M33: =IF(F33="nio",K33,0) -> 0 | O33: 1j | T33: =IF(F33="nio","_",VLOOKUP(F33,cat_omschrijving,3,0)) -> Verkeer | U33: =IF(F33="nio","_",VLOOKUP(F33,cat_omschrijving,4,0)) -> AQL 7% | W33: 100 | Y33: =IF(F33="nio","_",(L33/W33)*VLOOKUP(O33,Aanpassing_frequenties,3,0)) -> 0.212 | Z33: =IF(F33="nio","_",Y33*Rekentarief) -> 0 | AB33: =IF(OR($F33="nio",P33=""),"_",($L33/$W33)*VLOOKUP(P33,Aanpassing_frequenties,3,0)) -> _ | AC33: =IF(OR($F33="nio",P33=""),"_",AB33*Rekentarief30) -> _ | AE33: =IF(OR($F33="nio",Q33=""),"_",($L33/$W33)*VLOOKUP(Q33,Aanpassing_frequenties,3,0)) -> _ | AF33: =IF(OR($F33="nio",Q33=""),"_",AE33*Rekentarief50) -> _ | AH33: =IF(OR($F33="nio",R33=""),"_",($L33/$W33)*VLOOKUP(R33,Aanpassing_frequenties,3,0)) -> _ | AI33: =IF(OR($F33="nio",R33=""),"_",AH33*rekentarief150) -> _ | AK33: =IF(F33="nio","_",SUM(Y33,AB33,AE33,AH33)) -> 0.212 | AL33: =IF(F33="nio","_",SUM(Z33,AC33,AF33,AI33)) -> 0
A34: 2 | B34: =VLOOKUP(A34,'Overzicht locaties'!B:D,2,0) -> CE05 | C34: 1e verdieping | D34: geen nummer | E34: Gang | F34: 3 | G34: =VLOOKUP(F34,cat_omschrijving,2,0) -> Verkeersruimte / Garderobe / Wachtruimte | H34: tegel | I34: 2 | J34: =VLOOKUP(I34,Legenda_vloerafwerking,2,0) -> Harde vloeren zonder extra behandeling | K34: 14.12 | L34: =K34-M34 -> 14.12 | M34: =IF(F34="nio",K34,0) -> 0 | O34: 2w | T34: =IF(F34="nio","_",VLOOKUP(F34,cat_omschrijving,3,0)) -> Verkeer | U34: =IF(F34="nio","_",VLOOKUP(F34,cat_omschrijving,4,0)) -> AQL 7% | W34: 100 | Y34: =IF(F34="nio","_",(L34/W34)*VLOOKUP(O34,Aanpassing_frequenties,3,0)) -> 14.6848 | Z34: =IF(F34="nio","_",Y34*Rekentarief) -> 0 | AB34: =IF(OR($F34="nio",P34=""),"_",($L34/$W34)*VLOOKUP(P34,Aanpassing_frequenties,3,0)) -> _ | AC34: =IF(OR($F34="nio",P34=""),"_",AB34*Rekentarief30) -> _ | AE34: =IF(OR($F34="nio",Q34=""),"_",($L34/$W34)*VLOOKUP(Q34,Aanpassing_frequenties,3,0)) -> _ | AF34: =IF(OR($F34="nio",Q34=""),"_",AE34*Rekentarief50) -> _ | AH34: =IF(OR($F34="nio",R34=""),"_",($L34/$W34)*VLOOKUP(R34,Aanpassing_frequenties,3,0)) -> _ | AI34: =IF(OR($F34="nio",R34=""),"_",AH34*rekentarief150) -> _ | AK34: =IF(F34="nio","_",SUM(Y34,AB34,AE34,AH34)) -> 14.6848 | AL34: =IF(F34="nio","_",SUM(Z34,AC34,AF34,AI34)) -> 0
A35: 2 | B35: =VLOOKUP(A35,'Overzicht locaties'!B:D,2,0) -> CE05 | C35: 1e verdieping | D35: geen nummer | E35: Overloop | F35: nio | G35: =VLOOKUP(F35,cat_omschrijving,2,0) -> niet in onderhoud | H35: tegel | I35: 2 | J35: =VLOOKUP(I35,Legenda_vloerafwerking,2,0) -> Harde vloeren zonder extra behandeling | K35: 8.92 | L35: =K35-M35 -> 0 | M35: =IF(F35="nio",K35,0) -> 8.92 | T35: =IF(F35="nio","_",VLOOKUP(F35,cat_omschrijving,3,0)) -> _ | U35: =IF(F35="nio","_",VLOOKUP(F35,cat_omschrijving,4,0)) -> _ | W35: 100 | Y35: =IF(F35="nio","_",(L35/W35)*VLOOKUP(O35,Aanpassing_frequenties,3,0)) -> _ | Z35: =IF(F35="nio","_",Y35*Rekentarief) -> _ | AB35: =IF(OR($F35="nio",P35=""),"_",($L35/$W35)*VLOOKUP(P35,Aanpassing_frequenties,3,0)) -> _ | AC35: =IF(OR($F35="nio",P35=""),"_",AB35*Rekentarief30) -> _ | AE35: =IF(OR($F35="nio",Q35=""),"_",($L35/$W35)*VLOOKUP(Q35,Aanpassing_frequenties,3,0)) -> _ | AF35: =IF(OR($F35="nio",Q35=""),"_",AE35*Rekentarief50) -> _ | AH35: =IF(OR($F35="nio",R35=""),"_",($L35/$W35)*VLOOKUP(R35,Aanpassing_frequenties,3,0)) -> _ | AI35: =IF(OR($F35="nio",R35=""),"_",AH35*rekentarief150) -> _ | AK35: =IF(F35="nio","_",SUM(Y35,AB35,AE35,AH35)) -> _ | AL35: =IF(F35="nio","_",SUM(Z35,AC35,AF35,AI35)) -> _
A36: 2 | B36: =VLOOKUP(A36,'Overzicht locaties'!B:D,2,0) -> CE05 | C36: 1e verdieping | D36: geen nummer | E36: Berging van de CE | F36: 6 | G36: =VLOOKUP(F36,cat_omschrijving,2,0) -> Overig / Magazijn / Archief / Berging / Technische ruimte | H36: beton | I36: 2 | J36: =VLOOKUP(I36,Legenda_vloerafwerking,2,0) -> Harde vloeren zonder extra behandeling | K36: 5.84 | L36: =K36-M36 -> 5.84 | M36: =IF(F36="nio",K36,0) -> 0 | O36: 1j | T36: =IF(F36="nio","_",VLOOKUP(F36,cat_omschrijving,3,0)) -> Verkeer | U36: =IF(F36="nio","_",VLOOKUP(F36,cat_omschrijving,4,0)) -> AQL 7% | W36: 100 | Y36: =IF(F36="nio","_",(L36/W36)*VLOOKUP(O36,Aanpassing_frequenties,3,0)) -> 0.0584 | Z36: =IF(F36="nio","_",Y36*Rekentarief) -> 0 | AB36: =IF(OR($F36="nio",P36=""),"_",($L36/$W36)*VLOOKUP(P36,Aanpassing_frequenties,3,0)) -> _ | AC36: =IF(OR($F36="nio",P36=""),"_",AB36*Rekentarief30) -> _ | AE36: =IF(OR($F36="nio",Q36=""),"_",($L36/$W36)*VLOOKUP(Q36,Aanpassing_frequenties,3,0)) -> _ | AF36: =IF(OR($F36="nio",Q36=""),"_",AE36*Rekentarief50) -> _ | AH36: =IF(OR($F36="nio",R36=""),"_",($L36/$W36)*VLOOKUP(R36,Aanpassing_frequenties,3,0)) -> _ | AI36: =IF(OR($F36="nio",R36=""),"_",AH36*rekentarief150) -> _ | AK36: =IF(F36="nio","_",SUM(Y36,AB36,AE36,AH36)) -> 0.0584 | AL36: =IF(F36="nio","_",SUM(Z36,AC36,AF36,AI36)) -> 0
A37: 3 | B37: =VLOOKUP(A37,'Overzicht locaties'!B:D,2,0) -> CE01 + SE31 | C37: 3de verdieping | D37: 1 | E37: Keuken | F37: 5 | G37: =VLOOKUP(F37,cat_omschrijving,2,0) -> Pantry / keuken / koffie / restaurant | H37: Tegel | I37: 2 | J37: =VLOOKUP(I37,Legenda_vloerafwerking,2,0) -> Harde vloeren zonder extra behandeling | K37: 6 | L37: =K37-M37 -> 6 | M37: =IF(F37="nio",K37,0) -> 0 | O37: 2w | T37: =IF(F37="nio","_",VLOOKUP(F37,cat_omschrijving,3,0)) -> Verkeer | U37: =IF(F37="nio","_",VLOOKUP(F37,cat_omschrijving,4,0)) -> AQL 7% | W37: 100 | Y37: =IF(F37="nio","_",(L37/W37)*VLOOKUP(O37,Aanpassing_frequenties,3,0)) -> 6.24 | Z37: =IF(F37="nio","_",Y37*Rekentarief) -> 0 | AB37: =IF(OR($F37="nio",P37=""),"_",($L37/$W37)*VLOOKUP(P37,Aanpassing_frequenties,3,0)) -> _ | AC37: =IF(OR($F37="nio",P37=""),"_",AB37*Rekentarief30) -> _ | AE37: =IF(OR($F37="nio",Q37=""),"_",($L37/$W37)*VLOOKUP(Q37,Aanpassing_frequenties,3,0)) -> _ | AF37: =IF(OR($F37="nio",Q37=""),"_",AE37*Rekentarief50) -> _ | AH37: =IF(OR($F37="nio",R37=""),"_",($L37/$W37)*VLOOKUP(R37,Aanpassing_frequenties,3,0)) -> _ | AI37: =IF(OR($F37="nio",R37=""),"_",AH37*rekentarief150) -> _ | AK37: =IF(F37="nio","_",SUM(Y37,AB37,AE37,AH37)) -> 6.24 | AL37: =IF(F37="nio","_",SUM(Z37,AC37,AF37,AI37)) -> 0
A38: 3 | B38: =VLOOKUP(A38,'Overzicht locaties'!B:D,2,0) -> CE01 + SE31 | C38: 3de verdieping | D38: 2 | E38: Vergaderruimte 1 | F38: 1 | G38: =VLOOKUP(F38,cat_omschrijving,2,0) -> Kantoorruimte / vergaderruimte | H38: Vinyl | I38: 3 | J38: =VLOOKUP(I38,Legenda_vloerafwerking,2,0) -> Harde vloer zonder polymeer beschermlaag, met behandeling | K38: 15 | L38: =K38-M38 -> 15 | M38: =IF(F38="nio",K38,0) -> 0 | O38: 2w | T38: =IF(F38="nio","_",VLOOKUP(F38,cat_omschrijving,3,0)) -> Bureau | U38: =IF(F38="nio","_",VLOOKUP(F38,cat_omschrijving,4,0)) -> AQL 7% | W38: 100 | Y38: =IF(F38="nio","_",(L38/W38)*VLOOKUP(O38,Aanpassing_frequenties,3,0)) -> 15.6 | Z38: =IF(F38="nio","_",Y38*Rekentarief) -> 0 | AB38: =IF(OR($F38="nio",P38=""),"_",($L38/$W38)*VLOOKUP(P38,Aanpassing_frequenties,3,0)) -> _ | AC38: =IF(OR($F38="nio",P38=""),"_",AB38*Rekentarief30) -> _ | AE38: =IF(OR($F38="nio",Q38=""),"_",($L38/$W38)*VLOOKUP(Q38,Aanpassing_frequenties,3,0)) -> _ | AF38: =IF(OR($F38="nio",Q38=""),"_",AE38*Rekentarief50) -> _ | AH38: =IF(OR($F38="nio",R38=""),"_",($L38/$W38)*VLOOKUP(R38,Aanpassing_frequenties,3,0)) -> _ | AI38: =IF(OR($F38="nio",R38=""),"_",AH38*rekentarief150) -> _ | AK38: =IF(F38="nio","_",SUM(Y38,AB38,AE38,AH38)) -> 15.6 | AL38: =IF(F38="nio","_",SUM(Z38,AC38,AF38,AI38)) -> 0
A39: 3 | B39: =VLOOKUP(A39,'Overzicht locaties'!B:D,2,0) -> CE01 + SE31 | C39: 3de verdieping | D39: 3 | E39: Kantoor | F39: 1 | G39: =VLOOKUP(F39,cat_omschrijving,2,0) -> Kantoorruimte / vergaderruimte | H39: Vinyl | I39: 3 | J39: =VLOOKUP(I39,Legenda_vloerafwerking,2,0) -> Harde vloer zonder polymeer beschermlaag, met behandeling | K39: 47 | L39: =K39-M39 -> 47 | M39: =IF(F39="nio",K39,0) -> 0 | O39: 2w | T39: =IF(F39="nio","_",VLOOKUP(F39,cat_omschrijving,3,0)) -> Bureau | U39: =IF(F39="nio","_",VLOOKUP(F39,cat_omschrijving,4,0)) -> AQL 7% | W39: 100 | Y39: =IF(F39="nio","_",(L39/W39)*VLOOKUP(O39,Aanpassing_frequenties,3,0)) -> 48.88 | Z39: =IF(F39="nio","_",Y39*Rekentarief) -> 0 | AB39: =IF(OR($F39="nio",P39=""),"_",($L39/$W39)*VLOOKUP(P39,Aanpassing_frequenties,3,0)) -> _ | AC39: =IF(OR($F39="nio",P39=""),"_",AB39*Rekentarief30) -> _ | AE39: =IF(OR($F39="nio",Q39=""),"_",($L39/$W39)*VLOOKUP(Q39,Aanpassing_frequenties,3,0)) -> _ | AF39: =IF(OR($F39="nio",Q39=""),"_",AE39*Rekentarief50) -> _ | AH39: =IF(OR($F39="nio",R39=""),"_",($L39/$W39)*VLOOKUP(R39,Aanpassing_frequenties,3,0)) -> _ | AI39: =IF(OR($F39="nio",R39=""),"_",AH39*rekentarief150) -> _ | AK39: =IF(F39="nio","_",SUM(Y39,AB39,AE39,AH39)) -> 48.88 | AL39: =IF(F39="nio","_",SUM(Z39,AC39,AF39,AI39)) -> 0
A40: 3 | B40: =VLOOKUP(A40,'Overzicht locaties'!B:D,2,0) -> CE01 + SE31 | C40: 3de verdieping | D40: 4 | E40: CE Breda | F40: 1 | G40: =VLOOKUP(F40,cat_omschrijving,2,0) -> Kantoorruimte / vergaderruimte | H40: Tapijt | I40: 4 | J40: =VLOOKUP(I40,Legenda_vloerafwerking,2,0) -> Tapijt | K40: 12 | L40: =K40-M40 -> 12 | M40: =IF(F40="nio",K40,0) -> 0 | O40: 2w | T40: =IF(F40="nio","_",VLOOKUP(F40,cat_omschrijving,3,0)) -> Bureau | U40: =IF(F40="nio","_",VLOOKUP(F40,cat_omschrijving,4,0)) -> AQL 7% | W40: 100 | Y40: =IF(F40="nio","_",(L40/W40)*VLOOKUP(O40,Aanpassing_frequenties,3,0)) -> 12.48 | Z40: =IF(F40="nio","_",Y40*Rekentarief) -> 0 | AB40: =IF(OR($F40="nio",P40=""),"_",($L40/$W40)*VLOOKUP(P40,Aanpassing_frequenties,3,0)) -> _ | AC40: =IF(OR($F40="nio",P40=""),"_",AB40*Rekentarief30) -> _ | AE40: =IF(OR($F40="nio",Q40=""),"_",($L40/$W40)*VLOOKUP(Q40,Aanpassing_frequenties,3,0)) -> _ | AF40: =IF(OR($F40="nio",Q40=""),"_",AE40*Rekentarief50) -> _ | AH40: =IF(OR($F40="nio",R40=""),"_",($L40/$W40)*VLOOKUP(R40,Aanpassing_frequenties,3,0)) -> _ | AI40: =IF(OR($F40="nio",R40=""),"_",AH40*rekentarief150) -> _ | AK40: =IF(F40="nio","_",SUM(Y40,AB40,AE40,AH40)) -> 12.48 | AL40: =IF(F40="nio","_",SUM(Z40,AC40,AF40,AI40)) -> 0
A41: 3 | B41: =VLOOKUP(A41,'Overzicht locaties'!B:D,2,0) -> CE01 + SE31 | C41: 3de verdieping | D41: 5 | E41: Vergaderruimte 2 | F41: 1 | G41: =VLOOKUP(F41,cat_omschrijving,2,0) -> Kantoorruimte / vergaderruimte | H41: Vinyl | I41: 3 | J41: =VLOOKUP(I41,Legenda_vloerafwerking,2,0) -> Harde vloer zonder polymeer beschermlaag, met behandeling | K41: 33 | L41: =K41-M41 -> 33 | M41: =IF(F41="nio",K41,0) -> 0 | O41: 2w | T41: =IF(F41="nio","_",VLOOKUP(F41,cat_omschrijving,3,0)) -> Bureau | U41: =IF(F41="nio","_",VLOOKUP(F41,cat_omschrijving,4,0)) -> AQL 7% | W41: 100 | Y41: =IF(F41="nio","_",(L41/W41)*VLOOKUP(O41,Aanpassing_frequenties,3,0)) -> 34.32 | Z41: =IF(F41="nio","_",Y41*Rekentarief) -> 0 | AB41: =IF(OR($F41="nio",P41=""),"_",($L41/$W41)*VLOOKUP(P41,Aanpassing_frequenties,3,0)) -> _ | AC41: =IF(OR($F41="nio",P41=""),"_",AB41*Rekentarief30) -> _ | AE41: =IF(OR($F41="nio",Q41=""),"_",($L41/$W41)*VLOOKUP(Q41,Aanpassing_frequenties,3,0)) -> _ | AF41: =IF(OR($F41="nio",Q41=""),"_",AE41*Rekentarief50) -> _ | AH41: =IF(OR($F41="nio",R41=""),"_",($L41/$W41)*VLOOKUP(R41,Aanpassing_frequenties,3,0)) -> _ | AI41: =IF(OR($F41="nio",R41=""),"_",AH41*rekentarief150) -> _ | AK41: =IF(F41="nio","_",SUM(Y41,AB41,AE41,AH41)) -> 34.32 | AL41: =IF(F41="nio","_",SUM(Z41,AC41,AF41,AI41)) -> 0
...

Sheet Glasbewassing
B1: Inschrijver vult de geel gearceerde cellen in.
A3: Glasbewassing locaties Bevolkingsonderzoek Nederland
A5: * In de kosten voor materieel/ bereikbaarheidsvoorzieningen zijn alle overige benodigde kosten (dus alle kosten, behalve loonkosten en eventuele suppletiekosten per beurt) opgenomen om de glasbewassing op locatie uit te voeren.
A7: Gebouw # | B7: Locatie | D7: Frequentie/jaar | E7: oppervlakte per beurt | F7: kosten / beurt | G7: Suppletiekosten per beurt | H7: Kosten materieel/ bereikbaarheidsvoorzieningen * | I7: kosten / jaar | J7: Opmerkingen
A8: 1 | B8: =VLOOKUP(A8,'Overzicht locaties'!B:D,2,0) -> CE18 | C8: Gevelglas buitenzijde | D8: 2 | E8: 0 | F8: =E8*VLOOKUP(C8,Glas,4,0) -> 0 | G8: 0 | H8: 0 | I8: =(F8*D8)+(G8*D8)+(H8*D8) -> 0
A9: 1 | B9: =VLOOKUP(A9,'Overzicht locaties'!B:D,2,0) -> CE18 | C9: Gevelglas binnenzijde | D9: 2 | E9: 93.5 | F9: =E9*VLOOKUP(C9,Glas,4,0) -> 0 | G9: 0 | H9: 0 | I9: =(F9*D9)+(G9*D9)+(H9*D9) -> 0
A10: 1 | B10: =VLOOKUP(A10,'Overzicht locaties'!B:D,2,0) -> CE18 | C10: Separatieglas (m ² is totaal) | D10: 2 | E10: 79 | F10: =E10*VLOOKUP(C10,Glas,4,0) -> 0 | G10: 0 | H10: 0 | I10: =(F10*D10)+(G10*D10)+(H10*D10) -> 0
