Workbook
Name Aanpassing_frequenties: Productienormen!$A$22:$D$36
Name Arbeidsprestatie: Productienormen!#REF!
Name cat_omschrijving: Productienormen!$A$14:$D$20
Name Frequentie_omschrijving: Productienormen!$A$23:$B$36
Name Frequenties: Productienormen!$A$23:$A$36
Name Glas: Tarieven!$A$50:$D$54
Name Legenda_vloerafwerking: Productienormen!$A$6:$B$10
Name Rekentarief: Tarieven!$D$46
Name rekentarief150: Tarieven!$G$46
Name Rekentarief30: Tarieven!$E$46
Name Rekentarief50: Tarieven!$F$46
Name Ruimte_code: Productienormen!$A$14:$A$20
Name Vloer_code: Productienormen!$A$6:$A$10
Name Vloeronderhoud: Tarieven!$A$56:$D$58

Sheet Overzicht locaties
A1: Totaaloverzicht locaties Bevolkingsonderzoek Nederland
L2: Kantoorpand
A3: Regio | B3: Gebouw # | C3: Loc.code | D3: Locatie | E3: Soort locatie | F3: Adres | G3: Postcode | H3: Plaats | I3: Aantal medewerkers BVO NL | J3: Bezetting medewerkers BVO NL | L3: Kantoorpand + vaste screeningseenheid
A4: Zuid | B4: 1 | C4: CE18 | D4: Vestiging Maastricht | E4: Kantoorpand | F4: Australiëlaan 12 | G4: 6199 AA | H4: Maastricht | L4: Vaste screeningseenheid
A5: Zuid | B5: 2 | C5: CE05 | D5: Vestiging Venlo | E5: Kantoorpand | F5: Ruijsstraat 86 | G5: 5921 VR | H5: Venlo | L5: Screeningseenheid, type B
A6: Zuid | B6: 3 | C6: CE01 + SE31 | D6: Vestiging Breda | E6: Kantoorpand + vaste screeningseenheid | F6: Bijster 16 | G6: 4817 HX | H6: Breda | L6: Screeningseenheid, type A
A7: Zuid | B7: 4 | C7: CE03 + SE25 | D7: Vestiging Eindhoven | E7: Kantoorpand + vaste screeningseenheid | F7: Larixplein 5 | G7: 5616 VB | H7: Eindhoven | L7: Screeningseenheid, overig
A8: Zuid | B8: 5 | C8: SE29 | D8: Screeningseenheid | E8: Screeningseenheid, type B | F8: Variabel | G8: Variabel | H8: Venlo | L8: Screeningseenheid, type Smit
A9: Zuid | B9: 6 | C9: SE30 | D9: Screeningseenheid | E9: Screeningseenheid, type B | F9: Variabel | G9: Variabel | H9: De Peel
A10: Zuid | B10: 7 | C10: SE32 | D10: Screeningseenheid | E10: Screeningseenheid, type B | F10: Variabel | G10: Variabel | H10: Oss
A11: Zuid | B11: 8 | C11: SE27 | D11: Screeningseenheid | E11: Screeningseenheid, type B | F11: Variabel | G11: Variabel | H11: Tilburg
A12: Zuid | B12: 9 | C12: SE28 | D12: Screeningseenheid | E12: Screeningseenheid, type B | F12: Variabel | G12: Variabel | H12: De Biesbosch
A13: Zuid | B13: 10 | C13: SE88 | D13: Screeningseenheid | E13: Screeningseenheid, type B | F13: Variabel | G13: Variabel | H13: Roosendaal
A14: Zuid | B14: 11 | C14: SE26 | D14: Screeningseenheid | E14: Screeningseenheid, type B | F14: Variabel | G14: Variabel | H14: De Kempen
A15: Zuid | B15: 12 | C15: SE91 | D15: Screeningseenheid | E15: Screeningseenheid, type Smit | F15: Variabel | G15: Variabel | H15: De Meijerij
A16: Zuid | B16: 13 | C16: SE89 | D16: Screeningseenheid | E16: Screeningseenheid, type B | F16: Variabel | G16: Variabel | H16: Den Bosch
A17: Zuid | B17: 14 | C17: SE71 | D17: Screeningseenheid | E17: Screeningseenheid, type B | F17: Variabel | G17: Variabel | H17: Weert
A18: Zuid | B18: 15 | C18: SE72 | D18: Screeningseenheid | E18: Screeningseenheid, type B | F18: Variabel | G18: Variabel | H18: Sittard
A19: Zuid | B19: 16 | C19: SE73 | D19: Screeningseenheid | E19: Screeningseenheid, type B | F19: Variabel | G19: Variabel | H19: Heerlen
A20: Zuid | B20: 17 | C20: SE81 | D20: Screeningseenheid | E20: Screeningseenheid, type B | F20: Variabel | G20: Variabel | H20: Maastricht
... A38: Midden-West | B38: 35 | C38: CE XX | D38: Vestiging Amsterdam | E38: Kantoorpand | F38: Hoogoorddreef 54-E | G38: 1101BE | H38: Amsterdam
A39: Midden-West | B39: 36 | C39: Utr. | D39: Vestiging Utrecht | E39: Kantoorpand | F39: Godebalkwartier 435 | H39: Utrecht
A40: Midden-West | B40: 37 | C40: SE33 | D40: Vaste screeningseenheid | E40: Vaste screeningseenheid | F40: Amstelboulevard 134/ 138 | G40: 1096 HL | H40: Amsterdam
A41: Midden-West | B41: 38 | C41: SE19 | D41: Vaste screeningseenheid | E41: Vaste screeningseenheid | F41: Stationsplein 91 | G41: 3511ED | H41: Utrecht
A42: Midden-West | B42: 39 | C42: Type B | D42: Screeningseenheid | E42: Screeningseenheid, type B | F42: Variabel | G42: Variabel | H42: ?
A43: Midden-West | B43: 40 | C43: Type B | D43: Screeningseenheid | E43: Screeningseenheid, type B | F43: Variabel | G43: Variabel | H43: ?
A44: Midden-West | B44: 41 | C44: Type B | D44: Screeningseenheid | E44: Screeningseenheid, type B | F44: Variabel | G44: Variabel | H44: ?
A45: Midden-West | B45: 42 | C45: Type B | D45: Screeningseenheid | E45: Screeningseenheid, type B | F45: Variabel | G45: Variabel | H45: ?
A46: Midden-West | B46: 43 | C46: Type B | D46: Screeningseenheid | E46: Screeningseenheid, type B | F46: Variabel | G46: Variabel | H46: ?
A47: Midden-West | B47: 44 | C47: Type B | D47: Screeningseenheid | E47: Screeningseenheid, type B | F47: Variabel | G47: Variabel | H47: ?
A48: Midden-West | B48: 45 | C48: Type B | D48: Screeningseenheid | E48: Screeningseenheid, type B | F48: Variabel | G48: Variabel | H48: ?
A49: Midden-West | B49: 46 | C49: Type B | D49: Screeningseenheid | E49: Screeningseenheid, type B | F49: Variabel | G49: Variabel | H49: ?
A50: Midden-West | B50: 47 | C50: Type B | D50: Screeningseenheid | E50: Screeningseenheid, type B | F50: Variabel | G50: Variabel | H50: ?
A51: Midden-West | B51: 48 | C51: Type B | D51: Screeningseenheid | E51: Screeningseenheid, type B | F51: Variabel | G51: Variabel | H51: ?
... A79: Oost | B79: 76 | C79: Type B | D79: Screeningseenheid | E79: Screeningseenheid, type B | F79: Variabel | G79: Variabel | H79: ?
B80: * Voorbeeld. Aantal medewerkers 2 / 19. 2 Medewerkers zijn 5 dagen per week aanwezig (zie kolom bezetting). 19 medewerkers zijn min.1x per week + ad hoc aanwezig.

Sheet Tarieven
A1: Inschrijver vult de geel gearceerde cellen in.
A4: Tariefsopbouw
A5: Regulier = (werkdagen 6.00 - 21.30)
A6: Nacht = (werkdagen 21.30 - 6.00) | E6: Bijzondere uren
A7: Weekend = (vr. 21.30 - ma. 6.00) | D7: Regulier | E7: Nacht | F7: Weekend | G7: Feestdagen
A8: A: Personeelskosten Basisuurloon: loonroep 1 | B8: Inzet (uren) | C8: Uurloon 1-1-2023 | D8: Gemiddeld loonbedrag | E8: +30 | F8: +50 | G8: +150
A9: 0 dienstjaren | B9: 0 | C9: 0 | D9: =C9*B9 -> 0 | E9: =D9*1.3 -> 0 | F9: =D9*1.5 -> 0 | G9: =D9*2.5 -> 0
A10: 1 dienstjaren | B10: 0 | C10: 0 | D10: =C10*B10 -> 0 | E10: =D10*1.3 -> 0 | F10: =D10*1.5 -> 0 | G10: =D10*2.5 -> 0
A11: 2 dienstjaren | B11: 0 | C11: 0 | D11: =C11*B11 -> 0 | E11: =D11*1.3 -> 0 | F11: =D11*1.5 -> 0 | G11: =D11*2.5 -> 0
A12: 3 dienstjaren | B12: 0 | C12: 0 | D12: =C12*B12 -> 0 | E12: =D12*1.3 -> 0 | F12: =D12*1.5 -> 0 | G12: =D12*2.5 -> 0
A13: 4 dienstjaren of meer | B13: 0 | C13: 0 | D13: =C13*B13 -> 0 | E13: =D13*1.3 -> 0 | F13: =D13*1.5 -> 0 | G13: =D13*2.5 -> 0
A14: Jeugd (<22 jaar) | B14: 0 | C14: 0 | D14: =C14*B14 -> 0 | E14: =D14*1.3 -> 0 | F14: =D14*1.5 -> 0 | G14: =D14*2.5 -> 0
A15: Over te nemen personeel | B15: 0 | C15: 0 | D15: =C15*B15 -> 0 | E15: =D15*1.3 -> 0 | F15: =D15*1.5 -> 0 | G15: =D15*2.5 -> 0
A16: Gemiddeld basisuurloon | B16: =SUM(B9:B15) -> 0 | D16: =SUM(D9:D15) -> 0 | E16: =SUM(E9:E15) -> 0 | F16: =SUM(F9:F15) -> 0 | G16: =SUM(G9:G15) -> 0
B18: Inzet (uren) | C18: % | D18: Euro
A19: Eindejaarsuitkering | C19: 0 | D19: =D$16*$C19 -> 0 | E19: =E$16*$C19 -> 0 | F19: =F$16*$C19 -> 0 | G19: =G$16*$C19 -> 0
A20: Vakantietoeslag | C20: 0 | D20: =D$16*$C20 -> 0 | E20: =E$16*$C20 -> 0 | F20: =F$16*$C20 -> 0 | G20: =G$16*$C20 -> 0
A21: Wettelijke sociale lasten | C21: 0 | D21: =D$16*$C21 -> 0 | E21: =E$16*$C21 -> 0 | F21: =F$16*$C21 -> 0 | G21: =G$16*$C21 -> 0
A22: Suppletie ziekengeld | C22: 0 | D22: =D$16*$C22 -> 0 | E22: =E$16*$C22 -> 0 | F22: =F$16*$C22 -> 0 | G22: =G$16*$C22 -> 0
A23: Vakantiedagen, -toeslag, feestdagen | C23: 0 | D23: =D$16*$C23 -> 0 | E23: =E$16*$C23 -> 0 | F23: =F$16*$C23 -> 0 | G23: =G$16*$C23 -> 0
A24: overig | C24: 0 | D24: =D$16*$C24 -> 0 | E24: =E$16*$C24 -> 0 | F24: =F$16*$C24 -> 0 | G24: =G$16*$C24 -> 0
A25: Totaal loonkosten per uur inclusief toeslagen | D25: =SUM(D16:D24) -> 0 | E25: =SUM(E16:E24) -> 0 | F25: =SUM(F16:F24) -> 0 | G25: =SUM(G16:G24) -> 0
A27: B: Materialen en middelen | D27: Euro
A28: Materiaalkosten | D28: 0 | E28: =D28 -> 0 | F28: =E28 -> 0 | G28: =F28 -> 0
A29: Zakken | D29: 0 | E29: =D29 -> 0 | F29: =E29 -> 0 | G29: =F29 -> 0
A30: Machinekosten | D30: 0 | E30: 0 | F30: 0 | G30: 0
A31: Totaal kosten materialen en middelen per uur | D31: =SUM(D28:D30) -> 0 | E31: =SUM(E28:E30) -> 0 | F31: =SUM(F28:F30) -> 0 | G31: =SUM(G28:G30) -> 0
A33: Totaal directe kosten (A+B) | D33: =D31+D25 -> 0 | E33: =E31+E25 -> 0 | F33: =F31+F25 -> 0 | G33: =G31+G25 -> 0
A35: C: Indirecte kosten | D35: Euro
A36: Direct toezicht | D36: 0 | E36: 0 | F36: 0 | G36: 0
A37: Indirect toezicht | D37: 0 | E37: =D37 -> 0 | F37: =E37 -> 0 | G37: =F37 -> 0
A38: Management kosten | D38: 0 | E38: =D38 -> 0 | F38: =E38 -> 0 | G38: =F38 -> 0
A39: Administratiekosten | D39: 0 | E39: =D39 -> 0 | F39: =E39 -> 0 | G39: =F39 -> 0
A40: PZ-kosten inlcusief opleiding | D40: 0 | E40: =D40 -> 0 | F40: =E40 -> 0 | G40: =F40 -> 0
A41: Huisvestingskosten | D41: 0 | E41: =D41 -> 0 | F41: =E41 -> 0 | G41: =F41 -> 0
A42: Risico en winst | D42: 0 | E42: =D42 -> 0 | F42: =E42 -> 0 | G42: =F42 -> 0
A43: overig | D43: 0 | E43: 0 | F43: 0 | G43: 0
A44: Totaal indirecte kosten | D44: =SUM(D36:D43) -> 0 | E44: =SUM(E36:E43) -> 0 | F44: =SUM(F36:F43) -> 0 | G44: =SUM(G36:G43) -> 0
A46: Rekentarief (tevens tbv regiewerkzaamheden) | D46: =(D44+D33) -> 0 | E46: =(E44+E33) -> 0 | F46: =(F44+F33) -> 0 | G46: =(G44+G33) -> 0
C47: 24.996023
A48: Overige tarieven
A49: Tarieven glasbewassing | B49: Eenheid | C49: Aantal (indicatief) | D49: Regulier | E49: Nacht | F49: Weekend | G49: Feestdagen
A50: Gevelglas buitenzijde | B50: prijs per m2/dag | C50: zie tabblad glasbewassing | D50: 0
A51: Gevelglas binnenzijde | B51: prijs per m2/dag | D51: 0
A52: Separatieglas (m ² is totaal) | B52: prijs per m2/dag | D52: 0
A53: Hoogwerker buiten max 16 meter | B53: prijs per dagdeel (4 uur) | D53: 0
A54: Verreiker | B54: prijs per dagdeel (4 uur) | D54: 0
A55: Tarieven vloeronderhoud
A56: Sprayen / opwrijven | B56: prijs per m2/dag | C56: zie tabblad vloeronderhoud | D56: 0
A57: Polymeren | B57: prijs per m2/dag | D57: 0
A58: Reinigen tapijt | B58: prijs per m2/dag | D58: 0
A59: Tarieven overige (afroep)werkzaamheden
A60: Specialistische regiewerkzaamheden | B60: prijs per uur | C60: N.v.t. | D60: 0 | E60: =D60*1.3 -> 0 | F60: =D60*1.5 -> 0 | G60: =D60*2.5 -> 0
A61: Service werkzaamheden | B61: prijs per uur | C61: N.v.t. | D61: 0 | E61: =D61*1.3 -> 0 | F61: =D61*1.5 -> 0 | G61: =D61*2.5 -> 0

Sheet Productienormen
B1: Inschrijver vult de geel gearceerde cellen in.
A3: Vloerafwerking en aanpassing frequenties
A5: Legenda vloerafwerking
A6: 1 | B6: Vloerafwerking met polymeer beschermlaag
A7: 2 | B7: Harde vloeren zonder extra behandeling
A8: 3 | B8: Harde vloer zonder polymeer beschermlaag, met behandeling
A9: 4 | B9: Tapijt
A10: 5 | B10: Hout
A13: Ruimte categorie | C13: VSR | D13: AQL
A14: nio | B14: niet in onderhoud
A15: 1 | B15: Kantoorruimte / vergaderruimte | C15: Bureau | D15: AQL 7%
A16: 2 | B16: Sanitaire ruimte | C16: Sanitair | D16: AQL 4%
A17: 3 | B17: Verkeersruimte / Garderobe / Wachtruimte | C17: Verkeer | D17: AQL 7%
A18: 4 | B18: Medische ruimte | C18: Behandel | D18: AQL 3%
A19: 5 | B19: Pantry / keuken / koffie / restaurant | C19: Verkeer | D19: AQL 7%
A20: 6 | B20: Overig / Magazijn / Archief / Berging / Technische ruimte | C20: Verkeer | D20: AQL 7%
A22: Aanpassing frequenties | C22: Freq/jaar | D22: Aanpassing
A23: 10w | B23: 5 x per week plus naloopronde | C23: 255 | D23: 0
A24: 5w | B24: 5 x per week | C24: 255 | D24: 1
A25: 4w | B25: 4 x per week | C25: =4*52 -> 208 | D25: 0
A26: 3w | B26: 3 x per week | C26: 156 | D26: 0
A27: 2w | B27: 2 x per week | C27: 104 | D27: 0
A28: 1w | B28: 1x per week | C28: 52 | D28: 0
A29: 2m | B29: 2x per maand | C29: 24 | D29: 0
A30: 26j | B30: om de week | C30: 26 | D30: 0
A31: 1m | B31: 1 x per maand | C31: 12 | D31: 0
A32: 6j | B32: 6 x per jaar | C32: 6 | D32: 0
A33: 4j | B33: 4 x per jaar | C33: 4 | D33: 0
A34: 3j | B34: 3 x per jaar | C34: 3 | D34: 0
A35: 2j | B35: 2 x per jaar | C35: 2 | D35: 0
A36: 1j | B36: 1 x per jaar | C36: 1 | D36: 0

Sheet Ruimtegegevens
B1: Inschrijver vult de geel gearceerde cellen in.
A3: Ruimtegegevens | O3: Frequentie | T3: VSR | Y3: Regulier (werkdagen 6.00 - 21.30) | AB3: Nacht (werkdagen 21.30 - 6.00)) | AE3: Weekend (vr. 21.30 - ma. 6.00) | AH3: Feestdagen | AK3: Totaal
A4: Gebouw # | B4: Locatie | C4: Etage | D4: Ruimtenummer | E4: Ruimtenaam | F4: Ruimte categorie | G4: Omschrijving | H4: Vloerafwerking | I4: Vloercode | J4: Omschrijving | K4: Totaal Oppervlak | L4: Oppervlak i.o. | M4: Oppervlak n.i.o | O4: Regulier | P4: Nacht | Q4: Weekend | R4: Feestdag | T4: Cat. | U4: Norm | W4: Prestatie m2/uur | Y4: Uren / jaar | Z4: Kosten / jaar (excl. BTW) | AB4: Uren / jaar | AC4: Kosten / jaar (excl. BTW) | AE4: Uren / jaar | AF4: Kosten / jaar (excl. BTW) | AH4: Uren / jaar | AI4: Kosten / jaar (excl. BTW) | AK4: Uren / jaar | AL4: Kosten / jaar (excl. BTW)
A5: 1 | B5: =VLOOKUP(A5,'Overzicht locaties'!B:D,2,0) -> CE18 | C5: Begane grond | D5: geen nummer | E5: Berging schoonmaak | F5: 6 | G5: =VLOOKUP(F5,cat_omschrijving,2,0) -> Overig / Magazijn / Archief / Berging / Technische ruimte | H5: Tegel | I5: 2 | J5: =VLOOKUP(I5,Legenda_vloerafwerking,2,0) -> Harde vloeren zonder extra behandeling | K5: 5.86 | L5: =K5-M5 -> 5.86 | M5: =IF(F5="nio",K5,0) -> 0 | O5: 5w | T5: =IF(F5="nio","_",VLOOKUP(F5,cat_omschrijving,3,0)) -> Verkeer | U5: =IF(F5="nio","_",VLOOKUP(F5,cat_omschrijving,4,0)) -> AQL 7% | W5: 100 | Y5: =IF(F5="nio","_",(L5/W5)*VLOOKUP(O5,Aanpassing_frequenties,3,0)) -> 14.943 | Z5: =IF(F5="nio","_",Y5*Rekentarief) -> 0 | AB5: =IF(OR($F5="nio",P5=""),"_",($L5/$W5)*VLOOKUP(P5,Aanpassing_frequenties,3,0)) -> _ | AC5: =IF(OR($F5="nio",P5=""),"_",AB5*Rekentarief30) -> _ | AE5: =IF(OR($F5="nio",Q5=""),"_",($L5/$W5)*VLOOKUP(Q5,Aanpassing_frequenties,3,0)) -> _ | AF5: =IF(OR($F5="nio",Q5=""),"_",AE5*Rekentarief50) -> _ | AH5: =IF(OR($F5="nio",R5=""),"_",($L5/$W5)*VLOOKUP(R5,Aanpassing_frequenties,3,0)) -> _ | AI5: =IF(OR($F5="nio",R5=""),"_",AH5*rekentarief150) -> _ | AK5: =IF(F5="nio","_",SUM(Y5,AB5,AE5,AH5)) -> 14.943 | AL5: =IF(F5="nio","_",SUM(Z5,AC5,AF5,AI5)) -> 0
A6: 1 | B6: =VLOOKUP(A6,'Overzicht locaties'!B:D,2,0) -> CE18 | C6: Begane grond | D6: 1 | E6: Financien | F6: 1 | G6: =VLOOKUP(F6,cat_omschrijving,2,0) -> Kantoorruimte / vergaderruimte | H6: Tapijt | I6: 4 | J6: =VLOOKUP(I6,Legenda_vloerafwerking,2,0) -> Tapijt | K6: 31.12 | L6: =K6-M6 -> 31.12 | M6: =IF(F6="nio",K6,0) -> 0 | O6: 5w | T6: =IF(F6="nio","_",VLOOKUP(F6,cat_omschrijving,3,0)) -> Bureau | U6: =IF(F6="nio","_",VLOOKUP(F6,cat_omschrijving,4,0)) -> AQL 7% | W6: 100 | Y6: =IF(F6="nio","_",(L6/W6)*VLOOKUP(O6,Aanpassing_frequenties,3,0)) -> 79.356 | Z6: =IF(F6="nio","_",Y6*Rekentarief) -> 0 | AB6: =IF(OR($F6="nio",P6=""),"_",($L6/$W6)*VLOOKUP(P6,Aanpassing_frequenties,3,0)) -> _ | AC6: =IF(OR($F6="nio",P6=""),"_",AB6*Rekentarief30) -> _ | AE6: =IF(OR($F6="nio",Q6=""),"_",($L6/$W6)*VLOOKUP(Q6,Aanpassing_frequenties,3,0)) -> _ | AF6: =IF(OR($F6="nio",Q6=""),"_",AE6*Rekentarief50) -> _ | AH6: =IF(OR($F6="nio",R6=""),"_",($L6/$W6)*VLOOKUP(R6,Aanpassing_frequenties,3,0)) -> _ | AI6: =IF(OR($F6="nio",R6=""),"_",AH6*rekentarief150) -> _ | AK6: =IF(F6="nio","_",SUM(Y6,AB6,AE6,AH6)) -> 79.356 | AL6: =IF(F6="nio","_",SUM(Z6,AC6,AF6,AI6)) -> 0
A7: 1 | B7: =VLOOKUP(A7,'Overzicht locaties'!B:D,2,0) -> CE18 | C7: Begane grond | D7: 2 | E7: Secretariaat | F7: 1 | G7: =VLOOKUP(F7,cat_omschrijving,2,0) -> Kantoorruimte / vergaderruimte | H7: Tapijt | I7: 4 | J7: =VLOOKUP(I7,Legenda_vloerafwerking,2,0) -> Tapijt | K7: 38.01 | L7: =K7-M7 -> 38.01 | M7: =IF(F7="nio",K7,0) -> 0 | O7: 5w | T7: =IF(F7="nio","_",VLOOKUP(F7,cat_omschrijving,3,0)) -> Bureau | U7: =IF(F7="nio","_",VLOOKUP(F7,cat_omschrijving,4,0)) -> AQL 7% | W7: 100 | Y7: =IF(F7="nio","_",(L7/W7)*VLOOKUP(O7,Aanpassing_frequenties,3,0)) -> 96.9255 | Z7: =IF(F7="nio","_",Y7*Rekentarief) -> 0 | AB7: =IF(OR($F7="nio",P7=""),"_",($L7/$W7)*VLOOKUP(P7,Aanpassing_frequenties,3,0)) -> _ | AC7: =IF(OR($F7="nio",P7=""),"_",AB7*Rekentarief30) -> _ | AE7: =IF(OR($F7="nio",Q7=""),"_",($L7/$W7)*VLOOKUP(Q7,Aanpassing_frequenties,3,0)) -> _ | AF7: =IF(OR($F7="nio",Q7=""),"_",AE7*Rekentarief50) -> _ | AH7: =IF(OR($F7="nio",R7=""),"_",($L7/$W7)*VLOOKUP(R7,Aanpassing_frequenties,3,0)) -> _ | AI7: =IF(OR($F7="nio",R7=""),"_",AH7*rekentarief150) -> _ | AK7: =IF(F7="nio","_",SUM(Y7,AB7,AE7,AH7)) -> 96.9255 | AL7: =IF(F7="nio","_",SUM(Z7,AC7,AF7,AI7)) -> 0
A8: 1 | B8: =VLOOKUP(A8,'Overzicht locaties'!B:D,2,0) -> CE18 | C8: Begane grond | D8: 3 | E8: Staf | F8: 1 | G8: =VLOOKUP(F8,cat_omschrijving,2,0) -> Kantoorruimte / vergaderruimte | H8: Tapijt | I8: 4 | J8: =VLOOKUP(I8,Legenda_vloerafwerking,2,0) -> Tapijt | K8: 78.38 | L8: =K8-M8 -> 78.38 | M8: =IF(F8="nio",K8,0) -> 0 | O8: 5w | T8: =IF(F8="nio","_",VLOOKUP(F8,cat_omschrijving,3,0)) -> Bureau | U8: =IF(F8="nio","_",VLOOKUP(F8,cat_omschrijving,4,0)) -> AQL 7% | W8: 100 | Y8: =IF(F8="nio","_",(L8/W8)*VLOOKUP(O8,Aanpassing_frequenties,3,0)) -> 199.869 | Z8: =IF(F8="nio","_",Y8*Rekentarief) -> 0 | AB8: =IF(OR($F8="nio",P8=""),"_",($L8/$W8)*VLOOKUP(P8,Aanpassing_frequenties,3,0)) -> _ | AC8: =IF(OR($F8="nio",P8=""),"_",AB8*Rekentarief30) -> _ | AE8: =IF(OR($F8="nio",Q8=""),"_",($L8/$W8)*VLOOKUP(Q8,Aanpassing_frequenties,3,0)) -> _ | AF8: =IF(OR($F8="nio",Q8=""),"_",AE8*Rekentarief50) -> _ | AH8: =IF(OR($F8="nio",R8=""),"_",($L8/$W8)*VLOOKUP(R8,Aanpassing_frequenties,3,0)) -> _ | AI8: =IF(OR($F8="nio",R8=""),"_",AH8*rekentarief150) -> _ | AK8: =IF(F8="nio","_",SUM(Y8,AB8,AE8,AH8)) -> 199.869 | AL8: =IF(F8="nio","_",SUM(Z8,AC8,AF8,AI8)) -> 0
A9: 1 | B9: =VLOOKUP(A9,'Overzicht locaties'!B:D,2,0) -> CE18 | C9: Begane grond | D9: 4 | E9: Printer | F9: 3 | G9: =VLOOKUP(F9,cat_omschrijving,2,0) -> Verkeersruimte / Garderobe / Wachtruimte | H9: Tapijt | I9: 4 | J9: =VLOOKUP(I9,Legenda_vloerafwerking,2,0) -> Tapijt | K9: 6.59 | L9: =K9-M9 -> 6.59 | M9: =IF(F9="nio",K9,0) -> 0 | O9: 5w | T9: =IF(F9="nio","_",VLOOKUP(F9,cat_omschrijving,3,0)) -> Verkeer | U9: =IF(F9="nio","_",VLOOKUP(F9,cat_omschrijving,4,0)) -> AQL 7% | W9: 100 | Y9: =IF(F9="nio","_",(L9/W9)*VLOOKUP(O9,Aanpassing_frequenties,3,0)) -> 16.8045 | Z9: =IF(F9="nio","_",Y9*Rekentarief) -> 0 | AB9: =IF(OR($F9="nio",P9=""),"_",($L9/$W9)*VLOOKUP(P9,Aanpassing_frequenties,3,0)) -> _ | AC9: =IF(OR($F9="nio",P9=""),"_",AB9*Rekentarief30) -> _ | AE9: =IF(OR($F9="nio",Q9=""),"_",($L9/$W9)*VLOOKUP(Q9,Aanpassing_frequenties,3,0)) -> _ | AF9: =IF(OR($F9="nio",Q9=""),"_",AE9*Rekentarief50) -> _ | AH9: =IF(OR($F9="nio",R9=""),"_",($L9/$W9)*VLOOKUP(R9,Aanpassing_frequenties,3,0)) -> _ | AI9: =IF(OR($F9="nio",R9=""),"_",AH9*rekentarief150) -> _ | AK9: =IF(F9="nio","_",SUM(Y9,AB9,AE9,AH9)) -> 16.8045 | AL9: =IF(F9="nio","_",SUM(Z9,AC9,AF9,AI9)) -> 0
A10: 1 | B10: =VLOOKUP(A10,'Overzicht locaties'!B:D,2,0) -> CE18 | C10: Begane grond | D10: 5 | E10: Bestuurder | F10: 1 | G10: =VLOOKUP(F10,cat_omschrijving,2,0) -> Kantoorruimte / vergaderruimte | H10: Tapijt | I10: 4 | J10: =VLOOKUP(I10,Legenda_vloerafwerking,2,0) -> Tapijt | K10: 21.66 | L10: =K10-M10 -> 21.66 | M10: =IF(F10="nio",K10,0) -> 0 | O10: 5w | T10: =IF(F10="nio","_",VLOOKUP(F10,cat_omschrijving,3,0)) -> Bureau | U10: =IF(F10="nio","_",VLOOKUP(F10,cat_omschrijving,4,0)) -> AQL 7% | W10: 100 | Y10: =IF(F10="nio","_",(L10/W10)*VLOOKUP(O10,Aanpassing_frequenties,3,0)) -> 55.233 | Z10: =IF(F10="nio","_",Y10*Rekentarief) -> 0 | AB10: =IF(OR($F10="nio",P10=""),"_",($L10/$W10)*VLOOKUP(P10,Aanpassing_frequenties,3,0)) -> _ | AC10: =IF(OR($F10="nio",P10=""),"_",AB10*Rekentarief30) -> _ | AE10: =IF(OR($F10="nio",Q10=""),"_",($L10/$W10)*VLOOKUP(Q10,Aanpassing_frequenties,3,0)) -> _ | AF10: =IF(OR($F10="nio",Q10=""),"_",AE10*Rekentarief50) -> _ | AH10: =IF(OR($F10="nio",R10=""),"_",($L10/$W10)*VLOOKUP(R10,Aanpassing_frequenties,3,0)) -> _ | AI10: =IF(OR($F10="nio",R10=""),"_",AH10*rekentarief150) -> _ | AK10: =IF(F10="nio","_",SUM(Y10,AB10,AE10,AH10)) -> 55.233 | AL10: =IF(F10="nio","_",SUM(Z10,AC10,AF10,AI10)) -> 0
A11: 1 | B11: =VLOOKUP(A11,'Overzicht locaties'!B:D,2,0) -> CE18 | C11: Begane grond | D11: 6 | E11: CE-Maastricht | F11: 1 | G11: =VLOOKUP(F11,cat_omschrijving,2,0) -> Kantoorruimte / vergaderruimte | H11: Tapijt | I11: 4 | J11: =VLOOKUP(I11,Legenda_vloerafwerking,2,0) -> Tapijt | K11: 35.79 | L11: =K11-M11 -> 35.79 | M11: =IF(F11="nio",K11,0) -> 0 | O11: 5w | T11: =IF(F11="nio","_",VLOOKUP(F11,cat_omschrijving,3,0)) -> Bureau | U11: =IF(F11="nio","_",VLOOKUP(F11,cat_omschrijving,4,0)) -> AQL 7% | W11: 100 | Y11: =IF(F11="nio","_",(L11/W11)*VLOOKUP(O11,Aanpassing_frequenties,3,0)) -> 91.2645 | Z11: =IF(F11="nio","_",Y11*Rekentarief) -> 0 | AB11: =IF(OR($F11="nio",P11=""),"_",($L11/$W11)*VLOOKUP(P11,Aanpassing_frequenties,3,0)) -> _ | AC11: =IF(OR($F11="nio",P11=""),"_",AB11*Rekentarief30) -> _ | AE11: =IF(OR($F11="nio",Q11=""),"_",($L11/$W11)*VLOOKUP(Q11,Aanpassing_frequenties,3,0)) -> _ | AF11: =IF(OR($F11="nio",Q11=""),"_",AE11*Rekentarief50) -> _ | AH11: =IF(OR($F11="nio",R11=""),"_",($L11/$W11)*VLOOKUP(R11,Aanpassing_frequenties,3,0)) -> _ | AI11: =IF(OR($F11="nio",R11=""),"_",AH11*rekentarief150) -> _ | AK11: =IF(F11="nio","_",SUM(Y11,AB11,AE11,AH11)) -> 91.2645 | AL11: =IF(F11="nio","_",SUM(Z11,AC11,AF11,AI11)) -> 0
A12: 1 | B12: =VLOOKUP(A12,'Overzicht locaties'!B:D,2,0) -> CE18 | C12: Begane grond | D12: 7 | E12: Managers | F12: 1 | G12: =VLOOKUP(F12,cat_omschrijving,2,0) -> Kantoorruimte / vergaderruimte | H12: Tapijt | I12: 4 | J12: =VLOOKUP(I12,Legenda_vloerafwerking,2,0) -> Tapijt | K12: 19.06 | L12: =K12-M12 -> 19.06 | M12: =IF(F12="nio",K12,0) -> 0 | O12: 5w | T12: =IF(F12="nio","_",VLOOKUP(F12,cat_omschrijving,3,0)) -> Bureau | U12: =IF(F12="nio","_",VLOOKUP(F12,cat_omschrijving,4,0)) -> AQL 7% | W12: 100 | Y12: =IF(F12="nio","_",(L12/W12)*VLOOKUP(O12,Aanpassing_frequenties,3,0)) -> 48.603 | Z12: =IF(F12="nio","_",Y12*Rekentarief) -> 0 | AB12: =IF(OR($F12="nio",P12=""),"_",($L12/$W12)*VLOOKUP(P12,Aanpassing_frequenties,3,0)) -> _ | AC12: =IF(OR($F12="nio",P12=""),"_",AB12*Rekentarief30) -> _ | AE12: =IF(OR($F12="nio",Q12=""),"_",($L12/$W12)*VLOOKUP(Q12,Aanpassing_frequenties,3,0)) -> _ | AF12: =IF(OR($F12="nio",Q12=""),"_",AE12*Rekentarief50) -> _ | AH12: =IF(OR($F12="nio",R12=""),"_",($L12/$W12)*VLOOKUP(R12,Aanpassing_frequenties,3,0)) -> _ | AI12: =IF(OR($F12="nio",R12=""),"_",AH12*rekentarief150) -> _ | AK12: =IF(F12="nio","_",SUM(Y12,AB12,AE12,AH12)) -> 48.603 | AL12: =IF(F12="nio","_",SUM(Z12,AC12,AF12,AI12)) -> 0
A13: 1 | B13: =VLOOKUP(A13,'Overzicht locaties'!B:D,2,0) -> CE18 | C13: Begane grond | D13: 8 | E13: Printerruimte bulkprinters | F13: 3 | G13: =VLOOKUP(F13,cat_omschrijving,2,0) -> Verkeersruimte / Garderobe / Wachtruimte | H13: Tapijt | I13: 4 | J13: =VLOOKUP(I13,Legenda_vloerafwerking,2,0) -> Tapijt | K13: 13.54 | L13: =K13-M13 -> 13.54 | M13: =IF(F13="nio",K13,0) -> 0 | O13: 5w | T13: =IF(F13="nio","_",VLOOKUP(F13,cat_omschrijving,3,0)) -> Verkeer | U13: =IF(F13="nio","_",VLOOKUP(F13,cat_omschrijving,4,0)) -> AQL 7% | W13: 100 | Y13: =IF(F13="nio","_",(L13/W13)*VLOOKUP(O13,Aanpassing_frequenties,3,0)) -> 34.527 | Z13: =IF(F13="nio","_",Y13*Rekentarief) -> 0 | AB13: =IF(OR($F13="nio",P13=""),"_",($L13/$W13)*VLOOKUP(P13,Aanpassing_frequenties,3,0)) -> _ | AC13: =IF(OR($F13="nio",P13=""),"_",AB13*Rekentarief30) -> _ | AE13: =IF(OR($F13="nio",Q13=""),"_",($L13/$W13)*VLOOKUP(Q13,Aanpassing_frequenties,3,0)) -> _ | AF13: =IF(OR($F13="nio",Q13=""),"_",AE13*Rekentarief50) -> _ | AH13: =IF(OR($F13="nio",R13=""),"_",($L13/$W13)*VLOOKUP(R13,Aanpassing_frequenties,3,0)) -> _ | AI13: =IF(OR($F13="nio",R13=""),"_",AH13*rekentarief150) -> _ | AK13: =IF(F13="nio","_",SUM(Y13,AB13,AE13,AH13)) -> 34.527 | AL13: =IF(F13="nio","_",SUM(Z13,AC13,AF13,AI13)) -> 0
A14: 1 | B14: =VLOOKUP(A14,'Overzicht locaties'!B:D,2,0) -> CE18 | C14: Begane grond | D14: 9 | E14: CE-Maastricht | F14: 1 | G14: =VLOOKUP(F14,cat_omschrijving,2,0) -> Kantoorruimte / vergaderruimte | H14: Tapijt | I14: 4 | J14: =VLOOKUP(I14,Legenda_vloerafwerking,2,0) -> Tapijt | K14: 28.29 | L14: =K14-M14 -> 28.29 | M14: =IF(F14="nio",K14,0) -> 0 | O14: 5w | T14: =IF(F14="nio","_",VLOOKUP(F14,cat_omschrijving,3,0)) -> Bureau | U14: =IF(F14="nio","_",VLOOKUP(F14,cat_omschrijving,4,0)) -> AQL 7% | W14: 100 | Y14: =IF(F14="nio","_",(L14/W14)*VLOOKUP(O14,Aanpassing_frequenties,3,0)) -> 72.1395 | Z14: =IF(F14="nio","_",Y14*Rekentarief) -> 0 | AB14: =IF(OR($F14="nio",P14=""),"_",($L14/$W14)*VLOOKUP(P14,Aanpassing_frequenties,3,0)) -> _ | AC14: =IF(OR($F14="nio",P14=""),"_",AB14*Rekentarief30) -> _ | AE14: =IF(OR($F14="nio",Q14=""),"_",($L14/$W14)*VLOOKUP(Q14,Aanpassing_frequenties,3,0)) -> _ | AF14: =IF(OR($F14="nio",Q14=""),"_",AE14*Rekentarief50) -> _ | AH14: =IF(OR($F14="nio",R14=""),"_",($L14/$W14)*VLOOKUP(R14,Aanpassing_frequenties,3,0)) -> _ | AI14: =IF(OR($F14="nio",R14=""),"_",AH14*rekentarief150) -> _ | AK14: =IF(F14="nio","_",SUM(Y14,AB14,AE14,AH14)) -> 72.1395 | AL14: =IF(F14="nio","_",SUM(Z14,AC14,AF14,AI14)) -> 0
A15: 1 | B15: =VLOOKUP(A15,'Overzicht locaties'!B:D,2,0) -> CE18 | C15: Begane grond | D15: 10 | E15: Overlegruimte | F15: 1 | G15: =VLOOKUP(F15,cat_omschrijving,2,0) -> Kantoorruimte / vergaderruimte | H15: Tapijt | I15: 4 | J15: =VLOOKUP(I15,Legenda_vloerafwerking,2,0) -> Tapijt | K15: 20.84 | L15: =K15-M15 -> 20.84 | M15: =IF(F15="nio",K15,0) -> 0 | O15: 5w | T15: =IF(F15="nio","_",VLOOKUP(F15,cat_omschrijving,3,0)) -> Bureau | U15: =IF(F15="nio","_",VLOOKUP(F15,cat_omschrijving,4,0)) -> AQL 7% | W15: 100 | Y15: =IF(F15="nio","_",(L15/W15)*VLOOKUP(O15,Aanpassing_frequenties,3,0)) -> 53.142 | Z15: =IF(F15="nio","_",Y15*Rekentarief) -> 0 | AB15: =IF(OR($F15="nio",P15=""),"_",($L15/$W15)*VLOOKUP(P15,Aanpassing_frequenties,3,0)) -> _ | AC15: =IF(OR($F15="nio",P15=""),"_",AB15*Rekentarief30) -> _ | AE15: =IF(OR($F15="nio",Q15=""),"_",($L15/$W15)*VLOOKUP(Q15,Aanpassing_frequenties,3,0)) -> _ | AF15: =IF(OR($F15="nio",Q15=""),"_",AE15*Rekentarief50) -> _ | AH15: =IF(OR($F15="nio",R15=""),"_",($L15/$W15)*VLOOKUP(R15,Aanpassing_frequenties,3,0)) -> _ | AI15: =IF(OR($F15="nio",R15=""),"_",AH15*rekentarief150) -> _ | AK15: =IF(F15="nio","_",SUM(Y15,AB15,AE15,AH15)) -> 53.142 | AL15: =IF(F15="nio","_",SUM(Z15,AC15,AF15,AI15)) -> 0
A16: 1 | B16: =VLOOKUP(A16,'Overzicht locaties'!B:D,2,0) -> CE18 | C16: Begane grond | D16: 11 | E16: Radiologen | F16: 1 | G16: =VLOOKUP(F16,cat_omschrijving,2,0) -> Kantoorruimte / vergaderruimte | H16: Tapijt | I16: 4 | J16: =VLOOKUP(I16,Legenda_vloerafwerking,2,0) -> Tapijt | K16: 21.23 | L16: =K16-M16 -> 21.23 | M16: =IF(F16="nio",K16,0) -> 0 | O16: 5w | T16: =IF(F16="nio","_",VLOOKUP(F16,cat_omschrijving,3,0)) -> Bureau | U16: =IF(F16="nio","_",VLOOKUP(F16,cat_omschrijving,4,0)) -> AQL 7% | W16: 100 | Y16: =IF(F16="nio","_",(L16/W16)*VLOOKUP(O16,Aanpassing_frequenties,3,0)) -> 54.1365 | Z16: =IF(F16="nio","_",Y16*Rekentarief) -> 0 | AB16: =IF(OR($F16="nio",P16=""),"_",($L16/$W16)*VLOOKUP(P16,Aanpassing_frequenties,3,0)) -> _ | AC16: =IF(OR($F16="nio",P16=""),"_",AB16*Rekentarief30) -> _ | AE16: =IF(OR($F16="nio",Q16=""),"_",($L16/$W16)*VLOOKUP(Q16,Aanpassing_frequenties,3,0)) -> _ | AF16: =IF(OR($F16="nio",Q16=""),"_",AE16*Rekentarief50) -> _ | AH16: =IF(OR($F16="nio",R16=""),"_",($L16/$W16)*VLOOKUP(R16,Aanpassing_frequenties,3,0)) -> _ | AI16: =IF(OR($F16="nio",R16=""),"_",AH16*rekentarief150) -> _ | AK16: =IF(F16="nio","_",SUM(Y16,AB16,AE16,AH16)) -> 54.1365 | AL16: =IF(F16="nio","_",SUM(Z16,AC16,AF16,AI16)) -> 0
A17: 1 | B17: =VLOOKUP(A17,'Overzicht locaties'!B:D,2,0) -> CE18 | C17: Begane grond | D17: geen nummer | E17: Entree en verkeersruimte | F17: 3 | G17: =VLOOKUP(F17,cat_omschrijving,2,0) -> Verkeersruimte / Garderobe / Wachtruimte | H17: Tapijt | I17: 4 | J17: =VLOOKUP(I17,Legenda_vloerafwerking,2,0) -> Tapijt | K17: 46 | L17: =K17-M17 -> 46 | M17: =IF(F17="nio",K17,0) -> 0 | O17: 5w | T17: =IF(F17="nio","_",VLOOKUP(F17,cat_omschrijving,3,0)) -> Verkeer | U17: =IF(F17="nio","_",VLOOKUP(F17,cat_omschrijving,4,0)) -> AQL 7% | W17: 100 | Y17: =IF(F17="nio","_",(L17/W17)*VLOOKUP(O17,Aanpassing_frequenties,3,0)) -> 117.3 | Z17: =IF(F17="nio","_",Y17*Rekentarief) -> 0 | AB17: =IF(OR($F17="nio",P17=""),"_",($L17/$W17)*VLOOKUP(P17,Aanpassing_frequenties,3,0)) -> _ | AC17: =IF(OR($F17="nio",P17=""),"_",AB17*Rekentarief30) -> _ | AE17: =IF(OR($F17="nio",Q17=""),"_",($L17/$W17)*VLOOKUP(Q17,Aanpassing_frequenties,3,0)) -> _ | AF17: =IF(OR($F17="nio",Q17=""),"_",AE17*Rekentarief50) -> _ | AH17: =IF(OR($F17="nio",R17=""),"_",($L17/$W17)*VLOOKUP(R17,Aanpassing_frequenties,3,0)) -> _ | AI17: =IF(OR($F17="nio",R17=""),"_",AH17*rekentarief150) -> _ | AK17: =IF(F17="nio","_",SUM(Y17,AB17,AE17,AH17)) -> 117.3 | AL17: =IF(F17="nio","_",SUM(Z17,AC17,AF17,AI17)) -> 0
A18: 1 | B18: =VLOOKUP(A18,'Overzicht locaties'!B:D,2,0) -> CE18 | C18: Begane grond | D18: 12 | E18: Postkamer | F18: 1 | G18: =VLOOKUP(F18,cat_omschrijving,2,0) -> Kantoorruimte / vergaderruimte | H18: Tapijt | I18: 4 | J18: =VLOOKUP(I18,Legenda_vloerafwerking,2,0) -> Tapijt | K18: 59 | L18: =K18-M18 -> 59 | M18: =IF(F18="nio",K18,0) -> 0 | O18: 5w | T18: =IF(F18="nio","_",VLOOKUP(F18,cat_omschrijving,3,0)) -> Bureau | U18: =IF(F18="nio","_",VLOOKUP(F18,cat_omschrijving,4,0)) -> AQL 7% | W18: 100 | Y18: =IF(F18="nio","_",(L18/W18)*VLOOKUP(O18,Aanpassing_frequenties,3,0)) -> 150.45 | Z18: =IF(F18="nio","_",Y18*Rekentarief) -> 0 | AB18: =IF(OR($F18="nio",P18=""),"_",($L18/$W18)*VLOOKUP(P18,Aanpassing_frequenties,3,0)) -> _ | AC18: =IF(OR($F18="nio",P18=""),"_",AB18*Rekentarief30) -> _ | AE18: =IF(OR($F18="nio",Q18=""),"_",($L18/$W18)*VLOOKUP(Q18,Aanpassing_frequenties,3,0)) -> _ | AF18: =IF(OR($F18="nio",Q18=""),"_",AE18*Rekentarief50) -> _ | AH18: =IF(OR($F18="nio",R18=""),"_",($L18/$W18)*VLOOKUP(R18,Aanpassing_frequenties,3,0)) -> _ | AI18: =IF(OR($F18="nio",R18=""),"_",AH18*rekentarief150) -> _ | AK18: =IF(F18="nio","_",SUM(Y18,AB18,AE18,AH18)) -> 150.45 | AL18: =IF(F18="nio","_",SUM(Z18,AC18,AF18,AI18)) -> 0
A19: 1 | B19: =VLOOKUP(A19,'Overzicht locaties'!B:D,2,0) -> CE18 | C19: 1e verdieping | D19: geen nummer | E19: Pantry | F19: 5 | G19: =VLOOKUP(F19,cat_omschrijving,2,0) -> Pantry / keuken / koffie / restaurant | H19: Tegel | I19: 3 | J19: =VLOOKUP(I19,Legenda_vloerafwerking,2,0) -> Harde vloer zonder polymeer beschermlaag, met behandeling | K19: 4 | L19: =K19-M19 -> 4 | M19: =IF(F19="nio",K19,0) -> 0 | O19: 5w | T19: =IF(F19="nio","_",VLOOKUP(F19,cat_omschrijving,3,0)) -> Verkeer | U19: =IF(F19="nio","_",VLOOKUP(F19,cat_omschrijving,4,0)) -> AQL 7% | W19: 100 | Y19: =IF(F19="nio","_",(L19/W19)*VLOOKUP(O19,Aanpassing_frequenties,3,0)) -> 10.2 | Z19: =IF(F19="nio","_",Y19*Rekentarief) -> 0 | AB19: =IF(OR($F19="nio",P19=""),"_",($L19/$W19)*VLOOKUP(P19,Aanpassing_frequenties,3,0)) -> _ | AC19: =IF(OR($F19="nio",P19=""),"_",AB19*Rekentarief30) -> _ | AE19: =IF(OR($F19="nio",Q19=""),"_",($L19/$W19)*VLOOKUP(Q19,Aanpassing_frequenties,3,0)) -> _ | AF19: =IF(OR($F19="nio",Q19=""),"_",AE19*Rekentarief50) -> _ | AH19: =IF(OR($F19="nio",R19=""),"_",($L19/$W19)*VLOOKUP(R19,Aanpassing_frequenties,3,0)) -> _ | AI19: =IF(OR($F19="nio",R19=""),"_",AH19*rekentarief150) -> _ | AK19: =IF(F19="nio","_",SUM(Y19,AB19,AE19,AH19)) -> 10.2 | AL19: =IF(F19="nio","_",SUM(Z19,AC19,AF19,AI19)) -> 0
A20: 1 | B20: =VLOOKUP(A20,'Overzicht locaties'!B:D,2,0) -> CE18 | C20: 1e verdieping | D20: 13 | E20: Toiletten | F20: 2 | G20: =VLOOKUP(F20,cat_omschrijving,2,0) -> Sanitaire ruimte | H20: Tegel | I20: 3 | J20: =VLOOKUP(I20,Legenda_vloerafwerking,2,0) -> Harde vloer zonder polymeer beschermlaag, met behandeling | K20: 7.5 | L20: =K20-M20 -> 7.5 | M20: =IF(F20="nio",K20,0) -> 0 | O20: 5w | T20: =IF(F20="nio","_",VLOOKUP(F20,cat_omschrijving,3,0)) -> Sanitair | U20: =IF(F20="nio","_",VLOOKUP(F20,cat_omschrijving,4,0)) -> AQL 4% | W20: 100 | Y20: =IF(F20="nio","_",(L20/W20)*VLOOKUP(O20,Aanpassing_frequenties,3,0)) -> 19.125 | Z20: =IF(F20="nio","_",Y20*Rekentarief) -> 0 | AB20: =IF(OR($F20="nio",P20=""),"_",($L20/$W20)*VLOOKUP(P20,Aanpassing_frequenties,3,0)) -> _ | AC20: =IF(OR($F20="nio",P20=""),"_",AB20*Rekentarief30) -> _ | AE20: =IF(OR($F20="nio",Q20=""),"_",($L20/$W20)*VLOOKUP(Q20,Aanpassing_frequenties,3,0)) -> _ | AF20: =IF(OR($F20="nio",Q20=""),"_",AE20*Rekentarief50) -> _ | AH20: =IF(OR($F20="nio",R20=""),"_",($L20/$W20)*VLOOKUP(R20,Aanpassing_frequenties,3,0)) -> _ | AI20: =IF(OR($F20="nio",R20=""),"_",AH20*rekentarief150) -> _ | AK20: =IF(F20="nio","_",SUM(Y20,AB20,AE20,AH20)) -> 19.125 | AL20: =IF(F20="nio","_",SUM(Z20,AC20,AF20,AI20)) -> 0
A21: 1 | B21: =VLOOKUP(A21,'Overzicht locaties'!B:D,2,0) -> CE18 | C21: 1e verdieping | D21: 14 | E21: Toiletten | F21: 2 | G21: =VLOOKUP(F21,cat_omschrijving,2,0) -> Sanitaire ruimte | H21: Tegel | I21: 3 | J21: =VLOOKUP(I21,Legenda_vloerafwerking,2,0) -> Harde vloer zonder polymeer beschermlaag, met behandeling | K21: 7.5 | L21: =K21-M21 -> 7.5 | M21: =IF(F21="nio",K21,0) -> 0 | O21: 5w | T21: =IF(F21="nio","_",VLOOKUP(F21,cat_omschrijving,3,0)) -> Sanitair | U21: =IF(F21="nio","_",VLOOKUP(F21,cat_omschrijving,4,0)) -> AQL 4% | W21: 100 | Y21: =IF(F21="nio","_",(L21/W21)*VLOOKUP(O21,Aanpassing_frequenties,3,0)) -> 19.125 | Z21: =IF(F21="nio","_",Y21*Rekentarief) -> 0 | AB21: =IF(OR($F21="nio",P21=""),"_",($L21/$W21)*VLOOKUP(P21,Aanpassing_frequenties,3,0)) -> _ | AC21: =IF(OR($F21="nio",P21=""),"_",AB21*Rekentarief30) -> _ | AE21: =IF(OR($F21="nio",Q21=""),"_",($L21/$W21)*VLOOKUP(Q21,Aanpassing_frequenties,3,0)) -> _ | AF21: =IF(OR($F21="nio",Q21=""),"_",AE21*Rekentarief50) -> _ | AH21: =IF(OR($F21="nio",R21=""),"_",($L21/$W21)*VLOOKUP(R21,Aanpassing_frequenties,3,0)) -> _ | AI21: =IF(OR($F21="nio",R21=""),"_",AH21*rekentarief150) -> _ | AK21: =IF(F21="nio","_",SUM(Y21,AB21,AE21,AH21)) -> 19.125 | AL21: =IF(F21="nio","_",SUM(Z21,AC21,AF21,AI21)) -> 0
A22: 1 | B22: =VLOOKUP(A22,'Overzicht locaties'!B:D,2,0) -> CE18 | C22: 1e verdieping | D22: geen nummer | E22: Verkeersruimte | F22: 3 | G22: =VLOOKUP(F22,cat_omschrijving,2,0) -> Verkeersruimte / Garderobe / Wachtruimte | H22: Tapijt | I22: 4 | J22: =VLOOKUP(I22,Legenda_vloerafwerking,2,0) -> Tapijt | K22: 63.49 | L22: =K22-M22 -> 63.49 | M22: =IF(F22="nio",K22,0) -> 0 | O22: 5w | T22: =IF(F22="nio","_",VLOOKUP(F22,cat_omschrijving,3,0)) -> Verkeer | U22: =IF(F22="nio","_",VLOOKUP(F22,cat_omschrijving,4,0)) -> AQL 7% | W22: 100 | Y22: =IF(F22="nio","_",(L22/W22)*VLOOKUP(O22,Aanpassing_frequenties,3,0)) -> 161.8995 | Z22: =IF(F22="nio","_",Y22*Rekentarief) -> 0 | AB22: =IF(OR($F22="nio",P22=""),"_",($L22/$W22)*VLOOKUP(P22,Aanpassing_frequenties,3,0)) -> _ | AC22: =IF(OR($F22="nio",P22=""),"_",AB22*Rekentarief30) -> _ | AE22: =IF(OR($F22="nio",Q22=""),"_",($L22/$W22)*VLOOKUP(Q22,Aanpassing_frequenties,3,0)) -> _ | AF22: =IF(OR($F22="nio",Q22=""),"_",AE22*Rekentarief50) -> _ | AH22: =IF(OR($F22="nio",R22=""),"_",($L22/$W22)*VLOOKUP(R22,Aanpassing_frequenties,3,0)) -> _ | AI22: =IF(OR($F22="nio",R22=""),"_",AH22*rekentarief150) -> _ | AK22: =IF(F22="nio","_",SUM(Y22,AB22,AE22,AH22)) -> 161.8995 | AL22: =IF(F22="nio","_",SUM(Z22,AC22,AF22,AI22)) -> 0
A23: 1 | B23: =VLOOKUP(A23,'Overzicht locaties'!B:D,2,0) -> CE18 | C23: 1e verdieping | D23: geen nummer | E23: Kelder | F23: 6 | G23: =VLOOKUP(F23,cat_omschrijving,2,0) -> Overig / Magazijn / Archief / Berging / Technische ruimte | H23: Betonvloer | I23: 2 | J23: =VLOOKUP(I23,Legenda_vloerafwerking,2,0) -> Harde vloeren zonder extra behandeling | K23: 124.97 | L23: =K23-M23 -> 124.97 | M23: =IF(F23="nio",K23,0) -> 0 | O23: 1j | T23: =IF(F23="nio","_",VLOOKUP(F23,cat_omschrijving,3,0)) -> Verkeer | U23: =IF(F23="nio","_",VLOOKUP(F23,cat_omschrijving,4,0)) -> AQL 7% | W23: 100 | Y23: =IF(F23="nio","_",(L23/W23)*VLOOKUP(O23,Aanpassing_frequenties,3,0)) -> 1.2497 | Z23: =IF(F23="nio","_",Y23*Rekentarief) -> 0 | AB23: =IF(OR($F23="nio",P23=""),"_",($L23/$W23)*VLOOKUP(P23,Aanpassing_frequenties,3,0)) -> _ | AC23: =IF(OR($F23="nio",P23=""),"_",AB23*Rekentarief30) -> _ | AE23: =IF(OR($F23="nio",Q23=""),"_",($L23/$W23)*VLOOKUP(Q23,Aanpassing_frequenties,3,0)) -> _ | AF23: =IF(OR($F23="nio",Q23=""),"_",AE23*Rekentarief50) -> _ | AH23: =IF(OR($F23="nio",R23=""),"_",($L23/$W23)*VLOOKUP(R23,Aanpassing_frequenties,3,0)) -> _ | AI23: =IF(OR($F23="nio",R23=""),"_",AH23*rekentarief150) -> _ | AK23: =IF(F23="nio","_",SUM(Y23,AB23,AE23,AH23)) -> 1.2497 | AL23: =IF(F23="nio","_",SUM(Z23,AC23,AF23,AI23)) -> 0
A24: 1 | B24: =VLOOKUP(A24,'Overzicht locaties'!B:D,2,0) -> CE18 | C24: 1e verdieping | D24: geen nummer | E24: Archief | F24: 6 | G24: =VLOOKUP(F24,cat_omschrijving,2,0) -> Overig / Magazijn / Archief / Berging / Technische ruimte | H24: Betonvloer | I24: 2 | J24: =VLOOKUP(I24,Legenda_vloerafwerking,2,0) -> Harde vloeren zonder extra behandeling | K24: 56.94 | L24: =K24-M24 -> 56.94 | M24: =IF(F24="nio",K24,0) -> 0 | O24: 1j | T24: =IF(F24="nio","_",VLOOKUP(F24,cat_omschrijving,3,0)) -> Verkeer | U24: =IF(F24="nio","_",VLOOKUP(F24,cat_omschrijving,4,0)) -> AQL 7% | W24: 100 | Y24: =IF(F24="nio","_",(L24/W24)*VLOOKUP(O24,Aanpassing_frequenties,3,0)) -> 0.5694 | Z24: =IF(F24="nio","_",Y24*Rekentarief) -> 0 | AB24: =IF(OR($F24="nio",P24=""),"_",($L24/$W24)*VLOOKUP(P24,Aanpassing_frequenties,3,0)) -> _ | AC24: =IF(OR($F24="nio",P24=""),"_",AB24*Rekentarief30) -> _ | AE24: =IF(OR($F24="nio",Q24=""),"_",($L24/$W24)*VLOOKUP(Q24,Aanpassing_frequenties,3,0)) -> _ | AF24: =IF(OR($F24="nio",Q24=""),"_",AE24*Rekentarief50) -> _ | AH24: =IF(OR($F24="nio",R24=""),"_",($L24/$W24)*VLOOKUP(R24,Aanpassing_frequenties,3,0)) -> _ | AI24: =IF(OR($F24="nio",R24=""),"_",AH24*rekentarief150) -> _ | AK24: =IF(F24="nio","_",SUM(Y24,AB24,AE24,AH24)) -> 0.5694 | AL24: =IF(F24="nio","_",SUM(Z24,AC24,AF24,AI24)) -> 0
A25: 2 | B25: =VLOOKUP(A25,'Overzicht locaties'!B:D,2,0) -> CE05 | C25: 1e verdieping | D25: 1 | E25: CE Venlo | F25: 1 | G25: =VLOOKUP(F25,cat_omschrijving,2,0) -> Kantoorruimte / vergaderruimte | H25: Tapijt | I25: 4 | J25: =VLOOKUP(I25,Legenda_vloerafwerking,2,0) -> Tapijt | K25: 38.59 | L25: =K25-M25 -> 38.59 | M25: =IF(F25="nio",K25,0) -> 0 | O25: 2w | T25: =IF(F25="nio","_",VLOOKUP(F25,cat_omschrijving,3,0)) -> Bureau | U25: =IF(F25="nio","_",VLOOKUP(F25,cat_omschrijving,4,0)) -> AQL 7% | W25: 100 | Y25: =IF(F25="nio","_",(L25/W25)*VLOOKUP(O25,Aanpassing_frequenties,3,0)) -> 40.1336 | Z25: =IF(F25="nio","_",Y25*Rekentarief) -> 0 | AB25: =IF(OR($F25="nio",P25=""),"_",($L25/$W25)*VLOOKUP(P25,Aanpassing_frequenties,3,0)) -> _ | AC25: =IF(OR($F25="nio",P25=""),"_",AB25*Rekentarief30) -> _ | AE25: =IF(OR($F25="nio",Q25=""),"_",($L25/$W25)*VLOOKUP(Q25,Aanpassing_frequenties,3,0)) -> _ | AF25: =IF(OR($F25="nio",Q25=""),"_",AE25*Rekentarief50) -> _ | AH25: =IF(OR($F25="nio",R25=""),"_",($L25/$W25)*VLOOKUP(R25,Aanpassing_frequenties,3,0)) -> _ | AI25: =IF(OR($F25="nio",R25=""),"_",AH25*rekentarief150) -> _ | AK25: =IF(F25="nio","_",SUM(Y25,AB25,AE25,AH25)) -> 40.1336 | AL25: =IF(F25="nio","_",SUM(Z25,AC25,AF25,AI25)) -> 0
A26: 2 | B26: =VLOOKUP(A26,'Overzicht locaties'!B:D,2,0) -> CE05 | C26: 1e verdieping | D26: 2 | E26: CE Venlo incl. pantry | F26: 1 | G26: =VLOOKUP(F26,cat_omschrijving,2,0) -> Kantoorruimte / vergaderruimte | H26: Tapijt/vinyl | I26: 4 | J26: =VLOOKUP(I26,Legenda_vloerafwerking,2,0) -> Tapijt | K26: =(25.22 + 3.13) -> 28.35 | L26: =K26-M26 -> 28.35 | M26: =IF(F26="nio",K26,0) -> 0 | O26: 2w | T26: =IF(F26="nio","_",VLOOKUP(F26,cat_omschrijving,3,0)) -> Bureau | U26: =IF(F26="nio","_",VLOOKUP(F26,cat_omschrijving,4,0)) -> AQL 7% | W26: 100 | Y26: =IF(F26="nio","_",(L26/W26)*VLOOKUP(O26,Aanpassing_frequenties,3,0)) -> 29.484 | Z26: =IF(F26="nio","_",Y26*Rekentarief) -> 0 | AB26: =IF(OR($F26="nio",P26=""),"_",($L26/$W26)*VLOOKUP(P26,Aanpassing_frequenties,3,0)) -> _ | AC26: =IF(OR($F26="nio",P26=""),"_",AB26*Rekentarief30) -> _ | AE26: =IF(OR($F26="nio",Q26=""),"_",($L26/$W26)*VLOOKUP(Q26,Aanpassing_frequenties,3,0)) -> _ | AF26: =IF(OR($F26="nio",Q26=""),"_",AE26*Rekentarief50) -> _ | AH26: =IF(OR($F26="nio",R26=""),"_",($L26/$W26)*VLOOKUP(R26,Aanpassing_frequenties,3,0)) -> _ | AI26: =IF(OR($F26="nio",R26=""),"_",AH26*rekentarief150) -> _ | AK26: =IF(F26="nio","_",SUM(Y26,AB26,AE26,AH26)) -> 29.484 | AL26: =IF(F26="nio","_",SUM(Z26,AC26,AF26,AI26)) -> 0
A27: 2 | B27: =VLOOKUP(A27,'Overzicht locaties'!B:D,2,0) -> CE05 | C27: 1e verdieping | D27: 3 | E27: Toiletten | F27: 2 | G27: =VLOOKUP(F27,cat_omschrijving,2,0) -> Sanitaire ruimte | H27: Tegel | I27: 2 | J27: =VLOOKUP(I27,Legenda_vloerafwerking,2,0) -> Harde vloeren zonder extra behandeling | K27: =(1.23+1.23+2.59) -> 5.05 | L27: =K27-M27 -> 5.05 | M27: =IF(F27="nio",K27,0) -> 0 | O27: 2w | T27: =IF(F27="nio","_",VLOOKUP(F27,cat_omschrijving,3,0)) -> Sanitair | U27: =IF(F27="nio","_",VLOOKUP(F27,cat_omschrijving,4,0)) -> AQL 4% | W27: 100 | Y27: =IF(F27="nio","_",(L27/W27)*VLOOKUP(O27,Aanpassing_frequenties,3,0)) -> 5.252 | Z27: =IF(F27="nio","_",Y27*Rekentarief) -> 0 | AB27: =IF(OR($F27="nio",P27=""),"_",($L27/$W27)*VLOOKUP(P27,Aanpassing_frequenties,3,0)) -> _ | AC27: =IF(OR($F27="nio",P27=""),"_",AB27*Rekentarief30) -> _ | AE27: =IF(OR($F27="nio",Q27=""),"_",($L27/$W27)*VLOOKUP(Q27,Aanpassing_frequenties,3,0)) -> _ | AF27: =IF(OR($F27="nio",Q27=""),"_",AE27*Rekentarief50) -> _ | AH27: =IF(OR($F27="nio",R27=""),"_",($L27/$W27)*VLOOKUP(R27,Aanpassing_frequenties,3,0)) -> _ | AI27: =IF(OR($F27="nio",R27=""),"_",AH27*rekentarief150) -> _ | AK27: =IF(F27="nio","_",SUM(Y27,AB27,AE27,AH27)) -> 5.252 | AL27: =IF(F27="nio","_",SUM(Z27,AC27,AF27,AI27)) -> 0
A28: 2 | B28: =VLOOKUP(A28,'Overzicht locaties'!B:D,2,0) -> CE05 | C28: 1e verdieping | D28: 4 | E28: CV-ketel + schoonmaak | F28: 6 | G28: =VLOOKUP(F28,cat_omschrijving,2,0) -> Overig / Magazijn / Archief / Berging / Technische ruimte | H28: beton | I28: 2 | J28: =VLOOKUP(I28,Legenda_vloerafwerking,2,0) -> Harde vloeren zonder extra behandeling | K28: 2.67 | L28: =K28-M28 -> 2.67 | M28: =IF(F28="nio",K28,0) -> 0 | O28: 1j | T28: =IF(F28="nio","_",VLOOKUP(F28,cat_omschrijving,3,0)) -> Verkeer | U28: =IF(F28="nio","_",VLOOKUP(F28,cat_omschrijving,4,0)) -> AQL 7% | W28: 100 | Y28: =IF(F28="nio","_",(L28/W28)*VLOOKUP(O28,Aanpassing_frequenties,3,0)) -> 0.0267 | Z28: =IF(F28="nio","_",Y28*Rekentarief) -> 0 | AB28: =IF(OR($F28="nio",P28=""),"_",($L28/$W28)*VLOOKUP(P28,Aanpassing_frequenties,3,0)) -> _ | AC28: =IF(OR($F28="nio",P28=""),"_",AB28*Rekentarief30) -> _ | AE28: =IF(OR($F28="nio",Q28=""),"_",($L28/$W28)*VLOOKUP(Q28,Aanpassing_frequenties,3,0)) -> _ | AF28: =IF(OR($F28="nio",Q28=""),"_",AE28*Rekentarief50) -> _ | AH28: =IF(OR($F28="nio",R28=""),"_",($L28/$W28)*VLOOKUP(R28,Aanpassing_frequenties,3,0)) -> _ | AI28: =IF(OR($F28="nio",R28=""),"_",AH28*rekentarief150) -> _ | AK28: =IF(F28="nio","_",SUM(Y28,AB28,AE28,AH28)) -> 0.0267 | AL28: =IF(F28="nio","_",SUM(Z28,AC28,AF28,AI28)) -> 0
A29: 2 | B29: =VLOOKUP(A29,'Overzicht locaties'!B:D,2,0) -> CE05 | C29: 1e verdieping | D29: 5 | E29: Serverrruimte | F29: 6 | G29: =VLOOKUP(F29,cat_omschrijving,2,0) -> Overig / Magazijn / Archief / Berging / Technische ruimte | H29: vinyl | I29: 3 | J29: =VLOOKUP(I29,Legenda_vloerafwerking,2,0) -> Harde vloer zonder polymeer beschermlaag, met behandeling | K29: 4.99 | L29: =K29-M29 -> 4.99 | M29: =IF(F29="nio",K29,0) -> 0 | O29: 2w | T29: =IF(F29="nio","_",VLOOKUP(F29,cat_omschrijving,3,0)) -> Verkeer | U29: =IF(F29="nio","_",VLOOKUP(F29,cat_omschrijving,4,0)) -> AQL 7% | W29: 100 | Y29: =IF(F29="nio","_",(L29/W29)*VLOOKUP(O29,Aanpassing_frequenties,3,0)) -> 5.1896 | Z29: =IF(F29="nio","_",Y29*Rekentarief) -> 0 | AB29: =IF(OR($F29="nio",P29=""),"_",($L29/$W29)*VLOOKUP(P29,Aanpassing_frequenties,3,0)) -> _ | AC29: =IF(OR($F29="nio",P29=""),"_",AB29*Rekentarief30) -> _ | AE29: =IF(OR($F29="nio",Q29=""),"_",($L29/$W29)*VLOOKUP(Q29,Aanpassing_frequenties,3,0)) -> _ | AF29: =IF(OR($F29="nio",Q29=""),"_",AE29*Rekentarief50) -> _ | AH29: =IF(OR($F29="nio",R29=""),"_",($L29/$W29)*VLOOKUP(R29,Aanpassing_frequenties,3,0)) -> _ | AI29: =IF(OR($F29="nio",R29=""),"_",AH29*rekentarief150) -> _ | AK29: =IF(F29="nio","_",SUM(Y29,AB29,AE29,AH29)) -> 5.1896 | AL29: =IF(F29="nio","_",SUM(Z29,AC29,AF29,AI29)) -> 0
A30: 2 | B30: =VLOOKUP(A30,'Overzicht locaties'!B:D,2,0) -> CE05 | C30: 1e verdieping | D30: 6 | E30: Kantoor | F30: 1 | G30: =VLOOKUP(F30,cat_omschrijving,2,0) -> Kantoorruimte / vergaderruimte | H30: vinyl | I30: 3 | J30: =VLOOKUP(I30,Legenda_vloerafwerking,2,0) -> Harde vloer zonder polymeer beschermlaag, met behandeling | K30: 24.19 | L30: =K30-M30 -> 24.19 | M30: =IF(F30="nio",K30,0) -> 0 | O30: 2w | T30: =IF(F30="nio","_",VLOOKUP(F30,cat_omschrijving,3,0)) -> Bureau | U30: =IF(F30="nio","_",VLOOKUP(F30,cat_omschrijving,4,0)) -> AQL 7% | W30: 100 | Y30: =IF(F30="nio","_",(L30/W30)*VLOOKUP(O30,Aanpassing_frequenties,3,0)) -> 25.1576 | Z30: =IF(F30="nio","_",Y30*Rekentarief) -> 0 | AB30: =IF(OR($F30="nio",P30=""),"_",($L30/$W30)*VLOOKUP(P30,Aanpassing_frequenties,3,0)) -> _ | AC30: =IF(OR($F30="nio",P30=""),"_",AB30*Rekentarief30) -> _ | AE30: =IF(OR($F30="nio",Q30=""),"_",($L30/$W30)*VLOOKUP(Q30,Aanpassing_frequenties,3,0)) -> _ | AF30: =IF(OR($F30="nio",Q30=""),"_",AE30*Rekentarief50) -> _ | AH30: =IF(OR($F30="nio",R30=""),"_",($L30/$W30)*VLOOKUP(R30,Aanpassing_frequenties,3,0)) -> _ | AI30: =IF(OR($F30="nio",R30=""),"_",AH30*rekentarief150) -> _ | AK30: =IF(F30="nio","_",SUM(Y30,AB30,AE30,AH30)) -> 25.1576 | AL30: =IF(F30="nio","_",SUM(Z30,AC30,AF30,AI30)) -> 0
A31: 2 | B31: =VLOOKUP(A31,'Overzicht locaties'!B:D,2,0) -> CE05 | C31: 1e verdieping | D31: 7 | E31: Overlegruimte | F31: 1 | G31: =VLOOKUP(F31,cat_omschrijving,2,0) -> Kantoorruimte / vergaderruimte | H31: vinyl | I31: 3 | J31: =VLOOKUP(I31,Legenda_vloerafwerking,2,0) -> Harde vloer zonder polymeer beschermlaag, met behandeling | K31: 25.48 | L31: =K31-M31 -> 25.48 | M31: =IF(F31="nio",K31,0) -> 0 | O31: 2w | T31: =IF(F31="nio","_",VLOOKUP(F31,cat_omschrijving,3,0)) -> Bureau | U31: =IF(F31="nio","_",VLOOKUP(F31,cat_omschrijving,4,0)) -> AQL 7% | W31: 100 | Y31: =IF(F31="nio","_",(L31/W31)*VLOOKUP(O31,Aanpassing_frequenties,3,0)) -> 26.4992 | Z31: =IF(F31="nio","_",Y31*Rekentarief) -> 0 | AB31: =IF(OR($F31="nio",P31=""),"_",($L31/$W31)*VLOOKUP(P31,Aanpassing_frequenties,3,0)) -> _ | AC31: =IF(OR($F31="nio",P31=""),"_",AB31*Rekentarief30) -> _ | AE31: =IF(OR($F31="nio",Q31=""),"_",($L31/$W31)*VLOOKUP(Q31,Aanpassing_frequenties,3,0)) -> _ | AF31: =IF(OR($F31="nio",Q31=""),"_",AE31*Rekentarief50) -> _ | AH31: =IF(OR($F31="nio",R31=""),"_",($L31/$W31)*VLOOKUP(R31,Aanpassing_frequenties,3,0)) -> _ | AI31: =IF(OR($F31="nio",R31=""),"_",AH31*rekentarief150) -> _ | AK31: =IF(F31="nio","_",SUM(Y31,AB31,AE31,AH31)) -> 26.4992 | AL31: =IF(F31="nio","_",SUM(Z31,AC31,AF31,AI31)) -> 0
A32: 2 | B32: =VLOOKUP(A32,'Overzicht locaties'!B:D,2,0) -> CE05 | C32: 1e verdieping | D32: 8 | E32: Radiologen ruimte | F32: 4 | G32: =VLOOKUP(F32,cat_omschrijving,2,0) -> Medische ruimte | H32: vinyl | I32: 3 | J32: =VLOOKUP(I32,Legenda_vloerafwerking,2,0) -> Harde vloer zonder polymeer beschermlaag, met behandeling | K32: 24.18 | L32: =K32-M32 -> 24.18 | M32: =IF(F32="nio",K32,0) -> 0 | O32: 2w | T32: =IF(F32="nio","_",VLOOKUP(F32,cat_omschrijving,3,0)) -> Behandel | U32: =IF(F32="nio","_",VLOOKUP(F32,cat_omschrijving,4,0)) -> AQL 3% | W32: 100 | Y32: =IF(F32="nio","_",(L32/W32)*VLOOKUP(O32,Aanpassing_frequenties,3,0)) -> 25.1472 | Z32: =IF(F32="nio","_",Y32*Rekentarief) -> 0 | AB32: =IF(OR($F32="nio",P32=""),"_",($L32/$W32)*VLOOKUP(P32,Aanpassing_frequenties,3,0)) -> _ | AC32: =IF(OR($F32="nio",P32=""),"_",AB32*Rekentarief30) -> _ | AE32: =IF(OR($F32="nio",Q32=""),"_",($L32/$W32)*VLOOKUP(Q32,Aanpassing_frequenties,3,0)) -> _ | AF32: =IF(OR($F32="nio",Q32=""),"_",AE32*Rekentarief50) -> _ | AH32: =IF(OR($F32="nio",R32=""),"_",($L32/$W32)*VLOOKUP(R32,Aanpassing_frequenties,3,0)) -> _ | AI32: =IF(OR($F32="nio",R32=""),"_",AH32*rekentarief150) -> _ | AK32: =IF(F32="nio","_",SUM(Y32,AB32,AE32,AH32)) -> 25.1472 | AL32: =IF(F32="nio","_",SUM(Z32,AC32,AF32,AI32)) -> 0
A33: 2 | B33: =VLOOKUP(A33,'Overzicht locaties'!B:D,2,0) -> CE05 | C33: 1e verdieping | D33: geen nummer | E33: Opslagruimte | F33: 6 | G33: =VLOOKUP(F33,cat_omschrijving,2,0) -> Overig / Magazijn / Archief / Berging / Technische ruimte | H33: tapijt | I33: 4 | J33: =VLOOKUP(I33,Legenda_vloerafwerking,2,0) -> Tapijt | K33: 21.2 | L33: =K33-M33 -> 21.2 | M33: =IF(F33="nio",K33,0) -> 0 | O33: 1j | T33: =IF(F33="nio","_",VLOOKUP(F33,cat_omschrijving,3,0)) -> Verkeer | U33: =IF(F33="nio","_",VLOOKUP(F33,cat_omschrijving,4,0)) -> AQL 7% | W33: 100 | Y33: =IF(F33="nio","_",(L33/W33)*VLOOKUP(O33,Aanpassing_frequenties,3,0)) -> 0.212 | Z33: =IF(F33="nio","_",Y33*Rekentarief) -> 0 | AB33: =IF(OR($F33="nio",P33=""),"_",($L33/$W33)*VLOOKUP(P33,Aanpassing_frequenties,3,0)) -> _ | AC33: =IF(OR($F33="nio",P33=""),"_",AB33*Rekentarief30) -> _ | AE33: =IF(OR($F33="nio",Q33=""),"_",($L33/$W33)*VLOOKUP(Q33,Aanpassing_frequenties,3,0)) -> _ | AF33: =IF(OR($F33="nio",Q33=""),"_",AE33*Rekentarief50) -> _ | AH33: =IF(OR($F33="nio",R33=""),"_",($L33/$W33)*VLOOKUP(R33,Aanpassing_frequenties,3,0)) -> _ | AI33: =IF(OR($F33="nio",R33=""),"_",AH33*rekentarief150) -> _ | AK33: =IF(F33="nio","_",SUM(Y33,AB33,AE33,AH33)) -> 0.212 | AL33: =IF(F33="nio","_",SUM(Z33,AC33,AF33,AI33)) -> 0
A34: 2 | B34: =VLOOKUP(A34,'Overzicht locaties'!B:D,2,0) -> CE05 | C34: 1e verdieping | D34: geen nummer | E34: Gang | F34: 3 | G34: =VLOOKUP(F34,cat_omschrijving,2,0) -> Verkeersruimte / Garderobe / Wachtruimte | H34: tegel | I34: 2 | J34: =VLOOKUP(I34,Legenda_vloerafwerking,2,0) -> Harde vloeren zonder extra behandeling | K34: 14.12 | L34: =K34-M34 -> 14.12 | M34: =IF(F34="nio",K34,0) -> 0 | O34: 2w | T34: =IF(F34="nio","_",VLOOKUP(F34,cat_omschrijving,3,0)) -> Verkeer | U34: =IF(F34="nio","_",VLOOKUP(F34,cat_omschrijving,4,0)) -> AQL 7% | W34: 100 | Y34: =IF(F34="nio","_",(L34/W34)*VLOOKUP(O34,Aanpassing_frequenties,3,0)) -> 14.6848 | Z34: =IF(F34="nio","_",Y34*Rekentarief) -> 0 | AB34: =IF(OR($F34="nio",P34=""),"_",($L34/$W34)*VLOOKUP(P34,Aanpassing_frequenties,3,0)) -> _ | AC34: =IF(OR($F34="nio",P34=""),"_",AB34*Rekentarief30) -> _ | AE34: =IF(OR($F34="nio",Q34=""),"_",($L34/$W34)*VLOOKUP(Q34,Aanpassing_frequenties,3,0)) -> _ | AF34: =IF(OR($F34="nio",Q34=""),"_",AE34*Rekentarief50) -> _ | AH34: =IF(OR($F34="nio",R34=""),"_",($L34/$W34)*VLOOKUP(R34,Aanpassing_frequenties,3,0)) -> _ | AI34: =IF(OR($F34="nio",R34=""),"_",AH34*rekentarief150) -> _ | AK34: =IF(F34="nio","_",SUM(Y34,AB34,AE34,AH34)) -> 14.6848 | AL34: =IF(F34="nio","_",SUM(Z34,AC34,AF34,AI34)) -> 0
A35: 2 | B35: =VLOOKUP(A35,'Overzicht locaties'!B:D,2,0) -> CE05 | C35: 1e verdieping | D35: geen nummer | E35: Overloop | F35: nio | G35: =VLOOKUP(F35,cat_omschrijving,2,0) -> niet in onderhoud | H35: tegel | I35: 2 | J35: =VLOOKUP(I35,Legenda_vloerafwerking,2,0) -> Harde vloeren zonder extra behandeling | K35: 8.92 | L35: =K35-M35 -> 0 | M35: =IF(F35="nio",K35,0) -> 8.92 | T35: =IF(F35="nio","_",VLOOKUP(F35,cat_omschrijving,3,0)) -> _ | U35: =IF(F35="nio","_",VLOOKUP(F35,cat_omschrijving,4,0)) -> _ | W35: 100 | Y35: =IF(F35="nio","_",(L35/W35)*VLOOKUP(O35,Aanpassing_frequenties,3,0)) -> _ | Z35: =IF(F35="nio","_",Y35*Rekentarief) -> _ | AB35: =IF(OR($F35="nio",P35=""),"_",($L35/$W35)*VLOOKUP(P35,Aanpassing_frequenties,3,0)) -> _ | AC35: =IF(OR($F35="nio",P35=""),"_",AB35*Rekentarief30) -> _ | AE35: =IF(OR($F35="nio",Q35=""),"_",($L35/$W35)*VLOOKUP(Q35,Aanpassing_frequenties,3,0)) -> _ | AF35: =IF(OR($F35="nio",Q35=""),"_",AE35*Rekentarief50) -> _ | AH35: =IF(OR($F35="nio",R35=""),"_",($L35/$W35)*VLOOKUP(R35,Aanpassing_frequenties,3,0)) -> _ | AI35: =IF(OR($F35="nio",R35=""),"_",AH35*rekentarief150) -> _ | AK35: =IF(F35="nio","_",SUM(Y35,AB35,AE35,AH35)) -> _ | AL35: =IF(F35="nio","_",SUM(Z35,AC35,AF35,AI35)) -> _
A36: 2 | B36: =VLOOKUP(A36,'Overzicht locaties'!B:D,2,0) -> CE05 | C36: 1e verdieping | D36: geen nummer | E36: Berging van de CE | F36: 6 | G36: =VLOOKUP(F36,cat_omschrijving,2,0) -> Overig / Magazijn / Archief / Berging / Technische ruimte | H36: beton | I36: 2 | J36: =VLOOKUP(I36,Legenda_vloerafwerking,2,0) -> Harde vloeren zonder extra behandeling | K36: 5.84 | L36: =K36-M36 -> 5.84 | M36: =IF(F36="nio",K36,0) -> 0 | O36: 1j | T36: =IF(F36="nio","_",VLOOKUP(F36,cat_omschrijving,3,0)) -> Verkeer | U36: =IF(F36="nio","_",VLOOKUP(F36,cat_omschrijving,4,0)) -> AQL 7% | W36: 100 | Y36: =IF(F36="nio","_",(L36/W36)*VLOOKUP(O36,Aanpassing_frequenties,3,0)) -> 0.0584 | Z36: =IF(F36="nio","_",Y36*Rekentarief) -> 0 | AB36: =IF(OR($F36="nio",P36=""),"_",($L36/$W36)*VLOOKUP(P36,Aanpassing_frequenties,3,0)) -> _ | AC36: =IF(OR($F36="nio",P36=""),"_",AB36*Rekentarief30) -> _ | AE36: =IF(OR($F36="nio",Q36=""),"_",($L36/$W36)*VLOOKUP(Q36,Aanpassing_frequenties,3,0)) -> _ | AF36: =IF(OR($F36="nio",Q36=""),"_",AE36*Rekentarief50) -> _ | AH36: =IF(OR($F36="nio",R36=""),"_",($L36/$W36)*VLOOKUP(R36,Aanpassing_frequenties,3,0)) -> _ | AI36: =IF(OR($F36="nio",R36=""),"_",AH36*rekentarief150) -> _ | AK36: =IF(F36="nio","_",SUM(Y36,AB36,AE36,AH36)) -> 0.0584 | AL36: =IF(F36="nio","_",SUM(Z36,AC36,AF36,AI36)) -> 0
A37: 3 | B37: =VLOOKUP(A37,'Overzicht locaties'!B:D,2,0) -> CE01 + SE31 | C37: 3de verdieping | D37: 1 | E37: Keuken | F37: 5 | G37: =VLOOKUP(F37,cat_omschrijving,2,0) -> Pantry / keuken / koffie / restaurant | H37: Tegel | I37: 2 | J37: =VLOOKUP(I37,Legenda_vloerafwerking,2,0) -> Harde vloeren zonder extra behandeling | K37: 6 | L37: =K37-M37 -> 6 | M37: =IF(F37="nio",K37,0) -> 0 | O37: 2w | T37: =IF(F37="nio","_",VLOOKUP(F37,cat_omschrijving,3,0)) -> Verkeer | U37: =IF(F37="nio","_",VLOOKUP(F37,cat_omschrijving,4,0)) -> AQL 7% | W37: 100 | Y37: =IF(F37="nio","_",(L37/W37)*VLOOKUP(O37,Aanpassing_frequenties,3,0)) -> 6.24 | Z37: =IF(F37="nio","_",Y37*Rekentarief) -> 0 | AB37: =IF(OR($F37="nio",P37=""),"_",($L37/$W37)*VLOOKUP(P37,Aanpassing_frequenties,3,0)) -> _ | AC37: =IF(OR($F37="nio",P37=""),"_",AB37*Rekentarief30) -> _ | AE37: =IF(OR($F37="nio",Q37=""),"_",($L37/$W37)*VLOOKUP(Q37,Aanpassing_frequenties,3,0)) -> _ | AF37: =IF(OR($F37="nio",Q37=""),"_",AE37*Rekentarief50) -> _ | AH37: =IF(OR($F37="nio",R37=""),"_",($L37/$W37)*VLOOKUP(R37,Aanpassing_frequenties,3,0)) -> _ | AI37: =IF(OR($F37="nio",R37=""),"_",AH37*rekentarief150) -> _ | AK37: =IF(F37="nio","_",SUM(Y37,AB37,AE37,AH37)) -> 6.24 | AL37: =IF(F37="nio","_",SUM(Z37,AC37,AF37,AI37)) -> 0
A38: 3 | B38: =VLOOKUP(A38,'Overzicht locaties'!B:D,2,0) -> CE01 + SE31 | C38: 3de verdieping | D38: 2 | E38: Vergaderruimte 1 | F38: 1 | G38: =VLOOKUP(F38,cat_omschrijving,2,0) -> Kantoorruimte / vergaderruimte | H38: Vinyl | I38: 3 | J38: =VLOOKUP(I38,Legenda_vloerafwerking,2,0) -> Harde vloer zonder polymeer beschermlaag, met behandeling | K38: 15 | L38: =K38-M38 -> 15 | M38: =IF(F38="nio",K38,0) -> 0 | O38: 2w | T38: =IF(F38="nio","_",VLOOKUP(F38,cat_omschrijving,3,0)) -> Bureau | U38: =IF(F38="nio","_",VLOOKUP(F38,cat_omschrijving,4,0)) -> AQL 7% | W38: 100 | Y38: =IF(F38="nio","_",(L38/W38)*VLOOKUP(O38,Aanpassing_frequenties,3,0)) -> 15.6 | Z38: =IF(F38="nio","_",Y38*Rekentarief) -> 0 | AB38: =IF(OR($F38="nio",P38=""),"_",($L38/$W38)*VLOOKUP(P38,Aanpassing_frequenties,3,0)) -> _ | AC38: =IF(OR($F38="nio",P38=""),"_",AB38*Rekentarief30) -> _ | AE38: =IF(OR($F38="nio",Q38=""),"_",($L38/$W38)*VLOOKUP(Q38,Aanpassing_frequenties,3,0)) -> _ | AF38: =IF(OR($F38="nio",Q38=""),"_",AE38*Rekentarief50) -> _ | AH38: =IF(OR($F38="nio",R38=""),"_",($L38/$W38)*VLOOKUP(R38,Aanpassing_frequenties,3,0)) -> _ | AI38: =IF(OR($F38="nio",R38=""),"_",AH38*rekentarief150) -> _ | AK38: =IF(F38="nio","_",SUM(Y38,AB38,AE38,AH38)) -> 15.6 | AL38: =IF(F38="nio","_",SUM(Z38,AC38,AF38,AI38)) -> 0
A39: 3 | B39: =VLOOKUP(A39,'Overzicht locaties'!B:D,2,0) -> CE01 + SE31 | C39: 3de verdieping | D39: 3 | E39: Kantoor | F39: 1 | G39: =VLOOKUP(F39,cat_omschrijving,2,0) -> Kantoorruimte / vergaderruimte | H39: Vinyl | I39: 3 | J39: =VLOOKUP(I39,Legenda_vloerafwerking,2,0) -> Harde vloer zonder polymeer beschermlaag, met behandeling | K39: 47 | L39: =K39-M39 -> 47 | M39: =IF(F39="nio",K39,0) -> 0 | O39: 2w | T39: =IF(F39="nio","_",VLOOKUP(F39,cat_omschrijving,3,0)) -> Bureau | U39: =IF(F39="nio","_",VLOOKUP(F39,cat_omschrijving,4,0)) -> AQL 7% | W39: 100 | Y39: =IF(F39="nio","_",(L39/W39)*VLOOKUP(O39,Aanpassing_frequenties,3,0)) -> 48.88 | Z39: =IF(F39="nio","_",Y39*Rekentarief) -> 0 | AB39: =IF(OR($F39="nio",P39=""),"_",($L39/$W39)*VLOOKUP(P39,Aanpassing_frequenties,3,0)) -> _ | AC39: =IF(OR($F39="nio",P39=""),"_",AB39*Rekentarief30) -> _ | AE39: =IF(OR($F39="nio",Q39=""),"_",($L39/$W39)*VLOOKUP(Q39,Aanpassing_frequenties,3,0)) -> _ | AF39: =IF(OR($F39="nio",Q39=""),"_",AE39*Rekentarief50) -> _ | AH39: =IF(OR($F39="nio",R39=""),"_",($L39/$W39)*VLOOKUP(R39,Aanpassing_frequenties,3,0)) -> _ | AI39: =IF(OR($F39="nio",R39=""),"_",AH39*rekentarief150) -> _ | AK39: =IF(F39="nio","_",SUM(Y39,AB39,AE39,AH39)) -> 48.88 | AL39: =IF(F39="nio","_",SUM(Z39,AC39,AF39,AI39)) -> 0
A40: 3 | B40: =VLOOKUP(A40,'Overzicht locaties'!B:D,2,0) -> CE01 + SE31 | C40: 3de verdieping | D40: 4 | E40: CE Breda | F40: 1 | G40: =VLOOKUP(F40,cat_omschrijving,2,0) -> Kantoorruimte / vergaderruimte | H40: Tapijt | I40: 4 | J40: =VLOOKUP(I40,Legenda_vloerafwerking,2,0) -> Tapijt | K40: 12 | L40: =K40-M40 -> 12 | M40: =IF(F40="nio",K40,0) -> 0 | O40: 2w | T40: =IF(F40="nio","_",VLOOKUP(F40,cat_omschrijving,3,0)) -> Bureau | U40: =IF(F40="nio","_",VLOOKUP(F40,cat_omschrijving,4,0)) -> AQL 7% | W40: 100 | Y40: =IF(F40="nio","_",(L40/W40)*VLOOKUP(O40,Aanpassing_frequenties,3,0)) -> 12.48 | Z40: =IF(F40="nio","_",Y40*Rekentarief) -> 0 | AB40: =IF(OR($F40="nio",P40=""),"_",($L40/$W40)*VLOOKUP(P40,Aanpassing_frequenties,3,0)) -> _ | AC40: =IF(OR($F40="nio",P40=""),"_",AB40*Rekentarief30) -> _ | AE40: =IF(OR($F40="nio",Q40=""),"_",($L40/$W40)*VLOOKUP(Q40,Aanpassing_frequenties,3,0)) -> _ | AF40: =IF(OR($F40="nio",Q40=""),"_",AE40*Rekentarief50) -> _ | AH40: =IF(OR($F40="nio",R40=""),"_",($L40/$W40)*VLOOKUP(R40,Aanpassing_frequenties,3,0)) -> _ | AI40: =IF(OR($F40="nio",R40=""),"_",AH40*rekentarief150) -> _ | AK40: =IF(F40="nio","_",SUM(Y40,AB40,AE40,AH40)) -> 12.48 | AL40: =IF(F40="nio","_",SUM(Z40,AC40,AF40,AI40)) -> 0
A41: 3 | B41: =VLOOKUP(A41,'Overzicht locaties'!B:D,2,0) -> CE01 + SE31 | C41: 3de verdieping | D41: 5 | E41: Vergaderruimte 2 | F41: 1 | G41: =VLOOKUP(F41,cat_omschrijving,2,0) -> Kantoorruimte / vergaderruimte | H41: Vinyl | I41: 3 | J41: =VLOOKUP(I41,Legenda_vloerafwerking,2,0) -> Harde vloer zonder polymeer beschermlaag, met behandeling | K41: 33 | L41: =K41-M41 -> 33 | M41: =IF(F41="nio",K41,0) -> 0 | O41: 2w | T41: =IF(F41="nio","_",VLOOKUP(F41,cat_omschrijving,3,0)) -> Bureau | U41: =IF(F41="nio","_",VLOOKUP(F41,cat_omschrijving,4,0)) -> AQL 7% | W41: 100 | Y41: =IF(F41="nio","_",(L41/W41)*VLOOKUP(O41,Aanpassing_frequenties,3,0)) -> 34.32 | Z41: =IF(F41="nio","_",Y41*Rekentarief) -> 0 | AB41: =IF(OR($F41="nio",P41=""),"_",($L41/$W41)*VLOOKUP(P41,Aanpassing_frequenties,3,0)) -> _ | AC41: =IF(OR($F41="nio",P41=""),"_",AB41*Rekentarief30) -> _ | AE41: =IF(OR($F41="nio",Q41=""),"_",($L41/$W41)*VLOOKUP(Q41,Aanpassing_frequenties,3,0)) -> _ | AF41: =IF(OR($F41="nio",Q41=""),"_",AE41*Rekentarief50) -> _ | AH41: =IF(OR($F41="nio",R41=""),"_",($L41/$W41)*VLOOKUP(R41,Aanpassing_frequenties,3,0)) -> _ | AI41: =IF(OR($F41="nio",R41=""),"_",AH41*rekentarief150) -> _ | AK41: =IF(F41="nio","_",SUM(Y41,AB41,AE41,AH41)) -> 34.32 | AL41: =IF(F41="nio","_",SUM(Z41,AC41,AF41,AI41)) -> 0
A42: 3 | B42: =VLOOKUP(A42,'Overzicht locaties'!B:D,2,0) -> CE01 + SE31 | C42: 3de verdieping | D42: 6 | E42: Radiologen | F42: 1 | G42: =VLOOKUP(F42,cat_omschrijving,2,0) -> Kantoorruimte / vergaderruimte | H42: Vinyl | I42: 3 | J42: =VLOOKUP(I42,Legenda_vloerafwerking,2,0) -> Harde vloer zonder polymeer beschermlaag, met behandeling | K42: 10 | L42: =K42-M42 -> 10 | M42: =IF(F42="nio",K42,0) -> 0 | O42: 2w | T42: =IF(F42="nio","_",VLOOKUP(F42,cat_omschrijving,3,0)) -> Bureau | U42: =IF(F42="nio","_",VLOOKUP(F42,cat_omschrijving,4,0)) -> AQL 7% | W42: 100 | Y42: =IF(F42="nio","_",(L42/W42)*VLOOKUP(O42,Aanpassing_frequenties,3,0)) -> 10.4 | Z42: =IF(F42="nio","_",Y42*Rekentarief) -> 0 | AB42: =IF(OR($F42="nio",P42=""),"_",($L42/$W42)*VLOOKUP(P42,Aanpassing_frequenties,3,0)) -> _ | AC42: =IF(OR($F42="nio",P42=""),"_",AB42*Rekentarief30) -> _ | AE42: =IF(OR($F42="nio",Q42=""),"_",($L42/$W42)*VLOOKUP(Q42,Aanpassing_frequenties,3,0)) -> _ | AF42: =IF(OR($F42="nio",Q42=""),"_",AE42*Rekentarief50) -> _ | AH42: =IF(OR($F42="nio",R42=""),"_",($L42/$W42)*VLOOKUP(R42,Aanpassing_frequenties,3,0)) -> _ | AI42: =IF(OR($F42="nio",R42=""),"_",AH42*rekentarief150) -> _ | AK42: =IF(F42="nio","_",SUM(Y42,AB42,AE42,AH42)) -> 10.4 | AL42: =IF(F42="nio","_",SUM(Z42,AC42,AF42,AI42)) -> 0
A43: 3 | B43: =VLOOKUP(A43,'Overzicht locaties'!B:D,2,0) -> CE01 + SE31 | C43: 3de verdieping | D43: 7 | E43: Magazijn/serverruimte | F43: 6 | G43: =VLOOKUP(F43,cat_omschrijving,2,0) -> Overig / Magazijn / Archief / Berging / Technische ruimte | H43: Tegel | I43: 2 | J43: =VLOOKUP(I43,Legenda_vloerafwerking,2,0) -> Harde vloeren zonder extra behandeling | K43: 3 | L43: =K43-M43 -> 3 | M43: =IF(F43="nio",K43,0) -> 0 | O43: 2w | T43: =IF(F43="nio","_",VLOOKUP(F43,cat_omschrijving,3,0)) -> Verkeer | U43: =IF(F43="nio","_",VLOOKUP(F43,cat_omschrijving,4,0)) -> AQL 7% | W43: 100 | Y43: =IF(F43="nio","_",(L43/W43)*VLOOKUP(O43,Aanpassing_frequenties,3,0)) -> 3.12 | Z43: =IF(F43="nio","_",Y43*Rekentarief) -> 0 | AB43: =IF(OR($F43="nio",P43=""),"_",($L43/$W43)*VLOOKUP(P43,Aanpassing_frequenties,3,0)) -> _ | AC43: =IF(OR($F43="nio",P43=""),"_",AB43*Rekentarief30) -> _ | AE43: =IF(OR($F43="nio",Q43=""),"_",($L43/$W43)*VLOOKUP(Q43,Aanpassing_frequenties,3,0)) -> _ | AF43: =IF(OR($F43="nio",Q43=""),"_",AE43*Rekentarief50) -> _ | AH43: =IF(OR($F43="nio",R43=""),"_",($L43/$W43)*VLOOKUP(R43,Aanpassing_frequenties,3,0)) -> _ | AI43: =IF(OR($F43="nio",R43=""),"_",AH43*rekentarief150) -> _ | AK43: =IF(F43="nio","_",SUM(Y43,AB43,AE43,AH43)) -> 3.12 | AL43: =IF(F43="nio","_",SUM(Z43,AC43,AF43,AI43)) -> 0
A44: 3 | B44: =VLOOKUP(A44,'Overzicht locaties'!B:D,2,0) -> CE01 + SE31 | C44: begane grond | D44: geen nummer | E44: Maagazijn/reproruimte | F44: 6 | G44: =VLOOKUP(F44,cat_omschrijving,2,0) -> Overig / Magazijn / Archief / Berging / Technische ruimte | H44: Linoleum | I44: 1 | J44: =VLOOKUP(I44,Legenda_vloerafwerking,2,0) -> Vloerafwerking met polymeer beschermlaag | K44: 10.6 | L44: =K44-M44 -> 10.6 | M44: =IF(F44="nio",K44,0) -> 0 | O44: 3w | T44: =IF(F44="nio","_",VLOOKUP(F44,cat_omschrijving,3,0)) -> Verkeer | U44: =IF(F44="nio","_",VLOOKUP(F44,cat_omschrijving,4,0)) -> AQL 7% | W44: 100 | Y44: =IF(F44="nio","_",(L44/W44)*VLOOKUP(O44,Aanpassing_frequenties,3,0)) -> 16.536 | Z44: =IF(F44="nio","_",Y44*Rekentarief) -> 0 | AB44: =IF(OR($F44="nio",P44=""),"_",($L44/$W44)*VLOOKUP(P44,Aanpassing_frequenties,3,0)) -> _ | AC44: =IF(OR($F44="nio",P44=""),"_",AB44*Rekentarief30) -> _ | AE44: =IF(OR($F44="nio",Q44=""),"_",($L44/$W44)*VLOOKUP(Q44,Aanpassing_frequenties,3,0)) -> _ | AF44: =IF(OR($F44="nio",Q44=""),"_",AE44*Rekentarief50) -> _ | AH44: =IF(OR($F44="nio",R44=""),"_",($L44/$W44)*VLOOKUP(R44,Aanpassing_frequenties,3,0)) -> _ | AI44: =IF(OR($F44="nio",R44=""),"_",AH44*rekentarief150) -> _ | AK44: =IF(F44="nio","_",SUM(Y44,AB44,AE44,AH44)) -> 16.536 | AL44: =IF(F44="nio","_",SUM(Z44,AC44,AF44,AI44)) -> 0
A45: 3 | B45: =VLOOKUP(A45,'Overzicht locaties'!B:D,2,0) -> CE01 + SE31 | C45: begane grond | D45: geen nummer | E45: Screeningsruimte | F45: 4 | G45: =VLOOKUP(F45,cat_omschrijving,2,0) -> Medische ruimte | H45: Linoleum | I45: 1 | J45: =VLOOKUP(I45,Legenda_vloerafwerking,2,0) -> Vloerafwerking met polymeer beschermlaag | K45: 25.18 | L45: =K45-M45 -> 25.18 | M45: =IF(F45="nio",K45,0) -> 0 | O45: 5w | T45: =IF(F45="nio","_",VLOOKUP(F45,cat_omschrijving,3,0)) -> Behandel | U45: =IF(F45="nio","_",VLOOKUP(F45,cat_omschrijving,4,0)) -> AQL 3% | W45: 100 | Y45: =IF(F45="nio","_",(L45/W45)*VLOOKUP(O45,Aanpassing_frequenties,3,0)) -> 64.209 | Z45: =IF(F45="nio","_",Y45*Rekentarief) -> 0 | AB45: =IF(OR($F45="nio",P45=""),"_",($L45/$W45)*VLOOKUP(P45,Aanpassing_frequenties,3,0)) -> _ | AC45: =IF(OR($F45="nio",P45=""),"_",AB45*Rekentarief30) -> _ | AE45: =IF(OR($F45="nio",Q45=""),"_",($L45/$W45)*VLOOKUP(Q45,Aanpassing_frequenties,3,0)) -> _ | AF45: =IF(OR($F45="nio",Q45=""),"_",AE45*Rekentarief50) -> _ | AH45: =IF(OR($F45="nio",R45=""),"_",($L45/$W45)*VLOOKUP(R45,Aanpassing_frequenties,3,0)) -> _ | AI45: =IF(OR($F45="nio",R45=""),"_",AH45*rekentarief150) -> _ | AK45: =IF(F45="nio","_",SUM(Y45,AB45,AE45,AH45)) -> 64.209 | AL45: =IF(F45="nio","_",SUM(Z45,AC45,AF45,AI45)) -> 0
A46: 3 | B46: =VLOOKUP(A46,'Overzicht locaties'!B:D,2,0) -> CE01 + SE31 | C46: begane grond | D46: geen nummer | E46: Beoordelingsruimte | F46: 1 | G46: =VLOOKUP(F46,cat_omschrijving,2,0) -> Kantoorruimte / vergaderruimte | H46: Linoleum | I46: 1 | J46: =VLOOKUP(I46,Legenda_vloerafwerking,2,0) -> Vloerafwerking met polymeer beschermlaag | K46: 19.37 | L46: =K46-M46 -> 19.37 | M46: =IF(F46="nio",K46,0) -> 0 | O46: 5w | T46: =IF(F46="nio","_",VLOOKUP(F46,cat_omschrijving,3,0)) -> Bureau | U46: =IF(F46="nio","_",VLOOKUP(F46,cat_omschrijving,4,0)) -> AQL 7% | W46: 100 | Y46: =IF(F46="nio","_",(L46/W46)*VLOOKUP(O46,Aanpassing_frequenties,3,0)) -> 49.3935 | Z46: =IF(F46="nio","_",Y46*Rekentarief) -> 0 | AB46: =IF(OR($F46="nio",P46=""),"_",($L46/$W46)*VLOOKUP(P46,Aanpassing_frequenties,3,0)) -> _ | AC46: =IF(OR($F46="nio",P46=""),"_",AB46*Rekentarief30) -> _ | AE46: =IF(OR($F46="nio",Q46=""),"_",($L46/$W46)*VLOOKUP(Q46,Aanpassing_frequenties,3,0)) -> _ | AF46: =IF(OR($F46="nio",Q46=""),"_",AE46*Rekentarief50) -> _ | AH46: =IF(OR($F46="nio",R46=""),"_",($L46/$W46)*VLOOKUP(R46,Aanpassing_frequenties,3,0)) -> _ | AI46: =IF(OR($F46="nio",R46=""),"_",AH46*rekentarief150) -> _ | AK46: =IF(F46="nio","_",SUM(Y46,AB46,AE46,AH46)) -> 49.3935 | AL46: =IF(F46="nio","_",SUM(Z46,AC46,AF46,AI46)) -> 0
A47: 3 | B47: =VLOOKUP(A47,'Overzicht locaties'!B:D,2,0) -> CE01 + SE31 | C47: begane grond | D47: geen nummer | E47: Screeningsruimte | F47: 4 | G47: =VLOOKUP(F47,cat_omschrijving,2,0) -> Medische ruimte | H47: Linoleum | I47: 1 | J47: =VLOOKUP(I47,Legenda_vloerafwerking,2,0) -> Vloerafwerking met polymeer beschermlaag | K47: 22.35 | L47: =K47-M47 -> 22.35 | M47: =IF(F47="nio",K47,0) -> 0 | O47: 5w | T47: =IF(F47="nio","_",VLOOKUP(F47,cat_omschrijving,3,0)) -> Behandel | U47: =IF(F47="nio","_",VLOOKUP(F47,cat_omschrijving,4,0)) -> AQL 3% | W47: 100 | Y47: =IF(F47="nio","_",(L47/W47)*VLOOKUP(O47,Aanpassing_frequenties,3,0)) -> 56.9925 | Z47: =IF(F47="nio","_",Y47*Rekentarief) -> 0 | AB47: =IF(OR($F47="nio",P47=""),"_",($L47/$W47)*VLOOKUP(P47,Aanpassing_frequenties,3,0)) -> _ | AC47: =IF(OR($F47="nio",P47=""),"_",AB47*Rekentarief30) -> _ | AE47: =IF(OR($F47="nio",Q47=""),"_",($L47/$W47)*VLOOKUP(Q47,Aanpassing_frequenties,3,0)) -> _ | AF47: =IF(OR($F47="nio",Q47=""),"_",AE47*Rekentarief50) -> _ | AH47: =IF(OR($F47="nio",R47=""),"_",($L47/$W47)*VLOOKUP(R47,Aanpassing_frequenties,3,0)) -> _ | AI47: =IF(OR($F47="nio",R47=""),"_",AH47*rekentarief150) -> _ | AK47: =IF(F47="nio","_",SUM(Y47,AB47,AE47,AH47)) -> 56.9925 | AL47: =IF(F47="nio","_",SUM(Z47,AC47,AF47,AI47)) -> 0
A48: 3 | B48: =VLOOKUP(A48,'Overzicht locaties'!B:D,2,0) -> CE01 + SE31 | C48: begane grond | D48: geen nummer | E48: Multifunctionele ruimte | F48: 1 | G48: =VLOOKUP(F48,cat_omschrijving,2,0) -> Kantoorruimte / vergaderruimte | H48: Linoleum | I48: 1 | J48: =VLOOKUP(I48,Legenda_vloerafwerking,2,0) -> Vloerafwerking met polymeer beschermlaag | K48: 15.9 | L48: =K48-M48 -> 15.9 | M48: =IF(F48="nio",K48,0) -> 0 | O48: 3w | T48: =IF(F48="nio","_",VLOOKUP(F48,cat_omschrijving,3,0)) -> Bureau | U48: =IF(F48="nio","_",VLOOKUP(F48,cat_omschrijving,4,0)) -> AQL 7% | W48: 100 | Y48: =IF(F48="nio","_",(L48/W48)*VLOOKUP(O48,Aanpassing_frequenties,3,0)) -> 24.804 | Z48: =IF(F48="nio","_",Y48*Rekentarief) -> 0 | AB48: =IF(OR($F48="nio",P48=""),"_",($L48/$W48)*VLOOKUP(P48,Aanpassing_frequenties,3,0)) -> _ | AC48: =IF(OR($F48="nio",P48=""),"_",AB48*Rekentarief30) -> _ | AE48: =IF(OR($F48="nio",Q48=""),"_",($L48/$W48)*VLOOKUP(Q48,Aanpassing_frequenties,3,0)) -> _ | AF48: =IF(OR($F48="nio",Q48=""),"_",AE48*Rekentarief50) -> _ | AH48: =IF(OR($F48="nio",R48=""),"_",($L48/$W48)*VLOOKUP(R48,Aanpassing_frequenties,3,0)) -> _ | AI48: =IF(OR($F48="nio",R48=""),"_",AH48*rekentarief150) -> _ | AK48: =IF(F48="nio","_",SUM(Y48,AB48,AE48,AH48)) -> 24.804 | AL48: =IF(F48="nio","_",SUM(Z48,AC48,AF48,AI48)) -> 0
A49: 3 | B49: =VLOOKUP(A49,'Overzicht locaties'!B:D,2,0) -> CE01 + SE31 | C49: begane grond | D49: geen nummer | E49: Lunch/overlegruimte | F49: 5 | G49: =VLOOKUP(F49,cat_omschrijving,2,0) -> Pantry / keuken / koffie / restaurant | H49: Linoleum | I49: 1 | J49: =VLOOKUP(I49,Legenda_vloerafwerking,2,0) -> Vloerafwerking met polymeer beschermlaag | K49: 25.06 | L49: =K49-M49 -> 25.06 | M49: =IF(F49="nio",K49,0) -> 0 | O49: 3w | T49: =IF(F49="nio","_",VLOOKUP(F49,cat_omschrijving,3,0)) -> Verkeer | U49: =IF(F49="nio","_",VLOOKUP(F49,cat_omschrijving,4,0)) -> AQL 7% | W49: 100 | Y49: =IF(F49="nio","_",(L49/W49)*VLOOKUP(O49,Aanpassing_frequenties,3,0)) -> 39.0936 | Z49: =IF(F49="nio","_",Y49*Rekentarief) -> 0 | AB49: =IF(OR($F49="nio",P49=""),"_",($L49/$W49)*VLOOKUP(P49,Aanpassing_frequenties,3,0)) -> _ | AC49: =IF(OR($F49="nio",P49=""),"_",AB49*Rekentarief30) -> _ | AE49: =IF(OR($F49="nio",Q49=""),"_",($L49/$W49)*VLOOKUP(Q49,Aanpassing_frequenties,3,0)) -> _ | AF49: =IF(OR($F49="nio",Q49=""),"_",AE49*Rekentarief50) -> _ | AH49: =IF(OR($F49="nio",R49=""),"_",($L49/$W49)*VLOOKUP(R49,Aanpassing_frequenties,3,0)) -> _ | AI49: =IF(OR($F49="nio",R49=""),"_",AH49*rekentarief150) -> _ | AK49: =IF(F49="nio","_",SUM(Y49,AB49,AE49,AH49)) -> 39.0936 | AL49: =IF(F49="nio","_",SUM(Z49,AC49,AF49,AI49)) -> 0
A50: 3 | B50: =VLOOKUP(A50,'Overzicht locaties'!B:D,2,0) -> CE01 + SE31 | C50: begane grond | D50: geen nummer | E50: Werkkamer | F50: 1 | G50: =VLOOKUP(F50,cat_omschrijving,2,0) -> Kantoorruimte / vergaderruimte | H50: Linoleum | I50: 1 | J50: =VLOOKUP(I50,Legenda_vloerafwerking,2,0) -> Vloerafwerking met polymeer beschermlaag | K50: 12.86 | L50: =K50-M50 -> 12.86 | M50: =IF(F50="nio",K50,0) -> 0 | O50: 3w | T50: =IF(F50="nio","_",VLOOKUP(F50,cat_omschrijving,3,0)) -> Bureau | U50: =IF(F50="nio","_",VLOOKUP(F50,cat_omschrijving,4,0)) -> AQL 7% | W50: 100 | Y50: =IF(F50="nio","_",(L50/W50)*VLOOKUP(O50,Aanpassing_frequenties,3,0)) -> 20.0616 | Z50: =IF(F50="nio","_",Y50*Rekentarief) -> 0 | AB50: =IF(OR($F50="nio",P50=""),"_",($L50/$W50)*VLOOKUP(P50,Aanpassing_frequenties,3,0)) -> _ | AC50: =IF(OR($F50="nio",P50=""),"_",AB50*Rekentarief30) -> _ | AE50: =IF(OR($F50="nio",Q50=""),"_",($L50/$W50)*VLOOKUP(Q50,Aanpassing_frequenties,3,0)) -> _ | AF50: =IF(OR($F50="nio",Q50=""),"_",AE50*Rekentarief50) -> _ | AH50: =IF(OR($F50="nio",R50=""),"_",($L50/$W50)*VLOOKUP(R50,Aanpassing_frequenties,3,0)) -> _ | AI50: =IF(OR($F50="nio",R50=""),"_",AH50*rekentarief150) -> _ | AK50: =IF(F50="nio","_",SUM(Y50,AB50,AE50,AH50)) -> 20.0616 | AL50: =IF(F50="nio","_",SUM(Z50,AC50,AF50,AI50)) -> 0
A51: 3 | B51: =VLOOKUP(A51,'Overzicht locaties'!B:D,2,0) -> CE01 + SE31 | C51: begane grond | D51: geen nummer | E51: Beoordelingsruimte | F51: 1 | G51: =VLOOKUP(F51,cat_omschrijving,2,0) -> Kantoorruimte / vergaderruimte | H51: Linoleum | I51: 1 | J51: =VLOOKUP(I51,Legenda_vloerafwerking,2,0) -> Vloerafwerking met polymeer beschermlaag | K51: 19.17 | L51: =K51-M51 -> 19.17 | M51: =IF(F51="nio",K51,0) -> 0 | O51: 5w | T51: =IF(F51="nio","_",VLOOKUP(F51,cat_omschrijving,3,0)) -> Bureau | U51: =IF(F51="nio","_",VLOOKUP(F51,cat_omschrijving,4,0)) -> AQL 7% | W51: 100 | Y51: =IF(F51="nio","_",(L51/W51)*VLOOKUP(O51,Aanpassing_frequenties,3,0)) -> 48.8835 | Z51: =IF(F51="nio","_",Y51*Rekentarief) -> 0 | AB51: =IF(OR($F51="nio",P51=""),"_",($L51/$W51)*VLOOKUP(P51,Aanpassing_frequenties,3,0)) -> _ | AC51: =IF(OR($F51="nio",P51=""),"_",AB51*Rekentarief30) -> _ | AE51: =IF(OR($F51="nio",Q51=""),"_",($L51/$W51)*VLOOKUP(Q51,Aanpassing_frequenties,3,0)) -> _ | AF51: =IF(OR($F51="nio",Q51=""),"_",AE51*Rekentarief50) -> _ | AH51: =IF(OR($F51="nio",R51=""),"_",($L51/$W51)*VLOOKUP(R51,Aanpassing_frequenties,3,0)) -> _ | AI51: =IF(OR($F51="nio",R51=""),"_",AH51*rekentarief150) -> _ | AK51: =IF(F51="nio","_",SUM(Y51,AB51,AE51,AH51)) -> 48.8835 | AL51: =IF(F51="nio","_",SUM(Z51,AC51,AF51,AI51)) -> 0
A52: 3 | B52: =VLOOKUP(A52,'Overzicht locaties'!B:D,2,0) -> CE01 + SE31 | C52: begane grond | D52: geen nummer | E52: Screeningsruimte | F52: 4 | G52: =VLOOKUP(F52,cat_omschrijving,2,0) -> Medische ruimte | H52: Linoleum | I52: 1 | J52: =VLOOKUP(I52,Legenda_vloerafwerking,2,0) -> Vloerafwerking met polymeer beschermlaag | K52: 22.65 | L52: =K52-M52 -> 22.65 | M52: =IF(F52="nio",K52,0) -> 0 | O52: 5w | T52: =IF(F52="nio","_",VLOOKUP(F52,cat_omschrijving,3,0)) -> Behandel | U52: =IF(F52="nio","_",VLOOKUP(F52,cat_omschrijving,4,0)) -> AQL 3% | W52: 100 | Y52: =IF(F52="nio","_",(L52/W52)*VLOOKUP(O52,Aanpassing_frequenties,3,0)) -> 57.7575 | Z52: =IF(F52="nio","_",Y52*Rekentarief) -> 0 | AB52: =IF(OR($F52="nio",P52=""),"_",($L52/$W52)*VLOOKUP(P52,Aanpassing_frequenties,3,0)) -> _ | AC52: =IF(OR($F52="nio",P52=""),"_",AB52*Rekentarief30) -> _ | AE52: =IF(OR($F52="nio",Q52=""),"_",($L52/$W52)*VLOOKUP(Q52,Aanpassing_frequenties,3,0)) -> _ | AF52: =IF(OR($F52="nio",Q52=""),"_",AE52*Rekentarief50) -> _ | AH52: =IF(OR($F52="nio",R52=""),"_",($L52/$W52)*VLOOKUP(R52,Aanpassing_frequenties,3,0)) -> _ | AI52: =IF(OR($F52="nio",R52=""),"_",AH52*rekentarief150) -> _ | AK52: =IF(F52="nio","_",SUM(Y52,AB52,AE52,AH52)) -> 57.7575 | AL52: =IF(F52="nio","_",SUM(Z52,AC52,AF52,AI52)) -> 0
A53: 3 | B53: =VLOOKUP(A53,'Overzicht locaties'!B:D,2,0) -> CE01 + SE31 | C53: begane grond | D53: geen nummer | E53: Flexplek | F53: 1 | G53: =VLOOKUP(F53,cat_omschrijving,2,0) -> Kantoorruimte / vergaderruimte | H53: Linoleum | I53: 1 | J53: =VLOOKUP(I53,Legenda_vloerafwerking,2,0) -> Vloerafwerking met polymeer beschermlaag | K53: 5.22 | L53: =K53-M53 -> 5.22 | M53: =IF(F53="nio",K53,0) -> 0 | O53: 3w | T53: =IF(F53="nio","_",VLOOKUP(F53,cat_omschrijving,3,0)) -> Bureau | U53: =IF(F53="nio","_",VLOOKUP(F53,cat_omschrijving,4,0)) -> AQL 7% | W53: 100 | Y53: =IF(F53="nio","_",(L53/W53)*VLOOKUP(O53,Aanpassing_frequenties,3,0)) -> 8.1432 | Z53: =IF(F53="nio","_",Y53*Rekentarief) -> 0 | AB53: =IF(OR($F53="nio",P53=""),"_",($L53/$W53)*VLOOKUP(P53,Aanpassing_frequenties,3,0)) -> _ | AC53: =IF(OR($F53="nio",P53=""),"_",AB53*Rekentarief30) -> _ | AE53: =IF(OR($F53="nio",Q53=""),"_",($L53/$W53)*VLOOKUP(Q53,Aanpassing_frequenties,3,0)) -> _ | AF53: =IF(OR($F53="nio",Q53=""),"_",AE53*Rekentarief50) -> _ | AH53: =IF(OR($F53="nio",R53=""),"_",($L53/$W53)*VLOOKUP(R53,Aanpassing_frequenties,3,0)) -> _ | AI53: =IF(OR($F53="nio",R53=""),"_",AH53*rekentarief150) -> _ | AK53: =IF(F53="nio","_",SUM(Y53,AB53,AE53,AH53)) -> 8.1432 | AL53: =IF(F53="nio","_",SUM(Z53,AC53,AF53,AI53)) -> 0
A54: 3 | B54: =VLOOKUP(A54,'Overzicht locaties'!B:D,2,0) -> CE01 + SE31 | C54: begane grond | D54: geen nummer | E54: Balie | F54: 1 | G54: =VLOOKUP(F54,cat_omschrijving,2,0) -> Kantoorruimte / vergaderruimte | H54: Linoleum | I54: 1 | J54: =VLOOKUP(I54,Legenda_vloerafwerking,2,0) -> Vloerafwerking met polymeer beschermlaag | K54: 7.54 | L54: =K54-M54 -> 7.54 | M54: =IF(F54="nio",K54,0) -> 0 | O54: 5w | T54: =IF(F54="nio","_",VLOOKUP(F54,cat_omschrijving,3,0)) -> Bureau | U54: =IF(F54="nio","_",VLOOKUP(F54,cat_omschrijving,4,0)) -> AQL 7% | W54: 100 | Y54: =IF(F54="nio","_",(L54/W54)*VLOOKUP(O54,Aanpassing_frequenties,3,0)) -> 19.227 | Z54: =IF(F54="nio","_",Y54*Rekentarief) -> 0 | AB54: =IF(OR($F54="nio",P54=""),"_",($L54/$W54)*VLOOKUP(P54,Aanpassing_frequenties,3,0)) -> _ | AC54: =IF(OR($F54="nio",P54=""),"_",AB54*Rekentarief30) -> _ | AE54: =IF(OR($F54="nio",Q54=""),"_",($L54/$W54)*VLOOKUP(Q54,Aanpassing_frequenties,3,0)) -> _ | AF54: =IF(OR($F54="nio",Q54=""),"_",AE54*Rekentarief50) -> _ | AH54: =IF(OR($F54="nio",R54=""),"_",($L54/$W54)*VLOOKUP(R54,Aanpassing_frequenties,3,0)) -> _ | AI54: =IF(OR($F54="nio",R54=""),"_",AH54*rekentarief150) -> _ | AK54: =IF(F54="nio","_",SUM(Y54,AB54,AE54,AH54)) -> 19.227 | AL54: =IF(F54="nio","_",SUM(Z54,AC54,AF54,AI54)) -> 0
A55: 3 | B55: =VLOOKUP(A55,'Overzicht locaties'!B:D,2,0) -> CE01 + SE31 | C55: begane grond | D55: geen nummer | E55: Wachtruimte | F55: 3 | G55: =VLOOKUP(F55,cat_omschrijving,2,0) -> Verkeersruimte / Garderobe / Wachtruimte | H55: Linoleum | I55: 1 | J55: =VLOOKUP(I55,Legenda_vloerafwerking,2,0) -> Vloerafwerking met polymeer beschermlaag | K55: 34.08 | L55: =K55-M55 -> 34.08 | M55: =IF(F55="nio",K55,0) -> 0 | O55: 5w | T55: =IF(F55="nio","_",VLOOKUP(F55,cat_omschrijving,3,0)) -> Verkeer | U55: =IF(F55="nio","_",VLOOKUP(F55,cat_omschrijving,4,0)) -> AQL 7% | W55: 100 | Y55: =IF(F55="nio","_",(L55/W55)*VLOOKUP(O55,Aanpassing_frequenties,3,0)) -> 86.904 | Z55: =IF(F55="nio","_",Y55*Rekentarief) -> 0 | AB55: =IF(OR($F55="nio",P55=""),"_",($L55/$W55)*VLOOKUP(P55,Aanpassing_frequenties,3,0)) -> _ | AC55: =IF(OR($F55="nio",P55=""),"_",AB55*Rekentarief30) -> _ | AE55: =IF(OR($F55="nio",Q55=""),"_",($L55/$W55)*VLOOKUP(Q55,Aanpassing_frequenties,3,0)) -> _ | AF55: =IF(OR($F55="nio",Q55=""),"_",AE55*Rekentarief50) -> _ | AH55: =IF(OR($F55="nio",R55=""),"_",($L55/$W55)*VLOOKUP(R55,Aanpassing_frequenties,3,0)) -> _ | AI55: =IF(OR($F55="nio",R55=""),"_",AH55*rekentarief150) -> _ | AK55: =IF(F55="nio","_",SUM(Y55,AB55,AE55,AH55)) -> 86.904 | AL55: =IF(F55="nio","_",SUM(Z55,AC55,AF55,AI55)) -> 0
... A58: 4 | B58: =VLOOKUP(A58,'Overzicht locaties'!B:D,2,0) -> CE03 + SE25 | C58: Begane grond | D58: 1a | E58: Radiologen | F58: 1 | G58: =VLOOKUP(F58,cat_omschrijving,2,0) -> Kantoorruimte / vergaderruimte | H58: Tapijt | I58: 4 | J58: =VLOOKUP(I58,Legenda_vloerafwerking,2,0) -> Tapijt | K58: 19 | L58: =K58-M58 -> 19 | M58: =IF(F58="nio",K58,0) -> 0 | O58: 3w | T58: =IF(F58="nio","_",VLOOKUP(F58,cat_omschrijving,3,0)) -> Bureau | U58: =IF(F58="nio","_",VLOOKUP(F58,cat_omschrijving,4,0)) -> AQL 7% | W58: 100 | Y58: =IF(F58="nio","_",(L58/W58)*VLOOKUP(O58,Aanpassing_frequenties,3,0)) -> 29.64 | Z58: =IF(F58="nio","_",Y58*Rekentarief) -> 0 | AB58: =IF(OR($F58="nio",P58=""),"_",($L58/$W58)*VLOOKUP(P58,Aanpassing_frequenties,3,0)) -> _ | AC58: =IF(OR($F58="nio",P58=""),"_",AB58*Rekentarief30) -> _ | AE58: =IF(OR($F58="nio",Q58=""),"_",($L58/$W58)*VLOOKUP(Q58,Aanpassing_frequenties,3,0)) -> _ | AF58: =IF(OR($F58="nio",Q58=""),"_",AE58*Rekentarief50) -> _ | AH58: =IF(OR($F58="nio",R58=""),"_",($L58/$W58)*VLOOKUP(R58,Aanpassing_frequenties,3,0)) -> _ | AI58: =IF(OR($F58="nio",R58=""),"_",AH58*rekentarief150) -> _ | AK58: =IF(F58="nio","_",SUM(Y58,AB58,AE58,AH58)) -> 29.64 | AL58: =IF(F58="nio","_",SUM(Z58,AC58,AF58,AI58)) -> 0
A59: 4 | B59: =VLOOKUP(A59,'Overzicht locaties'!B:D,2,0) -> CE03 + SE25 | C59: Begane grond | D59: 2 | E59: Vergaderruimte 4 | F59: 1 | G59: =VLOOKUP(F59,cat_omschrijving,2,0) -> Kantoorruimte / vergaderruimte | H59: Tapijt | I59: 4 | J59: =VLOOKUP(I59,Legenda_vloerafwerking,2,0) -> Tapijt | K59: 18.7 | L59: =K59-M59 -> 18.7 | M59: =IF(F59="nio",K59,0) -> 0 | O59: 3w | T59: =IF(F59="nio","_",VLOOKUP(F59,cat_omschrijving,3,0)) -> Bureau | U59: =IF(F59="nio","_",VLOOKUP(F59,cat_omschrijving,4,0)) -> AQL 7% | W59: 100 | Y59: =IF(F59="nio","_",(L59/W59)*VLOOKUP(O59,Aanpassing_frequenties,3,0)) -> 29.172 | Z59: =IF(F59="nio","_",Y59*Rekentarief) -> 0 | AB59: =IF(OR($F59="nio",P59=""),"_",($L59/$W59)*VLOOKUP(P59,Aanpassing_frequenties,3,0)) -> _ | AC59: =IF(OR($F59="nio",P59=""),"_",AB59*Rekentarief30) -> _ | AE59: =IF(OR($F59="nio",Q59=""),"_",($L59/$W59)*VLOOKUP(Q59,Aanpassing_frequenties,3,0)) -> _ | AF59: =IF(OR($F59="nio",Q59=""),"_",AE59*Rekentarief50) -> _ | AH59: =IF(OR($F59="nio",R59=""),"_",($L59/$W59)*VLOOKUP(R59,Aanpassing_frequenties,3,0)) -> _ | AI59: =IF(OR($F59="nio",R59=""),"_",AH59*rekentarief150) -> _ | AK59: =IF(F59="nio","_",SUM(Y59,AB59,AE59,AH59)) -> 29.172 | AL59: =IF(F59="nio","_",SUM(Z59,AC59,AF59,AI59)) -> 0
A60: 4 | B60: =VLOOKUP(A60,'Overzicht locaties'!B:D,2,0) -> CE03 + SE25 | C60: Begane grond | D60: 3 + 4 | E60: Data + ICT+Servicedesk | F60: 1 | G60: =VLOOKUP(F60,cat_omschrijving,2,0) -> Kantoorruimte / vergaderruimte | H60: Tapijt | I60: 4 | J60: =VLOOKUP(I60,Legenda_vloerafwerking,2,0) -> Tapijt | K60: 49.7 | L60: =K60-M60 -> 49.7 | M60: =IF(F60="nio",K60,0) -> 0 | O60: 3w | T60: =IF(F60="nio","_",VLOOKUP(F60,cat_omschrijving,3,0)) -> Bureau | U60: =IF(F60="nio","_",VLOOKUP(F60,cat_omschrijving,4,0)) -> AQL 7% | W60: 100 | Y60: =IF(F60="nio","_",(L60/W60)*VLOOKUP(O60,Aanpassing_frequenties,3,0)) -> 77.532 | Z60: =IF(F60="nio","_",Y60*Rekentarief) -> 0 | AB60: =IF(OR($F60="nio",P60=""),"_",($L60/$W60)*VLOOKUP(P60,Aanpassing_frequenties,3,0)) -> _ | AC60: =IF(OR($F60="nio",P60=""),"_",AB60*Rekentarief30) -> _ | AE60: =IF(OR($F60="nio",Q60=""),"_",($L60/$W60)*VLOOKUP(Q60,Aanpassing_frequenties,3,0)) -> _ | AF60: =IF(OR($F60="nio",Q60=""),"_",AE60*Rekentarief50) -> _ | AH60: =IF(OR($F60="nio",R60=""),"_",($L60/$W60)*VLOOKUP(R60,Aanpassing_frequenties,3,0)) -> _ | AI60: =IF(OR($F60="nio",R60=""),"_",AH60*rekentarief150) -> _ | AK60: =IF(F60="nio","_",SUM(Y60,AB60,AE60,AH60)) -> 77.532 | AL60: =IF(F60="nio","_",SUM(Z60,AC60,AF60,AI60)) -> 0
A61: 4 | B61: =VLOOKUP(A61,'Overzicht locaties'!B:D,2,0) -> CE03 + SE25 | C61: Begane grond | D61: 5a | E61: Stiltewerkplek | F61: 1 | G61: =VLOOKUP(F61,cat_omschrijving,2,0) -> Kantoorruimte / vergaderruimte | H61: Tapijt | I61: 4 | J61: =VLOOKUP(I61,Legenda_vloerafwerking,2,0) -> Tapijt | K61: 9.4 | L61: =K61-M61 -> 9.4 | M61: =IF(F61="nio",K61,0) -> 0 | O61: 3w | T61: =IF(F61="nio","_",VLOOKUP(F61,cat_omschrijving,3,0)) -> Bureau | U61: =IF(F61="nio","_",VLOOKUP(F61,cat_omschrijving,4,0)) -> AQL 7% | W61: 100 | Y61: =IF(F61="nio","_",(L61/W61)*VLOOKUP(O61,Aanpassing_frequenties,3,0)) -> 14.664 | Z61: =IF(F61="nio","_",Y61*Rekentarief) -> 0 | AB61: =IF(OR($F61="nio",P61=""),"_",($L61/$W61)*VLOOKUP(P61,Aanpassing_frequenties,3,0)) -> _ | AC61: =IF(OR($F61="nio",P61=""),"_",AB61*Rekentarief30) -> _ | AE61: =IF(OR($F61="nio",Q61=""),"_",($L61/$W61)*VLOOKUP(Q61,Aanpassing_frequenties,3,0)) -> _ | AF61: =IF(OR($F61="nio",Q61=""),"_",AE61*Rekentarief50) -> _ | AH61: =IF(OR($F61="nio",R61=""),"_",($L61/$W61)*VLOOKUP(R61,Aanpassing_frequenties,3,0)) -> _ | AI61: =IF(OR($F61="nio",R61=""),"_",AH61*rekentarief150) -> _ | AK61: =IF(F61="nio","_",SUM(Y61,AB61,AE61,AH61)) -> 14.664 | AL61: =IF(F61="nio","_",SUM(Z61,AC61,AF61,AI61)) -> 0
A62: 4 | B62: =VLOOKUP(A62,'Overzicht locaties'!B:D,2,0) -> CE03 + SE25 | C62: Begane grond | D62: 5b | E62: Stiltewerkplek | F62: 1 | G62: =VLOOKUP(F62,cat_omschrijving,2,0) -> Kantoorruimte / vergaderruimte | H62: Tapijt | I62: 4 | J62: =VLOOKUP(I62,Legenda_vloerafwerking,2,0) -> Tapijt | K62: 9.4 | L62: =K62-M62 -> 9.4 | M62: =IF(F62="nio",K62,0) -> 0 | O62: 3w | T62: =IF(F62="nio","_",VLOOKUP(F62,cat_omschrijving,3,0)) -> Bureau | U62: =IF(F62="nio","_",VLOOKUP(F62,cat_omschrijving,4,0)) -> AQL 7% | W62: 100 | Y62: =IF(F62="nio","_",(L62/W62)*VLOOKUP(O62,Aanpassing_frequenties,3,0)) -> 14.664 | Z62: =IF(F62="nio","_",Y62*Rekentarief) -> 0 | AB62: =IF(OR($F62="nio",P62=""),"_",($L62/$W62)*VLOOKUP(P62,Aanpassing_frequenties,3,0)) -> _ | AC62: =IF(OR($F62="nio",P62=""),"_",AB62*Rekentarief30) -> _ | AE62: =IF(OR($F62="nio",Q62=""),"_",($L62/$W62)*VLOOKUP(Q62,Aanpassing_frequenties,3,0)) -> _ | AF62: =IF(OR($F62="nio",Q62=""),"_",AE62*Rekentarief50) -> _ | AH62: =IF(OR($F62="nio",R62=""),"_",($L62/$W62)*VLOOKUP(R62,Aanpassing_frequenties,3,0)) -> _ | AI62: =IF(OR($F62="nio",R62=""),"_",AH62*rekentarief150) -> _ | AK62: =IF(F62="nio","_",SUM(Y62,AB62,AE62,AH62)) -> 14.664 | AL62: =IF(F62="nio","_",SUM(Z62,AC62,AF62,AI62)) -> 0
A63: 4 | B63: =VLOOKUP(A63,'Overzicht locaties'!B:D,2,0) -> CE03 + SE25 | C63: Begane grond | D63: 6 | E63: Hoofd P&O | F63: 1 | G63: =VLOOKUP(F63,cat_omschrijving,2,0) -> Kantoorruimte / vergaderruimte | H63: Tapijt | I63: 4 | J63: =VLOOKUP(I63,Legenda_vloerafwerking,2,0) -> Tapijt | K63: 23.4 | L63: =K63-M63 -> 23.4 | M63: =IF(F63="nio",K63,0) -> 0 | O63: 3w | T63: =IF(F63="nio","_",VLOOKUP(F63,cat_omschrijving,3,0)) -> Bureau | U63: =IF(F63="nio","_",VLOOKUP(F63,cat_omschrijving,4,0)) -> AQL 7% | W63: 100 | Y63: =IF(F63="nio","_",(L63/W63)*VLOOKUP(O63,Aanpassing_frequenties,3,0)) -> 36.504 | Z63: =IF(F63="nio","_",Y63*Rekentarief) -> 0 | AB63: =IF(OR($F63="nio",P63=""),"_",($L63/$W63)*VLOOKUP(P63,Aanpassing_frequenties,3,0)) -> _ | AC63: =IF(OR($F63="nio",P63=""),"_",AB63*Rekentarief30) -> _ | AE63: =IF(OR($F63="nio",Q63=""),"_",($L63/$W63)*VLOOKUP(Q63,Aanpassing_frequenties,3,0)) -> _ | AF63: =IF(OR($F63="nio",Q63=""),"_",AE63*Rekentarief50) -> _ | AH63: =IF(OR($F63="nio",R63=""),"_",($L63/$W63)*VLOOKUP(R63,Aanpassing_frequenties,3,0)) -> _ | AI63: =IF(OR($F63="nio",R63=""),"_",AH63*rekentarief150) -> _ | AK63: =IF(F63="nio","_",SUM(Y63,AB63,AE63,AH63)) -> 36.504 | AL63: =IF(F63="nio","_",SUM(Z63,AC63,AF63,AI63)) -> 0
A64: 4 | B64: =VLOOKUP(A64,'Overzicht locaties'!B:D,2,0) -> CE03 + SE25 | C64: Begane grond | D64: 7 | E64: Tel.BK | F64: 1 | G64: =VLOOKUP(F64,cat_omschrijving,2,0) -> Kantoorruimte / vergaderruimte | H64: Tapijt | I64: 4 | J64: =VLOOKUP(I64,Legenda_vloerafwerking,2,0) -> Tapijt | K64: 16.8 | L64: =K64-M64 -> 16.8 | M64: =IF(F64="nio",K64,0) -> 0 | O64: 3w | T64: =IF(F64="nio","_",VLOOKUP(F64,cat_omschrijving,3,0)) -> Bureau | U64: =IF(F64="nio","_",VLOOKUP(F64,cat_omschrijving,4,0)) -> AQL 7% | W64: 100 | Y64: =IF(F64="nio","_",(L64/W64)*VLOOKUP(O64,Aanpassing_frequenties,3,0)) -> 26.208 | Z64: =IF(F64="nio","_",Y64*Rekentarief) -> 0 | AB64: =IF(OR($F64="nio",P64=""),"_",($L64/$W64)*VLOOKUP(P64,Aanpassing_frequenties,3,0)) -> _ | AC64: =IF(OR($F64="nio",P64=""),"_",AB64*Rekentarief30) -> _ | AE64: =IF(OR($F64="nio",Q64=""),"_",($L64/$W64)*VLOOKUP(Q64,Aanpassing_frequenties,3,0)) -> _ | AF64: =IF(OR($F64="nio",Q64=""),"_",AE64*Rekentarief50) -> _ | AH64: =IF(OR($F64="nio",R64=""),"_",($L64/$W64)*VLOOKUP(R64,Aanpassing_frequenties,3,0)) -> _ | AI64: =IF(OR($F64="nio",R64=""),"_",AH64*rekentarief150) -> _ | AK64: =IF(F64="nio","_",SUM(Y64,AB64,AE64,AH64)) -> 26.208 | AL64: =IF(F64="nio","_",SUM(Z64,AC64,AF64,AI64)) -> 0
A65: 4 | B65: =VLOOKUP(A65,'Overzicht locaties'!B:D,2,0) -> CE03 + SE25 | C65: Begane grond | D65: 8 | E65: CE-BK | F65: 1 | G65: =VLOOKUP(F65,cat_omschrijving,2,0) -> Kantoorruimte / vergaderruimte | H65: Tapijt | I65: 4 | J65: =VLOOKUP(I65,Legenda_vloerafwerking,2,0) -> Tapijt | K65: 35.4 | L65: =K65-M65 -> 35.4 | M65: =IF(F65="nio",K65,0) -> 0 | O65: 3w | T65: =IF(F65="nio","_",VLOOKUP(F65,cat_omschrijving,3,0)) -> Bureau | U65: =IF(F65="nio","_",VLOOKUP(F65,cat_omschrijving,4,0)) -> AQL 7% | W65: 100 | Y65: =IF(F65="nio","_",(L65/W65)*VLOOKUP(O65,Aanpassing_frequenties,3,0)) -> 55.224 | Z65: =IF(F65="nio","_",Y65*Rekentarief) -> 0 | AB65: =IF(OR($F65="nio",P65=""),"_",($L65/$W65)*VLOOKUP(P65,Aanpassing_frequenties,3,0)) -> _ | AC65: =IF(OR($F65="nio",P65=""),"_",AB65*Rekentarief30) -> _ | AE65: =IF(OR($F65="nio",Q65=""),"_",($L65/$W65)*VLOOKUP(Q65,Aanpassing_frequenties,3,0)) -> _ | AF65: =IF(OR($F65="nio",Q65=""),"_",AE65*Rekentarief50) -> _ | AH65: =IF(OR($F65="nio",R65=""),"_",($L65/$W65)*VLOOKUP(R65,Aanpassing_frequenties,3,0)) -> _ | AI65: =IF(OR($F65="nio",R65=""),"_",AH65*rekentarief150) -> _ | AK65: =IF(F65="nio","_",SUM(Y65,AB65,AE65,AH65)) -> 55.224 | AL65: =IF(F65="nio","_",SUM(Z65,AC65,AF65,AI65)) -> 0
A66: 4 | B66: =VLOOKUP(A66,'Overzicht locaties'!B:D,2,0) -> CE03 + SE25 | C66: Begane grond | D66: 9 | E66: Staf | F66: 1 | G66: =VLOOKUP(F66,cat_omschrijving,2,0) -> Kantoorruimte / vergaderruimte | H66: Tapijt | I66: 4 | J66: =VLOOKUP(I66,Legenda_vloerafwerking,2,0) -> Tapijt | K66: 19.5 | L66: =K66-M66 -> 19.5 | M66: =IF(F66="nio",K66,0) -> 0 | O66: 3w | T66: =IF(F66="nio","_",VLOOKUP(F66,cat_omschrijving,3,0)) -> Bureau | U66: =IF(F66="nio","_",VLOOKUP(F66,cat_omschrijving,4,0)) -> AQL 7% | W66: 100 | Y66: =IF(F66="nio","_",(L66/W66)*VLOOKUP(O66,Aanpassing_frequenties,3,0)) -> 30.42 | Z66: =IF(F66="nio","_",Y66*Rekentarief) -> 0 | AB66: =IF(OR($F66="nio",P66=""),"_",($L66/$W66)*VLOOKUP(P66,Aanpassing_frequenties,3,0)) -> _ | AC66: =IF(OR($F66="nio",P66=""),"_",AB66*Rekentarief30) -> _ | AE66: =IF(OR($F66="nio",Q66=""),"_",($L66/$W66)*VLOOKUP(Q66,Aanpassing_frequenties,3,0)) -> _ | AF66: =IF(OR($F66="nio",Q66=""),"_",AE66*Rekentarief50) -> _ | AH66: =IF(OR($F66="nio",R66=""),"_",($L66/$W66)*VLOOKUP(R66,Aanpassing_frequenties,3,0)) -> _ | AI66: =IF(OR($F66="nio",R66=""),"_",AH66*rekentarief150) -> _ | AK66: =IF(F66="nio","_",SUM(Y66,AB66,AE66,AH66)) -> 30.42 | AL66: =IF(F66="nio","_",SUM(Z66,AC66,AF66,AI66)) -> 0
A67: 4 | B67: =VLOOKUP(A67,'Overzicht locaties'!B:D,2,0) -> CE03 + SE25 | C67: Begane grond | D67: 10 | E67: Staf | F67: 1 | G67: =VLOOKUP(F67,cat_omschrijving,2,0) -> Kantoorruimte / vergaderruimte | H67: Tapijt | I67: 4 | J67: =VLOOKUP(I67,Legenda_vloerafwerking,2,0) -> Tapijt | K67: 25.4 | L67: =K67-M67 -> 25.4 | M67: =IF(F67="nio",K67,0) -> 0 | O67: 3w | T67: =IF(F67="nio","_",VLOOKUP(F67,cat_omschrijving,3,0)) -> Bureau | U67: =IF(F67="nio","_",VLOOKUP(F67,cat_omschrijving,4,0)) -> AQL 7% | W67: 100 | Y67: =IF(F67="nio","_",(L67/W67)*VLOOKUP(O67,Aanpassing_frequenties,3,0)) -> 39.624 | Z67: =IF(F67="nio","_",Y67*Rekentarief) -> 0 | AB67: =IF(OR($F67="nio",P67=""),"_",($L67/$W67)*VLOOKUP(P67,Aanpassing_frequenties,3,0)) -> _ | AC67: =IF(OR($F67="nio",P67=""),"_",AB67*Rekentarief30) -> _ | AE67: =IF(OR($F67="nio",Q67=""),"_",($L67/$W67)*VLOOKUP(Q67,Aanpassing_frequenties,3,0)) -> _ | AF67: =IF(OR($F67="nio",Q67=""),"_",AE67*Rekentarief50) -> _ | AH67: =IF(OR($F67="nio",R67=""),"_",($L67/$W67)*VLOOKUP(R67,Aanpassing_frequenties,3,0)) -> _ | AI67: =IF(OR($F67="nio",R67=""),"_",AH67*rekentarief150) -> _ | AK67: =IF(F67="nio","_",SUM(Y67,AB67,AE67,AH67)) -> 39.624 | AL67: =IF(F67="nio","_",SUM(Z67,AC67,AF67,AI67)) -> 0
A68: 4 | B68: =VLOOKUP(A68,'Overzicht locaties'!B:D,2,0) -> CE03 + SE25 | C68: Begane grond | E68: Reproruimte | F68: 6 | G68: =VLOOKUP(F68,cat_omschrijving,2,0) -> Overig / Magazijn / Archief / Berging / Technische ruimte | H68: Tapijt | I68: 4 | J68: =VLOOKUP(I68,Legenda_vloerafwerking,2,0) -> Tapijt | K68: 16.5 | L68: =K68-M68 -> 16.5 | M68: =IF(F68="nio",K68,0) -> 0 | O68: 3w | T68: =IF(F68="nio","_",VLOOKUP(F68,cat_omschrijving,3,0)) -> Verkeer | U68: =IF(F68="nio","_",VLOOKUP(F68,cat_omschrijving,4,0)) -> AQL 7% | W68: 100 | Y68: =IF(F68="nio","_",(L68/W68)*VLOOKUP(O68,Aanpassing_frequenties,3,0)) -> 25.74 | Z68: =IF(F68="nio","_",Y68*Rekentarief) -> 0 | AB68: =IF(OR($F68="nio",P68=""),"_",($L68/$W68)*VLOOKUP(P68,Aanpassing_frequenties,3,0)) -> _ | AC68: =IF(OR($F68="nio",P68=""),"_",AB68*Rekentarief30) -> _ | AE68: =IF(OR($F68="nio",Q68=""),"_",($L68/$W68)*VLOOKUP(Q68,Aanpassing_frequenties,3,0)) -> _ | AF68: =IF(OR($F68="nio",Q68=""),"_",AE68*Rekentarief50) -> _ | AH68: =IF(OR($F68="nio",R68=""),"_",($L68/$W68)*VLOOKUP(R68,Aanpassing_frequenties,3,0)) -> _ | AI68: =IF(OR($F68="nio",R68=""),"_",AH68*rekentarief150) -> _ | AK68: =IF(F68="nio","_",SUM(Y68,AB68,AE68,AH68)) -> 25.74 | AL68: =IF(F68="nio","_",SUM(Z68,AC68,AF68,AI68)) -> 0
A69: 4 | B69: =VLOOKUP(A69,'Overzicht locaties'!B:D,2,0) -> CE03 + SE25 | C69: Begane grond | D69: 11 | E69: Regiomanagers | F69: 1 | G69: =VLOOKUP(F69,cat_omschrijving,2,0) -> Kantoorruimte / vergaderruimte | H69: Tapijt | I69: 4 | J69: =VLOOKUP(I69,Legenda_vloerafwerking,2,0) -> Tapijt | K69: 16.5 | L69: =K69-M69 -> 16.5 | M69: =IF(F69="nio",K69,0) -> 0 | O69: 3w | T69: =IF(F69="nio","_",VLOOKUP(F69,cat_omschrijving,3,0)) -> Bureau | U69: =IF(F69="nio","_",VLOOKUP(F69,cat_omschrijving,4,0)) -> AQL 7% | W69: 100 | Y69: =IF(F69="nio","_",(L69/W69)*VLOOKUP(O69,Aanpassing_frequenties,3,0)) -> 25.74 | Z69: =IF(F69="nio","_",Y69*Rekentarief) -> 0 | AB69: =IF(OR($F69="nio",P69=""),"_",($L69/$W69)*VLOOKUP(P69,Aanpassing_frequenties,3,0)) -> _ | AC69: =IF(OR($F69="nio",P69=""),"_",AB69*Rekentarief30) -> _ | AE69: =IF(OR($F69="nio",Q69=""),"_",($L69/$W69)*VLOOKUP(Q69,Aanpassing_frequenties,3,0)) -> _ | AF69: =IF(OR($F69="nio",Q69=""),"_",AE69*Rekentarief50) -> _ | AH69: =IF(OR($F69="nio",R69=""),"_",($L69/$W69)*VLOOKUP(R69,Aanpassing_frequenties,3,0)) -> _ | AI69: =IF(OR($F69="nio",R69=""),"_",AH69*rekentarief150) -> _ | AK69: =IF(F69="nio","_",SUM(Y69,AB69,AE69,AH69)) -> 25.74 | AL69: =IF(F69="nio","_",SUM(Z69,AC69,AF69,AI69)) -> 0
A70: 4 | B70: =VLOOKUP(A70,'Overzicht locaties'!B:D,2,0) -> CE03 + SE25 | C70: Begane grond | D70: 12 | E70: Secretariaat | F70: 1 | G70: =VLOOKUP(F70,cat_omschrijving,2,0) -> Kantoorruimte / vergaderruimte | H70: Tapijt | I70: 4 | J70: =VLOOKUP(I70,Legenda_vloerafwerking,2,0) -> Tapijt | K70: 43.9 | L70: =K70-M70 -> 43.9 | M70: =IF(F70="nio",K70,0) -> 0 | O70: 3w | T70: =IF(F70="nio","_",VLOOKUP(F70,cat_omschrijving,3,0)) -> Bureau | U70: =IF(F70="nio","_",VLOOKUP(F70,cat_omschrijving,4,0)) -> AQL 7% | W70: 100 | Y70: =IF(F70="nio","_",(L70/W70)*VLOOKUP(O70,Aanpassing_frequenties,3,0)) -> 68.484 | Z70: =IF(F70="nio","_",Y70*Rekentarief) -> 0 | AB70: =IF(OR($F70="nio",P70=""),"_",($L70/$W70)*VLOOKUP(P70,Aanpassing_frequenties,3,0)) -> _ | AC70: =IF(OR($F70="nio",P70=""),"_",AB70*Rekentarief30) -> _ | AE70: =IF(OR($F70="nio",Q70=""),"_",($L70/$W70)*VLOOKUP(Q70,Aanpassing_frequenties,3,0)) -> _ | AF70: =IF(OR($F70="nio",Q70=""),"_",AE70*Rekentarief50) -> _ | AH70: =IF(OR($F70="nio",R70=""),"_",($L70/$W70)*VLOOKUP(R70,Aanpassing_frequenties,3,0)) -> _ | AI70: =IF(OR($F70="nio",R70=""),"_",AH70*rekentarief150) -> _ | AK70: =IF(F70="nio","_",SUM(Y70,AB70,AE70,AH70)) -> 68.484 | AL70: =IF(F70="nio","_",SUM(Z70,AC70,AF70,AI70)) -> 0
A71: 4 | B71: =VLOOKUP(A71,'Overzicht locaties'!B:D,2,0) -> CE03 + SE25 | C71: Begane grond | D71: 13 | E71: Vergaderruimte 3 | F71: 1 | G71: =VLOOKUP(F71,cat_omschrijving,2,0) -> Kantoorruimte / vergaderruimte | H71: Tapijt | I71: 4 | J71: =VLOOKUP(I71,Legenda_vloerafwerking,2,0) -> Tapijt | K71: 16.1 | L71: =K71-M71 -> 16.1 | M71: =IF(F71="nio",K71,0) -> 0 | O71: 3w | T71: =IF(F71="nio","_",VLOOKUP(F71,cat_omschrijving,3,0)) -> Bureau | U71: =IF(F71="nio","_",VLOOKUP(F71,cat_omschrijving,4,0)) -> AQL 7% | W71: 100 | Y71: =IF(F71="nio","_",(L71/W71)*VLOOKUP(O71,Aanpassing_frequenties,3,0)) -> 25.116 | Z71: =IF(F71="nio","_",Y71*Rekentarief) -> 0 | AB71: =IF(OR($F71="nio",P71=""),"_",($L71/$W71)*VLOOKUP(P71,Aanpassing_frequenties,3,0)) -> _ | AC71: =IF(OR($F71="nio",P71=""),"_",AB71*Rekentarief30) -> _ | AE71: =IF(OR($F71="nio",Q71=""),"_",($L71/$W71)*VLOOKUP(Q71,Aanpassing_frequenties,3,0)) -> _ | AF71: =IF(OR($F71="nio",Q71=""),"_",AE71*Rekentarief50) -> _ | AH71: =IF(OR($F71="nio",R71=""),"_",($L71/$W71)*VLOOKUP(R71,Aanpassing_frequenties,3,0)) -> _ | AI71: =IF(OR($F71="nio",R71=""),"_",AH71*rekentarief150) -> _ | AK71: =IF(F71="nio","_",SUM(Y71,AB71,AE71,AH71)) -> 25.116 | AL71: =IF(F71="nio","_",SUM(Z71,AC71,AF71,AI71)) -> 0
A72: 4 | B72: =VLOOKUP(A72,'Overzicht locaties'!B:D,2,0) -> CE03 + SE25 | C72: Begane grond | D72: 14 | E72: Vergaderruimte 2 | F72: 1 | G72: =VLOOKUP(F72,cat_omschrijving,2,0) -> Kantoorruimte / vergaderruimte | H72: Tapijt | I72: 4 | J72: =VLOOKUP(I72,Legenda_vloerafwerking,2,0) -> Tapijt | K72: 34.6 | L72: =K72-M72 -> 34.6 | M72: =IF(F72="nio",K72,0) -> 0 | O72: 3w | T72: =IF(F72="nio","_",VLOOKUP(F72,cat_omschrijving,3,0)) -> Bureau | U72: =IF(F72="nio","_",VLOOKUP(F72,cat_omschrijving,4,0)) -> AQL 7% | W72: 100 | Y72: =IF(F72="nio","_",(L72/W72)*VLOOKUP(O72,Aanpassing_frequenties,3,0)) -> 53.976 | Z72: =IF(F72="nio","_",Y72*Rekentarief) -> 0 | AB72: =IF(OR($F72="nio",P72=""),"_",($L72/$W72)*VLOOKUP(P72,Aanpassing_frequenties,3,0)) -> _ | AC72: =IF(OR($F72="nio",P72=""),"_",AB72*Rekentarief30) -> _ | AE72: =IF(OR($F72="nio",Q72=""),"_",($L72/$W72)*VLOOKUP(Q72,Aanpassing_frequenties,3,0)) -> _ | AF72: =IF(OR($F72="nio",Q72=""),"_",AE72*Rekentarief50) -> _ | AH72: =IF(OR($F72="nio",R72=""),"_",($L72/$W72)*VLOOKUP(R72,Aanpassing_frequenties,3,0)) -> _ | AI72: =IF(OR($F72="nio",R72=""),"_",AH72*rekentarief150) -> _ | AK72: =IF(F72="nio","_",SUM(Y72,AB72,AE72,AH72)) -> 53.976 | AL72: =IF(F72="nio","_",SUM(Z72,AC72,AF72,AI72)) -> 0
A73: 4 | B73: =VLOOKUP(A73,'Overzicht locaties'!B:D,2,0) -> CE03 + SE25 | C73: Begane grond | D73: 15 | E73: Planning | F73: 1 | G73: =VLOOKUP(F73,cat_omschrijving,2,0) -> Kantoorruimte / vergaderruimte | H73: Tapijt | I73: 4 | J73: =VLOOKUP(I73,Legenda_vloerafwerking,2,0) -> Tapijt | K73: 36.9 | L73: =K73-M73 -> 36.9 | M73: =IF(F73="nio",K73,0) -> 0 | O73: 3w | T73: =IF(F73="nio","_",VLOOKUP(F73,cat_omschrijving,3,0)) -> Bureau | U73: =IF(F73="nio","_",VLOOKUP(F73,cat_omschrijving,4,0)) -> AQL 7% | W73: 100 | Y73: =IF(F73="nio","_",(L73/W73)*VLOOKUP(O73,Aanpassing_frequenties,3,0)) -> 57.564 | Z73: =IF(F73="nio","_",Y73*Rekentarief) -> 0 | AB73: =IF(OR($F73="nio",P73=""),"_",($L73/$W73)*VLOOKUP(P73,Aanpassing_frequenties,3,0)) -> _ | AC73: =IF(OR($F73="nio",P73=""),"_",AB73*Rekentarief30) -> _ | AE73: =IF(OR($F73="nio",Q73=""),"_",($L73/$W73)*VLOOKUP(Q73,Aanpassing_frequenties,3,0)) -> _ | AF73: =IF(OR($F73="nio",Q73=""),"_",AE73*Rekentarief50) -> _ | AH73: =IF(OR($F73="nio",R73=""),"_",($L73/$W73)*VLOOKUP(R73,Aanpassing_frequenties,3,0)) -> _ | AI73: =IF(OR($F73="nio",R73=""),"_",AH73*rekentarief150) -> _ | AK73: =IF(F73="nio","_",SUM(Y73,AB73,AE73,AH73)) -> 57.564 | AL73: =IF(F73="nio","_",SUM(Z73,AC73,AF73,AI73)) -> 0
A74: 4 | B74: =VLOOKUP(A74,'Overzicht locaties'!B:D,2,0) -> CE03 + SE25 | C74: Begane grond | D74: 16a | E74: Overlegruimte | F74: 1 | G74: =VLOOKUP(F74,cat_omschrijving,2,0) -> Kantoorruimte / vergaderruimte | H74: Tapijt | I74: 4 | J74: =VLOOKUP(I74,Legenda_vloerafwerking,2,0) -> Tapijt | K74: 6.7 | L74: =K74-M74 -> 6.7 | M74: =IF(F74="nio",K74,0) -> 0 | O74: 3w | T74: =IF(F74="nio","_",VLOOKUP(F74,cat_omschrijving,3,0)) -> Bureau | U74: =IF(F74="nio","_",VLOOKUP(F74,cat_omschrijving,4,0)) -> AQL 7% | W74: 100 | Y74: =IF(F74="nio","_",(L74/W74)*VLOOKUP(O74,Aanpassing_frequenties,3,0)) -> 10.452 | Z74: =IF(F74="nio","_",Y74*Rekentarief) -> 0 | AB74: =IF(OR($F74="nio",P74=""),"_",($L74/$W74)*VLOOKUP(P74,Aanpassing_frequenties,3,0)) -> _ | AC74: =IF(OR($F74="nio",P74=""),"_",AB74*Rekentarief30) -> _ | AE74: =IF(OR($F74="nio",Q74=""),"_",($L74/$W74)*VLOOKUP(Q74,Aanpassing_frequenties,3,0)) -> _ | AF74: =IF(OR($F74="nio",Q74=""),"_",AE74*Rekentarief50) -> _ | AH74: =IF(OR($F74="nio",R74=""),"_",($L74/$W74)*VLOOKUP(R74,Aanpassing_frequenties,3,0)) -> _ | AI74: =IF(OR($F74="nio",R74=""),"_",AH74*rekentarief150) -> _ | AK74: =IF(F74="nio","_",SUM(Y74,AB74,AE74,AH74)) -> 10.452 | AL74: =IF(F74="nio","_",SUM(Z74,AC74,AF74,AI74)) -> 0
A75: 4 | B75: =VLOOKUP(A75,'Overzicht locaties'!B:D,2,0) -> CE03 + SE25 | C75: Begane grond | D75: 16a | E75: Overlegruimte | F75: 1 | G75: =VLOOKUP(F75,cat_omschrijving,2,0) -> Kantoorruimte / vergaderruimte | H75: Tapijt | I75: 4 | J75: =VLOOKUP(I75,Legenda_vloerafwerking,2,0) -> Tapijt | K75: 6.7 | L75: =K75-M75 -> 6.7 | M75: =IF(F75="nio",K75,0) -> 0 | O75: 3w | T75: =IF(F75="nio","_",VLOOKUP(F75,cat_omschrijving,3,0)) -> Bureau | U75: =IF(F75="nio","_",VLOOKUP(F75,cat_omschrijving,4,0)) -> AQL 7% | W75: 100 | Y75: =IF(F75="nio","_",(L75/W75)*VLOOKUP(O75,Aanpassing_frequenties,3,0)) -> 10.452 | Z75: =IF(F75="nio","_",Y75*Rekentarief) -> 0 | AB75: =IF(OR($F75="nio",P75=""),"_",($L75/$W75)*VLOOKUP(P75,Aanpassing_frequenties,3,0)) -> _ | AC75: =IF(OR($F75="nio",P75=""),"_",AB75*Rekentarief30) -> _ | AE75: =IF(OR($F75="nio",Q75=""),"_",($L75/$W75)*VLOOKUP(Q75,Aanpassing_frequenties,3,0)) -> _ | AF75: =IF(OR($F75="nio",Q75=""),"_",AE75*Rekentarief50) -> _ | AH75: =IF(OR($F75="nio",R75=""),"_",($L75/$W75)*VLOOKUP(R75,Aanpassing_frequenties,3,0)) -> _ | AI75: =IF(OR($F75="nio",R75=""),"_",AH75*rekentarief150) -> _ | AK75: =IF(F75="nio","_",SUM(Y75,AB75,AE75,AH75)) -> 10.452 | AL75: =IF(F75="nio","_",SUM(Z75,AC75,AF75,AI75)) -> 0
A76: 4 | B76: =VLOOKUP(A76,'Overzicht locaties'!B:D,2,0) -> CE03 + SE25 | C76: Begane grond | D76: 16b | E76: Vergaderruimte 1 | F76: 1 | G76: =VLOOKUP(F76,cat_omschrijving,2,0) -> Kantoorruimte / vergaderruimte | H76: Tapijt | I76: 4 | J76: =VLOOKUP(I76,Legenda_vloerafwerking,2,0) -> Tapijt | K76: 15 | L76: =K76-M76 -> 15 | M76: =IF(F76="nio",K76,0) -> 0 | O76: 3w | T76: =IF(F76="nio","_",VLOOKUP(F76,cat_omschrijving,3,0)) -> Bureau | U76: =IF(F76="nio","_",VLOOKUP(F76,cat_omschrijving,4,0)) -> AQL 7% | W76: 100 | Y76: =IF(F76="nio","_",(L76/W76)*VLOOKUP(O76,Aanpassing_frequenties,3,0)) -> 23.4 | Z76: =IF(F76="nio","_",Y76*Rekentarief) -> 0 | AB76: =IF(OR($F76="nio",P76=""),"_",($L76/$W76)*VLOOKUP(P76,Aanpassing_frequenties,3,0)) -> _ | AC76: =IF(OR($F76="nio",P76=""),"_",AB76*Rekentarief30) -> _ | AE76: =IF(OR($F76="nio",Q76=""),"_",($L76/$W76)*VLOOKUP(Q76,Aanpassing_frequenties,3,0)) -> _ | AF76: =IF(OR($F76="nio",Q76=""),"_",AE76*Rekentarief50) -> _ | AH76: =IF(OR($F76="nio",R76=""),"_",($L76/$W76)*VLOOKUP(R76,Aanpassing_frequenties,3,0)) -> _ | AI76: =IF(OR($F76="nio",R76=""),"_",AH76*rekentarief150) -> _ | AK76: =IF(F76="nio","_",SUM(Y76,AB76,AE76,AH76)) -> 23.4 | AL76: =IF(F76="nio","_",SUM(Z76,AC76,AF76,AI76)) -> 0
A77: 4 | B77: =VLOOKUP(A77,'Overzicht locaties'!B:D,2,0) -> CE03 + SE25 | C77: Begane grond | D77: 17 | E77: Financiën | F77: 1 | G77: =VLOOKUP(F77,cat_omschrijving,2,0) -> Kantoorruimte / vergaderruimte | H77: Tapijt | I77: 4 | J77: =VLOOKUP(I77,Legenda_vloerafwerking,2,0) -> Tapijt | K77: 29.4 | L77: =K77-M77 -> 29.4 | M77: =IF(F77="nio",K77,0) -> 0 | O77: 3w | T77: =IF(F77="nio","_",VLOOKUP(F77,cat_omschrijving,3,0)) -> Bureau | U77: =IF(F77="nio","_",VLOOKUP(F77,cat_omschrijving,4,0)) -> AQL 7% | W77: 100 | Y77: =IF(F77="nio","_",(L77/W77)*VLOOKUP(O77,Aanpassing_frequenties,3,0)) -> 45.864 | Z77: =IF(F77="nio","_",Y77*Rekentarief) -> 0 | AB77: =IF(OR($F77="nio",P77=""),"_",($L77/$W77)*VLOOKUP(P77,Aanpassing_frequenties,3,0)) -> _ | AC77: =IF(OR($F77="nio",P77=""),"_",AB77*Rekentarief30) -> _ | AE77: =IF(OR($F77="nio",Q77=""),"_",($L77/$W77)*VLOOKUP(Q77,Aanpassing_frequenties,3,0)) -> _ | AF77: =IF(OR($F77="nio",Q77=""),"_",AE77*Rekentarief50) -> _ | AH77: =IF(OR($F77="nio",R77=""),"_",($L77/$W77)*VLOOKUP(R77,Aanpassing_frequenties,3,0)) -> _ | AI77: =IF(OR($F77="nio",R77=""),"_",AH77*rekentarief150) -> _ | AK77: =IF(F77="nio","_",SUM(Y77,AB77,AE77,AH77)) -> 45.864 | AL77: =IF(F77="nio","_",SUM(Z77,AC77,AF77,AI77)) -> 0
A78: 4 | B78: =VLOOKUP(A78,'Overzicht locaties'!B:D,2,0) -> CE03 + SE25 | C78: Begane grond | D78: 18 + 19 | E78: DK/BMHK + flexplekken | F78: 1 | G78: =VLOOKUP(F78,cat_omschrijving,2,0) -> Kantoorruimte / vergaderruimte | H78: Tapijt | I78: 4 | J78: =VLOOKUP(I78,Legenda_vloerafwerking,2,0) -> Tapijt | K78: 84.9 | L78: =K78-M78 -> 84.9 | M78: =IF(F78="nio",K78,0) -> 0 | O78: 3w | T78: =IF(F78="nio","_",VLOOKUP(F78,cat_omschrijving,3,0)) -> Bureau | U78: =IF(F78="nio","_",VLOOKUP(F78,cat_omschrijving,4,0)) -> AQL 7% | W78: 100 | Y78: =IF(F78="nio","_",(L78/W78)*VLOOKUP(O78,Aanpassing_frequenties,3,0)) -> 132.444 | Z78: =IF(F78="nio","_",Y78*Rekentarief) -> 0 | AB78: =IF(OR($F78="nio",P78=""),"_",($L78/$W78)*VLOOKUP(P78,Aanpassing_frequenties,3,0)) -> _ | AC78: =IF(OR($F78="nio",P78=""),"_",AB78*Rekentarief30) -> _ | AE78: =IF(OR($F78="nio",Q78=""),"_",($L78/$W78)*VLOOKUP(Q78,Aanpassing_frequenties,3,0)) -> _ | AF78: =IF(OR($F78="nio",Q78=""),"_",AE78*Rekentarief50) -> _ | AH78: =IF(OR($F78="nio",R78=""),"_",($L78/$W78)*VLOOKUP(R78,Aanpassing_frequenties,3,0)) -> _ | AI78: =IF(OR($F78="nio",R78=""),"_",AH78*rekentarief150) -> _ | AK78: =IF(F78="nio","_",SUM(Y78,AB78,AE78,AH78)) -> 132.444 | AL78: =IF(F78="nio","_",SUM(Z78,AC78,AF78,AI78)) -> 0
A79: 4 | B79: =VLOOKUP(A79,'Overzicht locaties'!B:D,2,0) -> CE03 + SE25 | C79: Begane grond | D79: 20 | E79: Bestuurder | F79: 1 | G79: =VLOOKUP(F79,cat_omschrijving,2,0) -> Kantoorruimte / vergaderruimte | H79: Tapijt | I79: 4 | J79: =VLOOKUP(I79,Legenda_vloerafwerking,2,0) -> Tapijt | K79: 23.7 | L79: =K79-M79 -> 23.7 | M79: =IF(F79="nio",K79,0) -> 0 | O79: 3w | T79: =IF(F79="nio","_",VLOOKUP(F79,cat_omschrijving,3,0)) -> Bureau | U79: =IF(F79="nio","_",VLOOKUP(F79,cat_omschrijving,4,0)) -> AQL 7% | W79: 100 | Y79: =IF(F79="nio","_",(L79/W79)*VLOOKUP(O79,Aanpassing_frequenties,3,0)) -> 36.972 | Z79: =IF(F79="nio","_",Y79*Rekentarief) -> 0 | AB79: =IF(OR($F79="nio",P79=""),"_",($L79/$W79)*VLOOKUP(P79,Aanpassing_frequenties,3,0)) -> _ | AC79: =IF(OR($F79="nio",P79=""),"_",AB79*Rekentarief30) -> _ | AE79: =IF(OR($F79="nio",Q79=""),"_",($L79/$W79)*VLOOKUP(Q79,Aanpassing_frequenties,3,0)) -> _ | AF79: =IF(OR($F79="nio",Q79=""),"_",AE79*Rekentarief50) -> _ | AH79: =IF(OR($F79="nio",R79=""),"_",($L79/$W79)*VLOOKUP(R79,Aanpassing_frequenties,3,0)) -> _ | AI79: =IF(OR($F79="nio",R79=""),"_",AH79*rekentarief150) -> _ | AK79: =IF(F79="nio","_",SUM(Y79,AB79,AE79,AH79)) -> 36.972 | AL79: =IF(F79="nio","_",SUM(Z79,AC79,AF79,AI79)) -> 0
A80: 4 | B80: =VLOOKUP(A80,'Overzicht locaties'!B:D,2,0) -> CE03 + SE25 | C80: Begane grond | D80: 21 | E80: Kantine | F80: 5 | G80: =VLOOKUP(F80,cat_omschrijving,2,0) -> Pantry / keuken / koffie / restaurant | H80: Linoleum | I80: 1 | J80: =VLOOKUP(I80,Legenda_vloerafwerking,2,0) -> Vloerafwerking met polymeer beschermlaag | K80: 79.4 | L80: =K80-M80 -> 79.4 | M80: =IF(F80="nio",K80,0) -> 0 | O80: 3w | T80: =IF(F80="nio","_",VLOOKUP(F80,cat_omschrijving,3,0)) -> Verkeer | U80: =IF(F80="nio","_",VLOOKUP(F80,cat_omschrijving,4,0)) -> AQL 7% | W80: 100 | Y80: =IF(F80="nio","_",(L80/W80)*VLOOKUP(O80,Aanpassing_frequenties,3,0)) -> 123.864 | Z80: =IF(F80="nio","_",Y80*Rekentarief) -> 0 | AB80: =IF(OR($F80="nio",P80=""),"_",($L80/$W80)*VLOOKUP(P80,Aanpassing_frequenties,3,0)) -> _ | AC80: =IF(OR($F80="nio",P80=""),"_",AB80*Rekentarief30) -> _ | AE80: =IF(OR($F80="nio",Q80=""),"_",($L80/$W80)*VLOOKUP(Q80,Aanpassing_frequenties,3,0)) -> _ | AF80: =IF(OR($F80="nio",Q80=""),"_",AE80*Rekentarief50) -> _ | AH80: =IF(OR($F80="nio",R80=""),"_",($L80/$W80)*VLOOKUP(R80,Aanpassing_frequenties,3,0)) -> _ | AI80: =IF(OR($F80="nio",R80=""),"_",AH80*rekentarief150) -> _ | AK80: =IF(F80="nio","_",SUM(Y80,AB80,AE80,AH80)) -> 123.864 | AL80: =IF(F80="nio","_",SUM(Z80,AC80,AF80,AI80)) -> 0
A81: 4 | B81: =VLOOKUP(A81,'Overzicht locaties'!B:D,2,0) -> CE03 + SE25 | C81: Begane grond | D81: 22 | E81: Hal | F81: 3 | G81: =VLOOKUP(F81,cat_omschrijving,2,0) -> Verkeersruimte / Garderobe / Wachtruimte | H81: Tapijt | I81: 4 | J81: =VLOOKUP(I81,Legenda_vloerafwerking,2,0) -> Tapijt | K81: 14.6 | L81: =K81-M81 -> 14.6 | M81: =IF(F81="nio",K81,0) -> 0 | O81: 3w | T81: =IF(F81="nio","_",VLOOKUP(F81,cat_omschrijving,3,0)) -> Verkeer | U81: =IF(F81="nio","_",VLOOKUP(F81,cat_omschrijving,4,0)) -> AQL 7% | W81: 100 | Y81: =IF(F81="nio","_",(L81/W81)*VLOOKUP(O81,Aanpassing_frequenties,3,0)) -> 22.776 | Z81: =IF(F81="nio","_",Y81*Rekentarief) -> 0 | AB81: =IF(OR($F81="nio",P81=""),"_",($L81/$W81)*VLOOKUP(P81,Aanpassing_frequenties,3,0)) -> _ | AC81: =IF(OR($F81="nio",P81=""),"_",AB81*Rekentarief30) -> _ | AE81: =IF(OR($F81="nio",Q81=""),"_",($L81/$W81)*VLOOKUP(Q81,Aanpassing_frequenties,3,0)) -> _ | AF81: =IF(OR($F81="nio",Q81=""),"_",AE81*Rekentarief50) -> _ | AH81: =IF(OR($F81="nio",R81=""),"_",($L81/$W81)*VLOOKUP(R81,Aanpassing_frequenties,3,0)) -> _ | AI81: =IF(OR($F81="nio",R81=""),"_",AH81*rekentarief150) -> _ | AK81: =IF(F81="nio","_",SUM(Y81,AB81,AE81,AH81)) -> 22.776 | AL81: =IF(F81="nio","_",SUM(Z81,AC81,AF81,AI81)) -> 0
A82: 4 | B82: =VLOOKUP(A82,'Overzicht locaties'!B:D,2,0) -> CE03 + SE25 | C82: Begane grond | D82: 23 | E82: Wachtruimte | F82: 3 | G82: =VLOOKUP(F82,cat_omschrijving,2,0) -> Verkeersruimte / Garderobe / Wachtruimte | H82: Tapijt | I82: 4 | J82: =VLOOKUP(I82,Legenda_vloerafwerking,2,0) -> Tapijt | K82: 59 | L82: =K82-M82 -> 59 | M82: =IF(F82="nio",K82,0) -> 0 | O82: 5w | T82: =IF(F82="nio","_",VLOOKUP(F82,cat_omschrijving,3,0)) -> Verkeer | U82: =IF(F82="nio","_",VLOOKUP(F82,cat_omschrijving,4,0)) -> AQL 7% | W82: 100 | Y82: =IF(F82="nio","_",(L82/W82)*VLOOKUP(O82,Aanpassing_frequenties,3,0)) -> 150.45 | Z82: =IF(F82="nio","_",Y82*Rekentarief) -> 0 | AB82: =IF(OR($F82="nio",P82=""),"_",($L82/$W82)*VLOOKUP(P82,Aanpassing_frequenties,3,0)) -> _ | AC82: =IF(OR($F82="nio",P82=""),"_",AB82*Rekentarief30) -> _ | AE82: =IF(OR($F82="nio",Q82=""),"_",($L82/$W82)*VLOOKUP(Q82,Aanpassing_frequenties,3,0)) -> _ | AF82: =IF(OR($F82="nio",Q82=""),"_",AE82*Rekentarief50) -> _ | AH82: =IF(OR($F82="nio",R82=""),"_",($L82/$W82)*VLOOKUP(R82,Aanpassing_frequenties,3,0)) -> _ | AI82: =IF(OR($F82="nio",R82=""),"_",AH82*rekentarief150) -> _ | AK82: =IF(F82="nio","_",SUM(Y82,AB82,AE82,AH82)) -> 150.45 | AL82: =IF(F82="nio","_",SUM(Z82,AC82,AF82,AI82)) -> 0
A83: 4 | B83: =VLOOKUP(A83,'Overzicht locaties'!B:D,2,0) -> CE03 + SE25 | C83: Begane grond | D83: 25 | E83: Kleedruimte 6 | F83: 2 | G83: =VLOOKUP(F83,cat_omschrijving,2,0) -> Sanitaire ruimte | H83: Linoleum | I83: 1 | J83: =VLOOKUP(I83,Legenda_vloerafwerking,2,0) -> Vloerafwerking met polymeer beschermlaag | K83: 1.3 | L83: =K83-M83 -> 1.3 | M83: =IF(F83="nio",K83,0) -> 0 | O83: 5w | T83: =IF(F83="nio","_",VLOOKUP(F83,cat_omschrijving,3,0)) -> Sanitair | U83: =IF(F83="nio","_",VLOOKUP(F83,cat_omschrijving,4,0)) -> AQL 4% | W83: 100 | Y83: =IF(F83="nio","_",(L83/W83)*VLOOKUP(O83,Aanpassing_frequenties,3,0)) -> 3.315 | Z83: =IF(F83="nio","_",Y83*Rekentarief) -> 0 | AB83: =IF(OR($F83="nio",P83=""),"_",($L83/$W83)*VLOOKUP(P83,Aanpassing_frequenties,3,0)) -> _ | AC83: =IF(OR($F83="nio",P83=""),"_",AB83*Rekentarief30) -> _ | AE83: =IF(OR($F83="nio",Q83=""),"_",($L83/$W83)*VLOOKUP(Q83,Aanpassing_frequenties,3,0)) -> _ | AF83: =IF(OR($F83="nio",Q83=""),"_",AE83*Rekentarief50) -> _ | AH83: =IF(OR($F83="nio",R83=""),"_",($L83/$W83)*VLOOKUP(R83,Aanpassing_frequenties,3,0)) -> _ | AI83: =IF(OR($F83="nio",R83=""),"_",AH83*rekentarief150) -> _ | AK83: =IF(F83="nio","_",SUM(Y83,AB83,AE83,AH83)) -> 3.315 | AL83: =IF(F83="nio","_",SUM(Z83,AC83,AF83,AI83)) -> 0
A84: 4 | B84: =VLOOKUP(A84,'Overzicht locaties'!B:D,2,0) -> CE03 + SE25 | C84: Begane grond | D84: 25 | E84: Kleedruimte 7 | F84: 2 | G84: =VLOOKUP(F84,cat_omschrijving,2,0) -> Sanitaire ruimte | H84: Linoleum | I84: 1 | J84: =VLOOKUP(I84,Legenda_vloerafwerking,2,0) -> Vloerafwerking met polymeer beschermlaag | K84: 1.3 | L84: =K84-M84 -> 1.3 | M84: =IF(F84="nio",K84,0) -> 0 | O84: 5w | T84: =IF(F84="nio","_",VLOOKUP(F84,cat_omschrijving,3,0)) -> Sanitair | U84: =IF(F84="nio","_",VLOOKUP(F84,cat_omschrijving,4,0)) -> AQL 4% | W84: 100 | Y84: =IF(F84="nio","_",(L84/W84)*VLOOKUP(O84,Aanpassing_frequenties,3,0)) -> 3.315 | Z84: =IF(F84="nio","_",Y84*Rekentarief) -> 0 | AB84: =IF(OR($F84="nio",P84=""),"_",($L84/$W84)*VLOOKUP(P84,Aanpassing_frequenties,3,0)) -> _ | AC84: =IF(OR($F84="nio",P84=""),"_",AB84*Rekentarief30) -> _ | AE84: =IF(OR($F84="nio",Q84=""),"_",($L84/$W84)*VLOOKUP(Q84,Aanpassing_frequenties,3,0)) -> _ | AF84: =IF(OR($F84="nio",Q84=""),"_",AE84*Rekentarief50) -> _ | AH84: =IF(OR($F84="nio",R84=""),"_",($L84/$W84)*VLOOKUP(R84,Aanpassing_frequenties,3,0)) -> _ | AI84: =IF(OR($F84="nio",R84=""),"_",AH84*rekentarief150) -> _ | AK84: =IF(F84="nio","_",SUM(Y84,AB84,AE84,AH84)) -> 3.315 | AL84: =IF(F84="nio","_",SUM(Z84,AC84,AF84,AI84)) -> 0
A85: 4 | B85: =VLOOKUP(A85,'Overzicht locaties'!B:D,2,0) -> CE03 + SE25 | C85: Begane grond | D85: 25 | E85: Screening | F85: 4 | G85: =VLOOKUP(F85,cat_omschrijving,2,0) -> Medische ruimte | H85: Linoleum | I85: 1 | J85: =VLOOKUP(I85,Legenda_vloerafwerking,2,0) -> Vloerafwerking met polymeer beschermlaag | K85: 18.8 | L85: =K85-M85 -> 18.8 | M85: =IF(F85="nio",K85,0) -> 0 | O85: 5w | T85: =IF(F85="nio","_",VLOOKUP(F85,cat_omschrijving,3,0)) -> Behandel | U85: =IF(F85="nio","_",VLOOKUP(F85,cat_omschrijving,4,0)) -> AQL 3% | W85: 100 | Y85: =IF(F85="nio","_",(L85/W85)*VLOOKUP(O85,Aanpassing_frequenties,3,0)) -> 47.94 | Z85: =IF(F85="nio","_",Y85*Rekentarief) -> 0 | AB85: =IF(OR($F85="nio",P85=""),"_",($L85/$W85)*VLOOKUP(P85,Aanpassing_frequenties,3,0)) -> _ | AC85: =IF(OR($F85="nio",P85=""),"_",AB85*Rekentarief30) -> _ | AE85: =IF(OR($F85="nio",Q85=""),"_",($L85/$W85)*VLOOKUP(Q85,Aanpassing_frequenties,3,0)) -> _ | AF85: =IF(OR($F85="nio",Q85=""),"_",AE85*Rekentarief50) -> _ | AH85: =IF(OR($F85="nio",R85=""),"_",($L85/$W85)*VLOOKUP(R85,Aanpassing_frequenties,3,0)) -> _ | AI85: =IF(OR($F85="nio",R85=""),"_",AH85*rekentarief150) -> _ | AK85: =IF(F85="nio","_",SUM(Y85,AB85,AE85,AH85)) -> 47.94 | AL85: =IF(F85="nio","_",SUM(Z85,AC85,AF85,AI85)) -> 0
A86: 4 | B86: =VLOOKUP(A86,'Overzicht locaties'!B:D,2,0) -> CE03 + SE25 | C86: Begane grond | D86: 26 | E86: Kantoor | F86: 1 | G86: =VLOOKUP(F86,cat_omschrijving,2,0) -> Kantoorruimte / vergaderruimte | H86: Tapijt | I86: 4 | J86: =VLOOKUP(I86,Legenda_vloerafwerking,2,0) -> Tapijt | K86: 20.7 | L86: =K86-M86 -> 20.7 | M86: =IF(F86="nio",K86,0) -> 0 | O86: 3w | T86: =IF(F86="nio","_",VLOOKUP(F86,cat_omschrijving,3,0)) -> Bureau | U86: =IF(F86="nio","_",VLOOKUP(F86,cat_omschrijving,4,0)) -> AQL 7% | W86: 100 | Y86: =IF(F86="nio","_",(L86/W86)*VLOOKUP(O86,Aanpassing_frequenties,3,0)) -> 32.292 | Z86: =IF(F86="nio","_",Y86*Rekentarief) -> 0 | AB86: =IF(OR($F86="nio",P86=""),"_",($L86/$W86)*VLOOKUP(P86,Aanpassing_frequenties,3,0)) -> _ | AC86: =IF(OR($F86="nio",P86=""),"_",AB86*Rekentarief30) -> _ | AE86: =IF(OR($F86="nio",Q86=""),"_",($L86/$W86)*VLOOKUP(Q86,Aanpassing_frequenties,3,0)) -> _ | AF86: =IF(OR($F86="nio",Q86=""),"_",AE86*Rekentarief50) -> _ | AH86: =IF(OR($F86="nio",R86=""),"_",($L86/$W86)*VLOOKUP(R86,Aanpassing_frequenties,3,0)) -> _ | AI86: =IF(OR($F86="nio",R86=""),"_",AH86*rekentarief150) -> _ | AK86: =IF(F86="nio","_",SUM(Y86,AB86,AE86,AH86)) -> 32.292 | AL86: =IF(F86="nio","_",SUM(Z86,AC86,AF86,AI86)) -> 0
A87: 4 | B87: =VLOOKUP(A87,'Overzicht locaties'!B:D,2,0) -> CE03 + SE25 | C87: Begane grond | D87: 27 | E87: Omkleedruimte en magazijn | F87: 6 | G87: =VLOOKUP(F87,cat_omschrijving,2,0) -> Overig / Magazijn / Archief / Berging / Technische ruimte | H87: Linoleum | I87: 1 | J87: =VLOOKUP(I87,Legenda_vloerafwerking,2,0) -> Vloerafwerking met polymeer beschermlaag | K87: 19.6 | L87: =K87-M87 -> 19.6 | M87: =IF(F87="nio",K87,0) -> 0 | O87: 5w | T87: =IF(F87="nio","_",VLOOKUP(F87,cat_omschrijving,3,0)) -> Verkeer | U87: =IF(F87="nio","_",VLOOKUP(F87,cat_omschrijving,4,0)) -> AQL 7% | W87: 100 | Y87: =IF(F87="nio","_",(L87/W87)*VLOOKUP(O87,Aanpassing_frequenties,3,0)) -> 49.98 | Z87: =IF(F87="nio","_",Y87*Rekentarief) -> 0 | AB87: =IF(OR($F87="nio",P87=""),"_",($L87/$W87)*VLOOKUP(P87,Aanpassing_frequenties,3,0)) -> _ | AC87: =IF(OR($F87="nio",P87=""),"_",AB87*Rekentarief30) -> _ | AE87: =IF(OR($F87="nio",Q87=""),"_",($L87/$W87)*VLOOKUP(Q87,Aanpassing_frequenties,3,0)) -> _ | AF87: =IF(OR($F87="nio",Q87=""),"_",AE87*Rekentarief50) -> _ | AH87: =IF(OR($F87="nio",R87=""),"_",($L87/$W87)*VLOOKUP(R87,Aanpassing_frequenties,3,0)) -> _ | AI87: =IF(OR($F87="nio",R87=""),"_",AH87*rekentarief150) -> _ | AK87: =IF(F87="nio","_",SUM(Y87,AB87,AE87,AH87)) -> 49.98 | AL87: =IF(F87="nio","_",SUM(Z87,AC87,AF87,AI87)) -> 0
A88: 4 | B88: =VLOOKUP(A88,'Overzicht locaties'!B:D,2,0) -> CE03 + SE25 | C88: Begane grond | D88: 28 | E88: Kantoor | F88: 1 | G88: =VLOOKUP(F88,cat_omschrijving,2,0) -> Kantoorruimte / vergaderruimte | H88: Linoleum | I88: 1 | J88: =VLOOKUP(I88,Legenda_vloerafwerking,2,0) -> Vloerafwerking met polymeer beschermlaag | K88: 36.5 | L88: =K88-M88 -> 36.5 | M88: =IF(F88="nio",K88,0) -> 0 | O88: 3w | T88: =IF(F88="nio","_",VLOOKUP(F88,cat_omschrijving,3,0)) -> Bureau | U88: =IF(F88="nio","_",VLOOKUP(F88,cat_omschrijving,4,0)) -> AQL 7% | W88: 100 | Y88: =IF(F88="nio","_",(L88/W88)*VLOOKUP(O88,Aanpassing_frequenties,3,0)) -> 56.94 | Z88: =IF(F88="nio","_",Y88*Rekentarief) -> 0 | AB88: =IF(OR($F88="nio",P88=""),"_",($L88/$W88)*VLOOKUP(P88,Aanpassing_frequenties,3,0)) -> _ | AC88: =IF(OR($F88="nio",P88=""),"_",AB88*Rekentarief30) -> _ | AE88: =IF(OR($F88="nio",Q88=""),"_",($L88/$W88)*VLOOKUP(Q88,Aanpassing_frequenties,3,0)) -> _ | AF88: =IF(OR($F88="nio",Q88=""),"_",AE88*Rekentarief50) -> _ | AH88: =IF(OR($F88="nio",R88=""),"_",($L88/$W88)*VLOOKUP(R88,Aanpassing_frequenties,3,0)) -> _ | AI88: =IF(OR($F88="nio",R88=""),"_",AH88*rekentarief150) -> _ | AK88: =IF(F88="nio","_",SUM(Y88,AB88,AE88,AH88)) -> 56.94 | AL88: =IF(F88="nio","_",SUM(Z88,AC88,AF88,AI88)) -> 0
A89: 4 | B89: =VLOOKUP(A89,'Overzicht locaties'!B:D,2,0) -> CE03 + SE25 | C89: Begane grond | D89: 29 | E89: Kantoor | F89: 1 | G89: =VLOOKUP(F89,cat_omschrijving,2,0) -> Kantoorruimte / vergaderruimte | H89: Linoleum | I89: 1 | J89: =VLOOKUP(I89,Legenda_vloerafwerking,2,0) -> Vloerafwerking met polymeer beschermlaag | K89: 36.5 | L89: =K89-M89 -> 36.5 | M89: =IF(F89="nio",K89,0) -> 0 | O89: 3w | T89: =IF(F89="nio","_",VLOOKUP(F89,cat_omschrijving,3,0)) -> Bureau | U89: =IF(F89="nio","_",VLOOKUP(F89,cat_omschrijving,4,0)) -> AQL 7% | W89: 100 | Y89: =IF(F89="nio","_",(L89/W89)*VLOOKUP(O89,Aanpassing_frequenties,3,0)) -> 56.94 | Z89: =IF(F89="nio","_",Y89*Rekentarief) -> 0 | AB89: =IF(OR($F89="nio",P89=""),"_",($L89/$W89)*VLOOKUP(P89,Aanpassing_frequenties,3,0)) -> _ | AC89: =IF(OR($F89="nio",P89=""),"_",AB89*Rekentarief30) -> _ | AE89: =IF(OR($F89="nio",Q89=""),"_",($L89/$W89)*VLOOKUP(Q89,Aanpassing_frequenties,3,0)) -> _ | AF89: =IF(OR($F89="nio",Q89=""),"_",AE89*Rekentarief50) -> _ | AH89: =IF(OR($F89="nio",R89=""),"_",($L89/$W89)*VLOOKUP(R89,Aanpassing_frequenties,3,0)) -> _ | AI89: =IF(OR($F89="nio",R89=""),"_",AH89*rekentarief150) -> _ | AK89: =IF(F89="nio","_",SUM(Y89,AB89,AE89,AH89)) -> 56.94 | AL89: =IF(F89="nio","_",SUM(Z89,AC89,AF89,AI89)) -> 0
A90: 4 | B90: =VLOOKUP(A90,'Overzicht locaties'!B:D,2,0) -> CE03 + SE25 | C90: Begane grond | D90: 32 | E90: Screening | F90: 4 | G90: =VLOOKUP(F90,cat_omschrijving,2,0) -> Medische ruimte | H90: Linoleum | I90: 1 | J90: =VLOOKUP(I90,Legenda_vloerafwerking,2,0) -> Vloerafwerking met polymeer beschermlaag | K90: 14.9 | L90: =K90-M90 -> 14.9 | M90: =IF(F90="nio",K90,0) -> 0 | O90: 5w | T90: =IF(F90="nio","_",VLOOKUP(F90,cat_omschrijving,3,0)) -> Behandel | U90: =IF(F90="nio","_",VLOOKUP(F90,cat_omschrijving,4,0)) -> AQL 3% | W90: 100 | Y90: =IF(F90="nio","_",(L90/W90)*VLOOKUP(O90,Aanpassing_frequenties,3,0)) -> 37.995 | Z90: =IF(F90="nio","_",Y90*Rekentarief) -> 0 | AB90: =IF(OR($F90="nio",P90=""),"_",($L90/$W90)*VLOOKUP(P90,Aanpassing_frequenties,3,0)) -> _ | AC90: =IF(OR($F90="nio",P90=""),"_",AB90*Rekentarief30) -> _ | AE90: =IF(OR($F90="nio",Q90=""),"_",($L90/$W90)*VLOOKUP(Q90,Aanpassing_frequenties,3,0)) -> _ | AF90: =IF(OR($F90="nio",Q90=""),"_",AE90*Rekentarief50) -> _ | AH90: =IF(OR($F90="nio",R90=""),"_",($L90/$W90)*VLOOKUP(R90,Aanpassing_frequenties,3,0)) -> _ | AI90: =IF(OR($F90="nio",R90=""),"_",AH90*rekentarief150) -> _ | AK90: =IF(F90="nio","_",SUM(Y90,AB90,AE90,AH90)) -> 37.995 | AL90: =IF(F90="nio","_",SUM(Z90,AC90,AF90,AI90)) -> 0
A91: 4 | B91: =VLOOKUP(A91,'Overzicht locaties'!B:D,2,0) -> CE03 + SE25 | C91: Begane grond | E91: Kleedruimte 5 | F91: 2 | G91: =VLOOKUP(F91,cat_omschrijving,2,0) -> Sanitaire ruimte | H91: Linoleum | I91: 1 | J91: =VLOOKUP(I91,Legenda_vloerafwerking,2,0) -> Vloerafwerking met polymeer beschermlaag | K91: 1.3 | L91: =K91-M91 -> 1.3 | M91: =IF(F91="nio",K91,0) -> 0 | O91: 5w | T91: =IF(F91="nio","_",VLOOKUP(F91,cat_omschrijving,3,0)) -> Sanitair | U91: =IF(F91="nio","_",VLOOKUP(F91,cat_omschrijving,4,0)) -> AQL 4% | W91: 100 | Y91: =IF(F91="nio","_",(L91/W91)*VLOOKUP(O91,Aanpassing_frequenties,3,0)) -> 3.315 | Z91: =IF(F91="nio","_",Y91*Rekentarief) -> 0 | AB91: =IF(OR($F91="nio",P91=""),"_",($L91/$W91)*VLOOKUP(P91,Aanpassing_frequenties,3,0)) -> _ | AC91: =IF(OR($F91="nio",P91=""),"_",AB91*Rekentarief30) -> _ | AE91: =IF(OR($F91="nio",Q91=""),"_",($L91/$W91)*VLOOKUP(Q91,Aanpassing_frequenties,3,0)) -> _ | AF91: =IF(OR($F91="nio",Q91=""),"_",AE91*Rekentarief50) -> _ | AH91: =IF(OR($F91="nio",R91=""),"_",($L91/$W91)*VLOOKUP(R91,Aanpassing_frequenties,3,0)) -> _ | AI91: =IF(OR($F91="nio",R91=""),"_",AH91*rekentarief150) -> _ | AK91: =IF(F91="nio","_",SUM(Y91,AB91,AE91,AH91)) -> 3.315 | AL91: =IF(F91="nio","_",SUM(Z91,AC91,AF91,AI91)) -> 0
A92: 4 | B92: =VLOOKUP(A92,'Overzicht locaties'!B:D,2,0) -> CE03 + SE25 | C92: Begane grond | E92: Kleedruimte 4 | F92: 2 | G92: =VLOOKUP(F92,cat_omschrijving,2,0) -> Sanitaire ruimte | H92: Linoleum | I92: 1 | J92: =VLOOKUP(I92,Legenda_vloerafwerking,2,0) -> Vloerafwerking met polymeer beschermlaag | K92: 1.3 | L92: =K92-M92 -> 1.3 | M92: =IF(F92="nio",K92,0) -> 0 | O92: 5w | T92: =IF(F92="nio","_",VLOOKUP(F92,cat_omschrijving,3,0)) -> Sanitair | U92: =IF(F92="nio","_",VLOOKUP(F92,cat_omschrijving,4,0)) -> AQL 4% | W92: 100 | Y92: =IF(F92="nio","_",(L92/W92)*VLOOKUP(O92,Aanpassing_frequenties,3,0)) -> 3.315 | Z92: =IF(F92="nio","_",Y92*Rekentarief) -> 0 | AB92: =IF(OR($F92="nio",P92=""),"_",($L92/$W92)*VLOOKUP(P92,Aanpassing_frequenties,3,0)) -> _ | AC92: =IF(OR($F92="nio",P92=""),"_",AB92*Rekentarief30) -> _ | AE92: =IF(OR($F92="nio",Q92=""),"_",($L92/$W92)*VLOOKUP(Q92,Aanpassing_frequenties,3,0)) -> _ | AF92: =IF(OR($F92="nio",Q92=""),"_",AE92*Rekentarief50) -> _ | AH92: =IF(OR($F92="nio",R92=""),"_",($L92/$W92)*VLOOKUP(R92,Aanpassing_frequenties,3,0)) -> _ | AI92: =IF(OR($F92="nio",R92=""),"_",AH92*rekentarief150) -> _ | AK92: =IF(F92="nio","_",SUM(Y92,AB92,AE92,AH92)) -> 3.315 | AL92: =IF(F92="nio","_",SUM(Z92,AC92,AF92,AI92)) -> 0
A93: 4 | B93: =VLOOKUP(A93,'Overzicht locaties'!B:D,2,0) -> CE03 + SE25 | C93: Begane grond | D93: 34 | E93: Screening | F93: 4 | G93: =VLOOKUP(F93,cat_omschrijving,2,0) -> Medische ruimte | H93: Linoleum | I93: 1 | J93: =VLOOKUP(I93,Legenda_vloerafwerking,2,0) -> Vloerafwerking met polymeer beschermlaag | K93: 19.6 | L93: =K93-M93 -> 19.6 | M93: =IF(F93="nio",K93,0) -> 0 | O93: 5w | T93: =IF(F93="nio","_",VLOOKUP(F93,cat_omschrijving,3,0)) -> Behandel | U93: =IF(F93="nio","_",VLOOKUP(F93,cat_omschrijving,4,0)) -> AQL 3% | W93: 100 | Y93: =IF(F93="nio","_",(L93/W93)*VLOOKUP(O93,Aanpassing_frequenties,3,0)) -> 49.98 | Z93: =IF(F93="nio","_",Y93*Rekentarief) -> 0 | AB93: =IF(OR($F93="nio",P93=""),"_",($L93/$W93)*VLOOKUP(P93,Aanpassing_frequenties,3,0)) -> _ | AC93: =IF(OR($F93="nio",P93=""),"_",AB93*Rekentarief30) -> _ | AE93: =IF(OR($F93="nio",Q93=""),"_",($L93/$W93)*VLOOKUP(Q93,Aanpassing_frequenties,3,0)) -> _ | AF93: =IF(OR($F93="nio",Q93=""),"_",AE93*Rekentarief50) -> _ | AH93: =IF(OR($F93="nio",R93=""),"_",($L93/$W93)*VLOOKUP(R93,Aanpassing_frequenties,3,0)) -> _ | AI93: =IF(OR($F93="nio",R93=""),"_",AH93*rekentarief150) -> _ | AK93: =IF(F93="nio","_",SUM(Y93,AB93,AE93,AH93)) -> 49.98 | AL93: =IF(F93="nio","_",SUM(Z93,AC93,AF93,AI93)) -> 0
A94: 4 | B94: =VLOOKUP(A94,'Overzicht locaties'!B:D,2,0) -> CE03 + SE25 | C94: Begane grond | D94: 33 | E94: Beoordelingsruimte | F94: 1 | G94: =VLOOKUP(F94,cat_omschrijving,2,0) -> Kantoorruimte / vergaderruimte | H94: Linoleum | I94: 1 | J94: =VLOOKUP(I94,Legenda_vloerafwerking,2,0) -> Vloerafwerking met polymeer beschermlaag | K94: 22.5 | L94: =K94-M94 -> 22.5 | M94: =IF(F94="nio",K94,0) -> 0 | O94: 5w | T94: =IF(F94="nio","_",VLOOKUP(F94,cat_omschrijving,3,0)) -> Bureau | U94: =IF(F94="nio","_",VLOOKUP(F94,cat_omschrijving,4,0)) -> AQL 7% | W94: 100 | Y94: =IF(F94="nio","_",(L94/W94)*VLOOKUP(O94,Aanpassing_frequenties,3,0)) -> 57.375 | Z94: =IF(F94="nio","_",Y94*Rekentarief) -> 0 | AB94: =IF(OR($F94="nio",P94=""),"_",($L94/$W94)*VLOOKUP(P94,Aanpassing_frequenties,3,0)) -> _ | AC94: =IF(OR($F94="nio",P94=""),"_",AB94*Rekentarief30) -> _ | AE94: =IF(OR($F94="nio",Q94=""),"_",($L94/$W94)*VLOOKUP(Q94,Aanpassing_frequenties,3,0)) -> _ | AF94: =IF(OR($F94="nio",Q94=""),"_",AE94*Rekentarief50) -> _ | AH94: =IF(OR($F94="nio",R94=""),"_",($L94/$W94)*VLOOKUP(R94,Aanpassing_frequenties,3,0)) -> _ | AI94: =IF(OR($F94="nio",R94=""),"_",AH94*rekentarief150) -> _ | AK94: =IF(F94="nio","_",SUM(Y94,AB94,AE94,AH94)) -> 57.375 | AL94: =IF(F94="nio","_",SUM(Z94,AC94,AF94,AI94)) -> 0
A95: 4 | B95: =VLOOKUP(A95,'Overzicht locaties'!B:D,2,0) -> CE03 + SE25 | C95: Begane grond | E95: Kleedruimte 3 | F95: 2 | G95: =VLOOKUP(F95,cat_omschrijving,2,0) -> Sanitaire ruimte | H95: Linoleum | I95: 1 | J95: =VLOOKUP(I95,Legenda_vloerafwerking,2,0) -> Vloerafwerking met polymeer beschermlaag | K95: 1.3 | L95: =K95-M95 -> 1.3 | M95: =IF(F95="nio",K95,0) -> 0 | O95: 5w | T95: =IF(F95="nio","_",VLOOKUP(F95,cat_omschrijving,3,0)) -> Sanitair | U95: =IF(F95="nio","_",VLOOKUP(F95,cat_omschrijving,4,0)) -> AQL 4% | W95: 100 | Y95: =IF(F95="nio","_",(L95/W95)*VLOOKUP(O95,Aanpassing_frequenties,3,0)) -> 3.315 | Z95: =IF(F95="nio","_",Y95*Rekentarief) -> 0 | AB95: =IF(OR($F95="nio",P95=""),"_",($L95/$W95)*VLOOKUP(P95,Aanpassing_frequenties,3,0)) -> _ | AC95: =IF(OR($F95="nio",P95=""),"_",AB95*Rekentarief30) -> _ | AE95: =IF(OR($F95="nio",Q95=""),"_",($L95/$W95)*VLOOKUP(Q95,Aanpassing_frequenties,3,0)) -> _ | AF95: =IF(OR($F95="nio",Q95=""),"_",AE95*Rekentarief50) -> _ | AH95: =IF(OR($F95="nio",R95=""),"_",($L95/$W95)*VLOOKUP(R95,Aanpassing_frequenties,3,0)) -> _ | AI95: =IF(OR($F95="nio",R95=""),"_",AH95*rekentarief150) -> _ | AK95: =IF(F95="nio","_",SUM(Y95,AB95,AE95,AH95)) -> 3.315 | AL95: =IF(F95="nio","_",SUM(Z95,AC95,AF95,AI95)) -> 0
A96: 4 | B96: =VLOOKUP(A96,'Overzicht locaties'!B:D,2,0) -> CE03 + SE25 | C96: Begane grond | E96: Kleedruimte 2 | F96: 2 | G96: =VLOOKUP(F96,cat_omschrijving,2,0) -> Sanitaire ruimte | H96: Linoleum | I96: 1 | J96: =VLOOKUP(I96,Legenda_vloerafwerking,2,0) -> Vloerafwerking met polymeer beschermlaag | K96: 1.3 | L96: =K96-M96 -> 1.3 | M96: =IF(F96="nio",K96,0) -> 0 | O96: 5w | T96: =IF(F96="nio","_",VLOOKUP(F96,cat_omschrijving,3,0)) -> Sanitair | U96: =IF(F96="nio","_",VLOOKUP(F96,cat_omschrijving,4,0)) -> AQL 4% | W96: 100 | Y96: =IF(F96="nio","_",(L96/W96)*VLOOKUP(O96,Aanpassing_frequenties,3,0)) -> 3.315 | Z96: =IF(F96="nio","_",Y96*Rekentarief) -> 0 | AB96: =IF(OR($F96="nio",P96=""),"_",($L96/$W96)*VLOOKUP(P96,Aanpassing_frequenties,3,0)) -> _ | AC96: =IF(OR($F96="nio",P96=""),"_",AB96*Rekentarief30) -> _ | AE96: =IF(OR($F96="nio",Q96=""),"_",($L96/$W96)*VLOOKUP(Q96,Aanpassing_frequenties,3,0)) -> _ | AF96: =IF(OR($F96="nio",Q96=""),"_",AE96*Rekentarief50) -> _ | AH96: =IF(OR($F96="nio",R96=""),"_",($L96/$W96)*VLOOKUP(R96,Aanpassing_frequenties,3,0)) -> _ | AI96: =IF(OR($F96="nio",R96=""),"_",AH96*rekentarief150) -> _ | AK96: =IF(F96="nio","_",SUM(Y96,AB96,AE96,AH96)) -> 3.315 | AL96: =IF(F96="nio","_",SUM(Z96,AC96,AF96,AI96)) -> 0
A97: 4 | B97: =VLOOKUP(A97,'Overzicht locaties'!B:D,2,0) -> CE03 + SE25 | C97: Begane grond | E97: Kleedruimte 1 | F97: 2 | G97: =VLOOKUP(F97,cat_omschrijving,2,0) -> Sanitaire ruimte | H97: Linoleum | I97: 1 | J97: =VLOOKUP(I97,Legenda_vloerafwerking,2,0) -> Vloerafwerking met polymeer beschermlaag | K97: 1.3 | L97: =K97-M97 -> 1.3 | M97: =IF(F97="nio",K97,0) -> 0 | O97: 5w | T97: =IF(F97="nio","_",VLOOKUP(F97,cat_omschrijving,3,0)) -> Sanitair | U97: =IF(F97="nio","_",VLOOKUP(F97,cat_omschrijving,4,0)) -> AQL 4% | W97: 100 | Y97: =IF(F97="nio","_",(L97/W97)*VLOOKUP(O97,Aanpassing_frequenties,3,0)) -> 3.315 | Z97: =IF(F97="nio","_",Y97*Rekentarief) -> 0 | AB97: =IF(OR($F97="nio",P97=""),"_",($L97/$W97)*VLOOKUP(P97,Aanpassing_frequenties,3,0)) -> _ | AC97: =IF(OR($F97="nio",P97=""),"_",AB97*Rekentarief30) -> _ | AE97: =IF(OR($F97="nio",Q97=""),"_",($L97/$W97)*VLOOKUP(Q97,Aanpassing_frequenties,3,0)) -> _ | AF97: =IF(OR($F97="nio",Q97=""),"_",AE97*Rekentarief50) -> _ | AH97: =IF(OR($F97="nio",R97=""),"_",($L97/$W97)*VLOOKUP(R97,Aanpassing_frequenties,3,0)) -> _ | AI97: =IF(OR($F97="nio",R97=""),"_",AH97*rekentarief150) -> _ | AK97: =IF(F97="nio","_",SUM(Y97,AB97,AE97,AH97)) -> 3.315 | AL97: =IF(F97="nio","_",SUM(Z97,AC97,AF97,AI97)) -> 0
A98: 4 | B98: =VLOOKUP(A98,'Overzicht locaties'!B:D,2,0) -> CE03 + SE25 | C98: Begane grond | D98: 35 | E98: Toilet | F98: 2 | G98: =VLOOKUP(F98,cat_omschrijving,2,0) -> Sanitaire ruimte | H98: Tegel | I98: 2 | J98: =VLOOKUP(I98,Legenda_vloerafwerking,2,0) -> Harde vloeren zonder extra behandeling | K98: 7.9 | L98: =K98-M98 -> 7.9 | M98: =IF(F98="nio",K98,0) -> 0 | O98: 5w | T98: =IF(F98="nio","_",VLOOKUP(F98,cat_omschrijving,3,0)) -> Sanitair | U98: =IF(F98="nio","_",VLOOKUP(F98,cat_omschrijving,4,0)) -> AQL 4% | W98: 100 | Y98: =IF(F98="nio","_",(L98/W98)*VLOOKUP(O98,Aanpassing_frequenties,3,0)) -> 20.145 | Z98: =IF(F98="nio","_",Y98*Rekentarief) -> 0 | AB98: =IF(OR($F98="nio",P98=""),"_",($L98/$W98)*VLOOKUP(P98,Aanpassing_frequenties,3,0)) -> _ | AC98: =IF(OR($F98="nio",P98=""),"_",AB98*Rekentarief30) -> _ | AE98: =IF(OR($F98="nio",Q98=""),"_",($L98/$W98)*VLOOKUP(Q98,Aanpassing_frequenties,3,0)) -> _ | AF98: =IF(OR($F98="nio",Q98=""),"_",AE98*Rekentarief50) -> _ | AH98: =IF(OR($F98="nio",R98=""),"_",($L98/$W98)*VLOOKUP(R98,Aanpassing_frequenties,3,0)) -> _ | AI98: =IF(OR($F98="nio",R98=""),"_",AH98*rekentarief150) -> _ | AK98: =IF(F98="nio","_",SUM(Y98,AB98,AE98,AH98)) -> 20.145 | AL98: =IF(F98="nio","_",SUM(Z98,AC98,AF98,AI98)) -> 0
A99: 4 | B99: =VLOOKUP(A99,'Overzicht locaties'!B:D,2,0) -> CE03 + SE25 | C99: Begane grond | E99: Gang | F99: 3 | G99: =VLOOKUP(F99,cat_omschrijving,2,0) -> Verkeersruimte / Garderobe / Wachtruimte | H99: Tapijt | I99: 4 | J99: =VLOOKUP(I99,Legenda_vloerafwerking,2,0) -> Tapijt | K99: 116.1 | L99: =K99-M99 -> 116.1 | M99: =IF(F99="nio",K99,0) -> 0 | O99: 3w | T99: =IF(F99="nio","_",VLOOKUP(F99,cat_omschrijving,3,0)) -> Verkeer | U99: =IF(F99="nio","_",VLOOKUP(F99,cat_omschrijving,4,0)) -> AQL 7% | W99: 100 | Y99: =IF(F99="nio","_",(L99/W99)*VLOOKUP(O99,Aanpassing_frequenties,3,0)) -> 181.116 | Z99: =IF(F99="nio","_",Y99*Rekentarief) -> 0 | AB99: =IF(OR($F99="nio",P99=""),"_",($L99/$W99)*VLOOKUP(P99,Aanpassing_frequenties,3,0)) -> _ | AC99: =IF(OR($F99="nio",P99=""),"_",AB99*Rekentarief30) -> _ | AE99: =IF(OR($F99="nio",Q99=""),"_",($L99/$W99)*VLOOKUP(Q99,Aanpassing_frequenties,3,0)) -> _ | AF99: =IF(OR($F99="nio",Q99=""),"_",AE99*Rekentarief50) -> _ | AH99: =IF(OR($F99="nio",R99=""),"_",($L99/$W99)*VLOOKUP(R99,Aanpassing_frequenties,3,0)) -> _ | AI99: =IF(OR($F99="nio",R99=""),"_",AH99*rekentarief150) -> _ | AK99: =IF(F99="nio","_",SUM(Y99,AB99,AE99,AH99)) -> 181.116 | AL99: =IF(F99="nio","_",SUM(Z99,AC99,AF99,AI99)) -> 0
A100: 4 | B100: =VLOOKUP(A100,'Overzicht locaties'!B:D,2,0) -> CE03 + SE25 | C100: Begane grond | D100: 31 | E100: Serverruimte | F100: 6 | G100: =VLOOKUP(F100,cat_omschrijving,2,0) -> Overig / Magazijn / Archief / Berging / Technische ruimte | H100: Linoleum | I100: 1 | J100: =VLOOKUP(I100,Legenda_vloerafwerking,2,0) -> Vloerafwerking met polymeer beschermlaag | K100: 19.6 | L100: =K100-M100 -> 19.6 | M100: =IF(F100="nio",K100,0) -> 0 | O100: 1j | T100: =IF(F100="nio","_",VLOOKUP(F100,cat_omschrijving,3,0)) -> Verkeer | U100: =IF(F100="nio","_",VLOOKUP(F100,cat_omschrijving,4,0)) -> AQL 7% | W100: 100 | Y100: =IF(F100="nio","_",(L100/W100)*VLOOKUP(O100,Aanpassing_frequenties,3,0)) -> 0.196 | Z100: =IF(F100="nio","_",Y100*Rekentarief) -> 0 | AB100: =IF(OR($F100="nio",P100=""),"_",($L100/$W100)*VLOOKUP(P100,Aanpassing_frequenties,3,0)) -> _ | AC100: =IF(OR($F100="nio",P100=""),"_",AB100*Rekentarief30) -> _ | AE100: =IF(OR($F100="nio",Q100=""),"_",($L100/$W100)*VLOOKUP(Q100,Aanpassing_frequenties,3,0)) -> _ | AF100: =IF(OR($F100="nio",Q100=""),"_",AE100*Rekentarief50) -> _ | AH100: =IF(OR($F100="nio",R100=""),"_",($L100/$W100)*VLOOKUP(R100,Aanpassing_frequenties,3,0)) -> _ | AI100: =IF(OR($F100="nio",R100=""),"_",AH100*rekentarief150) -> _ | AK100: =IF(F100="nio","_",SUM(Y100,AB100,AE100,AH100)) -> 0.196 | AL100: =IF(F100="nio","_",SUM(Z100,AC100,AF100,AI100)) -> 0
A101: 4 | B101: =VLOOKUP(A101,'Overzicht locaties'!B:D,2,0) -> CE03 + SE25 | C101: Begane grond | D101: 30 | E101: Magazijn | F101: 6 | G101: =VLOOKUP(F101,cat_omschrijving,2,0) -> Overig / Magazijn / Archief / Berging / Technische ruimte | H101: Tapijt | I101: 4 | J101: =VLOOKUP(I101,Legenda_vloerafwerking,2,0) -> Tapijt | K101: 58.8 | L101: =K101-M101 -> 58.8 | M101: =IF(F101="nio",K101,0) -> 0 | O101: 3w | T101: =IF(F101="nio","_",VLOOKUP(F101,cat_omschrijving,3,0)) -> Verkeer | U101: =IF(F101="nio","_",VLOOKUP(F101,cat_omschrijving,4,0)) -> AQL 7% | W101: 100 | Y101: =IF(F101="nio","_",(L101/W101)*VLOOKUP(O101,Aanpassing_frequenties,3,0)) -> 91.728 | Z101: =IF(F101="nio","_",Y101*Rekentarief) -> 0 | AB101: =IF(OR($F101="nio",P101=""),"_",($L101/$W101)*VLOOKUP(P101,Aanpassing_frequenties,3,0)) -> _ | AC101: =IF(OR($F101="nio",P101=""),"_",AB101*Rekentarief30) -> _ | AE101: =IF(OR($F101="nio",Q101=""),"_",($L101/$W101)*VLOOKUP(Q101,Aanpassing_frequenties,3,0)) -> _ | AF101: =IF(OR($F101="nio",Q101=""),"_",AE101*Rekentarief50) -> _ | AH101: =IF(OR($F101="nio",R101=""),"_",($L101/$W101)*VLOOKUP(R101,Aanpassing_frequenties,3,0)) -> _ | AI101: =IF(OR($F101="nio",R101=""),"_",AH101*rekentarief150) -> _ | AK101: =IF(F101="nio","_",SUM(Y101,AB101,AE101,AH101)) -> 91.728 | AL101: =IF(F101="nio","_",SUM(Z101,AC101,AF101,AI101)) -> 0
A102: 5 | B102: =VLOOKUP(A102,'Overzicht locaties'!B:D,2,0) -> SE29 | C102: Screeningseenheid mobiel | D102: 1 | E102: Leefruimte | F102: 1 | G102: =VLOOKUP(F102,cat_omschrijving,2,0) -> Kantoorruimte / vergaderruimte | H102: Linoleum | I102: 1 | J102: =VLOOKUP(I102,Legenda_vloerafwerking,2,0) -> Vloerafwerking met polymeer beschermlaag | K102: 8 | L102: =K102-M102 -> 8 | M102: =IF(F102="nio",K102,0) -> 0 | O102: 3w | T102: =IF(F102="nio","_",VLOOKUP(F102,cat_omschrijving,3,0)) -> Bureau | U102: =IF(F102="nio","_",VLOOKUP(F102,cat_omschrijving,4,0)) -> AQL 7% | W102: 100 | Y102: =IF(F102="nio","_",(L102/W102)*VLOOKUP(O102,Aanpassing_frequenties,3,0)) -> 12.48 | Z102: =IF(F102="nio","_",Y102*Rekentarief) -> 0 | AB102: =IF(OR($F102="nio",P102=""),"_",($L102/$W102)*VLOOKUP(P102,Aanpassing_frequenties,3,0)) -> _ | AC102: =IF(OR($F102="nio",P102=""),"_",AB102*Rekentarief30) -> _ | AE102: =IF(OR($F102="nio",Q102=""),"_",($L102/$W102)*VLOOKUP(Q102,Aanpassing_frequenties,3,0)) -> _ | AF102: =IF(OR($F102="nio",Q102=""),"_",AE102*Rekentarief50) -> _ | AH102: =IF(OR($F102="nio",R102=""),"_",($L102/$W102)*VLOOKUP(R102,Aanpassing_frequenties,3,0)) -> _ | AI102: =IF(OR($F102="nio",R102=""),"_",AH102*rekentarief150) -> _ | AK102: =IF(F102="nio","_",SUM(Y102,AB102,AE102,AH102)) -> 12.48 | AL102: =IF(F102="nio","_",SUM(Z102,AC102,AF102,AI102)) -> 0
A103: 5 | B103: =VLOOKUP(A103,'Overzicht locaties'!B:D,2,0) -> SE29 | C103: Screeningseenheid mobiel | D103: 2 | E103: Bekijkruimte | F103: 1 | G103: =VLOOKUP(F103,cat_omschrijving,2,0) -> Kantoorruimte / vergaderruimte | H103: Linoleum | I103: 1 | J103: =VLOOKUP(I103,Legenda_vloerafwerking,2,0) -> Vloerafwerking met polymeer beschermlaag | K103: 5 | L103: =K103-M103 -> 5 | M103: =IF(F103="nio",K103,0) -> 0 | O103: 3w | T103: =IF(F103="nio","_",VLOOKUP(F103,cat_omschrijving,3,0)) -> Bureau | U103: =IF(F103="nio","_",VLOOKUP(F103,cat_omschrijving,4,0)) -> AQL 7% | W103: 100 | Y103: =IF(F103="nio","_",(L103/W103)*VLOOKUP(O103,Aanpassing_frequenties,3,0)) -> 7.8 | Z103: =IF(F103="nio","_",Y103*Rekentarief) -> 0 | AB103: =IF(OR($F103="nio",P103=""),"_",($L103/$W103)*VLOOKUP(P103,Aanpassing_frequenties,3,0)) -> _ | AC103: =IF(OR($F103="nio",P103=""),"_",AB103*Rekentarief30) -> _ | AE103: =IF(OR($F103="nio",Q103=""),"_",($L103/$W103)*VLOOKUP(Q103,Aanpassing_frequenties,3,0)) -> _ | AF103: =IF(OR($F103="nio",Q103=""),"_",AE103*Rekentarief50) -> _ | AH103: =IF(OR($F103="nio",R103=""),"_",($L103/$W103)*VLOOKUP(R103,Aanpassing_frequenties,3,0)) -> _ | AI103: =IF(OR($F103="nio",R103=""),"_",AH103*rekentarief150) -> _ | AK103: =IF(F103="nio","_",SUM(Y103,AB103,AE103,AH103)) -> 7.8 | AL103: =IF(F103="nio","_",SUM(Z103,AC103,AF103,AI103)) -> 0
...

Sheet Glasbewassing
B1: Inschrijver vult de geel gearceerde cellen in.
A3: Glasbewassing locaties Bevolkingsonderzoek Nederland
A5: * In de kosten voor materieel/ bereikbaarheidsvoorzieningen zijn alle overige benodigde kosten (dus alle kosten, behalve loonkosten en eventuele suppletiekosten per beurt) opgenomen om de glasbewassing op locatie uit te voeren.
A7: Gebouw # | B7: Locatie | D7: Frequentie/jaar | E7: oppervlakte per beurt | F7: kosten / beurt | G7: Suppletiekosten per beurt | H7: Kosten materieel/ bereikbaarheidsvoorzieningen * | I7: kosten / jaar | J7: Opmerkingen
A8: 1 | B8: =VLOOKUP(A8,'Overzicht locaties'!B:D,2,0) -> CE18 | C8: Gevelglas buitenzijde | D8: 2 | E8: 0 | F8: =E8*VLOOKUP(C8,Glas,4,0) -> 0 | G8: 0 | H8: 0 | I8: =(F8*D8)+(G8*D8)+(H8*D8) -> 0
A9: 1 | B9: =VLOOKUP(A9,'Overzicht locaties'!B:D,2,0) -> CE18 | C9: Gevelglas binnenzijde | D9: 2 | E9: 93.5 | F9: =E9*VLOOKUP(C9,Glas,4,0) -> 0 | G9: 0 | H9: 0 | I9: =(F9*D9)+(G9*D9)+(H9*D9) -> 0
A10: 1 | B10: =VLOOKUP(A10,'Overzicht locaties'!B:D,2,0) -> CE18 | C10: Separatieglas (m ² is totaal) | D10: 2 | E10: 79 | F10: =E10*VLOOKUP(C10,Glas,4,0) -> 0 | G10: 0 | H10: 0 | I10: =(F10*D10)+(G10*D10)+(H10*D10) -> 0
A11: 2 | B11: =VLOOKUP(A11,'Overzicht locaties'!B:D,2,0) -> CE05 | C11: Gevelglas buitenzijde | D11: 2 | E11: 0 | F11: =E11*VLOOKUP(C11,Glas,4,0) -> 0 | G11: 0 | H11: 0 | I11: =(F11*D11)+(G11*D11)+(H11*D11) -> 0
A12: 2 | B12: =VLOOKUP(A12,'Overzicht locaties'!B:D,2,0) -> CE05 | C12: Gevelglas binnenzijde | D12: 2 | E12: 27.66 | F12: =E12*VLOOKUP(C12,Glas,4,0) -> 0 | G12: 0 | H12: 0 | I12: =(F12*D12)+(G12*D12)+(H12*D12) -> 0
A13: 2 | B13: =VLOOKUP(A13,'Overzicht locaties'!B:D,2,0) -> CE05 | C13: Separatieglas (m ² is totaal) | D13: 2 | E13: =2*10.24 -> 20.48 | F13: =E13*VLOOKUP(C13,Glas,4,0) -> 0 | G13: 0 | H13: 0 | I13: =(F13*D13)+(G13*D13)+(H13*D13) -> 0
A14: 3 | B14: =VLOOKUP(A14,'Overzicht locaties'!B:D,2,0) -> CE01 + SE31 | C14: Gevelglas buitenzijde | D14: 2 | E14: 0 | F14: =E14*VLOOKUP(C14,Glas,4,0) -> 0 | G14: 0 | H14: 0 | I14: =(F14*D14)+(G14*D14)+(H14*D14) -> 0
A15: 3 | B15: =VLOOKUP(A15,'Overzicht locaties'!B:D,2,0) -> CE01 + SE31 | C15: Gevelglas binnenzijde | D15: 2 | E15: 150.74 | F15: =E15*VLOOKUP(C15,Glas,4,0) -> 0 | G15: 0 | H15: 0 | I15: =(F15*D15)+(G15*D15)+(H15*D15) -> 0
A16: 3 | B16: =VLOOKUP(A16,'Overzicht locaties'!B:D,2,0) -> CE01 + SE31 | C16: Separatieglas (m ² is totaal) | D16: 2 | E16: =87.46*2 -> 174.92 | F16: =E16*VLOOKUP(C16,Glas,4,0) -> 0 | G16: 0 | H16: 0 | I16: =(F16*D16)+(G16*D16)+(H16*D16) -> 0 | J16: CE01 is op de 3e verdieping.
A17: 4 | B17: =VLOOKUP(A17,'Overzicht locaties'!B:D,2,0) -> CE03 + SE25 | C17: Gevelglas buitenzijde | D17: 2 | E17: 0 | F17: =E17*VLOOKUP(C17,Glas,4,0) -> 0 | G17: 0 | H17: 0 | I17: =(F17*D17)+(G17*D17)+(H17*D17) -> 0
A18: 4 | B18: =VLOOKUP(A18,'Overzicht locaties'!B:D,2,0) -> CE03 + SE25 | C18: Gevelglas binnenzijde | D18: 2 | E18: 110.6 | F18: =E18*VLOOKUP(C18,Glas,4,0) -> 0 | G18: 0 | H18: 0 | I18: =(F18*D18)+(G18*D18)+(H18*D18) -> 0
A19: 4 | B19: =VLOOKUP(A19,'Overzicht locaties'!B:D,2,0) -> CE03 + SE25 | C19: Separatieglas (m ² is totaal) | D19: 2 | E19: 219.2 | F19: =E19*VLOOKUP(C19,Glas,4,0) -> 0 | G19: 0 | H19: 0 | I19: =(F19*D19)+(G19*D19)+(H19*D19) -> 0
A20: 5 | B20: =VLOOKUP(A20,'Overzicht locaties'!B:D,2,0) -> SE29 | C20: Gevelglas buitenzijde | D20: 2 | E20: 4.8 | F20: =E20*VLOOKUP(C20,Glas,4,0) -> 0 | G20: 0 | H20: 0 | I20: =(F20*D20)+(G20*D20)+(H20*D20) -> 0
A21: 5 | B21: =VLOOKUP(A21,'Overzicht locaties'!B:D,2,0) -> SE29 | C21: Gevelglas binnenzijde | D21: 2 | E21: 4.8 | F21: =E21*VLOOKUP(C21,Glas,4,0) -> 0 | G21: 0 | H21: 0 | I21: =(F21*D21)+(G21*D21)+(H21*D21) -> 0
A22: 5 | B22: =VLOOKUP(A22,'Overzicht locaties'!B:D,2,0) -> SE29 | C22: Separatieglas (m ² is totaal) | D22: 2 | E22: 1.28 | F22: =E22*VLOOKUP(C22,Glas,4,0) -> 0 | G22: 0 | H22: 0 | I22: =(F22*D22)+(G22*D22)+(H22*D22) -> 0
A23: 6 | B23: =VLOOKUP(A23,'Overzicht locaties'!B:D,2,0) -> SE30 | C23: Gevelglas buitenzijde | D23: 2 | E23: 4.8 | F23: =E23*VLOOKUP(C23,Glas,4,0) -> 0 | G23: 0 | H23: 0 | I23: =(F23*D23)+(G23*D23)+(H23*D23) -> 0
A24: 6 | B24: =VLOOKUP(A24,'Overzicht locaties'!B:D,2,0) -> SE30 | C24: Gevelglas binnenzijde | D24: 2 | E24: 4.8 | F24: =E24*VLOOKUP(C24,Glas,4,0) -> 0 | G24: 0 | H24: 0 | I24: =(F24*D24)+(G24*D24)+(H24*D24) -> 0
A25: 6 | B25: =VLOOKUP(A25,'Overzicht locaties'!B:D,2,0) -> SE30 | C25: Separatieglas (m ² is totaal) | D25: 2 | E25: 1.28 | F25: =E25*VLOOKUP(C25,Glas,4,0) -> 0 | G25: 0 | H25: 0 | I25: =(F25*D25)+(G25*D25)+(H25*D25) -> 0
A26: 7 | B26: =VLOOKUP(A26,'Overzicht locaties'!B:D,2,0) -> SE32 | C26: Gevelglas buitenzijde | D26: 2 | E26: 4.8 | F26: =E26*VLOOKUP(C26,Glas,4,0) -> 0 | G26: 0 | H26: 0 | I26: =(F26*D26)+(G26*D26)+(H26*D26) -> 0
A27: 7 | B27: =VLOOKUP(A27,'Overzicht locaties'!B:D,2,0) -> SE32 | C27: Gevelglas binnenzijde | D27: 2 | E27: 4.8 | F27: =E27*VLOOKUP(C27,Glas,4,0) -> 0 | G27: 0 | H27: 0 | I27: =(F27*D27)+(G27*D27)+(H27*D27) -> 0
A28: 7 | B28: =VLOOKUP(A28,'Overzicht locaties'!B:D,2,0) -> SE32 | C28: Separatieglas (m ² is totaal) | D28: 2 | E28: 1.28 | F28: =E28*VLOOKUP(C28,Glas,4,0) -> 0 | G28: 0 | H28: 0 | I28: =(F28*D28)+(G28*D28)+(H28*D28) -> 0
... A58: 17 | B58: =VLOOKUP(A58,'Overzicht locaties'!B:D,2,0) -> SE81 | C58: Separatieglas (m ² is totaal) | D58: 2 | E58: 1.28 | F58: =E58*VLOOKUP(C58,Glas,4,0) -> 0 | G58: 0 | H58: 0 | I58: =(F58*D58)+(G58*D58)+(H58*D58) -> 0
A59: 18 | B59: =VLOOKUP(A59,'Overzicht locaties'!B:D,2,0) -> Rott. | C59: Gevelglas buitenzijde | D59: 0 | E59: 0 | F59: =E59*VLOOKUP(C59,Glas,4,0) -> 0 | G59: 0 | H59: 0 | I59: =(F59*D59)+(G59*D59)+(H59*D59) -> 0 | J59: Uitgevoerd door gebouwenbeheerder
A60: 18 | B60: =VLOOKUP(A60,'Overzicht locaties'!B:D,2,0) -> Rott. | C60: Gevelglas binnenzijde | D60: 4 | E60: 141.9 | F60: =E60*VLOOKUP(C60,Glas,4,0) -> 0 | G60: 0 | H60: 0 | I60: =(F60*D60)+(G60*D60)+(H60*D60) -> 0
A61: 18 | B61: =VLOOKUP(A61,'Overzicht locaties'!B:D,2,0) -> Rott. | C61: Separatieglas (m ² is totaal) | D61: 4 | E61: =403*2 -> 806 | F61: =E61*VLOOKUP(C61,Glas,4,0) -> 0 | G61: 0 | H61: 0 | I61: =(F61*D61)+(G61*D61)+(H61*D61) -> 0
A62: 19 | B62: =VLOOKUP(A62,'Overzicht locaties'!B:D,2,0) -> SE51 | C62: Gevelglas buitenzijde | D62: 4 | E62: 41.9 | F62: =E62*VLOOKUP(C62,Glas,4,0) -> 0 | G62: 0 | H62: 0 | I62: =(F62*D62)+(G62*D62)+(H62*D62) -> 0
A63: 19 | B63: =VLOOKUP(A63,'Overzicht locaties'!B:D,2,0) -> SE51 | C63: Gevelglas binnenzijde | D63: 4 | E63: 41.9 | F63: =E63*VLOOKUP(C63,Glas,4,0) -> 0 | G63: 0 | H63: 0 | I63: =(F63*D63)+(G63*D63)+(H63*D63) -> 0
A64: 19 | B64: =VLOOKUP(A64,'Overzicht locaties'!B:D,2,0) -> SE51 | C64: Separatieglas (m ² is totaal) | D64: 4 | E64: 24.5 | F64: =E64*VLOOKUP(C64,Glas,4,0) -> 0 | G64: 0 | H64: 0 | I64: =(F64*D64)+(G64*D64)+(H64*D64) -> 0
A65: 20 | B65: =VLOOKUP(A65,'Overzicht locaties'!B:D,2,0) -> SE52 | C65: Gevelglas buitenzijde | D65: 0 | E65: 0 | F65: =E65*VLOOKUP(C65,Glas,4,0) -> 0 | G65: 0 | H65: 0 | I65: =(F65*D65)+(G65*D65)+(H65*D65) -> 0 | J65: Uitgevoerd door gebouwenbeheerder
A66: 20 | B66: =VLOOKUP(A66,'Overzicht locaties'!B:D,2,0) -> SE52 | C66: Gevelglas binnenzijde | D66: 4 | E66: 51 | F66: =E66*VLOOKUP(C66,Glas,4,0) -> 0 | G66: 0 | H66: 0 | I66: =(F66*D66)+(G66*D66)+(H66*D66) -> 0
A67: 20 | B67: =VLOOKUP(A67,'Overzicht locaties'!B:D,2,0) -> SE52 | C67: Separatieglas (m ² is totaal) | D67: 4 | E67: 22 | F67: =E67*VLOOKUP(C67,Glas,4,0) -> 0 | G67: 0 | H67: 0 | I67: =(F67*D67)+(G67*D67)+(H67*D67) -> 0
A68: 21 | B68: =VLOOKUP(A68,'Overzicht locaties'!B:D,2,0) -> SE65 | C68: Gevelglas buitenzijde | D68: 0 | E68: 0 | F68: =E68*VLOOKUP(C68,Glas,4,0) -> 0 | G68: 0 | H68: 0 | I68: =(F68*D68)+(G68*D68)+(H68*D68) -> 0
A69: 21 | B69: =VLOOKUP(A69,'Overzicht locaties'!B:D,2,0) -> SE65 | C69: Gevelglas binnenzijde | D69: 2 | E69: 79.3 | F69: =E69*VLOOKUP(C69,Glas,4,0) -> 0 | G69: 0 | H69: 0 | I69: =(F69*D69)+(G69*D69)+(H69*D69) -> 0
A70: 21 | B70: =VLOOKUP(A70,'Overzicht locaties'!B:D,2,0) -> SE65 | C70: Separatieglas (m ² is totaal) | D70: 0 | E70: 0 | F70: =E70*VLOOKUP(C70,Glas,4,0) -> 0 | G70: 0 | H70: 0 | I70: =(F70*D70)+(G70*D70)+(H70*D70) -> 0
A71: 22 | B71: =VLOOKUP(A71,'Overzicht locaties'!B:D,2,0) -> SE55 | C71: Gevelglas buitenzijde | D71: 3 | E71: 3.25 | F71: =E71*VLOOKUP(C71,Glas,4,0) -> 0 | G71: 0 | H71: 0 | I71: =(F71*D71)+(G71*D71)+(H71*D71) -> 0
A72: 22 | B72: =VLOOKUP(A72,'Overzicht locaties'!B:D,2,0) -> SE55 | C72: Gevelglas binnenzijde | D72: 3 | E72: 3.25 | F72: =E72*VLOOKUP(C72,Glas,4,0) -> 0 | G72: 0 | H72: 0 | I72: =(F72*D72)+(G72*D72)+(H72*D72) -> 0
A73: 22 | B73: =VLOOKUP(A73,'Overzicht locaties'!B:D,2,0) -> SE55 | C73: Separatieglas (m ² is totaal) | D73: 3 | E73: 4.2 | F73: =E73*VLOOKUP(C73,Glas,4,0) -> 0 | G73: 0 | H73: 0 | I73: =(F73*D73)+(G73*D73)+(H73*D73) -> 0
A74: 23 | B74: =VLOOKUP(A74,'Overzicht locaties'!B:D,2,0) -> SE66 | C74: Gevelglas buitenzijde | D74: 3 | E74: 2.8 | F74: =E74*VLOOKUP(C74,Glas,4,0) -> 0 | G74: 0 | H74: 0 | I74: =(F74*D74)+(G74*D74)+(H74*D74) -> 0
A75: 23 | B75: =VLOOKUP(A75,'Overzicht locaties'!B:D,2,0) -> SE66 | C75: Gevelglas binnenzijde | D75: 3 | E75: 2.8 | F75: =E75*VLOOKUP(C75,Glas,4,0) -> 0 | G75: 0 | H75: 0 | I75: =(F75*D75)+(G75*D75)+(H75*D75) -> 0 | J75: Luxaflex aan binnenzijde.
A76: 23 | B76: =VLOOKUP(A76,'Overzicht locaties'!B:D,2,0) -> SE66 | C76: Separatieglas (m ² is totaal) | D76: 3 | E76: 0 | F76: =E76*VLOOKUP(C76,Glas,4,0) -> 0 | G76: 0 | H76: 0 | I76: =(F76*D76)+(G76*D76)+(H76*D76) -> 0
A77: 24 | B77: =VLOOKUP(A77,'Overzicht locaties'!B:D,2,0) -> Type A | C77: Gevelglas buitenzijde | D77: 3 | E77: 4.5 | F77: =E77*VLOOKUP(C77,Glas,4,0) -> 0 | G77: 0 | H77: 0 | I77: =(F77*D77)+(G77*D77)+(H77*D77) -> 0
A78: 24 | B78: =VLOOKUP(A78,'Overzicht locaties'!B:D,2,0) -> Type A | C78: Gevelglas binnenzijde | D78: 3 | E78: 4.5 | F78: =E78*VLOOKUP(C78,Glas,4,0) -> 0 | G78: 0 | H78: 0 | I78: =(F78*D78)+(G78*D78)+(H78*D78) -> 0
A79: 24 | B79: =VLOOKUP(A79,'Overzicht locaties'!B:D,2,0) -> Type A | C79: Separatieglas (m ² is totaal) | D79: 3 | E79: 0 | F79: =E79*VLOOKUP(C79,Glas,4,0) -> 0 | G79: 0 | H79: 0 | I79: =(F79*D79)+(G79*D79)+(H79*D79) -> 0
A80: 25 | B80: =VLOOKUP(A80,'Overzicht locaties'!B:D,2,0) -> Type B | C80: Gevelglas buitenzijde | D80: 3 | E80: 3.25 | F80: =E80*VLOOKUP(C80,Glas,4,0) -> 0 | G80: 0 | H80: 0 | I80: =(F80*D80)+(G80*D80)+(H80*D80) -> 0
A81: 25 | B81: =VLOOKUP(A81,'Overzicht locaties'!B:D,2,0) -> Type B | C81: Gevelglas binnenzijde | D81: 3 | E81: 3.25 | F81: =E81*VLOOKUP(C81,Glas,4,0) -> 0 | G81: 0 | H81: 0 | I81: =(F81*D81)+(G81*D81)+(H81*D81) -> 0
A82: 25 | B82: =VLOOKUP(A82,'Overzicht locaties'!B:D,2,0) -> Type B | C82: Separatieglas (m ² is totaal) | D82: 3 | E82: 4.2 | F82: =E82*VLOOKUP(C82,Glas,4,0) -> 0 | G82: 0 | H82: 0 | I82: =(F82*D82)+(G82*D82)+(H82*D82) -> 0
A83: 26 | B83: =VLOOKUP(A83,'Overzicht locaties'!B:D,2,0) -> Type B | C83: Gevelglas buitenzijde | D83: 3 | E83: 3.25 | F83: =E83*VLOOKUP(C83,Glas,4,0) -> 0 | G83: 0 | H83: 0 | I83: =(F83*D83)+(G83*D83)+(H83*D83) -> 0
A84: 26 | B84: =VLOOKUP(A84,'Overzicht locaties'!B:D,2,0) -> Type B | C84: Gevelglas binnenzijde | D84: 3 | E84: 3.25 | F84: =E84*VLOOKUP(C84,Glas,4,0) -> 0 | G84: 0 | H84: 0 | I84: =(F84*D84)+(G84*D84)+(H84*D84) -> 0
A85: 26 | B85: =VLOOKUP(A85,'Overzicht locaties'!B:D,2,0) -> Type B | C85: Separatieglas (m ² is totaal) | D85: 3 | E85: 4.2 | F85: =E85*VLOOKUP(C85,Glas,4,0) -> 0 | G85: 0 | H85: 0 | I85: =(F85*D85)+(G85*D85)+(H85*D85) -> 0
A86: 27 | B86: =VLOOKUP(A86,'Overzicht locaties'!B:D,2,0) -> Type B | C86: Gevelglas buitenzijde | D86: 3 | E86: 3.25 | F86: =E86*VLOOKUP(C86,Glas,4,0) -> 0 | G86: 0 | H86: 0 | I86: =(F86*D86)+(G86*D86)+(H86*D86) -> 0
A87: 27 | B87: =VLOOKUP(A87,'Overzicht locaties'!B:D,2,0) -> Type B | C87: Gevelglas binnenzijde | D87: 3 | E87: 3.25 | F87: =E87*VLOOKUP(C87,Glas,4,0) -> 0 | G87: 0 | H87: 0 | I87: =(F87*D87)+(G87*D87)+(H87*D87) -> 0
... A186: 60 | B186: =VLOOKUP(A186,'Overzicht locaties'!B:D,2,0) -> Type A | C186: Gevelglas binnenzijde | D186: 2 | E186: 4.5 | F186: =E186*VLOOKUP(C186,Glas,4,0) -> 0 | G186: 0 | H186: 0 | I186: =(F186*D186)+(G186*D186)+(H186*D186) -> 0
A187: 60 | B187: =VLOOKUP(A187,'Overzicht locaties'!B:D,2,0) -> Type A | C187: Separatieglas (m ² is totaal) | D187: 2 | E187: 0 | F187: =E187*VLOOKUP(C187,Glas,4,0) -> 0 | G187: 0 | H187: 0 | I187: =(F187*D187)+(G187*D187)+(H187*D187) -> 0 | J187: Glas in kantoor uitgevoerd door gebouwenbeheerder
A188: 61 | B188: =VLOOKUP(A188,'Overzicht locaties'!B:D,2,0) -> Dev.+SE61 | C188: Gevelglas buitenzijde | D188: 0 | E188: 0 | F188: =E188*VLOOKUP(C188,Glas,4,0) -> 0 | G188: 0 | H188: 0 | I188: =(F188*D188)+(G188*D188)+(H188*D188) -> 0 | J188: Glas in kantoor uitgevoerd door gebouwenbeheerder
A189: 61 | B189: =VLOOKUP(A189,'Overzicht locaties'!B:D,2,0) -> Dev.+SE61 | C189: Gevelglas binnenzijde | D189: 2 | E189: 24.6 | F189: =E189*VLOOKUP(C189,Glas,4,0) -> 0 | G189: 0 | H189: 0 | I189: =(F189*D189)+(G189*D189)+(H189*D189) -> 0 | J189: Glas in kantoor uitgevoerd door gebouwenbeheerder
A190: 61 | B190: =VLOOKUP(A190,'Overzicht locaties'!B:D,2,0) -> Dev.+SE61 | C190: Separatieglas (m ² is totaal) | D190: 2 | E190: 11.9 | F190: =E190*VLOOKUP(C190,Glas,4,0) -> 0 | G190: 0 | H190: 0 | I190: =(F190*D190)+(G190*D190)+(H190*D190) -> 0
A191: 62 | B191: =VLOOKUP(A191,'Overzicht locaties'!B:D,2,0) -> SE14 | C191: Gevelglas buitenzijde | D191: 0 | E191: 0 | F191: =E191*VLOOKUP(C191,Glas,4,0) -> 0 | G191: 0 | H191: 0 | I191: =(F191*D191)+(G191*D191)+(H191*D191) -> 0
A192: 62 | B192: =VLOOKUP(A192,'Overzicht locaties'!B:D,2,0) -> SE14 | C192: Gevelglas binnenzijde | D192: 2 | E192: 53.4 | F192: =E192*VLOOKUP(C192,Glas,4,0) -> 0 | G192: 0 | H192: 0 | I192: =(F192*D192)+(G192*D192)+(H192*D192) -> 0
A193: 62 | B193: =VLOOKUP(A193,'Overzicht locaties'!B:D,2,0) -> SE14 | C193: Separatieglas (m ² is totaal) | D193: 0 | E193: 0 | F193: =E193*VLOOKUP(C193,Glas,4,0) -> 0 | G193: 0 | H193: 0 | I193: =(F193*D193)+(G193*D193)+(H193*D193) -> 0
A194: 63 | B194: =VLOOKUP(A194,'Overzicht locaties'!B:D,2,0) -> SE15 | C194: Gevelglas buitenzijde | D194: 0 | E194: 0 | F194: =E194*VLOOKUP(C194,Glas,4,0) -> 0 | G194: 0 | H194: 0 | I194: =(F194*D194)+(G194*D194)+(H194*D194) -> 0
A195: 63 | B195: =VLOOKUP(A195,'Overzicht locaties'!B:D,2,0) -> SE15 | C195: Gevelglas binnenzijde | D195: 2 | E195: 21 | F195: =E195*VLOOKUP(C195,Glas,4,0) -> 0 | G195: 0 | H195: 0 | I195: =(F195*D195)+(G195*D195)+(H195*D195) -> 0
A196: 63 | B196: =VLOOKUP(A196,'Overzicht locaties'!B:D,2,0) -> SE15 | C196: Separatieglas (m ² is totaal) | D196: 0 | E196: 0 | F196: =E196*VLOOKUP(C196,Glas,4,0) -> 0 | G196: 0 | H196: 0 | I196: =(F196*D196)+(G196*D196)+(H196*D196) -> 0
A197: 64 | B197: =VLOOKUP(A197,'Overzicht locaties'!B:D,2,0) -> SE57 | C197: Gevelglas buitenzijde | D197: 0 | E197: 0 | F197: =E197*VLOOKUP(C197,Glas,4,0) -> 0 | G197: 0 | H197: 0 | I197: =(F197*D197)+(G197*D197)+(H197*D197) -> 0
A198: 64 | B198: =VLOOKUP(A198,'Overzicht locaties'!B:D,2,0) -> SE57 | C198: Gevelglas binnenzijde | D198: 2 | E198: 48.3 | F198: =E198*VLOOKUP(C198,Glas,4,0) -> 0 | G198: 0 | H198: 0 | I198: =(F198*D198)+(G198*D198)+(H198*D198) -> 0
A199: 64 | B199: =VLOOKUP(A199,'Overzicht locaties'!B:D,2,0) -> SE57 | C199: Separatieglas (m ² is totaal) | D199: 0 | E199: 0 | F199: =E199*VLOOKUP(C199,Glas,4,0) -> 0 | G199: 0 | H199: 0 | I199: =(F199*D199)+(G199*D199)+(H199*D199) -> 0
A200: 65 | B200: =VLOOKUP(A200,'Overzicht locaties'!B:D,2,0) -> SE90 | C200: Gevelglas buitenzijde | D200: 0 | E200: 0 | F200: =E200*VLOOKUP(C200,Glas,4,0) -> 0 | G200: 0 | H200: 0 | I200: =(F200*D200)+(G200*D200)+(H200*D200) -> 0
A201: 65 | B201: =VLOOKUP(A201,'Overzicht locaties'!B:D,2,0) -> SE90 | C201: Gevelglas binnenzijde | D201: 2 | E201: 52 | F201: =E201*VLOOKUP(C201,Glas,4,0) -> 0 | G201: 0 | H201: 0 | I201: =(F201*D201)+(G201*D201)+(H201*D201) -> 0
... A235: 76 | B235: =VLOOKUP(A235,'Overzicht locaties'!B:D,2,0) -> Type B | C235: Separatieglas (m ² is totaal) | D235: 2 | E235: 4.2 | F235: =E235*VLOOKUP(C235,Glas,4,0) -> 0 | G235: 0 | H235: 0 | I235: =(F235*D235)+(G235*D235)+(H235*D235) -> 0

Sheet Sanitaire voorzieningen
B1: Inschrijver vult de geel gearceerde cellen in.
A3: Sanitaire voorzieningen Bevolkingsonderzoek Nederland
A5: Gebouw # | B5: Locatie | C5: Dispensers | D5: Aantal | E5: Omschrijving automaat | F5: Productlijn en productnaam | G5: All-in tarief per week/ stuk | H5: Kosten per jaar | I5: Opmerking
A6: 1 | B6: =VLOOKUP(A6,'Overzicht locaties'!B:D,2,0) -> CE18 | C6: Handdoekautomaat | D6: 2 | G6: 0 | H6: =G6*52*D6 -> 0
A7: 1 | B7: =VLOOKUP(A7,'Overzicht locaties'!B:D,2,0) -> CE18 | C7: Zeepdispenser | D7: 4 | G7: 0 | H7: =G7*52*D7 -> 0
A8: 1 | B8: =VLOOKUP(A8,'Overzicht locaties'!B:D,2,0) -> CE18 | C8: Handdesinfectiedispenser | D8: 1 | G8: 0 | H8: =G8*52*D8 -> 0
A9: 1 | B9: =VLOOKUP(A9,'Overzicht locaties'!B:D,2,0) -> CE18 | C9: Toiletpapierdispenser | D9: 4 | G9: 0 | H9: =G9*52*D9 -> 0
A10: 1 | B10: =VLOOKUP(A10,'Overzicht locaties'!B:D,2,0) -> CE18 | C10: Seatcleaner | D10: 0 | G10: 0 | H10: =G10*52*D10 -> 0
A11: 1 | B11: =VLOOKUP(A11,'Overzicht locaties'!B:D,2,0) -> CE18 | C11: Toiletborstel | D11: 4 | G11: 0 | H11: =G11*52*D11 -> 0
A12: 1 | B12: =VLOOKUP(A12,'Overzicht locaties'!B:D,2,0) -> CE18 | C12: Luchtverfrisser | D12: 4 | G12: 0 | H12: =G12*52*D12 -> 0
A13: 1 | B13: =VLOOKUP(A13,'Overzicht locaties'!B:D,2,0) -> CE18 | C13: Damesverbandcontainer | D13: 2 | G13: 0 | H13: =G13*52*D13 -> 0
A14: 2 | B14: =VLOOKUP(A14,'Overzicht locaties'!B:D,2,0) -> CE05 | C14: Handdoekautomaat | D14: 2 | G14: 0 | H14: =G14*52*D14 -> 0
A15: 2 | B15: =VLOOKUP(A15,'Overzicht locaties'!B:D,2,0) -> CE05 | C15: Zeepdispenser | D15: 2 | G15: 0 | H15: =G15*52*D15 -> 0
A16: 2 | B16: =VLOOKUP(A16,'Overzicht locaties'!B:D,2,0) -> CE05 | C16: Handdesinfectiedispenser | D16: 0 | G16: 0 | H16: =G16*52*D16 -> 0
A17: 2 | B17: =VLOOKUP(A17,'Overzicht locaties'!B:D,2,0) -> CE05 | C17: Toiletpapierdispenser | D17: 2 | G17: 0 | H17: =G17*52*D17 -> 0
... A613: 76 | B613: =VLOOKUP(A613,'Overzicht locaties'!B:D,2,0) -> Type B | C613: Damesverbandcontainer | D613: 1 | G613: 0 | H613: =G613*52*D613 -> 0

Sheet Kostenoverzicht per locatie
B1: Inschrijver vult de geel gearceerde cellen in.
A3: Totaaloverzicht per jaar per locatie
A5: Gebouw # | B5: Locatie | C5: Vloeroppervlak i.o | D5: Hoofdfrequentie | E5: calculatie uren /jaar | F5: suppletie uren /jaar | G5: totaal uren /jaar, met normaanpassing | H5: totaal uren /beurt | I5: Kosten schoonmaak / jaar (excl. BTW) | J5: Kosten glasbewassing / jaar (excl. BTW) | K5: Kosten sanitaire voorzieningen / jaar (excl. BTW)
A6: 1 | B6: =VLOOKUP(A6,'Overzicht locaties'!B:D,2,0) -> CE18 | C6: =SUMIF(Ruimtegegevens!A:A,A6,Ruimtegegevens!L:L) -> 689.77 | D6: 5w | E6: =SUMIF(Ruimtegegevens!A:A,A6,Ruimtegegevens!AK:AK) -> 1296.8621 | F6: 0 | G6: =E6+F6 -> 1296.8621 | H6: =E6/VLOOKUP(D6,Productienormen!$A$23:$C$36,3,0) -> 5.0857337 | I6: =G6*Rekentarief -> 0 | J6: =SUMIF(Glasbewassing!A:A,A6,Glasbewassing!I:I) -> 0 | K6: =SUMIF('Sanitaire voorzieningen'!A:A,A6,'Sanitaire voorzieningen'!H:H) -> 0
A7: 2 | B7: =VLOOKUP(A7,'Overzicht locaties'!B:D,2,0) -> CE05 | C7: =SUMIF(Ruimtegegevens!A:A,A7,Ruimtegegevens!L:L) -> 194.66 | D7: 3w | E7: =SUMIF(Ruimtegegevens!A:A,A7,Ruimtegegevens!AK:AK) -> 171.8451 | F7: 0 | G7: =E7+F7 -> 171.8451 | H7: =E7/VLOOKUP(D7,Productienormen!$A$23:$C$36,3,0) -> 1.1015712 | I7: =G7*Rekentarief -> 0 | J7: =SUMIF(Glasbewassing!A:A,A7,Glasbewassing!I:I) -> 0 | K7: =SUMIF('Sanitaire voorzieningen'!A:A,A7,'Sanitaire voorzieningen'!H:H) -> 0
A8: 3 | B8: =VLOOKUP(A8,'Overzicht locaties'!B:D,2,0) -> CE01 + SE31 | C8: =SUMIF(Ruimtegegevens!A:A,A8,Ruimtegegevens!L:L) -> 345.98 | D8: 5w | E8: =SUMIF(Ruimtegegevens!A:A,A8,Ruimtegegevens!AK:AK) -> 623.0454 | F8: 0 | G8: =E8+F8 -> 623.0454 | H8: =E8/VLOOKUP(D8,Productienormen!$A$23:$C$36,3,0) -> 2.4433153 | I8: =G8*Rekentarief -> 0 | J8: =SUMIF(Glasbewassing!A:A,A8,Glasbewassing!I:I) -> 0 | K8: =SUMIF('Sanitaire voorzieningen'!A:A,A8,'Sanitaire voorzieningen'!H:H) -> 0
A9: 4 | B9: =VLOOKUP(A9,'Overzicht locaties'!B:D,2,0) -> CE03 + SE25 | C9: =SUMIF(Ruimtegegevens!A:A,A9,Ruimtegegevens!L:L) -> 1127 | D9: 5w | E9: =SUMIF(Ruimtegegevens!A:A,A9,Ruimtegegevens!AK:AK) -> 1913.068 | F9: 0 | G9: =E9+F9 -> 1913.068 | H9: =E9/VLOOKUP(D9,Productienormen!$A$23:$C$36,3,0) -> 7.5022275 | I9: =G9*Rekentarief -> 0 | J9: =SUMIF(Glasbewassing!A:A,A9,Glasbewassing!I:I) -> 0 | K9: =SUMIF('Sanitaire voorzieningen'!A:A,A9,'Sanitaire voorzieningen'!H:H) -> 0
A10: 5 | B10: =VLOOKUP(A10,'Overzicht locaties'!B:D,2,0) -> SE29 | C10: =SUMIF(Ruimtegegevens!A:A,A10,Ruimtegegevens!L:L) -> 53 | D10: 3w | E10: =SUMIF(Ruimtegegevens!A:A,A10,Ruimtegegevens!AK:AK) -> 82.68 | F10: 0 | G10: =E10+F10 -> 82.68 | H10: =E10/VLOOKUP(D10,Productienormen!$A$23:$C$36,3,0) -> 0.53 | I10: =G10*Rekentarief -> 0 | J10: =SUMIF(Glasbewassing!A:A,A10,Glasbewassing!I:I) -> 0 | K10: =SUMIF('Sanitaire voorzieningen'!A:A,A10,'Sanitaire voorzieningen'!H:H) -> 0
A11: 6 | B11: =VLOOKUP(A11,'Overzicht locaties'!B:D,2,0) -> SE30 | C11: =SUMIF(Ruimtegegevens!A:A,A11,Ruimtegegevens!L:L) -> 53 | D11: 3w | E11: =SUMIF(Ruimtegegevens!A:A,A11,Ruimtegegevens!AK:AK) -> 82.68 | F11: 0 | G11: =E11+F11 -> 82.68 | H11: =E11/VLOOKUP(D11,Productienormen!$A$23:$C$36,3,0) -> 0.53 | I11: =G11*Rekentarief -> 0 | J11: =SUMIF(Glasbewassing!A:A,A11,Glasbewassing!I:I) -> 0 | K11: =SUMIF('Sanitaire voorzieningen'!A:A,A11,'Sanitaire voorzieningen'!H:H) -> 0
A12: 7 | B12: =VLOOKUP(A12,'Overzicht locaties'!B:D,2,0) -> SE32 | C12: =SUMIF(Ruimtegegevens!A:A,A12,Ruimtegegevens!L:L) -> 53 | D12: 3w | E12: =SUMIF(Ruimtegegevens!A:A,A12,Ruimtegegevens!AK:AK) -> 82.68 | F12: 0 | G12: =E12+F12 -> 82.68 | H12: =E12/VLOOKUP(D12,Productienormen!$A$23:$C$36,3,0) -> 0.53 | I12: =G12*Rekentarief -> 0 | J12: =SUMIF(Glasbewassing!A:A,A12,Glasbewassing!I:I) -> 0 | K12: =SUMIF('Sanitaire voorzieningen'!A:A,A12,'Sanitaire voorzieningen'!H:H) -> 0
A13: 8 | B13: =VLOOKUP(A13,'Overzicht locaties'!B:D,2,0) -> SE27 | C13: =SUMIF(Ruimtegegevens!A:A,A13,Ruimtegegevens!L:L) -> 53 | D13: 3w | E13: =SUMIF(Ruimtegegevens!A:A,A13,Ruimtegegevens!AK:AK) -> 82.68 | F13: 0 | G13: =E13+F13 -> 82.68 | H13: =E13/VLOOKUP(D13,Productienormen!$A$23:$C$36,3,0) -> 0.53 | I13: =G13*Rekentarief -> 0 | J13: =SUMIF(Glasbewassing!A:A,A13,Glasbewassing!I:I) -> 0 | K13: =SUMIF('Sanitaire voorzieningen'!A:A,A13,'Sanitaire voorzieningen'!H:H) -> 0
A14: 9 | B14: =VLOOKUP(A14,'Overzicht locaties'!B:D,2,0) -> SE28 | C14: =SUMIF(Ruimtegegevens!A:A,A14,Ruimtegegevens!L:L) -> 53 | D14: 3w | E14: =SUMIF(Ruimtegegevens!A:A,A14,Ruimtegegevens!AK:AK) -> 82.68 | F14: 0 | G14: =E14+F14 -> 82.68 | H14: =E14/VLOOKUP(D14,Productienormen!$A$23:$C$36,3,0) -> 0.53 | I14: =G14*Rekentarief -> 0 | J14: =SUMIF(Glasbewassing!A:A,A14,Glasbewassing!I:I) -> 0 | K14: =SUMIF('Sanitaire voorzieningen'!A:A,A14,'Sanitaire voorzieningen'!H:H) -> 0
A15: 10 | B15: =VLOOKUP(A15,'Overzicht locaties'!B:D,2,0) -> SE88 | C15: =SUMIF(Ruimtegegevens!A:A,A15,Ruimtegegevens!L:L) -> 53 | D15: 3w | E15: =SUMIF(Ruimtegegevens!A:A,A15,Ruimtegegevens!AK:AK) -> 82.68 | F15: 0 | G15: =E15+F15 -> 82.68 | H15: =E15/VLOOKUP(D15,Productienormen!$A$23:$C$36,3,0) -> 0.53 | I15: =G15*Rekentarief -> 0 | J15: =SUMIF(Glasbewassing!A:A,A15,Glasbewassing!I:I) -> 0 | K15: =SUMIF('Sanitaire voorzieningen'!A:A,A15,'Sanitaire voorzieningen'!H:H) -> 0
A16: 11 | B16: =VLOOKUP(A16,'Overzicht locaties'!B:D,2,0) -> SE26 | C16: =SUMIF(Ruimtegegevens!A:A,A16,Ruimtegegevens!L:L) -> 53 | D16: 3w | E16: =SUMIF(Ruimtegegevens!A:A,A16,Ruimtegegevens!AK:AK) -> 82.68 | F16: 0 | G16: =E16+F16 -> 82.68 | H16: =E16/VLOOKUP(D16,Productienormen!$A$23:$C$36,3,0) -> 0.53 | I16: =G16*Rekentarief -> 0 | J16: =SUMIF(Glasbewassing!A:A,A16,Glasbewassing!I:I) -> 0 | K16: =SUMIF('Sanitaire voorzieningen'!A:A,A16,'Sanitaire voorzieningen'!H:H) -> 0
A17: 12 | B17: =VLOOKUP(A17,'Overzicht locaties'!B:D,2,0) -> SE91 | C17: =SUMIF(Ruimtegegevens!A:A,A17,Ruimtegegevens!L:L) -> 47.5 | D17: 3w | E17: =SUMIF(Ruimtegegevens!A:A,A17,Ruimtegegevens!AK:AK) -> 74.1 | F17: 0 | G17: =E17+F17 -> 74.1 | H17: =E17/VLOOKUP(D17,Productienormen!$A$23:$C$36,3,0) -> 0.475 | I17: =G17*Rekentarief -> 0 | J17: =SUMIF(Glasbewassing!A:A,A17,Glasbewassing!I:I) -> 0 | K17: =SUMIF('Sanitaire voorzieningen'!A:A,A17,'Sanitaire voorzieningen'!H:H) -> 0
... A81: 76 | B81: =VLOOKUP(A81,'Overzicht locaties'!B:D,2,0) -> Type B | C81: =SUMIF(Ruimtegegevens!A:A,A81,Ruimtegegevens!L:L) -> 53 | D81: 3w | E81: =SUMIF(Ruimtegegevens!A:A,A81,Ruimtegegevens!AK:AK) -> 82.68 | F81: 0 | G81: =E81+F81 -> 82.68 | H81: =E81/VLOOKUP(D81,Productienormen!$A$23:$C$36,3,0) -> 0.53 | I81: =G81*Rekentarief -> 0 | J81: =SUMIF(Glasbewassing!A:A,A81,Glasbewassing!I:I) -> 0 | K81: =SUMIF('Sanitaire voorzieningen'!A:A,A81,'Sanitaire voorzieningen'!H:H) -> 0
A82: TOTAALKOSTEN LOCATIES BEVOLKINGSONDERZOEK NEDERLAND | I82: =SUM(I6:I81) -> 0 | J82: =SUM(J6:J81) -> 0 | K82: =SUM(K6:K81) -> 0
E84: INSCHRIJF-/ VERGELIJKINGSPRIJS SCHOONMAAK, GLASBEWASSING EN SANITAIRE VOORZIENINGEN | K84: =I82+J82+K82 -> 0
