Workbook
Name Print_Area: 'Toelichting cellen'!$A$1:$AA$60

Sheet Totaal Opdracht
C1: Model begroting | AA1: doc. versie 2.0
A2: Project: | C2: Projectnaam | Z2: Datum: | AA2: 0
A3: Onderdeel: | C3: Totaaloverzicht Opdracht | Z3: Versie: | AA3: 0
A5: Bureau: | C5: Naam bureau
G6: uren per functiegroep
E7: functiegroep | G7: A1 | H7: A2 | I7: A3 | J7: A4 | K7: A5 | L7: A6 | M7: A7 | N7: A8 | O7: A9 | R7: B1 | U7: B2 | X7: B3 | Z7: kosten van inzet
E8: inzet | Q8: dag | R8: nacht | S8: wknd | T8: dag | U8: nacht | V8: wknd | W8: dag | X8: nacht | Y8: wknd
A9: WP. nr. | B9: Beschrijving Werkpakketten | E9: tarief | G9: 0 | H9: 0 | I9: 0 | J9: 0 | K9: 0 | L9: 0 | M9: 0 | N9: 0 | O9: 0 | Q9: 0 | R9: 0 | S9: 0 | T9: 0 | U9: 0 | V9: 0 | W9: 0 | X9: 0 | Y9: 0 | Z9: fg-uren | AA9: derden | AB9: TOTAAL
A10: A | B10: Verifiëren van door Opdrachtnemer te leveren producten en diensten. | F10: vast | Z10: 0 | AA10: 0 | AB10: 0
A11: B | B11: Tijdmanagement / planning van de Overeenkomst | C11: 5 | F11: vast | Z11: 0 | AA11: 0 | AB11: 0
A12: C | B12: Risicomanagement | C12: 7 | F12: vast | Z12: 0 | AA12: 0 | AB12: 0
A13: D | B13: Informeren van partijen | C13: 7 | F13: vast | Z13: 0 | AA13: 0 | AB13: 0
A14: E | B14: Evalueren van de opdracht | F14: vast | Z14: 0 | AA14: 0 | AB14: 0
A15: F | B15: Veiligheidsmanagement van de eigen werkzaamheden van de opdrachtnemer | C15: 9 | F15: vast | Z15: 0 | AA15: 0 | AB15: 0
A16: G | B16: In- en buitendienst stellen ten behoeve van de eigen werkzaamheden van de opdrachtnemer | C16: 10 | F16: vast | Z16: 0 | AA16: 0 | AB16: 0
A17: 1 | F17: vast | Z17: 0 | AA17: 0 | AB17: 0
F18: regie | Z18: 0 | AB18: 0
A19: 2 | F19: vast | Z19: 0 | AA19: 0 | AB19: 0
F20: regie | Z20: 0 | AB20: 0
A21: 3 | F21: vast | Z21: 0 | AA21: 0 | AB21: 0
F22: regie | Z22: 0 | AB22: 0
A23: 4 | F23: vast | Z23: 0 | AA23: 0 | AB23: 0
F24: regie | Z24: 0 | AB24: 0
A25: 5 | F25: vast | Z25: 0 | AA25: 0 | AB25: 0
F26: regie | Z26: 0 | AB26: 0
A27: 6 | F27: vast | Z27: 0 | AA27: 0 | AB27: 0
F28: regie | Z28: 0 | AB28: 0
A29: 7 | F29: vast | Z29: 0 | AA29: 0 | AB29: 0
F30: regie | Z30: 0 | AB30: 0
A31: 8 | F31: vast | Z31: 0 | AA31: 0 | AB31: 0
F32: regie | Z32: 0 | AB32: 0
A33: n | F33: vast | Z33: 0 | AA33: 0 | AB33: 0
F34: regie | Z34: 0 | AB34: 0
A35: WP. Opties
A36: n | B36: opties werkpakketten 1 t/m n | F36: vast | Z36: 0 | AA36: 0 | AB36: 0
F37: regie | Z37: 0 | AB37: 0
A38: A t/m I | B38: werkpakketten uit annex 1 in relatie tot opties werkpakketten 1 t/m n | F38: vast | Z38: 0 | AA38: 0 | AB38: 0
B39: Totaal uren per functiegroep VAST | Z39: 0 | AA39: 0 | AB39: 0
B40: Totaal uren per functiegroep REGIE | Z40: 0 | AA40: 0 | AB40: 0
B43: Opmerkingen | Y43: Totaal functiegroep-uren VAST | AB43: =SUM(G39:Y39) -> 0
...

Sheet WP A
C1: ='Totaal Opdracht'!C1:X1 -> Model begroting | AA1: doc. versie 2.0
A2: Project: | C2: Projectnaam | Z2: Datum: | AA2: ='Totaal Opdracht'!AA2 -> 0
A3: Onderdeel: | Z3: Versie: | AA3: ='Totaal Opdracht'!AA3 -> 0
A4: Werkpakket: | C4: A: Verifiëren van door Opdrachtnemer te leveren producten en diensten.
A5: Bureau: | C5: Naam bureau
G6: uren per functiegroep
E7: functiegroep | G7: A1 | H7: A2 | I7: A3 | J7: A4 | K7: A5 | L7: A6 | M7: A7 | N7: A8 | O7: A9 | R7: B1 | U7: B2 | X7: B3 | Z7: kosten van inzet
E8: inzet | Q8: dag | R8: nacht | S8: wknd | T8: dag | U8: nacht | V8: wknd | W8: dag | X8: nacht | Y8: wknd
A9: Act. nr. | B9: Beschrijving Activiteiten | E9: tarief | G9: 0 | H9: 0 | I9: 0 | J9: 0 | K9: 0 | L9: 0 | M9: 0 | N9: 0 | O9: 0 | Q9: 0 | R9: 0 | S9: 0 | T9: 0 | U9: 0 | V9: 0 | W9: 0 | X9: 0 | Y9: 0 | Z9: fg-uren | AA9: derden | AB9: TOTAAL
A10: A1 | B10: testwerkzaamheden t.b.v. de opzet van een nieuw calculatie-document voor het bepalen van de engineeringskosten | F10: vast | Z10: 0 | AA10: 0 | AB10: 0
A11: A2 | F11: vast | Z11: 0 | AA11: 0 | AB11: 0
A12: A3 | F12: vast | Z12: 0 | AA12: 0 | AB12: 0
A13: A4 | F13: vast | Z13: 0 | AA13: 0 | AB13: 0
A14: A5 | F14: vast | Z14: 0 | AA14: 0 | AB14: 0
A15: A6 | F15: vast | Z15: 0 | AA15: 0 | AB15: 0
A16: A7 | F16: vast | Z16: 0 | AA16: 0 | AB16: 0
A17: A8 | F17: vast | Z17: 0 | AA17: 0 | AB17: 0
A18: A9 | F18: vast | Z18: 0 | AA18: 0 | AB18: 0
F19: vast | Z19: 0 | AA19: 0 | AB19: 0
F20: regie | Z20: 0 | AB20: 0
F21: vast | Z21: 0 | AA21: 0 | AB21: 0
F22: regie | Z22: 0 | AB22: 0
F23: vast | Z23: 0 | AA23: 0 | AB23: 0
F24: regie | Z24: 0 | AB24: 0
F25: vast | Z25: 0 | AA25: 0 | AB25: 0
F26: regie | Z26: 0 | AB26: 0
F27: vast | Z27: 0 | AA27: 0 | AB27: 0
F28: regie | Z28: 0 | AB28: 0
F29: vast | Z29: 0 | AA29: 0 | AB29: 0
F30: regie | Z30: 0 | AB30: 0
F31: vast | Z31: 0 | AA31: 0 | AB31: 0
F32: regie | Z32: 0 | AB32: 0
F33: vast | Z33: 0 | AA33: 0 | AB33: 0
F34: regie | Z34: 0 | AB34: 0
F35: vast | Z35: 0 | AA35: 0 | AB35: 0
F36: regie | Z36: 0 | AB36: 0
A37: WP. Opties
A38: n | B38: optie x | F38: vast | Z38: 0 | AA38: 0 | AB38: 0
F39: regie | Z39: 0 | AB39: 0
A40: A t/m I | B40: werkpakketten uit annex 1 in relatie tot optie n (alleen in relatie tot werkpakketten uit annex 2) | F40: vast | Z40: 0 | AA40: 0 | AB40: 0
...

Sheet Toelichting cellen
C1: Toelichting Model begroting
A2: Project: | C2: Projectnaam | X2: Datum: | Y2: ='Totaal Opdracht'!AA2 -> 0
A3: Onderdeel: | X3: Versie: | Y3: ='Totaal Opdracht'!AA3 -> 0
A4: Werkpakket:
A5: Bureau:
E6: uren per functiegroep
A7: volgnr. | B7: Beschrijving Activiteiten / Werkpakketten | E7: A1 | F7: A2 | G7: A3 | H7: A4 | I7: A5 | J7: A6 | K7: A7 | L7: A8 | M7: A9 | P7: B1 | S7: B2 | V7: B3 | X7: kosten van inzet
O8: dag | P8: nacht | Q8: wknd | R8: dag | S8: nacht | T8: wknd | U8: dag | V8: nacht | W8: wknd
E9: 0 | F9: 0 | G9: 0 | H9: 0 | I9: 0 | J9: 0 | K9: 0 | L9: 0 | M9: 0 | O9: 0 | P9: 0 | Q9: 0 | R9: 0 | S9: 0 | T9: 0 | U9: 0 | V9: 0 | W9: 0 | X9: fg-uren | Y9: derden | Z9: TOTAAL
D10: vast | E10: 1 | X10: 5 | Y10: 6 | Z10: 7
D11: regie | E11: 2 | X11: 0 | Z11: =SUM(X11:Y11) -> 0
D12: vast | X12: 0 | Y12: 0 | Z12: =SUM(X12:Y12) -> 0
D13: regie | X13: 0 | Z13: =SUM(X13:Y13) -> 0
D14: vast | X14: 0 | Y14: 0 | Z14: =SUM(X14:Y14) -> 0
D15: regie | X15: 0 | Z15: =SUM(X15:Y15) -> 0
D16: vast | X16: 0 | Y16: 0 | Z16: =SUM(X16:Y16) -> 0
D17: regie | X17: 0 | Z17: =SUM(X17:Y17) -> 0
D18: vast | X18: 0 | Y18: 0 | Z18: =SUM(X18:Y18) -> 0
D19: regie | X19: 0 | Z19: =SUM(X19:Y19) -> 0
D20: vast | X20: 0 | Y20: 0 | Z20: =SUM(X20:Y20) -> 0
D21: regie | X21: 0 | Z21: =SUM(X21:Y21) -> 0
D22: vast | X22: 0 | Y22: 0 | Z22: =SUM(X22:Y22) -> 0
D23: regie | X23: 0 | Z23: =SUM(X23:Y23) -> 0
D24: vast | X24: 0 | Y24: 0 | Z24: =SUM(X24:Y24) -> 0
D25: regie | X25: 0 | Z25: =SUM(X25:Y25) -> 0
D26: vast | X26: 0 | Y26: 0 | Z26: =SUM(X26:Y26) -> 0
D27: regie | X27: 0 | Z27: =SUM(X27:Y27) -> 0
D28: vast | X28: 0 | Y28: 0 | Z28: =SUM(X28:Y28) -> 0
D29: regie | X29: 0 | Z29: =SUM(X29:Y29) -> 0
D30: vast | X30: 0 | Y30: 0 | Z30: =SUM(X30:Y30) -> 0
D31: regie | X31: 0 | Z31: =SUM(X31:Y31) -> 0
D32: vast | X32: 0 | Y32: 0 | Z32: =SUM(X32:Y32) -> 0
D33: regie | X33: 0 | Z33: =SUM(X33:Y33) -> 0
D34: vast | X34: 0 | Y34: 0 | Z34: =SUM(X34:Y34) -> 0
D35: regie | X35: 0 | Z35: =SUM(X35:Y35) -> 0
D36: vast | X36: 0 | Y36: 0 | Z36: =SUM(X36:Y36) -> 0
D37: regie | X37: 0 | Z37: =SUM(X37:Y37) -> 0
B38: Totaal uren per functiegroep VAST | E38: 3 | X38: 8 | Y38: 9 | Z38: 10
B39: Totaal uren per functiegroep REGIE | E39: 4 | X39: 11 | Z39: 12
B41: Toelichting cellen | V41: Totaal functiegroep-uren VAST | Z41: 13
...

Sheet Functiegroepen
A1: ENGINEERING FUNCTIES INGENIEURSDIENSTEN
A3: De functiegroepen zijn ingericht naar het voorbeeld van de ONRI
A4: De opleiding + ervaring informatie is ter indicatie
A6: TARIEF- GROEP | B6: OPLEIDING | C6: FUNCTIEBENAMING | E6: TAKEN | H6: VERANTWOORDELIJKHEDEN | I6: BEVOEGDHEDEN
B7: +
B8: ERVARING | E8: Algemeen | G8: *) Specifiek irt discipline Treinbeveiliging
B9: (jaren)
A10: A1 | B10: MBO (0-4) | C10: Aankomend tekenaar | E10: Assisteren bij het maken van tekeningen in het betrokken vakgebied.Leveren van algemene - en administratieve ondersteuning | H10: Kwaliteit en tijdigheid van de geleverde producten en diensten | I10: Prioriteitstelling van de uit te voeren werkzaamheden
A11: A2 | B11: MBO (4-7) | C11: Tekenaar; Aankomend technicus; Technisch assistent | E11: Uitwerken van de door de (hoofd)ontwerper gemaakte tekeningen. Leveren van een bijdrage aan producten van de (hoofd)ontwerper | G11: Beheer/opvragen tekeningen | I11: Opzet en indeling tekeningen en berekeningen. Adviezen en voorstellen voor alternatieven en oplossingen leveren aan (hoofd)ontwerper
A12: A3 | B12: MBO (7-11) | C12: Ervaren tekenaar resp.Technicus | E12: Voorbereiden ontwerpwerkzaamheden ter plekke. Op basis van het PvE uitwerken van de ontwerpen.Het houden van toezicht op de ontwerpwerkzaamheden | G12: Tekenen RVTO/OBE/OR/S/OA | H12: Kwaliteit,tijdigheid en betrouwbaarheid van de geleverde producten en diensten | I12: Technisch ontwerp en conform technisch PvE. Adviezen en voorstellen
B13: HBO (0-4) | G13: dossiers samenstellen | I13: voor alternatieven en oplossingen.
G14: ontwerp/montage OA
G15: secundaire coll S/OA 2e man
G16: ontwerp Werk-S/OA
G17: beltest (KKT6)
A18: A4 | B18: MBO (11-16) | C18: 1e tekenaar; Sr. technicus ; assistent projectleider; project coördinator | E18: Zie A3 + extern overleg | G18: Ontwerp RVTO
B19: HBO (4-11) | G19: Ontwerp OBE/OR/S
B20: TU (0-4) | G20: primaire coll S/OA 2e man
G21: secundaire coll S/OA 1e man (KKT4)
G22: ontwerp bestek H1/2/20-23 + bijlagen
G23: coll WerkS/OA (KKT5)
G24: Ontwerp & coll Werk OR
A25: A5 | B25: MBO (11-20) | C25: Sr. technicus resp. Projectleider; Ontwerper | E25: Directe aansturing van een of meer samenhangende disciplines | G25: Ontwerp FIS/RVTO | H25: Kwaliteit en tijdigheid van de geleverde studie/adviesopdrachten en realisatie van deze binnen de vastgestelde randvoorwaarden | I25: Het nemen van beslissingen op het eigen vakgebied. Beoordelen inhoudrapporten en adviezen aan opdrachtgever
B26: HBO (7-16) | G26: Coll RVTO (KKT 1)
B27: TU (4-7) | G27: Coll OBE/OR (KKT2)
G28: Ontwerp SvA/coll SvA (KKT2)
G29: primaire coll S/OA 1e man (KKT 3)
G30: review / coordinatie bestek
G31: ontwerp / coordinatie begrotingen
G32: opstellen Veiligheidstestprogramma
G33: uitvoeren testprogramma/ass testleider
A34: A6 | B34: HBO (11-20) | C34: Sr. projectleider; Specialist; Adviseur | E34: Aansturen van integrale deelprojecten | G34: vaststellen Veiligheidstestprogramma (KKT8) | I34: Het nemen van beslissingen op het eigen vakgebied en op raakvlakken andere vakgebieden. Beoordelen inhoud rapporten en adviezen aan opdrachtgever. Beslissen over aanpak en strategie bij uit te voeren studies en onderzoeken.
B35: TU (7-16) | G35: uitvoeren testprogramma/testleider (KKT9)
G36: veiligheidstestcoordinator (KKT10)
G37: vaststellen test- en indienststellingsplan (KKT7)
A39: A7 | B39: HBO (16-20) | C39: Sr. specialist; Sr. adviseur; Raadgevend ingenieur; Projectmanager ; | E39: Managen van integrale projecten | H39: Intergraal product. Projectbeheersing KTGOIR | I39: Vrijgeven integraal product
B40: TU (11-20)
A41: A8 | C41: Raadgevend ingenieur; Sr. projectmanager | E41: Managen van in het algemeen omvangrijkere en meer complexe integrale projecten
A42: A9 | B42: HBO (>16) | C42: Strategisch adviseur; Raadgevend ingenieur | E42: Managen van in het algemeen omvangrijkere en meer complexe integrale projecten
B43: TU (>11)
...

Sheet logboek wjizigingen
A1: van | B1: naar | C1: tab | D1: wijziging
A2: 1.3 | B2: 1.4 | C2: Totaalopdracht | D2: in kader "opmerkingen" zijn de onderste 2 tekstregels opgenomen in de leidraad onder 3.3.3
A3: 1.4 | B3: 1.5 | C3: Functiegroepen | D3: Tabblad toegevoegd
A4: 1.5 | B4: 1.6 | C4: Functiegroepen | D4: Invulling kaders B1 t/m B3 nader ingevuld
C5: nvt | D5: kader "opsteller" aangepast in "bureau"
C6: nvt | D6: kader "(bruto-)kosten van inzet" aangepast in "kosten van inzet"
A7: 1.6 | B7: 1.7 | C7: Totaal opdracht | D7: Aangepaste inhoud wp'n annex I conform vraagspecificatie versie 05 oktober 2012
B8: 1.8 | C8: Totaal opdracht | D8: Aangepaste inhoud wp'n annex I conform vraagspecificatie versie 30 november 2012
B9: 1.9 | C9: Functiegroepen | D9: Specifieke taken irt de discipline Treinbeveiliging toegevoegd
B10: 1.10 | C10: Totaalopdracht | D10: foutieve formule uit cel AB39 verwijderd
B11: 2.0 | C11: Totaal opdracht en WP A | D11: diverse formules verwijderd
C12: Totaal opdracht en WP A | D12: Restriktie voor inschrijver vertaald
B13: 2.1 | C13: Toelichting cellen | D13: Grammaticale foutjes hersteld
