Workbook

Sheet Gunningscriterium prijs
A1: Gunningscriterium prijs
A3: Inschrijver:
B8: Gunningscriterium prijs
C10: Totaal (€)
B11: Prijselement 1: Kosten voor de transformatie/bouw naar de nieuwe uitvoeringsapplicatie BOR | C11: ='Prijselement 1'!F57 -> 0
B12: Prijsplafond over het 1e contract bedraagt € 275.000,- | C12: ='Prijselement 1'!F57+'Prijselement 2'!F15 -> 0
B13: Prijselement 2: Kosten voor licenties, hosting, technische beheer & onderhoud van de uitvoeringsapplicatie BOR | C13: ='Prijselement 2'!F20 -> 0
B14: Prijselement 3: Kosten voor doorontwikkeling c.q. aanpassen van de nieuwe uitvoeringsapplicatie BOR | C14: ='Prijselement 3'!E22 -> 0
B15: Totaal inschrijfbedrag | C15: =C11+C13+C14 -> 0

Sheet Prijselement 1
A1: ='Gunningscriterium prijs'!B11 -> Prijselement 1: Kosten voor de transformatie/bouw naar de nieuwe uitvoeringsapplicatie BOR | F1: Inschrijver:
B3: Aandachtpunten invullen Prijzenblad
B5: - De Inschrijver dient de gele velden in te vullen.
B6: - De ingediende prijzen dienen te voldoen aan de randvoorwaarden beschreven onder paragraaf 6.2.2 en 6.2.3 van de gunningsleidraad.
B7: - De ingevulde prijzen in het prijzenblad dienen te zijn gebaseerd op de uitgangspunten beschreven in bijlage 7 - functional en non functional requirements, het aangeboden archtitcuur, beschreven in het implementatieplan.
B8: - Indien de Inschrijver tegenstrijdigheden, onvolkomenheden en/of onjuistheden dient dit direct aan de Opdrachtgever te worden gemeld.
B12: ='Gunningscriterium prijs'!B11 -> Prijselement 1: Kosten voor de transformatie/bouw naar de nieuwe uitvoeringsapplicatie BOR
B14: P-1 Inrichten van de infraomgeving | C14: Vaste prijs voor activiteiten of op te leveren resultaten | F14: Totaal (€)
B15: <Activiteiten of op te leveren resultaten> | F15: =C15 -> 0
B16: <Activiteiten of op te leveren resultaten> | F16: =C16 -> 0
B17: <Activiteiten of op te leveren resultaten> | F17: =C17 -> 0
B18: <Activiteiten of op te leveren resultaten> | F18: =C18 -> 0
B19: <Activiteiten of op te leveren resultaten> | F19: =C19 -> 0
C20: Totale kosten P-1 Inrichten van de infraomgeving : | F20: =SUM(F15:F19) -> 0
B21: P-2 Realiseren van de benodigde koppelingen | C21: Vaste prijs per koppeling
B22: Koppeling 1: | F22: =C22 -> 0
B23: Koppeling 2: | F23: =C23 -> 0
B24: Koppeling 3: | F24: =C24 -> 0
B25: Koppeling 4: | F25: =C25 -> 0
B26: Koppeling 5: | F26: =C26 -> 0
B27: Koppeling 6: | F27: =C27 -> 0
B28: Koppeling 7: | F28: =C28 -> 0
B29: Koppeling 8: | F29: =C29 -> 0
C30: Totale kosten P-2 Realiseren van de benodigde koppelingenoppeling: | F30: =SUM(F22:F29) -> 0
B31: P-3 Datamigratie & conversie | C31: benodigde rollen | D31: Ureninschatting | E31: Uurtarief
B32: <Activiteiten of op te leveren resultaten> | C32: <rol projectteam Inschrijver> | F32: =D32*E32 -> 0
B33: <Activiteiten of op te leveren resultaten> | C33: <rol projectteam Inschrijver> | F33: =D33*E33 -> 0
B34: <Activiteiten of op te leveren resultaten> | C34: <rol projectteam Inschrijver> | F34: =D34*E34 -> 0
B35: <Activiteiten of op te leveren resultaten> | C35: <rol projectteam Inschrijver> | F35: =D35*E35 -> 0
C36: Totale kosten P-3 Datamigratie & conversie: | F36: =SUM(F32:F35) -> 0
B37: P-4a Kosten voor de transformatie/bouw naar de nieuwe uitvoeringsapplicatie BOR MVP voor 1 juli 2024 | C37: benodigde rollen | D37: Ureninschatting | E37: Uurtarief
B38: Projectondersteuning (bijv Architect, informatieanalisten, procesoptimalisatie, funcitoneel ontwerp etc.):
B39: <Activiteiten of op te leveren resultaten> | C39: <rol projectteam Inschrijver> | F39: =D39*E39 -> 0
B40: <Activiteiten of op te leveren resultaten> | C40: <rol projectteam Inschrijver> | F40: =D40*E40 -> 0
B41: <Activiteiten of op te leveren resultaten> | C41: <rol projectteam Inschrijver> | F41: =D41*E41 -> 0
B42: <Activiteiten of op te leveren resultaten> | C42: <rol projectteam Inschrijver> | F42: =D42*E42 -> 0
B43: <Activiteiten of op te leveren resultaten> | C43: <rol projectteam Inschrijver> | F43: =D43*E43 -> 0
B44: <Activiteiten of op te leveren resultaten> | C44: <rol projectteam Inschrijver> | F44: =D44*E44 -> 0
B45: <Activiteiten of op te leveren resultaten> | C45: <rol projectteam Inschrijver> | F45: =D45*E45 -> 0
C46: Totale kosten P-4a Kosten voor de transformatie/bouw | F46: =SUM(F39:F45) -> 0
...

Sheet Prijselement 2
A1: ='Gunningscriterium prijs'!B13 -> Prijselement 2: Kosten voor licenties, hosting, technische beheer & onderhoud van de uitvoeringsapplicatie BOR | E1: Inschrijver:
B3: Aandachtpunten invullen Prijzenblad
B5: - De Inschrijver dient de gele velden in te vullen.
B6: - De Inschrijver dient <Invullen prijscomponent licenties> zelf een prijscomponent toe te voegen.
B7: - De Ingevulde prijzen zijn gebaseerd op een vast all-in tarief per maand
B8: - De ingediende prijzen dienen te voldoen aan de randvoorwaarden beschreven onder paragraaf 6.2.2 en 6.2.3 van de gunningsleidraad.
B9: - Indien de Inschrijver tegenstrijdigheden, onvolkomenheden en/of onjuistheden dient dit direct aan de Opdrachtgever te worden gemeld.
B12: ='Gunningscriterium prijs'!B13 -> Prijselement 2: Kosten voor licenties, hosting, technische beheer & onderhoud van de uitvoeringsapplicatie BOR
B14: =A1 -> Prijselement 2: Kosten voor licenties, hosting, technische beheer & onderhoud van de uitvoeringsapplicatie BOR | C14: Gebruikers: | D14: Prijs per gebruiker per maand (€) | E14: Maandprijs (€) | F14: Prijs per jaar (€)
B15: <Invullen Kosten voor licenties, hosting, technische beheer & onderhoud van de uitvoeringsapplicatie BOR jaar 1, na 1 juli 2023> | C15: 800 | E15: =C15*D15 -> 0 | F15: =E15*6 -> 0
B16: <Invullen Kosten voor licenties, hosting, technische beheer & onderhoud van de uitvoeringsapplicatie BOR jaar 2> | C16: 800 | E16: =C16*D16 -> 0 | F16: =E16*12 -> 0
B17: <Invullen Kosten voor licenties, hosting, technische beheer & onderhoud van de uitvoeringsapplicatie BOR jaar 3> | C17: 800 | E17: =C17*D17 -> 0 | F17: =E17*12 -> 0
B18: <Invullen Kosten voor licenties, hosting, technische beheer & onderhoud van de uitvoeringsapplicatie BOR jaar 4> | C18: 800 | E18: =C18*D18 -> 0 | F18: =E18*12 -> 0
B19: <Invullen Kosten voor licenties, hosting, technische beheer & onderhoud van de uitvoeringsapplicatie BOR jaar 5> | C19: 800 | E19: =C19*D19 -> 0 | F19: =E19*12 -> 0
B20: ='Gunningscriterium prijs'!B13 -> Prijselement 2: Kosten voor licenties, hosting, technische beheer & onderhoud van de uitvoeringsapplicatie BOR | F20: =F15 -> 0
B25: Mogelijkheid voor het opgeven van staffels
C27: Gebruikers: | D27: Prijs per gebruiker per maand (€)
B28: <Invullen Kosten voor licenties, hosting, technische beheer & onderhoud van de uitvoeringsapplicatie BOR>
B29: <Invullen Kosten voor licenties, hosting, technische beheer & onderhoud van de uitvoeringsapplicatie BOR>
B30: <Invullen Kosten voor licenties, hosting, technische beheer & onderhoud van de uitvoeringsapplicatie BOR>

Sheet Prijselement 3
A1: ='Gunningscriterium prijs'!B14 -> Prijselement 3: Kosten voor doorontwikkeling c.q. aanpassen van de nieuwe uitvoeringsapplicatie BOR | C1: Inschrijver:
B3: Aandachtpunten invullen Prijzenblad
B5: - De Inschrijver dient de gele velden in te vullen.
B6: - De ingediende prijzen dienen te voldoen aan de randvoorwaarden beschreven onder paragraaf 6.2.2 en 6.2.3 van de gunningsleidraad.
B7: - De beoogde inzet in uren is indicatief om een weging te creëren
B8: - Indien de Inschrijver tegenstrijdigheden, onvolkomenheden en/of onjuistheden dient dit direct aan de Opdrachtgever te worden gemeld.
B9: - De gemeente Amsterdam hanteert voor losse inhuurtrajecten (zijnde niet fixed price trajecten met een resultaatverplichting) de wethoudersnorm van maximaal € 125,- per uur. Dit betekent dat de tarieven die u aanbied dat het uurtarief dat u aanbiedt
B10: onder prijselement 4 niet hoger mag zijn dan € 125,- per uur.
B12: Uurtarieven
B14: ='Gunningscriterium prijs'!B14 -> Prijselement 3: Kosten voor doorontwikkeling c.q. aanpassen van de nieuwe uitvoeringsapplicatie BOR | C14: Aantal uren per jaar | D14: Uurtarief (€) | E14: Totale waarde over de contractperiode 4 jaar (€)
B15: Ontwikkelaar senior/Lead developer | C15: 75 | E15: =($C15*D15)*4 -> 0
B16: Scrum master/Projectmanager | C16: 50 | E16: =($C16*D16)*4 -> 0
B17: Testcoördinator/Testmanager/Senior tester | C17: 25 | E17: =($C17*D17)*4 -> 0
B18: Architect/ Solution architect | C18: 30 | E18: =($C18*D18)*4 -> 0
B19: Funcitoneel beheerder | C19: 75 | E19: =($C19*D19)*4 -> 0
B20: Busines consultant | C20: 75 | E20: =($C20*D20)*4 -> 0
B21: Informatie analist/ontwerper | C21: 50 | E21: =($C21*D21)*4 -> 0
D22: Totaal: | E22: =SUM(E15:E21) -> 0
