Workbook
Name _GoBack: '1. Instructie en informatie'!$A$64

Sheet 1. Instructie en informatie
A1: -3e AANGEPASTE VERSIE (dd 03 juni 2022)-
A2: Bijlage 3A Prijsinvulformulier Catering FMH
A3: Instructie en Informatie; Aanbesteding Cateringdienstverlening t.b.v. FMH met IUC referentienr. 202102052
A5: De vaste aanneemsom en de vaste integrale verrekentarieven zijn inclusief:
B6: Inzet gekwalificeerd personeel
B7: Inwerken, opleiding en training van personeel
B8: Vervanging van personeel
B9: Reis- en verblijfskosten en aan- en afrijtijden
B10: Overname van personeel van de huidige gecontracteerde dienstverlener
B11: Coördinatie en aansturing
B12: Implementatiekosten
B13: Rapportages, (kwaliteits)audits en toetsen
B15: Exploitatiekosten waaronder kosten voor management fee, kassasystemen en algemene kosten waaronder themadagen, schoonmaak, bacteriologische controles en geldafhandeling en alle voor de Dienstverlening benodigde transport-, communicatie- en overige hulpmiddelen en materialen.
A18: Tabblad 2 (Banqueting) | B18: In deze bijlage dient de Inschrijver de hieronder gevraagde gegevens in te vullen in de gele cellen:
B19: (groene cellen met incl. BTW bedragen worden automatisch gevuld)
B20: Vaste integrale verrekenprijzen exclusief BTW voor Vergaderservice (koffie- en theeservice)
B21: Vaste integrale verrekenprijzen voor de bijeenkomsten exclusief BTW.
A26: Tabbladen 3a, 3b, 3c, 4a, 4b, 4c, 5a, 5b, 5c, 6a, 6b en 6c | B26: In deze bijlage dient de Inschrijver de hieronder gevraagde gegevens in te vullen in de gele cellen:
A27: Aanneemsommen bedrijfsrestaurants | B27: (de groene cellen worden automatisch gevuld)
B28: Onder personele inzet - functienaam, functieschaal, uren per dag, uurtarief, kosten exclusief BTW
B29: Onder overige personele kosten - (indien van toepassing) functienaam, functieschaal, uren per dag, uurtarief, kosten exclusief BTW en BTW percentages.
B30: Exploitatiekosten per jaar exclusief BTW en BTW percentages
B31: Inkoop ingrediëntskosten exclusief BTW en BTW percentages
B32: Verkoop ingrediëntskosten (opbrengsten verkoop) exclusief BTW en BTW percentages
A36: Algemene instructies
A38: Bedragen dienen in 2 decimalen nauwkeurig in euro's te worden vermeld.
A39: De door Opdrachtgever gevraagde gegevens dienen door de Inschrijver ingevuld te worden in de gele cellen in de
A40: tabbladen 2a, 2b, 3a, 3b, 3c, 4a, 4b, 4c, 5a, 5b, 5c, 6a, 6b en 6c.
A41: Alle groene (en grijze) cellen worden automatisch met waarden gevuld. Inschrijver dient deze niet te wijzigen, maar wel op juiste werking en vulling te controleren!
A42: Inschrijver dient te controleren of de formules voor optelling en of vermenigvuldiging van alle tabbladen (2 t/m 10) correct werken en heeft hierin een eigen verantwoordelijkheid.
A44: Het is op straffe van uitsluiting de Inschrijver niet toegestaan enige wijziging aan te brengen in de opmaak en tekstinhoud van de prijsinvulbladen van 'Bijlage 3A Prijsinvulformulier FMH met IUC referentienr. 202102052'
A45: De in de tabbladen 7, 8 en 9 genoemde aantallen/bedragen zijn gebaseerd op de historische gegevens. Hieraan kunnen geen rechten worden ontleend. De Vaste Integrale Verrekenprijzen kunnen niet gewijzigd worden als gevolg van fluctuaties in de aantallen.
A48: Toelichtende tekst behorende bij de staffels:
A50: Het financiële uitgangspunt voor het cateringcontract is een kosten-neutrale exploitatie.
A51: Hiermee wordt bedoeld dat de opdrachtgever geen financiële bijdrage aan de cateringvoorzieningen wenst te betalen.
A52: Gelijktijdig wilt de opdrachtgever zich als een ‘goed opdrachtgever’ opstellen.
... A65: Zie ook MEDEDELING AANBESTEDENDE DIENST nr. 8 (Nota van Inlichtingen-3)

Sheet 2a. Banqueting
A3: Tabblad 2a: Invulformulier Banqueting
A5: Banqueting
A6: Vergaderservice | C6: Prijseenheid | D6: Vaste integrale verrekenprijs excl. BTW | E6: BTW % | F6: Vaste integrale verrekenprijs incl. BTW
A8: Vergaderservice (koffie- en theeservice) tbv alle locaties (te weten De Resident, B73, Beatrixlaan 2 en Koningskade 4) | B8: vaste integrale verrekenprijs | C8: prijs per consumptie | D8: 0 | F8: =D8*(1+E8) -> 0
A9: Bijeenkomsten (hapjes en dranken) | C9: Prijseenheid | D9: Vaste integrale verrekenprijs excl. BTW | E9: BTW % | F9: Vaste integrale verrekenprijs incl. BTW
A10: Borrelwagen zonder bediening (inclusief verbruik) * | B10: vaste integrale verrekenprijs | C10: prijs per persoon | D10: 0 | F10: =D10*(1+E10) -> 0
A11: Receptiearrangement inclusief 1,5 uur bediening * | B11: vaste integrale verrekenprijs | C11: prijs per persoon | D11: 0 | F11: =D11*(1+E11) -> 0
A12: Vergaderlunches | C12: Prijseenheid | D12: Vaste integrale verrekenprijs excl. BTW | E12: BTW % | F12: Vaste integrale verrekenprijs incl. BTW
A13: Pauzepleinlunch | B13: VOORAF DOOR AANBESTEDER VASTGESTELDE VASTE INTEGRALE VERREKENPRIJS | C13: prijs per persoon | D13: 8.95 | E13: 0.09 | F13: =D13*(1+E13) -> 9.7555
A14: Lunch A | B14: VOORAF DOOR AANBESTEDER VASTGESTELDE VASTE INTEGRALE VERREKENPRIJS | C14: prijs per persoon | D14: 7 | E14: 0.09 | F14: =D14*(1+E14) -> 7.63
A15: Lunch B | B15: VOORAF DOOR AANBESTEDER VASTGESTELDE VASTE INTEGRALE VERREKENPRIJS | C15: prijs per persoon | D15: 5.5 | E15: 0.09 | F15: =D15*(1+E15) -> 5.995
A16: Lunch C | B16: VOORAF DOOR AANBESTEDER VASTGESTELDE VASTE INTEGRALE VERREKENPRIJS | C16: prijs per persoon | D16: 8 | E16: 0.09 | F16: =D16*(1+E16) -> 8.72
A18: *Zie paragraaf 2.1 van het Beschrijvend document kopje 'Banqueting' voor uitleg over de borrelkar en het receptiearrangement.

Sheet 2b. Pilot De Resident
A1: Tabblad 2a: Invulformulier Pilot Warme drankenvoorzieningen De Resident en Turfmarkt 244
A3: Pilot Warme drankenvoorzieningen De Resident en Turfmarkt 244
A5: Warme drankenautomaten en waterbars (zie ook eis A.1 en eis WW.1) | C5: Prijseenheid | D5: Vaste integrale verrekenprijs excl. BTW | E5: BTW % | F5: Vaste integrale verrekenprijs incl. BTW | G5: Aantal consumpties per jaar | H5: Totaalprijs exclusief BTW | I5: Totaalprijs inclusief BTW
A6: Staffel 1 (geldt bij aantal consumpties per jaar 0-500.000; er wordt vermenigvuldigd met 500.000) | B6: vaste integrale verrekenprijs | C6: prijs per consumptie | D6: 0 | F6: =D6*(1+E6) -> 0 | G6: 500000 | H6: =D6*G6 -> 0 | I6: =F6*G6 -> 0
A7: Staffel 2 (geldt bij aantal cconsumpties per jaar >500.000 en <750.000; er wordt vermenigvuldigd met 750.000) | B7: vaste integrale verrekenprijs | C7: prijs per consumptie | D7: 0 | F7: =D7*(1+E7) -> 0 | G7: 750000 | H7: =D7*G7 -> 0 | I7: =F7*G7 -> 0
A8: Staffel 3 (geldt bij aantal consumpties per jaar >750.000; er wordt vermenigvuldigd 1.000.000) | B8: vaste integrale verrekenprijs | C8: prijs per consumptie | D8: 0 | F8: =D8*(1+E8) -> 0 | G8: 1000000 | H8: =D8*G8 -> 0 | I8: =F8*G8 -> 0
A9: Gemiddeld (staffels bij elkaar opgeteld en gedeeld door 3) | H9: =(H6+H7+H8)/3 -> 0 | I9: =(I6+I7+I8)/3 -> 0
A11: Alternatieve voorziening warme dranken | C11: Prijseenheid | D11: Vaste integrale verrekenprijs excl. BTW | E11: BTW % | F11: Vaste integrale verrekenprijs incl. BTW | G11: Aantal consumpties | H11: Totaalprijs exclusief BTW | I11: Totaalprijs inclusief BTW
A12: Staffel 1 (geldt bij aantal consumpties per jaar 0-500.000; er wordt vermenigvuldigd met 500.000) | B12: vaste integrale verrekenprijs | C12: prijs per consumptie | D12: 0 | F12: =D12*(1+E12) -> 0 | G12: 500000 | H12: =D12*G12 -> 0 | I12: =F12*G12 -> 0
A13: Staffel 2 (geldt bij aantal cconsumpties per jaar > 500.000 en <750.000; er wordt vermenigvuldigd met 750.000) | B13: vaste integrale verrekenprijs | C13: prijs per consumptie | D13: 0 | F13: =D13*(1+E13) -> 0 | G13: 750000 | H13: =D13*G13 -> 0 | I13: =F13*G13 -> 0
A14: Staffel 3 (geldt bij aantal consumpties per jaar >750.000; er wordt vermenigvuldigd 1.000.000) | B14: vaste integrale verrekenprijs | C14: prijs per consumptie | D14: 0 | F14: =D14*(1+E14) -> 0 | G14: 1000000 | H14: =D14*G14 -> 0 | I14: =F14*G14 -> 0
A15: Gemiddeld (staffels bij elkaar opgeteld en gedeeld door 3) | H15: =(H12+H13+H14)/3 -> 0 | I15: =(I12+I13+I14)/3 -> 0
G17: TOTAAL: | H17: =H9+H15 -> 0 | I17: =I9+I15 -> 0

Sheet 3a. De Resident (100-299)
A1: Tabblad 3a: Invulformulier vaste aanneemsom outlets De Resident (bij 100 - 299 transacties per dag)
A3: VASTE KOSTEN PER JAAR bij 100-299 transacties per dag
A4: Personeelsinzet outlets De Resident
A5: functie | B5: functie schaal | C5: uren/ dag | D5: uurtarief excl. BTW | E5: dagen /jaar | F5: uren per jaar | G5: kosten/ jaar excl. BTW | H5: BTW% | I5: kosten/ jaar incl. BTW
A6: Cateringmanager | E6: 255 | F6: =E6*C6 -> 0 | G6: =E6*D6*C6 -> 0 | I6: =G6*(1+H6) -> 0
A7: Assistent Cateringmanager | E7: 255 | F7: =E7*C7 -> 0 | G7: =E7*D7*C7 -> 0 | I7: =G7*(1+H7) -> 0
A8: Chef-kok | E8: 255 | F8: =E8*C8 -> 0 | G8: =E8*D8*C8 -> 0 | I8: =G8*(1+H8) -> 0
A9: Kok | E9: 255 | F9: =E9*C9 -> 0 | G9: =E9*D9*C9 -> 0 | I9: =G9*(1+H9) -> 0
A10: Gastheer/gastvrouw | E10: 255 | F10: =E10*C10 -> 0 | G10: =E10*D10*C10 -> 0 | I10: =G10*(1+H10) -> 0
A11: Cateringmedewerker | E11: 255 | F11: =E11*C11 -> 0 | G11: =E11*D11*C11 -> 0 | I11: =G11*(1+H11) -> 0
A12: invullen indien van toepassing | E12: 255 | F12: =E12*C12 -> 0 | G12: =E12*D12*C12 -> 0 | I12: =G12*(1+H12) -> 0
A13: invullen indien van toepassing | E13: 255 | F13: =E13*C13 -> 0 | G13: =E13*D13*C13 -> 0 | I13: =G13*(1+H13) -> 0
A14: invullen indien van toepassing | E14: 255 | F14: =E14*C14 -> 0 | G14: =E14*D14*C14 -> 0 | I14: =G14*(1+H14) -> 0
A15: invullen indien van toepassing | E15: 255 | F15: =E15*C15 -> 0 | G15: =E15*D15*C15 -> 0 | I15: =G15*(1+H15) -> 0
A16: Totaal personeelsinzet | F16: =SUM(F6:F15) -> 0 | G16: =SUM(G6:G15) -> 0 | I16: =SUM(I6:I15) -> 0
A17: Overige personeelskosten (alleen invullen indien van toepassing)
A18: beschrijving / onderdeel | B18: vrij invulbaar indien van toepasing | G18: kosten/ jaar excl. BTW | H18: BTW% | I18: kosten/ jaar incl. BTW
A19: invullen indien van toepassing | I19: =G19*(1+H19) -> 0
A20: invullen indien van toepassing | I20: =G20*(1+H20) -> 0
A21: invullen indien van toepassing | I21: =G21*(1+H21) -> 0
A22: invullen indien van toepassing | I22: =G22*(1+H22) -> 0
A23: invullen indien van toepassing | I23: =G23*(1+H23) -> 0
A24: Totaal overige personeelskosten | G24: =SUM(G19:G23) -> 0 | I24: =SUM(I19:I23) -> 0
A25: Exploitatiekosten
A26: onderdeel | G26: kosten/ jaar excl. BTW | H26: BTW% | I26: kosten/ jaar incl. BTW
A27: Management Fee | I27: =G27*(1+H27) -> 0
A28: Kassasystemen | I28: =G28*(1+H28) -> 0
A29: Algemene kosten | I29: =G29*(1+H29) -> 0
A30: invullen indien van toepassing | I30: =G30*(1+H30) -> 0
A31: invullen indien van toepassing | I31: =G31*(1+H31) -> 0
A32: invullen indien van toepassing | I32: =G32*(1+H32) -> 0
A33: Totaal exploitatiekosten | G33: =SUM(G27:G32) -> 0 | I33: =SUM(I27:I32) -> 0
A34: TOTAAL VASTE KOSTEN | G34: =G16+G24+G33 -> 0 | I34: =I16+I24+I33 -> 0
A36: OPBRENGSTEN VERKOOP INGREDIENTEN
A37: Inkoop ingrediëntskosten
A38: onderdeel | G38: kosten/ jaar excl. BTW | H38: BTW% | I38: kosten/ jaar incl. BTW
A39: Bedrijfsrestaurant …..(type outlet) | G39: 0 | I39: =G39*(1+H39) -> 0
A40: …..(type outlet) | G40: 0 | I40: =G40*(1+H40) -> 0
A41: invullen indien van toepassing | G41: 0 | I41: =G41*(1+H41) -> 0
A42: invullen indien van toepassing | G42: 0 | I42: =G42*(1+H42) -> 0
...

Sheet 3b. De Resident (300-499)
A1: Tabblad 3b: Invulformulier vaste aanneemsom outlets De Resident (bij 300 - 499 transacties per dag)
A3: VASTE KOSTEN PER JAAR bij 300 - 499 transacties per dag
A4: Personeelsinzet outlets De Resident
A5: functie | B5: functie schaal | C5: uren/ dag | D5: uurtarief excl. BTW | E5: dagen /jaar | F5: uren per jaar | G5: kosten/ jaar excl. BTW | H5: BTW% | I5: kosten/ jaar incl. BTW
A6: Cateringmanager | E6: 255 | F6: =E6*C6 -> 0 | G6: =E6*D6*C6 -> 0 | I6: =G6*(1+H6) -> 0
A7: Assistent Cateringmanager | E7: 255 | F7: =E7*C7 -> 0 | G7: =E7*D7*C7 -> 0 | I7: =G7*(1+H7) -> 0
A8: Chef-kok | E8: 255 | F8: =E8*C8 -> 0 | G8: =E8*D8*C8 -> 0 | I8: =G8*(1+H8) -> 0
A9: Kok | E9: 255 | F9: =E9*C9 -> 0 | G9: =E9*D9*C9 -> 0 | I9: =G9*(1+H9) -> 0
A10: Gastheer/gastvrouw | E10: 255 | F10: =E10*C10 -> 0 | G10: =E10*D10*C10 -> 0 | I10: =G10*(1+H10) -> 0
A11: Cateringmedewerker | E11: 255 | F11: =E11*C11 -> 0 | G11: =E11*D11*C11 -> 0 | I11: =G11*(1+H11) -> 0
A12: invullen indien van toepassing | E12: 255 | F12: =E12*C12 -> 0 | G12: =E12*D12*C12 -> 0 | I12: =G12*(1+H12) -> 0
A13: invullen indien van toepassing | E13: 255 | F13: =E13*C13 -> 0 | G13: =E13*D13*C13 -> 0 | I13: =G13*(1+H13) -> 0
A14: invullen indien van toepassing | E14: 255 | F14: =E14*C14 -> 0 | G14: =E14*D14*C14 -> 0 | I14: =G14*(1+H14) -> 0
A15: invullen indien van toepassing | E15: 255 | F15: =E15*C15 -> 0 | G15: =E15*D15*C15 -> 0 | I15: =G15*(1+H15) -> 0
A16: Totaal personeelsinzet | F16: =SUM(F6:F15) -> 0 | G16: =SUM(G6:G15) -> 0 | I16: =SUM(I6:I15) -> 0
A17: Overige personeelskosten (alleen invullen indien van toepassing)
A18: beschrijving / onderdeel | B18: vrij invulbaar indien van toepasing | G18: kosten/ jaar excl. BTW | H18: BTW% | I18: kosten/ jaar incl. BTW
A19: invullen indien van toepassing | I19: =G19*(1+H19) -> 0
A20: invullen indien van toepassing | I20: =G20*(1+H20) -> 0
A21: invullen indien van toepassing | I21: =G21*(1+H21) -> 0
A22: invullen indien van toepassing | I22: =G22*(1+H22) -> 0
A23: invullen indien van toepassing | I23: =G23*(1+H23) -> 0
A24: Totaal overige personeelskosten | G24: =SUM(G19:G23) -> 0 | I24: =SUM(I19:I23) -> 0
A25: Exploitatiekosten
A26: onderdeel | G26: kosten/ jaar excl. BTW | H26: BTW% | I26: kosten/ jaar incl. BTW
A27: Management Fee | I27: =G27*(1+H27) -> 0
A28: Kassasystemen | I28: =G28*(1+H28) -> 0
A29: Algemene kosten | I29: =G29*(1+H29) -> 0
A30: invullen indien van toepassing | I30: =G30*(1+H30) -> 0
A31: invullen indien van toepassing | I31: =G31*(1+H31) -> 0
A32: invullen indien van toepassing | I32: =G32*(1+H32) -> 0
A33: Totaal exploitatiekosten | G33: =SUM(G27:G32) -> 0 | I33: =SUM(I27:I32) -> 0
A34: TOTAAL VASTE KOSTEN | G34: =G16+G24+G33 -> 0 | I34: =I16+I24+I33 -> 0
A36: OPBRENGSTEN VERKOOP INGREDIENTEN
A37: Inkoop ingrediëntskosten
A38: onderdeel | G38: kosten/ jaar excl. BTW | H38: BTW% | I38: kosten/ jaar incl. BTW
A39: Bedrijfsrestaurant …..(type outlet) | G39: 0 | I39: =G39*(1+H39) -> 0
A40: …..(type outlet) | G40: 0 | I40: =G40*(1+H40) -> 0
A41: invullen indien van toepassing | G41: 0 | I41: =G41*(1+H41) -> 0
A42: invullen indien van toepassing | G42: 0 | I42: =G42*(1+H42) -> 0
...

Sheet 3c. De Resident (vanaf 500)
A1: Tabblad 3c: Invulformulier vaste aanneemsom outlets De Resident (vanaf 500 transacties per dag)
A3: VASTE KOSTEN PER JAAR vanaf 500 transacties per dag
A4: Personeelsinzet outlets De Resident
A5: functie | B5: functie schaal | C5: uren/ dag | D5: uurtarief excl. BTW | E5: dagen /jaar | F5: uren per jaar | G5: kosten/ jaar excl. BTW | H5: BTW% | I5: kosten/ jaar incl. BTW
A6: Cateringmanager | E6: 255 | F6: =E6*C6 -> 0 | G6: =E6*D6*C6 -> 0 | I6: =G6*(1+H6) -> 0
A7: Assistent Cateringmanager | E7: 255 | F7: =E7*C7 -> 0 | G7: =E7*D7*C7 -> 0 | I7: =G7*(1+H7) -> 0
A8: Chef-kok | E8: 255 | F8: =E8*C8 -> 0 | G8: =E8*D8*C8 -> 0 | I8: =G8*(1+H8) -> 0
A9: Kok | E9: 255 | F9: =E9*C9 -> 0 | G9: =E9*D9*C9 -> 0 | I9: =G9*(1+H9) -> 0
A10: Gastheer/gastvrouw | E10: 255 | F10: =E10*C10 -> 0 | G10: =E10*D10*C10 -> 0 | I10: =G10*(1+H10) -> 0
A11: Cateringmedewerker | E11: 255 | F11: =E11*C11 -> 0 | G11: =E11*D11*C11 -> 0 | I11: =G11*(1+H11) -> 0
A12: invullen indien van toepassing | E12: 255 | F12: =E12*C12 -> 0 | G12: =E12*D12*C12 -> 0 | I12: =G12*(1+H12) -> 0
A13: invullen indien van toepassing | E13: 255 | F13: =E13*C13 -> 0 | G13: =E13*D13*C13 -> 0 | I13: =G13*(1+H13) -> 0
A14: invullen indien van toepassing | E14: 255 | F14: =E14*C14 -> 0 | G14: =E14*D14*C14 -> 0 | I14: =G14*(1+H14) -> 0
A15: invullen indien van toepassing | E15: 255 | F15: =E15*C15 -> 0 | G15: =E15*D15*C15 -> 0 | I15: =G15*(1+H15) -> 0
A16: Totaal personeelsinzet | F16: =SUM(F6:F15) -> 0 | G16: =SUM(G6:G15) -> 0 | I16: =SUM(I6:I15) -> 0
A17: Overige personeelskosten (alleen invullen indien van toepassing)
A18: beschrijving / onderdeel | B18: vrij invulbaar indien van toepasing | G18: kosten/ jaar excl. BTW | H18: BTW% | I18: kosten/ jaar incl. BTW
A19: invullen indien van toepassing | I19: =G19*(1+H19) -> 0
A20: invullen indien van toepassing | I20: =G20*(1+H20) -> 0
A21: invullen indien van toepassing | I21: =G21*(1+H21) -> 0
A22: invullen indien van toepassing | I22: =G22*(1+H22) -> 0
A23: invullen indien van toepassing | I23: =G23*(1+H23) -> 0
A24: Totaal overige personeelskosten | G24: =SUM(G19:G23) -> 0 | I24: =SUM(I19:I23) -> 0
A25: Exploitatiekosten
A26: onderdeel | G26: kosten/ jaar excl. BTW | H26: BTW% | I26: kosten/ jaar incl. BTW
A27: Management Fee | I27: =G27*(1+H27) -> 0
A28: Kassasystemen | I28: =G28*(1+H28) -> 0
A29: Algemene kosten | I29: =G29*(1+H29) -> 0
A30: invullen indien van toepassing | I30: =G30*(1+H30) -> 0
A31: invullen indien van toepassing | I31: =G31*(1+H31) -> 0
A32: invullen indien van toepassing | I32: =G32*(1+H32) -> 0
A33: Totaal exploitatiekosten | G33: =SUM(G27:G32) -> 0 | I33: =SUM(I27:I32) -> 0
A34: TOTAAL VASTE KOSTEN | G34: =G16+G24+G33 -> 0 | I34: =I16+I24+I33 -> 0
A36: OPBRENGSTEN VERKOOP INGREDIENTEN
A37: Inkoop ingrediëntskosten
A38: onderdeel | G38: kosten/ jaar excl. BTW | H38: BTW% | I38: kosten/ jaar incl. BTW
A39: Bedrijfsrestaurant …..(type outlet) | G39: 0 | I39: =G39*(1+H39) -> 0
A40: ….(type outlet) | G40: 0 | I40: =G40*(1+H40) -> 0
A41: invullen indien van toepassing | G41: 0 | I41: =G41*(1+H41) -> 0
A42: invullen indien van toepassing | G42: 0 | I42: =G42*(1+H42) -> 0
...

Sheet 4a. B73 (100-299)
A1: Tabblad 4a: Invulformulier vaste aanneemsom outlets Bezuidenhoutseweg 73 (bij 100 - 299 transacties per dag)
A2: 26
A3: VASTE KOSTEN PER JAAR bij 100-299 transacties per dag
A4: Personeelsinzet outlets B73
A5: functie | B5: functie schaal | C5: uren/ dag | D5: uurtarief excl. BTW | E5: dagen /jaar | F5: uren per jaar | G5: kosten/ jaar excl. BTW | H5: BTW% | I5: kosten/ jaar incl. BTW
A6: Cateringmanager | E6: 255 | F6: =E6*C6 -> 0 | G6: =E6*D6*C6 -> 0 | I6: =G6*(1+H6) -> 0
A7: Assistent Cateringmanager | E7: 255 | F7: =E7*C7 -> 0 | G7: =E7*D7*C7 -> 0 | I7: =G7*(1+H7) -> 0
A8: Chef-kok | E8: 255 | F8: =E8*C8 -> 0 | G8: =E8*D8*C8 -> 0 | I8: =G8*(1+H8) -> 0
A9: Kok | E9: 255 | F9: =E9*C9 -> 0 | G9: =E9*D9*C9 -> 0 | I9: =G9*(1+H9) -> 0
A10: Gastheer/gastvrouw | E10: 255 | F10: =E10*C10 -> 0 | G10: =E10*D10*C10 -> 0 | I10: =G10*(1+H10) -> 0
A11: Cateringmedewerker | E11: 255 | F11: =E11*C11 -> 0 | G11: =E11*D11*C11 -> 0 | I11: =G11*(1+H11) -> 0
A12: invullen indien van toepassing | E12: 255 | F12: =E12*C12 -> 0 | G12: =E12*D12*C12 -> 0 | I12: =G12*(1+H12) -> 0
A13: invullen indien van toepassing | E13: 255 | F13: =E13*C13 -> 0 | G13: =E13*D13*C13 -> 0 | I13: =G13*(1+H13) -> 0
A14: invullen indien van toepassing | E14: 255 | F14: =E14*C14 -> 0 | G14: =E14*D14*C14 -> 0 | I14: =G14*(1+H14) -> 0
A15: invullen indien van toepassing | E15: 255 | F15: =E15*C15 -> 0 | G15: =E15*D15*C15 -> 0 | I15: =G15*(1+H15) -> 0
A16: Totaal personeelsinzet | F16: =SUM(F6:F15) -> 0 | G16: =SUM(G6:G15) -> 0 | I16: =SUM(I6:I15) -> 0
A17: Overige personeelskosten (alleen invullen indien van toepassing)
A18: beschrijving / onderdeel | B18: vrij invulbaar indien van toepasing | G18: kosten/ jaar excl. BTW | H18: BTW% | I18: kosten/ jaar incl. BTW
A19: invullen indien van toepassing | I19: =G19*(1+H19) -> 0
A20: invullen indien van toepassing | I20: =G20*(1+H20) -> 0
A21: invullen indien van toepassing | I21: =G21*(1+H21) -> 0
A22: invullen indien van toepassing | I22: =G22*(1+H22) -> 0
A23: invullen indien van toepassing | I23: =G23*(1+H23) -> 0
A24: Totaal overige personeelskosten | G24: =SUM(G19:G23) -> 0 | I24: =SUM(I19:I23) -> 0
A25: Exploitatiekosten
A26: onderdeel | G26: kosten/ jaar excl. BTW | H26: BTW% | I26: kosten/ jaar incl. BTW
A27: Management Fee | I27: =G27*(1+H27) -> 0
A28: Kassasystemen | I28: =G28*(1+H28) -> 0
A29: Algemene kosten | I29: =G29*(1+H29) -> 0
A30: invullen indien van toepassing | I30: =G30*(1+H30) -> 0
A31: invullen indien van toepassing | I31: =G31*(1+H31) -> 0
A32: invullen indien van toepassing | I32: =G32*(1+H32) -> 0
A33: Totaal exploitatiekosten | G33: =SUM(G27:G32) -> 0 | I33: =SUM(I27:I32) -> 0
A34: TOTAAL VASTE KOSTEN | G34: =G16+G24+G33 -> 0 | I34: =I16+I24+I33 -> 0
A36: OPBRENGSTEN VERKOOP INGREDIENTEN
A37: Inkoop ingrediëntskosten
A38: onderdeel | G38: kosten/ jaar excl. BTW | H38: BTW% | I38: kosten/ jaar incl. BTW
A39: Bedrijfsrestaurant ….(type outlet) | I39: =G39*(1+H39) -> 0
A40: …. (type outlet) | I40: =G40*(1+H40) -> 0
A41: …. (type outlet) | I41: =G41*(1+H41) -> 0
...

Sheet 4b. B73 (300-499)
A1: Tabblad 4b: Invulformulier vaste aanneemsom outlets Bezuidenhoutseweg 73 (bij 300 -499 transacties per dag)
A3: VASTE KOSTEN PER JAAR bij 300-499 transacties per dag
A4: Personeelsinzet outlets B73
A5: functie | B5: functie schaal | C5: uren/ dag | D5: uurtarief excl. BTW | E5: dagen /jaar | F5: uren per jaar | G5: kosten/ jaar excl. BTW | H5: BTW% | I5: kosten/ jaar incl. BTW
A6: Cateringmanager | E6: 255 | F6: =E6*C6 -> 0 | G6: =E6*D6*C6 -> 0 | I6: =G6*(1+H6) -> 0
A7: Assistent Cateringmanager | E7: 255 | F7: =E7*C7 -> 0 | G7: =E7*D7*C7 -> 0 | I7: =G7*(1+H7) -> 0
A8: Chef-kok | E8: 255 | F8: =E8*C8 -> 0 | G8: =E8*D8*C8 -> 0 | I8: =G8*(1+H8) -> 0
A9: Kok | E9: 255 | F9: =E9*C9 -> 0 | G9: =E9*D9*C9 -> 0 | I9: =G9*(1+H9) -> 0
A10: Gastheer/gastvrouw | E10: 255 | F10: =E10*C10 -> 0 | G10: =E10*D10*C10 -> 0 | I10: =G10*(1+H10) -> 0
A11: Cateringmedewerker | E11: 255 | F11: =E11*C11 -> 0 | G11: =E11*D11*C11 -> 0 | I11: =G11*(1+H11) -> 0
A12: invullen indien van toepassing | E12: 255 | F12: =E12*C12 -> 0 | G12: =E12*D12*C12 -> 0 | I12: =G12*(1+H12) -> 0
A13: invullen indien van toepassing | E13: 255 | F13: =E13*C13 -> 0 | G13: =E13*D13*C13 -> 0 | I13: =G13*(1+H13) -> 0
A14: invullen indien van toepassing | E14: 255 | F14: =E14*C14 -> 0 | G14: =E14*D14*C14 -> 0 | I14: =G14*(1+H14) -> 0
A15: invullen indien van toepassing | E15: 255 | F15: =E15*C15 -> 0 | G15: =E15*D15*C15 -> 0 | I15: =G15*(1+H15) -> 0
A16: Totaal personeelsinzet | F16: =SUM(F6:F15) -> 0 | G16: =SUM(G6:G15) -> 0 | I16: =SUM(I6:I15) -> 0
A17: Overige personeelskosten (alleen invullen indien van toepassing)
A18: beschrijving / onderdeel | B18: vrij invulbaar indien van toepasing | G18: kosten/ jaar excl. BTW | H18: BTW% | I18: kosten/ jaar incl. BTW
A19: invullen indien van toepassing | I19: =G19*(1+H19) -> 0
A20: invullen indien van toepassing | I20: =G20*(1+H20) -> 0
A21: invullen indien van toepassing | I21: =G21*(1+H21) -> 0
A22: invullen indien van toepassing | I22: =G22*(1+H22) -> 0
A23: invullen indien van toepassing | I23: =G23*(1+H23) -> 0
A24: Totaal overige personeelskosten | G24: =SUM(G19:G23) -> 0 | I24: =SUM(I19:I23) -> 0
A25: Exploitatiekosten
A26: onderdeel | G26: kosten/ jaar excl. BTW | H26: BTW% | I26: kosten/ jaar incl. BTW
A27: Management Fee | I27: =G27*(1+H27) -> 0
A28: Kassasystemen | I28: =G28*(1+H28) -> 0
A29: Algemene kosten | I29: =G29*(1+H29) -> 0
A30: invullen indien van toepassing | I30: =G30*(1+H30) -> 0
A31: invullen indien van toepassing | I31: =G31*(1+H31) -> 0
A32: invullen indien van toepassing | I32: =G32*(1+H32) -> 0
A33: Totaal exploitatiekosten | G33: =SUM(G27:G32) -> 0 | I33: =SUM(I27:I32) -> 0
A34: TOTAAL VASTE KOSTEN | G34: =G16+G24+G33 -> 0 | I34: =I16+I24+I33 -> 0
A36: OPBRENGSTEN VERKOOP INGREDIENTEN
A37: Inkoop ingrediëntskosten
A38: onderdeel | G38: kosten/ jaar excl. BTW | H38: BTW% | I38: kosten/ jaar incl. BTW
A39: Bedrijfsrestaurant ...….(type outlet) | I39: =G39*(1+H39) -> 0
A40: ….….(type outlet) | I40: =G40*(1+H40) -> 0
A41: …... (type outlet) | I41: =G41*(1+H41) -> 0
A42: invullen indien van toepassing | I42: =G42*(1+H42) -> 0
...

Sheet 4c. B73 (vanaf 500)
A1: Tabblad 4c: Invulformulier vaste aanneemsom outlets Bezuidenhoutseweg 73 (vanaf 500 transacties per dag)
A3: VASTE KOSTEN PER JAAR vanaf 500 transacties per dag
A4: Personeelsinzet outlets B73
A5: functie | B5: functie schaal | C5: uren/ dag | D5: uurtarief excl. BTW | E5: dagen /jaar | F5: uren per jaar | G5: kosten/ jaar excl. BTW | H5: BTW% | I5: kosten/ jaar incl. BTW
A6: Cateringmanager | E6: 255 | F6: =E6*C6 -> 0 | G6: =E6*D6*C6 -> 0 | I6: =G6*(1+H6) -> 0
A7: Assistent Cateringmanager | E7: 255 | F7: =E7*C7 -> 0 | G7: =E7*D7*C7 -> 0 | I7: =G7*(1+H7) -> 0
A8: Chef-kok | E8: 255 | F8: =E8*C8 -> 0 | G8: =E8*D8*C8 -> 0 | I8: =G8*(1+H8) -> 0
A9: Kok | E9: 255 | F9: =E9*C9 -> 0 | G9: =E9*D9*C9 -> 0 | I9: =G9*(1+H9) -> 0
A10: Gastheer/gastvrouw | E10: 255 | F10: =E10*C10 -> 0 | G10: =E10*D10*C10 -> 0 | I10: =G10*(1+H10) -> 0
A11: Cateringmedewerker | E11: 255 | F11: =E11*C11 -> 0 | G11: =E11*D11*C11 -> 0 | I11: =G11*(1+H11) -> 0
A12: invullen indien van toepassing | E12: 255 | F12: =E12*C12 -> 0 | G12: =E12*D12*C12 -> 0 | I12: =G12*(1+H12) -> 0
A13: invullen indien van toepassing | E13: 255 | F13: =E13*C13 -> 0 | G13: =E13*D13*C13 -> 0 | I13: =G13*(1+H13) -> 0
A14: invullen indien van toepassing | E14: 255 | F14: =E14*C14 -> 0 | G14: =E14*D14*C14 -> 0 | I14: =G14*(1+H14) -> 0
A15: invullen indien van toepassing | E15: 255 | F15: =E15*C15 -> 0 | G15: =E15*D15*C15 -> 0 | I15: =G15*(1+H15) -> 0
A16: Totaal personeelsinzet | F16: =SUM(F6:F15) -> 0 | G16: =SUM(G6:G15) -> 0 | I16: =SUM(I6:I15) -> 0
A17: Overige personeelskosten (alleen invullen indien van toepassing)
A18: beschrijving / onderdeel | B18: vrij invulbaar indien van toepasing | G18: kosten/ jaar excl. BTW | H18: BTW% | I18: kosten/ jaar incl. BTW
A19: invullen indien van toepassing | I19: =G19*(1+H19) -> 0
A20: invullen indien van toepassing | I20: =G20*(1+H20) -> 0
A21: invullen indien van toepassing | I21: =G21*(1+H21) -> 0
A22: invullen indien van toepassing | I22: =G22*(1+H22) -> 0
A23: invullen indien van toepassing | I23: =G23*(1+H23) -> 0
A24: Totaal overige personeelskosten | G24: =SUM(G19:G23) -> 0 | I24: =SUM(I19:I23) -> 0
A25: Exploitatiekosten
A26: onderdeel | G26: kosten/ jaar excl. BTW | H26: BTW% | I26: kosten/ jaar incl. BTW
A27: Management Fee | I27: =G27*(1+H27) -> 0
A28: Kassasystemen | I28: =G28*(1+H28) -> 0
A29: Algemene kosten | I29: =G29*(1+H29) -> 0
A30: invullen indien van toepassing | I30: =G30*(1+H30) -> 0
A31: invullen indien van toepassing | I31: =G31*(1+H31) -> 0
A32: invullen indien van toepassing | I32: =G32*(1+H32) -> 0
A33: Totaal exploitatiekosten | G33: =SUM(G27:G32) -> 0 | I33: =SUM(I27:I32) -> 0
A34: TOTAAL VASTE KOSTEN | G34: =G16+G24+G33 -> 0 | I34: =I16+I24+I33 -> 0
A36: OPBRENGSTEN VERKOOP INGREDIENTEN
A37: Inkoop ingrediëntskosten
A38: onderdeel | G38: kosten/ jaar excl. BTW | H38: BTW% | I38: kosten/ jaar incl. BTW
A39: Bedrijfsrestaurant …….(type outlet) | I39: =G39*(1+H39) -> 0
A40: …….(type outlet) | I40: =G40*(1+H40) -> 0
A41: …….(type outlet) | I41: =G41*(1+H41) -> 0
A42: invullen indien van toepassing | I42: =G42*(1+H42) -> 0
...

Sheet 5a. Beatrixlaan 2 (100-299)
A1: Tabblad 5a: Invulformulier vaste aanneemsom outlets RVO Beatrixlaan 2 (bij 100 - 299 transacties per dag)
A2: 26
A3: VASTE KOSTEN PER JAAR bij 100-299 transacties per dag
A4: Personeelsinzet outlets RVO Beatrixlaan 2
A5: functie | B5: functie schaal | C5: uren/ dag | D5: uurtarief excl. BTW | E5: dagen /jaar | F5: uren per jaar | G5: kosten/ jaar excl. BTW | H5: BTW% | I5: kosten/ jaar incl. BTW
A6: Cateringmanager | E6: 255 | F6: =E6*C6 -> 0 | G6: =E6*D6*C6 -> 0 | I6: =G6*(1+H6) -> 0
A7: Assistent Cateringmanager | E7: 255 | F7: =E7*C7 -> 0 | G7: =E7*D7*C7 -> 0 | I7: =G7*(1+H7) -> 0
A8: Chef-kok | E8: 255 | F8: =E8*C8 -> 0 | G8: =E8*D8*C8 -> 0 | I8: =G8*(1+H8) -> 0
A9: Kok | E9: 255 | F9: =E9*C9 -> 0 | G9: =E9*D9*C9 -> 0 | I9: =G9*(1+H9) -> 0
A10: Gastheer/gastvrouw | E10: 255 | F10: =E10*C10 -> 0 | G10: =E10*D10*C10 -> 0 | I10: =G10*(1+H10) -> 0
A11: Cateringmedewerker | E11: 255 | F11: =E11*C11 -> 0 | G11: =E11*D11*C11 -> 0 | I11: =G11*(1+H11) -> 0
A12: invullen indien van toepassing | E12: 255 | F12: =E12*C12 -> 0 | G12: =E12*D12*C12 -> 0 | I12: =G12*(1+H12) -> 0
A13: invullen indien van toepassing | E13: 255 | F13: =E13*C13 -> 0 | G13: =E13*D13*C13 -> 0 | I13: =G13*(1+H13) -> 0
A14: invullen indien van toepassing | E14: 255 | F14: =E14*C14 -> 0 | G14: =E14*D14*C14 -> 0 | I14: =G14*(1+H14) -> 0
A15: invullen indien van toepassing | E15: 255 | F15: =E15*C15 -> 0 | G15: =E15*D15*C15 -> 0 | I15: =G15*(1+H15) -> 0
A16: Totaal personeelsinzet | F16: =SUM(F6:F15) -> 0 | G16: =SUM(G6:G15) -> 0 | I16: =SUM(I6:I15) -> 0
A17: Overige personeelskosten (alleen invullen indien van toepassing)
A18: beschrijving / onderdeel | B18: vrij invulbaar indien van toepasing | G18: kosten/ jaar excl. BTW | H18: BTW% | I18: kosten/ jaar incl. BTW
A19: invullen indien van toepassing | I19: =G19*(1+H19) -> 0
A20: invullen indien van toepassing | I20: =G20*(1+H20) -> 0
A21: invullen indien van toepassing | I21: =G21*(1+H21) -> 0
A22: invullen indien van toepassing | I22: =G22*(1+H22) -> 0
A23: invullen indien van toepassing | I23: =G23*(1+H23) -> 0
A24: Totaal overige personeelskosten | G24: =SUM(G19:G23) -> 0 | I24: =SUM(I19:I23) -> 0
A25: Exploitatiekosten
A26: onderdeel | G26: kosten/ jaar excl. BTW | H26: BTW% | I26: kosten/ jaar incl. BTW
A27: Management Fee | I27: =G27*(1+H27) -> 0
A28: Kassasystemen | I28: =G28*(1+H28) -> 0
A29: Algemene kosten | I29: =G29*(1+H29) -> 0
A30: invullen indien van toepassing | I30: =G30*(1+H30) -> 0
A31: invullen indien van toepassing | I31: =G31*(1+H31) -> 0
A32: invullen indien van toepassing | I32: =G32*(1+H32) -> 0
A33: Totaal exploitatiekosten | G33: =SUM(G27:G32) -> 0 | I33: =SUM(I27:I32) -> 0
A34: TOTAAL VASTE KOSTEN | G34: =G16+G24+G33 -> 0 | I34: =I16+I24+I33 -> 0
A36: OPBRENGSTEN VERKOOP INGREDIENTEN
A37: Inkoop ingrediëntskosten
A38: onderdeel | G38: kosten/ jaar excl. BTW | H38: BTW% | I38: kosten/ jaar incl. BTW
A39: Bedrijfsrestaurant ….(type outlet) | I39: =G39*(1+H39) -> 0
A40: …(type outlet) | I40: =G40*(1+H40) -> 0
A41: invullen indien van toepassing | I41: =G41*(1+H41) -> 0
...

Sheet 5b. Beatrixlaan 2 (300-499)
A1: Tabblad 5b: Invulformulier vaste aanneemsom outlets RVO Beatrixlaan 2 (bij 300 - 499 transacties per dag)
A3: VASTE KOSTEN PER JAAR bij 300-499 transacties per dag
A4: Personeelsinzet outlets RVO Beatrixlaan 2
A5: functie | B5: functie schaal | C5: uren/ dag | D5: uurtarief excl. BTW | E5: dagen /jaar | F5: uren per jaar | G5: kosten/ jaar excl. BTW | H5: BTW% | I5: kosten/ jaar incl. BTW
A6: Cateringmanager | E6: 255 | F6: =E6*C6 -> 0 | G6: =E6*D6*C6 -> 0 | I6: =G6*(1+H6) -> 0
A7: Assistent Cateringmanager | E7: 255 | F7: =E7*C7 -> 0 | G7: =E7*D7*C7 -> 0 | I7: =G7*(1+H7) -> 0
A8: Chef-kok | E8: 255 | F8: =E8*C8 -> 0 | G8: =E8*D8*C8 -> 0 | I8: =G8*(1+H8) -> 0
A9: Kok | E9: 255 | F9: =E9*C9 -> 0 | G9: =E9*D9*C9 -> 0 | I9: =G9*(1+H9) -> 0
A10: Gastheer/gastvrouw | E10: 255 | F10: =E10*C10 -> 0 | G10: =E10*D10*C10 -> 0 | I10: =G10*(1+H10) -> 0
A11: Cateringmedewerker | E11: 255 | F11: =E11*C11 -> 0 | G11: =E11*D11*C11 -> 0 | I11: =G11*(1+H11) -> 0
A12: invullen indien van toepassing | E12: 255 | F12: =E12*C12 -> 0 | G12: =E12*D12*C12 -> 0 | I12: =G12*(1+H12) -> 0
A13: invullen indien van toepassing | E13: 255 | F13: =E13*C13 -> 0 | G13: =E13*D13*C13 -> 0 | I13: =G13*(1+H13) -> 0
A14: invullen indien van toepassing | E14: 255 | F14: =E14*C14 -> 0 | G14: =E14*D14*C14 -> 0 | I14: =G14*(1+H14) -> 0
A15: invullen indien van toepassing | E15: 255 | F15: =E15*C15 -> 0 | G15: =E15*D15*C15 -> 0 | I15: =G15*(1+H15) -> 0
A16: Totaal personeelsinzet | F16: =SUM(F6:F15) -> 0 | G16: =SUM(G6:G15) -> 0 | I16: =SUM(I6:I15) -> 0
A17: Overige personeelskosten (alleen invullen indien van toepassing)
A18: beschrijving / onderdeel | B18: vrij invulbaar indien van toepasing | G18: kosten/ jaar excl. BTW | H18: BTW% | I18: kosten/ jaar incl. BTW
A19: invullen indien van toepassing | I19: =G19*(1+H19) -> 0
A20: invullen indien van toepassing | I20: =G20*(1+H20) -> 0
A21: invullen indien van toepassing | I21: =G21*(1+H21) -> 0
A22: invullen indien van toepassing | I22: =G22*(1+H22) -> 0
A23: invullen indien van toepassing | I23: =G23*(1+H23) -> 0
A24: Totaal overige personeelskosten | G24: =SUM(G19:G23) -> 0 | I24: =SUM(I19:I23) -> 0
A25: Exploitatiekosten
A26: onderdeel | G26: kosten/ jaar excl. BTW | H26: BTW% | I26: kosten/ jaar incl. BTW
A27: Management Fee | I27: =G27*(1+H27) -> 0
A28: Kassasystemen | I28: =G28*(1+H28) -> 0
A29: Algemene kosten | I29: =G29*(1+H29) -> 0
A30: invullen indien van toepassing | I30: =G30*(1+H30) -> 0
A31: invullen indien van toepassing | I31: =G31*(1+H31) -> 0
A32: invullen indien van toepassing | I32: =G32*(1+H32) -> 0
A33: Totaal exploitatiekosten | G33: =SUM(G27:G32) -> 0 | I33: =SUM(I27:I32) -> 0
A34: TOTAAL VASTE KOSTEN | G34: =G16+G24+G33 -> 0 | I34: =I16+I24+I33 -> 0
A36: OPBRENGSTEN VERKOOP INGREDIENTEN
A37: Inkoop ingrediëntskosten
A38: onderdeel | G38: kosten/ jaar excl. BTW | H38: BTW% | I38: kosten/ jaar incl. BTW
A39: Bedrijfsrestaurant …..(type outlet) | I39: =G39*(1+H39) -> 0
A40: …...(type outlet) | I40: =G40*(1+H40) -> 0
A41: invullen indien van toepassing | I41: =G41*(1+H41) -> 0
A42: invullen indien van toepassing | I42: =G42*(1+H42) -> 0
...

Sheet 5c. Beatrixlaan 2 (vanaf 500)
A1: Tabblad 5c: Invulformulier vaste aanneemsom outlets RVO Beatrixlaan 2 (vanaf 500 transacties per dag)
A3: VASTE KOSTEN PER JAAR vanaf 500 transacties per dag
A4: Personeelsinzet outlets RVO Beatrixlaan 2
A5: functie | B5: functie schaal | C5: uren/ dag | D5: uurtarief excl. BTW | E5: dagen /jaar | F5: uren per jaar | G5: kosten/ jaar excl. BTW | H5: BTW% | I5: kosten/ jaar incl. BTW
A6: Cateringmanager | E6: 255 | F6: =E6*C6 -> 0 | G6: =E6*D6*C6 -> 0 | I6: =G6*(1+H6) -> 0
A7: Assistent Cateringmanager | E7: 255 | F7: =E7*C7 -> 0 | G7: =E7*D7*C7 -> 0 | I7: =G7*(1+H7) -> 0
A8: Chef-kok | E8: 255 | F8: =E8*C8 -> 0 | G8: =E8*D8*C8 -> 0 | I8: =G8*(1+H8) -> 0
A9: Kok | E9: 255 | F9: =E9*C9 -> 0 | G9: =E9*D9*C9 -> 0 | I9: =G9*(1+H9) -> 0
A10: Gastheer/gastvrouw | E10: 255 | F10: =E10*C10 -> 0 | G10: =E10*D10*C10 -> 0 | I10: =G10*(1+H10) -> 0
A11: Cateringmedewerker | E11: 255 | F11: =E11*C11 -> 0 | G11: =E11*D11*C11 -> 0 | I11: =G11*(1+H11) -> 0
A12: invullen indien van toepassing | E12: 255 | F12: =E12*C12 -> 0 | G12: =E12*D12*C12 -> 0 | I12: =G12*(1+H12) -> 0
A13: invullen indien van toepassing | E13: 255 | F13: =E13*C13 -> 0 | G13: =E13*D13*C13 -> 0 | I13: =G13*(1+H13) -> 0
A14: invullen indien van toepassing | E14: 255 | F14: =E14*C14 -> 0 | G14: =E14*D14*C14 -> 0 | I14: =G14*(1+H14) -> 0
A15: invullen indien van toepassing | E15: 255 | F15: =E15*C15 -> 0 | G15: =E15*D15*C15 -> 0 | I15: =G15*(1+H15) -> 0
A16: Totaal personeelsinzet | F16: =SUM(F6:F15) -> 0 | G16: =SUM(G6:G15) -> 0 | I16: =SUM(I6:I15) -> 0
A17: Overige personeelskosten (alleen invullen indien van toepassing)
A18: beschrijving / onderdeel | B18: vrij invulbaar indien van toepasing | G18: kosten/ jaar excl. BTW | H18: BTW% | I18: kosten/ jaar incl. BTW
A19: invullen indien van toepassing | I19: =G19*(1+H19) -> 0
A20: invullen indien van toepassing | I20: =G20*(1+H20) -> 0
A21: invullen indien van toepassing | I21: =G21*(1+H21) -> 0
A22: invullen indien van toepassing | I22: =G22*(1+H22) -> 0
A23: invullen indien van toepassing | I23: =G23*(1+H23) -> 0
A24: Totaal overige personeelskosten | G24: =SUM(G19:G23) -> 0 | I24: =SUM(I19:I23) -> 0
A25: Exploitatiekosten
A26: onderdeel | G26: kosten/ jaar excl. BTW | H26: BTW% | I26: kosten/ jaar incl. BTW
A27: Management Fee | I27: =G27*(1+H27) -> 0
A28: Kassasystemen | I28: =G28*(1+H28) -> 0
A29: Algemene kosten | I29: =G29*(1+H29) -> 0
A30: invullen indien van toepassing | I30: =G30*(1+H30) -> 0
A31: invullen indien van toepassing | I31: =G31*(1+H31) -> 0
A32: invullen indien van toepassing | I32: =G32*(1+H32) -> 0
A33: Totaal exploitatiekosten | G33: =SUM(G27:G32) -> 0 | I33: =SUM(I27:I32) -> 0
A34: TOTAAL VASTE KOSTEN | G34: =G16+G24+G33 -> 0 | I34: =I16+I24+I33 -> 0
A36: OPBRENGSTEN VERKOOP INGREDIENTEN
A37: Inkoop ingrediëntskosten
A38: onderdeel | G38: kosten/ jaar excl. BTW | H38: BTW% | I38: kosten/ jaar incl. BTW
A39: Bedrijfsrestaurant …..(type outlet) | I39: =G39*(1+H39) -> 0
A40: …...(type outlet) | I40: =G40*(1+H40) -> 0
A41: invullen indien van toepassing | I41: =G41*(1+H41) -> 0
A42: invullen indien van toepassing | I42: =G42*(1+H42) -> 0
...

Sheet 6a. Koningskade 4 (100-299)
A1: Tabblad 6a: Invulformulier vaste aanneemsom outlets Koningskade 4 (bij 100 - 299 transacties per dag)
A3: VASTE KOSTEN PER JAAR bij 100-299 transacties per dag
A4: Personeelsinzet outlets Koningskade 4
A5: functie | B5: functie schaal | C5: uren/ dag | D5: uurtarief excl. BTW | E5: dagen /jaar | F5: uren per jaar | G5: kosten/ jaar excl. BTW | H5: BTW% | I5: kosten/ jaar incl. BTW
A6: Cateringmanager | E6: 255 | F6: =E6*C6 -> 0 | G6: =E6*D6*C6 -> 0 | I6: =G6*(1+H6) -> 0
A7: Assistent Cateringmanager | E7: 255 | F7: =E7*C7 -> 0 | G7: =E7*D7*C7 -> 0 | I7: =G7*(1+H7) -> 0
A8: Chef-kok | E8: 255 | F8: =E8*C8 -> 0 | G8: =E8*D8*C8 -> 0 | I8: =G8*(1+H8) -> 0
A9: Kok | E9: 255 | F9: =E9*C9 -> 0 | G9: =E9*D9*C9 -> 0 | I9: =G9*(1+H9) -> 0
A10: Gastheer/gastvrouw | E10: 255 | F10: =E10*C10 -> 0 | G10: =E10*D10*C10 -> 0 | I10: =G10*(1+H10) -> 0
A11: Cateringmedewerker | E11: 255 | F11: =E11*C11 -> 0 | G11: =E11*D11*C11 -> 0 | I11: =G11*(1+H11) -> 0
A12: invullen indien van toepassing | E12: 255 | F12: =E12*C12 -> 0 | G12: =E12*D12*C12 -> 0 | I12: =G12*(1+H12) -> 0
A13: invullen indien van toepassing | E13: 255 | F13: =E13*C13 -> 0 | G13: =E13*D13*C13 -> 0 | I13: =G13*(1+H13) -> 0
A14: invullen indien van toepassing | E14: 255 | F14: =E14*C14 -> 0 | G14: =E14*D14*C14 -> 0 | I14: =G14*(1+H14) -> 0
A15: invullen indien van toepassing | E15: 255 | F15: =E15*C15 -> 0 | G15: =E15*D15*C15 -> 0 | I15: =G15*(1+H15) -> 0
A16: Totaal personeelsinzet | F16: =SUM(F6:F15) -> 0 | G16: =SUM(G6:G15) -> 0 | I16: =SUM(I6:I15) -> 0
A17: Overige personeelskosten (alleen invullen indien van toepassing)
A18: beschrijving / onderdeel | B18: vrij invulbaar indien van toepasing | G18: kosten/ jaar excl. BTW | H18: BTW% | I18: kosten/ jaar incl. BTW
A19: invullen indien van toepassing | I19: =G19*(1+H19) -> 0
A20: invullen indien van toepassing | I20: =G20*(1+H20) -> 0
A21: invullen indien van toepassing | I21: =G21*(1+H21) -> 0
A22: invullen indien van toepassing | I22: =G22*(1+H22) -> 0
A23: invullen indien van toepassing | I23: =G23*(1+H23) -> 0
A24: Totaal overige personeelskosten | G24: =SUM(G19:G23) -> 0 | I24: =SUM(I19:I23) -> 0
A25: Exploitatiekosten
A26: onderdeel | G26: kosten/ jaar excl. BTW | H26: BTW% | I26: kosten/ jaar incl. BTW
A27: Management Fee | I27: =G27*(1+H27) -> 0
A28: Kassasystemen | I28: =G28*(1+H28) -> 0
A29: Algemene kosten | I29: =G29*(1+H29) -> 0
A30: invullen indien van toepassing | I30: =G30*(1+H30) -> 0
A31: invullen indien van toepassing | I31: =G31*(1+H31) -> 0
A32: invullen indien van toepassing | I32: =G32*(1+H32) -> 0
A33: Totaal exploitatiekosten | G33: =SUM(G27:G32) -> 0 | I33: =SUM(I27:I32) -> 0
A34: TOTAAL VASTE KOSTEN | G34: =G16+G24+G33 -> 0 | I34: =I16+I24+I33 -> 0
A36: OPBRENGSTEN VERKOOP INGREDIENTEN
A37: Inkoop ingrediëntskosten
A38: onderdeel | G38: kosten/ jaar excl. BTW | H38: BTW% | I38: kosten/ jaar incl. BTW
A39: Bedrijfsrestaurant …..(type outlet) | I39: =G39*(1+H39) -> 0
A40: ….(type outlet) | I40: =G40*(1+H40) -> 0
A41: invullen indien van toepassing | I41: =G41*(1+H41) -> 0
A42: invullen indien van toepassing | I42: =G42*(1+H42) -> 0
...

Sheet 6b. Koningskade 4 (300-499)
A1: Tabblad 6b: Invulformulier vaste aanneemsom outlets Koningskade 4 (bij 300 - 499 transacties per dag)
A3: VASTE KOSTEN PER JAAR bij 300-499 transacties per dag
A4: Personeelsinzet outlets Koningskade 4
A5: functie | B5: functie schaal | C5: uren/ dag | D5: uurtarief excl. BTW | E5: dagen /jaar | F5: uren per jaar | G5: kosten/ jaar excl. BTW | H5: BTW% | I5: kosten/ jaar incl. BTW
A6: Cateringmanager | E6: 255 | F6: =E6*C6 -> 0 | G6: =E6*D6*C6 -> 0 | I6: =G6*(1+H6) -> 0
A7: Assistent Cateringmanager | E7: 255 | F7: =E7*C7 -> 0 | G7: =E7*D7*C7 -> 0 | I7: =G7*(1+H7) -> 0
A8: Chef-kok | E8: 255 | F8: =E8*C8 -> 0 | G8: =E8*D8*C8 -> 0 | I8: =G8*(1+H8) -> 0
A9: Kok | E9: 255 | F9: =E9*C9 -> 0 | G9: =E9*D9*C9 -> 0 | I9: =G9*(1+H9) -> 0
A10: Gastheer/gastvrouw | E10: 255 | F10: =E10*C10 -> 0 | G10: =E10*D10*C10 -> 0 | I10: =G10*(1+H10) -> 0
A11: Cateringmedewerker | E11: 255 | F11: =E11*C11 -> 0 | G11: =E11*D11*C11 -> 0 | I11: =G11*(1+H11) -> 0
A12: invullen indien van toepassing | E12: 255 | F12: =E12*C12 -> 0 | G12: =E12*D12*C12 -> 0 | I12: =G12*(1+H12) -> 0
A13: invullen indien van toepassing | E13: 255 | F13: =E13*C13 -> 0 | G13: =E13*D13*C13 -> 0 | I13: =G13*(1+H13) -> 0
A14: invullen indien van toepassing | E14: 255 | F14: =E14*C14 -> 0 | G14: =E14*D14*C14 -> 0 | I14: =G14*(1+H14) -> 0
A15: invullen indien van toepassing | E15: 255 | F15: =E15*C15 -> 0 | G15: =E15*D15*C15 -> 0 | I15: =G15*(1+H15) -> 0
A16: Totaal personeelsinzet | F16: =SUM(F6:F15) -> 0 | G16: =SUM(G6:G15) -> 0 | I16: =SUM(I6:I15) -> 0
A17: Overige personeelskosten (alleen invullen indien van toepassing)
A18: beschrijving / onderdeel | B18: vrij invulbaar indien van toepasing | G18: kosten/ jaar excl. BTW | H18: BTW% | I18: kosten/ jaar incl. BTW
A19: invullen indien van toepassing | I19: =G19*(1+H19) -> 0
A20: invullen indien van toepassing | I20: =G20*(1+H20) -> 0
A21: invullen indien van toepassing | I21: =G21*(1+H21) -> 0
A22: invullen indien van toepassing | I22: =G22*(1+H22) -> 0
A23: invullen indien van toepassing | I23: =G23*(1+H23) -> 0
A24: Totaal overige personeelskosten | G24: =SUM(G19:G23) -> 0 | I24: =SUM(I19:I23) -> 0
A25: Exploitatiekosten
A26: onderdeel | G26: kosten/ jaar excl. BTW | H26: BTW% | I26: kosten/ jaar incl. BTW
A27: Management Fee | I27: =G27*(1+H27) -> 0
A28: Kassasystemen | I28: =G28*(1+H28) -> 0
A29: Algemene kosten | I29: =G29*(1+H29) -> 0
A30: invullen indien van toepassing | I30: =G30*(1+H30) -> 0
A31: invullen indien van toepassing | I31: =G31*(1+H31) -> 0
A32: invullen indien van toepassing | I32: =G32*(1+H32) -> 0
A33: Totaal exploitatiekosten | G33: =SUM(G27:G32) -> 0 | I33: =SUM(I27:I32) -> 0
A34: TOTAAL VASTE KOSTEN | G34: =G16+G24+G33 -> 0 | I34: =I16+I24+I33 -> 0
A36: OPBRENGSTEN VERKOOP INGREDIENTEN
A37: Inkoop ingrediëntskosten
A38: onderdeel | G38: kosten/ jaar excl. BTW | H38: BTW% | I38: kosten/ jaar incl. BTW
A39: Bedrijfsrestaurant ….(type outlet) | I39: =G39*(1+H39) -> 0
A40: ….(type outlet) | I40: =G40*(1+H40) -> 0
A41: invullen indien van toepassing | I41: =G41*(1+H41) -> 0
A42: invullen indien van toepassing | I42: =G42*(1+H42) -> 0
...

Sheet 6c. Koningskade 4 (vanaf 500)
A1: Tabblad 6c: Invulformulier vaste aanneemsom outlets Koningskade 4 (vanaf 500 transacties per dag)
A3: VASTE KOSTEN PER JAAR vanaf 500 transacties per dag
A4: Personeelsinzet outlets Koningskade 4
A5: functie | B5: functie schaal | C5: uren/ dag | D5: uurtarief excl. BTW | E5: dagen /jaar | F5: uren per jaar | G5: kosten/ jaar excl. BTW | H5: BTW% | I5: kosten/ jaar incl. BTW
A6: Cateringmanager | E6: 255 | F6: =E6*C6 -> 0 | G6: =E6*D6*C6 -> 0 | I6: =G6*(1+H6) -> 0
A7: Assistent Cateringmanager | E7: 255 | F7: =E7*C7 -> 0 | G7: =E7*D7*C7 -> 0 | I7: =G7*(1+H7) -> 0
A8: Chef-kok | E8: 255 | F8: =E8*C8 -> 0 | G8: =E8*D8*C8 -> 0 | I8: =G8*(1+H8) -> 0
A9: Kok | E9: 255 | F9: =E9*C9 -> 0 | G9: =E9*D9*C9 -> 0 | I9: =G9*(1+H9) -> 0
A10: Gastheer/gastvrouw | E10: 255 | F10: =E10*C10 -> 0 | G10: =E10*D10*C10 -> 0 | I10: =G10*(1+H10) -> 0
A11: Cateringmedewerker | E11: 255 | F11: =E11*C11 -> 0 | G11: =E11*D11*C11 -> 0 | I11: =G11*(1+H11) -> 0
A12: invullen indien van toepassing | E12: 255 | F12: =E12*C12 -> 0 | G12: =E12*D12*C12 -> 0 | I12: =G12*(1+H12) -> 0
A13: invullen indien van toepassing | E13: 255 | F13: =E13*C13 -> 0 | G13: =E13*D13*C13 -> 0 | I13: =G13*(1+H13) -> 0
A14: invullen indien van toepassing | E14: 255 | F14: =E14*C14 -> 0 | G14: =E14*D14*C14 -> 0 | I14: =G14*(1+H14) -> 0
A15: invullen indien van toepassing | E15: 255 | F15: =E15*C15 -> 0 | G15: =E15*D15*C15 -> 0 | I15: =G15*(1+H15) -> 0
A16: Totaal personeelsinzet | F16: =SUM(F6:F15) -> 0 | G16: =SUM(G6:G15) -> 0 | I16: =SUM(I6:I15) -> 0
A17: Overige personeelskosten (alleen invullen indien van toepassing)
A18: beschrijving / onderdeel | B18: vrij invulbaar indien van toepasing | G18: kosten/ jaar excl. BTW | H18: BTW% | I18: kosten/ jaar incl. BTW
A19: invullen indien van toepassing | I19: =G19*(1+H19) -> 0
A20: invullen indien van toepassing | I20: =G20*(1+H20) -> 0
A21: invullen indien van toepassing | I21: =G21*(1+H21) -> 0
A22: invullen indien van toepassing | I22: =G22*(1+H22) -> 0
A23: invullen indien van toepassing | I23: =G23*(1+H23) -> 0
A24: Totaal overige personeelskosten | G24: =SUM(G19:G23) -> 0 | I24: =SUM(I19:I23) -> 0
A25: Exploitatiekosten
A26: onderdeel | G26: kosten/ jaar excl. BTW | H26: BTW% | I26: kosten/ jaar incl. BTW
A27: Management Fee | I27: =G27*(1+H27) -> 0
A28: Kassasystemen | I28: =G28*(1+H28) -> 0
A29: Algemene kosten | I29: =G29*(1+H29) -> 0
A30: invullen indien van toepassing | I30: =G30*(1+H30) -> 0
A31: invullen indien van toepassing | I31: =G31*(1+H31) -> 0
A32: invullen indien van toepassing | I32: =G32*(1+H32) -> 0
A33: Totaal exploitatiekosten | G33: =SUM(G27:G32) -> 0 | I33: =SUM(I27:I32) -> 0
A34: TOTAAL VASTE KOSTEN | G34: =G16+G24+G33 -> 0 | I34: =I16+I24+I33 -> 0
A36: OPBRENGSTEN VERKOOP INGREDIENTEN
A37: Inkoop ingrediëntskosten
A38: onderdeel | G38: kosten/ jaar excl. BTW | H38: BTW% | I38: kosten/ jaar incl. BTW
A39: Bedrijfsrestaurant ….(type outlet) | I39: =G39*(1+H39) -> 0
A40: ….(type outlet) | I40: =G40*(1+H40) -> 0
A41: invullen indien van toepassing | I41: =G41*(1+H41) -> 0
A42: invullen indien van toepassing | I42: =G42*(1+H42) -> 0
...

Sheet 7. Vergaderservice
A1: Tabblad 7: Formulier Vergaderservice Warme drankenvoorzieningen De Resident en Turfmarkt 244 en Vergaderservice
B4: Omschrijving | C4: Aantal consumpties per jaar | D4: Vaste integrale verrekenprijzen excl. BTW | E4: Vaste integrale verrekenprijzen incl. BTW | F4: prijs/jaar excl. BTW | G4: prijs/jaar incl. BTW
B6: Vergaderservice (koffie- en theeservice) tbv alle locaties (t.w. De Resident, B73, Beatrixlaan 2 en Koningskade 4) | C6: 1000000 | D6: ='2a. Banqueting'!D8 -> 0 | E6: ='2a. Banqueting'!F8 -> 0 | F6: =D6*$C$6 -> 0 | G6: =E6*$C$6 -> 0
A7: Totaal | F7: =SUM(F6:F6) -> 0 | G7: =SUM(G6:G6) -> 0

Sheet 8. Bijeenkomsten
A1: Tabblad 8: Formulier bijeenkomsten FMH
B4: Omschrijving | C4: Personen/jaar | D4: Vaste integrale verrekenprijzen excl. BTW | E4: Vaste integrale verrekenprijzen incl. BTW | F4: prijs totaal/jaar excl. BTW | G4: prijs totaal/jaar incl. BTW
B5: ='2a. Banqueting'!A10 -> Borrelwagen zonder bediening (inclusief verbruik) * | C5: 6000 | D5: ='2a. Banqueting'!D10 -> 0 | E5: ='2a. Banqueting'!F10 -> 0 | F5: =D5*$C$5 -> 0 | G5: =E5*$C$5 -> 0
B6: ='2a. Banqueting'!A11 -> Receptiearrangement inclusief 1,5 uur bediening * | C6: 3000 | D6: ='2a. Banqueting'!D11 -> 0 | E6: ='2a. Banqueting'!F11 -> 0 | F6: =D6*$C$6 -> 0 | G6: =E6*$C$6 -> 0
A7: Totaal | F7: =SUM(F5+F6) -> 0 | G7: =SUM(G5+G6) -> 0
A9: Totaal bijeenkomsten | F9: =F7 -> 0 | G9: =G7 -> 0
A11: *Zie paragraaf 2.1 van het Beschrijvend document kopje 'Banqueting' voor uitleg over de borrelkar en het receptiearrangement.

Sheet 9. Vergaderlunches
A1: Tabblad 9: Formulier Vergaderlunches FMH
B4: Omschrijving | C4: Aantal personen per jaar | D4: Vaste integrale verrekenprijzen excl. BTW | E4: Vaste integrale verrekenprijzen incl. BTW | F4: prijs/jaar excl. BTW | G4: prijs/jaar incl. BTW
B5: Pauzepleinlunch | C5: 3000 | D5: ='2a. Banqueting'!D13 -> 8.95 | E5: ='2a. Banqueting'!F13 -> 9.7555 | F5: =D5*$C$5 -> 26850 | G5: =E5*$C$5 -> 29266.5
B6: Lunch A | C6: 15000 | D6: ='2a. Banqueting'!D14 -> 7 | E6: ='2a. Banqueting'!F14 -> 7.63 | F6: =D6*$C$6 -> 105000 | G6: =E6*$C$6 -> 114450
B7: Lunch B | C7: 15000 | D7: ='2a. Banqueting'!D15 -> 5.5 | E7: ='2a. Banqueting'!F15 -> 5.995 | F7: =D7*$C$7 -> 82500 | G7: =E7*$C$7 -> 89925
B8: Lunch C | C8: 15000 | D8: ='2a. Banqueting'!D16 -> 8 | E8: ='2a. Banqueting'!F16 -> 8.72 | F8: =D8*$C$8 -> 120000 | G8: =E8*$C$8 -> 130800
A9: Totaal | F9: =SUM(F5:F8) -> 334350 | G9: =SUM(G5:G8) -> 364441.5
A11: * Zie bijlage 4 van het Beschrijvend document voor uitleg over de samenstelling van de lunches

Sheet 10. Totale Kosten Dienstverl
A1: Tabblad 10: Formulier Totale Kosten Cateringdienstverlening FMH per jaar
A3: Omschrijving | B3: locatie | C3: uren/jaar | D3: prijs/jaar excl. BTW | E3: prijs/jaar incl. BTW
A4: Vaste aanneemsom per jaar | B4: De Resident staffel a 100 - 299 transacties per dag | C4: ='3a. De Resident (100-299)'!F16 -> 0 | D4: ='3a. De Resident (100-299)'!G55 -> 0 | E4: ='3a. De Resident (100-299)'!I55 -> 0
A5: Vaste aanneemsom per jaar | B5: De Resident staffel b 300 - 499 transacties per dag | C5: ='3b. De Resident (300-499)'!F16 -> 0 | D5: ='3b. De Resident (300-499)'!G55 -> 0 | E5: ='3b. De Resident (300-499)'!I55 -> 0
A6: Vaste aanneemsom per jaar | B6: De Resident staffel c vanaf 500 transacties per dag | C6: ='3c. De Resident (vanaf 500)'!F16 -> 0 | D6: ='3c. De Resident (vanaf 500)'!G55 -> 0 | E6: ='3c. De Resident (vanaf 500)'!I55 -> 0
A7: Vaste aanneemsom per jaar; gemiddelde van 3a 3b en 3c | B7: De Resident (Gemiddeld) | C7: =+(C4+C5+C6)/3 -> 0 | D7: =+(D4+D5+D6)/3 -> 0 | E7: =+(E4+E5+E6)/3 -> 0
A8: Vaste aanneemsom per jaar | B8: B73 staffel a 100 - 299 transacties per dag | C8: ='4a. B73 (100-299)'!F16 -> 0 | D8: ='4a. B73 (100-299)'!G57 -> 0 | E8: ='4a. B73 (100-299)'!I57 -> 0
A9: Vaste aanneemsom per jaar | B9: B73 staffel b 300 - 499 transacties per dag | C9: ='4b. B73 (300-499)'!F16 -> 0 | D9: ='4b. B73 (300-499)'!G57 -> 0 | E9: ='4b. B73 (300-499)'!I57 -> 0
A10: Vaste aanneemsom per jaar | B10: B73 staffel c vanaf 500 transacties per dag | C10: ='4c. B73 (vanaf 500)'!F16 -> 0 | D10: ='4c. B73 (vanaf 500)'!G57 -> 0 | E10: ='4c. B73 (vanaf 500)'!I57 -> 0
A11: Vaste aanneemsom per jaar; gemiddelde van 4a 4b en 4c | B11: B73 (Gemiddeld) | C11: =+(C8+C9+C10)/3 -> 0 | D11: =+(D8+D9+D10)/3 -> 0 | E11: =+(E8+E9+E10)/3 -> 0
A12: Vaste aanneemsom per jaar | B12: Beatrixlaan staffel a 100 - 299 transacties per dag | C12: ='5a. Beatrixlaan 2 (100-299)'!F16 -> 0 | D12: ='5a. Beatrixlaan 2 (100-299)'!G55 -> 0 | E12: ='5a. Beatrixlaan 2 (100-299)'!I55 -> 0
A13: Vaste aanneemsom per jaar | B13: Beatrixlaan staffel b 300 - 499 transacties per dag | C13: ='5b. Beatrixlaan 2 (300-499)'!F16 -> 0 | D13: ='5b. Beatrixlaan 2 (300-499)'!G55 -> 0 | E13: ='5b. Beatrixlaan 2 (300-499)'!I55 -> 0
A14: Vaste aanneemsom per jaar | B14: Beatrixlaan staffel c vanaf 500 transacties per dag | C14: ='5c. Beatrixlaan 2 (vanaf 500)'!F16 -> 0 | D14: ='5c. Beatrixlaan 2 (vanaf 500)'!G55 -> 0 | E14: ='5c. Beatrixlaan 2 (vanaf 500)'!I55 -> 0
A15: Vaste aanneemsom per jaar; gemiddelde van 5a 5b en 5c | B15: Beatrixlaan (Gemiddeld) | C15: =+(C12+C13+C14)/3 -> 0 | D15: =+(D12+D13+D14)/3 -> 0 | E15: =+(E12+E13+E14)/3 -> 0
A16: Vaste aanneemsom per jaar | B16: Koningskade staffel a 100 - 299 transacties per dag | C16: ='6a. Koningskade 4 (100-299)'!F16 -> 0 | D16: ='6a. Koningskade 4 (100-299)'!G55 -> 0 | E16: ='6a. Koningskade 4 (100-299)'!I55 -> 0
A17: Vaste aanneemsom per jaar | B17: Koningskade staffel b 300 - 499 transacties per dag | C17: ='6b. Koningskade 4 (300-499)'!F16 -> 0 | D17: ='6b. Koningskade 4 (300-499)'!G55 -> 0 | E17: ='6b. Koningskade 4 (300-499)'!I55 -> 0
A18: Vaste aanneemsom per jaar | B18: Koningskade staffel c vanaf 500 transacties per dag | C18: ='6c. Koningskade 4 (vanaf 500)'!F16 -> 0 | D18: ='6c. Koningskade 4 (vanaf 500)'!G55 -> 0 | E18: ='6c. Koningskade 4 (vanaf 500)'!I55 -> 0
A19: Vaste aanneemsom per jaar; gemiddelde van 6a 6b en 6c | B19: Koningskade (Gemiddeld) | C19: =+(C16+C17+C18)/3 -> 0 | D19: =+(D16+D17+D18)/3 -> 0 | E19: =+(E16+E17+E18)/3 -> 0
B20: subtotaal* | C20: =C7+C11+C15+C19 -> 0 | D20: =SUM(D7+D11+D15+D19) -> 0 | E20: =SUM(E7+E11+E15+E19) -> 0
A21: Totalen (Gemiddelden) per jaar (opgeteld) * | C21: =SUM(C20:C20) -> 0 | D21: =D20 -> 0 | E21: =E20 -> 0
A23: Omschrijving | D23: prijs/jaar excl. BTW | E23: prijs/jaar incl. BTW
A24: Vergaderservice (Koffie- en Theeservice) tbv alle locaties | D24: ='7. Vergaderservice'!F7 -> 0 | E24: ='7. Vergaderservice'!G7 -> 0
A25: Pilot De Resident en Turfmarkt 244 | D25: ='2b. Pilot De Resident'!H17 -> 0 | E25: ='2b. Pilot De Resident'!I17 -> 0
A26: Bijeenkomsten | D26: ='8. Bijeenkomsten'!F9 -> 0 | E26: ='8. Bijeenkomsten'!G9 -> 0
A27: Vergaderlunches | D27: ='9. Vergaderlunches'!F9 -> 334350 | E27: ='9. Vergaderlunches'!G9 -> 364441.5
A28: Totaal vergaderservice en bijeenkomsten | D28: =SUM(D24:D27) -> 334350 | E28: =SUM(E24:E27) -> 364441.5
C32: uren | D32: excl. BTW | E32: incl. BTW*
A33: Totale Kosten Dienstverlening per jaar = Inschrijving "Prijs" | C33: =C21 -> 0 | D33: =SUM(D21+D28) -> 334350 | E33: =SUM(E21+E28) -> 364441.5
A35: *Uw inschrijfprijs wordt beoordeeld op de totaalprijs cel E34 INCLUSIEF BTW

Sheet Blad1
