Workbook

Sheet Invulinstructie
A1: Versie 1.0; d.d. 25 mei 2022
A2: Tarievenblad "Flexibele Arbeidskrachten; Uitzenden tot en met schaal 9
A3: Invulinstructie
A5: Inschrijver vult uitsluitend de Excel Bijlage E – Tarievenblad in ten behoeve van zijn prijsaanbieding binnen zijn Inschrijving.
A7: Aanbestedende dienst maakt in dit tarievenblad onderscheid tussen de tariefsoorten zoals weergegeven in onderstaande tabel. Per tariefsoort geeft inschrijver een onderbouwing van de loonsomopbouw. De te onderbouwen posten zijn opgenomen in tabblad 1 t/m 5. Er is een 6e tabblad opgenomen teneinde de omrekenfactor voor toeslagen/overuren te kunnen invoeren, de gewogen gemiddelde omrekenfactor te kunnen berekenen, de score voor het onderdeel prijs te kunnen berekenen en het tarievenblad te kunnen ondertekenen.
A19: 1 Gebaseerd op het fasensysteem ABU ten aanzien van de rechtspositie van uitzendkrachten.
A20: 2 De duur per fase uitgedrukt in uren.
A21: 3 Het geraamde percentage gebaseerd op het aantal uitzendkrachten per fase, ingehuurd door aanbestedende dienst.
A23: Stap 1:
A24: Vul de groen gearceerde cellen in tabbladen 1 t/m 5 in.
A25: In tabbladen 1 t/m 5 dient inschrijver een specificatie van de loonsomopbouw te geven door bij elk kostprijsonderdeel een percentage in te voeren in de groen gearceerde cellen.
A26: Het resultaat van de door inschrijver ingevulde percentages in tabbladen 1 t/m 5 wordt uitgedrukt in een omrekenfactor. Deze omrekenfactor wordt automatisch berekend en overgenomen in de corresponderende cellen in tabel 1 in tabblad 6 (“totaal en ondertekening”).
... A54: Inschrijver dient het prijzenblad in tweevoud in. 1 versie in Excel én 1 ondertekende versie in PDF.

Sheet 1. Fase A - regulier 
A1: Versie 1.2; d.d. 9 augustus 2022
A2: Tarievenblad "Flexibele Arbeidskrachten; Uitzenden tot en met schaal 9
A3: Fase A/1-2 - Overeenkomst regulier; 0 - 520 uur
A5: U dient de groen gearceerde cellen in te vullen!
A7: Onderbouwing omrekenfactor
C8: Werkelijk % reservering in loonsomfactor | D8: Opbouw loonsomfactor
A9: Basis
A10: Bruto uurloon* | C10: 21.16 | D10: 100
A11: Wachtdagcompensatie | C11: 0 | E11: Grondslag = Bruto loon
A12: Subtotaal | C12: =C11 -> 0 | D12: =C12*D10+D10 -> 100
A14: Reserveringen (mag alleen aangepast worden nav CAO of wettelijke wijzigingen)
A15: Vakantiedagen | C15: 0 | E15: Grondslag = bruto loon + wachtdagcompensatie
A16: Feestdagen | C16: 0 | E16: Grondslag = bruto loon + wachtdagcompensatie
A17: Bijzonder verlof | C17: 0 | E17: Grondslag = bruto loon + wachtdagcompensatie
A18: Kort verzuim | C18: 0 | E18: Grondslag = bruto loon + wachtdagcompensatie
A19: Ziekte | C19: 0
A20: Leeglooprisico | C20: 0 | E20: Grondslag = bruto loon + wachtdagcompensatie
A21: Subtotaal | C21: =SUM(C15:C20) -> 0 | D21: =C21*D12+D12 -> 100
A23: Vakantietoeslag | C23: 0 | E23: Grondslag = bruto loon + wachtdagcompensatie + vakantiedagen + Feestdagen + Kort Verzuim + Ziekte + Leeglooprisico
A24: Subtotaal | C24: =C23 -> 0 | D24: =C24*D21+D21 -> 100
A26: Werkgeverslasten (mag aangepast worden nav wettelijke wijzigingen)
A27: ZVW bijdrage | C27: 0 | E27: Grondslag = Bruto loon + wachtdagcompensatie + reserveringen
A28: Awf (WW) | C28: 0 | E28: Grondslag = Bruto loon + wachtdagcompensatie + reserveringen
A29: Zw.aanv.verzekering | C29: 0 | E29: Grondslag = Bruto loon + wachtdagcompensatie + reserveringen
A30: WAO/WIA basispremie | C30: 0 | E30: Grondslag = Bruto loon + wachtdagcompensatie + reserveringen
A31: ZW gediff, ERD (deel van Whk) | C31: 0 | E31: Grondslag = Bruto loon + wachtdagcompensatie + reserveringen
A32: WGA premie vast (deel van Whk) | C32: 0 | E32: Grondslag = Bruto loon + wachtdagcompensatie + reserveringen
A33: WGA Flex (deel van Whk) | C33: 0 | E33: Grondslag = Bruto loon + wachtdagcompensatie + reserveringen
A34: Pensioen | C34: 0 | E34: Grondslag = Bruto loon + wachtdagcompensatie + reserveringen
A35: Opleiding & Sociaal fonds | C35: 0 | E35: Grondslag = Bruto loon + wachtdagcompensatie + reserveringen
A36: PAWW premie | C36: 0 | E36: Grondslag = Bruto loon + wachtdagcompensatie + reserveringen
A37: Subtotaal | C37: =SUM(C27:C36) -> 0 | D37: =C37*D24+D24 -> 100
A39: Overige werkgeverslasten (mogen gedurende de looptijd van de Raamovereenkomst niet aangepast worden)
A40: Overige kosten | C40: 0 | E40: Grondslag = Bruto loon + wachtdagcompensatie + reserveringen + Wg Lasten
A41: Transitie vergoeding | C41: 0
A42: Subtotaal | C42: =C40+C41 -> 0 | D42: =C42*D37+D37 -> 100
A43: Loonsomfactor excl. BTW | D43: =D42 -> 100
A44: Bureaumarge | D44: 0
A45: Omrekenfactor** | D45: =D43/(100%-D44)/100 -> 1
A47: * Bij de berekening mag inschrijver uitgaan van een bruto uurloon bij een volledig dienstverband van 36 uur passend bij functieschaal 7, trede 11; Cao gemeenten.
A48: ** De omrekenfactor wordt afgerond op twee (2) decimalen.
A49: *** Indien een onderdeel niet van toepassing is, vul dan 0,00% in.

Sheet 2. Fase A - verlengd 
A1: Versie 1.2; d.d. 9 augustus 2022
A2: Tarievenblad "Flexibele Arbeidskrachten; Uitzenden tot en met schaal 9
A3: Fase A/ 1-2 - Overeenkomst verlengd ; > 520 uur
A5: U dient de groen gearceerde cellen in te vullen!
A7: Onderbouwing omrekenfactor
C8: Werkelijk % reservering in loonsomfactor | D8: Opbouw loonsomfactor
A9: Basis
A10: Bruto uurloon* | C10: 21.16 | D10: 100
A11: Wachtdagcompensatie | C11: 0 | E11: Grondslag = Bruto loon
A12: Subtotaal | C12: =C11 -> 0 | D12: =C12*D10+D10 -> 100
A14: Reserveringen (mag alleen aangepast worden nav CAO of wettelijke wijzigingen)
A15: Vakantiedagen | C15: 0 | E15: Grondslag = bruto loon + wachtdagcompensatie
A16: Feestdagen | C16: 0 | E16: Grondslag = bruto loon + wachtdagcompensatie
A17: Bijzonder verlof | C17: 0 | E17: Grondslag = bruto loon + wachtdagcompensatie
A18: Kort verzuim | C18: 0 | E18: Grondslag = bruto loon + wachtdagcompensatie
A19: Ziekte | C19: 0
A20: Leeglooprisico | C20: 0 | E20: Grondslag = bruto loon + wachtdagcompensatie
A21: Subtotaal | C21: =SUM(C15:C20) -> 0 | D21: =C21*D12+D12 -> 100
A23: Vakantietoeslag | C23: 0 | E23: Grondslag = bruto loon + wachtdagcompensatie + vakantiedagen + Feestdagen + Kort Verzuim + Ziekte + Leeglooprisico
A24: Subtotaal | C24: =C23 -> 0 | D24: =C24*D21+D21 -> 100
A26: Werkgeverslasten (mag aangepast worden nav wettelijke wijzigingen)
A27: ZVW bijdrage | C27: 0 | E27: Grondslag = Bruto loon + wachtdagcompensatie + reserveringen
A28: Awf (WW) | C28: 0 | E28: Grondslag = Bruto loon + wachtdagcompensatie + reserveringen
A29: Zw.aanv.verzekering | C29: 0 | E29: Grondslag = Bruto loon + wachtdagcompensatie + reserveringen
A30: WAO/WIA basispremie | C30: 0 | E30: Grondslag = Bruto loon + wachtdagcompensatie + reserveringen
A31: ZW gediff, ERD (deel van Whk) | C31: 0 | E31: Grondslag = Bruto loon + wachtdagcompensatie + reserveringen
A32: WGA premie vast (deel van Whk) | C32: 0 | E32: Grondslag = Bruto loon + wachtdagcompensatie + reserveringen
A33: WGA Flex (deel van Whk) | C33: 0 | E33: Grondslag = Bruto loon + wachtdagcompensatie + reserveringen
A34: Pensioen | C34: 0 | E34: Grondslag = Bruto loon + wachtdagcompensatie + reserveringen
A35: Opleiding & Sociaal fonds | C35: 0 | E35: Grondslag = Bruto loon + wachtdagcompensatie + reserveringen
A36: PAWW premie | C36: 0 | E36: Grondslag = Bruto loon + wachtdagcompensatie + reserveringen
A37: Subtotaal | C37: =SUM(C27:C36) -> 0 | D37: =C37*D24+D24 -> 100
A39: Overige werkgeverslasten (mogen gedurende de looptijd van de Raamovereenkomst niet aangepast worden)
A40: Overige kosten | C40: 0 | E40: Grondslag = Bruto loon + wachtdagcompensatie + reserveringen + Wg Lasten
A41: Transitie vergoeding | C41: 0
A42: Subtotaal | C42: =C40+C41 -> 0 | D42: =C42*D37+D37 -> 100
A43: Loonsomfactor excl. BTW | D43: =D42 -> 100
A44: Bureaumarge | D44: 0
A45: Omrekenfactor** | D45: =D43/(100%-D44)/100 -> 1
A47: * Bij de berekening mag inschrijver uitgaan van een bruto uurloon bij een volledig dienstverband van 36 uur passend bij functieschaal 7, trede 11; Cao gemeenten.
A48: ** De omrekenfactor wordt afgerond op twee (2) decimalen. De waarde mag niet kleiner zijn dan 1,75 en niet groter dan 3,00.
A49: *** Indien een onderdeel niet van toepassing is, vul dan 0,00% in.

Sheet 3. Fase A - vakantiekrachten
A1: Versie 1.2; d.d. 9 augustus 2022
A2: Tarievenblad "Flexibele Arbeidskrachten; Uitzenden tot en met schaal 9
A3: Fase A/ 1-2 - Overeenkomst Vakantiekrachten
A5: U dient de groen gearceerde cellen in te vullen!
A7: Onderbouwing omrekenfactor
C8: Werkelijk % reservering in loonsomfactor | D8: Opbouw loonsomfactor
A9: Basis
A10: Bruto uurloon* | C10: 21.16 | D10: 100
A11: Wachtdagcompensatie | C11: 0 | E11: Grondslag = Bruto loon
A12: Subtotaal | C12: =C11 -> 0 | D12: =C12*D10+D10 -> 100
A14: Reserveringen (mag alleen aangepast worden nav CAO of wettelijke wijzigingen)
A15: Vakantiedagen | C15: 0 | E15: Grondslag = bruto loon + wachtdagcompensatie
A16: Feestdagen | C16: 0 | E16: Grondslag = bruto loon + wachtdagcompensatie
A17: Bijzonder verlof | C17: 0 | E17: Grondslag = bruto loon + wachtdagcompensatie
A18: Kort verzuim | C18: 0 | E18: Grondslag = bruto loon + wachtdagcompensatie
A19: Ziekte | C19: 0
A20: Leeglooprisico | C20: 0 | E20: Grondslag = bruto loon + wachtdagcompensatie
A21: Subtotaal | C21: =SUM(C15:C20) -> 0 | D21: =C21*D12+D12 -> 100
A23: Vakantietoeslag | C23: 0 | E23: Grondslag = bruto loon + wachtdagcompensatie + vakantiedagen + Feestdagen + Kort Verzuim + Ziekte + Leeglooprisico
A24: Subtotaal | C24: =C23 -> 0 | D24: =C24*D21+D21 -> 100
A26: Werkgeverslasten (mag aangepast worden nav wettelijke wijzigingen)
A27: ZVW bijdrage | C27: 0 | E27: Grondslag = Bruto loon + wachtdagcompensatie + reserveringen
A28: Awf (WW) | C28: 0 | E28: Grondslag = Bruto loon + wachtdagcompensatie + reserveringen
A29: Zw.aanv.verzekering | C29: 0 | E29: Grondslag = Bruto loon + wachtdagcompensatie + reserveringen
A30: WAO/WIA basispremie | C30: 0 | E30: Grondslag = Bruto loon + wachtdagcompensatie + reserveringen
A31: ZW gediff, ERD (deel van Whk) | C31: 0 | E31: Grondslag = Bruto loon + wachtdagcompensatie + reserveringen
A32: WGA premie vast (deel van Whk) | C32: 0 | E32: Grondslag = Bruto loon + wachtdagcompensatie + reserveringen
A33: WGA Flex (deel van Whk) | C33: 0 | E33: Grondslag = Bruto loon + wachtdagcompensatie + reserveringen
A34: Pensioen | C34: 0 | E34: Grondslag = Bruto loon + wachtdagcompensatie + reserveringen
A35: Opleiding & Sociaal fonds | C35: 0 | E35: Grondslag = Bruto loon + wachtdagcompensatie + reserveringen
A36: PAWW premie | C36: 0 | E36: Grondslag = Bruto loon + wachtdagcompensatie + reserveringen
A37: Subtotaal | C37: =SUM(C27:C36) -> 0 | D37: =C37*D24+D24 -> 100
A39: Overige werkgeverslasten (mogen gedurende de looptijd van de Raamovereenkomst niet aangepast worden)
A40: Overige kosten | C40: 0 | E40: Grondslag = Bruto loon + wachtdagcompensatie + reserveringen + Wg Lasten
A41: Transitie vergoeding | C41: 0
A42: Subtotaal | C42: =C40+C41 -> 0 | D42: =C42*D37+D37 -> 100
A43: Loonsomfactor excl. BTW | D43: =D42 -> 100
A44: Bureaumarge | D44: 0
A45: Omrekenfactor** | D45: =D43/(100%-D44)/100 -> 1
A47: * Bij de berekening mag inschrijver uitgaan van een bruto uurloon bij een volledig dienstverband van 36 uur passend bij functieschaal 7, trede 11; Cao gemeenten.
A48: ** De omrekenfactor wordt afgerond op twee (2) decimalen. De waarde mag niet kleiner zijn dan 1,75 en niet groter dan 3,00.
A49: *** Indien een onderdeel niet van toepassing is, vul dan 0,00% in.

Sheet 4. Fase BC - regulier
A1: Versie 1.2; d.d. 9 augustus 2022
A2: Tarievenblad "Flexibele Arbeidskrachten; Uitzenden tot en met schaal 9
A3: Fase B/C/ 3-4 - Overeenkomst regulier; 0 - 250 uur
A5: U dient de groen gearceerde cellen in te vullen!
A7: Onderbouwing omrekenfactor
C8: Werkelijk % reservering in loonsomfactor | D8: Opbouw loonsomfactor
A9: Basis
A10: Bruto uurloon* | C10: 21.16 | D10: 100
A11: Wachtdagcompensatie | C11: 0 | E11: Grondslag = Bruto loon
A12: Subtotaal | C12: =C11 -> 0 | D12: =C12*D10+D10 -> 100
A14: Reserveringen (mag alleen aangepast worden nav CAO of wettelijke wijzigingen)
A15: Vakantiedagen | C15: 0 | E15: Grondslag = bruto loon + wachtdagcompensatie
A16: Feestdagen | C16: 0 | E16: Grondslag = bruto loon + wachtdagcompensatie
A17: Bijzonder verlof | C17: 0 | E17: Grondslag = bruto loon + wachtdagcompensatie
A18: Kort verzuim | C18: 0 | E18: Grondslag = bruto loon + wachtdagcompensatie
A19: Ziekte | C19: 0
A20: Leeglooprisico | C20: 0 | E20: Grondslag = bruto loon + wachtdagcompensatie
A21: Subtotaal | C21: =SUM(C15:C20) -> 0 | D21: =C21*D12+D12 -> 100
A23: Vakantietoeslag | C23: 0 | E23: Grondslag = bruto loon + wachtdagcompensatie + vakantiedagen + Feestdagen + Kort Verzuim + Ziekte + Leeglooprisico
A24: Subtotaal | C24: =C23 -> 0 | D24: =C24*D21+D21 -> 100
A26: Werkgeverslasten (mag aangepast worden nav wettelijke wijzigingen)
A27: ZVW bijdrage | C27: 0 | E27: Grondslag = Bruto loon + wachtdagcompensatie + reserveringen
A28: Awf (WW) | C28: 0 | E28: Grondslag = Bruto loon + wachtdagcompensatie + reserveringen
A29: Zw.aanv.verzekering | C29: 0 | E29: Grondslag = Bruto loon + wachtdagcompensatie + reserveringen
A30: WAO/WIA basispremie | C30: 0 | E30: Grondslag = Bruto loon + wachtdagcompensatie + reserveringen
A31: ZW gediff, ERD (deel van Whk) | C31: 0 | E31: Grondslag = Bruto loon + wachtdagcompensatie + reserveringen
A32: WGA premie vast (deel van Whk) | C32: 0 | E32: Grondslag = Bruto loon + wachtdagcompensatie + reserveringen
A33: WGA Flex (deel van Whk) | C33: 0 | E33: Grondslag = Bruto loon + wachtdagcompensatie + reserveringen
A34: Pensioen | C34: 0 | E34: Grondslag = Bruto loon + wachtdagcompensatie + reserveringen
A35: Opleiding & Sociaal fonds | C35: 0 | E35: Grondslag = Bruto loon + wachtdagcompensatie + reserveringen
A36: PAWW premie | C36: 0 | E36: Grondslag = Bruto loon + wachtdagcompensatie + reserveringen
A37: Subtotaal | C37: =SUM(C27:C36) -> 0 | D37: =C37*D24+D24 -> 100
A39: Overige werkgeverslasten (mogen gedurende de looptijd van de Raamovereenkomst niet aangepast worden)
A40: Overige kosten | C40: 0 | E40: Grondslag = Bruto loon + wachtdagcompensatie + reserveringen + Wg Lasten
A41: Transitie vergoeding | C41: 0
A42: Subtotaal | C42: =C40+C41 -> 0 | D42: =C42*D37+D37 -> 100
A43: Loonsomfactor excl. BTW | D43: =D42 -> 100
A44: Bureaumarge | D44: 0
A45: Omrekenfactor** | D45: =D43/(100%-D44)/100 -> 1
A47: * Bij de berekening mag inschrijver uitgaan van een bruto uurloon bij een volledig dienstverband van 36 uur passend bij functieschaal 7, trede 11; Cao gemeenten.
A48: ** De omrekenfactor wordt afgerond op twee (2) decimalen. De waarde mag niet kleiner zijn dan 1,75 en niet groter dan 3,00.
A49: *** Indien een onderdeel niet van toepassing is, vul dan 0,00% in.

Sheet 5. Fase BC - verlengd
A1: Versie 1.2; d.d. 9 augustus 2022
A2: Tarievenblad "Flexibele Arbeidskrachten; Uitzenden tot en met schaal 9
A3: Fase B/C 3-4 - Overeenkomst verlengd; >520 uur
A5: U dient de groen gearceerde cellen in te vullen!
A7: Onderbouwing omrekenfactor
C8: Werkelijk % reservering in loonsomfactor | D8: Opbouw loonsomfactor
A9: Basis
A10: Bruto uurloon* | C10: 21.16 | D10: 100
A11: Wachtdagcompensatie | C11: 0 | E11: Grondslag = Bruto loon
A12: Subtotaal | C12: =C11 -> 0 | D12: =C12*D10+D10 -> 100
A14: Reserveringen (mag alleen aangepast worden nav CAO of wettelijke wijzigingen)
A15: Vakantiedagen | C15: 0 | E15: Grondslag = bruto loon + wachtdagcompensatie
A16: Feestdagen | C16: 0 | E16: Grondslag = bruto loon + wachtdagcompensatie
A17: Bijzonder verlof | C17: 0 | E17: Grondslag = bruto loon + wachtdagcompensatie
A18: Kort verzuim | C18: 0 | E18: Grondslag = bruto loon + wachtdagcompensatie
A19: Ziekte | C19: 0
A20: Leeglooprisico | C20: 0 | E20: Grondslag = bruto loon + wachtdagcompensatie
A21: Subtotaal | C21: =SUM(C15:C20) -> 0 | D21: =C21*D12+D12 -> 100
A23: Vakantietoeslag | C23: 0 | E23: Grondslag = bruto loon + wachtdagcompensatie + vakantiedagen + Feestdagen + Kort Verzuim + Ziekte + Leeglooprisico
A24: Subtotaal | C24: =C23 -> 0 | D24: =C24*D21+D21 -> 100
A26: Werkgeverslasten (mag aangepast worden nav wettelijke wijzigingen)
A27: ZVW bijdrage | C27: 0 | E27: Grondslag = Bruto loon + wachtdagcompensatie + reserveringen
A28: Awf (WW) | C28: 0 | E28: Grondslag = Bruto loon + wachtdagcompensatie + reserveringen
A29: Zw.aanv.verzekering | C29: 0 | E29: Grondslag = Bruto loon + wachtdagcompensatie + reserveringen
A30: WAO/WIA basispremie | C30: 0 | E30: Grondslag = Bruto loon + wachtdagcompensatie + reserveringen
A31: ZW gediff, ERD (deel van Whk) | C31: 0 | E31: Grondslag = Bruto loon + wachtdagcompensatie + reserveringen
A32: WGA premie vast (deel van Whk) | C32: 0 | E32: Grondslag = Bruto loon + wachtdagcompensatie + reserveringen
A33: WGA Flex (deel van Whk) | C33: 0 | E33: Grondslag = Bruto loon + wachtdagcompensatie + reserveringen
A34: Pensioen | C34: 0 | E34: Grondslag = Bruto loon + wachtdagcompensatie + reserveringen
A35: Opleiding & Sociaal fonds | C35: 0 | E35: Grondslag = Bruto loon + wachtdagcompensatie + reserveringen
A36: PAWW premie | C36: 0 | E36: Grondslag = Bruto loon + wachtdagcompensatie + reserveringen
A37: Subtotaal | C37: =SUM(C27:C36) -> 0 | D37: =C37*D24+D24 -> 100
A39: Overige werkgeverslasten (mogen gedurende de looptijd van de Raamovereenkomst niet aangepast worden)
A40: Overige kosten | C40: 0 | E40: Grondslag = Bruto loon + wachtdagcompensatie + reserveringen + Wg Lasten
A41: Transitie vergoeding | C41: 0
A42: Subtotaal | C42: =C40+C41 -> 0 | D42: =C42*D37+D37 -> 100
A43: Loonsomfactor excl. BTW | D43: =D42 -> 100
A44: Bureaumarge | D44: 0
A45: Omrekenfactor** | D45: =D43/(100%-D44)/100 -> 1
A47: * Bij de berekening mag inschrijver uitgaan van een bruto uurloon bij een volledig dienstverband van 36 uur passend bij functieschaal 7, trede 11; Cao gemeenten.
A48: ** De omrekenfactor wordt afgerond op twee (2) decimalen. De waarde mag niet kleiner zijn dan 1,75 en niet groter dan 3,00.
A49: *** Indien een onderdeel niet van toepassing is, vul dan 0,00% in.

Sheet 6. Totaal en ondertekening
A1: Versie 1.2; d.d. 9 augustus 2022
A3: Tarievenblad "Flexibele Arbeidskrachten; Uitzenden tot en met schaal 9
A4: Totaal en ondertekening
A6: U dient de groen gearceerde cellen in te vullen!
B9: Tabel 1: Tariefsoorten Uitzenden | C9: Uren | D9: Wegingsfactor | E9: Omrekenfactor*
B10: 1. Fase A/ 1-2 Overeenkomst – regulier | C10: 0-520 uur | D10: 0.45 | E10: =IF(AND( '1. Fase A - regulier '!$D45>=1.75,'1. Fase A - regulier '!$D45,'1. Fase A - regulier '!D45<=3),'1. Fase A - regulier '!$D45,0) -> 0
B11: 2. Fase A/ 1-2 Overeenkomst – verlengd | C11: >520uur | D11: 0.3 | E11: =IF(AND( '2. Fase A - verlengd '!$D45>=1.75,'2. Fase A - verlengd '!$D45,'2. Fase A - verlengd '!D45<=3),'2. Fase A - verlengd '!$D45,0) -> 0
B12: 3. Fase A/ 1-2 Overeenkomst – vakantiekrachten | C12: n.v.t. | D12: 0.02 | E12: =IF(AND( '3. Fase A - vakantiekrachten'!D45>=1.75,'3. Fase A - vakantiekrachten'!D45,'3. Fase A - vakantiekrachten'!D45<=3),'3. Fase A - vakantiekrachten'!D45,0) -> 0
B13: 4. Fase B/C/ 3-4 Overeenkomst - regulier | C13: 0-520 uur | D13: 0.05 | E13: =IF(AND( '4. Fase BC - regulier'!D45>=1.75,'4. Fase BC - regulier'!D45,'4. Fase BC - regulier'!D45<=3),'4. Fase BC - regulier'!D45,0) -> 0
B14: 5. Fase B/C/ 3-4 Overeenkomst - verlengd | C14: >520 uur | D14: 0.15 | E14: =IF(AND( '5. Fase BC - verlengd'!D45>=1.75,'5. Fase BC - verlengd'!D45,'5. Fase BC - verlengd'!D45<=3),'5. Fase BC - verlengd'!D45,0) -> 0
B15: Fase A Overeenkomst – toeslag/overuren | C15: n.v.t. | D15: 0.02 | E15: 1.75
B16: Fase B/C contract – toeslag/overuren | C16: n.v.t. | D16: 0.01 | E16: 1.75
B17: Totale gewogen omrekenfactor: | D17: 1 | E17: =(D10*E10+D11*E11+D12*E12+D13*E13+D14*E14+D15*E15+D16*E16) -> 0.0525
B20: Tabel 2: Berekening score voor gewogen omrekenfactor Uitzenden | C20: Waarde
B21: Totale gewogen omrekenfactor* | C21: =IF(AND(E17>=1.75, E17<=3),E17,0) -> 0
B22: Score voor gewogen omrekenfactor (max. 40 punten)** | C22: =+IF(AND(C21>=1.75,C21<=3),40-(40*((C21-1.75)/(3-1.75)))) -> FALSE
B25: Ondertekening
B26: Inschrijver verklaart door ondertekening van deze inschrijfstaat dat deze met de bepalingen uit deze aanbestedingsleidraad onverkort en onvoorwaardelijk instemt met en bereid is tot de uitvoering van de opdracht overeenkomstig de conceptovereenkomst met annexen, waaronder de vraagspecificatie en de daarbij behorende bijlagen.
B28: Naam :
B29: Functie :
B30: Onderneming :
B31: Handtekening:
B34: Plaats en datum :
B37: * De waarde van de individuele omrekenfactoren en de totale gewogen omrekenfactor mag niet kleiner zijn dan 1,75 en niet groter zijn dan 3,00 op straffe van uitsluiting. Let op: Indien de in te vullen velden afwijken van de bandbreedte, blijven de waardes in Tabel 1 op 0, respectievelijk 1,75 staan, alsook de waarde totaal gewogen omrekenfactor in Tabel 2. De score in tabel 2 geeft dan 'ONWAAR' aan. * De waarde van de omrekenfactor voor verlengde overeenkomsten (>520 uur), afhankelijk van de fase waarin de flexibele arbeidskracht zich bevindt, dient lager te zijn dan de waarde van de omrekenfactor voor reguliere overeenkomsten (<520 uur) conform eis 51 in de vraagspecificatie.
B38: ** De score voor de "totale gewogen omrekenfactor" kan niet kleiner zijn dan 0 en niet groter zijn dan 40.
