Workbook
Name berichtok: '2-Kosten per locatie'!berichtok
Name berichtok: '2-Kosten per locatie'!berichtok
Name berichtoke: '2-Kosten per locatie'!berichtoke
Name berichtoke: '2-Kosten per locatie'!berichtoke
Name berichtoke1: '2-Kosten per locatie'!berichtoke1
Name berichtoke1: '2-Kosten per locatie'!berichtoke1
Name Berkt: '2-Kosten per locatie'!Berkt
Name Berkt: '2-Kosten per locatie'!Berkt
Name einde: '2-Kosten per locatie'!einde
Name einde: '2-Kosten per locatie'!einde
Name Gan_R: '2-Kosten per locatie'!Gan_R
Name Gan_R: '2-Kosten per locatie'!Gan_R
Name gebouw: '2-Kosten per locatie'!$A:$A
Name gebouw: '4-Basis ruimtestaat'!$B:$B
Name glas: '2-Kosten per locatie'!glas
Name glas: '2-Kosten per locatie'!glas
Name glassoort: '[7]10-Glasstaat'!$I$2:$J$14
Name Glassoort2: '[8]10-Glasstaat'!$I$2:$J$14
Name hjkjhkj: [9]Totaaloverzicht!$A$10:$L$37
Name KengCode: '[10]2-Kengetal'!$A$9:$M$56
Name Kengetal: '[7]4-Kengetal'!$A$12:$S$64
Name Kentalnvb: [11]Kengetal!$A$10:$H$58
Name Lijn: '[10]3-Basis ruimtestaat'!$C:$C
Name lll: '[12]3-Basis ruimtestaat'!$O:$O
Name mavr: '[13]3-Basis ruimtestaat'!$M:$M
Name naloop: '[13]3-Basis ruimtestaat'!$N:$N
Name uren_mavr: '4-Basis ruimtestaat'!$M:$M
Name uren_zazofe: '[14]4-Basis ruimtestaat'!$O:$O
Name uurt: [15]Uurtarieven!$F$57
Name VloerK: '[16]Basis ruimtestaat'!$W:$W
Name VloerM: '[16]Basis ruimtestaat'!$K:$V

Sheet Info blad
A1: Info Blad
A2: Instructies voor het invullen van het calculatie model
A4: Op de tabbladen zijn invoervelden opgenomen, deze zijn gekleurd zoals hiernaast afgebeeld | F4: invoerveld
A5: Het is de bedoeling dat de inschrijver alleen deze velden voorziet van informatie. De overige velden mogen niet worden overschreven omdat hier informatie over het project in staat dan wel voorzien zijn van formules.

Sheet 1-Contractblad totaal
A1: Invoervelden
A3: Naam opdrachtgever | B3: Hoogheemraadschap De Stichtse Rijnlanden
A4: Calculatie onderdeel | B4: =MID(CELL("bestandsnaam",$D$10),SEARCH("]",CELL("bestandsnaam",$D$10),1)+1,256) -> 1-Contractblad totaal
A5: Gebouw/plaats | B5: Divers
A6: Referentie nummer | B6: Invoer
A7: Versienummer | B7: Versie 1
A8: Naam dienstverlener
A9: Prijspeil | B9: 45017
A11: Jaarprijs regulier schoonmaakonderhoud
A13: Categorie/medewerker | E13: Percentage | F13: Aantal uren per jaar | G13: Gemiddeld tarief | H13: Prijs per jaar
A14: Medewerker schoonmaak | B14: maandag t/m vrijdag | C14: 06:00 - 21:30 uur | E14: =100% -> 1 | F14: =SUM('4-Basis ruimtestaat'!M:N)*E14 -> #DIV/0! | G14: ='6a-Opbouw uurtarief productie'!E47 -> #DIV/0! | H14: =G14*F14 -> #DIV/0!
A15: Medewerker schoonmaak | B15: maandag t/m vrijdag | C15: Kleinschaligheid | E15: =100% -> 1 | F15: =+'2-Kosten per locatie'!F21+'2-Kosten per locatie'!H21 -> 0 | G15: ='6a-Opbouw uurtarief productie'!E47 -> #DIV/0! | H15: =G15*F15 -> #DIV/0!
C16: Totaal | E16: =SUM(E15:E15) -> 1
A18: Medewerker leiding | B18: maandag t/m vrijdag | C18: 06:00 - 21:30 uur | F18: =SUM(F14)*E18 -> #DIV/0! | G18: ='7-Opbouw uurtarief toezicht'!E47 -> #DIV/0! | H18: =G18*F18 -> #DIV/0!
C19: % t.o.v. productie | E19: =F18/F14 -> #DIV/0!
A21: Gemiddeld tarief inclusief toezicht | B21: maandag t/m vrijdag | C21: 06:00 - 21:30 uur | G21: =(H18+H15+H14)/(F15+F14) -> #DIV/0!
A23: TOTAAL KOSTEN PER JAAR EXCLUSIEF BTW (REGULIER ONDERHOUD) | H23: =SUM(H14:H22) -> #DIV/0!
A24: B.T.W. | G24: 0.21 | H24: =G24*H23 -> #DIV/0!
A25: Totale kosten per jaar inclusief B.T.W. | H25: =H24+H23 -> #DIV/0!
A27: Jaarprijs aanvullende werkzaamheden / extra kosten
A29: ='8-Additionele werkzaamheden'!B4 -> 8-Additionele werkzaamheden | H29: ='8-Additionele werkzaamheden'!I64 -> 0
A31: ='10-Glasbewassing'!B4 -> 10-Glasbewassing | H31: ='10-Glasbewassing'!I19 -> 0
A33: ='11-Machinekosten'!B3 -> 11-Machinekosten | H33: ='11-Machinekosten'!Q28 -> 0
A35: ='12-Sanitaire voorzieningen'!B4 -> 12-Sanitaire voorzieningen | H35: =+'12-Sanitaire voorzieningen'!I27 -> 0
A37: TOTAAL KOSTEN PER JAAR EXCLUSIEF BTW (AANVULLENDE WERKZAAMHEDEN / EXTRA KOSTEN) | H37: =SUM(H28:H36) -> 0
A38: B.T.W. | G38: 0.21 | H38: =G38*H37 -> 0
A39: Totale kosten per jaar inclusief B.T.W. | H39: =H37+H38 -> 0
A41: EINDTOTAAL KOSTEN PER JAAR EXCLUSIEF BTW | F41: BEOORDELINGSBEDRAG | H41: =H37+H23 -> #DIV/0!
A42: B.T.W. | G42: 0.21 | H42: =G42*H41 -> #DIV/0!
A43: Totale kosten per jaar inclusief B.T.W. | H43: =H41+H42 -> #DIV/0!
A45: MAXIMALE BOVENGRENS PLAFONDBEDRAG | H45: 12000
A46: MAXIMALE ONDERGRENS INSCHRIJVINGSBEDRAG * | H46: 10800
A48: SUPPLETIEKOSTEN OVERNAME PERSONEEL (maximum bedrag dat na gunning door de dienstverlener in rekening wordt gebracht)
A50: * De inschrijver draagt er zorg voor dat de totstandkoming van het inschrijvingsbedrag overeenkomt met de onderliggende tabbladen. Indien dit niet het geval is wordt de inschrijving ongeldig verklaard.
A54: * Het door de inschrijver ingediende inschrijfbedrag is de maximale vergoeding voor het gevraagde in de aanbestedingsdocumenten.

Sheet 2-Kosten per locatie
A1: Invoervelden
A3: ='1-Contractblad totaal'!A3 -> Naam opdrachtgever | B3: ='1-Contractblad totaal'!B3 -> Hoogheemraadschap De Stichtse Rijnlanden
A4: ='1-Contractblad totaal'!A4 -> Calculatie onderdeel | B4: =MID(CELL("bestandsnaam",$C$9),SEARCH("]",CELL("bestandsnaam",$C$9),1)+1,256) -> 2-Kosten per locatie
A5: ='1-Contractblad totaal'!A5 -> Gebouw/plaats | B5: ='1-Contractblad totaal'!B5 -> Divers
A6: ='1-Contractblad totaal'!A6 -> Referentie nummer | B6: ='1-Contractblad totaal'!B6 -> Invoer
A7: ='1-Contractblad totaal'!A8 -> Naam dienstverlener | B7: ='1-Contractblad totaal'!B8 -> 0
A8: ='1-Contractblad totaal'!A9 -> Prijspeil | B8: ='1-Contractblad totaal'!B9 -> 45017
E9: PRODUCTIE UREN PER JAAR | I9: TOEZICHT UREN PER JAAR | K9: KOSTEN PER JAAR
A10: Locatie | B10: Adres | C10: Totaal m2 | D10: Hoogste frequentie | E10: ma t/m vr | F10: Kleinschalig heids uren ma t/m vrij | G10: ma t/m vr naloop | H10: Kleinschalig heids uren ma t/m vrij naloop | I10: Toezicht percentage per jaar ma t/m vr | J10: Toezicht uren per jaar ma t/m vr | K10: Kosten productie per jaarincl kleinschaligheid ma t/m vr | L10: Toezicht kosten per jaar ma t/m vr | M10: Machine kosten | N10: Kosten Additioneel per jaar | O10: Kosten glasbewassing per jaar | P10: Kosten sanitaire voorzieningen per jaar | Q10: Totaal kosten per jaar excl. btw | R10: Totaal kosten per maand excl. btw
A11: Waterbeheer (perceel 2)
A12: Gemaal Kromme Rijn | B12: Watermolenweg 2, Wijk bij Duurstede | C12: =SUMIF('4-Basis ruimtestaat'!B:B,'2-Kosten per locatie'!A12,'4-Basis ruimtestaat'!H:H) -> 24 | D12: =_xlfn.MAXIFS('4-Basis ruimtestaat'!K:K,'4-Basis ruimtestaat'!B:B,'2-Kosten per locatie'!A12) -> 52 | E12: =SUMIF('4-Basis ruimtestaat'!B:B,'2-Kosten per locatie'!A12,'4-Basis ruimtestaat'!M:M) -> #DIV/0! | G12: =SUMIF('4-Basis ruimtestaat'!B:B,'2-Kosten per locatie'!A12,'4-Basis ruimtestaat'!N:N) -> 0 | I12: ='1-Contractblad totaal'!$E$18 -> 0 | J12: =(E12+G12)*I12 -> #DIV/0! | K12: =(E12+F12+G12+H12)*'1-Contractblad totaal'!$G$15 -> #DIV/0! | L12: =(J12)*'1-Contractblad totaal'!$G$18 -> #DIV/0! | M12: =+SUMIF('11-Machinekosten'!A:A,A12,'11-Machinekosten'!Q:Q) -> 0 | N12: =+SUMIF('8-Additionele werkzaamheden'!A:A,A12,'8-Additionele werkzaamheden'!I:I) -> 0 | O12: =SUMIF('10-Glasbewassing'!A:A,'2-Kosten per locatie'!A12,'10-Glasbewassing'!I:I) -> 0 | P12: =+SUMIF('12-Sanitaire voorzieningen'!A:A,A12,'12-Sanitaire voorzieningen'!I:I) -> 0 | Q12: =SUM(K12:P12) -> #DIV/0! | R12: =Q12/12 -> #DIV/0!
A13: Dependance werkplaats Utrecht | B13: Atoomweg 500 | C13: =SUMIF('4-Basis ruimtestaat'!B:B,'2-Kosten per locatie'!A13,'4-Basis ruimtestaat'!H:H) -> 410.9 | D13: =_xlfn.MAXIFS('4-Basis ruimtestaat'!K:K,'4-Basis ruimtestaat'!B:B,'2-Kosten per locatie'!A13) -> 52 | E13: =SUMIF('4-Basis ruimtestaat'!B:B,'2-Kosten per locatie'!A13,'4-Basis ruimtestaat'!M:M) -> #DIV/0! | G13: =SUMIF('4-Basis ruimtestaat'!B:B,'2-Kosten per locatie'!A13,'4-Basis ruimtestaat'!N:N) -> 0 | I13: ='1-Contractblad totaal'!$E$18 -> 0 | J13: =(E13+G13)*I13 -> #DIV/0! | K13: =(E13+F13+G13+H13)*'1-Contractblad totaal'!$G$15 -> #DIV/0! | L13: =(J13)*'1-Contractblad totaal'!$G$18 -> #DIV/0! | M13: =+SUMIF('11-Machinekosten'!A:A,A13,'11-Machinekosten'!Q:Q) -> 0 | N13: =+SUMIF('8-Additionele werkzaamheden'!A:A,A13,'8-Additionele werkzaamheden'!I:I) -> 0 | O13: =SUMIF('10-Glasbewassing'!A:A,'2-Kosten per locatie'!A13,'10-Glasbewassing'!I:I) -> 0 | P13: =+SUMIF('12-Sanitaire voorzieningen'!A:A,A13,'12-Sanitaire voorzieningen'!I:I) -> 0 | Q13: =SUM(K13:P13) -> #DIV/0! | R13: =Q13/12 -> #DIV/0!
A14: Gemalen Waterbeheer | B14: Zie aditionele werkzaamheden | C14: =SUMIF('4-Basis ruimtestaat'!B:B,'2-Kosten per locatie'!A14,'4-Basis ruimtestaat'!H:H) -> 0 | D14: =_xlfn.MAXIFS('4-Basis ruimtestaat'!K:K,'4-Basis ruimtestaat'!B:B,'2-Kosten per locatie'!A14) -> 0 | E14: =SUMIF('4-Basis ruimtestaat'!B:B,'2-Kosten per locatie'!A14,'4-Basis ruimtestaat'!M:M) -> 0 | G14: =SUMIF('4-Basis ruimtestaat'!B:B,'2-Kosten per locatie'!A14,'4-Basis ruimtestaat'!N:N) -> 0 | I14: ='1-Contractblad totaal'!$E$18 -> 0 | J14: =(E14+G14)*I14 -> 0 | K14: =(E14+F14+G14+H14)*'1-Contractblad totaal'!$G$15 -> #DIV/0! | L14: =(J14)*'1-Contractblad totaal'!$G$18 -> #DIV/0! | M14: =+SUMIF('11-Machinekosten'!A:A,A14,'11-Machinekosten'!Q:Q) -> 0 | N14: =+SUMIF('8-Additionele werkzaamheden'!A:A,A14,'8-Additionele werkzaamheden'!I:I) -> 0 | O14: =SUMIF('10-Glasbewassing'!A:A,'2-Kosten per locatie'!A14,'10-Glasbewassing'!I:I) -> 0 | P14: =+SUMIF('12-Sanitaire voorzieningen'!A:A,A14,'12-Sanitaire voorzieningen'!I:I) -> 0 | Q14: =SUM(K14:P14) -> #DIV/0! | R14: =Q14/12 -> #DIV/0!
A15: Muskusrattenbeheer (perceel 2)
A16: MRB Trappershome Houten | B16: De Brug 13 | C16: =SUMIF('4-Basis ruimtestaat'!B:B,'2-Kosten per locatie'!A16,'4-Basis ruimtestaat'!H:H) -> 310.81 | D16: =_xlfn.MAXIFS('4-Basis ruimtestaat'!K:K,'4-Basis ruimtestaat'!B:B,'2-Kosten per locatie'!A16) -> 52 | E16: =SUMIF('4-Basis ruimtestaat'!B:B,'2-Kosten per locatie'!A16,'4-Basis ruimtestaat'!M:M) -> #DIV/0! | G16: =SUMIF('4-Basis ruimtestaat'!B:B,'2-Kosten per locatie'!A16,'4-Basis ruimtestaat'!N:N) -> 0 | I16: ='1-Contractblad totaal'!$E$18 -> 0 | J16: =(E16+G16)*I16 -> #DIV/0! | K16: =(E16+F16+G16+H16)*'1-Contractblad totaal'!$G$15 -> #DIV/0! | L16: =(J16)*'1-Contractblad totaal'!$G$18 -> #DIV/0! | M16: =+SUMIF('11-Machinekosten'!A:A,A16,'11-Machinekosten'!Q:Q) -> 0 | N16: =+SUMIF('8-Additionele werkzaamheden'!A:A,A16,'8-Additionele werkzaamheden'!I:I) -> 0 | O16: =SUMIF('10-Glasbewassing'!A:A,'2-Kosten per locatie'!A16,'10-Glasbewassing'!I:I) -> 0 | P16: =+SUMIF('12-Sanitaire voorzieningen'!A:A,A16,'12-Sanitaire voorzieningen'!I:I) -> 0 | Q16: =SUM(K16:P16) -> #DIV/0! | R16: =Q16/12 -> #DIV/0!
A17: MRB Montfoort | B17: Waardsedijk 14a | C17: =SUMIF('4-Basis ruimtestaat'!B:B,'2-Kosten per locatie'!A17,'4-Basis ruimtestaat'!H:H) -> 173.7 | D17: =_xlfn.MAXIFS('4-Basis ruimtestaat'!K:K,'4-Basis ruimtestaat'!B:B,'2-Kosten per locatie'!A17) -> 52 | E17: =SUMIF('4-Basis ruimtestaat'!B:B,'2-Kosten per locatie'!A17,'4-Basis ruimtestaat'!M:M) -> #DIV/0! | G17: =SUMIF('4-Basis ruimtestaat'!B:B,'2-Kosten per locatie'!A17,'4-Basis ruimtestaat'!N:N) -> 0 | I17: ='1-Contractblad totaal'!$E$18 -> 0 | J17: =(E17+G17)*I17 -> #DIV/0! | K17: =(E17+F17+G17+H17)*'1-Contractblad totaal'!$G$15 -> #DIV/0! | L17: =(J17)*'1-Contractblad totaal'!$G$18 -> #DIV/0! | M17: =+SUMIF('11-Machinekosten'!A:A,A17,'11-Machinekosten'!Q:Q) -> 0 | N17: =+SUMIF('8-Additionele werkzaamheden'!A:A,A17,'8-Additionele werkzaamheden'!I:I) -> 0 | O17: =SUMIF('10-Glasbewassing'!A:A,'2-Kosten per locatie'!A17,'10-Glasbewassing'!I:I) -> 0 | P17: =+SUMIF('12-Sanitaire voorzieningen'!A:A,A17,'12-Sanitaire voorzieningen'!I:I) -> 0 | Q17: =SUM(K17:P17) -> #DIV/0! | R17: =Q17/12 -> #DIV/0!
A18: MRB Breukelen | B18: Keulsevaart 6 | C18: =SUMIF('4-Basis ruimtestaat'!B:B,'2-Kosten per locatie'!A18,'4-Basis ruimtestaat'!H:H) -> 99.2 | D18: =_xlfn.MAXIFS('4-Basis ruimtestaat'!K:K,'4-Basis ruimtestaat'!B:B,'2-Kosten per locatie'!A18) -> 26 | E18: =SUMIF('4-Basis ruimtestaat'!B:B,'2-Kosten per locatie'!A18,'4-Basis ruimtestaat'!M:M) -> #DIV/0! | G18: =SUMIF('4-Basis ruimtestaat'!B:B,'2-Kosten per locatie'!A18,'4-Basis ruimtestaat'!N:N) -> 0 | I18: ='1-Contractblad totaal'!$E$18 -> 0 | J18: =(E18+G18)*I18 -> #DIV/0! | K18: =(E18+F18+G18+H18)*'1-Contractblad totaal'!$G$15 -> #DIV/0! | L18: =(J18)*'1-Contractblad totaal'!$G$18 -> #DIV/0! | M18: =+SUMIF('11-Machinekosten'!A:A,A18,'11-Machinekosten'!Q:Q) -> 0 | N18: =+SUMIF('8-Additionele werkzaamheden'!A:A,A18,'8-Additionele werkzaamheden'!I:I) -> 0 | O18: =SUMIF('10-Glasbewassing'!A:A,'2-Kosten per locatie'!A18,'10-Glasbewassing'!I:I) -> 0 | P18: =+SUMIF('12-Sanitaire voorzieningen'!A:A,A18,'12-Sanitaire voorzieningen'!I:I) -> 0 | Q18: =SUM(K18:P18) -> #DIV/0! | R18: =Q18/12 -> #DIV/0!
A19: MRB Woerden | B19: Barwoutsewaarder | C19: =SUMIF('4-Basis ruimtestaat'!B:B,'2-Kosten per locatie'!A19,'4-Basis ruimtestaat'!H:H) -> 103.5 | D19: =_xlfn.MAXIFS('4-Basis ruimtestaat'!K:K,'4-Basis ruimtestaat'!B:B,'2-Kosten per locatie'!A19) -> 52 | E19: =SUMIF('4-Basis ruimtestaat'!B:B,'2-Kosten per locatie'!A19,'4-Basis ruimtestaat'!M:M) -> #DIV/0! | G19: =SUMIF('4-Basis ruimtestaat'!B:B,'2-Kosten per locatie'!A19,'4-Basis ruimtestaat'!N:N) -> 0 | I19: ='1-Contractblad totaal'!$E$18 -> 0 | J19: =(E19+G19)*I19 -> #DIV/0! | K19: =(E19+F19+G19+H19)*'1-Contractblad totaal'!$G$15 -> #DIV/0! | L19: =(J19)*'1-Contractblad totaal'!$G$18 -> #DIV/0! | M19: =+SUMIF('11-Machinekosten'!A:A,A19,'11-Machinekosten'!Q:Q) -> 0 | N19: =+SUMIF('8-Additionele werkzaamheden'!A:A,A19,'8-Additionele werkzaamheden'!I:I) -> 0 | O19: =SUMIF('10-Glasbewassing'!A:A,'2-Kosten per locatie'!A19,'10-Glasbewassing'!I:I) -> 0 | P19: =+SUMIF('12-Sanitaire voorzieningen'!A:A,A19,'12-Sanitaire voorzieningen'!I:I) -> 0 | Q19: =SUM(K19:P19) -> #DIV/0! | R19: =Q19/12 -> #DIV/0!
A20: Muskusrattenbeheer | B20: Barwoutsewaarder | C20: =SUMIF('4-Basis ruimtestaat'!B:B,'2-Kosten per locatie'!A20,'4-Basis ruimtestaat'!H:H) -> 0 | D20: =_xlfn.MAXIFS('4-Basis ruimtestaat'!K:K,'4-Basis ruimtestaat'!B:B,'2-Kosten per locatie'!A20) -> 0 | E20: =SUMIF('4-Basis ruimtestaat'!B:B,'2-Kosten per locatie'!A20,'4-Basis ruimtestaat'!M:M) -> 0 | G20: =SUMIF('4-Basis ruimtestaat'!B:B,'2-Kosten per locatie'!A20,'4-Basis ruimtestaat'!N:N) -> 0 | I20: ='1-Contractblad totaal'!$E$18 -> 0 | J20: =(E20+G20)*I20 -> 0 | K20: =(E20+F20+G20+H20)*'1-Contractblad totaal'!$G$15 -> #DIV/0! | L20: =(J20)*'1-Contractblad totaal'!$G$18 -> #DIV/0! | M20: =+SUMIF('11-Machinekosten'!A:A,A20,'11-Machinekosten'!Q:Q) -> 0 | N20: =+SUMIF('8-Additionele werkzaamheden'!A:A,A20,'8-Additionele werkzaamheden'!I:I) -> 0 | O20: =SUMIF('10-Glasbewassing'!A:A,'2-Kosten per locatie'!A20,'10-Glasbewassing'!I:I) -> 0 | P20: =+SUMIF('12-Sanitaire voorzieningen'!A:A,A20,'12-Sanitaire voorzieningen'!I:I) -> 0 | Q20: =SUM(K20:P20) -> #DIV/0! | R20: =Q20/12 -> #DIV/0!
A21: Totaal | C21: =SUM(C11:C20) -> 1122.11 | E21: =SUM(E11:E20) -> #DIV/0! | F21: =SUM(F11:F20) -> 0 | G21: =SUM(G11:G20) -> 0 | H21: =SUM(H11:H20) -> 0 | J21: =SUM(J11:J20) -> #DIV/0! | K21: =SUM(K11:K20) -> #DIV/0! | L21: =SUM(L11:L20) -> #DIV/0! | M21: =SUM(M11:M20) -> 0 | N21: =SUM(N11:N20) -> 0 | O21: =SUM(O11:O20) -> 0 | P21: =SUM(P11:P20) -> 0 | Q21: =SUM(Q11:Q20) -> #DIV/0! | R21: =SUM(R11:R20) -> #DIV/0!

Sheet 3-Productie normen
A1: Invoervelden
A3: ='1-Contractblad totaal'!A3 -> Naam opdrachtgever | B3: ='1-Contractblad totaal'!B3 -> Hoogheemraadschap De Stichtse Rijnlanden
A4: Calculatie onderdeel | B4: =MID(CELL("bestandsnaam",$B$7),SEARCH("]",CELL("bestandsnaam",$B$7),1)+1,256) -> 3-Productie normen
A5: ='1-Contractblad totaal'!A5 -> Gebouw/plaats | B5: ='1-Contractblad totaal'!B5 -> Divers
A6: ='1-Contractblad totaal'!A8 -> Naam dienstverlener | B6: ='1-Contractblad totaal'!B6 -> Invoer | E6: Gewogen prestatie | G6: =SUM('4-Basis ruimtestaat'!T:T)/SUM('4-Basis ruimtestaat'!M:N) -> #DIV/0! | I6: m2/uur
A8: Frequentie van uitvoering (per jaar): | B8: 26 | C8: 52 | D8: 104 | E8: 156 | F8: 208 | G8: 255 | L8: nvt
A9: Ruimtecategorie | B9: Prestatienorm in aantal m2 per uur | I9: VSR Code | K9: M2 Totaal | L9: Naloop opslag
A10: Administratieve ruimten | I10: B | K10: =SUMIF('4-Basis ruimtestaat'!F:F,'3-Productie normen'!A10,'4-Basis ruimtestaat'!H:H) -> 369.5
A11: Entree | I11: V | K11: =SUMIF('4-Basis ruimtestaat'!F:F,'3-Productie normen'!A11,'4-Basis ruimtestaat'!H:H) -> 8.3
A12: Laboratorium | I12: Sp | K12: =SUMIF('4-Basis ruimtestaat'!F:F,'3-Productie normen'!A12,'4-Basis ruimtestaat'!H:H) -> 0 | P12: Freq | Q12: Kolom | S12: Frequentie verklaring
A13: Pantry/keuken | I13: V | K13: =SUMIF('4-Basis ruimtestaat'!F:F,'3-Productie normen'!A13,'4-Basis ruimtestaat'!H:H) -> 159.8 | P13: 26 | Q13: 2 | S13: 1 x per 2 weken
A14: Sanitaire ruimten | I14: S | K14: =SUMIF('4-Basis ruimtestaat'!F:F,'3-Productie normen'!A14,'4-Basis ruimtestaat'!H:H) -> 43.81 | P14: 52 | Q14: 3 | S14: 1 x per week (52 weken)
A15: Trappenhuis | I15: V | K15: =SUMIF('4-Basis ruimtestaat'!F:F,'3-Productie normen'!A15,'4-Basis ruimtestaat'!H:H) -> 8.9 | P15: 104 | Q15: 4 | S15: 2 x per week (52 weken)
A16: Verkeersruimten | I16: B | K16: =SUMIF('4-Basis ruimtestaat'!F:F,'3-Productie normen'!A16,'4-Basis ruimtestaat'!H:H) -> 200.8 | P16: 156 | Q16: 5 | S16: 3 x per week (52 weken)
P17: 208 | Q17: 6 | S17: 4 x per week (52 weken)
P18: 255 | Q18: 7 | S18: 5 x per week (52 weken)
A20: door cateraar | K20: =SUMIF('4-Basis ruimtestaat'!F:F,'3-Productie normen'!A20,'4-Basis ruimtestaat'!H:H) -> 0
A21: op afroep | K21: =SUMIF('4-Basis ruimtestaat'!F:F,'3-Productie normen'!A21,'4-Basis ruimtestaat'!H:H) -> 331
A22: Nio | K22: =SUMIF('4-Basis ruimtestaat'!F:F,'3-Productie normen'!A22,'4-Basis ruimtestaat'!H:H) -> 0
A24: Totaal | K24: =SUM(K10:K23) -> 1122.11
A27: Kolom voor matrix | B27: 2 | C27: 3 | D27: 4 | E27: 5 | F27: 6 | G27: 7

Sheet 4-Basis ruimtestaat
B1: Invoervelden
A2: 2
A3: 3 | B3: ='1-Contractblad totaal'!A3 -> Naam opdrachtgever | C3: ='1-Contractblad totaal'!B3 -> Hoogheemraadschap De Stichtse Rijnlanden
A4: 4 | B4: ='1-Contractblad totaal'!A4 -> Calculatie onderdeel | C4: =MID(CELL("bestandsnaam",$D$9),SEARCH("]",CELL("bestandsnaam",$D$9),1)+1,256) -> 4-Basis ruimtestaat
A5: 5 | B5: ='1-Contractblad totaal'!A5 -> Gebouw/plaats | C5: ='1-Contractblad totaal'!B5 -> Divers
A6: 6 | B6: ='1-Contractblad totaal'!A6 -> Referentie nummer | C6: ='1-Contractblad totaal'!B6 -> Invoer | P6: % van reguliere norm
A7: 7 | B7: ='1-Contractblad totaal'!A8 -> Naam dienstverlener | C7: ='1-Contractblad totaal'!B8 -> 0
A8: 8 | P8: ='3-Productie normen'!L8 -> nvt
A9: 9 | B9: Gebouw | C9: Perceel | D9: Verdieping/ Gebouw/ruimtenummer | E9: Ruimteomschrijving opdrachtgever | F9: Ruimte categorie | G9: Vloer soort | H9: M2 vloer | I9: Correctie factor ma t/m vr | J9: Correctie factor naloop | K9: Freq. ma-vr | L9: Freq. ma-vr naloop | M9: Uren p/j ma t/m vrij | N9: Uren p/j ma t/m vrij naloop | O9: Norm ma t/m vr | P9: Norm ma t/m vr naloop | Q9: VSR code | R9: Bijzonderheden / opmerkingen | T9: M2 per jaar
A10: 10 | B10: Gemaal Kromme Rijn | C10: Waterbeheer | D10: BG | E10: Keuken | F10: Pantry/keuken | G10: Linoleum | H10: 24 | I10: 1 | J10: 1 | K10: 52 | M10: =IF(K10="nio",0,IF(K10>0,K10*H10/O10,0))*I10 -> #DIV/0! | N10: =IF(L10>0,L10*H10/P10,0)*J10 -> 0 | O10: =IF(K10="nio",0,IF(K10>0,VLOOKUP(F10,'3-Productie normen'!A:M,VLOOKUP(K10,'3-Productie normen'!P:Q,2,FALSE),FALSE))) -> 0 | P10: =IF(L10>0,O10*$P$8,0) -> 0 | Q10: =VLOOKUP(F10,'3-Productie normen'!A:I,9,FALSE) -> V | T10: =SUM(K10:L10)*H10 -> 1248
A11: 11 | B11: Gemaal Kromme Rijn | C11: Waterbeheer | D11: BG | E11: Toilet | F11: Sanitaire ruimten | I11: 1 | J11: 1 | K11: 52 | M11: =IF(K11="nio",0,IF(K11>0,K11*H11/O11,0))*I11 -> #DIV/0! | N11: =IF(L11>0,L11*H11/P11,0)*J11 -> 0 | O11: =IF(K11="nio",0,IF(K11>0,VLOOKUP(F11,'3-Productie normen'!A:M,VLOOKUP(K11,'3-Productie normen'!P:Q,2,FALSE),FALSE))) -> 0 | P11: =IF(L11>0,O11*$P$8,0) -> 0 | Q11: =VLOOKUP(F11,'3-Productie normen'!A:I,9,FALSE) -> S | T11: =SUM(K11:L11)*H11 -> 0
A12: 12 | B12: Dependance werkplaats Utrecht | C12: Waterbeheer | D12: BG | E12: Hal | F12: Verkeersruimten | G12: Marmer tegels | H12: 41 | I12: 1 | J12: 1 | K12: 52 | M12: =IF(K12="nio",0,IF(K12>0,K12*H12/O12,0))*I12 -> #DIV/0! | N12: =IF(L12>0,L12*H12/P12,0)*J12 -> 0 | O12: =IF(K12="nio",0,IF(K12>0,VLOOKUP(F12,'3-Productie normen'!A:M,VLOOKUP(K12,'3-Productie normen'!P:Q,2,FALSE),FALSE))) -> 0 | P12: =IF(L12>0,O12*$P$8,0) -> 0 | Q12: =VLOOKUP(F12,'3-Productie normen'!A:I,9,FALSE) -> B | T12: =SUM(K12:L12)*H12 -> 2132
A13: 13 | B13: Dependance werkplaats Utrecht | C13: Waterbeheer | D13: BG | E13: Gang | F13: Verkeersruimten | G13: marmer+matten | H13: 7 | I13: 1 | J13: 1 | K13: 52 | M13: =IF(K13="nio",0,IF(K13>0,K13*H13/O13,0))*I13 -> #DIV/0! | N13: =IF(L13>0,L13*H13/P13,0)*J13 -> 0 | O13: =IF(K13="nio",0,IF(K13>0,VLOOKUP(F13,'3-Productie normen'!A:M,VLOOKUP(K13,'3-Productie normen'!P:Q,2,FALSE),FALSE))) -> 0 | P13: =IF(L13>0,O13*$P$8,0) -> 0 | Q13: =VLOOKUP(F13,'3-Productie normen'!A:I,9,FALSE) -> B | T13: =SUM(K13:L13)*H13 -> 364
A14: 14 | B14: Dependance werkplaats Utrecht | C14: Waterbeheer | D14: BG | E14: toilet/urinoir/douche | F14: Sanitaire ruimten | G14: tegels | H14: 10 | I14: 1 | J14: 1 | K14: 52 | M14: =IF(K14="nio",0,IF(K14>0,K14*H14/O14,0))*I14 -> #DIV/0! | N14: =IF(L14>0,L14*H14/P14,0)*J14 -> 0 | O14: =IF(K14="nio",0,IF(K14>0,VLOOKUP(F14,'3-Productie normen'!A:M,VLOOKUP(K14,'3-Productie normen'!P:Q,2,FALSE),FALSE))) -> 0 | P14: =IF(L14>0,O14*$P$8,0) -> 0 | Q14: =VLOOKUP(F14,'3-Productie normen'!A:I,9,FALSE) -> S | T14: =SUM(K14:L14)*H14 -> 520
A15: 15 | B15: Dependance werkplaats Utrecht | C15: Waterbeheer | D15: BG | E15: Vergaderruimte + keukenblok | F15: Administratieve ruimten | G15: vloerbedekking | H15: 115 | I15: 1 | J15: 1 | K15: 52 | M15: =IF(K15="nio",0,IF(K15>0,K15*H15/O15,0))*I15 -> #DIV/0! | N15: =IF(L15>0,L15*H15/P15,0)*J15 -> 0 | O15: =IF(K15="nio",0,IF(K15>0,VLOOKUP(F15,'3-Productie normen'!A:M,VLOOKUP(K15,'3-Productie normen'!P:Q,2,FALSE),FALSE))) -> 0 | P15: =IF(L15>0,O15*$P$8,0) -> 0 | Q15: =VLOOKUP(F15,'3-Productie normen'!A:I,9,FALSE) -> B | T15: =SUM(K15:L15)*H15 -> 5980
A16: 16 | B16: Dependance werkplaats Utrecht | C16: Waterbeheer | D16: BG | E16: trappen (huis) | F16: Trappenhuis | G16: tegels/hout | H16: 8.9 | I16: 1 | J16: 1 | K16: 52 | M16: =IF(K16="nio",0,IF(K16>0,K16*H16/O16,0))*I16 -> #DIV/0! | N16: =IF(L16>0,L16*H16/P16,0)*J16 -> 0 | O16: =IF(K16="nio",0,IF(K16>0,VLOOKUP(F16,'3-Productie normen'!A:M,VLOOKUP(K16,'3-Productie normen'!P:Q,2,FALSE),FALSE))) -> 0 | P16: =IF(L16>0,O16*$P$8,0) -> 0 | Q16: =VLOOKUP(F16,'3-Productie normen'!A:I,9,FALSE) -> V | T16: =SUM(K16:L16)*H16 -> 462.8
A17: 17 | B17: Dependance werkplaats Utrecht | C17: Waterbeheer | D17: 1e | E17: Overloop | F17: Verkeersruimten | G17: Marmer tegels | H17: 25 | I17: 1 | J17: 1 | K17: 52 | M17: =IF(K17="nio",0,IF(K17>0,K17*H17/O17,0))*I17 -> #DIV/0! | N17: =IF(L17>0,L17*H17/P17,0)*J17 -> 0 | O17: =IF(K17="nio",0,IF(K17>0,VLOOKUP(F17,'3-Productie normen'!A:M,VLOOKUP(K17,'3-Productie normen'!P:Q,2,FALSE),FALSE))) -> 0 | P17: =IF(L17>0,O17*$P$8,0) -> 0 | Q17: =VLOOKUP(F17,'3-Productie normen'!A:I,9,FALSE) -> B | T17: =SUM(K17:L17)*H17 -> 1300
A18: 18 | B18: Dependance werkplaats Utrecht | C18: Waterbeheer | D18: 1e | E18: Kantoor 1 | F18: Administratieve ruimten | G18: vloerbedekking | H18: 29 | I18: 1 | J18: 1 | K18: 52 | M18: =IF(K18="nio",0,IF(K18>0,K18*H18/O18,0))*I18 -> #DIV/0! | N18: =IF(L18>0,L18*H18/P18,0)*J18 -> 0 | O18: =IF(K18="nio",0,IF(K18>0,VLOOKUP(F18,'3-Productie normen'!A:M,VLOOKUP(K18,'3-Productie normen'!P:Q,2,FALSE),FALSE))) -> 0 | P18: =IF(L18>0,O18*$P$8,0) -> 0 | Q18: =VLOOKUP(F18,'3-Productie normen'!A:I,9,FALSE) -> B | T18: =SUM(K18:L18)*H18 -> 1508
A19: 19 | B19: Dependance werkplaats Utrecht | C19: Waterbeheer | D19: 1e | E19: Kantoor 2 | F19: Administratieve ruimten | G19: vloerbedekking | H19: 57 | I19: 1 | J19: 1 | K19: 52 | M19: =IF(K19="nio",0,IF(K19>0,K19*H19/O19,0))*I19 -> #DIV/0! | N19: =IF(L19>0,L19*H19/P19,0)*J19 -> 0 | O19: =IF(K19="nio",0,IF(K19>0,VLOOKUP(F19,'3-Productie normen'!A:M,VLOOKUP(K19,'3-Productie normen'!P:Q,2,FALSE),FALSE))) -> 0 | P19: =IF(L19>0,O19*$P$8,0) -> 0 | Q19: =VLOOKUP(F19,'3-Productie normen'!A:I,9,FALSE) -> B | T19: =SUM(K19:L19)*H19 -> 2964
A20: 20 | B20: Dependance werkplaats Utrecht | C20: Waterbeheer | D20: 1e | E20: Overloop | F20: Verkeersruimten | G20: tegels | H20: 7 | I20: 1 | J20: 1 | K20: 52 | M20: =IF(K20="nio",0,IF(K20>0,K20*H20/O20,0))*I20 -> #DIV/0! | N20: =IF(L20>0,L20*H20/P20,0)*J20 -> 0 | O20: =IF(K20="nio",0,IF(K20>0,VLOOKUP(F20,'3-Productie normen'!A:M,VLOOKUP(K20,'3-Productie normen'!P:Q,2,FALSE),FALSE))) -> 0 | P20: =IF(L20>0,O20*$P$8,0) -> 0 | Q20: =VLOOKUP(F20,'3-Productie normen'!A:I,9,FALSE) -> B | T20: =SUM(K20:L20)*H20 -> 364
A21: 21 | B21: Dependance werkplaats Utrecht | C21: Waterbeheer | D21: 1e | E21: Toilet ruimte | F21: Sanitaire ruimten | G21: Marmer tegels | H21: 5 | I21: 1 | J21: 1 | K21: 52 | M21: =IF(K21="nio",0,IF(K21>0,K21*H21/O21,0))*I21 -> #DIV/0! | N21: =IF(L21>0,L21*H21/P21,0)*J21 -> 0 | O21: =IF(K21="nio",0,IF(K21>0,VLOOKUP(F21,'3-Productie normen'!A:M,VLOOKUP(K21,'3-Productie normen'!P:Q,2,FALSE),FALSE))) -> 0 | P21: =IF(L21>0,O21*$P$8,0) -> 0 | Q21: =VLOOKUP(F21,'3-Productie normen'!A:I,9,FALSE) -> S | T21: =SUM(K21:L21)*H21 -> 260
A22: 22 | B22: Dependance werkplaats Utrecht | C22: Waterbeheer | D22: 1e | E22: Kantine+keukenblok | F22: Pantry/keuken | G22: vloerbedekking/ linoleum | H22: 76 | I22: 1 | J22: 1 | K22: 52 | M22: =IF(K22="nio",0,IF(K22>0,K22*H22/O22,0))*I22 -> #DIV/0! | N22: =IF(L22>0,L22*H22/P22,0)*J22 -> 0 | O22: =IF(K22="nio",0,IF(K22>0,VLOOKUP(F22,'3-Productie normen'!A:M,VLOOKUP(K22,'3-Productie normen'!P:Q,2,FALSE),FALSE))) -> 0 | P22: =IF(L22>0,O22*$P$8,0) -> 0 | Q22: =VLOOKUP(F22,'3-Productie normen'!A:I,9,FALSE) -> V | T22: =SUM(K22:L22)*H22 -> 3952
A23: 23 | B23: Dependance werkplaats Utrecht | C23: Waterbeheer | D23: 1e | E23: vergaderruimte (achter kantine) | F23: Administratieve ruimten | G23: vloerbedekking | H23: 30 | I23: 1 | J23: 1 | K23: 52 | M23: =IF(K23="nio",0,IF(K23>0,K23*H23/O23,0))*I23 -> #DIV/0! | N23: =IF(L23>0,L23*H23/P23,0)*J23 -> 0 | O23: =IF(K23="nio",0,IF(K23>0,VLOOKUP(F23,'3-Productie normen'!A:M,VLOOKUP(K23,'3-Productie normen'!P:Q,2,FALSE),FALSE))) -> 0 | P23: =IF(L23>0,O23*$P$8,0) -> 0 | Q23: =VLOOKUP(F23,'3-Productie normen'!A:I,9,FALSE) -> B | T23: =SUM(K23:L23)*H23 -> 1560
... A28: 28 | B28: MRB Trappershome Houten | C28: MRB | D28: BG | E28: Werkplaats | F28: Verkeersruimten | G28: Beton | H28: 60 | I28: 1 | J28: 1 | K28: 26 | M28: =IF(K28="nio",0,IF(K28>0,K28*H28/O28,0))*I28 -> #DIV/0! | N28: =IF(L28>0,L28*H28/P28,0)*J28 -> 0 | O28: =IF(K28="nio",0,IF(K28>0,VLOOKUP(F28,'3-Productie normen'!A:M,VLOOKUP(K28,'3-Productie normen'!P:Q,2,FALSE),FALSE))) -> 0 | P28: =IF(L28>0,O28*$P$8,0) -> 0 | Q28: =VLOOKUP(F28,'3-Productie normen'!A:I,9,FALSE) -> B | T28: =SUM(K28:L28)*H28 -> 1560
A29: 29 | B29: MRB Trappershome Houten | C29: MRB | D29: BG | E29: Opslag | F29: Op afroep | G29: Beton | H29: 115 | I29: 1 | J29: 1 | K29: nio | M29: =IF(K29="nio",0,IF(K29>0,K29*H29/O29,0))*I29 -> 0 | N29: =IF(L29>0,L29*H29/P29,0)*J29 -> 0 | O29: =IF(K29="nio",0,IF(K29>0,VLOOKUP(F29,'3-Productie normen'!A:M,VLOOKUP(K29,'3-Productie normen'!P:Q,2,FALSE),FALSE))) -> 0 | P29: =IF(L29>0,O29*$P$8,0) -> 0 | Q29: =VLOOKUP(F29,'3-Productie normen'!A:I,9,FALSE) -> 0 | T29: =SUM(K29:L29)*H29 -> 0
A30: 30 | B30: MRB Trappershome Houten | C30: MRB | D30: 1e | E30: Magazijn zolder | F30: Op afroep | G30: hout | H30: 70 | I30: 1 | J30: 1 | K30: nio | M30: =IF(K30="nio",0,IF(K30>0,K30*H30/O30,0))*I30 -> 0 | N30: =IF(L30>0,L30*H30/P30,0)*J30 -> 0 | O30: =IF(K30="nio",0,IF(K30>0,VLOOKUP(F30,'3-Productie normen'!A:M,VLOOKUP(K30,'3-Productie normen'!P:Q,2,FALSE),FALSE))) -> 0 | P30: =IF(L30>0,O30*$P$8,0) -> 0 | Q30: =VLOOKUP(F30,'3-Productie normen'!A:I,9,FALSE) -> 0 | T30: =SUM(K30:L30)*H30 -> 0
A31: 31 | B31: MRB Trappershome Houten | C31: MRB | D31: 1e | E31: flexplek/kantoor ( zolder) | F31: Administratieve ruimten | H31: 14.5 | I31: 1 | J31: 1 | K31: 52 | M31: =IF(K31="nio",0,IF(K31>0,K31*H31/O31,0))*I31 -> #DIV/0! | N31: =IF(L31>0,L31*H31/P31,0)*J31 -> 0 | O31: =IF(K31="nio",0,IF(K31>0,VLOOKUP(F31,'3-Productie normen'!A:M,VLOOKUP(K31,'3-Productie normen'!P:Q,2,FALSE),FALSE))) -> 0 | P31: =IF(L31>0,O31*$P$8,0) -> 0 | Q31: =VLOOKUP(F31,'3-Productie normen'!A:I,9,FALSE) -> B | T31: =SUM(K31:L31)*H31 -> 754
A32: 32 | B32: MRB Montfoort | C32: MRB | D32: BG | E32: entree | F32: Entree | G32: Marmer tegels/deurmat | H32: 8.3 | I32: 1 | J32: 1 | K32: 52 | M32: =IF(K32="nio",0,IF(K32>0,K32*H32/O32,0))*I32 -> #DIV/0! | N32: =IF(L32>0,L32*H32/P32,0)*J32 -> 0 | O32: =IF(K32="nio",0,IF(K32>0,VLOOKUP(F32,'3-Productie normen'!A:M,VLOOKUP(K32,'3-Productie normen'!P:Q,2,FALSE),FALSE))) -> 0 | P32: =IF(L32>0,O32*$P$8,0) -> 0 | Q32: =VLOOKUP(F32,'3-Productie normen'!A:I,9,FALSE) -> V | T32: =SUM(K32:L32)*H32 -> 431.6
A33: 33 | B33: MRB Montfoort | C33: MRB | D33: BG | E33: vergaderruimte / keuken | F33: Administratieve ruimten | G33: Marmer tegels | H33: 93 | I33: 1 | J33: 1 | K33: 52 | M33: =IF(K33="nio",0,IF(K33>0,K33*H33/O33,0))*I33 -> #DIV/0! | N33: =IF(L33>0,L33*H33/P33,0)*J33 -> 0 | O33: =IF(K33="nio",0,IF(K33>0,VLOOKUP(F33,'3-Productie normen'!A:M,VLOOKUP(K33,'3-Productie normen'!P:Q,2,FALSE),FALSE))) -> 0 | P33: =IF(L33>0,O33*$P$8,0) -> 0 | Q33: =VLOOKUP(F33,'3-Productie normen'!A:I,9,FALSE) -> B | T33: =SUM(K33:L33)*H33 -> 4836
A34: 34 | B34: MRB Montfoort | C34: MRB | D34: BG | E34: hal+toilet | F34: Verkeersruimten | G34: tegels, deurmat | H34: 7.2 | I34: 1 | J34: 1 | K34: 52 | M34: =IF(K34="nio",0,IF(K34>0,K34*H34/O34,0))*I34 -> #DIV/0! | N34: =IF(L34>0,L34*H34/P34,0)*J34 -> 0 | O34: =IF(K34="nio",0,IF(K34>0,VLOOKUP(F34,'3-Productie normen'!A:M,VLOOKUP(K34,'3-Productie normen'!P:Q,2,FALSE),FALSE))) -> 0 | P34: =IF(L34>0,O34*$P$8,0) -> 0 | Q34: =VLOOKUP(F34,'3-Productie normen'!A:I,9,FALSE) -> B | T34: =SUM(K34:L34)*H34 -> 374.4
A35: 35 | B35: MRB Montfoort | C35: MRB | D35: 1e | E35: zolderruimte | F35: Verkeersruimten | G35: Linoleum | H35: 13 | I35: 1 | J35: 1 | K35: 52 | M35: =IF(K35="nio",0,IF(K35>0,K35*H35/O35,0))*I35 -> #DIV/0! | N35: =IF(L35>0,L35*H35/P35,0)*J35 -> 0 | O35: =IF(K35="nio",0,IF(K35>0,VLOOKUP(F35,'3-Productie normen'!A:M,VLOOKUP(K35,'3-Productie normen'!P:Q,2,FALSE),FALSE))) -> 0 | P35: =IF(L35>0,O35*$P$8,0) -> 0 | Q35: =VLOOKUP(F35,'3-Productie normen'!A:I,9,FALSE) -> B | T35: =SUM(K35:L35)*H35 -> 676
A36: 36 | B36: MRB Montfoort | C36: MRB | D36: 1e | E36: Badkamer | F36: Sanitaire ruimten | H36: 7.2 | I36: 1 | J36: 1 | K36: 52 | M36: =IF(K36="nio",0,IF(K36>0,K36*H36/O36,0))*I36 -> #DIV/0! | N36: =IF(L36>0,L36*H36/P36,0)*J36 -> 0 | O36: =IF(K36="nio",0,IF(K36>0,VLOOKUP(F36,'3-Productie normen'!A:M,VLOOKUP(K36,'3-Productie normen'!P:Q,2,FALSE),FALSE))) -> 0 | P36: =IF(L36>0,O36*$P$8,0) -> 0 | Q36: =VLOOKUP(F36,'3-Productie normen'!A:I,9,FALSE) -> S | T36: =SUM(K36:L36)*H36 -> 374.4
A37: 37 | B37: MRB Montfoort | C37: MRB | D37: 1e | E37: zolderruimte | F37: Verkeersruimten | G37: Linoleum | H37: 30 | I37: 1 | J37: 1 | K37: 52 | M37: =IF(K37="nio",0,IF(K37>0,K37*H37/O37,0))*I37 -> #DIV/0! | N37: =IF(L37>0,L37*H37/P37,0)*J37 -> 0 | O37: =IF(K37="nio",0,IF(K37>0,VLOOKUP(F37,'3-Productie normen'!A:M,VLOOKUP(K37,'3-Productie normen'!P:Q,2,FALSE),FALSE))) -> 0 | P37: =IF(L37>0,O37*$P$8,0) -> 0 | Q37: =VLOOKUP(F37,'3-Productie normen'!A:I,9,FALSE) -> B | T37: =SUM(K37:L37)*H37 -> 1560
A38: 38 | B38: MRB Montfoort | C38: MRB | D38: loods | E38: toilet | F38: Sanitaire ruimten | G38: beton/tegels | H38: 15 | I38: 1 | J38: 1 | K38: 52 | M38: =IF(K38="nio",0,IF(K38>0,K38*H38/O38,0))*I38 -> #DIV/0! | N38: =IF(L38>0,L38*H38/P38,0)*J38 -> 0 | O38: =IF(K38="nio",0,IF(K38>0,VLOOKUP(F38,'3-Productie normen'!A:M,VLOOKUP(K38,'3-Productie normen'!P:Q,2,FALSE),FALSE))) -> 0 | P38: =IF(L38>0,O38*$P$8,0) -> 0 | Q38: =VLOOKUP(F38,'3-Productie normen'!A:I,9,FALSE) -> S | T38: =SUM(K38:L38)*H38 -> 780
A39: 39 | B39: MRB Breukelen | C39: MRB | D39: BG | E39: Loods | F39: Op afroep | G39: Beton | H39: 71 | I39: 1 | J39: 1 | K39: nio | M39: =IF(K39="nio",0,IF(K39>0,K39*H39/O39,0))*I39 -> 0 | N39: =IF(L39>0,L39*H39/P39,0)*J39 -> 0 | O39: =IF(K39="nio",0,IF(K39>0,VLOOKUP(F39,'3-Productie normen'!A:M,VLOOKUP(K39,'3-Productie normen'!P:Q,2,FALSE),FALSE))) -> 0 | P39: =IF(L39>0,O39*$P$8,0) -> 0 | Q39: =VLOOKUP(F39,'3-Productie normen'!A:I,9,FALSE) -> 0 | T39: =SUM(K39:L39)*H39 -> 0
A40: 40 | B40: MRB Breukelen | C40: MRB | D40: BG | E40: Kantine/keuken | F40: Pantry/keuken | G40: Linoleum | H40: 14.8 | I40: 1 | J40: 1 | K40: 26 | M40: =IF(K40="nio",0,IF(K40>0,K40*H40/O40,0))*I40 -> #DIV/0! | N40: =IF(L40>0,L40*H40/P40,0)*J40 -> 0 | O40: =IF(K40="nio",0,IF(K40>0,VLOOKUP(F40,'3-Productie normen'!A:M,VLOOKUP(K40,'3-Productie normen'!P:Q,2,FALSE),FALSE))) -> 0 | P40: =IF(L40>0,O40*$P$8,0) -> 0 | Q40: =VLOOKUP(F40,'3-Productie normen'!A:I,9,FALSE) -> V | T40: =SUM(K40:L40)*H40 -> 384.8
A41: 41 | B41: MRB Breukelen | C41: MRB | D41: BG | E41: Halletje | F41: Verkeersruimten | G41: Linoleum | H41: 1.8 | I41: 1 | J41: 1 | K41: 26 | M41: =IF(K41="nio",0,IF(K41>0,K41*H41/O41,0))*I41 -> #DIV/0! | N41: =IF(L41>0,L41*H41/P41,0)*J41 -> 0 | O41: =IF(K41="nio",0,IF(K41>0,VLOOKUP(F41,'3-Productie normen'!A:M,VLOOKUP(K41,'3-Productie normen'!P:Q,2,FALSE),FALSE))) -> 0 | P41: =IF(L41>0,O41*$P$8,0) -> 0 | Q41: =VLOOKUP(F41,'3-Productie normen'!A:I,9,FALSE) -> B | T41: =SUM(K41:L41)*H41 -> 46.8
A42: 42 | B42: MRB Breukelen | C42: MRB | D42: BG | E42: toilet | F42: Sanitaire ruimten | G42: tegels | H42: 1.6 | I42: 1 | J42: 1 | K42: 26 | M42: =IF(K42="nio",0,IF(K42>0,K42*H42/O42,0))*I42 -> #DIV/0! | N42: =IF(L42>0,L42*H42/P42,0)*J42 -> 0 | O42: =IF(K42="nio",0,IF(K42>0,VLOOKUP(F42,'3-Productie normen'!A:M,VLOOKUP(K42,'3-Productie normen'!P:Q,2,FALSE),FALSE))) -> 0 | P42: =IF(L42>0,O42*$P$8,0) -> 0 | Q42: =VLOOKUP(F42,'3-Productie normen'!A:I,9,FALSE) -> S | T42: =SUM(K42:L42)*H42 -> 41.6
A43: 43 | B43: MRB Breukelen | C43: MRB | D43: BG | E43: kantoor | F43: Administratieve ruimten | G43: Beton | H43: 10 | I43: 1 | J43: 1 | K43: 26 | M43: =IF(K43="nio",0,IF(K43>0,K43*H43/O43,0))*I43 -> #DIV/0! | N43: =IF(L43>0,L43*H43/P43,0)*J43 -> 0 | O43: =IF(K43="nio",0,IF(K43>0,VLOOKUP(F43,'3-Productie normen'!A:M,VLOOKUP(K43,'3-Productie normen'!P:Q,2,FALSE),FALSE))) -> 0 | P43: =IF(L43>0,O43*$P$8,0) -> 0 | Q43: =VLOOKUP(F43,'3-Productie normen'!A:I,9,FALSE) -> B | T43: =SUM(K43:L43)*H43 -> 260
A44: 44 | B44: MRB Woerden | C44: MRB | D44: BG | E44: Loods | F44: Op afroep | G44: Beton | H44: 75 | I44: 1 | J44: 1 | K44: nio | M44: =IF(K44="nio",0,IF(K44>0,K44*H44/O44,0))*I44 -> 0 | N44: =IF(L44>0,L44*H44/P44,0)*J44 -> 0 | O44: =IF(K44="nio",0,IF(K44>0,VLOOKUP(F44,'3-Productie normen'!A:M,VLOOKUP(K44,'3-Productie normen'!P:Q,2,FALSE),FALSE))) -> 0 | P44: =IF(L44>0,O44*$P$8,0) -> 0 | Q44: =VLOOKUP(F44,'3-Productie normen'!A:I,9,FALSE) -> 0 | T44: =SUM(K44:L44)*H44 -> 0
A45: 45 | B45: MRB Woerden | C45: MRB | D45: BG | E45: Kantine/keuken | F45: Pantry/keuken | G45: Linoleum | H45: 15 | I45: 1 | J45: 1 | K45: 52 | M45: =IF(K45="nio",0,IF(K45>0,K45*H45/O45,0))*I45 -> #DIV/0! | N45: =IF(L45>0,L45*H45/P45,0)*J45 -> 0 | O45: =IF(K45="nio",0,IF(K45>0,VLOOKUP(F45,'3-Productie normen'!A:M,VLOOKUP(K45,'3-Productie normen'!P:Q,2,FALSE),FALSE))) -> 0 | P45: =IF(L45>0,O45*$P$8,0) -> 0 | Q45: =VLOOKUP(F45,'3-Productie normen'!A:I,9,FALSE) -> V | T45: =SUM(K45:L45)*H45 -> 780
A46: 46 | B46: MRB Woerden | C46: MRB | D46: BG | E46: Halletje | F46: Verkeersruimten | G46: Linoleum | H46: 2 | I46: 1 | J46: 1 | K46: 52 | M46: =IF(K46="nio",0,IF(K46>0,K46*H46/O46,0))*I46 -> #DIV/0! | N46: =IF(L46>0,L46*H46/P46,0)*J46 -> 0 | O46: =IF(K46="nio",0,IF(K46>0,VLOOKUP(F46,'3-Productie normen'!A:M,VLOOKUP(K46,'3-Productie normen'!P:Q,2,FALSE),FALSE))) -> 0 | P46: =IF(L46>0,O46*$P$8,0) -> 0 | Q46: =VLOOKUP(F46,'3-Productie normen'!A:I,9,FALSE) -> B | T46: =SUM(K46:L46)*H46 -> 104
A47: 47 | B47: MRB Woerden | C47: MRB | D47: BG | E47: toilet | F47: Sanitaire ruimten | G47: tegels | H47: 1.5 | I47: 1 | J47: 1 | K47: 52 | M47: =IF(K47="nio",0,IF(K47>0,K47*H47/O47,0))*I47 -> #DIV/0! | N47: =IF(L47>0,L47*H47/P47,0)*J47 -> 0 | O47: =IF(K47="nio",0,IF(K47>0,VLOOKUP(F47,'3-Productie normen'!A:M,VLOOKUP(K47,'3-Productie normen'!P:Q,2,FALSE),FALSE))) -> 0 | P47: =IF(L47>0,O47*$P$8,0) -> 0 | Q47: =VLOOKUP(F47,'3-Productie normen'!A:I,9,FALSE) -> S | T47: =SUM(K47:L47)*H47 -> 78
A48: 48 | B48: MRB Woerden | C48: MRB | D48: BG | E48: Kantoor | F48: Administratieve ruimten | G48: Linoleum | H48: 10 | I48: 1 | J48: 1 | K48: 52 | M48: =IF(K48="nio",0,IF(K48>0,K48*H48/O48,0))*I48 -> #DIV/0! | N48: =IF(L48>0,L48*H48/P48,0)*J48 -> 0 | O48: =IF(K48="nio",0,IF(K48>0,VLOOKUP(F48,'3-Productie normen'!A:M,VLOOKUP(K48,'3-Productie normen'!P:Q,2,FALSE),FALSE))) -> 0 | P48: =IF(L48>0,O48*$P$8,0) -> 0 | Q48: =VLOOKUP(F48,'3-Productie normen'!A:I,9,FALSE) -> B | T48: =SUM(K48:L48)*H48 -> 520

Sheet 5-Premies en opslagen
A1: Invoervelden
A3: ='1-Contractblad totaal'!A3 -> Naam opdrachtgever | B3: ='1-Contractblad totaal'!B3 -> Hoogheemraadschap De Stichtse Rijnlanden
A4: ='1-Contractblad totaal'!A4 -> Calculatie onderdeel | B4: =MID(CELL("bestandsnaam",$C$9),SEARCH("]",CELL("bestandsnaam",$C$9),1)+1,256) -> 5-Premies en opslagen
A5: ='1-Contractblad totaal'!A5 -> Gebouw/plaats | B5: ='1-Contractblad totaal'!B5 -> Divers
A6: ='1-Contractblad totaal'!A6 -> Referentie nummer | B6: ='1-Contractblad totaal'!B6 -> Invoer
A7: ='1-Contractblad totaal'!A8 -> Naam dienstverlener | B7: ='1-Contractblad totaal'!B8 -> 0
A8: ='1-Contractblad totaal'!A9 -> Prijspeil | B8: ='1-Contractblad totaal'!B9 -> 45017
A10: Sociale verzekeringen
C12: Bedrijfsgemiddelde
A13: WIA Basispremie
A14: WGA
A15: ZW-flex
A16: Totaal | C16: =SUM(C13:C15) -> 0
A18: WW premie- Algemeen Werkeloosheidsfonds (Awf)
A19: Transitievergoeding
A20: Zorgverzekeringswet (Zvw)
A21: OP/NP | C21: =C34 -> #DIV/0!
A22: Kinderopvang
A23: RAS premie
A24: Totaal opslag sociale lasten | C24: =SUM(C16:C23) -> #DIV/0!
A26: Sociale verzekeringen - Ouderdomspensioen (OP/NP)
C28: werkgeversdeel
A29: SV uurloon inclusief toeslagen | C29: ='6a-Opbouw uurtarief productie'!E21 -> 0
A30: Franchise OP-premie per uur | B30: Let op -/- bedrag
A31: Grondslag loon voor berekening OP premie | C31: =C29+C30 -> 0
A32: Premie Ouderdomspensioen (OP)
A34: Effectieve OP premie | C34: =(C31/C29)*C32 -> #DIV/0!
A36: Berekening werkbare dagen
B38: Schoonmaak
A39: Aantal kalenderdagen | B39: 365
A40: Weekenddagen | B40: 104
A41: Werkdagen per jaar | B41: =B39-B40 -> 261
A43: Nat. feestdagen, kort verzuim, bijz. CAO
A44: Vakantiedagen
A45: Ziektedagen
A46: Vorstverlet
A47: Werkbare dagen per jaar | B47: =B41-SUM(B43:B46) -> 261
A49: Nat. feestdagen, kort verzuim, bijz CAO | B49: =IF(B43=0,0,B43/$B$47) -> 0
A50: Vakantiedagen | B50: =IF(B44=0,0,B44/$B$47) -> 0
A51: Ziektedagen | B51: =IF(B45=0,0,B45/$B$47) -> 0
A52: Vorstverlet | B52: =IF(B46=0,0,B46/$B$47) -> 0
A53: Totaal % opslag werkbare dagen | B53: =SUM(B49:B52) -> 0
A55: Het aantal werkbare dagen per jaar is een gemiddelde over 5 jaar. Er vindt geen periodieke verrekening plaats in verband met schrikkeljaren.

Sheet 6a-Opbouw uurtarief productie
A1: Invoervelden
A3: ='1-Contractblad totaal'!A3 -> Naam opdrachtgever | B3: ='1-Contractblad totaal'!B3 -> Hoogheemraadschap De Stichtse Rijnlanden
A4: ='1-Contractblad totaal'!A4 -> Calculatie onderdeel | B4: =MID(CELL("bestandsnaam",$C$9),SEARCH("]",CELL("bestandsnaam",$C$9),1)+1,256) -> 6a-Opbouw uurtarief productie
A5: ='1-Contractblad totaal'!A5 -> Gebouw/plaats | B5: ='1-Contractblad totaal'!B5 -> Divers
A6: ='1-Contractblad totaal'!A6 -> Referentie nummer | B6: ='1-Contractblad totaal'!B6 -> Invoer
A7: ='1-Contractblad totaal'!A8 -> Naam dienstverlener | B7: ='1-Contractblad totaal'!B8 -> 0
A8: ='1-Contractblad totaal'!A9 -> Prijspeil | B8: ='1-Contractblad totaal'!B9 -> 45017
A10: Tariefopbouw schoonmaak | E10: Gemiddeld tarief ma t/m vr | H10: Medewerker | I10: Uurlonen per 1 april 2023
I11: 1 | J11: 2 | K11: 3 | L11: 4 | M11: 5 | N11: 6
A12: Basisuurloon | E12: =SUM(I43:N43) -> 0 | H12: 17 jaar en jonger
A13: Specialistentoeslag | C13: Projectgebonden! | H13: 18 jaar
A14: Gevarentoeslag (indien van toepassing) | H14: 19 jaar
A15: Bruto uurloon | E15: =SUM(E12:E14) -> 0 | H15: Vakvolwassen 0 dienstjaren
H16: Vakvolwassen 1 dienstjaar
A17: Vakantietoeslag | E17: =$C17*E15 -> 0 | H17: Vakvolwassen 2 dienstjaren
A18: Structurele eindejaarsuitkering | E18: =$C18*E15 -> 0 | H18: Vakvolwassen 3 dienstjaren
A19: Bruto uurloon inclusief toeslagen | E19: =SUM(E15:E18) -> 0 | F19: =IF(E19=0,0,E19/E$47) -> 0 | H19: Vakvolwassen 4 dienstjaren
A21: SV-loon grondslag voor berekening sociale verzekeringen | E21: =E19*0.96 -> 0 | H21: Medewerker | I21: Percentage per loongroep voor gemiddeld tarief
A22: Premies Sociale Verzekeringen | C22: [zie premies en opslagen] | E22: =E21*'5-Premies en opslagen'!$C24 -> #DIV/0! | I22: 1 | J22: 2 | K22: 3 | L22: 4 | M22: 5 | N22: 6
A23: Subtotaal loonkosten per uur inclusief sociale verzekeringen | E23: =E22+E19 -> #DIV/0! | F23: =IF(E23=0,0,E23/E$47) -> #DIV/0! | H23: 17 jaar en jonger
H24: 18 jaar
A25: Opslag niet werkbare dagen | C25: [zie premies en opslagen] | E25: =E23*'5-Premies en opslagen'!$B53 -> #DIV/0! | H25: 19 jaar
A26: Totaal loonkosten per uur | E26: =SUM(E23:E25) -> #DIV/0! | F26: =IF(E26=0,0,E26/E$47) -> #DIV/0! | H26: Vakvolwassen 0 dienstjaren
H27: Vakvolwassen 1 dienstjaar
A28: Materiaal/- en middelen | C28: Projectgebonden! | F28: 0 | H28: Vakvolwassen 2 dienstjaren
A29: Werkkleding en uitrusting | C29: Projectgebonden! | F29: 0 | H29: Vakvolwassen 3 dienstjaren
A30: Machinekosten | E30: p.o. | H30: Vakvolwassen 4 dienstjaren
H31: Totaal per loongroepen | I31: =SUM(I23:I30) -> 0 | J31: =SUM(J23:J30) -> 0 | K31: =SUM(K23:K30) -> 0 | L31: =SUM(L23:L30) -> 0 | M31: =SUM(M23:M30) -> 0 | N31: =SUM(N23:N30) -> 0 | O31: =SUM(I31:N31) -> 0
A32: Totaal directe kosten | E32: =SUM(E26:E31) -> #DIV/0! | F32: =IF(E32=0,0,E32/E$47) -> #DIV/0!
H33: Medewerker | I33: Opbouw gemiddeld tarief
A34: Indirect toezicht | F34: =E34/$E$47 -> #DIV/0! | I34: 1 | J34: 2 | K34: 3 | L34: 4 | M34: 5 | N34: 6
A35: Managementkosten | F35: =E35/$E$47 -> #DIV/0! | H35: 17 jaar en jonger | I35: =I23*I12 -> 0 | J35: =J23*J12 -> 0 | K35: =K23*K12 -> 0 | L35: =L23*L12 -> 0 | M35: =M23*M12 -> 0 | N35: =N23*N12 -> 0
A36: P.Z. kosten | F36: =E36/$E$47 -> #DIV/0! | H36: 18 jaar | I36: =I24*I13 -> 0 | J36: =J24*J13 -> 0 | K36: =K24*K13 -> 0 | L36: =L24*L13 -> 0 | M36: =M24*M13 -> 0 | N36: =N24*N13 -> 0
A37: Opleiding | F37: =E37/$E$47 -> #DIV/0! | H37: 19 jaar | I37: =I25*I14 -> 0 | J37: =J25*J14 -> 0 | K37: =K25*K14 -> 0 | L37: =L25*L14 -> 0 | M37: =M25*M14 -> 0 | N37: =N25*N14 -> 0
A38: Administratiekosten | F38: =E38/$E$47 -> #DIV/0! | H38: Vakvolwassen 0 dienstjaren | I38: =I26*I15 -> 0 | J38: =J26*J15 -> 0 | K38: =K26*K15 -> 0 | L38: =L26*L15 -> 0 | M38: =M26*M15 -> 0 | N38: =N26*N15 -> 0
A39: Huisvestingskosten | F39: =E39/$E$47 -> #DIV/0! | H39: Vakvolwassen 1 dienstjaar | I39: =I27*I16 -> 0 | J39: =J27*J16 -> 0 | K39: =K27*K16 -> 0 | L39: =L27*L16 -> 0 | M39: =M27*M16 -> 0 | N39: =N27*N16 -> 0
A40: Reiskosten/autokosten | C40: Projectgebonden! | F40: =E40/$E$47 -> #DIV/0! | H40: Vakvolwassen 2 dienstjaren | I40: =I28*I17 -> 0 | J40: =J28*J17 -> 0 | K40: =K28*K17 -> 0 | L40: =L28*L17 -> 0 | M40: =M28*M17 -> 0 | N40: =N28*N17 -> 0
A41: Kosten verzuimbegeleiding | F41: =E41/$E$47 -> #DIV/0! | H41: Vakvolwassen 3 dienstjaren | I41: =I29*I18 -> 0 | J41: =J29*J18 -> 0 | K41: =K29*K18 -> 0 | L41: =L29*L18 -> 0 | M41: =M29*M18 -> 0 | N41: =N29*N18 -> 0
F42: =E42/$E$47 -> #DIV/0! | H42: Vakvolwassen 4 dienstjaren | I42: =I30*I19 -> 0 | J42: =J30*J19 -> 0 | K42: =K30*K19 -> 0 | L42: =L30*L19 -> 0 | M42: =M30*M19 -> 0 | N42: =N30*N19 -> 0
A43: Totaal indirecte kosten | E43: =SUM(E32:E42) -> #DIV/0! | F43: =IF(E43=0,0,E43/E$47) -> #DIV/0! | H43: Totaal per loongroepen | I43: =SUM(I35:I42) -> 0 | J43: =SUM(J35:J42) -> 0 | K43: =SUM(K35:K42) -> 0 | L43: =SUM(L35:L42) -> 0 | M43: =SUM(M35:M42) -> 0 | N43: =SUM(N35:N42) -> 0
A45: Risico en winst | F45: =(IF(E45=0,0,E45/E$47)) -> 0
A47: Totaal eindtarief normale werktijden [06.00-21.30 uur] | E47: =SUM(E43:E46) -> #DIV/0! | F47: =SUM(F43:F46) -> #DIV/0!
A49: Totaal eindtarief [incl. 30% toeslag] | E49: =(E$26*1.3)+($E$47-$E$26) -> #DIV/0!
A51: Totaal eindtarief weekenden [incl. 50% toeslag] | E51: =(E$26*1.5)+($E$47-$E$26) -> #DIV/0!
A53: Totaal eindtarief feestdagen [incl. 150% toeslag] | E53: =(E$26*2.5)+($E$47-$E$26) -> #DIV/0!

Sheet 6b-Opbouw uurtarief specialist
A1: Invoervelden
A3: ='1-Contractblad totaal'!A3 -> Naam opdrachtgever | B3: ='1-Contractblad totaal'!B3 -> Hoogheemraadschap De Stichtse Rijnlanden
A4: ='1-Contractblad totaal'!A4 -> Calculatie onderdeel | B4: =MID(CELL("bestandsnaam",$C$9),SEARCH("]",CELL("bestandsnaam",$C$9),1)+1,256) -> 6b-Opbouw uurtarief specialist
A5: ='1-Contractblad totaal'!A5 -> Gebouw/plaats | B5: ='1-Contractblad totaal'!B5 -> Divers
A6: ='1-Contractblad totaal'!A6 -> Referentie nummer | B6: ='1-Contractblad totaal'!B6 -> Invoer
A7: ='1-Contractblad totaal'!A8 -> Naam dienstverlener | B7: ='1-Contractblad totaal'!B8 -> 0
A8: ='1-Contractblad totaal'!A9 -> Prijspeil | B8: ='1-Contractblad totaal'!B9 -> 45017
A10: Tariefopbouw schoonmaak | E10: Gemiddeld tarief ma t/m vr | H10: Medewerker | I10: Uurlonen per 1 april 2023
I11: 1 | J11: 2 | K11: 3 | L11: 4 | M11: 5 | N11: 6
A12: Basisuurloon | E12: =SUM(I43:N43) -> 0 | H12: 17 jaar en jonger
A13: Specialistentoeslag | C13: Projectgebonden! | H13: 18 jaar
A14: Gevarentoeslag (indien van toepassing) | H14: 19 jaar
A15: Bruto uurloon | E15: =SUM(E12:E14) -> 0 | H15: Vakvolwassen 0 dienstjaren
H16: Vakvolwassen 1 dienstjaar
A17: Vakantietoeslag | E17: =$C17*E15 -> 0 | H17: Vakvolwassen 2 dienstjaren
A18: Structurele eindejaarsuitkering | E18: =$C18*E15 -> 0 | H18: Vakvolwassen 3 dienstjaren
A19: Bruto uurloon inclusief toeslagen | E19: =SUM(E15:E18) -> 0 | F19: =IF(E19=0,0,E19/E$47) -> 0 | H19: Vakvolwassen 4 dienstjaren
A21: SV-loon grondslag voor berekening sociale verzekeringen | E21: =E19*0.96 -> 0 | H21: Medewerker | I21: Percentage per loongroep voor gemiddeld tarief
A22: Premies Sociale Verzekeringen | C22: [zie premies en opslagen] | E22: =E21*'5-Premies en opslagen'!$C24 -> #DIV/0! | I22: 1 | J22: 2 | K22: 3 | L22: 4 | M22: 5 | N22: 6
A23: Subtotaal loonkosten per uur inclusief sociale verzekeringen | E23: =E22+E19 -> #DIV/0! | F23: =IF(E23=0,0,E23/E$47) -> #DIV/0! | H23: 17 jaar en jonger
H24: 18 jaar
A25: Opslag niet werkbare dagen | C25: [zie premies en opslagen] | E25: =E23*'5-Premies en opslagen'!$B53 -> #DIV/0! | H25: 19 jaar
A26: Totaal loonkosten per uur | E26: =SUM(E23:E25) -> #DIV/0! | F26: =IF(E26=0,0,E26/E$47) -> #DIV/0! | H26: Vakvolwassen 0 dienstjaren
H27: Vakvolwassen 1 dienstjaar
A28: Materiaal/- en middelen | C28: Projectgebonden! | F28: 0 | H28: Vakvolwassen 2 dienstjaren
A29: Werkkleding en uitrusting | C29: Projectgebonden! | F29: 0 | H29: Vakvolwassen 3 dienstjaren | I29: 0
A30: Machinekosten | E30: p.o. | H30: Vakvolwassen 4 dienstjaren
H31: Totaal per loongroepen | I31: =SUM(I23:I30) -> 0 | J31: =SUM(J23:J30) -> 0 | K31: =SUM(K23:K30) -> 0 | L31: =SUM(L23:L30) -> 0 | M31: =SUM(M23:M30) -> 0 | N31: =SUM(N23:N30) -> 0 | O31: =SUM(I31:N31) -> 0
A32: Totaal directe kosten | E32: =SUM(E26:E31) -> #DIV/0! | F32: =IF(E32=0,0,E32/E$47) -> #DIV/0!
H33: Medewerker | I33: Opbouw gemiddeld tarief
A34: Indirect toezicht | F34: =E34/$E$47 -> #DIV/0! | I34: 1 | J34: 2 | K34: 3 | L34: 4 | M34: 5 | N34: 6
A35: Managementkosten | F35: =E35/$E$47 -> #DIV/0! | H35: 17 jaar en jonger | I35: =I23*I12 -> 0 | J35: =J23*J12 -> 0 | K35: =K23*K12 -> 0 | L35: =L23*L12 -> 0 | M35: =M23*M12 -> 0 | N35: =N23*N12 -> 0
A36: P.Z. kosten | F36: =E36/$E$47 -> #DIV/0! | H36: 18 jaar | I36: =I24*I13 -> 0 | J36: =J24*J13 -> 0 | K36: =K24*K13 -> 0 | L36: =L24*L13 -> 0 | M36: =M24*M13 -> 0 | N36: =N24*N13 -> 0
A37: Opleiding | F37: =E37/$E$47 -> #DIV/0! | H37: 19 jaar | I37: =I25*I14 -> 0 | J37: =J25*J14 -> 0 | K37: =K25*K14 -> 0 | L37: =L25*L14 -> 0 | M37: =M25*M14 -> 0 | N37: =N25*N14 -> 0
A38: Administratiekosten | H38: Vakvolwassen 0 dienstjaren | I38: =I26*I15 -> 0 | J38: =J26*J15 -> 0 | K38: =K26*K15 -> 0 | L38: =L26*L15 -> 0 | M38: =M26*M15 -> 0 | N38: =N26*N15 -> 0
A39: Huisvestingskosten | F39: =E39/$E$47 -> #DIV/0! | H39: Vakvolwassen 1 dienstjaar | I39: =I27*I16 -> 0 | J39: =J27*J16 -> 0 | K39: =K27*K16 -> 0 | L39: =L27*L16 -> 0 | M39: =M27*M16 -> 0 | N39: =N27*N16 -> 0
A40: Reiskosten/autokosten | C40: Projectgebonden! | F40: =E40/$E$47 -> #DIV/0! | H40: Vakvolwassen 2 dienstjaren | I40: =I28*I17 -> 0 | J40: =J28*J17 -> 0 | K40: =K28*K17 -> 0 | L40: =L28*L17 -> 0 | M40: =M28*M17 -> 0 | N40: =N28*N17 -> 0
A41: Kosten verzuimbegeleiding | F41: =E41/$E$47 -> #DIV/0! | H41: Vakvolwassen 3 dienstjaren | I41: =I29*I18 -> 0 | J41: =J29*J18 -> 0 | K41: =K29*K18 -> 0 | L41: =L29*L18 -> 0 | M41: =M29*M18 -> 0 | N41: =N29*N18 -> 0
F42: =E42/$E$47 -> #DIV/0! | H42: Vakvolwassen 4 dienstjaren | I42: =I30*I19 -> 0 | J42: =J30*J19 -> 0 | K42: =K30*K19 -> 0 | L42: =L30*L19 -> 0 | M42: =M30*M19 -> 0 | N42: =N30*N19 -> 0
A43: Totaal indirecte kosten | E43: =SUM(E32:E42) -> #DIV/0! | F43: =IF(E43=0,0,E43/E$47) -> #DIV/0! | H43: Totaal per loongroepen | I43: =SUM(I35:I42) -> 0 | J43: =SUM(J35:J42) -> 0 | K43: =SUM(K35:K42) -> 0 | L43: =SUM(L35:L42) -> 0 | M43: =SUM(M35:M42) -> 0 | N43: =SUM(N35:N42) -> 0
A45: Risico en winst | F45: =(IF(E45=0,0,E45/E$47)) -> 0
A47: Totaal eindtarief normale werktijden [06.00-21.30 uur] | E47: =SUM(E43:E46) -> #DIV/0! | F47: =SUM(F43:F46) -> #DIV/0!
A49: Totaal eindtarief [incl. 30% toeslag] | E49: =(E$26*1.3)+($E$47-$E$26) -> #DIV/0!
A51: Totaal eindtarief weekenden [incl. 50% toeslag] | E51: =(E$26*1.5)+($E$47-$E$26) -> #DIV/0!
A53: Totaal eindtarief feestdagen [incl. 150% toeslag] | E53: =(E$26*2.5)+($E$47-$E$26) -> #DIV/0!

Sheet 7-Opbouw uurtarief toezicht
A1: Invoervelden
A3: ='1-Contractblad totaal'!A3 -> Naam opdrachtgever | B3: ='1-Contractblad totaal'!B3 -> Hoogheemraadschap De Stichtse Rijnlanden
A4: ='1-Contractblad totaal'!A4 -> Calculatie onderdeel | B4: =MID(CELL("bestandsnaam",$C$9),SEARCH("]",CELL("bestandsnaam",$C$9),1)+1,256) -> 7-Opbouw uurtarief toezicht
A5: ='1-Contractblad totaal'!A5 -> Gebouw/plaats | B5: ='1-Contractblad totaal'!B5 -> Divers
A6: ='1-Contractblad totaal'!A6 -> Referentie nummer | B6: ='1-Contractblad totaal'!B6 -> Invoer
A7: ='1-Contractblad totaal'!A8 -> Naam dienstverlener | B7: ='1-Contractblad totaal'!B8 -> 0
A8: ='1-Contractblad totaal'!A9 -> Prijspeil | B8: ='1-Contractblad totaal'!B9 -> 45017
A10: Tariefopbouw toezicht | E10: Gemiddeld tarief ma t/m vr | H10: Medewerker | I10: Uurlonen per 1 april 2023
I11: 1 | J11: 2 | K11: 3 | L11: 4 | M11: 5 | N11: 6
A12: Basisuurloon | E12: =SUM(I34:N34) -> 0 | H12: Vakvolwassen 0 dienstjaren
A13: Specialistentoeslag | C13: Projectgebonden! | H13: Vakvolwassen 1 dienstjaar
A14: Gevarentoeslag (indien van toepassing) | H14: Vakvolwassen 2 dienstjaren
A15: Bruto uurloon | E15: =SUM(E12:E14) -> 0 | H15: Vakvolwassen 3 dienstjaren
H16: Vakvolwassen 4 dienstjaren
A17: Vakantietoeslag | E17: =$C17*E15 -> 0
A18: Structurele eindejaarsuitkering | E18: =$C18*E15 -> 0 | H18: Medewerker | I18: Percentage per loongroep voor gemiddeld tarief
A19: Bruto uurloon inclusief toeslagen | E19: =SUM(E15:E18) -> 0 | F19: =IF(E19=0,0,E19/E$47) -> 0 | I19: 1 | J19: 2 | K19: 3 | L19: 4 | M19: 5 | N19: 6
H20: Vakvolwassen 0 dienstjaren
A21: SV-loon grondslag voor berekening sociale verzekeringen | E21: =E19*0.96 -> 0 | H21: Vakvolwassen 1 dienstjaar
A22: Premies Sociale Verzekeringen | C22: [zie premies en opslagen] | E22: =E21*'5-Premies en opslagen'!$C24 -> #DIV/0! | H22: Vakvolwassen 2 dienstjaren
A23: Subtotaal loonkosten per uur inclusief sociale verzekeringen | E23: =E22+E19 -> #DIV/0! | F23: =IF(E23=0,0,E23/E$47) -> #DIV/0! | H23: Vakvolwassen 3 dienstjaren
H24: Vakvolwassen 4 dienstjaren
A25: Opslag niet werkbare dagen | C25: [zie premies en opslagen] | E25: =E23*'5-Premies en opslagen'!$B53 -> #DIV/0! | H25: Totaal per loongroepen | I25: =SUM(I20:I24) -> 0 | J25: =SUM(J20:J24) -> 0 | K25: =SUM(K20:K24) -> 0 | L25: =SUM(L20:L24) -> 0 | M25: =SUM(M20:M24) -> 0 | N25: =SUM(N20:N24) -> 0 | O25: =SUM(I25:N25) -> 0
A26: Totaal loonkosten per uur | E26: =SUM(E23:E25) -> #DIV/0! | F26: =IF(E26=0,0,E26/E$47) -> #DIV/0!
H27: Medewerker | I27: Opbouw gemiddeld tarief
A28: Materiaal/- en middelen | C28: Projectgebonden! | F28: 0 | I28: 1 | J28: 2 | K28: 3 | L28: 4 | M28: 5 | N28: 6
A29: Werkkleding en uitrusting | C29: Projectgebonden! | F29: 0 | H29: Vakvolwassen 0 dienstjaren | I29: =I20*I12 -> 0 | J29: =J20*J12 -> 0 | K29: =K20*K12 -> 0 | L29: =L20*L12 -> 0 | M29: =M20*M12 -> 0 | N29: =N20*N12 -> 0
A30: Machinekosten | E30: p.o. | H30: Vakvolwassen 1 dienstjaar | I30: =I21*I13 -> 0 | J30: =J21*J13 -> 0 | K30: =K21*K13 -> 0 | L30: =L21*L13 -> 0 | M30: =M21*M13 -> 0 | N30: =N21*N13 -> 0
H31: Vakvolwassen 2 dienstjaren | I31: =I22*I14 -> 0 | J31: =J22*J14 -> 0 | K31: =K22*K14 -> 0 | L31: =L22*L14 -> 0 | M31: =M22*M14 -> 0 | N31: =N22*N14 -> 0
A32: Totaal directe kosten | E32: =SUM(E26:E31) -> #DIV/0! | F32: =IF(E32=0,0,E32/E$47) -> #DIV/0! | H32: Vakvolwassen 3 dienstjaren | I32: =I23*I15 -> 0 | J32: =J23*J15 -> 0 | K32: =K23*K15 -> 0 | L32: =L23*L15 -> 0 | M32: =M23*M15 -> 0 | N32: =N23*N15 -> 0
H33: Vakvolwassen 4 dienstjaren | I33: =I24*I16 -> 0 | J33: =J24*J16 -> 0 | K33: =K24*K16 -> 0 | L33: =L24*L16 -> 0 | M33: =M24*M16 -> 0 | N33: =N24*N16 -> 0
A34: Indirect toezicht | F34: =E34/$E$47 -> #DIV/0! | H34: Totaal per loongroepen | I34: =SUM(I29:I33) -> 0 | J34: =SUM(J29:J33) -> 0 | K34: =SUM(K29:K33) -> 0 | L34: =SUM(L29:L33) -> 0 | M34: =SUM(M29:M33) -> 0 | N34: =SUM(N29:N33) -> 0
A35: Managementkosten | F35: =E35/$E$47 -> #DIV/0!
A36: P.Z. kosten | F36: =E36/$E$47 -> #DIV/0!
A37: Opleiding | F37: =E37/$E$47 -> #DIV/0!
A38: Administratiekosten | F38: =E38/$E$47 -> #DIV/0!
A39: Huisvestingskosten | F39: =E39/$E$47 -> #DIV/0!
A40: Reiskosten/autokosten | C40: Projectgebonden! | F40: =E40/$E$47 -> #DIV/0!
A41: Kosten verzuimbegeleiding | F41: =E41/$E$47 -> #DIV/0!
A43: Totaal indirecte kosten | E43: =SUM(E32:E42) -> #DIV/0! | F43: =IF(E43=0,0,E43/E$47) -> #DIV/0!
A45: Risico en winst | F45: =(IF(E45=0,0,E45/E$47)) -> 0
A47: Totaal eindtarief normale werktijden [06.00-21.30 uur] | E47: =SUM(E43:E46) -> #DIV/0! | F47: =SUM(F43:F46) -> #DIV/0!
A49: Totaal eindtarief [incl. 30% toeslag] | E49: =(E$26*1.3)+($E$47-$E$26) -> #DIV/0!
A51: Totaal eindtarief weekenden [incl. 50% toeslag] | E51: =(E$26*1.5)+($E$47-$E$26) -> #DIV/0!
A53: Totaal eindtarief feestdagen [incl. 150% toeslag] | E53: =(E$26*2.5)+($E$47-$E$26) -> #DIV/0!

Sheet 8-Additionele werkzaamheden
A1: Invoervelden
A3: ='1-Contractblad totaal'!A3 -> Naam opdrachtgever | B3: ='1-Contractblad totaal'!B3 -> Hoogheemraadschap De Stichtse Rijnlanden
A4: ='1-Contractblad totaal'!A4 -> Calculatie onderdeel | B4: =MID(CELL("bestandsnaam",$D$9),SEARCH("]",CELL("bestandsnaam",$D$9),1)+1,256) -> 8-Additionele werkzaamheden
A5: ='1-Contractblad totaal'!A5 -> Gebouw/plaats | B5: ='1-Contractblad totaal'!B5 -> Divers
A6: ='1-Contractblad totaal'!A6 -> Referentie nummer | B6: ='1-Contractblad totaal'!B6 -> Invoer
A7: ='1-Contractblad totaal'!A8 -> Naam dienstverlener | B7: ='1-Contractblad totaal'!B8 -> 0
A8: ='1-Contractblad totaal'!A9 -> Prijspeil | B8: ='1-Contractblad totaal'!B9 -> 45017
A10: Locatie | B10: Locatie | C10: Omschrijving werkzaamheden | D10: Aantal of m2 | E10: frequentie per jaar | F10: uren per m2/ beurt | G10: uren per jaar | H10: uurtarief | I10: kosten per jaar
A11: Gemalen Waterbeheer | B11: Gemaal Hoograven | C11: Schoonmaakonderhoud inclusief toilet | D11: =12.25+1.5 -> 13.75 | E11: 1 | G11: =F11*E11 -> 0 | I11: =H11*G11 -> 0
A12: Gemalen Waterbeheer | B12: Gemaal Hoograven | C12: Glasbewassing | D12: 5.7
A13: Gemalen Waterbeheer | B13: Gemaal Overvecht | C13: Schoonmaakonderhoud | D13: 16 | E13: 1 | G13: =F13*E13 -> 0 | I13: =H13*G13 -> 0
A14: Gemalen Waterbeheer | B14: Gemaal Galecop | C14: Schoonmaakonderhoud | D14: 49 | E14: 1 | G14: =F14*E14 -> 0 | I14: =H14*G14 -> 0
A15: Gemalen Waterbeheer | B15: Gemaal Galecop | C15: Glasbewassing | D15: =10.5+4.4 -> 14.9
A16: Gemalen Waterbeheer | B16: Gemaal De Aanvoerder | C16: Schoonmaakonderhoud | D16: 32 | E16: 1 | G16: =F16*E16 -> 0 | I16: =H16*G16 -> 0
A17: Gemalen Waterbeheer | B17: Gemaal Beileveld | C17: Schoonmaakonderhoud inclusief toilet | D17: 113 | E17: 1 | G17: =F17*E17 -> 0 | I17: =H17*G17 -> 0
A18: Gemalen Waterbeheer | B18: Gemaal Beileveld | C18: Glasbewassing | D18: 69 | E18: 2 | G18: =F18*E18 -> 0 | I18: =H18*G18 -> 0
A19: Gemalen Waterbeheer | B19: Gemaal Vleuterweide | C19: Werkruimte | D19: 15 | E19: 1 | G19: =F19*E19 -> 0 | I19: =H19*G19 -> 0
A20: Gemalen Waterbeheer | B20: Gemaal Vleuterweide | C20: Glasbewassing | D20: 15
A21: Gemalen Waterbeheer | B21: Gemaal Terweide | C21: Schoonmaakonderhoud inclusief toilet | D21: 10 | E21: 1 | G21: =F21*E21 -> 0 | I21: =H21*G21 -> 0
A22: Gemalen Waterbeheer | B22: Gemaal Terweide | C22: Glasbewassing | D22: 4
A23: Gemalen Waterbeheer | B23: Gemaal Maarssenbroek | C23: Schoonmaakonderhoud inclusief toilet | D23: 238 | E23: 1 | G23: =F23*E23 -> 0 | I23: =H23*G23 -> 0
A24: Gemalen Waterbeheer | B24: Gemaal Maarssenbroek | C24: Glasbewassing | D24: 110 | E24: 2 | G24: =F24*E24 -> 0 | I24: =H24*G24 -> 0
A25: Gemalen Waterbeheer | B25: Gemaal Haarrijnweg | C25: Schoonmaakonderhoud inclusief keuken/werkruimte en toilet | D25: 175 | E25: 1 | G25: =F25*E25 -> 0 | I25: =H25*G25 -> 0
A26: Gemalen Waterbeheer | B26: Gemaal Haarrijnweg | C26: Glasbewassing | D26: 48.2 | E26: 2 | G26: =F26*E26 -> 0 | I26: =H26*G26 -> 0
A27: Gemalen Waterbeheer | B27: Gemaal De Tol | C27: Schoonmaakonderhoud inclusief keuken en toilet | D27: 65 | E27: 1 | G27: =F27*E27 -> 0 | I27: =H27*G27 -> 0
A28: Gemalen Waterbeheer | B28: Gemaal De Tol | C28: Glasbewassing | D28: 33
A29: Gemalen Waterbeheer | B29: Gemaal Noordergemaal | C29: Schoonmaakonderhoud inclusief toilet | D29: 368 | E29: 1 | G29: =F29*E29 -> 0 | I29: =H29*G29 -> 0
A30: Gemalen Waterbeheer | B30: Gemaal Kromme Rijn | C30: Garagedeuren en loodsdeuren en ramen afnemen | D30: =1.1+0.5 -> 1.6 | E30: 1 | G30: =F30*E30 -> 0 | I30: =H30*G30 -> 0
A31: Gemalen Waterbeheer | B31: Gemaal De Koekoek | C31: Schoonmaakonderhoud | D31: 375 | E31: 1 | G31: =F31*E31 -> 0 | I31: =H31*G31 -> 0
A32: Gemalen Waterbeheer | B32: Gemaal De Koekoek | C32: Glasbewassing | D32: 252 | E32: 2 | G32: =F32*E32 -> 0 | I32: =H32*G32 -> 0
A33: Gemalen Waterbeheer | B33: Gemaal De Pleyt | C33: Schoonmaakonderhoud | D33: 52 | E33: 2 | G33: =F33*E33 -> 0 | I33: =H33*G33 -> 0
A34: Gemalen Waterbeheer | B34: Gemaal De Pleyt | C34: Glasbewassing | D34: 93.8
A35: Gemalen Waterbeheer | B35: Gemaal De Keulevaart | C35: Schoonmaakonderhoud inclusief hekwerk buiten | D35: 218 | E35: 1 | G35: =F35*E35 -> 0 | I35: =H35*G35 -> 0
A36: Gemalen Waterbeheer | B36: Gemaal De Keulevaart | C36: Glasbewassing | D36: 181 | E36: 2 | G36: =F36*E36 -> 0 | I36: =H36*G36 -> 0
A37: Gemalen Waterbeheer | B37: Gemaal Snel en Polanen | C37: Schoonmaakonderhoud | D37: 24.75 | E37: 1 | G37: =F37*E37 -> 0 | I37: =H37*G37 -> 0
A38: Gemalen Waterbeheer | B38: Gemaal Meijepolder | C38: Schoonmaakonderhoud | D38: 49 | E38: 1 | G38: =F38*E38 -> 0 | I38: =H38*G38 -> 0
A39: Gemalen Waterbeheer | B39: Gemaal Meijepolder | C39: Glasbewassing | D39: 52.5
A40: Gemalen Waterbeheer | B40: Gemaal Oud Kamerik | C40: Schoonmaakonderhoud | D40: 66 | E40: 1 | G40: =F40*E40 -> 0 | I40: =H40*G40 -> 0
A41: Gemalen Waterbeheer | B41: Gemaal Oud Kamerik | C41: Glasbewassing | D41: 38
A42: Gemalen Waterbeheer | B42: Gemaal Kockengen | C42: Schoonmaakonderhoud | D42: 24 | E42: 1 | G42: =F42*E42 -> 0 | I42: =H42*G42 -> 0
A43: Gemalen Waterbeheer | B43: Gemaal Kockengen | C43: Glasbewassing | D43: 14
A44: Gemalen Waterbeheer | B44: Gemaal Gerverscop | C44: Schoonmaakonderhoud | D44: 64 | E44: 1 | G44: =F44*E44 -> 0 | I44: =H44*G44 -> 0
A45: Gemalen Waterbeheer | B45: Gemaal Gerverscop | C45: Glasbewassing | D45: 22
A46: Gemalen Waterbeheer | B46: Gemaal Kamerik Teylingen | C46: Schoonmaakonderhoud werkruimte + toilet | D46: 60 | E46: 1 | G46: =F46*E46 -> 0 | I46: =H46*G46 -> 0
A47: Gemalen Waterbeheer | B47: Gemaal Molenvliet | C47: Schoonmaakonderhoud | D47: 25 | E47: 1 | G47: =F47*E47 -> 0 | I47: =H47*G47 -> 0
A48: Gemalen Waterbeheer | B48: Gemaal Rietveld | C48: Schoonmaakonderhoud werkruimte | D48: 30 | E48: 1 | G48: =F48*E48 -> 0 | I48: =H48*G48 -> 0
A49: Gemalen Waterbeheer | B49: Gemaal Zegveld | C49: Schoonmaakonderhoud keukenblok + werkruimte | D49: 66.5 | E49: 1 | G49: =F49*E49 -> 0 | I49: =H49*G49 -> 0
A50: Gemalen Waterbeheer | B50: Gemaal Zegveld | C50: Glasbewassing | D50: 20
A51: Gemalen Waterbeheer | B51: Gemaal Westeinder van Waarder | C51: Schoonmaakonderhoud werkruimte | D51: 23.5 | E51: 1 | G51: =F51*E51 -> 0 | I51: =H51*G51 -> 0
A52: Gemalen Waterbeheer | B52: Gemaal Westeinder van Waarder | C52: Glasbewassing | D52: 4.9
A53: Gemalen Waterbeheer | B53: Gemaal Lange Weide | C53: Schoonmaakonderhoud werkruimte | D53: 14.7 | E53: 1 | G53: =F53*E53 -> 0 | I53: =H53*G53 -> 0
A54: Gemalen Waterbeheer | B54: Gemaal Lange Weide | C54: Glasbewassing | D54: 0.6
A55: Gemalen Waterbeheer | B55: Gemaal Noord Linschoten | C55: Schoonmaakonderhoud werkruimte | D55: 25.73 | E55: 1 | G55: =F55*E55 -> 0 | I55: =H55*G55 -> 0
A56: Gemalen Waterbeheer | B56: Gemaal Noord Linschoten | C56: Glasbewassing | D56: 10.31
A57: Gemalen Waterbeheer | B57: Gemaal Groot Hekendorp | C57: Schoonmaakonderhoud werkruimte | D57: 12.75 | E57: 1 | G57: =F57*E57 -> 0 | I57: =H57*G57 -> 0
A58: Gemalen Waterbeheer | B58: Gemaal Groot Hekendorp | C58: Glasbewassing | D58: 12.75
A59: Gemalen Waterbeheer | B59: Gemaal Papekop en Diemerbroek | C59: Schoonmaakonderhoud werkruimte | D59: 11.5 | E59: 1 | G59: =F59*E59 -> 0 | I59: =H59*G59 -> 0
A60: Gemalen Waterbeheer | B60: Gemaal Papekop en Diemerbroek | C60: Glasbewassing | D60: 0.6
A61: Gemalen Waterbeheer | B61: Gemaal Waardsedijk | C61: Schoonmaakonderhoud | D61: 85.5 | E61: 1 | G61: =F61*E61 -> 0 | I61: =H61*G61 -> 0
A62: Gemalen Waterbeheer | B62: Gemaal Waardsedijk | C62: Glasbewassing | D62: 12
A64: Totaal | G64: =SUM(G11:G62) -> 0 | I64: =SUM(I11:I62) -> 0
A67: Op de rioolgemalen zuiver en gemalen waterbeheer is het werkprogramma industriele ruimten van toepassing.

Sheet 9-Afroepprijs
A1: Invoervelden
A3: ='1-Contractblad totaal'!A3 -> Naam opdrachtgever | B3: ='1-Contractblad totaal'!B3 -> Hoogheemraadschap De Stichtse Rijnlanden
A4: ='1-Contractblad totaal'!A4 -> Calculatie onderdeel | B4: =MID(CELL("bestandsnaam",$C$9),SEARCH("]",CELL("bestandsnaam",$C$9),1)+1,256) -> 9-Afroepprijs
A5: ='1-Contractblad totaal'!A5 -> Gebouw/plaats | B5: ='1-Contractblad totaal'!B5 -> Divers
A6: ='1-Contractblad totaal'!A6 -> Referentie nummer | B6: ='1-Contractblad totaal'!B6 -> Invoer
A7: ='1-Contractblad totaal'!A8 -> Naam dienstverlener | B7: ='1-Contractblad totaal'!B8 -> 0
A8: ='1-Contractblad totaal'!A9 -> Prijspeil | B8: ='1-Contractblad totaal'!B9 -> 45017
A11: Vloerenonderhoud (inclusief uit-/inruimen van het meubilair)
C13: Prijs p/m² excl. btw
A14: Activiteit | B14: Toelichting | C14: 0-100m² | D14: 101-500m² | E14: 501-1000m² | F14: > 1000m²
A15: Lino-/marmoleum conserveren | B15: 2 lagen | C15: 0 | D15: 0 | E15: 0 | F15: 0
A16: Lino-/marmoleum sprayen | B16: geheel | C16: 0 | D16: 0 | E16: 0 | F16: 0
A17: Steen/PVC schrobben | C17: 0 | D17: 0 | E17: 0 | F17: 0
A18: Tapijt sproeiextraheren | C18: 0 | D18: 0 | E18: 0 | F18: 0
A20: Reinigen bureau-elektronica reinigen
E21: Prijs p/stuk excl. btw
A22: Apparatuur/onderdeel | B22: Toelichting | E22: Aantal stuks 0-50 | F22: Aantal stuks > 50
A23: Systeemkast | B23: Methode en eindresultaat omschrijven. | E23: 0 | F23: 0
A24: Monitor | B24: Methode en eindresultaat omschrijven. | E24: 0 | F24: 0
A25: Toetsenbord inclusief muis | B25: Methode en eindresultaat omschrijven. | E25: 0 | F25: 0
A26: Printer klein | B26: Methode en eindresultaat omschrijven. | E26: 0 | F26: 0
A27: Printer groot | B27: Methode en eindresultaat omschrijven. | E27: 0 | F27: 0
A29: Reinigen raambekleding
A31: Activiteit | B31: Toelichting | E31: Prijs p/m² onder 100m² excl. btw | F31: Prijs p/m² boven 100m² excl. btw
A32: Vitrage | B32: Methode en eindresultaat omschrijven. | E32: 0 | F32: 0
A33: Overgordijnen | B33: Methode en eindresultaat omschrijven. | E33: 0 | F33: 0
A34: Verticale lamellen stof | B34: Methode en eindresultaat omschrijven. | E34: 0 | F34: 0
A35: Verticale lamellen metaal/kunststof | B35: Methode en eindresultaat omschrijven. | E35: 0 | F35: 0
A36: Horizontale lamellen | B36: Methode en eindresultaat omschrijven. | E36: 0 | F36: 0
A38: Regietarieven
A40: Activiteit | B40: Toelichting | F40: Prijs p/uur excl. btw
A41: Schoonmaakonderhoud | B41: Maandag - Vrijdag | F41: 0
A42: Schoonmaakonderhoud | B42: Zaterdag - zondag (incl. 50% toeslag conform cao) | F42: 0
A43: Schoonmaakonderhoud | B43: Feestdagen (incl. 150% toeslag conform cao) | F43: 0
A44: Glazenwasserswerkzaamheden | B44: Maandag - Vrijdag | F44: 0
A46: Opmerking:
A47: Alle prijzen inclusief materialen en middelen, voorrijkosten en overige bijkomende kosten.
A48: Mits anders aangegeven is de uitvoering op reguliere werktijden: maandag t/m vrijdag [06.00 en 21.30 uur]

Sheet 10-Glasbewassing
A1: Invoervelden
E2: Glassoort | F2: M² prijs
A3: ='1-Contractblad totaal'!A3 -> Naam opdrachtgever | B3: ='1-Contractblad totaal'!B3 -> Hoogheemraadschap De Stichtse Rijnlanden | E3: Bi-Bu-sep
A4: ='1-Contractblad totaal'!A4 -> Calculatie onderdeel | B4: =MID(CELL("bestandsnaam",$D$9),SEARCH("]",CELL("bestandsnaam",$D$9),1)+1,256) -> 10-Glasbewassing
A5: ='1-Contractblad totaal'!A5 -> Gebouw/plaats | B5: ='1-Contractblad totaal'!B5 -> Divers
A6: ='1-Contractblad totaal'!A6 -> Referentie nummer | B6: ='1-Contractblad totaal'!B6 -> Invoer
A7: ='1-Contractblad totaal'!A8 -> Naam dienstverlener | B7: ='1-Contractblad totaal'!B8 -> 0
A8: ='1-Contractblad totaal'!A9 -> Prijspeil | B8: ='1-Contractblad totaal'!B9 -> 45017
A12: Locatie | B12: Glassoort | C12: Aanvullende omschrijving | D12: Aantal m2 | E12: Kosten per m2 | F12: Kosten klimmateriaal per beurt | G12: Kosten per beurt | H12: Frequentie per jaar | I12: Totaalkosten per jaar
A13: Dependance werkplaats Utrecht | B13: Bi-Bu-Sep | D13: 104.9 | E13: =VLOOKUP(B13,$E$3:$F$10,2,FALSE) -> 0 | F13: 0 | G13: =(D13*E13)+F13 -> 0 | H13: 1 | I13: =H13*G13 -> 0
A14: MRB Trappershome Houten | B14: Bi-Bu-Sep | D14: 14.8 | E14: =VLOOKUP(B14,$E$3:$F$10,2,FALSE) -> 0 | F14: 0 | G14: =(D14*E14)+F14 -> 0 | H14: 2 | I14: =H14*G14 -> 0
A15: MRB Montfoort | B15: Bi-Bu-Sep | D15: 8.5 | E15: =VLOOKUP(B15,$E$3:$F$10,2,FALSE) -> 0 | F15: 0 | G15: =(D15*E15)+F15 -> 0 | H15: 1 | I15: =H15*G15 -> 0
A16: MRB Breukelen | B16: Bi-Bu-Sep | D16: 9.2 | E16: =VLOOKUP(B16,$E$3:$F$10,2,FALSE) -> 0 | F16: 0 | G16: =(D16*E16)+F16 -> 0 | H16: 1 | I16: =H16*G16 -> 0
A17: MRB Woerden | B17: Bi-Bu-Sep | D17: 12.5 | E17: =VLOOKUP(B17,$E$3:$F$10,2,FALSE) -> 0 | F17: 0 | G17: =(D17*E17)+F17 -> 0 | H17: 1 | I17: =H17*G17 -> 0
A19: Totaal | D19: =SUM(D13:D17) -> 149.9 | F19: =SUM(F13:F17) -> 0 | I19: =SUM(I13:I17) -> 0

Sheet 11-Machinekosten
A2: ='1-Contractblad totaal'!A3 -> Naam opdrachtgever | B2: ='1-Contractblad totaal'!B3 -> Hoogheemraadschap De Stichtse Rijnlanden
A3: ='1-Contractblad totaal'!A4 -> Calculatie onderdeel | B3: =MID(CELL("bestandsnaam",$D$9),SEARCH("]",CELL("bestandsnaam",$D$9),1)+1,256) -> 11-Machinekosten
A4: ='1-Contractblad totaal'!A5 -> Gebouw/plaats | B4: ='1-Contractblad totaal'!B5 -> Divers
A5: ='1-Contractblad totaal'!A6 -> Referentie nummer | B5: ='1-Contractblad totaal'!B6 -> Invoer
A6: ='1-Contractblad totaal'!A8 -> Naam dienstverlener | B6: ='1-Contractblad totaal'!B8 -> 0
A7: ='1-Contractblad totaal'!A9 -> Prijspeil | B7: ='1-Contractblad totaal'!B9 -> 45017
A10: Locatie | B10: Machine | C10: Omschrijving | D10: Catalogus prijs | E10: Korting | F10: Netto aanschaf prijs | G10: Afschrijvings- termijn in jaren | H10: Restwaarde | I10: Afschrijvings- kosten per jaar | J10: Onderhouds- kosten per jaar | K10: Renteverlies per jaar | L10: Verzekerings- kosten per jaar | N10: Totaal kosten per jaar per machine | P10: Inzet van het aantal machines [stuks] | Q10: Totaal kosten per jaar
J11: 0 | K11: 0 | L11: 0
A12: Gemalen Waterbeheer | D12: 0 | E12: 0 | F12: =D12-E12 -> 0 | G12: 0 | H12: 0 | I12: =IF(G12=0,0,(F12-H12)/G12) -> 0 | J12: =D12*$J$11 -> 0 | K12: =D12*$K$11 -> 0 | L12: =$L$11*D12 -> 0 | N12: =SUM(I12:L12) -> 0 | P12: 0 | Q12: =N12*P12 -> 0
A13: Muskusrattenbeheer | D13: 0 | E13: 0 | F13: =D13-E13 -> 0 | G13: 0 | H13: 0 | I13: =IF(G13=0,0,(F13-H13)/G13) -> 0 | J13: =D13*$J$11 -> 0 | K13: =D13*$K$11 -> 0 | L13: =$L$11*D13 -> 0 | N13: =SUM(I13:L13) -> 0 | P13: 0 | Q13: =N13*P13 -> 0
D14: 0 | E14: 0 | F14: =D14-E14 -> 0 | G14: 0 | H14: 0 | I14: =IF(G14=0,0,(F14-H14)/G14) -> 0 | J14: =D14*$J$11 -> 0 | K14: =D14*$K$11 -> 0 | L14: =$L$11*D14 -> 0 | N14: =SUM(I14:L14) -> 0 | P14: 0 | Q14: =N14*P14 -> 0
D15: 0 | E15: 0 | F15: =D15-E15 -> 0 | G15: 0 | H15: 0 | I15: =IF(G15=0,0,(F15-H15)/G15) -> 0 | J15: =D15*$J$11 -> 0 | K15: =D15*$K$11 -> 0 | L15: =$L$11*D15 -> 0 | N15: =SUM(I15:L15) -> 0 | P15: 0 | Q15: =N15*P15 -> 0
D16: 0 | E16: 0 | F16: =D16-E16 -> 0 | G16: 0 | H16: 0 | I16: =IF(G16=0,0,(F16-H16)/G16) -> 0 | J16: =D16*$J$11 -> 0 | K16: =D16*$K$11 -> 0 | L16: =$L$11*D16 -> 0 | N16: =SUM(I16:L16) -> 0 | P16: 0 | Q16: =N16*P16 -> 0
D17: 0 | E17: 0 | F17: =D17-E17 -> 0 | G17: 0 | H17: 0 | I17: =IF(G17=0,0,(F17-H17)/G17) -> 0 | J17: =D17*$J$11 -> 0 | K17: =D17*$K$11 -> 0 | L17: =$L$11*D17 -> 0 | N17: =SUM(I17:L17) -> 0 | P17: 0 | Q17: =N17*P17 -> 0
D18: 0 | E18: 0 | F18: =D18-E18 -> 0 | G18: 0 | H18: 0 | I18: =IF(G18=0,0,(F18-H18)/G18) -> 0 | J18: =D18*$J$11 -> 0 | K18: =D18*$K$11 -> 0 | L18: =$L$11*D18 -> 0 | N18: =SUM(I18:L18) -> 0 | P18: 0 | Q18: =N18*P18 -> 0
D19: 0 | E19: 0 | F19: =D19-E19 -> 0 | G19: 0 | H19: 0 | I19: =IF(G19=0,0,(F19-H19)/G19) -> 0 | J19: =D19*$J$11 -> 0 | K19: =D19*$K$11 -> 0 | L19: =$L$11*D19 -> 0 | N19: =SUM(I19:L19) -> 0 | P19: 0 | Q19: =N19*P19 -> 0
D20: 0 | E20: 0 | F20: =D20-E20 -> 0 | G20: 0 | H20: 0 | I20: =IF(G20=0,0,(F20-H20)/G20) -> 0 | J20: =D20*$J$11 -> 0 | K20: =D20*$K$11 -> 0 | L20: =$L$11*D20 -> 0 | N20: =SUM(I20:L20) -> 0 | P20: 0 | Q20: =N20*P20 -> 0
D21: 0 | E21: 0 | F21: =D21-E21 -> 0 | G21: 0 | H21: 0 | I21: =IF(G21=0,0,(F21-H21)/G21) -> 0 | J21: =D21*$J$11 -> 0 | K21: =D21*$K$11 -> 0 | L21: =$L$11*D21 -> 0 | N21: =SUM(I21:L21) -> 0 | P21: 0 | Q21: =N21*P21 -> 0
D22: 0 | E22: 0 | F22: =D22-E22 -> 0 | G22: 0 | H22: 0 | I22: =IF(G22=0,0,(F22-H22)/G22) -> 0 | J22: =D22*$J$11 -> 0 | K22: =D22*$K$11 -> 0 | L22: =$L$11*D22 -> 0 | N22: =SUM(I22:L22) -> 0 | P22: 0 | Q22: =N22*P22 -> 0
D23: 0 | E23: 0 | F23: =D23-E23 -> 0 | G23: 0 | H23: 0 | I23: =IF(G23=0,0,(F23-H23)/G23) -> 0 | J23: =D23*$J$11 -> 0 | K23: =D23*$K$11 -> 0 | L23: =$L$11*D23 -> 0 | N23: =SUM(I23:L23) -> 0 | P23: 0 | Q23: =N23*P23 -> 0
D24: 0 | E24: 0 | F24: =D24-E24 -> 0 | G24: 0 | H24: 0 | I24: =IF(G24=0,0,(F24-H24)/G24) -> 0 | J24: =D24*$J$11 -> 0 | K24: =D24*$K$11 -> 0 | L24: =$L$11*D24 -> 0 | N24: =SUM(I24:L24) -> 0 | P24: 0 | Q24: =N24*P24 -> 0
D25: 0 | E25: 0 | F25: =D25-E25 -> 0 | G25: 0 | H25: 0 | I25: =IF(G25=0,0,(F25-H25)/G25) -> 0 | J25: =D25*$J$11 -> 0 | K25: =D25*$K$11 -> 0 | L25: =$L$11*D25 -> 0 | N25: =SUM(I25:L25) -> 0 | P25: 0 | Q25: =N25*P25 -> 0
D26: 0 | E26: 0 | F26: =D26-E26 -> 0 | G26: 0 | H26: 0 | I26: =IF(G26=0,0,(F26-H26)/G26) -> 0 | J26: =D26*$J$11 -> 0 | K26: =D26*$K$11 -> 0 | L26: =$L$11*D26 -> 0 | N26: =SUM(I26:L26) -> 0 | P26: 0 | Q26: =N26*P26 -> 0
B28: Totaal | P28: =SUM(P12:P26) -> 0 | Q28: =SUM(Q12:Q26) -> 0

Sheet 12-Sanitaire voorzieningen
A1: Invoervelden
A3: ='1-Contractblad totaal'!A3 -> Naam opdrachtgever | B3: ='1-Contractblad totaal'!B3 -> Hoogheemraadschap De Stichtse Rijnlanden
A4: ='1-Contractblad totaal'!A4 -> Calculatie onderdeel | B4: =MID(CELL("bestandsnaam",$C$8),SEARCH("]",CELL("bestandsnaam",$C$8),1)+1,256) -> 12-Sanitaire voorzieningen
A5: ='1-Contractblad totaal'!A5 -> Gebouw/plaats | B5: ='1-Contractblad totaal'!B5 -> Divers
A6: ='1-Contractblad totaal'!A6 -> Referentie nummer | B6: ='1-Contractblad totaal'!B6 -> Invoer
A7: ='1-Contractblad totaal'!A8 -> Naam dienstverlener | B7: ='1-Contractblad totaal'!B8 -> 0
A8: ='1-Contractblad totaal'!A9 -> Prijspeil | B8: ='1-Contractblad totaal'!B9 -> 45017
A11: Locatie | B11: Omschrijving artikel | C11: Omschrijving eenheden | D11: Merk en productlijn | E11: verwacht verbruik (eenheid) per jaar | F11: Aantal dispensers | G11: Prijs per eenheid | H11: All-in huurprijs per eenheid per maand inclusief verbruik | I11: Prijs per jaar
A12: Gemalen Waterbeheer | B12: Papieren handdoekjes | E12: nvt | F12: nvt | H12: nvt | I12: nvt
A13: Gemalen Waterbeheer | B13: Toiletpapier | E13: nvt | F13: nvt | H13: nvt | I13: nvt
A14: Gemalen Waterbeheer | B14: Toiletbril reiniger | E14: nvt | F14: nvt | H14: nvt | I14: nvt
A15: Gemalen Waterbeheer | B15: Afvalbak | E15: nvt | F15: nvt | H15: nvt | I15: nvt
A16: Gemalen Waterbeheer | B16: Hygienebox | E16: nvt | F16: nvt | H16: nvt | I16: nvt
A17: Gemalen Waterbeheer | B17: Zeepdispenser | E17: nvt | F17: nvt | H17: nvt | I17: nvt
A18: Gemalen Waterbeheer | B18: Toiletborstelgarnituur | E18: nvt | F18: nvt | H18: nvt | I18: nvt
A19: Muskusrattenbeheer | B19: Papieren handdoekjes | E19: nvt | F19: nvt | H19: nvt | I19: nvt
A20: Muskusrattenbeheer | B20: Toiletpapier | E20: nvt | F20: nvt | H20: nvt | I20: nvt
A21: Muskusrattenbeheer | B21: Toiletbril reiniger | E21: nvt | F21: nvt | H21: nvt | I21: nvt
A22: Muskusrattenbeheer | B22: Afvalbak | E22: nvt | F22: nvt | H22: nvt | I22: nvt
A23: Muskusrattenbeheer | B23: Hygienebox | E23: nvt | F23: nvt | H23: nvt | I23: nvt
... A25: Muskusrattenbeheer | B25: Toiletborstelgarnituur | E25: nvt | F25: nvt | H25: nvt | I25: nvt
A27: Totaal | I27: =SUM(I12:I25) -> 0
A29: Aan de opgegeven indicatieve eenheden kunnen geen rechten worden ontleend.
A31: Alle prijzen zijn all-in, inclusief loonkosten, materiaal-, reis- en verblijfskosten, sociale lasten, voorrijkosten, parkeerkosten, reserveringskosten, (de)montagekosten, transportkosten, aflever- verpakkingen, milieubelastingen, administratie, andere belastingen dan btw, verzekeringspremies e.d.
