Workbook
Name OLE_LINK1: Tarievenblad!#REF!

Sheet Tarievenblad
B1: EA Notuleerdiensten IUC/DJI/IENEA/MHT/2022-01
B2: Tarievenblad | C2: Inschrijver dient alleen de geel gekleurde cellen in te vullen!
B3: Bijlage 4 | C3: Het uurtarief wordt automatisch door berekend naar tarief per 15 minuten.
B4: Versie 1.0 4 mei 2022 | C4: Inschrijvers dient alle gevraagde tarieven binnen de vastgestelde bandbreedtes op te geven, zie onder andere paragraaf 5.4 en 5.5.3 Beschrijvend document.
B5: Type notuleerdienst | C5: all in uurtarief exclusief btw | D5: geprognotiseerde fictieve afname aantal overleggen maal vast aantal fictieve vergaderuren | E5: subtotaal exclusief btw | G5: uurtarief per 15 minuten exclusief btw uurtarief / 4 = uurtarief per kwartier
A6: 1 | B6: Beknopt samenvattend verslag | C6: 0 | D6: =Fictiefaantal!F6 -> 400 | E6: =C6*D6 -> 0 | G6: =C6/4 -> 0
A7: 2 | B7: Uitgebreid samenvattend verslag | C7: 0 | D7: =Fictiefaantal!F7 -> 200 | E7: =C7*D7 -> 0 | G7: =C7/4 -> 0
A8: 3 | B8: Woordelijke verslaglegging | C8: 0 | D8: =Fictiefaantal!F8 -> 100 | E8: =C8*D8 -> 0 | G8: =C8/4 -> 0
A9: 4 | B9: (Sfeer)impressie | C9: 0 | D9: =Fictiefaantal!F9 -> 80 | E9: =C9*D9 -> 0 | G9: =C9/4 -> 0
A11: 5 | B11: Uitwerken geluidsopname tot beknopt samenvattend verslag* | C11: 0 | D11: =Fictiefaantal!F11 -> 30 | E11: =C11*D11 -> 0 | G11: =C11/4 -> 0
A12: 6 | B12: Uitwerken geluidsopname tot uitgebreid samenvattend verslag* | C12: 0 | D12: =Fictiefaantal!F12 -> 15 | E12: =C12*D12 -> 0 | G12: =C12/4 -> 0
A13: 7 | B13: Uitwerken geluidsopname tot woordelijke verslaglegging* | C13: 0 | D13: =Fictiefaantal!F13 -> 15 | E13: =C13*D13 -> 0 | G13: =C13/4 -> 0
B15: * Opdrachtgever levert een geluidsbestand aan Opdrachtnemer om uit te werken
A17: 8 | B17: Opslagpercentage avonduren notulist | G17: 0.1
B19: Totaal fictieve inschrijfprijs exclusief btw | C19: =SUM(E6:E9,E11:E13) -> 0
B24: Naam
B25: Functie
B26: Bedrijf
B27: Handtekening

Sheet Fictiefaantal
D2: Fictief | E2: Fictief | F2: Fictief | H2: Tarief | I2: Tarief | J2: Fictief totaal | K2: Fictief totaal
D3: aantal overleggen | E3: aantal vergaderuren | F3: Totaal uren | H3: Ondergrens | I3: Bovengrens | J3: Ondergrens | K3: Bovengrens
J4: tbv G-F-M | K4: tbv G-F-M
C6: Beknopt samenvattend verslag | D6: 200 | E6: 2 | F6: =D6*E6 -> 400 | H6: 75 | I6: 200 | J6: =H6*F6 -> 30000 | K6: =I6*F6 -> 80000
C7: Uitgebreid samenvattend verslag | D7: 100 | E7: 2 | F7: =D7*E7 -> 200 | H7: 100 | I7: 250 | J7: =H7*F7 -> 20000 | K7: =I7*F7 -> 50000
C8: Woordelijke verslaglegging | D8: 50 | E8: 2 | F8: =D8*E8 -> 100 | H8: 125 | I8: 300 | J8: =H8*F8 -> 12500 | K8: =I8*F8 -> 30000
C9: (Sfeer)impressie | D9: 20 | E9: 4 | F9: =D9*E9 -> 80 | H9: 100 | I9: 250 | J9: =H9*F9 -> 8000 | K9: =I9*F9 -> 20000
C11: Uitwerken geluidsopname tot beknopt samenvattend verslag* | D11: 10 | E11: 3 | F11: =D11*E11 -> 30 | H11: 75 | I11: 200 | J11: =H11*F11 -> 2250 | K11: =I11*F11 -> 6000
C12: Uitwerken geluidsopname tot uitgebreid samenvattend verslag* | D12: 5 | E12: 3 | F12: =D12*E12 -> 15 | H12: 100 | I12: 225 | J12: =H12*F12 -> 1500 | K12: =I12*F12 -> 3375
C13: Uitwerken geluidsopname tot woordelijke verslaglegging* | D13: 5 | E13: 3 | F13: =D13*E13 -> 15 | H13: 125 | I13: 250 | J13: =H13*F13 -> 1875 | K13: =I13*F13 -> 3750
J14: =J6+J7+J8+J9+J11+J12+J13 -> 76125 | K14: =K6+K7+K8+K9+K11+K12+K13 -> 193125
C15: * Opdrachtgever levert een geluidsbestand aan Opdrachtnemer om uit te werken
C16: Het fictieve aantal is slechts bedoeld om te kunnen komen tot een Totaal fictieve inschrijfsprijs exclusief btw. Deze som is nodig voor het toepassen van de gewogen-factor-methode (G-F-M) uit paragraaf 5.5.3 van het Beschrijvend document van deze aanbesteding. Inschrijver kan dan ook geen rechten ontlenen aan de fictieve aantallen in dit Tarievenblad.

Sheet Blad3
