Workbook
Name OLE_LINK2: 'Beoordelen open vragen'!$A$4
Name Score: 'Beoordelen open vragen'!$B$3:$B$8

Sheet Beoordelen open vragen
A1: Beoordeling criterium Open vragen
A2: Naast de gestelde eisen uit de onderhavige aanbesteding is de aanbestedende dienst op zoek naar een opdrachtnemer die haar gedurende de periode van de overeenkomst kan voorzien van veel toegevoegde waarde. Hoe meer toegevoegde waarde een inschrijver biedt, hoe hoger zij op dit onderdeel scoort. Alle antwoorden van een inschrijver dienen realistisch en uitvoerbaar te zijn. Een honorering van de antwoorden zal nimmer leiden tot een verplichte afname van datgene wat inschrijver heeft ingediend.
A3: 6.1.1 Plan van aanpak | B3: Score:
A4: De opdrachtgever hecht veel waarde aan een zo geruisloos mogelijke overgang van de huidige dienstverlening/ situatie naar de inschrijver indien deze de opdracht gegund krijgt. Inschrijver dient te beschrijven op maximaal 4 A4 (toe te voegen op TenderNed): - Op welke wijze inschrijver haar dienstverlening gaat opstarten (start controlejaar 2023, uiterlijk april 2024 inclusief controleverklaring gereed, rekening houdend met de schoolvakanties); - Op welke wijze inschrijver de dossierkennis eigen gaat maken; - Op welke wijze inschrijver de interim-controle gaat plannen en opstarten; - Wanneer zij wat gaat uitvoeren om de gevraagde kwaliteit en uitvoering te kunnen garanderen; - Wat verwacht inschrijver van de opdrachtgever bij het opvragen van dossiers (volstaat een inlog op de systemen van de opdrachtgever of moet de opdrachtgever zelf alles bij elkaar zoeken en aanleveren?); - Wijze van proactief communiceren en informeren richting ROC Friese Poort, Friesland College, de concerncontroller, het College van Bestuur en de Raad van Toezicht; - Wat inschrijver verwacht met betrekking tot de beschikbaarheid van de opdrachtgever en op welk niveau. | B4: Uitmuntend
A5: 6.1.2 Werkwijze jaarrekening | B5: Goed
A6: Inschrijver dient te beschrijven in een leesbare PDF op maximaal 4 A4 (toe te voegen op TenderNed) hoe zij samenwerkt met de opdrachtgever, bestaande uit: - Inspanning in uren door de opdrachtgever; - De werkwijze van inschrijver, de doorlooptijd; - Wat vraagt de inschrijver verder van de opdrachtgever om de interim-controle en de jaarrekeningcontrole te realiseren; - Hoe gaat inschrijver om met een situatie waarbij uitsluitend online gewerkt mag worden?; - Op welke wijze voorkomt inschrijver een discussie over meerwerk, waar ligt voor inschrijver de grens? | B6: Voldoende
A7: 6.1.3 Kwaliteit, continuïteit van de dienstverlening en teamsamenstelling | B7: Matig
A8: Opdrachtgever hecht veel waarde aan vaste contactpersonen en een vaste teamsamenstelling. Inschrijver dient te beschrijven op maximaal 3 A4 (toe te voegen op TenderNed) op welke wijze zij de continuïteit en vereiste kennis/ ervaringsniveau van het adviesteam en van de dienstverlening zelf maximaal zal waarborgen. Inschrijver beschrijft daarbij: - Een overzicht van de teamsamenstelling (kwaliteit en kwantiteit) die inschrijver na gunning zal inzetten met CV’s waaruit de ervaring met het onderwijs blijkt, bij voorkeur in het MBO-onderwijs. - Hoe zij de dossierkennis en kennis van het onderwijs binnen het controle-samenstellingsteam van de inschrijver waarborgt. - Op welke wijze inschrijver er maximaal voor kan zorgdragen dat de teamsamenstelling de eerste 36 maanden ongewijzigd blijft. - Daarnaast beschrijft inschrijver hoeveel (minimaal 2) deskundigen op het gebied van het Voortgezet Onderwijs zij in dienst heeft om de continuïteit te kunnen waarborgen. | B8: Onvoldoende
A9: 6.1.4 Informatievoorziening
A10: Inschrijver dient te beschrijven op maximaal 2 A4 (toe te voegen op TenderNed) over welke informatie/communicatiemiddelen zij beschikt in relatie tot relevante ontwikkelingen buiten de invloedsfeer van de opdrachtgever. Hierbij kan onder andere gedacht worden aan opdrachtgever relevante fiscale regelgeving, bekostiging, sociaaleconomische wijzigingen, informatiebeveiliging etc. Inschrijver beschrijft daarbij minimaal waar die informatievoorziening uit bestaat en met welke frequentie zij deze beschikbaar stelt specifiek voor de opdrachtgever. Inschrijver beschrijft daarbij tevens de deelname aan overleggen bij OCW, VO-raad en andere relevante instanties of netwerken.
A11: 6.1.5 Rapportagevorm
A12: Inschrijver dient te beschrijven op maximaal 20 A4 (toe te voegen op TenderNed) op welke wijze rapportages worden opgesteld. Inschrijver laat minimaal een voorbeeld zien van (de voorbeeldrapportages maken onderdeel uit van de maximaal 20 A4): - 1 concept type managementletter; - 1 concept accountantsverslag van een Voortgezet Onderwijs organisatie. Beoordelaars letten daarbij op: - de mate van leesbaarheid en volledigheid; - de visualisatie in de rapportage van de meerjarige ontwikkelingen van de bedrijfsvoering.

Sheet Beoordelen interview
A1: Beoordeling criterium Interview
A2: De beoordelaars zullen vijf vragen stellen, deze vragen zijn opgesteld VOOR publicatie van deze aanbesteding en in bewaring gesteld bij het begeleidende adviesbureau. De beoordelingsgroep wil voldoende vertrouwen in het kennisniveau van het adviesteam krijgen, een toelichting op de beantwoording van gestelde open vragen en men wil een duidelijk vertrouwen hebben in de kwaliteit van het adviesteam van de inschrijver.
A3: Vraag 1
A4: Vraag 2
A5: Vraag 3
A6: Vraag 4
A7: Vraag 5

Sheet Beoordelaar 1
A1: Beoordelaar 1: <<>> | C1: <NAAM INSCHRIJVER>
A2: ='Beoordelen open vragen'!A1 -> Beoordeling criterium Open vragen | C2: Score:
A3: ='Beoordelen open vragen'!A3 -> 6.1.1 Plan van aanpak | C3: Score:
A4: ='Beoordelen open vragen'!A4 -> De opdrachtgever hecht veel waarde aan een zo geruisloos mogelijke overgang van de huidige dienstverlening/ situatie naar de inschrijver indien deze de opdracht gegund krijgt. Inschrijver dient te beschrijven op maximaal 4 A4 (toe te voegen op TenderNed): - Op welke wijze inschrijver haar dienstverlening gaat opstarten (start controlejaar 2023, uiterlijk april 2024 inclusief controleverklaring gereed, rekening houdend met de schoolvakanties); - Op welke wijze inschrijver de dossierkennis eigen gaat maken; - Op welke wijze inschrijver de interim-controle gaat plannen en opstarten; - Wanneer zij wat gaat uitvoeren om de gevraagde kwaliteit en uitvoering te kunnen garanderen; - Wat verwacht inschrijver van de opdrachtgever bij het opvragen van dossiers (volstaat een inlog op de systemen van de opdrachtgever of moet de opdrachtgever zelf alles bij elkaar zoeken en aanleveren?); - Wijze van proactief communiceren en informeren richting ROC Friese Poort, Friesland College, de concerncontroller, het College van Bestuur en de Raad van Toezicht; - Wat inschrijver verwacht met betrekking tot de beschikbaarheid van de opdrachtgever en op welk niveau. | C4: <MOTIVATIE>
A5: ='Beoordelen open vragen'!A5 -> 6.1.2 Werkwijze jaarrekening | C5: Score:
A6: ='Beoordelen open vragen'!A6 -> Inschrijver dient te beschrijven in een leesbare PDF op maximaal 4 A4 (toe te voegen op TenderNed) hoe zij samenwerkt met de opdrachtgever, bestaande uit: - Inspanning in uren door de opdrachtgever; - De werkwijze van inschrijver, de doorlooptijd; - Wat vraagt de inschrijver verder van de opdrachtgever om de interim-controle en de jaarrekeningcontrole te realiseren; - Hoe gaat inschrijver om met een situatie waarbij uitsluitend online gewerkt mag worden?; - Op welke wijze voorkomt inschrijver een discussie over meerwerk, waar ligt voor inschrijver de grens? | C6: <MOTIVATIE>
A7: ='Beoordelen open vragen'!A7 -> 6.1.3 Kwaliteit, continuïteit van de dienstverlening en teamsamenstelling | C7: Score:
A8: ='Beoordelen open vragen'!A8 -> Opdrachtgever hecht veel waarde aan vaste contactpersonen en een vaste teamsamenstelling. Inschrijver dient te beschrijven op maximaal 3 A4 (toe te voegen op TenderNed) op welke wijze zij de continuïteit en vereiste kennis/ ervaringsniveau van het adviesteam en van de dienstverlening zelf maximaal zal waarborgen. Inschrijver beschrijft daarbij: - Een overzicht van de teamsamenstelling (kwaliteit en kwantiteit) die inschrijver na gunning zal inzetten met CV’s waaruit de ervaring met het onderwijs blijkt, bij voorkeur in het MBO-onderwijs. - Hoe zij de dossierkennis en kennis van het onderwijs binnen het controle-samenstellingsteam van de inschrijver waarborgt. - Op welke wijze inschrijver er maximaal voor kan zorgdragen dat de teamsamenstelling de eerste 36 maanden ongewijzigd blijft. - Daarnaast beschrijft inschrijver hoeveel (minimaal 2) deskundigen op het gebied van het Voortgezet Onderwijs zij in dienst heeft om de continuïteit te kunnen waarborgen. | C8: <MOTIVATIE>
A9: =('Beoordelen open vragen'!A9) -> 6.1.4 Informatievoorziening | C9: Score:
A10: =('Beoordelen open vragen'!A10) -> Inschrijver dient te beschrijven op maximaal 2 A4 (toe te voegen op TenderNed) over welke informatie/communicatiemiddelen zij beschikt in relatie tot relevante ontwikkelingen buiten de invloedsfeer van de opdrachtgever. Hierbij kan onder andere gedacht worden aan opdrachtgever relevante fiscale regelgeving, bekostiging, sociaaleconomische wijzigingen, informatiebeveiliging etc. Inschrijver beschrijft daarbij minimaal waar die informatievoorziening uit bestaat en met welke frequentie zij deze beschikbaar stelt specifiek voor de opdrachtgever. Inschrijver beschrijft daarbij tevens de deelname aan overleggen bij OCW, VO-raad en andere relevante instanties of netwerken. | C10: <MOTIVATIE>
A11: ='Beoordelen open vragen'!A11 -> 6.1.5 Rapportagevorm | C11: Score:
A12: ='Beoordelen open vragen'!A12 -> Inschrijver dient te beschrijven op maximaal 20 A4 (toe te voegen op TenderNed) op welke wijze rapportages worden opgesteld. Inschrijver laat minimaal een voorbeeld zien van (de voorbeeldrapportages maken onderdeel uit van de maximaal 20 A4): - 1 concept type managementletter; - 1 concept accountantsverslag van een Voortgezet Onderwijs organisatie. Beoordelaars letten daarbij op: - de mate van leesbaarheid en volledigheid; - de visualisatie in de rapportage van de meerjarige ontwikkelingen van de bedrijfsvoering. | C12: <MOTIVATIE>
A15: ='Beoordelen interview'!A1 -> Beoordeling criterium Interview | C15: Score:
A16: ='Beoordelen interview'!A3 -> Vraag 1 | C16: Score:
C17: <MOTIVATIE>
A18: ='Beoordelen interview'!A4 -> Vraag 2 | C18: Score:
C19: <MOTIVATIE>
A20: ='Beoordelen interview'!A5 -> Vraag 3 | C20: Score:
C21: <MOTIVATIE>
A22: ='Beoordelen interview'!A6 -> Vraag 4 | C22: Score:
C23: <MOTIVATIE>
A24: ='Beoordelen interview'!A7 -> Vraag 5 | C24: Score:
C25: <MOTIVATIE>

Sheet Beoordelaar 2
A1: Beoordelaar 2: <<>> | C1: <NAAM INSCHRIJVER>
A2: ='Beoordelen open vragen'!A1 -> Beoordeling criterium Open vragen | C2: Score:
A3: ='Beoordelen open vragen'!A3 -> 6.1.1 Plan van aanpak | C3: Score:
A4: ='Beoordelen open vragen'!A4 -> De opdrachtgever hecht veel waarde aan een zo geruisloos mogelijke overgang van de huidige dienstverlening/ situatie naar de inschrijver indien deze de opdracht gegund krijgt. Inschrijver dient te beschrijven op maximaal 4 A4 (toe te voegen op TenderNed): - Op welke wijze inschrijver haar dienstverlening gaat opstarten (start controlejaar 2023, uiterlijk april 2024 inclusief controleverklaring gereed, rekening houdend met de schoolvakanties); - Op welke wijze inschrijver de dossierkennis eigen gaat maken; - Op welke wijze inschrijver de interim-controle gaat plannen en opstarten; - Wanneer zij wat gaat uitvoeren om de gevraagde kwaliteit en uitvoering te kunnen garanderen; - Wat verwacht inschrijver van de opdrachtgever bij het opvragen van dossiers (volstaat een inlog op de systemen van de opdrachtgever of moet de opdrachtgever zelf alles bij elkaar zoeken en aanleveren?); - Wijze van proactief communiceren en informeren richting ROC Friese Poort, Friesland College, de concerncontroller, het College van Bestuur en de Raad van Toezicht; - Wat inschrijver verwacht met betrekking tot de beschikbaarheid van de opdrachtgever en op welk niveau. | C4: <MOTIVATIE>
A5: ='Beoordelen open vragen'!A5 -> 6.1.2 Werkwijze jaarrekening | C5: Score:
A6: ='Beoordelen open vragen'!A6 -> Inschrijver dient te beschrijven in een leesbare PDF op maximaal 4 A4 (toe te voegen op TenderNed) hoe zij samenwerkt met de opdrachtgever, bestaande uit: - Inspanning in uren door de opdrachtgever; - De werkwijze van inschrijver, de doorlooptijd; - Wat vraagt de inschrijver verder van de opdrachtgever om de interim-controle en de jaarrekeningcontrole te realiseren; - Hoe gaat inschrijver om met een situatie waarbij uitsluitend online gewerkt mag worden?; - Op welke wijze voorkomt inschrijver een discussie over meerwerk, waar ligt voor inschrijver de grens? | C6: <MOTIVATIE>
A7: ='Beoordelen open vragen'!A7 -> 6.1.3 Kwaliteit, continuïteit van de dienstverlening en teamsamenstelling | C7: Score:
A8: ='Beoordelen open vragen'!A8 -> Opdrachtgever hecht veel waarde aan vaste contactpersonen en een vaste teamsamenstelling. Inschrijver dient te beschrijven op maximaal 3 A4 (toe te voegen op TenderNed) op welke wijze zij de continuïteit en vereiste kennis/ ervaringsniveau van het adviesteam en van de dienstverlening zelf maximaal zal waarborgen. Inschrijver beschrijft daarbij: - Een overzicht van de teamsamenstelling (kwaliteit en kwantiteit) die inschrijver na gunning zal inzetten met CV’s waaruit de ervaring met het onderwijs blijkt, bij voorkeur in het MBO-onderwijs. - Hoe zij de dossierkennis en kennis van het onderwijs binnen het controle-samenstellingsteam van de inschrijver waarborgt. - Op welke wijze inschrijver er maximaal voor kan zorgdragen dat de teamsamenstelling de eerste 36 maanden ongewijzigd blijft. - Daarnaast beschrijft inschrijver hoeveel (minimaal 2) deskundigen op het gebied van het Voortgezet Onderwijs zij in dienst heeft om de continuïteit te kunnen waarborgen. | C8: <MOTIVATIE>
A9: =('Beoordelen open vragen'!A9) -> 6.1.4 Informatievoorziening | C9: Score:
A10: =('Beoordelen open vragen'!A10) -> Inschrijver dient te beschrijven op maximaal 2 A4 (toe te voegen op TenderNed) over welke informatie/communicatiemiddelen zij beschikt in relatie tot relevante ontwikkelingen buiten de invloedsfeer van de opdrachtgever. Hierbij kan onder andere gedacht worden aan opdrachtgever relevante fiscale regelgeving, bekostiging, sociaaleconomische wijzigingen, informatiebeveiliging etc. Inschrijver beschrijft daarbij minimaal waar die informatievoorziening uit bestaat en met welke frequentie zij deze beschikbaar stelt specifiek voor de opdrachtgever. Inschrijver beschrijft daarbij tevens de deelname aan overleggen bij OCW, VO-raad en andere relevante instanties of netwerken. | C10: <MOTIVATIE>
A11: ='Beoordelen open vragen'!A11 -> 6.1.5 Rapportagevorm | C11: Score:
A12: ='Beoordelen open vragen'!A12 -> Inschrijver dient te beschrijven op maximaal 20 A4 (toe te voegen op TenderNed) op welke wijze rapportages worden opgesteld. Inschrijver laat minimaal een voorbeeld zien van (de voorbeeldrapportages maken onderdeel uit van de maximaal 20 A4): - 1 concept type managementletter; - 1 concept accountantsverslag van een Voortgezet Onderwijs organisatie. Beoordelaars letten daarbij op: - de mate van leesbaarheid en volledigheid; - de visualisatie in de rapportage van de meerjarige ontwikkelingen van de bedrijfsvoering. | C12: <MOTIVATIE>
A15: ='Beoordelen interview'!A1 -> Beoordeling criterium Interview | C15: Score:
A16: ='Beoordelen interview'!A3 -> Vraag 1 | C16: Score:
C17: <MOTIVATIE>
A18: ='Beoordelen interview'!A4 -> Vraag 2 | C18: Score:
C19: <MOTIVATIE>
A20: ='Beoordelen interview'!A5 -> Vraag 3 | C20: Score:
C21: <MOTIVATIE>
A22: ='Beoordelen interview'!A6 -> Vraag 4 | C22: Score:
C23: <MOTIVATIE>
A24: ='Beoordelen interview'!A7 -> Vraag 5 | C24: Score:
C25: <MOTIVATIE>

Sheet Beoordelaar 3
A1: Beoordelaar 3: <<>> | C1: <NAAM INSCHRIJVER>
A2: ='Beoordelen open vragen'!A1 -> Beoordeling criterium Open vragen | C2: Score:
A3: ='Beoordelen open vragen'!A3 -> 6.1.1 Plan van aanpak | C3: Score:
A4: ='Beoordelen open vragen'!A4 -> De opdrachtgever hecht veel waarde aan een zo geruisloos mogelijke overgang van de huidige dienstverlening/ situatie naar de inschrijver indien deze de opdracht gegund krijgt. Inschrijver dient te beschrijven op maximaal 4 A4 (toe te voegen op TenderNed): - Op welke wijze inschrijver haar dienstverlening gaat opstarten (start controlejaar 2023, uiterlijk april 2024 inclusief controleverklaring gereed, rekening houdend met de schoolvakanties); - Op welke wijze inschrijver de dossierkennis eigen gaat maken; - Op welke wijze inschrijver de interim-controle gaat plannen en opstarten; - Wanneer zij wat gaat uitvoeren om de gevraagde kwaliteit en uitvoering te kunnen garanderen; - Wat verwacht inschrijver van de opdrachtgever bij het opvragen van dossiers (volstaat een inlog op de systemen van de opdrachtgever of moet de opdrachtgever zelf alles bij elkaar zoeken en aanleveren?); - Wijze van proactief communiceren en informeren richting ROC Friese Poort, Friesland College, de concerncontroller, het College van Bestuur en de Raad van Toezicht; - Wat inschrijver verwacht met betrekking tot de beschikbaarheid van de opdrachtgever en op welk niveau. | C4: <MOTIVATIE>
A5: ='Beoordelen open vragen'!A5 -> 6.1.2 Werkwijze jaarrekening | C5: Score:
A6: ='Beoordelen open vragen'!A6 -> Inschrijver dient te beschrijven in een leesbare PDF op maximaal 4 A4 (toe te voegen op TenderNed) hoe zij samenwerkt met de opdrachtgever, bestaande uit: - Inspanning in uren door de opdrachtgever; - De werkwijze van inschrijver, de doorlooptijd; - Wat vraagt de inschrijver verder van de opdrachtgever om de interim-controle en de jaarrekeningcontrole te realiseren; - Hoe gaat inschrijver om met een situatie waarbij uitsluitend online gewerkt mag worden?; - Op welke wijze voorkomt inschrijver een discussie over meerwerk, waar ligt voor inschrijver de grens? | C6: <MOTIVATIE>
A7: ='Beoordelen open vragen'!A7 -> 6.1.3 Kwaliteit, continuïteit van de dienstverlening en teamsamenstelling | C7: Score:
A8: ='Beoordelen open vragen'!A8 -> Opdrachtgever hecht veel waarde aan vaste contactpersonen en een vaste teamsamenstelling. Inschrijver dient te beschrijven op maximaal 3 A4 (toe te voegen op TenderNed) op welke wijze zij de continuïteit en vereiste kennis/ ervaringsniveau van het adviesteam en van de dienstverlening zelf maximaal zal waarborgen. Inschrijver beschrijft daarbij: - Een overzicht van de teamsamenstelling (kwaliteit en kwantiteit) die inschrijver na gunning zal inzetten met CV’s waaruit de ervaring met het onderwijs blijkt, bij voorkeur in het MBO-onderwijs. - Hoe zij de dossierkennis en kennis van het onderwijs binnen het controle-samenstellingsteam van de inschrijver waarborgt. - Op welke wijze inschrijver er maximaal voor kan zorgdragen dat de teamsamenstelling de eerste 36 maanden ongewijzigd blijft. - Daarnaast beschrijft inschrijver hoeveel (minimaal 2) deskundigen op het gebied van het Voortgezet Onderwijs zij in dienst heeft om de continuïteit te kunnen waarborgen. | C8: <MOTIVATIE>
A9: =('Beoordelen open vragen'!A9) -> 6.1.4 Informatievoorziening | C9: Score:
A10: =('Beoordelen open vragen'!A10) -> Inschrijver dient te beschrijven op maximaal 2 A4 (toe te voegen op TenderNed) over welke informatie/communicatiemiddelen zij beschikt in relatie tot relevante ontwikkelingen buiten de invloedsfeer van de opdrachtgever. Hierbij kan onder andere gedacht worden aan opdrachtgever relevante fiscale regelgeving, bekostiging, sociaaleconomische wijzigingen, informatiebeveiliging etc. Inschrijver beschrijft daarbij minimaal waar die informatievoorziening uit bestaat en met welke frequentie zij deze beschikbaar stelt specifiek voor de opdrachtgever. Inschrijver beschrijft daarbij tevens de deelname aan overleggen bij OCW, VO-raad en andere relevante instanties of netwerken. | C10: <MOTIVATIE>
A11: ='Beoordelen open vragen'!A11 -> 6.1.5 Rapportagevorm | C11: Score:
A12: ='Beoordelen open vragen'!A12 -> Inschrijver dient te beschrijven op maximaal 20 A4 (toe te voegen op TenderNed) op welke wijze rapportages worden opgesteld. Inschrijver laat minimaal een voorbeeld zien van (de voorbeeldrapportages maken onderdeel uit van de maximaal 20 A4): - 1 concept type managementletter; - 1 concept accountantsverslag van een Voortgezet Onderwijs organisatie. Beoordelaars letten daarbij op: - de mate van leesbaarheid en volledigheid; - de visualisatie in de rapportage van de meerjarige ontwikkelingen van de bedrijfsvoering. | C12: <MOTIVATIE>
A15: ='Beoordelen interview'!A1 -> Beoordeling criterium Interview | C15: Score:
A16: ='Beoordelen interview'!A3 -> Vraag 1 | C16: Score:
C17: <MOTIVATIE>
A18: ='Beoordelen interview'!A4 -> Vraag 2 | C18: Score:
C19: <MOTIVATIE>
A20: ='Beoordelen interview'!A5 -> Vraag 3 | C20: Score:
C21: <MOTIVATIE>
A22: ='Beoordelen interview'!A6 -> Vraag 4 | C22: Score:
C23: <MOTIVATIE>
A24: ='Beoordelen interview'!A7 -> Vraag 5 | C24: Score:
C25: <MOTIVATIE>

Sheet Beoordelaar 4
A1: Beoordelaar 4: <<>> | C1: <NAAM INSCHRIJVER>
A2: ='Beoordelen open vragen'!A1 -> Beoordeling criterium Open vragen | C2: Score:
A3: ='Beoordelen open vragen'!A3 -> 6.1.1 Plan van aanpak | C3: Score:
A4: ='Beoordelen open vragen'!A4 -> De opdrachtgever hecht veel waarde aan een zo geruisloos mogelijke overgang van de huidige dienstverlening/ situatie naar de inschrijver indien deze de opdracht gegund krijgt. Inschrijver dient te beschrijven op maximaal 4 A4 (toe te voegen op TenderNed): - Op welke wijze inschrijver haar dienstverlening gaat opstarten (start controlejaar 2023, uiterlijk april 2024 inclusief controleverklaring gereed, rekening houdend met de schoolvakanties); - Op welke wijze inschrijver de dossierkennis eigen gaat maken; - Op welke wijze inschrijver de interim-controle gaat plannen en opstarten; - Wanneer zij wat gaat uitvoeren om de gevraagde kwaliteit en uitvoering te kunnen garanderen; - Wat verwacht inschrijver van de opdrachtgever bij het opvragen van dossiers (volstaat een inlog op de systemen van de opdrachtgever of moet de opdrachtgever zelf alles bij elkaar zoeken en aanleveren?); - Wijze van proactief communiceren en informeren richting ROC Friese Poort, Friesland College, de concerncontroller, het College van Bestuur en de Raad van Toezicht; - Wat inschrijver verwacht met betrekking tot de beschikbaarheid van de opdrachtgever en op welk niveau. | C4: <MOTIVATIE>
A5: ='Beoordelen open vragen'!A5 -> 6.1.2 Werkwijze jaarrekening | C5: Score:
A6: ='Beoordelen open vragen'!A6 -> Inschrijver dient te beschrijven in een leesbare PDF op maximaal 4 A4 (toe te voegen op TenderNed) hoe zij samenwerkt met de opdrachtgever, bestaande uit: - Inspanning in uren door de opdrachtgever; - De werkwijze van inschrijver, de doorlooptijd; - Wat vraagt de inschrijver verder van de opdrachtgever om de interim-controle en de jaarrekeningcontrole te realiseren; - Hoe gaat inschrijver om met een situatie waarbij uitsluitend online gewerkt mag worden?; - Op welke wijze voorkomt inschrijver een discussie over meerwerk, waar ligt voor inschrijver de grens? | C6: <MOTIVATIE>
A7: ='Beoordelen open vragen'!A7 -> 6.1.3 Kwaliteit, continuïteit van de dienstverlening en teamsamenstelling | C7: Score:
A8: ='Beoordelen open vragen'!A8 -> Opdrachtgever hecht veel waarde aan vaste contactpersonen en een vaste teamsamenstelling. Inschrijver dient te beschrijven op maximaal 3 A4 (toe te voegen op TenderNed) op welke wijze zij de continuïteit en vereiste kennis/ ervaringsniveau van het adviesteam en van de dienstverlening zelf maximaal zal waarborgen. Inschrijver beschrijft daarbij: - Een overzicht van de teamsamenstelling (kwaliteit en kwantiteit) die inschrijver na gunning zal inzetten met CV’s waaruit de ervaring met het onderwijs blijkt, bij voorkeur in het MBO-onderwijs. - Hoe zij de dossierkennis en kennis van het onderwijs binnen het controle-samenstellingsteam van de inschrijver waarborgt. - Op welke wijze inschrijver er maximaal voor kan zorgdragen dat de teamsamenstelling de eerste 36 maanden ongewijzigd blijft. - Daarnaast beschrijft inschrijver hoeveel (minimaal 2) deskundigen op het gebied van het Voortgezet Onderwijs zij in dienst heeft om de continuïteit te kunnen waarborgen. | C8: <MOTIVATIE>
A9: =('Beoordelen open vragen'!A9) -> 6.1.4 Informatievoorziening | C9: Score:
A10: =('Beoordelen open vragen'!A10) -> Inschrijver dient te beschrijven op maximaal 2 A4 (toe te voegen op TenderNed) over welke informatie/communicatiemiddelen zij beschikt in relatie tot relevante ontwikkelingen buiten de invloedsfeer van de opdrachtgever. Hierbij kan onder andere gedacht worden aan opdrachtgever relevante fiscale regelgeving, bekostiging, sociaaleconomische wijzigingen, informatiebeveiliging etc. Inschrijver beschrijft daarbij minimaal waar die informatievoorziening uit bestaat en met welke frequentie zij deze beschikbaar stelt specifiek voor de opdrachtgever. Inschrijver beschrijft daarbij tevens de deelname aan overleggen bij OCW, VO-raad en andere relevante instanties of netwerken. | C10: <MOTIVATIE>
A11: ='Beoordelen open vragen'!A11 -> 6.1.5 Rapportagevorm | C11: Score:
A12: ='Beoordelen open vragen'!A12 -> Inschrijver dient te beschrijven op maximaal 20 A4 (toe te voegen op TenderNed) op welke wijze rapportages worden opgesteld. Inschrijver laat minimaal een voorbeeld zien van (de voorbeeldrapportages maken onderdeel uit van de maximaal 20 A4): - 1 concept type managementletter; - 1 concept accountantsverslag van een Voortgezet Onderwijs organisatie. Beoordelaars letten daarbij op: - de mate van leesbaarheid en volledigheid; - de visualisatie in de rapportage van de meerjarige ontwikkelingen van de bedrijfsvoering. | C12: <MOTIVATIE>
A15: ='Beoordelen interview'!A1 -> Beoordeling criterium Interview | C15: Score:
A16: ='Beoordelen interview'!A3 -> Vraag 1 | C16: Score:
C17: <MOTIVATIE>
A18: ='Beoordelen interview'!A4 -> Vraag 2 | C18: Score:
C19: <MOTIVATIE>
A20: ='Beoordelen interview'!A5 -> Vraag 3 | C20: Score:
C21: <MOTIVATIE>
A22: ='Beoordelen interview'!A6 -> Vraag 4 | C22: Score:
C23: <MOTIVATIE>
A24: ='Beoordelen interview'!A7 -> Vraag 5 | C24: Score:
C25: <MOTIVATIE>

Sheet Beoordelaar 5
A1: Beoordelaar 5: <<>> | C1: <NAAM INSCHRIJVER>
A2: ='Beoordelen open vragen'!A1 -> Beoordeling criterium Open vragen | C2: Score:
A3: ='Beoordelen open vragen'!A3 -> 6.1.1 Plan van aanpak | C3: Score:
A4: ='Beoordelen open vragen'!A4 -> De opdrachtgever hecht veel waarde aan een zo geruisloos mogelijke overgang van de huidige dienstverlening/ situatie naar de inschrijver indien deze de opdracht gegund krijgt. Inschrijver dient te beschrijven op maximaal 4 A4 (toe te voegen op TenderNed): - Op welke wijze inschrijver haar dienstverlening gaat opstarten (start controlejaar 2023, uiterlijk april 2024 inclusief controleverklaring gereed, rekening houdend met de schoolvakanties); - Op welke wijze inschrijver de dossierkennis eigen gaat maken; - Op welke wijze inschrijver de interim-controle gaat plannen en opstarten; - Wanneer zij wat gaat uitvoeren om de gevraagde kwaliteit en uitvoering te kunnen garanderen; - Wat verwacht inschrijver van de opdrachtgever bij het opvragen van dossiers (volstaat een inlog op de systemen van de opdrachtgever of moet de opdrachtgever zelf alles bij elkaar zoeken en aanleveren?); - Wijze van proactief communiceren en informeren richting ROC Friese Poort, Friesland College, de concerncontroller, het College van Bestuur en de Raad van Toezicht; - Wat inschrijver verwacht met betrekking tot de beschikbaarheid van de opdrachtgever en op welk niveau. | C4: <MOTIVATIE>
A5: ='Beoordelen open vragen'!A5 -> 6.1.2 Werkwijze jaarrekening | C5: Score:
A6: ='Beoordelen open vragen'!A6 -> Inschrijver dient te beschrijven in een leesbare PDF op maximaal 4 A4 (toe te voegen op TenderNed) hoe zij samenwerkt met de opdrachtgever, bestaande uit: - Inspanning in uren door de opdrachtgever; - De werkwijze van inschrijver, de doorlooptijd; - Wat vraagt de inschrijver verder van de opdrachtgever om de interim-controle en de jaarrekeningcontrole te realiseren; - Hoe gaat inschrijver om met een situatie waarbij uitsluitend online gewerkt mag worden?; - Op welke wijze voorkomt inschrijver een discussie over meerwerk, waar ligt voor inschrijver de grens? | C6: <MOTIVATIE>
A7: ='Beoordelen open vragen'!A7 -> 6.1.3 Kwaliteit, continuïteit van de dienstverlening en teamsamenstelling | C7: Score:
A8: ='Beoordelen open vragen'!A8 -> Opdrachtgever hecht veel waarde aan vaste contactpersonen en een vaste teamsamenstelling. Inschrijver dient te beschrijven op maximaal 3 A4 (toe te voegen op TenderNed) op welke wijze zij de continuïteit en vereiste kennis/ ervaringsniveau van het adviesteam en van de dienstverlening zelf maximaal zal waarborgen. Inschrijver beschrijft daarbij: - Een overzicht van de teamsamenstelling (kwaliteit en kwantiteit) die inschrijver na gunning zal inzetten met CV’s waaruit de ervaring met het onderwijs blijkt, bij voorkeur in het MBO-onderwijs. - Hoe zij de dossierkennis en kennis van het onderwijs binnen het controle-samenstellingsteam van de inschrijver waarborgt. - Op welke wijze inschrijver er maximaal voor kan zorgdragen dat de teamsamenstelling de eerste 36 maanden ongewijzigd blijft. - Daarnaast beschrijft inschrijver hoeveel (minimaal 2) deskundigen op het gebied van het Voortgezet Onderwijs zij in dienst heeft om de continuïteit te kunnen waarborgen. | C8: <MOTIVATIE>
A9: =('Beoordelen open vragen'!A9) -> 6.1.4 Informatievoorziening | C9: Score:
A10: =('Beoordelen open vragen'!A10) -> Inschrijver dient te beschrijven op maximaal 2 A4 (toe te voegen op TenderNed) over welke informatie/communicatiemiddelen zij beschikt in relatie tot relevante ontwikkelingen buiten de invloedsfeer van de opdrachtgever. Hierbij kan onder andere gedacht worden aan opdrachtgever relevante fiscale regelgeving, bekostiging, sociaaleconomische wijzigingen, informatiebeveiliging etc. Inschrijver beschrijft daarbij minimaal waar die informatievoorziening uit bestaat en met welke frequentie zij deze beschikbaar stelt specifiek voor de opdrachtgever. Inschrijver beschrijft daarbij tevens de deelname aan overleggen bij OCW, VO-raad en andere relevante instanties of netwerken. | C10: <MOTIVATIE>
A11: ='Beoordelen open vragen'!A11 -> 6.1.5 Rapportagevorm | C11: Score:
A12: ='Beoordelen open vragen'!A12 -> Inschrijver dient te beschrijven op maximaal 20 A4 (toe te voegen op TenderNed) op welke wijze rapportages worden opgesteld. Inschrijver laat minimaal een voorbeeld zien van (de voorbeeldrapportages maken onderdeel uit van de maximaal 20 A4): - 1 concept type managementletter; - 1 concept accountantsverslag van een Voortgezet Onderwijs organisatie. Beoordelaars letten daarbij op: - de mate van leesbaarheid en volledigheid; - de visualisatie in de rapportage van de meerjarige ontwikkelingen van de bedrijfsvoering. | C12: <MOTIVATIE>
A15: ='Beoordelen interview'!A1 -> Beoordeling criterium Interview | C15: Score:
A16: ='Beoordelen interview'!A3 -> Vraag 1 | C16: Score:
C17: <MOTIVATIE>
A18: ='Beoordelen interview'!A4 -> Vraag 2 | C18: Score:
C19: <MOTIVATIE>
A20: ='Beoordelen interview'!A5 -> Vraag 3 | C20: Score:
C21: <MOTIVATIE>
A22: ='Beoordelen interview'!A6 -> Vraag 4 | C22: Score:
C23: <MOTIVATIE>
A24: ='Beoordelen interview'!A7 -> Vraag 5 | C24: Score:
C25: <MOTIVATIE>

Sheet Beoordelaar 6
A1: Beoordelaar 6: <<>> | C1: <NAAM INSCHRIJVER>
A2: ='Beoordelen open vragen'!A1 -> Beoordeling criterium Open vragen | C2: Score:
A3: ='Beoordelen open vragen'!A3 -> 6.1.1 Plan van aanpak | C3: Score:
A4: ='Beoordelen open vragen'!A4 -> De opdrachtgever hecht veel waarde aan een zo geruisloos mogelijke overgang van de huidige dienstverlening/ situatie naar de inschrijver indien deze de opdracht gegund krijgt. Inschrijver dient te beschrijven op maximaal 4 A4 (toe te voegen op TenderNed): - Op welke wijze inschrijver haar dienstverlening gaat opstarten (start controlejaar 2023, uiterlijk april 2024 inclusief controleverklaring gereed, rekening houdend met de schoolvakanties); - Op welke wijze inschrijver de dossierkennis eigen gaat maken; - Op welke wijze inschrijver de interim-controle gaat plannen en opstarten; - Wanneer zij wat gaat uitvoeren om de gevraagde kwaliteit en uitvoering te kunnen garanderen; - Wat verwacht inschrijver van de opdrachtgever bij het opvragen van dossiers (volstaat een inlog op de systemen van de opdrachtgever of moet de opdrachtgever zelf alles bij elkaar zoeken en aanleveren?); - Wijze van proactief communiceren en informeren richting ROC Friese Poort, Friesland College, de concerncontroller, het College van Bestuur en de Raad van Toezicht; - Wat inschrijver verwacht met betrekking tot de beschikbaarheid van de opdrachtgever en op welk niveau. | C4: <MOTIVATIE>
A5: ='Beoordelen open vragen'!A5 -> 6.1.2 Werkwijze jaarrekening | C5: Score:
A6: ='Beoordelen open vragen'!A6 -> Inschrijver dient te beschrijven in een leesbare PDF op maximaal 4 A4 (toe te voegen op TenderNed) hoe zij samenwerkt met de opdrachtgever, bestaande uit: - Inspanning in uren door de opdrachtgever; - De werkwijze van inschrijver, de doorlooptijd; - Wat vraagt de inschrijver verder van de opdrachtgever om de interim-controle en de jaarrekeningcontrole te realiseren; - Hoe gaat inschrijver om met een situatie waarbij uitsluitend online gewerkt mag worden?; - Op welke wijze voorkomt inschrijver een discussie over meerwerk, waar ligt voor inschrijver de grens? | C6: <MOTIVATIE>
A7: ='Beoordelen open vragen'!A7 -> 6.1.3 Kwaliteit, continuïteit van de dienstverlening en teamsamenstelling | C7: Score:
A8: ='Beoordelen open vragen'!A8 -> Opdrachtgever hecht veel waarde aan vaste contactpersonen en een vaste teamsamenstelling. Inschrijver dient te beschrijven op maximaal 3 A4 (toe te voegen op TenderNed) op welke wijze zij de continuïteit en vereiste kennis/ ervaringsniveau van het adviesteam en van de dienstverlening zelf maximaal zal waarborgen. Inschrijver beschrijft daarbij: - Een overzicht van de teamsamenstelling (kwaliteit en kwantiteit) die inschrijver na gunning zal inzetten met CV’s waaruit de ervaring met het onderwijs blijkt, bij voorkeur in het MBO-onderwijs. - Hoe zij de dossierkennis en kennis van het onderwijs binnen het controle-samenstellingsteam van de inschrijver waarborgt. - Op welke wijze inschrijver er maximaal voor kan zorgdragen dat de teamsamenstelling de eerste 36 maanden ongewijzigd blijft. - Daarnaast beschrijft inschrijver hoeveel (minimaal 2) deskundigen op het gebied van het Voortgezet Onderwijs zij in dienst heeft om de continuïteit te kunnen waarborgen. | C8: <MOTIVATIE>
A9: =('Beoordelen open vragen'!A9) -> 6.1.4 Informatievoorziening | C9: Score:
A10: =('Beoordelen open vragen'!A10) -> Inschrijver dient te beschrijven op maximaal 2 A4 (toe te voegen op TenderNed) over welke informatie/communicatiemiddelen zij beschikt in relatie tot relevante ontwikkelingen buiten de invloedsfeer van de opdrachtgever. Hierbij kan onder andere gedacht worden aan opdrachtgever relevante fiscale regelgeving, bekostiging, sociaaleconomische wijzigingen, informatiebeveiliging etc. Inschrijver beschrijft daarbij minimaal waar die informatievoorziening uit bestaat en met welke frequentie zij deze beschikbaar stelt specifiek voor de opdrachtgever. Inschrijver beschrijft daarbij tevens de deelname aan overleggen bij OCW, VO-raad en andere relevante instanties of netwerken. | C10: <MOTIVATIE>
A11: ='Beoordelen open vragen'!A11 -> 6.1.5 Rapportagevorm | C11: Score:
A12: ='Beoordelen open vragen'!A12 -> Inschrijver dient te beschrijven op maximaal 20 A4 (toe te voegen op TenderNed) op welke wijze rapportages worden opgesteld. Inschrijver laat minimaal een voorbeeld zien van (de voorbeeldrapportages maken onderdeel uit van de maximaal 20 A4): - 1 concept type managementletter; - 1 concept accountantsverslag van een Voortgezet Onderwijs organisatie. Beoordelaars letten daarbij op: - de mate van leesbaarheid en volledigheid; - de visualisatie in de rapportage van de meerjarige ontwikkelingen van de bedrijfsvoering. | C12: <MOTIVATIE>
A15: ='Beoordelen interview'!A1 -> Beoordeling criterium Interview | C15: Score:
A16: ='Beoordelen interview'!A3 -> Vraag 1 | C16: Score:
C17: <MOTIVATIE>
A18: ='Beoordelen interview'!A4 -> Vraag 2 | C18: Score:
C19: <MOTIVATIE>
A20: ='Beoordelen interview'!A5 -> Vraag 3 | C20: Score:
C21: <MOTIVATIE>
A22: ='Beoordelen interview'!A6 -> Vraag 4 | C22: Score:
C23: <MOTIVATIE>
A24: ='Beoordelen interview'!A7 -> Vraag 5 | C24: Score:
C25: <MOTIVATIE>

Sheet Beoordelaar 7
A1: Beoordelaar 7: <<>> | C1: <NAAM INSCHRIJVER>
A2: ='Beoordelen open vragen'!A1 -> Beoordeling criterium Open vragen | C2: Score:
A3: ='Beoordelen open vragen'!A3 -> 6.1.1 Plan van aanpak | C3: Score:
A4: ='Beoordelen open vragen'!A4 -> De opdrachtgever hecht veel waarde aan een zo geruisloos mogelijke overgang van de huidige dienstverlening/ situatie naar de inschrijver indien deze de opdracht gegund krijgt. Inschrijver dient te beschrijven op maximaal 4 A4 (toe te voegen op TenderNed): - Op welke wijze inschrijver haar dienstverlening gaat opstarten (start controlejaar 2023, uiterlijk april 2024 inclusief controleverklaring gereed, rekening houdend met de schoolvakanties); - Op welke wijze inschrijver de dossierkennis eigen gaat maken; - Op welke wijze inschrijver de interim-controle gaat plannen en opstarten; - Wanneer zij wat gaat uitvoeren om de gevraagde kwaliteit en uitvoering te kunnen garanderen; - Wat verwacht inschrijver van de opdrachtgever bij het opvragen van dossiers (volstaat een inlog op de systemen van de opdrachtgever of moet de opdrachtgever zelf alles bij elkaar zoeken en aanleveren?); - Wijze van proactief communiceren en informeren richting ROC Friese Poort, Friesland College, de concerncontroller, het College van Bestuur en de Raad van Toezicht; - Wat inschrijver verwacht met betrekking tot de beschikbaarheid van de opdrachtgever en op welk niveau. | C4: <MOTIVATIE>
A5: ='Beoordelen open vragen'!A5 -> 6.1.2 Werkwijze jaarrekening | C5: Score:
A6: ='Beoordelen open vragen'!A6 -> Inschrijver dient te beschrijven in een leesbare PDF op maximaal 4 A4 (toe te voegen op TenderNed) hoe zij samenwerkt met de opdrachtgever, bestaande uit: - Inspanning in uren door de opdrachtgever; - De werkwijze van inschrijver, de doorlooptijd; - Wat vraagt de inschrijver verder van de opdrachtgever om de interim-controle en de jaarrekeningcontrole te realiseren; - Hoe gaat inschrijver om met een situatie waarbij uitsluitend online gewerkt mag worden?; - Op welke wijze voorkomt inschrijver een discussie over meerwerk, waar ligt voor inschrijver de grens? | C6: <MOTIVATIE>
A7: ='Beoordelen open vragen'!A7 -> 6.1.3 Kwaliteit, continuïteit van de dienstverlening en teamsamenstelling | C7: Score:
A8: ='Beoordelen open vragen'!A8 -> Opdrachtgever hecht veel waarde aan vaste contactpersonen en een vaste teamsamenstelling. Inschrijver dient te beschrijven op maximaal 3 A4 (toe te voegen op TenderNed) op welke wijze zij de continuïteit en vereiste kennis/ ervaringsniveau van het adviesteam en van de dienstverlening zelf maximaal zal waarborgen. Inschrijver beschrijft daarbij: - Een overzicht van de teamsamenstelling (kwaliteit en kwantiteit) die inschrijver na gunning zal inzetten met CV’s waaruit de ervaring met het onderwijs blijkt, bij voorkeur in het MBO-onderwijs. - Hoe zij de dossierkennis en kennis van het onderwijs binnen het controle-samenstellingsteam van de inschrijver waarborgt. - Op welke wijze inschrijver er maximaal voor kan zorgdragen dat de teamsamenstelling de eerste 36 maanden ongewijzigd blijft. - Daarnaast beschrijft inschrijver hoeveel (minimaal 2) deskundigen op het gebied van het Voortgezet Onderwijs zij in dienst heeft om de continuïteit te kunnen waarborgen. | C8: <MOTIVATIE>
A9: =('Beoordelen open vragen'!A9) -> 6.1.4 Informatievoorziening | C9: Score:
A10: =('Beoordelen open vragen'!A10) -> Inschrijver dient te beschrijven op maximaal 2 A4 (toe te voegen op TenderNed) over welke informatie/communicatiemiddelen zij beschikt in relatie tot relevante ontwikkelingen buiten de invloedsfeer van de opdrachtgever. Hierbij kan onder andere gedacht worden aan opdrachtgever relevante fiscale regelgeving, bekostiging, sociaaleconomische wijzigingen, informatiebeveiliging etc. Inschrijver beschrijft daarbij minimaal waar die informatievoorziening uit bestaat en met welke frequentie zij deze beschikbaar stelt specifiek voor de opdrachtgever. Inschrijver beschrijft daarbij tevens de deelname aan overleggen bij OCW, VO-raad en andere relevante instanties of netwerken. | C10: <MOTIVATIE>
A11: ='Beoordelen open vragen'!A11 -> 6.1.5 Rapportagevorm | C11: Score:
A12: ='Beoordelen open vragen'!A12 -> Inschrijver dient te beschrijven op maximaal 20 A4 (toe te voegen op TenderNed) op welke wijze rapportages worden opgesteld. Inschrijver laat minimaal een voorbeeld zien van (de voorbeeldrapportages maken onderdeel uit van de maximaal 20 A4): - 1 concept type managementletter; - 1 concept accountantsverslag van een Voortgezet Onderwijs organisatie. Beoordelaars letten daarbij op: - de mate van leesbaarheid en volledigheid; - de visualisatie in de rapportage van de meerjarige ontwikkelingen van de bedrijfsvoering. | C12: <MOTIVATIE>
A15: ='Beoordelen interview'!A1 -> Beoordeling criterium Interview | C15: Score:
A16: ='Beoordelen interview'!A3 -> Vraag 1 | C16: Score:
C17: <MOTIVATIE>
A18: ='Beoordelen interview'!A4 -> Vraag 2 | C18: Score:
C19: <MOTIVATIE>
A20: ='Beoordelen interview'!A5 -> Vraag 3 | C20: Score:
C21: <MOTIVATIE>
A22: ='Beoordelen interview'!A6 -> Vraag 4 | C22: Score:
C23: <MOTIVATIE>
A24: ='Beoordelen interview'!A7 -> Vraag 5 | C24: Score:
C25: <MOTIVATIE>

Sheet Consensus
A1: Totaalwaardes open vragen
A2: ='Beoordelen open vragen'!A1 -> Beoordeling criterium Open vragen | D2: ='Beoordelaar 1'!C1 -> <NAAM INSCHRIJVER>
A3: ='Beoordelen open vragen'!A3 -> 6.1.1 Plan van aanpak | B3: Beoordelaar 1 | D3: ='Beoordelaar 1'!C3 -> Score: | E3: <<MOTIVATIE>>
B4: Beoordelaar 2 | D4: ='Beoordelaar 2'!C3 -> Score:
B5: Beoordelaar 3 | D5: ='Beoordelaar 3'!C3 -> Score:
B6: Beoordelaar 4 | D6: ='Beoordelaar 4'!C3 -> Score:
B7: Beoordelaar 5 | D7: ='Beoordelaar 5'!C3 -> Score:
B8: Beoordelaar 6 | D8: ='Beoordelaar 6'!C3 -> Score:
B9: Beoordelaar 7 | D9: ='Beoordelaar 7'!C3 -> Score:
A10: Consensus: | D10: Score:
B11: Behaalde waarde vraag 1: | D11: =IF(D10="Onvoldoende","UITSLUITING",IF(D10="Matig","€ 0,-",IF(D10="Voldoende","€ 2.000",IF(D10="Goed","€ 5.000",IF(D10="Uitmuntend","€ 10.000"," ")))))
A12: ='Beoordelen open vragen'!A5 -> 6.1.2 Werkwijze jaarrekening | B12: Beoordelaar 1 | D12: ='Beoordelaar 1'!C5 -> Score: | E12: <<MOTIVATIE>>
B13: Beoordelaar 2 | D13: ='Beoordelaar 2'!C5 -> Score:
B14: Beoordelaar 3 | D14: ='Beoordelaar 3'!C5 -> Score:
B15: Beoordelaar 4 | D15: ='Beoordelaar 4'!C5 -> Score:
B16: Beoordelaar 5 | D16: ='Beoordelaar 5'!C5 -> Score:
B17: Beoordelaar 6 | D17: ='Beoordelaar 6'!C5 -> Score:
B18: Beoordelaar 7 | D18: ='Beoordelaar 7'!C5 -> Score:
A19: Consensus: | D19: Score:
B20: Behaalde waarde vraag 2: | D20: =IF(D19="Onvoldoende","UITSLUITING",IF(D19="Matig","€ 0,-",IF(D19="Voldoende","€ 2.000",IF(D19="Goed","€ 5.000",IF(D19="Uitmuntend","€ 10.000"," ")))))
A21: ='Beoordelen open vragen'!A7 -> 6.1.3 Kwaliteit, continuïteit van de dienstverlening en teamsamenstelling | B21: Beoordelaar 1 | D21: ='Beoordelaar 1'!C7 -> Score: | E21: <<MOTIVATIE>>
B22: Beoordelaar 2 | D22: ='Beoordelaar 2'!C7 -> Score:
B23: Beoordelaar 3 | D23: ='Beoordelaar 3'!C7 -> Score:
B24: Beoordelaar 4 | D24: ='Beoordelaar 4'!C7 -> Score:
B25: Beoordelaar 5 | D25: ='Beoordelaar 5'!C7 -> Score:
B26: Beoordelaar 6 | D26: ='Beoordelaar 6'!C7 -> Score:
B27: Beoordelaar 7 | D27: ='Beoordelaar 7'!C7 -> Score:
A28: Consensus: | D28: Score:
B29: Behaalde waarde vraag 3: | D29: =IF(D28="Onvoldoende","UITSLUITING",IF(D28="Matig","€ 0,-",IF(D28="Voldoende","€ 2.000",IF(D28="Goed","€ 5.000",IF(D28="Uitmuntend","€ 10.000"," ")))))
A30: ='Beoordelen open vragen'!A9 -> 6.1.4 Informatievoorziening | B30: Beoordelaar 1 | D30: ='Beoordelaar 1'!C9 -> Score: | E30: <<MOTIVATIE>>
B31: Beoordelaar 2 | D31: ='Beoordelaar 2'!C9 -> Score:
B32: Beoordelaar 3 | D32: ='Beoordelaar 3'!C9 -> Score:
B33: Beoordelaar 4 | D33: ='Beoordelaar 4'!C9 -> Score:
B34: Beoordelaar 5 | D34: ='Beoordelaar 5'!C9 -> Score:
B35: Beoordelaar 6 | D35: ='Beoordelaar 6'!C9 -> Score:
B36: Beoordelaar 7 | D36: ='Beoordelaar 7'!C9 -> Score:
A37: Consensus: | D37: Score:
B38: Behaalde waarde vraag 4: | D38: =IF(D37="Onvoldoende","UITSLUITING",IF(D37="Matig","€ 0,-",IF(D37="Voldoende","€ 2.000",IF(D37="Goed","€ 5.000",IF(D37="Uitmuntend","€ 10.000"," ")))))
A39: ='Beoordelen open vragen'!A11 -> 6.1.5 Rapportagevorm | B39: Beoordelaar 1 | D39: ='Beoordelaar 1'!C11 -> Score: | E39: <<MOTIVATIE>>
B40: Beoordelaar 2 | D40: ='Beoordelaar 2'!C11 -> Score:
...

Sheet Eindscores
A1: Totaalwaarde criterium kwaliteit
A2: Onderdeel | C2: ='[1]Beoordelaar 1'!C1:D1 -> Inschrijver 1
A3: 6.1 Open vragen + toelichting | C3: =Consensus!D48 -> #VALUE!
A4: 6.2 Interview | C4: =Consensus!D96 -> #VALUE!
A5: Totaal behaalde waarde criterium kwaliteit: | C5: =C3+C4 -> #VALUE!
A7: Totaal behaalde waarde criterium prijs: | C7: 0
A9: FICTIEVE EINDWAARDE (prijs -/- kwaliteit): | C9: =C7-C5 -> #VALUE!
