Workbook

Sheet Werkkleding
A2: Art.nr. | B2: Artikel | C2: Model | D2: Norm | E2: Kleur | F2: Logo | G2: Huidig merk/ model | H2: Verificatie: bewijsstukken aan te leveren tijdens verificatiefase | I2: Brugwachter | J2: Magazijn en locatiebeheerder | K2: Schilder | L2: Operationeel managers | M2: Tuinman | N2: Medewerker KGA | O2: Medewerker Ongedierte | P2: Medewerker Wegbebakening | Q2: Straatmaker | R2: Bankwerker monteur Garage werkplaats | S2: Timmerman | T2: Terreinmeesters buitensport | U2: Sporthal beheerder | V2: Installatie- verantwoorde lijke | W2: Medewerker Rioleringen | X2: Medewerker gemalen | Y2: Medewerker Inzameling | Z2: Veger | AA2: Opzichter | AB2: Medewerker | AC2: Aantallen fictief per jaar | AD2: Stukprijs inschrijver | AE2: Kortings % | AF2: Korting | AG2: Netto per artikel | AH2: Subtotaal
A3: 1 | B3: T-shirt ronde hals korte mouw, materiaal jersey met ademend en vochtafdrijvend vermogen | C3: Unisex | D3: - | E3: Donkerblauw | F3: Heat seal badge (zie tabblad logo's), linker borst | G3: Onbekend | H3: - | I3: JA | J3: JA | M3: JA | N3: JA 5 | O3: JA 5 | P3: JA | Q3: JA | R3: JA | S3: JA | T3: JA | U3: JA | X3: JA | Y3: JA | Z3: JA | AB3: JA | AC3: 100 | AF3: =+AD3*AE3 -> 0 | AG3: =+AD3-AF3 -> 0 | AH3: =AC3*AG3 -> 0
A4: 2 | B4: T-shirt ronde hals korte mouw | C4: Unisex | D4: - | E4: Wit, of wit met zwarte details | F4: Heat seal badge (zie tabblad logo's), linker borst | G4: Tricorp | H4: - | K4: JA | AC4: 400 | AF4: =+AD4*AE4 -> 0 | AG4: =+AD4-AF4 -> 0 | AH4: =AC4*AG4 -> 0
A5: 3 | B5: T-shirt ronde hals korte mouw met UV block UPF 50+ | C5: Unisex | D5: - | E5: Donkerblauw | F5: Heat seal badge (zie tabblad logo's), linker borst | G5: Onbekend | H5: - | J5: JA | M5: JA | N5: JA 5 | W5: JA | Y5: JA | Z5: JA | AB5: JA | AC5: 100 | AF5: =+AD5*AE5 -> 0 | AG5: =+AD5-AF5 -> 0 | AH5: =AC5*AG5 -> 0
A6: 4 | B6: T-shirt ronde hals cool dry | C6: Unisex | D6: - | E6: Donkerblauw | F6: Heat seal badge (zie tabblad logo's), linker borst | G6: Printer | H6: - | I6: JA | Q6: JA | U6: JA | W6: JA | Y6: JA | Z6: JA | AB6: JA | AC6: 100 | AF6: =+AD6*AE6 -> 0 | AG6: =+AD6-AF6 -> 0 | AH6: =AC6*AG6 -> 0
A7: 5 | B7: T-shirt ronde hals korte mouw hoge zichtbaarheid | C7: Unisex | D7: EN ISO 20471 klasse 2 RWS | E7: Fluor oranje | F7: Heat seal badge (zie tabblad logo's), plaatsing advies inschrijver | G7: Santino | H7: Keuringscertificaat EN ISO 20471 klasse 2 | M7: JA | N7: JA 5 | P7: JA | Q7: JA | W7: JA | Y7: JA | Z7: JA | AC7: 60 | AF7: =+AD7*AE7 -> 0 | AG7: =+AD7-AF7 -> 0 | AH7: =AC7*AG7 -> 0
A8: 6 | B8: T-shirt ronde hals lange mouw | C8: Unisex | D8: - | E8: Donkerblauw | F8: Heat seal badge (zie tabblad logo's), linker borst | G8: Santino | H8: - | J8: JA | M8: JA | N8: JA 5 | P8: JA | Q8: JA | R8: JA | S8: JA | T8: JA | W8: JA | X8: JA | Y8: JA | Z8: JA | AB8: JA | AC8: 65 | AF8: =+AD8*AE8 -> 0 | AG8: =+AD8-AF8 -> 0 | AH8: =AC8*AG8 -> 0
A9: 7 | B9: Polo korte mouw | C9: Unisex | D9: - | E9: Donkerblauw | F9: Heat seal badge (zie tabblad logo's), linker borst | G9: Santino Ricardo IOR-1702999 60% katoen en 40% polyester | H9: - | I9: JA | J9: JA | M9: JA | N9: JA 5 | P9: JA | Q9: JA | R9: JA | S9: JA | T9: JA | U9: JA | W9: JA | X9: JA | Y9: JA | Z9: JA | AB9: JA | AC9: 150 | AF9: =+AD9*AE9 -> 0 | AG9: =+AD9-AF9 -> 0 | AH9: =AC9*AG9 -> 0
A10: 8 | B10: Polo korte mouw | C10: Unisex | D10: - | E10: Wit, of wit met zwarte details | F10: Heat seal badge (zie tabblad logo's), linker borst | G10: Tricorp | H10: - | K10: JA | AC10: 150 | AF10: =+AD10*AE10 -> 0 | AG10: =+AD10-AF10 -> 0 | AH10: =AC10*AG10 -> 0
A11: 9 | B11: Polo korte mouw hoge zichtbaarheid | C11: Unisex | D11: EN ISO 20471 klasse 2 RWS | E11: Fluor oranje | F11: Heat seal badge (zie tabblad logo's), plaatsing advies inschrijver | G11: Santino | H11: Keuringscertificaat EN ISO 20471 klasse 2 | M11: JA | N11: JA 5 | P11: JA | Q11: JA | W11: JA | Y11: JA | Z11: JA | AC11: 35 | AF11: =+AD11*AE11 -> 0 | AG11: =+AD11-AF11 -> 0 | AH11: =AC11*AG11 -> 0
A12: 10 | B12: Polo sweater | C12: Unisex | D12: - | E12: Donkerblauw | F12: Heat seal badge (zie tabblad logo's), linker borst | G12: Santino | H12: - | I12: JA | J12: JA | M12: JA | N12: JA 4 | P12: JA | R12: JA | T12: JA | U12: JA | W12: JA | Y12: JA | Z12: JA | AB12: JA | AC12: 40 | AF12: =+AD12*AE12 -> 0 | AG12: =+AD12-AF12 -> 0 | AH12: =AC12*AG12 -> 0
A13: 11 | B13: Polo sweater | C13: Unisex | D13: - | E13: Wit, of wit met zwarte details | F13: Heat seal badge (zie tabblad logo's), linker borst | G13: Tricorp | H13: - | K13: JA | AC13: 40 | AF13: =+AD13*AE13 -> 0 | AG13: =+AD13-AF13 -> 0 | AH13: =AC13*AG13 -> 0
A14: 12 | B14: Polo sweater norm | C14: Unisex | D14: ISO11612, EN 1149, EN 6148 | E14: Donkerblauw | F14: Heat seal badge (zie tabblad logo's), linker borst | G14: Havep | H14: Keuringscertificaat ISO11612, EN 1149, EN 6148 | R14: JA | S14: JA | X14: JA | AC14: 50 | AF14: =+AD14*AE14 -> 0 | AG14: =+AD14-AF14 -> 0 | AH14: =AC14*AG14 -> 0
A15: 13 | B15: Sweater ronde hals | C15: Unisex | D15: - | E15: Donkerblauw | F15: Heat seal badge (zie tabblad logo's), linker borst | G15: Santino | H15: - | I15: JA | J15: JA | M15: JA | N15: JA | P15: JA | Q15: JA | R15: JA | T15: JA | U15: JA | W15: JA | AB15: JA | AC15: 50 | AF15: =+AD15*AE15 -> 0 | AG15: =+AD15-AF15 -> 0 | AH15: =AC15*AG15 -> 0
A16: 14 | B16: Sweater ronde hals hoge zichtbaarheid | C16: Unisex | D16: EN ISO 20471 klasse 3 | E16: Fluor oranje | F16: Heat seal badge (zie tabblad logo's), plaatsing advies inschrijver | G16: F. Engel 8011 | H16: Keuringscertificaat EN ISO 20471 klasse 3 | M16: JA | N16: JA | Q16: JA | W16: JA | Y16: JA | Z16: JA | AC16: 50 | AF16: =+AD16*AE16 -> 0 | AG16: =+AD16-AF16 -> 0 | AH16: =AC16*AG16 -> 0
A17: 15 | B17: Sweater ronde hals hoge zichtbaarheid | C17: Unisex | D17: EN ISO 20471 klasse 3 RWS | E17: Fluor oranje | F17: Heat seal badge (zie tabblad logo's), plaatsing advies inschrijver | G17: Tricorp | H17: Keuringscertificaat EN ISO 20471 klasse 4 | P17: JA | AC17: 50 | AF17: =+AD17*AE17 -> 0 | AG17: =+AD17-AF17 -> 0 | AH17: =AC17*AG17 -> 0
A18: 16 | B18: Sweater ronde hals norm | D18: 1149/5, EN ISO 11612, IEC 61482‐2 klasse 1 | E18: Donkerblauw | F18: Heat seal badge (zie tabblad logo's), linker borst | G18: Hydrowear Malaga | H18: Keuringscertificaat 1149/5, EN ISO 11612, IEC 61482‐2 klasse 1 | S18: JA | X18: JA | AC18: 50 | AF18: =+AD18*AE18 -> 0 | AG18: =+AD18-AF18 -> 0 | AH18: =AC18*AG18 -> 0
A19: 17 | B19: Fleece trui met rits van borst tot kraag, afsluitbare zakkenn met rits | C19: Unisex | D19: - | E19: Donkerblauw | F19: Borduur (zie tabblad logo's), linker borst | G19: Tricorp | H19: - | I19: JA | J19: JA | M19: JA | N19: JA | P19: JA | Q19: JA | T19: JA | W19: JA | Y19: JA | Z19: JA | AB19: JA | AC19: 20 | AF19: =+AD19*AE19 -> 0 | AG19: =+AD19-AF19 -> 0 | AH19: =AC19*AG19 -> 0
A20: 18 | B20: Fleece jack met afsluitbare zakken | C20: Unisex | D20: - | E20: Donkerblauw | F20: Borduur (zie tabblad logo's), linker borst | G20: F. Engel 1190-925 | H20: - | T20: JA | AC20: 100 | AF20: =+AD20*AE20 -> 0 | AG20: =+AD20-AF20 -> 0 | AH20: =AC20*AG20 -> 0
A21: 19 | B21: Fleece jack hoge zichtbaarheid met afritsbare (evt.met vaste) mouwen, gevoerd | C21: Unisex | D21: EN ISO 20471 klasse 2 | E21: Fluor oranje met donkerblauw | F21: Borduur (zie tabblad logo's), plaatsing advies inschrijver | G21: Hydrowear Feldkirchen | H21: Keuringscertificaat EN ISO 20471 klasse 2 | I21: JA | J21: JA | L21: JA | M21: JA | N21: JA | O21: JA | Q21: JA | T21: JA | U21: JA | W21: JA | Y21: JA | Z21: JA | AB21: JA | AC21: 50 | AF21: =+AD21*AE21 -> 0 | AG21: =+AD21-AF21 -> 0 | AH21: =AC21*AG21 -> 0
A22: 20 | B22: Fleece jack hoge zichtbaarheid gevoerd | C22: Unisex | D22: EN ISO 20471 klasse 3 RWS | E22: Fluor oranje | F22: Borduur (zie tabblad logo's), plaatsing advies inschrijver | G22: Hydrowear | H22: Keuringscertificaat EN ISO 20471 klasse 3 | P22: JA | AA22: JA | AC22: 50 | AF22: =+AD22*AE22 -> 0 | AG22: =+AD22-AF22 -> 0 | AH22: =AC22*AG22 -> 0
A23: 21 | B23: Commando trui V-hals met schouderstukken en pennenzak op de mouw | C23: Unisex | D23: - | E23: Donkerblauw | F23: Borduur (zie tabblad logo's), linker borst | G23: Onbekend | H23: - | I23: JA | J23: JA | M23: JA | N23: JA | P23: JA | Q23: JA | R23: JA | S23: JA | T23: JA | W23: JA | X23: JA | Y23: JA | Z23: JA | AB23: JA | AC23: 10 | AF23: =+AD23*AE23 -> 0 | AG23: =+AD23-AF23 -> 0 | AH23: =AC23*AG23 -> 0
A24: 22 | B24: Schipperstrui met hoge kraag en ritssluiting in de kraag verwerkt | C24: Unisex | D24: - | E24: Donkerblauw | F24: Borduur (zie tabblad logo's), linker borst | G24: Onbekend | H24: - | I24: JA | J24: JA | M24: JA | N24: JA | P24: JA | Q24: JA | R24: JA | S24: JA | T24: JA | W24: JA | X24: JA | Y24: JA | Z24: JA | AB24: JA | AC24: 30 | AF24: =+AD24*AE24 -> 0 | AG24: =+AD24-AF24 -> 0 | AH24: =AC24*AG24 -> 0
A25: 23 | B25: Service vest zonder mouwen (binnen gebruik), met diverse opbergmogelijkheden | C25: Unisex | D25: - | E25: Donkerblauw, of donkerblauw met zwart | F25: Heat seal badge (zie tabblad logo's), linker borst | G25: F. Engel 5810-254 | H25: - | T25: JA | AB25: JA | AC25: 115 | AF25: =+AD25*AE25 -> 0 | AG25: =+AD25-AF25 -> 0 | AH25: =AC25*AG25 -> 0
A26: 24 | B26: Soft shell jack | C26: Unisex | D26: - | E26: Zwart, of zwart met grijs | F26: Heat seal badge (zie tabblad logo's), linker borst | G26: Tricorp | H26: - | V26: JA | AA26: JA | AC26: 30 | AF26: =+AD26*AE26 -> 0 | AG26: =+AD26-AF26 -> 0 | AH26: =AC26*AG26 -> 0
A27: 25 | B27: Jack kort model multinorm ongevoerd | C27: Unisex | D27: EDPP ATEX 137, EN 13034, EN ISO 11611, EN 1149/2/3/5, EN ISO 11612, IEC 61482‐2 klasse 1, EN ISO 20471 klasse 3 | E27: Fluor oranje | F27: Heat seal badge (zie tabblad logo's), plaatsing advies inschrijver | G27: Hydrowear | H27: Keuringscertificaat EDPP ATEX 137, EN 13034, EN ISO 11611, EN 1149/2/3/5, EN ISO 11612, IEC 61482‐2 klasse 1, EN ISO 20471 klasse 3 | V27: JA | AC27: 10 | AF27: =+AD27*AE27 -> 0 | AG27: =+AD27-AF27 -> 0 | AH27: =AC27*AG27 -> 0
A28: 26 | B28: Jack kort model hoge zichtbaarheid ongevoerd, winddicht, ademend en waterdicht (werkjack) | C28: Unisex | D28: EN ISO 20471 klasse 3 RWS | E28: Fluor oranje | F28: Heat seal badge (zie tabblad logo's), plaatsing advies inschrijver | G28: Hydrowear model Moers of Umag PilotJack RWS | H28: Keuringscertificaat EN ISO 20471 klasse 3 | P28: JA | AA28: JA | AC28: 10 | AF28: =+AD28*AE28 -> 0 | AG28: =+AD28-AF28 -> 0 | AH28: =AC28*AG28 -> 0
A29: 27 | B29: Jack kort model ongevoerd (werkjack) | C29: Unisex | D29: - | E29: Donkerblauw, of donkerblauw met zwart | F29: Heat seal badge (zie tabblad logo's), linker borst | G29: F. Engel 1810-254 Galaxy jacket | H29: - | T29: JA | AC29: 10 | AF29: =+AD29*AE29 -> 0 | AG29: =+AD29-AF29 -> 0 | AH29: =AC29*AG29 -> 0
A30: 28 | B30: Jack kort model ongevoerd (werkjack) | C30: Unisex | D30: - | E30: Wit, of wit met zwarte details | F30: Heat seal badge (zie tabblad logo's), linker borst | G30: F. Engel 1810-254 Galaxy jacket | H30: - | K30: JA | AC30: 10 | AF30: =+AD30*AE30 -> 0 | AG30: =+AD30-AF30 -> 0 | AH30: =AC30*AG30 -> 0
A31: 29 | B31: Jack kort model hoge zichtbaarheid winterjack (gevoerd) | C31: Unisex | D31: EN ISO 20471 klasse 2 | E31: Fluor oranje met donkerblauw | F31: Heat seal badge (zie tabblad logo's), plaatsing advies inschrijver | G31: F. Engel 1501-520 Light jack | H31: Keuringscertificaat EN ISO 20471 klasse 2 | M31: JA | N31: JA | O31: JA | Q31: JA | W31: JA | Y31: JA | Z31: JA | AC31: 10 | AF31: =+AD31*AE31 -> 0 | AG31: =+AD31-AF31 -> 0 | AH31: =AC31*AG31 -> 0
A32: 30 | B32: Jack kort model all season hoge zichtbaarheid, uitneembare voering, afritsbare mouwen | C32: Unisex | D32: EN ISO 20471 klasse 2 | E32: Fluor oranje met donkerblauw | F32: Heat seal badge (zie tabblad logo's), plaatsing advies inschrijver | G32: Hydrowear Luik | H32: Keuringscertificaat EN ISO 20471 klasse 2 | I32: JA | J32: JA | L32: JA | M32: JA | N32: JA | O32: JA | Q32: JA | W32: JA | Y32: JA | Z32: JA | AC32: 10 | AF32: =+AD32*AE32 -> 0 | AG32: =+AD32-AF32 -> 0 | AH32: =AC32*AG32 -> 0
A33: 31 | B33: Jack kort model all season hoge zichtbaarheid, uitneembare voering, afritsbare mouwen | C33: Unisex | D33: EN ISO 20471 klasse 3 RWS | E33: Fluor oranje | F33: Heat seal badge (zie tabblad logo's), plaatsing advies inschrijver | G33: Hydrowear | H33: Keuringscertificaat EN ISO 20471 klasse 3 | P33: JA | AC33: 10 | AF33: =+AD33*AE33 -> 0 | AG33: =+AD33-AF33 -> 0 | AH33: =AC33*AG33 -> 0
A34: 32 | B34: Jack kort model multi norm | C34: Unisex | D34: EN ISO 11612:2015 A1 B1 C1 E2 F1, EN ISO 11611:2015 Class 1 A1, EN 13034+A1:2009 Type 6, EN 1149-5:2008, EN 61482-2:2009 - class 1 | E34: Donkerblauw, of donkerblauw met zwart | F34: Heat seal badge (zie tabblad logo's), linker borst | G34: F. Engel 1234-820 | H34: Keuringscertificaat EN ISO 11612:2015 A1 B1 C1 E2 F1, EN ISO 11611:2015 Class 1 A1, EN 13034+A1:2009 Type 6, EN 1149-5:2008, EN 61482-2:2009 - class 1 | R34: JA | S34: JA | X34: JA | AC34: 10 | AF34: =+AD34*AE34 -> 0 | AG34: =+AD34-AF34 -> 0 | AH34: =AC34*AG34 -> 0
A35: 33 | B35: Jack kort model winterjack multi norm | C35: Unisex | D35: EN ISO 11612:2015 A1 B1 C1 E2 F1, EN ISO 11611:2015 Class 1 A1, EN 13034+A1:2009 Type 6, EN 1149-5:2008, EN 61482-2:2009 - class 1 | E35: Donkerblauw, of donkerblauw met zwart | F35: Heat seal badge (zie tabblad logo's), linker borst | G35: F. Engel 1934-820 | H35: Keuringscertificaat EN ISO 11612:2015 A1 B1 C1 E2 F1, EN ISO 11611:2015 Class 1 A1, EN 13034+A1:2009 Type 6, EN 1149-5:2008, EN 61482-2:2009 - class 1 | R35: JA | S35: JA | X35: JA | AC35: 10 | AF35: =+AD35*AE35 -> 0 | AG35: =+AD35-AF35 -> 0 | AH35: =AC35*AG35 -> 0
A36: 34 | B36: Jack kort model met verlengd rugpand, voorzien van diverse opbergmogelijkheden | C36: Unisex | D36: - | E36: Donkerblauw, of donkerblauw met zwart | F36: Heat seal badge (zie tabblad logo's), linker borst | G36: F. Engel Galaxy 1290-880 | H36: - | AB36: JA | AC36: 10 | AF36: =+AD36*AE36 -> 0 | AG36: =+AD36-AF36 -> 0 | AH36: =AC36*AG36 -> 0
A37: 35 | B37: Jack kort model met verlengd rugpand winterjack, voorzien van diverse opbergmogelijkheden | C37: Unisex | D37: EN 343 3:3, EN 342 | E37: Donkerblauw, of donkerblauw met zwart | F37: Heat seal badge (zie tabblad logo's), linker borst | G37: F. Engel Galaxy 1410-354 | H37: Keuringscertificaat EN 343 3:3, EN 342 | T37: JA | AB37: JA | AC37: 10 | AF37: =+AD37*AE37 -> 0 | AG37: =+AD37-AF37 -> 0 | AH37: =AC37*AG37 -> 0
A38: 36 | B38: Jack kort model met verlengd rugpand winterjack, voorzien van diverse opbergmogelijkheden | C38: Unisex | D38: EN 343 3:3, EN 342 | E38: Wit, of wit met zwarte details | F38: Heat seal badge (zie tabblad logo's), linker borst | G38: F. Engel Galaxy 1410-354 | H38: - | K38: JA | AC38: 10 | AF38: =+AD38*AE38 -> 0 | AG38: =+AD38-AF38 -> 0 | AH38: =AC38*AG38 -> 0
A39: 37 | B39: Parka winterjack gevoerd, , voorzien van diverse opbergmogelijkheden | C39: Unisex | D39: - | E39: Zwart, of zwart met grijs | F39: Heat seal badge (zie tabblad logo's), linker borst | G39: Tricorp | H39: - | V39: JA | AA39: JA | AC39: 30 | AF39: =+AD39*AE39 -> 0 | AG39: =+AD39-AF39 -> 0 | AH39: =AC39*AG39 -> 0
A40: 38 | B40: Parka hoge zichtbaarheid winterjack (gevoerd) multi norm | C40: Unisex | D40: genormeerd volgens EDPP ATEX 137 (explosiegevaar), EN 13034/6, EN 1149/5, EN ISO 14116, EN 343 klasse 3‐3, EN ISO 20471 klasse 3 | E40: Fluor oranje | F40: Heat seal badge (zie tabblad logo's), plaatsing advies inschrijver | G40: Hydrowear | H40: Keuringscertificaat EDPP ATEX 137 (explosiegevaar), EN 13034/6, EN 1149/5, EN ISO 14116, EN 343 klasse 3‐3, EN ISO 20471 klasse 3 | I40: JA | J40: JA | L40: JA | M40: JA | N40: JA | O40: JA | P40: JA | Q40: JA | R40: JA | S40: JA | T40: JA | U40: JA | V40: JA | W40: JA | X40: JA | Y40: JA | Z40: JA | AA40: JA | AB40: JA | AC40: 50 | AF40: =+AD40*AE40 -> 0 | AG40: =+AD40-AF40 -> 0 | AH40: =AC40*AG40 -> 0
A41: 39 | B41: Zaagtuniek | C41: Unisex | D41: Zaagklasse 1 | E41: Zwart/oranje | F41: Heat seal badge (zie tabblad logo's), plaatsing advies inschrijver | G41: Onbekend | H41: EN381-115 klasse1 CE 0943 EN ISO 13688 2013 | M41: JA | T41: JA | AB41: JA | AC41: 4 | AF41: =+AD41*AE41 -> 0 | AG41: =+AD41-AF41 -> 0 | AH41: =AC41*AG41 -> 0
A42: 40 | B42: Voering vlamvertragend en anti statisch Is voor 29. Voering is bestemd voor de jas onder nummer 29. | C42: Unisex | D42: s EN 1149/5, EN ISO 11612 | E42: Zwart | F42: - | G42: Hydrowear | H42: Keuringscertificaat s EN 1149/5, EN ISO 11612 | R42: JA | S42: JA | V42: JA | X42: JA | AC42: 10 | AF42: =+AD42*AE42 -> 0 | AG42: =+AD42-AF42 -> 0 | AH42: =AC42*AG42 -> 0
A43: 41 | B43: Spijkerbroek 5 pocket, stretch | C43: Unisex | D43: - | E43: Denim blauw | F43: Heat seal badge (zie tabblad logo's), rechter achterzak | G43: Crosshatch, Brams Paris | H43: - | I43: JA | J43: JA | U43: JA | AC43: 50 | AF43: =+AD43*AE43 -> 0 | AG43: =+AD43-AF43 -> 0 | AH43: =AC43*AG43 -> 0
A44: 42 | B44: Spijkerbroek 5 pocket (laag model) | C44: Unisex | D44: - | E44: Denim blauw | F44: Heat seal badge (zie tabblad logo's), rechter achterzak | G44: Crosshatch, Brams Paris | H44: - | J44: JA | U44: JA | AC44: 10 | AF44: =+AD44*AE44 -> 0 | AG44: =+AD44-AF44 -> 0 | AH44: =AC44*AG44 -> 0
A45: 43 | B45: Spijkerbroek 5 pocket | C45: Dames | D45: - | E45: Denim blauw | F45: Heat seal badge (zie tabblad logo's), rechter achterzak | G45: Crosshatch | H45: - | U45: JA | AC45: 10 | AF45: =+AD45*AE45 -> 0 | AG45: =+AD45-AF45 -> 0 | AH45: =AC45*AG45 -> 0
A46: 44 | B46: Werkbroek kort | C46: Unisex | D46: - | E46: Donkerblauw | F46: Heat seal badge (zie tabblad logo's), rechter achterzak | G46: Tricorp | H46: - | U46: JA | AC46: 5 | AF46: =+AD46*AE46 -> 0 | AG46: =+AD46-AF46 -> 0 | AH46: =AC46*AG46 -> 0
A47: 45 | B47: Service werkbroek (binnen gebruik) met diverse opbergzakken | C47: Unisex | D47: - | E47: Donkerblauw | F47: Heat seal badge (zie tabblad logo's), rechter achterzak | G47: F. Engel 2280-740 | H47: - | J47: JA | T47: JA | AB47: JA | AC47: 50 | AF47: =+AD47*AE47 -> 0 | AG47: =+AD47-AF47 -> 0 | AH47: =AC47*AG47 -> 0
A48: 46 | B48: Werkbroek zware omstandigheden (buiten gebruik) met diverse opbergzakken(geen kniezakken) | C48: Unisex | D48: - | E48: Donkerblauw | F48: Heat seal badge (zie tabblad logo's), rechter achterzak | G48: F. Engel 2810-254 | H48: - | J48: JA | T48: JA | AB48: JA | AC48: 50 | AF48: =+AD48*AE48 -> 0 | AG48: =+AD48-AF48 -> 0 | AH48: =AC48*AG48 -> 0
A49: 47 | B49: Werkbroek zware omstandigheden (buiten gebruik) met diverse opbergzakken(geen kniezakken) | C49: Unisex | D49: - | E49: Wit, of wit met zwarte details | F49: Heat seal badge (zie tabblad logo's), rechter achterzak | G49: F. Engel 2810-254 | H49: - | K49: JA | AC49: 50 | AF49: =+AD49*AE49 -> 0 | AG49: =+AD49-AF49 -> 0 | AH49: =AC49*AG49 -> 0
A50: 48 | B50: Werkbroek hoge zichtbaarheid met kniezakken en diverse beenzakken en zonder kniezakken/ -stukken | C50: Unisex | D50: EN ISO 20471 klasse 2 | E50: Fluor oranje met donkerblauw | F50: Heat seal badge (zie tabblad logo's), plaatsing advies inschrijver | G50: F. Engel 2501, Light broek | H50: Keuringscertificaat EN ISO 20471 klasse 2 | M50: JA | N50: JA | Q50: JA | W50: JA | Y50: JA | Z50: JA | AC50: 100 | AF50: =+AD50*AE50 -> 0 | AG50: =+AD50-AF50 -> 0 | AH50: =AC50*AG50 -> 0
A51: 49 | B51: Werkbroek hoge zichtbaarheid | C51: Unisex | D51: EN ISO 20471 klasse 1 | E51: Fluor oranje | F51: Heat seal badge (zie tabblad logo's), plaatsing advies inschrijver | G51: Hydrowear Andorra | H51: Keuringscertificaat EN ISO 20471 klasse 1 | P51: JA | AC51: 50 | AF51: =+AD51*AE51 -> 0 | AG51: =+AD51-AF51 -> 0 | AH51: =AC51*AG51 -> 0
A52: 50 | B52: Werkbroek winter gevoerd hoge zichtbaarheid | C52: Unisex | D52: EN ISO 20471 klasse 1 | E52: Fluor oranje | F52: Heat seal badge (zie tabblad logo's), plaatsing advies inschrijver | G52: Hydrowear | H52: Keuringscertificaat EN ISO 20471 klasse 1 | M52: JA | N52: JA | O52: JA | P52: JA | Q52: JA | W52: JA | Y52: JA | Z52: JA | AC52: 50 | AF52: =+AD52*AE52 -> 0 | AG52: =+AD52-AF52 -> 0 | AH52: =AC52*AG52 -> 0
A53: 51 | B53: Werkbroek safety multi norm, | C53: Unisex | D53: EN ISO 11612:2015 A1 B1 C1 E2 F1, EN ISO 11611:2015 Class 1 A1, EN 13034+A1:2009 Type 6, EN 1149-5:2008, EN 61482-2:2009 - class 1 | E53: Donkerblauw, of donkerblauw met zwart | F53: Heat seal badge (zie tabblad logo's), rechter achterzak | G53: F. Engel 2234-825 | H53: Keuringscertificaat N ISO 11612:2015 A1 B1 C1 E2 F1, EN ISO 11611:2015 Class 1 A1, EN 13034+A1:2009 Type 6, EN 1149-5:2008, EN 61482-2:2009 - class 1 | R53: JA | S53: JA | X53: JA | AC53: 50 | AF53: =+AD53*AE53 -> 0 | AG53: =+AD53-AF53 -> 0 | AH53: =AC53*AG53 -> 0
A54: 52 | B54: Zaagbroek | C54: Unisex | D54: Zaagklasse 1 | E54: Zwart/oranje | F54: Heat seal badge (zie tabblad logo's), plaatsing advies inschrijver | G54: Onbekend | H54: EN381-115 klasse1 CE 0943 EN ISO 13688 2013 | M54: JA | T54: JA | AB54: JA | AC54: 3 | AF54: =+AD54*AE54 -> 0 | AG54: =+AD54-AF54 -> 0 | AH54: =AC54*AG54 -> 0
A55: 53 | B55: Amerikaanse overall multi norn | C55: Unisex | D55: EN ISO 11612:2015 A1 B1 C1 E2 F1, EN ISO 11611:2015 Class 1 A1, EN 13034+A1:2009 Type 6, EN 1149-5:2008, EN 61482-2:2009 - class 1 | E55: Donkerblauw, of donkerblauw met zwart | F55: Heat seal badge (zie tabblad logo's), rechter achterzak | G55: F. Engel 3234-825 | H55: Keuringscertificaat EN ISO 11612:2015 A1 B1 C1 E2 F1, EN ISO 11611:2015 Class 1 A1, EN 13034+A1:2009 Type 6, EN 1149-5:2008, EN 61482-2:2009 - class 1 | R55: JA | S55: JA | X55: JA | AC55: 10 | AF55: =+AD55*AE55 -> 0 | AG55: =+AD55-AF55 -> 0 | AH55: =AC55*AG55 -> 0
A56: 54 | B56: Amerikaanse overall, elastisch rugpand, diverse zakken waaronder een binnenzak aan het voorpand, kniezakken | C56: Unisex | D56: - | E56: Donkerblauw, of donkerblauw met zwart | F56: Heat seal badge (zie tabblad logo's), rechter achterzak | G56: F. Engel Galaxy Bib Overall 3810-254 | H56: - | T56: JA | AB56: JA | AC56: 10 | AF56: =+AD56*AE56 -> 0 | AG56: =+AD56-AF56 -> 0 | AH56: =AC56*AG56 -> 0
A57: 55 | B57: Amerikaanse overall, elastisch rugpand, diverse zakken waaronder een binnenzak aan het voorpand, kniezakken | C57: Unisex | D57: - | E57: Wit, of wit met zwarte details | F57: Heat seal badge (zie tabblad logo's), rechter achterzak | G57: F. Engel Galaxy Bib Overall 3810-254 | K57: JA | AC57: 10 | AF57: =+AD57*AE57 -> 0 | AG57: =+AD57-AF57 -> 0 | AH57: =AC57*AG57 -> 0
A58: 56 | B58: Amerikaanse zaagoverall | C58: Unisex | D58: Klasse 1 | E58: Zwart/oranje | F58: Heat seal badge (zie tabblad logo's), plaatsing advies inschrijver | G58: Onbekend | H58: EN381-115 klasse1 CE 0943 EN ISO 13688 2013 | M58: JA | T58: JA | AB58: JA | AC58: 10 | AF58: =+AD58*AE58 -> 0 | AG58: =+AD58-AF58 -> 0 | AH58: =AC58*AG58 -> 0
A59: 57 | B59: Amerikaanse overall hoge zichtbaarheid met kniezakken en diverse beenzakken | C59: Unisex | D59: EN ISO 20471 klasse 2 | E59: Fluor oranje met donkerblauw | F59: Heat seal badge (zie tabblad logo's), plaatsing advies inschrijver | G59: F. Engel 3511 | H59: Keuringscertificaat EN ISO 20471 klasse 2 | M59: JA | N59: JA | W59: JA | Y59: JA | Z59: JA | AC59: 10 | AF59: =+AD59*AE59 -> 0 | AG59: =+AD59-AF59 -> 0 | AH59: =AC59*AG59 -> 0
A60: 58 | B60: Amerikaanse overall hoge zichtbaarheiddiverse beenzakken | C60: Unisex | D60: EN ISO 20471 klasse 2 | E60: Fluor oranje | F60: Heat seal badge (zie tabblad logo's), plaatsing advies inschrijver | G60: Hydrowear | H60: Keuringscertificaat EN ISO 20471 klasse 2 | P60: JA | AC60: 10 | AF60: =+AD60*AE60 -> 0 | AG60: =+AD60-AF60 -> 0 | AH60: =AC60*AG60 -> 0
A61: 59 | B61: Overall met lange mouwen, ritssluiting en kniezakken en diverse beenzakken | C61: Unisex | D61: EN ISO 20471 klasse 3 | E61: Fluor oranje met donkerblauw | F61: Heat seal badge (zie tabblad logo's), plaatsing advies inschrijver | G61: F. Engel 4501-775 | H61: Keuringscertificaat EN ISO 20471 klasse 3 | W61: JA | AC61: 10 | AF61: =+AD61*AE61 -> 0 | AG61: =+AD61-AF61 -> 0 | AH61: =AC61*AG61 -> 0
A62: 60 | B62: Snipperoverall | C62: Unisex | D62: EN ISO 20471 klasse 2, EN 510 | E62: Fluor oranje met donkergroen | F62: Heat seal badge (zie tabblad logo's), plaatsing advies inschrijver | H62: Keuringscertificaat EN ISO 20471 klasse 2, EN 510 | M62: JA | T62: JA | AB62: JA | AC62: 10 | AF62: =+AD62*AE62 -> 0 | AG62: =+AD62-AF62 -> 0 | AH62: =AC62*AG62 -> 0
A63: 61 | B63: Regenjack met capuchon in de kraag | C63: Unisex | D63: EN ISO 20471 klasse 3, EN 343 3:3 | E63: Fluor oranje | F63: Heat seal badge (zie tabblad logo's), plaatsing advies inschrijver | G63: Hydrowear | H63: Keuringscertificaat EN ISO 20471 klasse 3, EN 343 3:3 | I63: JA | J63: JA | L63: JA | M63: JA | N63: JA | O63: JA | Q63: JA | T63: JA | U63: JA | W63: JA | Y63: JA | Z63: JA | AB63: JA | AC63: 40 | AF63: =+AD63*AE63 -> 0 | AG63: =+AD63-AF63 -> 0 | AH63: =AC63*AG63 -> 0
A64: 62 | B64: Regenbroek | C64: Unisex | D64: EN ISO 20471 klasse 1, EN 343 3:3 | E64: Fluor oranje | F64: Heat seal badge (zie tabblad logo's), plaatsing advies inschrijver | G64: Hydrowear | H64: Keuringscertificaat EN ISO 20471 klasse 1, EN 343 3:3 | I64: JA | J64: JA | L64: JA | M64: JA | N64: JA | O64: JA | P64: JA | Q64: JA | T64: JA | U64: JA | W64: JA | Y64: JA | Z64: JA | AB64: JA | AC64: 35 | AF64: =+AD64*AE64 -> 0 | AG64: =+AD64-AF64 -> 0 | AH64: =AC64*AG64 -> 0
A65: 63 | B65: Regenjack multi norm | C65: Unisex | D65: volgens EDPP ATEX 137, EN 13034, EN 1149, EN ISO 14116 index 1, EN 343 klasse 3‐1, EN ISO 20471 klasse 3 | E65: Fluor oranje | F65: Heat seal badge (zie tabblad logo's), plaatsing advies inschrijver | G65: Hydrowear | H65: Keuringscertificaat EDPP ATEX 137, EN 13034, EN 1149, EN ISO 14116 index 1, EN 343 klasse 3‐1, EN ISO 20471 klasse 3 | R65: JA | S65: JA | X65: JA | AC65: 10 | AF65: =+AD65*AE65 -> 0 | AG65: =+AD65-AF65 -> 0 | AH65: =AC65*AG65 -> 0
A66: 64 | B66: Regenbroek multi norm | C66: Unisex | D66: s EN 13034, EN 1149, EN ISO 14116 index 1, EN 343 klasse 3‐1, EN ISO 20471 klasse 1 | E66: Fluor oranje | F66: Heat seal badge (zie tabblad logo's), plaatsing advies inschrijver | G66: Hydrowear | H66: Keuringscertificaat s EN 13034, EN 1149, EN ISO 14116 index 1, EN 343 klasse 3‐1, EN ISO 20471 klasse 1 | R66: JA | S66: JA | X66: JA | AC66: 10 | AF66: =+AD66*AE66 -> 0 | AG66: =+AD66-AF66 -> 0 | AH66: =AC66*AG66 -> 0
A67: 65 | B67: Regenjack | C67: Unisex | D67: EN 343 3:3 | E67: Zwart | F67: Heat seal badge (zie tabblad logo's), linker borst | G67: Hydrowear | H67: Keuringscertificaat EN 343 3:3 | AA67: JA | AC67: 40 | AF67: =+AD67*AE67 -> 0 | AG67: =+AD67-AF67 -> 0 | AH67: =AC67*AG67 -> 0
A68: 66 | B68: Regenbroek | C68: Unisex | D68: EN 343 3:3 | E68: Zwart | F68: Heat seal badge (zie tabblad logo's), rechter achterzak | G68: Hydrowear | H68: Keuringscertificaat EN 343 3:3 | AA68: JA | AC68: 35 | AF68: =+AD68*AE68 -> 0 | AG68: =+AD68-AF68 -> 0 | AH68: =AC68*AG68 -> 0
A69: 67 | B69: Thermo shirt lange mouw, warmte isolatie zwart of donkerblauw | C69: Unisex | D69: - | E69: Zwart/donkerblauw | F69: - | G69: F.Engel artikel 720-200. | H69: - | I69: JA | K69: JA | L69: JA | M69: JA | N69: JA | P69: JA | Q69: JA | T69: JA | V69: JA | W69: JA | Y69: JA | Z69: JA | AA69: JA | AB69: JA | AC69: 25 | AF69: =+AD69*AE69 -> 0 | AG69: =+AD69-AF69 -> 0 | AH69: =AC69*AG69 -> 0
A70: 68 | B70: Thermo broek lang, warmte isolatie zwart of donkerblauw | C70: Unisex | D70: - | E70: Zwart/donkerblauw | F70: - | G70: F.Engel | H70: - | I70: JA | K70: JA | L70: JA | M70: JA | N70: JA | P70: JA | Q70: JA | T70: JA | V70: JA | W70: JA | Y70: JA | Z70: JA | AA70: JA | AB70: JA | AC70: 40 | AF70: =+AD70*AE70 -> 0 | AG70: =+AD70-AF70 -> 0 | AH70: =AC70*AG70 -> 0
A71: 69 | B71: Thermo shirt lange mouw, warmte isolatie, multi norm | C71: Unisex | D71: EN ISO 11612, EN 1149‐5 | E71: Donkerblauw | F71: - | G71: Hydrowear Waalre | H71: Keuringscertificaat EN ISO 11612, EN 1149-5 | R71: JA | S71: JA | X71: JA | AC71: 25 | AF71: =+AD71*AE71 -> 0 | AG71: =+AD71-AF71 -> 0 | AH71: =AC71*AG71 -> 0
A72: 70 | B72: Thermo broek lang, warmte isolatie, multi norm | C72: Unisex | D72: EN ISO 11612, EN 1149‐5 | E72: Donkerblauw | F72: - | G72: Hydrowear Wijster | H72: Keuringscertificaat EN ISO 11612, EN 1149-5 | R72: JA | S72: JA | X72: JA | AC72: 40 | AF72: =+AD72*AE72 -> 0 | AG72: =+AD72-AF72 -> 0 | AH72: =AC72*AG72 -> 0
A73: 71 | B73: Veiligheidsvest | C73: Unisex | D73: EN ISO 20471 klasse 2, kleine maten ISO 20471 klasse 1 | E73: Fluor oranje | F73: Heat seal badge (zie tabblad logo's), plaatsing advies inschrijver | G73: M- wear | H73: Keuringscertificaat EN ISO 20471 klasse 2 en kleine maten klasse 1 | M73: JA | N73: JA | P73: JA | Q73: JA | R73: JA | W73: JA | Y73: JA | Z73: JA | AC73: 60 | AF73: =+AD73*AE73 -> 0 | AG73: =+AD73-AF73 -> 0 | AH73: =AC73*AG73 -> 0
A74: 72 | B74: Veiligheidsvest multi norm | C74: Unisex | D74: EN ISO 20471 klasse 2, kleine maten ISO 20471 klasse 1, EN ISO 14116, EN 1149‐5 | E74: Fluor oranje | F74: Heat seal badge (zie tabblad logo's), plaatsing advies inschrijver | G74: Tricorp | H74: EN ISO 20471 klasse 2, kleine maten ISO 20471 klasse 1, EN ISO 14116, EN 1149‐5 | S74: JA | V74: JA | X74: JA | AC74: 50 | AF74: =+AD74*AE74 -> 0 | AG74: =+AD74-AF74 -> 0 | AH74: =AC74*AG74 -> 0
A75: 73 | B75: Chemicalienschort lang model | C75: Unisex | D75: - | E75: - | F75: - | G75: Onbekend | H75: - | N75: JA | AC75: 1 | AF75: =+AD75*AE75 -> 0 | AG75: =+AD75-AF75 -> 0 | AH75: =AC75*AG75 -> 0
A76: 74 | B76: Riem elastisch | C76: Unisex | D76: - | E76: Zwart | F76: - | G76: Snickers ergonomische riem elastisch 9025 | H76: - | I76: JA | J76: JA | K76: JA | L76: JA | M76: JA | N76: JA | O76: JA | P76: JA | Q76: JA | R76: JA | S76: JA | T76: JA | V76: JA | W76: JA | X76: JA | Y76: JA | Z76: JA | AA76: JA | AB76: JA | AC76: 70 | AF76: =+AD76*AE76 -> 0 | AG76: =+AD76-AF76 -> 0 | AH76: =AC76*AG76 -> 0
AG77: TOTAALBEDRAG | AH77: =SUM(AH3:AH76) -> 0

Sheet PBM en schoeisel
A2: Art.nr. | B2: Artikel | C2: Model | D2: Norm | E2: Kleur | F2: Huidig merk/ model | G2: Verificatie: bewijsstukken aan te leveren tijdens verificatiefase | H2: Waterbeheer | I2: Brugwachter | J2: Magazijn en locatiebeheerder | K2: Schilder | L2: Unit leiders | M2: Tuinman | N2: Assistent Tuinman | O2: Meewerkend voorman | P2: Senior Terrein- meester | Q2: Terrein-meester | R2: Technisch Terrein-meester | S2: Medewerker Milieustraat | T2: Medewerker KGA | U2: Medewerker Ongedierte | V2: Senior medewerker Service | W2: Medewerker Service | X2: Medewerker Riolering | Y2: Algemeen medewerker | Z2: Medewerker Wegbebakening | AA2: Straatmaker | AB2: Bankwerker monteur Garage werkplaats | AC2: Timmerman | AD2: Sport buiten | AE2: Sporthal beheerder | AF2: Installatie- verantwoorde- lijke | AG2: Sen. monteur/technisch specialist | AH2: Monteur/technisch specialist | AI2: Technisch medewerker | AJ2: Senior medewerker Rioleringen | AK2: Medewerker Rioleringen | AL2: Algemeen medewerker | AM2: Sen. Med. Technisch installaties | AN2: Medewerker gemalen | AO2: Bankwerker | AP2: Timmerman | AQ2: Medewerker Inzameling | AR2: Veger plus | AS2: Veger | AT2: Operationeel manager | AU2: Opzichter A | AV2: Assistent Opzichter | AW2: Beheerder | AX2: Medewerker kinderboerderij | AY2: Vrijwilliger | AZ2: Aantallen fictief per jaar | BA2: Stukprijs inschrijver | BB2: Kortings % | BC2: Korting | BD2: Netto per artikel | BE2: Subtotaal
A3: 75 | B3: Veiligheidshelm | C3: Unisex | D3: EN 397 | E3: Oranje | F3: Peltor G3000NUV | G3: Keuringscertificaat EN 397 | L3: JA | AF3: JA | AU3: JA | AZ3: 10 | BC3: =+BA3*BB3 -> 0 | BD3: =+BA3-BC3 -> 0 | BE3: =+AZ3*BD3 -> 0
A4: 76 | B4: Zaaghandschoen | C4: Unisex | D4: EN381-7 klasse 1, EN 388, EN420 | E4: - | F4: Onbekend | G4: Keuringscertificaat EN381-7 klasse 1, EN 388, EN420 | N4: JA | AD4: JA | AW4: JA | AZ4: 20 | BC4: =+BA4*BB4 -> 0 | BD4: =+BA4-BC4 -> 0 | BE4: =+AZ4*BD4 -> 0
A5: 77 | B5: Werkhandschoenen | C5: Unisex | D5: EN 511, EN 388 | E5: - | F5: Divers | G5: Keuringscertificaat EN 511, EN 388 | L5: JA | AF5: JA | AU5: JA | AZ5: 12000 | BC5: =+BA5*BB5 -> 0 | BD5: =+BA5-BC5 -> 0 | BE5: =+AZ5*BD5 -> 0
A6: 78 | B6: Veiligheidsschoen laag met kruipneus | C6: Normale breedte | D6: EN ISO 20345 S3 | E6: Zwart | F6: Emma Leo D | G6: Keuringscertificaat EN ISO 20345 S3 | H6: JA | J6: JA | K6: JA | L6: JA | N6: JA | T6: JA | U6: JA | Z6: JA | AA6: JA | AB6: JA | AC6: JA | AD6: JA | AJ6: JA | AQ6: JA | AR6: JA | AS6: JA | AW6: JA | AZ6: 20 | BC6: =+BA6*BB6 -> 0 | BD6: =+BA6-BC6 -> 0 | BE6: =+AZ6*BD6 -> 0
A7: 79 | B7: Veiligheidsschoen laag met kruipneus | C7: Extra breed | D7: EN ISO 20345 S3 | E7: Zwart | F7: Emma Leo XD | G7: Keuringscertificaat EN ISO 20345 S3 | H7: JA | J7: JA | K7: JA | L7: JA | N7: JA | T7: JA | U7: JA | Z7: JA | AA7: JA | AB7: JA | AC7: JA | AD7: JA | AJ7: JA | AQ7: JA | AR7: JA | AS7: JA | AW7: JA | AZ7: 20 | BC7: =+BA7*BB7 -> 0 | BD7: =+BA7-BC7 -> 0 | BE7: =+AZ7*BD7 -> 0
A8: 80 | B8: Veiligheidsschoen midden hoog met kruipneus | C8: Normale breedte | D8: EN ISO 20345 S3 | E8: Zwart | F8: Emma Lukas D | G8: Keuringscertificaat EN ISO 20345 S3 | H8: JA | J8: JA | K8: JA | L8: JA | N8: JA | T8: JA | U8: JA | Z8: JA | AA8: JA | AB8: JA | AC8: JA | AD8: JA | AJ8: JA | AQ8: JA | AR8: JA | AS8: JA | AW8: JA | AZ8: 20 | BC8: =+BA8*BB8 -> 0 | BD8: =+BA8-BC8 -> 0 | BE8: =+AZ8*BD8 -> 0
A9: 81 | B9: Veiligheidsschoen midden hoog met kruipneus | C9: Extra breed | D9: EN ISO 20345 S3 | E9: Zwart | F9: Emma Lukas XD | G9: Keuringscertificaat EN ISO 20345 S3 | H9: JA | J9: JA | K9: JA | L9: JA | N9: JA | T9: JA | U9: JA | Z9: JA | AA9: JA | AB9: JA | AC9: JA | AD9: JA | AJ9: JA | AQ9: JA | AR9: JA | AS9: JA | AW9: JA | AZ9: 20 | BC9: =+BA9*BB9 -> 0 | BD9: =+BA9-BC9 -> 0 | BE9: =+AZ9*BD9 -> 0
A10: 82 | B10: Veiligheidsschoen laag met kruipneus | C10: Unisex | D10: EN ISO 20345 S3 | E10: Zwart | F10: Grisport 801 | G10: Keuringscertificaat EN ISO 20345 S3 | H10: JA | J10: JA | K10: JA | L10: JA | N10: JA | T10: JA | U10: JA | Z10: JA | AA10: JA | AB10: JA | AC10: JA | AD10: JA | AJ10: JA | AQ10: JA | AR10: JA | AS10: JA | AU10: JA | AW10: JA | AZ10: 20 | BC10: =+BA10*BB10 -> 0 | BD10: =+BA10-BC10 -> 0 | BE10: =+AZ10*BD10 -> 0
A11: 83 | B11: Veiligheidsschoen midden hoog met kruipneus | C11: Unisex | D11: EN ISO 20345 S3 | E11: Zwart | F11: Grisport 803 | G11: Keuringscertificaat EN ISO 20345 S3 | H11: JA | J11: JA | K11: JA | L11: JA | N11: JA | T11: JA | U11: JA | Z11: JA | AA11: JA | AB11: JA | AC11: JA | AD11: JA | AJ11: JA | AQ11: JA | AR11: JA | AS11: JA | AU11: JA | AW11: JA | AZ11: 20 | BC11: =+BA11*BB11 -> 0 | BD11: =+BA11-BC11 -> 0 | BE11: =+AZ11*BD11 -> 0
A12: 84 | B12: Veiligheidsschoen laag met kruipneus ESD | C12: Unisex | D12: EN ISO 20345 S3, ESD | E12: Zwart | F12: Elten Renzo Low | G12: Keuringscertificaat EN ISO 20345 S3, ESD | H12: JA | J12: JA | K12: JA | L12: JA | N12: JA | T12: JA | U12: JA | Z12: JA | AA12: JA | AB12: JA | AC12: JA | AD12: JA | AF12: JA | AJ12: JA | AN12: JA | AQ12: JA | AR12: JA | AS12: JA | AU12: JA | AW12: JA | AZ12: 20 | BC12: =+BA12*BB12 -> 0 | BD12: =+BA12-BC12 -> 0 | BE12: =+AZ12*BD12 -> 0
A13: 85 | B13: Veiligheidsschoen midden hoog met kruipneus ESD | C13: Unisex | D13: EN ISO 20345 S3, ESD | E13: Zwart | F13: Elten Renzo Mid | G13: Keuringscertificaat EN ISO 20345 S3, ESD | H13: JA | J13: JA | K13: JA | L13: JA | N13: JA | T13: JA | U13: JA | Z13: JA | AA13: JA | AB13: JA | AC13: JA | AD13: JA | AF13: JA | AJ13: JA | AN13: JA | AQ13: JA | AR13: JA | AS13: JA | AU13: JA | AW13: JA | AZ13: 20 | BC13: =+BA13*BB13 -> 0 | BD13: =+BA13-BC13 -> 0 | BE13: =+AZ13*BD13 -> 0
A14: 86 | B14: Veiligheidsschoen laag ESD | C14: Unisex | D14: EN ISO 20345 S3, ESD | E14: Zwart | F14: Emma Max | G14: Keuringscertificaat EN ISO 20345 S3, ESD | L14: JA | AN14: JA | AZ14: 20 | BC14: =+BA14*BB14 -> 0 | BD14: =+BA14-BC14 -> 0 | BE14: =+AZ14*BD14 -> 0
A15: 87 | B15: Veiligheidsschoen midden hoog ESD | C15: Unisex | D15: EN ISO 20345 S3, ESD | E15: Zwart | F15: Emma Melvin | G15: Keuringscertificaat EN ISO 20345 S3, ESD | L15: JA | AN15: JA | AZ15: 20 | BC15: =+BA15*BB15 -> 0 | BD15: =+BA15-BC15 -> 0 | BE15: =+AZ15*BD15 -> 0
A16: 88 | B16: Veiligheidsschoen laag sneaker model | C16: Unisex | D16: EN ISO 20345 S3 | E16: Zwart | F16: Redbrick Ruby | G16: Keuringscertificaat EN ISO 20345 S3 | H16: JA | J16: JA | K16: JA | L16: JA | N16: JA | T16: JA | U16: JA | Z16: JA | AA16: JA | AB16: JA | AC16: JA | AD16: JA | AJ16: JA | AQ16: JA | AR16: JA | AS16: JA | AU16: JA | AW16: JA | AZ16: 20 | BC16: =+BA16*BB16 -> 0 | BD16: =+BA16-BC16 -> 0 | BE16: =+AZ16*BD16 -> 0
A17: 89 | B17: Veiligheidsschoen midden hoog sneaker model | C17: Unisex | D17: EN ISO 20345 S3 | E17: Zwart | F17: Redbrick Onyx | G17: Keuringscertificaat EN ISO 20345 S3 | H17: JA | J17: JA | K17: JA | L17: JA | N17: JA | T17: JA | U17: JA | Z17: JA | AA17: JA | AB17: JA | AC17: JA | AD17: JA | AJ17: JA | AQ17: JA | AR17: JA | AS17: JA | AU17: JA | AW17: JA | AZ17: 20 | BC17: =+BA17*BB17 -> 0 | BD17: =+BA17-BC17 -> 0 | BE17: =+AZ17*BD17 -> 0
A18: 90 | B18: Uniformschoen laag | C18: Unisex | D18: - | E18: Zwart | F18: Magnum | G18: - | I18: JA | AZ18: 20 | BC18: =+BA18*BB18 -> 0 | BD18: =+BA18-BC18 -> 0 | BE18: =+AZ18*BD18 -> 0
A19: 91 | B19: Uniformschoen midden hoog | C19: Unisex | D19: - | E19: Zwart | F19: Magnum | G19: - | I19: JA | AZ19: 20 | BC19: =+BA19*BB19 -> 0 | BD19: =+BA19-BC19 -> 0 | BE19: =+AZ19*BD19 -> 0
A20: 92 | B20: Lasschoen midden hoog met brandwerkende afsluiting | C20: Normale breedte | D20: EN ISO 20345 S3 | E20: Zwart | F20: Emma Vulcanus | G20: Keuringscertificaat EN ISO 20345 S3 | AB20: JA | AC20: JA | AZ20: 1 | BC20: =+BA20*BB20 -> 0 | BD20: =+BA20-BC20 -> 0 | BE20: =+AZ20*BD20 -> 0
A21: 93 | B21: Zaagschoen hoog | C21: Unisex | D21: EN ISO 17249 | E21: Zwart | F21: Cofra Power | G21: Keuringscertificaat EN ISO 17249 | N21: JA | AD21: JA | AW21: JA | AZ21: 5 | BC21: =+BA21*BB21 -> 0 | BD21: =+BA21-BC21 -> 0 | BE21: =+AZ21*BD21 -> 0
A22: 94 | B22: Veiligheidslaars winter gevoerd | C22: Unisex | D22: EN ISO 20345 S3 | E22: Zwart | F22: Onbekend | G22: Keuringscertificaat EN ISO 20345 S3 | J22: JA | N22: JA | T22: JA | U22: JA | Z22: JA | AA22: JA | AB22: JA | AC22: JA | AD22: JA | AJ22: JA | AQ22: JA | AR22: JA | AS22: JA | AW22: JA | AZ22: 1 | BC22: =+BA22*BB22 -> 0 | BD22: =+BA22-BC22 -> 0 | BE22: =+AZ22*BD22 -> 0
A23: 95 | B23: Veiligheidslaars winter gevoerd, antistatische binnenzool | C23: Unisex | D23: EN ISO 20345 S3 | E23: Bruin | F23: Emma | G23: Keuringscertificaat EN ISO 20345 S3 | AN23: JA | AZ23: 1 | BC23: =+BA23*BB23 -> 0 | BD23: =+BA23-BC23 -> 0 | BE23: =+AZ23*BD23 -> 0
A24: 96 | B24: Veiligheidslaars met kruipneus | C24: Unisex | D24: EN ISO 20345 S5 | E24: Zwart | F24: Dunlop Acifort | G24: Keuringscertificaat EN ISO 20345 S5 | H24: JA | J24: JA | N24: JA | U24: JA | AB24: JA | AC24: JA | AD24: JA | AF24: JA | AJ24: JA | AN24: JA | AW24: JA | AZ24: 1 | BC24: =+BA24*BB24 -> 0 | BD24: =+BA24-BC24 -> 0 | BE24: =+AZ24*BD24 -> 0
A25: 97 | B25: Zaaglaars | C25: Unisex | D25: EN ISO 17249, beschermingsniveau 1 (conform 20 m/sec) | E25: Oranje | F25: Stihl zaaglaarzen Function | G25: Keuringscertificaat EN ISO 17249 beschermingsniveau 1 (conform 20 m/sec) | N25: JA | AD25: JA | AW25: JA | AZ25: 1 | BC25: =+BA25*BB25 -> 0 | BD25: =+BA25-BC25 -> 0 | BE25: =+AZ25*BD25 -> 0
A26: 98 | B26: Zomersok t.b.v. werkschoenen, coolmax, of gelijkwaardig | C26: Unisex | D26: - | E26: Donkerblauw/zwart | F26: Onbekend | G26: - | H26: JA | I26: JA | J26: JA | K26: JA | L26: JA | N26: JA | T26: JA | Z26: JA | AA26: JA | AB26: JA | AC26: JA | AD26: JA | AF26: JA | AJ26: JA | AN26: JA | AU26: JA | AW26: JA | AZ26: 800 | BC26: =+BA26*BB26 -> 0 | BD26: =+BA26-BC26 -> 0 | BE26: =+AZ26*BD26 -> 0
A27: 99 | B27: Wintersok t.b.v. werkschoenen, coolmax, of gelijkwaardig | C27: Unisex | D27: - | E27: Donkerblauw/zwart | F27: Onbekend | G27: - | H27: JA | I27: JA | J27: JA | K27: JA | L27: JA | N27: JA | T27: JA | Z27: JA | AA27: JA | AB27: JA | AC27: JA | AD27: JA | AF27: JA | AJ27: JA | AN27: JA | AU27: JA | AW27: JA | AZ27: 400 | BC27: =+BA27*BB27 -> 0 | BD27: =+BA27-BC27 -> 0 | BE27: =+AZ27*BD27 -> 0
BD28: TOTAALBEDRAG | BE28: =SUM(BE3:BE27) -> 0

Sheet Wasserij, reparatie en inname
B1: Soort | C1: Eenheid | D1: Aantal wasbeurten fictief per jaar | E1: Stuksprijs | F1: Subtotaal
B2: T-shirt korte mouw | C2: Per stuk | D2: 600 | E2: 0 | F2: =D2*E2 -> 0
B3: Polo korte mouw | C3: Per stuk | D3: 500 | E3: 0 | F3: =D3*E3 -> 0
B4: Polo sweater | C4: Per stuk | D4: 800 | E4: 0 | F4: =D4*E4 -> 0
B5: Fleece vest | C5: Per stuk | D5: 80 | E5: 0 | F5: =D5*E5 -> 0
B6: Jack gevoerd - kort | C6: Per stuk | D6: 160 | E6: 0 | F6: =D6*E6 -> 0
B7: Jack gevoerd - hoge zichtbaarheid | C7: Per stuk | D7: 25 | E7: 0 | F7: =D7*E7 -> 0
B8: Werkbroek | C8: Per stuk | D8: 1750 | E8: 0 | F8: =D8*E8 -> 0
B9: Spijkerbroek | C9: Per stuk | D9: 20 | E9: 0 | F9: =D9*E9 -> 0
B10: Overall | C10: Per stuk | D10: 25 | E10: 0 | F10: =D10*E10 -> 0
B11: Amerikaanse overall | C11: Per stuk | D11: 30 | E11: 0 | F11: =D11*E11 -> 0
B12: Thermo shirt lange mouw | C12: Per stuk | D12: 25 | E12: 0 | F12: =D12*E12 -> 0
B13: Thermo broek lang | C13: Per stuk | D13: 10 | E13: 0 | F13: =D13*E13 -> 0
... B16: Veiligheidsvest - hoge zichtbaarheid | C16: Per stuk | D16: 52 | E16: 0 | F16: =D16*E16 -> 0
B17: TOTAAL REINIGING | F17: =SUM(F2:F16) -> 0
B19: Reparatie | C19: Eenheid | D19: Verbruik per jaar (fictief) in stuks | E19: Prijs per eenheid | F19: Subtotaal
B20: Parka, rits vervangen | C20: Per stuk | D20: 20 | E20: 0 | F20: =D20*E20 -> 0
B21: Pilot jack, rits vervangen | C21: Per stuk | D21: 20 | E21: 0 | F21: =D21*E21 -> 0
B22: Werkbroek, rits vervangen | C22: Per stuk | D22: 20 | E22: 0 | F22: =D22*E22 -> 0
B23: Uurtarief reparatie kleding, diverse reparaties | C23: Per uur | D23: 20 | E23: 0 | F23: =D23*E23 -> 0
B24: TOTAAL REPARATIE | F24: =SUM(F20:F23) -> 0
B26: Inname kapotte/ versleten artikelen | C26: Eenheid | D26: Stuks per jaar (fictief) | E26: Prijs per eenheid | F26: Subtotaal
B27: Ophalen en uitsorteren | C27: Per stuk | D27: 550 | E27: 0 | F27: =D27*E27 -> 0
B28: Duurzaam/ circulair verwerken | C28: Per stuk | D28: 550 | E28: 0 | F28: =D28*E28 -> 0
E29: TOTAAL INNAME | F29: =SUM(F27:F28) -> 0
E32: TOTAALBEDRAG | F32: =F17 + F24 + F29 -> 0

Sheet Prijzenblad totaal
A2: TOTAAL | D2: Subtotaal
A3: Werkkleding | D3: =+Werkkleding!AH77 -> 0
A4: PBM en schoeisel | D4: =+'PBM en schoeisel'!BE28 -> 0
A5: Wasserij | D5: =+'Wasserij, reparatie en inname'!F17 -> 0
A6: Reparatie | D6: =+'Wasserij, reparatie en inname'!F24 -> 0
A7: Inname kapotte/ versleten artikelen | D7: =+'Wasserij, reparatie en inname'!F29 -> 0
A8: TOTALE AANNEEMSOM (= Inschrijfprijs) | D8: =SUM(D3:D7)*4 -> 0
A10: ONDERTEKENING
A11: Naam Onderneming
A12: Voornaam en achternaam rechtsgeldige vertegenwoordiger
A13: Functie
A14: Datum
A15: Handtekening

Sheet Zichtproef
A2: Art.nr. | B2: Artikel | C2: Model | D2: Norm | E2: Kleur | F2: Zichtproef
A3: 1 | B3: T-shirt ronde hals korte mouw, materiaal jersey met ademend en vochtafdrijvend vermogen | C3: Unisex | D3: - | E3: Donkerblauw
A4: 2 | B4: T-shirt ronde hals korte mouw | C4: Unisex | D4: - | E4: Wit, of wit met zwarte details
A5: 3 | B5: T-shirt ronde hals korte mouw met UV block UPF 50+ | C5: Unisex | D5: - | E5: Donkerblauw
A6: 4 | B6: T-shirt ronde hals cool dry | C6: Unisex | D6: - | E6: Donkerblauw | F6: Ja
A7: 5 | B7: T-shirt ronde hals korte mouw hoge zichtbaarheid | C7: Unisex | D7: EN ISO 20471 klasse 2 RWS | E7: Fluor oranje | F7: Ja
A8: 6 | B8: T-shirt ronde hals lange mouw | C8: Unisex | D8: - | E8: Donkerblauw
A9: 7 | B9: Polo korte mouw | C9: Unisex | D9: - | E9: Donkerblauw | F9: Ja
A10: 8 | B10: Polo korte mouw | C10: Unisex | D10: - | E10: Wit, of wit met zwarte details
A11: 9 | B11: Polo korte mouw hoge zichtbaarheid | C11: Unisex | D11: EN ISO 20471 klasse 2 RWS | E11: Fluor oranje
A12: 10 | B12: Polo sweater | C12: Unisex | D12: - | E12: Donkerblauw | F12: Ja
A13: 11 | B13: Polo sweater | C13: Unisex | D13: - | E13: Wit, of wit met zwarte details
A14: 12 | B14: Polo sweater norm | C14: Unisex | D14: ISO11612, EN 1149, EN 6148 | E14: Donkerblauw
A15: 13 | B15: Sweater ronde hals | C15: Unisex | D15: - | E15: Donkerblauw
A16: 14 | B16: Sweater ronde hals hoge zichtbaarheid | C16: Unisex | D16: EN ISO 20471 klasse 3 | E16: Fluor oranje | F16: Ja
A17: 15 | B17: Sweater ronde hals hoge zichtbaarheid | C17: Unisex | D17: EN ISO 20471 klasse 3 RWS | E17: Fluor oranje
A18: 16 | B18: Sweater ronde hals norm | D18: 1149/5, EN ISO 11612, IEC 61482‐2 klasse 1 | E18: Donkerblauw
A19: 17 | B19: Fleece trui met rits van borst tot kraag, afsluitbare zakkenn met rits | C19: Unisex | D19: - | E19: Donkerblauw
A20: 18 | B20: Fleece jack met afsluitbare zakken | C20: Unisex | D20: - | E20: Donkerblauw | F20: Ja
A21: 19 | B21: Fleece jack hoge zichtbaarheid met afritsbare mouwen, gevoerd | C21: Unisex | D21: EN ISO 20471 klasse 2 | E21: Fluor oranje met donkerblauw
A22: 20 | B22: Fleece jack hoge zichtbaarheid gevoerd | C22: Unisex | D22: EN ISO 20471 klasse 3 RWS | E22: Fluor oranje
A23: 21 | B23: Commando trui V-hals met schouderstukken en pennenzak op de mouw | C23: Unisex | D23: - | E23: Donkerblauw
A24: 22 | B24: Schipperstrui met hoge kraag en ritssluiting in de kraag verwerkt | C24: Unisex | D24: - | E24: Donkerblauw
A25: 23 | B25: Service vest zonder mouwen (binnen gebruik), met diverse opbergmogelijkheden | C25: Unisex | D25: - | E25: Donkerblauw, of donkerblauw met zwart
A26: 24 | B26: Soft shell jack | C26: Unisex | D26: - | E26: Zwart, of zwart met grijs
A27: 25 | B27: Jack kort model multinorm ongevoerd | C27: Unisex | D27: EDPP ATEX 137, EN 13034, EN ISO 11611, EN 1149/2/3/5, EN ISO 11612, IEC 61482‐2 klasse 1, EN ISO 20471 klasse 3 | E27: Fluor oranje
A28: 26 | B28: Jack kort model hoge zichtbaarheid ongevoerd (werkjack) | C28: Unisex | D28: EN ISO 20471 klasse 3 RWS | E28: Fluor oranje | F28: Ja
A29: 27 | B29: Jack kort model ongevoerd (werkjack) | C29: Unisex | D29: - | E29: Donkerblauw, of donkerblauw met zwart
A30: 28 | B30: Jack kort model ongevoerd (werkjack) | C30: Unisex | D30: - | E30: Wit, of wit met zwarte details
A31: 29 | B31: Jack kort model hoge zichtbaarheid winterjack (gevoerd) | C31: Unisex | D31: EN ISO 20471 klasse 2 | E31: Fluor oranje met donkerblauw
A32: 30 | B32: Jack kort model all season hoge zichtbaarheid, uitneembare voering, afritsbare mouwen | C32: Unisex | D32: EN ISO 20471 klasse 2 | E32: Fluor oranje met donkerblauw
A33: 31 | B33: Jack kort model all season hoge zichtbaarheid, uitneembare voering, afritsbare mouwen | C33: Unisex | D33: EN ISO 20471 klasse 3 RWS | E33: Fluor oranje
A34: 32 | B34: Jack kort model multi norm | C34: Unisex | D34: EN ISO 11612:2015 A1 B1 C1 E2 F1, EN ISO 11611:2015 Class 1 A1, EN 13034+A1:2009 Type 6, EN 1149-5:2008, EN 61482-2:2009 - class 1 | E34: Donkerblauw, of donkerblauw met zwart
A35: 33 | B35: Jack kort model winterjack multi norm | C35: Unisex | D35: EN ISO 11612:2015 A1 B1 C1 E2 F1, EN ISO 11611:2015 Class 1 A1, EN 13034+A1:2009 Type 6, EN 1149-5:2008, EN 61482-2:2009 - class 1 | E35: Donkerblauw, of donkerblauw met zwart
A36: 34 | B36: Jack kort model met verlengd rugpand, voorzien van diverse opbergmogelijkheden | C36: Unisex | D36: - | E36: Donkerblauw, of donkerblauw met zwart
A37: 35 | B37: Jack kort model met verlengd rugpand winterjack, voorzien van diverse opbergmogelijkheden | C37: Unisex | D37: EN 343 3:3, EN 342 | E37: Donkerblauw, of donkerblauw met zwart
A38: 36 | B38: Jack kort model met verlengd rugpand winterjack, voorzien van diverse opbergmogelijkheden | C38: Unisex | D38: EN 343 3:3, EN 342 | E38: Wit, of wit met zwarte details
A39: 37 | B39: Parka winterjack gevoerd, voorzien van diverse opbergmogelijkheden | C39: Unisex | D39: - | E39: Zwart, of zwart met grijs
A40: 38 | B40: Parka hoge zichtbaarheid winterjack (gevoerd) multi norm | C40: Unisex | D40: genormeerd volgens EDPP ATEX 137 (explosiegevaar), EN 13034/6, EN 1149/5, EN ISO 14116, EN 343 klasse 3‐3, EN ISO 20471 klasse 3 | E40: Fluor oranje | F40: Ja
A41: 39 | B41: Zaagtuniek | C41: Unisex | D41: Zaagklasse 1 | E41: Zwart/oranje
A42: 40 | B42: Voering vlamvertragend en anti statisch Is voor 29. Voering is bestemd voor de jas onder nummer 29. | C42: Unisex | D42: s EN 1149/5, EN ISO 11612 | E42: Zwart
A43: 41 | B43: Spijkerbroek 5 pocket, stretch | C43: Unisex | D43: - | E43: Denim blauw
A44: 42 | B44: Spijkerbroek 5 pocket (laag model) | C44: Unisex | D44: - | E44: Denim blauw
A45: 43 | B45: Spijkerbroek 5 pocket | C45: Dames | D45: - | E45: Denim blauw
A46: 44 | B46: Werkbroek kort | C46: Unisex | D46: - | E46: Donkerblauw
A47: 45 | B47: Service werkbroek (binnen gebruik) met diverse opbergzakken | C47: Unisex | D47: - | E47: Donkerblauw
A48: 46 | B48: Werkbroek zware omstandigheden (buiten gebruik) met diverse opbergzakken | C48: Unisex | D48: - | E48: Donkerblauw
A49: 47 | B49: Werkbroek zware omstandigheden (buiten gebruik) met diverse opbergzakken | C49: Unisex | D49: - | E49: Wit, of wit met zwarte details
A50: 48 | B50: Werkbroek hoge zichtbaarheid met kniezakken en diverse beenzakken | C50: Unisex | D50: EN ISO 20471 klasse 2 | E50: Fluor oranje met donkerblauw | F50: Ja
A51: 49 | B51: Werkbroek hoge zichtbaarheid | C51: Unisex | D51: EN ISO 20471 klasse 1 | E51: Fluor oranje
A52: 50 | B52: Werkbroek winter gevoerd hoge zichtbaarheid | C52: Unisex | D52: EN ISO 20471 klasse 1 | E52: Fluor oranje
A53: 51 | B53: Werkbroek safety multi norm, | C53: Unisex | D53: EN ISO 11612:2015 A1 B1 C1 E2 F1, EN ISO 11611:2015 Class 1 A1, EN 13034+A1:2009 Type 6, EN 1149-5:2008, EN 61482-2:2009 - class 1 | E53: Donkerblauw, of donkerblauw met zwart
A54: 52 | B54: Zaagbroek | C54: Unisex | D54: Zaagklasse 1 | E54: Zwart/oranje
A55: 53 | B55: Amerikaanse overall multi norn | C55: Unisex | D55: EN ISO 11612:2015 A1 B1 C1 E2 F1, EN ISO 11611:2015 Class 1 A1, EN 13034+A1:2009 Type 6, EN 1149-5:2008, EN 61482-2:2009 - class 1 | E55: Donkerblauw, of donkerblauw met zwart
A56: 54 | B56: Amerikaanse overall, elastisch rugpand, diverse zakken waaronder een binnenzak aan het voorpand, kniezakken | C56: Unisex | D56: - | E56: Donkerblauw, of donkerblauw met zwart
A57: 55 | B57: Amerikaanse overall, elastisch rugpand, diverse zakken waaronder een binnenzak aan het voorpand, kniezakken | C57: Unisex | D57: - | E57: Wit, of wit met zwarte details
A58: 56 | B58: Amerikaanse zaagoverall | C58: Unisex | D58: Klasse 1 | E58: Zwart/oranje
A59: 57 | B59: Amerikaanse overall hoge zichtbaarheid met kniezakken en diverse beenzakken | C59: Unisex | D59: EN ISO 20471 klasse 2 | E59: Fluor oranje met donkerblauw
A60: 58 | B60: Amerikaanse overall hoge zichtbaarheiddiverse beenzakken | C60: Unisex | D60: EN ISO 20471 klasse 2 | E60: Fluor oranje
A61: 59 | B61: Overall met lange mouwen, ritssluiting en kniezakken en diverse beenzakken | C61: Unisex | D61: EN ISO 20471 klasse 3 | E61: Fluor oranje met donkerblauw
A62: 60 | B62: Snipperoverall | C62: Unisex | D62: EN ISO 20471 klasse 2, EN 510 | E62: Fluor oranje met donkergroen
... A68: 66 | B68: Regenbroek | C68: Unisex | D68: EN 343 3:3 | E68: Zwart
A69: 67 | B69: Thermo shirt lange mouw, warmte isolatie | C69: Unisex | D69: - | E69: Zwart | F69: Ja
A70: 68 | B70: Thermo broek lang, warmte isolatie | C70: Unisex | D70: - | E70: Zwart
A71: 69 | B71: Thermo shirt lange mouw, warmte isolatie, multi norm | C71: Unisex | D71: EN ISO 11612, EN 1149‐5 | E71: Donkerblauw
A72: 70 | B72: Thermo broek lang, warmte isolatie, multi norm | C72: Unisex | D72: EN ISO 11612, EN 1149‐5 | E72: Donkerblauw
A73: 71 | B73: Veiligheidsvest | C73: Unisex | D73: EN ISO 20471 klasse 2, kleine maten ISO 20471 klasse 1 | E73: Fluor oranje
A74: 72 | B74: Veiligheidsvest multi norm | C74: Unisex | D74: EN ISO 20471 klasse 2, kleine maten ISO 20471 klasse 1, EN ISO 14116, EN 1149‐5 | E74: Fluor oranje
A75: 73 | B75: Chemicalienschort lang model | C75: Unisex | D75: - | E75: -
A76: 74 | B76: Riem elastisch | C76: Unisex | D76: - | E76: Zwart

Sheet Draagproef
A2: Art.nr. | B2: Artikel | C2: Model | D2: Norm | E2: Kleur | F2: Logo | G2: Huidig merk/ model | H2: Verificatie: bewijsstukken aan te leveren tijdens verificatiefase | I2: Brugwachter | J2: Magazijn en locatiebeheerder | K2: Schilder | L2: Operationeel managers | M2: Tuinman | N2: Medewerker KGA | O2: Medewerker Ongedierte | P2: Medewerker Wegbebakening | Q2: Straatmaker | R2: Bankwerker monteur Garage werkplaats | S2: Timmerman | T2: Terreinmeesters buitensport | U2: Sporthal beheerder | V2: Installatie- verantwoorde lijke | W2: Medewerker Rioleringen | X2: Medewerker gemalen | Y2: Medewerker Inzameling | Z2: Veger | AA2: Opzichter | AB2: Medewerker kinderboerderij
A3: 1 | B3: T-shirt ronde hals korte mouw, materiaal jersey met ademend en vochtafdrijvend vermogen | C3: Unisex | D3: - | E3: Donkerblauw | F3: Heat seal badge (zie tabblad logo's), linker borst | G3: Onbekend | H3: - | I3: JA | J3: JA | M3: JA | N3: JA | O3: JA 5 | P3: JA | Q3: JA | R3: JA | S3: JA | T3: JA | U3: JA | X3: JA | Y3: JA | Z3: JA | AB3: JA
A4: 2 | B4: T-shirt ronde hals korte mouw | C4: Unisex | D4: - | E4: Wit, of wit met zwarte details | F4: Heat seal badge (zie tabblad logo's), linker borst | G4: Tricorp | H4: - | K4: JA
A5: 3 | B5: T-shirt ronde hals korte mouw met UV block UPF 50+ | C5: Unisex | D5: - | E5: Donkerblauw | F5: Heat seal badge (zie tabblad logo's), linker borst | G5: Onbekend | H5: - | J5: JA | M5: JA | N5: JA | W5: JA | Y5: JA | Z5: JA | AB5: JA
A6: 4 | B6: T-shirt ronde hals cool dry | C6: Unisex | D6: - | E6: Donkerblauw | F6: Heat seal badge (zie tabblad logo's), linker borst | G6: Printer | H6: - | I6: JA | Q6: JA | U6: JA | W6: JA | Y6: JA | Z6: JA | AB6: JA
A7: 5 | B7: T-shirt ronde hals korte mouw hoge zichtbaarheid | C7: Unisex | D7: EN ISO 20471 klasse 2 RWS | E7: Fluor oranje | F7: Heat seal badge (zie tabblad logo's), plaatsing advies inschrijver | G7: Santino | H7: Keuringscertificaat EN ISO 20471 klasse 2 | M7: JA | N7: JA | P7: JA | Q7: JA | W7: JA | Y7: JA | Z7: JA
A8: 6 | B8: T-shirt ronde hals lange mouw | C8: Unisex | D8: - | E8: Donkerblauw | F8: Heat seal badge (zie tabblad logo's), linker borst | G8: Santino | H8: - | J8: JA | M8: JA | N8: JA | P8: JA | Q8: JA | R8: JA | S8: JA | T8: JA | W8: JA | X8: JA | Y8: JA | Z8: JA | AB8: JA
A9: 7 | B9: Polo korte mouw | C9: Unisex | D9: - | E9: Donkerblauw | F9: Heat seal badge (zie tabblad logo's), linker borst | G9: Santino | H9: - | I9: JA | J9: JA | M9: JA | N9: JA | P9: JA | Q9: JA | R9: JA | S9: JA | T9: JA | U9: JA | W9: JA | X9: JA | Y9: JA | Z9: JA | AB9: JA
A10: 8 | B10: Polo korte mouw | C10: Unisex | D10: - | E10: Wit, of wit met zwarte details | F10: Heat seal badge (zie tabblad logo's), linker borst | G10: Tricorp | H10: - | K10: JA
A11: 9 | B11: Polo korte mouw hoge zichtbaarheid | C11: Unisex | D11: EN ISO 20471 klasse 2 RWS | E11: Fluor oranje | F11: Heat seal badge (zie tabblad logo's), plaatsing advies inschrijver | G11: Santino | H11: Keuringscertificaat EN ISO 20471 klasse 2 | M11: JA | N11: JA | P11: JA | Q11: JA | W11: JA | Y11: JA | Z11: JA
A12: 10 | B12: Polo sweater | C12: Unisex | D12: - | E12: Donkerblauw | F12: Heat seal badge (zie tabblad logo's), linker borst | G12: Santino | H12: - | I12: JA | J12: JA | M12: JA | N12: JA | P12: JA | Q12: JA | R12: JA | T12: JA | U12: JA | W12: JA | Y12: JA | Z12: JA | AB12: JA
A13: 11 | B13: Polo sweater | C13: Unisex | D13: - | E13: Wit, of wit met zwarte details | F13: Heat seal badge (zie tabblad logo's), linker borst | G13: Tricorp | H13: - | K13: JA
A14: 12 | B14: Polo sweater norm | C14: Unisex | D14: ISO11612, EN 1149, EN 6148 | E14: Donkerblauw | F14: Heat seal badge (zie tabblad logo's), linker borst | G14: Havep | H14: Keuringscertificaat ISO11612, EN 1149, EN 6148 | R14: JA | S14: JA | X14: JA
A15: 13 | B15: Sweater ronde hals | C15: Unisex | D15: - | E15: Donkerblauw | F15: Heat seal badge (zie tabblad logo's), linker borst | G15: Santino | H15: - | I15: JA | J15: JA | M15: JA | N15: JA | P15: JA | Q15: JA | R15: JA | T15: JA | U15: JA | W15: JA | AB15: JA
A16: 14 | B16: Sweater ronde hals hoge zichtbaarheid | C16: Unisex | D16: EN ISO 20471 klasse 3 | E16: Fluor oranje | F16: Heat seal badge (zie tabblad logo's), plaatsing advies inschrijver | G16: F. Engel 8011 | H16: Keuringscertificaat EN ISO 20471 klasse 3 | M16: JA | N16: JA | Q16: JA | W16: JA | Y16: JA | Z16: JA
A17: 15 | B17: Sweater ronde hals hoge zichtbaarheid | C17: Unisex | D17: EN ISO 20471 klasse 3 RWS | E17: Fluor oranje | F17: Heat seal badge (zie tabblad logo's), plaatsing advies inschrijver | G17: Tricorp | H17: Keuringscertificaat EN ISO 20471 klasse 4 | P17: JA
A18: 16 | B18: Sweater ronde hals norm | D18: 1149/5, EN ISO 11612, IEC 61482‐2 klasse 1 | E18: Donkerblauw | F18: Heat seal badge (zie tabblad logo's), linker borst | G18: Hydrowear Malaga | H18: Keuringscertificaat 1149/5, EN ISO 11612, IEC 61482‐2 klasse 1 | S18: JA | X18: JA
A19: 17 | B19: Fleece trui met rits van borst tot kraag, afsluitbare zakkenn met rits | C19: Unisex | D19: - | E19: Donkerblauw | F19: Borduur (zie tabblad logo's), linker borst | G19: Tricorp | H19: - | I19: JA | J19: JA | M19: JA | N19: JA | P19: JA | Q19: JA | T19: JA | W19: JA | Y19: JA | Z19: JA | AB19: JA
A20: 18 | B20: Fleece jack met afsluitbare zakken | C20: Unisex | D20: - | E20: Donkerblauw | F20: Borduur (zie tabblad logo's), linker borst | G20: F. Engel 1190-925 | H20: - | T20: JA
A21: 19 | B21: Fleece jack hoge zichtbaarheid met afritsbare mouwen, gevoerd | C21: Unisex | D21: EN ISO 20471 klasse 2 | E21: Fluor oranje met donkerblauw | F21: Borduur (zie tabblad logo's), plaatsing advies inschrijver | G21: Hydrowear Feldkirchen | H21: Keuringscertificaat EN ISO 20471 klasse 2 | I21: JA | J21: JA | L21: JA | M21: JA | N21: JA | O21: JA | Q21: JA | T21: JA | U21: JA | W21: JA | Y21: JA | Z21: JA | AB21: JA
A22: 20 | B22: Fleece jack hoge zichtbaarheid gevoerd | C22: Unisex | D22: EN ISO 20471 klasse 3 RWS | E22: Fluor oranje | F22: Borduur (zie tabblad logo's), plaatsing advies inschrijver | G22: Hydrowear | H22: Keuringscertificaat EN ISO 20471 klasse 3 | P22: JA | AA22: JA
A23: 21 | B23: Commando trui V-hals met schouderstukken en pennenzak op de mouw | C23: Unisex | D23: - | E23: Donkerblauw | F23: Borduur (zie tabblad logo's), linker borst | G23: Onbekend | H23: - | I23: JA | J23: JA | M23: JA | N23: JA | P23: JA | Q23: JA | R23: JA | S23: JA | T23: JA | W23: JA | X23: JA | Y23: JA | Z23: JA | AB23: JA
A24: 22 | B24: Schipperstrui met hoge kraag en ritssluiting in de kraag verwerkt | C24: Unisex | D24: - | E24: Donkerblauw | F24: Borduur (zie tabblad logo's), linker borst | G24: Onbekend | H24: - | I24: JA | J24: JA | M24: JA | N24: JA | P24: JA | Q24: JA | R24: JA | S24: JA | T24: JA | W24: JA | X24: JA | Y24: JA | Z24: JA | AB24: JA
A25: 23 | B25: Service vest zonder mouwen (binnen gebruik), met diverse opbergmogelijkheden | C25: Unisex | D25: - | E25: Donkerblauw, of donkerblauw met zwart | F25: Heat seal badge (zie tabblad logo's), linker borst | G25: F. Engel 5810-254 | H25: - | T25: JA | AB25: JA
A26: 24 | B26: Soft shell jack | C26: Unisex | D26: - | E26: Zwart, of zwart met grijs | F26: Heat seal badge (zie tabblad logo's), linker borst | G26: Tricorp | H26: - | V26: JA | AA26: JA
A27: 25 | B27: Jack kort model multinorm ongevoerd | C27: Unisex | D27: EDPP ATEX 137, EN 13034, EN ISO 11611, EN 1149/2/3/5, EN ISO 11612, IEC 61482‐2 klasse 1, EN ISO 20471 klasse 3 | E27: Fluor oranje | F27: Heat seal badge (zie tabblad logo's), plaatsing advies inschrijver | G27: Hydrowear | H27: Keuringscertificaat EDPP ATEX 137, EN 13034, EN ISO 11611, EN 1149/2/3/5, EN ISO 11612, IEC 61482‐2 klasse 1, EN ISO 20471 klasse 3 | V27: JA
A28: 26 | B28: Jack kort model hoge zichtbaarheid ongevoerd (werkjack) | C28: Unisex | D28: EN ISO 20471 klasse 3 RWS | E28: Fluor oranje | F28: Heat seal badge (zie tabblad logo's), plaatsing advies inschrijver | G28: Onbekend | H28: Keuringscertificaat EN ISO 20471 klasse 3 | P28: JA | AA28: JA
A29: 27 | B29: Jack kort model ongevoerd (werkjack) | C29: Unisex | D29: - | E29: Donkerblauw, of donkerblauw met zwart | F29: Heat seal badge (zie tabblad logo's), linker borst | G29: F. Engel 1810-254 Galaxy jacket | H29: - | T29: JA
A30: 28 | B30: Jack kort model ongevoerd (werkjack) | C30: Unisex | D30: - | E30: Wit, of wit met zwarte details | F30: Heat seal badge (zie tabblad logo's), linker borst | G30: F. Engel 1810-254 Galaxy jacket | H30: - | K30: JA
A31: 29 | B31: Jack kort model hoge zichtbaarheid winterjack (gevoerd) | C31: Unisex | D31: EN ISO 20471 klasse 2 | E31: Fluor oranje met donkerblauw | F31: Heat seal badge (zie tabblad logo's), plaatsing advies inschrijver | G31: F. Engel 1501-520 Light jack | H31: Keuringscertificaat EN ISO 20471 klasse 2 | M31: JA | N31: JA | O31: JA | Q31: JA | W31: JA | Y31: JA | Z31: JA
A32: 30 | B32: Jack kort model all season hoge zichtbaarheid, uitneembare voering, afritsbare mouwen | C32: Unisex | D32: EN ISO 20471 klasse 2 | E32: Fluor oranje met donkerblauw | F32: Heat seal badge (zie tabblad logo's), plaatsing advies inschrijver | G32: Hydrowear Luik | H32: Keuringscertificaat EN ISO 20471 klasse 2 | I32: JA | J32: JA | L32: JA | M32: JA | N32: JA | O32: JA | Q32: JA | W32: JA | Y32: JA | Z32: JA
A33: 31 | B33: Jack kort model all season hoge zichtbaarheid, uitneembare voering, afritsbare mouwen | C33: Unisex | D33: EN ISO 20471 klasse 3 RWS | E33: Fluor oranje | F33: Heat seal badge (zie tabblad logo's), plaatsing advies inschrijver | G33: Hydrowear | H33: Keuringscertificaat EN ISO 20471 klasse 3 | P33: JA
A34: 32 | B34: Jack kort model multi norm | C34: Unisex | D34: EN ISO 11612:2015 A1 B1 C1 E2 F1, EN ISO 11611:2015 Class 1 A1, EN 13034+A1:2009 Type 6, EN 1149-5:2008, EN 61482-2:2009 - class 1 | E34: Donkerblauw, of donkerblauw met zwart | F34: Heat seal badge (zie tabblad logo's), linker borst | G34: F. Engel 1234-820 | H34: Keuringscertificaat EN ISO 11612:2015 A1 B1 C1 E2 F1, EN ISO 11611:2015 Class 1 A1, EN 13034+A1:2009 Type 6, EN 1149-5:2008, EN 61482-2:2009 - class 1 | R34: JA | S34: JA | X34: JA
A35: 33 | B35: Jack kort model winterjack multi norm | C35: Unisex | D35: EN ISO 11612:2015 A1 B1 C1 E2 F1, EN ISO 11611:2015 Class 1 A1, EN 13034+A1:2009 Type 6, EN 1149-5:2008, EN 61482-2:2009 - class 1 | E35: Donkerblauw, of donkerblauw met zwart | F35: Heat seal badge (zie tabblad logo's), linker borst | G35: F. Engel 1934-820 | H35: Keuringscertificaat EN ISO 11612:2015 A1 B1 C1 E2 F1, EN ISO 11611:2015 Class 1 A1, EN 13034+A1:2009 Type 6, EN 1149-5:2008, EN 61482-2:2009 - class 1 | R35: JA | S35: JA | X35: JA
A36: 34 | B36: Jack kort model met verlengd rugpand, voorzien van diverse opbergmogelijkheden | C36: Unisex | D36: - | E36: Donkerblauw, of donkerblauw met zwart | F36: Heat seal badge (zie tabblad logo's), linker borst | G36: F. Engel Galaxy 1290-880 | H36: - | AB36: JA
A37: 35 | B37: Jack kort model met verlengd rugpand winterjack, voorzien van diverse opbergmogelijkheden | C37: Unisex | D37: EN 343 3:3, EN 342 | E37: Donkerblauw, of donkerblauw met zwart | F37: Heat seal badge (zie tabblad logo's), linker borst | G37: F. Engel Galaxy 1410-354 | H37: Keuringscertificaat EN 343 3:3, EN 342 | T37: JA | AB37: JA
A38: 36 | B38: Jack kort model met verlengd rugpand winterjack, voorzien van diverse opbergmogelijkheden | C38: Unisex | D38: EN 343 3:3, EN 342 | E38: Wit, of wit met zwarte details | F38: Heat seal badge (zie tabblad logo's), linker borst | G38: F. Engel Galaxy 1410-354 | H38: - | K38: JA
A39: 37 | B39: Parka winterjack gevoerd, , voorzien van diverse opbergmogelijkheden | C39: Unisex | D39: - | E39: Zwart, of zwart met grijs | F39: Heat seal badge (zie tabblad logo's), linker borst | G39: Tricorp | H39: - | V39: JA | AA39: JA
A40: 38 | B40: Parka hoge zichtbaarheid winterjack (gevoerd) multi norm | C40: Unisex | D40: genormeerd volgens EDPP ATEX 137 (explosiegevaar), EN 13034/6, EN 1149/5, EN ISO 14116, EN 343 klasse 3‐3, EN ISO 20471 klasse 3 | E40: Fluor oranje | F40: Heat seal badge (zie tabblad logo's), plaatsing advies inschrijver | G40: Hydrowear | H40: Keuringscertificaat EDPP ATEX 137 (explosiegevaar), EN 13034/6, EN 1149/5, EN ISO 14116, EN 343 klasse 3‐3, EN ISO 20471 klasse 3 | I40: JA | J40: JA | L40: JA | M40: JA | N40: JA | O40: JA | P40: JA | Q40: JA | R40: JA | S40: JA | T40: JA | U40: JA | V40: JA | W40: JA | X40: JA | Y40: JA | Z40: JA | AA40: JA | AB40: JA
A41: 39 | B41: Zaagtuniek | C41: Unisex | D41: Zaagklasse 1 | E41: Zwart/oranje | F41: Heat seal badge (zie tabblad logo's), plaatsing advies inschrijver | G41: Onbekend | H41: EN381-115 klasse1 CE 0943 EN ISO 13688 2013 | M41: JA | T41: JA | AB41: JA
A42: 40 | B42: Voering vlamvertragend en anti statisch Is voor 29. Voering is bestemd voor de jas onder nummer 29. | C42: Unisex | D42: s EN 1149/5, EN ISO 11612 | E42: Zwart | F42: - | G42: Hydrowear | H42: Keuringscertificaat s EN 1149/5, EN ISO 11612 | R42: JA | S42: JA | V42: JA | X42: JA
A43: 41 | B43: Spijkerbroek 5 pocket, stretch | C43: Unisex | D43: - | E43: Denim blauw | F43: Heat seal badge (zie tabblad logo's), rechter achterzak | G43: Crosshatch, Brams Paris | H43: - | I43: JA | J43: JA | U43: JA
A44: 42 | B44: Spijkerbroek 5 pocket (laag model) | C44: Unisex | D44: - | E44: Denim blauw | F44: Heat seal badge (zie tabblad logo's), rechter achterzak | G44: Crosshatch, Brams Paris | H44: - | J44: JA | U44: JA
A45: 43 | B45: Spijkerbroek 5 pocket | C45: Dames | D45: - | E45: Denim blauw | F45: Heat seal badge (zie tabblad logo's), rechter achterzak | G45: Crosshatch | H45: - | U45: JA
A46: 44 | B46: Werkbroek kort | C46: Unisex | D46: - | E46: Donkerblauw | F46: Heat seal badge (zie tabblad logo's), rechter achterzak | G46: Tricorp | H46: - | U46: JA
A47: 45 | B47: Service werkbroek (binnen gebruik) met diverse opbergzakken | C47: Unisex | D47: - | E47: Donkerblauw | F47: Heat seal badge (zie tabblad logo's), rechter achterzak | G47: F. Engel 2280-740 | H47: - | J47: JA | T47: JA | AB47: JA
A48: 46 | B48: Werkbroek zware omstandigheden (buiten gebruik) met diverse opbergzakken | C48: Unisex | D48: - | E48: Donkerblauw | F48: Heat seal badge (zie tabblad logo's), rechter achterzak | G48: F. Engel 2810-254 | H48: - | J48: JA | T48: JA | AB48: JA
A49: 47 | B49: Werkbroek zware omstandigheden (buiten gebruik) met diverse opbergzakken | C49: Unisex | D49: - | E49: Wit, of wit met zwarte details | F49: Heat seal badge (zie tabblad logo's), rechter achterzak | G49: F. Engel 2810-254 | H49: - | K49: JA
A50: 48 | B50: Werkbroek hoge zichtbaarheid met kniezakken en diverse beenzakken | C50: Unisex | D50: EN ISO 20471 klasse 2 | E50: Fluor oranje met donkerblauw | F50: Heat seal badge (zie tabblad logo's), plaatsing advies inschrijver | G50: F. Engel 2501, Light broek | H50: Keuringscertificaat EN ISO 20471 klasse 2 | M50: JA | N50: JA | Q50: JA | W50: JA | Y50: JA | Z50: JA
A51: 49 | B51: Werkbroek hoge zichtbaarheid | C51: Unisex | D51: EN ISO 20471 klasse 1 | E51: Fluor oranje | F51: Heat seal badge (zie tabblad logo's), plaatsing advies inschrijver | G51: Hydrowear Andorra | H51: Keuringscertificaat EN ISO 20471 klasse 1 | P51: JA
A52: 50 | B52: Werkbroek winter gevoerd hoge zichtbaarheid | C52: Unisex | D52: EN ISO 20471 klasse 1 | E52: Fluor oranje | F52: Heat seal badge (zie tabblad logo's), plaatsing advies inschrijver | G52: Hydrowear | H52: Keuringscertificaat EN ISO 20471 klasse 1 | M52: JA | N52: JA | O52: JA | P52: JA | Q52: JA | W52: JA | Y52: JA | Z52: JA
A53: 51 | B53: Werkbroek safety multi norm, | C53: Unisex | D53: EN ISO 11612:2015 A1 B1 C1 E2 F1, EN ISO 11611:2015 Class 1 A1, EN 13034+A1:2009 Type 6, EN 1149-5:2008, EN 61482-2:2009 - class 1 | E53: Donkerblauw, of donkerblauw met zwart | F53: Heat seal badge (zie tabblad logo's), rechter achterzak | G53: F. Engel 2234-825 | H53: Keuringscertificaat N ISO 11612:2015 A1 B1 C1 E2 F1, EN ISO 11611:2015 Class 1 A1, EN 13034+A1:2009 Type 6, EN 1149-5:2008, EN 61482-2:2009 - class 1 | R53: JA | S53: JA | X53: JA
A54: 52 | B54: Zaagbroek | C54: Unisex | D54: Zaagklasse 1 | E54: Zwart/oranje | F54: Heat seal badge (zie tabblad logo's), plaatsing advies inschrijver | G54: Onbekend | H54: EN381-115 klasse1 CE 0943 EN ISO 13688 2013 | M54: JA | T54: JA | AB54: JA
A55: 53 | B55: Amerikaanse overall multi norn | C55: Unisex | D55: EN ISO 11612:2015 A1 B1 C1 E2 F1, EN ISO 11611:2015 Class 1 A1, EN 13034+A1:2009 Type 6, EN 1149-5:2008, EN 61482-2:2009 - class 1 | E55: Donkerblauw, of donkerblauw met zwart | F55: Heat seal badge (zie tabblad logo's), rechter achterzak | G55: F. Engel 3234-825 | H55: Keuringscertificaat EN ISO 11612:2015 A1 B1 C1 E2 F1, EN ISO 11611:2015 Class 1 A1, EN 13034+A1:2009 Type 6, EN 1149-5:2008, EN 61482-2:2009 - class 1 | R55: JA | S55: JA | X55: JA
A56: 54 | B56: Amerikaanse overall, elastisch rugpand, diverse zakken waaronder een binnenzak aan het voorpand, kniezakken | C56: Unisex | D56: - | E56: Donkerblauw, of donkerblauw met zwart | F56: Heat seal badge (zie tabblad logo's), rechter achterzak | G56: F. Engel Galaxy Bib Overall 3810-254 | H56: - | T56: JA | AB56: JA
A57: 55 | B57: Amerikaanse overall, elastisch rugpand, diverse zakken waaronder een binnenzak aan het voorpand, kniezakken | C57: Unisex | D57: - | E57: Wit, of wit met zwarte details | F57: Heat seal badge (zie tabblad logo's), rechter achterzak | G57: F. Engel Galaxy Bib Overall 3810-254 | K57: JA
A58: 56 | B58: Amerikaanse zaagoverall | C58: Unisex | D58: Klasse 1 | E58: Zwart/oranje | F58: Heat seal badge (zie tabblad logo's), plaatsing advies inschrijver | G58: Onbekend | H58: EN381-115 klasse1 CE 0943 EN ISO 13688 2013 | M58: JA | T58: JA | AB58: JA
A59: 57 | B59: Amerikaanse overall hoge zichtbaarheid met kniezakken en diverse beenzakken | C59: Unisex | D59: EN ISO 20471 klasse 2 | E59: Fluor oranje met donkerblauw | F59: Heat seal badge (zie tabblad logo's), plaatsing advies inschrijver | G59: F. Engel 3511 | H59: Keuringscertificaat EN ISO 20471 klasse 2 | M59: JA | N59: JA | W59: JA | Y59: JA | Z59: JA
A60: 58 | B60: Amerikaanse overall hoge zichtbaarheiddiverse beenzakken | C60: Unisex | D60: EN ISO 20471 klasse 2 | E60: Fluor oranje | F60: Heat seal badge (zie tabblad logo's), plaatsing advies inschrijver | G60: Hydrowear | H60: Keuringscertificaat EN ISO 20471 klasse 2 | P60: JA
A61: 59 | B61: Overall met lange mouwen, ritssluiting en kniezakken en diverse beenzakken | C61: Unisex | D61: EN ISO 20471 klasse 3 | E61: Fluor oranje met donkerblauw | F61: Heat seal badge (zie tabblad logo's), plaatsing advies inschrijver | G61: F. Engel 4501-775 | H61: Keuringscertificaat EN ISO 20471 klasse 3 | W61: JA
A62: 60 | B62: Snipperoverall | C62: Unisex | D62: EN ISO 20471 klasse 2, EN 510 | E62: Fluor oranje met donkergroen | F62: Heat seal badge (zie tabblad logo's), plaatsing advies inschrijver | H62: Keuringscertificaat EN ISO 20471 klasse 2, EN 510 | M62: JA | T62: JA | AB62: JA
A63: 61 | B63: Regenjack met capuchon in de kraag | C63: Unisex | D63: EN ISO 20471 klasse 3, EN 343 3:3 | E63: Fluor oranje | F63: Heat seal badge (zie tabblad logo's), plaatsing advies inschrijver | G63: Hydrowear | H63: Keuringscertificaat EN ISO 20471 klasse 3, EN 343 3:3 | I63: JA | J63: JA | L63: JA | M63: JA | N63: JA | O63: JA | Q63: JA | T63: JA | U63: JA | W63: JA | Y63: JA | Z63: JA | AB63: JA
A64: 62 | B64: Regenbroek | C64: Unisex | D64: EN ISO 20471 klasse 1, EN 343 3:3 | E64: Fluor oranje | F64: Heat seal badge (zie tabblad logo's), plaatsing advies inschrijver | G64: Hydrowear | H64: Keuringscertificaat EN ISO 20471 klasse 1, EN 343 3:3 | I64: JA | J64: JA | L64: JA | M64: JA | N64: JA | O64: JA | P64: JA | Q64: JA | T64: JA | U64: JA | W64: JA | Y64: JA | Z64: JA | AB64: JA
A65: 63 | B65: Regenjack multi norm | C65: Unisex | D65: volgens EDPP ATEX 137, EN 13034, EN 1149, EN ISO 14116 index 1, EN 343 klasse 3‐1, EN ISO 20471 klasse 3 | E65: Fluor oranje | F65: Heat seal badge (zie tabblad logo's), plaatsing advies inschrijver | G65: Hydrowear | H65: Keuringscertificaat EDPP ATEX 137, EN 13034, EN 1149, EN ISO 14116 index 1, EN 343 klasse 3‐1, EN ISO 20471 klasse 3 | R65: JA | S65: JA | X65: JA
A66: 64 | B66: Regenbroek multi norm | C66: Unisex | D66: s EN 13034, EN 1149, EN ISO 14116 index 1, EN 343 klasse 3‐1, EN ISO 20471 klasse 1 | E66: Fluor oranje | F66: Heat seal badge (zie tabblad logo's), plaatsing advies inschrijver | G66: Hydrowear | H66: Keuringscertificaat s EN 13034, EN 1149, EN ISO 14116 index 1, EN 343 klasse 3‐1, EN ISO 20471 klasse 1 | R66: JA | S66: JA | X66: JA
A67: 65 | B67: Regenjack | C67: Unisex | D67: EN 343 3:3 | E67: Zwart | F67: Heat seal badge (zie tabblad logo's), linker borst | G67: Hydrowear | H67: Keuringscertificaat EN 343 3:3 | AA67: JA
A68: 66 | B68: Regenbroek | C68: Unisex | D68: EN 343 3:3 | E68: Zwart | F68: Heat seal badge (zie tabblad logo's), rechter achterzak | G68: Hydrowear | H68: Keuringscertificaat EN 343 3:3 | AA68: JA
A69: 67 | B69: Thermo shirt lange mouw, warmte isolatie | C69: Unisex | D69: - | E69: Zwart | F69: - | G69: Onbekend | H69: - | I69: JA | K69: JA | L69: JA | M69: JA | N69: JA | P69: JA | Q69: JA | T69: JA | V69: JA | W69: JA | Y69: JA | Z69: JA | AA69: JA | AB69: JA
A70: 68 | B70: Thermo broek lang, warmte isolatie | C70: Unisex | D70: - | E70: Zwart | F70: - | G70: Onbekend | H70: - | I70: JA | K70: JA | L70: JA | M70: JA | N70: JA | P70: JA | Q70: JA | T70: JA | V70: JA | W70: JA | Y70: JA | Z70: JA | AA70: JA | AB70: JA
A71: 69 | B71: Thermo shirt lange mouw, warmte isolatie, multi norm | C71: Unisex | D71: EN ISO 11612, EN 1149‐5 | E71: Donkerblauw | F71: - | G71: Hydrowear Waalre | H71: Keuringscertificaat EN ISO 11612, EN 1149-5 | R71: JA | S71: JA | X71: JA
A72: 70 | B72: Thermo broek lang, warmte isolatie, multi norm | C72: Unisex | D72: EN ISO 11612, EN 1149‐5 | E72: Donkerblauw | F72: - | G72: Hydrowear Wijster | H72: Keuringscertificaat EN ISO 11612, EN 1149-5 | R72: JA | S72: JA | X72: JA
A73: 71 | B73: Veiligheidsvest | C73: Unisex | D73: EN ISO 20471 klasse 2, kleine maten ISO 20471 klasse 1 | E73: Fluor oranje | F73: Heat seal badge (zie tabblad logo's), plaatsing advies inschrijver | G73: M- wear | H73: Keuringscertificaat EN ISO 20471 klasse 2 en kleine maten klasse 1 | M73: JA | N73: JA | P73: JA | Q73: JA | R73: JA | W73: JA | Y73: JA | Z73: JA
A74: 72 | B74: Veiligheidsvest multi norm | C74: Unisex | D74: EN ISO 20471 klasse 2, kleine maten ISO 20471 klasse 1, EN ISO 14116, EN 1149‐5 | E74: Fluor oranje | F74: Heat seal badge (zie tabblad logo's), plaatsing advies inschrijver | G74: Tricorp | H74: EN ISO 20471 klasse 2, kleine maten ISO 20471 klasse 1, EN ISO 14116, EN 1149‐5 | S74: JA | V74: JA | X74: JA
A75: 73 | B75: Chemicalienschort lang model | C75: Unisex | D75: - | E75: - | F75: - | G75: Onbekend | H75: - | N75: JA
A76: 74 | B76: Riem elastisch | C76: Unisex | D76: - | E76: Zwart | F76: - | G76: Snickers ergonomische riem elastisch 9025 | H76: - | I76: JA | J76: JA | K76: JA | L76: JA | M76: JA | N76: JA | O76: JA | P76: JA | Q76: JA | R76: JA | S76: JA | T76: JA | V76: JA | W76: JA | X76: JA | Y76: JA | Z76: JA | AA76: JA | AB76: JA

Sheet Materiaal eisen
A1: Aspect | B1: Norm | C1: Werkbroeken en overalls | E1: Gebreide artikelen | G1: Buitenjassen
A2: DIMENSIONELE STABILITEIT WEEFSELS | C2: KETTING | D2: INSLAG | G2: KETTING | H2: INSLAG
A3: □ Wassen/drogen | B3: ISO 5077 and 6330 - 5 cycles | C3: max 3 % | D3: max 3 % | G3: max 3 % | H3: max 3 %
A4: □ Dry cleaning | B4: ISO 5077 and 3175 - 5 cycles | C4: max 3 % | D4: max 3 % | G4: max 3 % | H4: max 3 %
A5: DIMENSIONELE STABILITEIT BREISELS | E5: LENGTE | F5: BREEDTE
A6: □ Wassen/drogen | B6: ISO 5077 and 6330 - 5 cycles | E6: max 5 % | F6: max 5 %
A7: □ Dry cleaning | B7: ISO 5077 and 3175 - 5 cycles | E7: max 5 % | F7: max 5 %
A8: MECHANISCHE EIGENSCHAPPEN
A9: □ Slijtweerstand | B9: ISO 12947-2 | C9: 12 kPa - min 25.000 toeren | E9: 9 kPa - min 10.000 toeren | G9: 12 kPa - min 40.000 toeren
A10: □ Pilling | B10: ISO 12945-1 | C10: min 3 -15.000 toeren | E10: min 3 -15.000 toeren | G10: nvt
A11: □ Treksterkte | B11: ISO 13934-1 | C11: min 850 N | D11: min 650 N | G11: min 850 N | H11: min 650 N
A12: □ Scheursterkte | B12: ISO 13937-1 | C12: min 20 N | D12: min 17 N | G12: min 20 N | H12: min 17 N
A13: □ Barstweerstand | B13: ISO13938-1 - 7,3cm² | E13: min 200 kPa
A14: KLEUR ECHTHEDEN | C14: COLOUR CHANGE | D14: STAINING | E14: COLOUR CHANGE | F14: STAINING | G14: COLOUR CHANGE | H14: STAINING
A15: □ licht | B15: ISO 105 B02 | C15: min 6 | E15: min 6 | G15: min 6
A16: □ wassen | B16: ISO 105 C06 | C16: min 4-5 | D16: min 4 | E16: min 4-5 | F16: min 4 | G16: min 4-5 | H16: min 4
A17: □ dry cleaning | B17: ISO 105 D01 | C17: min 4 | D17: min 4 | E17: min 4 | F17: min 4 | G17: min 4 | H17: min 4
A18: □ wrijven - droog | B18: ISO 105 X12 | D18: min 3-4 | F18: min 4 | H18: min 4
A19: □ zweten | B19: ISO 105 E04 | C19: min 4 | D19: min 3 | E19: min 4 | F19: min 3 | G19: min 4 | H19: min 3
