Workbook
Name A: '[1]HULP-velden'!$D$8
Name B: '[1]HULP-velden'!$D$9
Name Exponent: '[1]Invoer EMVI-kaders'!$M$28
Name LAQ: [2]Superformule!$K$22
Name Maximaal: '[2]HULP-velden'!$L$20
Name MijnGrenzen: #REF!
Name MijnGrenzen: #REF!
Name Percentage_Qeisen: '[2]HULP-velden'!$J$80
Name Pmax: '[1]Invoer EMVI-kaders'!$M$27
Name Pref: '[1]Invoer EMVI-kaders'!$M$25
Name Qmax: '[1]Invoer EMVI-kaders'!$M$20
Name Qmin: '[1]Invoer EMVI-kaders'!$M$22
Name Qref: '[1]Invoer EMVI-kaders'!$M$26
Name Qwensen: '[1]Invoer EMVI-kaders'!$M$21
Name SOLVERWAARDE: '[1]HULP-velden'!$D$10

Sheet Samenvatting
B2: Openbare Europese aanbesteding
B3: Gebouwgebonden Technische Infrastructuur (GTIS) Producten en Diensten 2021
B4: Samenvatting
B5: IUC21-025
B6: (Prijzen exclusief BTW)
C8: Naam inschrijver:
C13: Kernassortiment & Minicompetities
C14: GTIS Producten | D14: conform tabblad "Kernass. & Minicompetities" | F14: =IF('Kernass. & Minicompetities'!I108=450000,"0",'Kernass. & Minicompetities'!I108) -> 0
C16: Uurprijzen
C17: Diensten, Onderhoud en Support | D17: conform tabblad "Uurprijzen" | F17: =Uurprijzen!G37 -> 0
C19: Overige Prijzen
C20: Diensten, Onderhoud en Support | D20: conform tabblad "Overige Prijzen" | F20: ='Overige Prijzen'!G36 -> 0
C23: Vergelijkingswaarde | F23: =SUM(F14:F20) -> 0

Sheet Kernass. & Minicompetities
B2: Openbare Europese aanbesteding
B3: Gebouwgebonden Technische Infrastructuur (GTIS) Producten en Diensten 2021
B4: Kernassortiment & Minicompetities
B5: IUC21-025
B6: (Prijzen exclusief BTW)
C8: Naam inschrijver:
C9: =IF(ISBLANK(Samenvatting!C9),"",Samenvatting!C9)
C13: Kernassortiment GTIS Producten
E14: Hier staan kwaliteitsreferenties vooringevuld. Deze zijn overschrijfbaar!
C15: Artikelomschrijving | E15: Merk | F15: Artikelnummer | G15: Fictief aantal | H15: Prijs per stuk | I15: Prijs totaal
C17: BMP71 zelflaminerende draad- en kabellabels | E17: Brady | F17: M71-32-427 | G17: 150 | I17: =G17*H17 -> 0
C18: BMP71-serie R4300-printlint | E18: Brady | F18: M71-R4300 | G18: 40 | I18: =G18*H18 -> 0
C19: Over de top outlet 50mm orange | E19: Mulder Harderberg | F19: MH1279-531ASLO | G19: 40 | I19: =G19*H19 -> 0
C20: Support clip for 100mm DUCT | E20: Mulder Harderberg | F20: CLIP1-100 | G20: 30 | I20: =G20*H20 -> 0
C21: Support clip for 50 mm DUCT | E21: Mulder Harderberg | F21: CLIP1-50 | G21: 140 | I21: =G21*H21 -> 0
C22: Duct With Snap on Lid 100mm,L2000 orange | E22: Mulder Harderberg | F22: TC1279-23ASNO | G22: 40 | I22: =G22*H22 -> 0
C23: Slotless Joiner 100 mm; orange | E23: Mulder Harderberg | F23: TC1279-248AO | G23: 25 | I23: =G23*H23 -> 0
C24: Joiner, 50 mm; orange | E24: Mulder Harderberg | F24: TC1279-73O | G24: 80 | I24: =G24*H24 -> 0
C25: Break-Out Kit 50mm; orange | E25: Mulder Harderberg | F25: TC1279-93KITO | G25: 50 | I25: =G25*H25 -> 0
C26: Scheidingspaneel 1000mm*46HE sendzimir | E26: minkels | F26: afwijkend nummer gekregen | G26: 20 | I26: =G26*H26 -> 0
C27: Kabeldoorvoerplaat | E27: minkels | F27: MCS5002 | G27: 30 | I27: =G27*H27 -> 0
C28: R4300-serie thermisch transferprintlint | E28: Brady | F28: 35244 | G28: 10 | I28: =G28*H28 -> 0
C29: Zelflaminerende draadmerkers | E29: Brady | F29: THT-119-427-2.5 | G29: 5 | I29: =G29*H29 -> 0
C30: BMP61 M611 R4300-serie printlint | E30: Brady | F30: M61-R4310 | G30: 10 | I30: =G30*H30 -> 0
C31: OS1 LCduplex-LCduplex L2m geel | E31: Panduit | F31: F9LE10-10M2 | G31: 50 | I31: =G31*H31 -> 0
C32: OM4+ HD Flex Cas MPO to 6 duplex LC | E32: Panduit | F32: FHCSA-12-10AS | G32: 75 | I32: =G32*H32 -> 0
C33: OM4 MTP-6LCduplex halve cassette HdFlex | E33: Panduit | F33: FHCZO-12-10AS | G33: 25 | I33: =G33*H33 -> 0
C34: 6-port HD Flex MPO FAP Type B adapter | E34: Panduit | F34: FHMP-6-BCG | G34: 50 | I34: =G34*H34 -> 0
C35: HD Flex Fiber Panel houses | E35: Panduit | F35: FLEX1UPN06 | G35: 40 | I35: =G35*H35 -> 0
C36: HD Flex Enclosure Trunk Slack Plate - 1 RU. | E36: Panduit | F36: FLEX-PLATE1U | G36: 30 | I36: =G36*H36 -> 0
C37: Cassette SingleMode OS1/OS2 MTP-6LCduplex | E37: Panduit | F37: FQ9N-12-10AF | G37: 40 | I37: =G37*H37 -> 0
C38: FiberAdapterPanel 4 MPO Key up Key down | E38: Panduit | F38: FQMAP45BL | G38: 20 | I38: =G38*H38 -> 0
C39: OM4 MTP-6LCduplex (halve cassette) | E39: Panduit | F39: FQZA-12-10AS | G39: 60 | I39: =G39*H39 -> 0
C40: OM4+ 2f l LC/ LC 2m | E40: Panduit | F40: FS2ELQ1Q1NNM002 | G40: 25 | I40: =G40*H40 -> 0
... C100: TTP 20x10mm 1.000/Rol (2 Rij) | E100: Altec | F100: 2010-300-WT-40 | G100: 20 | I100: =G100*H100 -> 0
H101: subtotaal kernassortiment | I101: =SUM(I17:I100) -> 0
C103: Minicompetities
F105: lump-sum inkoopprijs | H105: opslag-% | I105: subtotaal mini-competities
C106: Opslagpercentage omzet uit minicompetities | F106: 450000 | I106: =F106*(1+H106) -> 450000
H108: TOTAAL | I108: =SUM(I101:I106) -> 450000

Sheet Uurprijzen
B2: Openbare Europese aanbesteding
B3: Gebouwgebonden Technische Infrastructuur (GTIS) Producten en Diensten 2021
B4: Uurprijzen
B5: IUC21-025
B6: (Prijzen exclusief BTW)
C8: Naam inschrijver:
C9: =IF(ISBLANK(Samenvatting!C9),"",Samenvatting!C9)
C13: (Uur)Prijzen Diensten
C15: Expertise / onderdeel | D15: Omschrijving | E15: (Uur)Prijs | F15: Fictieve aantallen per jaar | G15: Prijs totaal
C16: Monteur datacenter | D16: Uurtarief monteur datacenter (Kantoortijden) | F16: 200 | G16: =E16*F16 -> 0
C17: Monteur datacenter | D17: Uurtarief monteur datacenter (buiten Kantoortijden) | F17: 5 | G17: =E17*F17 -> 0
C18: Monteur kantooromgeving | D18: Uurtarief monteur kantooromgeving (Kantoortijden) | F18: 80 | G18: =E18*F18 -> 0
C19: Monteur kantooromgeving | D19: Uurtarief monteur kantooromgeving (buiten Kantoortijden) | F19: 5 | G19: =E19*F19 -> 0
C20: consultancy | D20: Uurtarief Consultancy (Kantoortijden) | F20: 40 | G20: =E20*F20 -> 0
C21: projectleider | D21: Uurtarief Projectleider (Kantoortijden) | F21: 40 | G21: =E21*F21 -> 0
C22: projectleider | D22: Uurtarief Projectleider (buiten Kantoortijden) | F22: 5 | G22: =E22*F22 -> 0
C23: Site-survey | D23: Het uitvoeren van een site-survey als onderdeel van de Offerteprocedure en/of op verzoek van de Opdrachtgever | F23: 40 | G23: =E23*F23 -> 0
F24: TOTAAL | G24: =SUM(G16:G23) -> 0
C26: (Uur)Prijzen - On call (support conform KPI 4 DLCM)
C28: Expertise / onderdeel | D28: Omschrijving | E28: (Uur)Prijs | F28: Fictieve aantallen per jaar | G28: Prijs totaal
C29: Voorrijkosten | D29: De kosten welke in rekening gebracht mogen worden in het geval van het Oplossen van een Incident op locatie van de Opdrachtgever (Correctief onderhoud on call basis) | F29: 50 | G29: =E29*F29 -> 0
C30: Monteur datacenter | D30: Uurprijs monteur datacenter voor het Oplossen van een Incident (Correctief onderhoud on call basis) op locatie van de Opdrachtgever (Kantoortijden) | F30: 60 | G30: =E30*F30 -> 0
C31: Monteur datacenter | D31: Uurprijs monteur datacenter voor het Oplossen van een Incident (Correctief onderhoud on call basis) op locatie van de Opdrachtgever (Buiten kantoortijden) | F31: 10 | G31: =E31*F31 -> 0
C32: Monteur kantooromgeving | D32: Uurprijs monteur kantooromgeving voor het Oplossen van een Incident op locatie (Correctief onderhoud on call basis) van de Opdrachtgever (Kantoortijden) | F32: 40 | G32: =E32*F32 -> 0
C33: Monteur kantooromgeving | D33: Uurprijs monteur kantooromgeving voor het Oplossen van een Incident op locatie (Correctief onderhoud on call basis) van de Opdrachtgever (buiten kantoortijden) | F33: 10 | G33: =E33*F33 -> 0
F34: TOTAAL | G34: =SUM(G29:G33) -> 0
F37: TOTAAL Uurprijzen | G37: =G21+G34 -> 0

Sheet Overige Prijzen
B2: Openbare Europese aanbesteding
B3: Gebouwgebonden Technische Infrastructuur (GTIS) Producten en Diensten 2021
B4: Overige prijzen
B5: IUC21-025
B6: (Prijzen exclusief BTW)
C8: Naam inschrijver:
C9: =IF(ISBLANK(Samenvatting!C9),"",Samenvatting!C9)
C13: Inmeten WiFi en DECT
E15: Fictieve opdrachten
C16: Bruto Vloer Oppervlakte (BVO) | D16: Prijs per m2 per inmeting (all-in) | E16: Aantal m2 BVO | F16: Aantal | G16: Prijs totaal
C17: 0 > Oppervlakte < 1000m2 | E17: 500 | F17: 1 | G17: =D17*E17*F17 -> 0
C18: 1.001 > Oppervlakte < 2.500m2 | E18: 1750 | F18: 1 | G18: =D18*E18*F18 -> 0
C19: 2.501 > Oppervlakte < 5.000m2 | E19: 3750 | F19: 1 | G19: =D19*E19*F19 -> 0
C20: 5.001 > Oppervlakte < 10.000m2 | E20: 7500 | F20: 2 | G20: =D20*E20*F20 -> 0
C21: 10.001 > Oppervlakte < 15.000m2 | E21: 12500 | F21: 3 | G21: =D21*E21*F21 -> 0
C22: 15.001 > Oppervlakte < 20.000m2 | E22: 17500 | F22: 4 | G22: =D22*E22*F22 -> 0
F23: TOTAAL | G23: =SUM(G17:G22) -> 0
C26: Onderhoud Cylock apparatuur
C28: Expertise / onderdeel | D28: Omschrijving | E28: Prijs per jaar | F28: Aantal | G28: Prijs totaal
C29: Preventief onderhoud en Support | D29: Preventief onderhoud en Support Cylock apparatuur conform SLA | F29: 1 | G29: =E29*F29 -> 0
C30: Expertise / onderdeel | D30: Omschrijving | E30: (Uur)Prijs | F30: Fictieve aantallen per jaar | G30: Prijs totaal
C31: Voorrijkosten | D31: De kosten welke in rekening gebracht mogen worden in het geval van het Oplossen van een Incident op locatie van de Opdrachtgever | F31: 2 | G31: =E31*F31 -> 0
C32: Monteur Cylock apparatuur | D32: Uurprijs monteur Cylock apparatuur voor het Oplossen van een Incident (Correctief onderhoud) op locatie van de Opdrachtgever (Kantoortijden) | F32: 4 | G32: =E32*F32 -> 0
F33: TOTAAL | G33: =G29+G31+G32 -> 0
F36: TOTAAL Uurprijzen | G36: =G23+G33 -> 0

Sheet BPK-Grafiek
B2: Europese Aanbesteding
B3: =Samenvatting!B3 -> Gebouwgebonden Technische Infrastructuur (GTIS) Producten en Diensten 2021
B4: BPK-Grafiek
B5: ="Kenmerk: "&Samenvatting!B5 -> Kenmerk: IUC21-025
D8: Vergelijkingswaarde | F8: =Samenvatting!F23 -> 0
D10: Indicatie eigen score | F10: Score Kwaliteit | G10: Procenten
D11: Kwaliteit in eisen | F11: =+DATA!G41 -> 233 | G11: =+F11/DATA!$G$40*100 -> 69.96997 | H11: %
D12: Eigen inschatting score kwaliteit *1 | F12: 71 | G12: =+F12/DATA!$G$40*100 -> 21.321321 | H12: %
E13: Totaal kwaliteit | F13: =SUM(F11:F12) -> 304 | G13: =SUM(G11:G12) -> 91.291291 | H13: %
D14: Indicatie BPK-score | F14: =+DATA!E7 -> 0.81175144
D15: *1 | E15: ="Eigen inschatting door Inschrijver. Waarde tussen 0 en "&F19&" punten." -> Eigen inschatting door Inschrijver. Waarde tussen 0 en 100 punten.
D17: Opbouw Score voor kwaliteit | F17: Punten | G17: Procenten
D18: Eisen | F18: =DATA!G41 -> 233 | G18: =+F18/DATA!$G$40*100 -> 69.96997 | H18: %
D19: Wensen | F19: =DATA!G42 -> 100 | G19: =+F19/DATA!$G$40*100 -> 30.03003 | H19: %
D20: Totaal | F20: =SUM(F18:F19) -> 333 | G20: =+F20/DATA!$G$40*100 -> 100 | H20: %
C82: Totaal kwaliteit | E82: 1650 | F82: 825 | G82: %

Sheet DATA
B2: Hulpdata Grafiek Superformule
B6: Hulpvelden
B7: Uw inschrijving | C7: =+'BPK-Grafiek'!$F$8 -> 0 | D7: =+'BPK-Grafiek'!$F$13 -> 304 | E7: =IFERROR((0.5*($C$7/$G$38)^$F$38+0.5*(2-$D$7/$H$38)^$F$38)^(1/$F$38),0) -> 0.81175144 | F7: =+D7/G40*100 -> 91.291291
B9: LET OP !!! | C9: Voordat de TAB-bladen "TBV PRIJSMODEL (1)" EN "TBV PRIJSMODEL (2)" gekopieerd worden kan naar het Prijsmodel, moeten eerst onderstaande waarden ( oranje velden ) worden geselecteerd en worden gekopieerd en geplakt worden als WAARDEN (ctrl-C, plakken speciaal "waarden")
B11: EVMI-punten | C11: P | D11: Q | E11: EMVI
B12: Ref | C12: 900000 | D12: 303 | E12: 1
B13: Ref (boven) | C13: 972000 | D13: 333 | E13: 1.0000021
B14: Ref (onder) | C14: 0 | D14: 233.96493 | E14: 1
B16: EMVI-lijnen
C17: hulp=Q bij P=0 | D17: 0 | E17: 0.0125 | F17: 0.025 | G17: 0.05 | H17: 0.1 | I17: 0.15 | J17: 0.2 | K17: 0.25 | L17: 0.3 | M17: 0.35 | N17: 0.4 | O17: 0.45 | P17: 0.5 | Q17: 0.55 | R17: 0.6 | S17: 0.65 | T17: 0.7 | U17: 0.75 | V17: 0.8 | W17: 0.85 | X17: 0.9 | Y17: 0.95 | Z17: 1 | AA17: 0
B18: Q berekend bij P=0 en EMVI=1 | C18: 233.96493 | D18: 233.96493 | E18: 235.20287 | F18: 236.44081 | G18: 238.91669 | H18: 243.86844 | I18: 248.82019 | J18: 253.77195 | K18: 258.7237 | L18: 263.67545 | M18: 268.62721 | N18: 273.57896 | O18: 278.53071 | P18: 283.48247 | Q18: 288.43422 | R18: 293.38597 | S18: 298.33773 | T18: 303.28948 | U18: 308.24123 | V18: 313.19299 | W18: 318.14474 | X18: 323.09649 | Y18: 328.04825 | Z18: 333 | AA18: EMVI
B19: P berekend uit Q en EMVI=1 | D19: 0 | E19: 292166.69 | F19: 358313.09 | G19: 438918.62 | H19: 536389.16 | I19: 601965.83 | J19: 652392.96 | K19: 693649.05 | L19: 728640.92 | M19: 759027.71 | N19: 785856.56 | O19: 809835.95 | P19: 831470.37 | Q19: 851133.43 | R19: 869110.65 | S19: 885625.77 | T19: 900857.89 | U19: 914952.98 | V19: 928031.8 | W19: 940195.6 | X19: 951530.28 | Y19: 962109.47 | Z19: 971996.83 | AA19: 1
D20: 70.25974 | E20: 70.631493 | F20: 71.003246 | G20: 71.746753 | H20: 73.233766 | I20: 74.720779 | J20: 76.207792 | K20: 77.694805 | L20: 79.181818 | M20: 80.668831 | N20: 82.155844 | O20: 83.642857 | P20: 85.12987 | Q20: 86.616883 | R20: 88.103896 | S20: 89.590909 | T20: 91.077922 | U20: 92.564935 | V20: 94.051948 | W20: 95.538961 | X20: 97.025974 | Y20: 98.512987 | Z20: 100 | AA20: 0
B21: Q berekend bij P=0 en EMVI=0,9 | C21: 271.16844 | D21: 271.16844 | E21: 271.94133 | F21: 272.71423 | G21: 274.26002 | H21: 277.3516 | I21: 280.44317 | J21: 283.53475 | K21: 286.62633 | L21: 289.71791 | M21: 292.80949 | N21: 295.90106 | O21: 298.99264 | P21: 302.08422 | Q21: 305.1758 | R21: 308.26738 | S21: 311.35895 | T21: 314.45053 | U21: 317.54211 | V21: 320.63369 | W21: 323.72527 | X21: 326.81684 | Y21: 329.90842 | Z21: 333 | AA21: EMVI
B22: P berekend uit Q en EMVI=0,9 | D22: 0 | E22: 236047.17 | F22: 289592.23 | G22: 354994.16 | H22: 434456.14 | I22: 488281.46 | J22: 529960.81 | K22: 564305.07 | L22: 593650.6 | M22: 619329.29 | N22: 642180.74 | O22: 662772.29 | P22: 681507.38 | Q22: 698684.39 | R22: 714530.99 | S22: 729225.34 | T22: 742909.82 | U22: 755700.23 | V22: 767692.22 | W22: 778965.83 | X22: 789588.8 | Y22: 799619.06 | Z22: 809106.57 | AA22: 0.9
D23: 81.431964 | E23: 81.664064 | F23: 81.896165 | G23: 82.360366 | H23: 83.288768 | I23: 84.217169 | J23: 85.145571 | K23: 86.073973 | L23: 87.002375 | M23: 87.930777 | N23: 88.859178 | O23: 89.78758 | P23: 90.715982 | Q23: 91.644384 | R23: 92.572786 | S23: 93.501187 | T23: 94.429589 | U23: 95.357991 | V23: 96.286393 | W23: 97.214795 | X23: 98.143196 | Y23: 99.071598 | Z23: 100 | AA23: 0
B24: Q berekend bij P=0 en EMVI=0,8 | C24: 308.37195 | D24: 308.37195 | E24: 308.6798 | F24: 308.98765 | G24: 309.60335 | H24: 310.83475 | I24: 312.06615 | J24: 313.29756 | K24: 314.52896 | L24: 315.76036 | M24: 316.99177 | N24: 318.22317 | O24: 319.45457 | P24: 320.68597 | Q24: 321.91738 | R24: 323.14878 | S24: 324.38018 | T24: 325.61158 | U24: 326.84299 | V24: 328.07439 | W24: 329.30579 | X24: 330.53719 | Y24: 331.7686 | Z24: 333 | AA24: EMVI
B25: P berekend uit Q en EMVI=0,8 | D25: 0 | E25: 165502.75 | F25: 203136.65 | G25: 249237.33 | H25: 305577.16 | I25: 344057.5 | J25: 374104.69 | K25: 399075.14 | L25: 420596.5 | M25: 439595.32 | N25: 456654.82 | O25: 472168.55 | P25: 486415.94 | Q25: 499603.36 | R25: 511888.01 | S25: 523392.73 | T25: 534215.54 | U25: 544436.02 | V25: 554119.79 | W25: 563321.68 | X25: 572088.01 | Y25: 580458.29 | Z25: 588466.56 | AA25: 0.8
D26: 92.604188 | E26: 92.696636 | F26: 92.789083 | G26: 92.973979 | H26: 93.343769 | I26: 93.71356 | J26: 94.083351 | K26: 94.453141 | L26: 94.822932 | M26: 95.192722 | N26: 95.562513 | O26: 95.932304 | P26: 96.302094 | Q26: 96.671885 | R26: 97.041675 | S26: 97.411466 | T26: 97.781256 | U26: 98.151047 | V26: 98.520838 | W26: 98.890628 | X26: 99.260419 | Y26: 99.630209 | Z26: 100
B27: Q berekend bij P=0 en EMVI=0,7 | C27: 345.57545 | D27: 345.57545 | E27: 345.41826 | F27: 345.26107 | G27: 344.94668 | H27: 344.31791 | I27: 343.68914 | J27: 343.06036 | K27: 342.43159 | L27: 341.80282 | M27: 341.17404 | N27: 340.54527 | O27: 339.9165 | P27: 339.28773 | Q27: 338.65895 | R27: 338.03018 | S27: 337.40141 | T27: 336.77264 | U27: 336.14386 | V27: 335.51509 | W27: 334.88632 | X27: 334.25755 | Y27: 333.62877 | Z27: 333 | AA27: EMVI
B28: P berekend uit Q en EMVI=0,7 | D28: 0 | E28: 0 | F28: 0 | G28: 0 | H28: 0 | I28: 0 | J28: 0 | K28: 0 | L28: 0 | M28: 0 | N28: 0 | O28: 0 | P28: 0 | Q28: 0 | R28: 0 | S28: 0 | T28: 0 | U28: 0 | V28: 0 | W28: 0 | X28: 0 | Y28: 0 | Z28: 0 | AA28: 0.7
D29: 103.77641 | E29: 103.72921 | F29: 103.682 | G29: 103.58759 | H29: 103.39877 | I29: 103.20995 | J29: 103.02113 | K29: 102.83231 | L29: 102.64349 | M29: 102.45467 | N29: 102.26585 | O29: 102.07703 | P29: 101.88821 | Q29: 101.69939 | R29: 101.51056 | S29: 101.32174 | T29: 101.13292 | U29: 100.9441 | V29: 100.75528 | W29: 100.56646 | X29: 100.37764 | Y29: 100.18882 | Z29: 100 | AA29: 0
B30: Q berekend bij P=0 en EMVI=0,6 | C30: 382.77896 | D30: 382.77896 | E30: 382.15672 | F30: 381.53449 | G30: 380.29001 | H30: 377.80106 | I30: 375.31212 | J30: 372.82317 | K30: 370.33422 | L30: 367.84527 | M30: 365.35632 | N30: 362.86738 | O30: 360.37843 | P30: 357.88948 | Q30: 355.40053 | R30: 352.91158 | S30: 350.42264 | T30: 347.93369 | U30: 345.44474 | V30: 342.95579 | W30: 340.46684 | X30: 337.9779 | Y30: 335.48895 | Z30: 333 | AA30: EMVI
B31: P berekend uit Q en EMVI=0,6 | D31: 0 | E31: 0 | F31: 0 | G31: 0 | H31: 0 | I31: 0 | J31: 0 | K31: 0 | L31: 0 | M31: 0 | N31: 0 | O31: 0 | P31: 0 | Q31: 0 | R31: 0 | S31: 0 | T31: 0 | U31: 0 | V31: 0 | W31: 0 | X31: 0 | Y31: 0 | Z31: 0 | AA31: 0.6
D32: 114.94864 | E32: 114.76178 | F32: 114.57492 | G32: 114.2012 | H32: 113.45377 | I32: 112.70634 | J32: 111.95891 | K32: 111.21148 | L32: 110.46405 | M32: 109.71661 | N32: 108.96918 | O32: 108.22175 | P32: 107.47432 | Q32: 106.72689 | R32: 105.97945 | S32: 105.23202 | T32: 104.48459 | U32: 103.73716 | V32: 102.98973 | W32: 102.2423 | X32: 101.49486 | Y32: 100.74743 | Z32: 100
B33: Q berekend bij P=0 en EMVI=1,1 | C33: 196.76143 | D33: 196.76143 | E33: 198.46441 | F33: 200.16739 | G33: 203.57336 | H33: 210.38528 | I33: 217.19721 | J33: 224.00914 | K33: 230.82107 | L33: 237.633 | M33: 244.44493 | N33: 251.25686 | O33: 258.06878 | P33: 264.88071 | Q33: 271.69264 | R33: 278.50457 | S33: 285.3165 | T33: 292.12843 | U33: 298.94036 | V33: 305.75229 | W33: 312.56421 | X33: 319.37614 | Y33: 326.18807 | Z33: 333 | AA33: EMVI
B34: P berekend uit Q en EMVI=1,1 | D34: 0 | E34: 343284.81 | F34: 420880.41 | G34: 515256.65 | H34: 628931.96 | I34: 704978.06 | J34: 763113.65 | K34: 810386.39 | L34: 850226.41 | M34: 884593.56 | N34: 914726.11 | O34: 941462.82 | P34: 965401.69 | Q34: 986986.2 | R34: 1006555.7 | S34: 1024376.6 | T34: 1040662.6 | U34: 1055587.9 | V34: 1069297.4 | W34: 1081912.5 | X34: 1093536.7 | Y34: 1104258.8 | Z34: 1114155.9 | AA34: 1.1
D35: 59.087516 | E35: 59.598922 | F35: 60.110328 | G35: 61.13314 | H35: 63.178764 | I35: 65.224388 | J35: 67.270012 | K35: 69.315637 | L35: 71.361261 | M35: 73.406885 | N35: 75.452509 | O35: 77.498134 | P35: 79.543758 | Q35: 81.589382 | R35: 83.635006 | S35: 85.68063 | T35: 87.726255 | U35: 89.771879 | V35: 91.817503 | W35: 93.863127 | X35: 95.908752 | Y35: 97.954376 | Z35: 100 | AA35: 0
B37: Hulpvelden t.b.v grafiek | F37: Exponent | G37: Pref | H37: Qref
B38: Referentie | C38: 900000 | D38: 90.990991 | F38: 3.377 | G38: 900000 | H38: 303
B39: Referentie (Qmax) | C39: 972000 | D39: 100
B40: Qmax | C40: 100 | D40: 100 | F40: Qmax | G40: 333
B41: Qmin | C41: 69.96997 | D41: 69.96997 | F41: Qmin | G41: 233
B42: Qref | C42: 90.990991 | D42: 90.990991 | F42: Qwensen | G42: 100
B43: P | C43: 0 | D43: 1800000 | F43: LAQ | G43: -10 | H43: -10 | I43: genormaliseerd
B44: Bonus (extra) | C44: 145.04505 | D44: 145.04505 | F44: LAQ (norm) | G44: -3.003003 | H44: -3.003003
B45: Qeisen | C45: 34.984985 | D45: 90000 | F45: Uw Inschrijving | G45: 69.96997 | H45: 0
B46: Qwensen | C46: 84.984985 | D46: 90000
B47: Qbonus | C47: 122.52252 | D47: 90000
