Workbook

Sheet Overzicht prijzenblad
A1: Prijzenblad Cedris Wagenpark: Kopen van voertuigen Perceel 3: koop van elektrische bestelwagens Blad 1/8
A2: > U dient alleen de geel gemarkeerde velden in te vullen. > De prijsopgave dient op onderdelen te geschieden in euro's (€) (op 4 decimalen, tenzij anders staat aangegeven) en op onderdelen in percentages (op 4 decimalen). > Er kunnen uitsluitend positieve getallen worden ingevuld. > Aangeboden prijzen zijn all-in (exclusief btw). Er kunnen dus geen andersoortige kosten in rekening worden gebracht, tenzij uitdrukkelijk anders bepaald. > Zie verder de voorschriften in de Aanbestedingsleidraad.
A4: Naam Inschrijver: | B4: <naam>
A5: Kilometragerange | B5: Weging kilometragerange | C5: Gewogen all-in prijs per kilometer per kilometragerange | D5: Totaal gewogen all-in prijs per kilometer per kilometragerange
A6: Tot 10.000 | B6: 0.4 | C6: ='Tot 10.000'!BA29 -> 0 | D6: =B6*C6 -> 0
A7: 10.001 t/m 20.000 | B7: 0.3 | C7: ='10.001 - 20.000'!BA29 -> 0 | D7: =B7*C7 -> 0
A8: 20.001 t/m 30.000 | B8: 0.15 | C8: ='20.001 - 30.000'!AL29 -> 0 | D8: =B8*C8 -> 0
A9: 30.001 t/m 40.000 | B9: 0.1 | C9: ='30.001 - 40.000'!AG29 -> 0 | D9: =B9*C9 -> 0
A10: 40.001 t/m 50.000 | B10: 0.04 | C10: ='40.001 - 50.000'!AB29 -> 0 | D10: =B10*C10 -> 0
A11: Vanaf 50.000 | B11: 0.01 | C11: ='Vanaf 50.001'!AB29 -> 0 | D11: =B11*C11 -> 0
A12: Totaal gewogen all-in prijs per kilometer (Grondslag voor beoordeling) | D12: =SUM(D6:D11) -> 0

Sheet Kortingspercentages
A1: Prijzenblad Cedris Wagenpark: Kopen van voertuigen Perceel 3: koop van elektrische bestelwagens Blad 2/8
A2: > U dient alleen de geel gemarkeerde velden in te vullen. Voeg in dit tabblad van één voertuig per categorie in uw leveringsprogramma de onderstaande gegevens in: - Het merk van het voertuig - Het type/model voertuig - De netto catalogusprijs - Het kortingspercentage o.b.v. netto catalogusprijs > De voertuigen die u opgeeft dienen gelijkwaardig te zijn aan de voertuigen die de Aanbestedende dienst heeft opgegeven als voorbeeld in paragraaf 2.6 van de Aanbestedingsleidraad. > De prijsopgave dient op onderdelen te geschieden in euro's (€) (op 4 decimalen, tenzij anders staat aangegeven) en op onderdelen in percentages (op 4 decimalen). > Er kunnen uitsluitend positieve getallen worden ingevuld. > Aangeboden prijzen zijn all-in (exclusief btw). Er kunnen dus geen andersoortige kosten in rekening worden gebracht, tenzij uitdrukkelijk anders bepaald. > Zie verder de voorschriften in de Aanbestedingsleidraad.
A3: Naam Inschrijver: | B3: ='Overzicht prijzenblad'!B4 -> <naam>
A4: Kortingspercentage o.b.v. netto catalogusprijs
A5: Merk | B5: Type / Model | C5: Netto catalogusprijs | D5: Kortingspercentage o.b.v. netto catalogusprijs | E5: Catalogusprijs minus korting
A6: Categorie: Grote elektrische gesloten bestelwagens
C7: 0 | D7: 0 | E7: =C7*(1-D7) -> 0
A8: Categorie: Middelgrote elektrische gesloten bestelwagens
C9: 0 | D9: 0 | E9: =C9*(1-D9) -> 0
A10: Categorie: Elektrische pick-up bestelwagens
C11: 0 | D11: 0 | E11: =C11*(1-D11) -> 0
A12: Categorie: Kleine elektrische gesloten bestelwagens
C13: 0 | D13: 0 | E13: =C13*(1-D13) -> 0

Sheet Tot 10.000
A1: Prijzenblad Cedris Wagenpark: Kopen van voertuigen Perceel 3: koop van elektrische bestelwagens Blad 3/8
A2: > U dient alleen de geel gemarkeerde velden in te vullen. Voeg in dit tabblad van één voertuig per categorie in uw leveringsprogramma de onderstaande gegevens in: - Prijs per kilometer voor ROB voor elk jaar dat het voertuig in gebruik is. - Percentuele restwaarde na elk jaar dat het voertuig in gebruik is genomen. - Meerprijs per kilometer voor het gebruk van all-season banden. - Meerprijs per kilometer voor gewone banden in combinatie met winterbanden (inclusief wisselingen en opslag van de niet in gebruik zijnde banden) Bij het invullen van bovenstaande gegevens dient u rekening te houden met maximaal 10.000 km per jaar. > De prijsopgave dient op onderdelen te geschieden in euro's (€) (op 4 decimalen, tenzij anders staat aangegeven) en op onderdelen in percentages (op 4 decimalen). > Er kunnen uitsluitend positieve getallen worden ingevuld. > Aangeboden prijzen zijn all-in (exclusief btw). Er kunnen dus geen andersoortige kosten in rekening worden gebracht, tenzij uitdrukkelijk anders bepaald. > Zie verder de voorschriften in de Aanbestedingsleidraad.
A3: Naam Inschrijver: | D3: ='Overzicht prijzenblad'!B4 -> <naam>
A4: Prijzen en percentages bij een kilometrage tot 10.000 km per jaar
A5: Kilometrage per jaar (voor berekening): | D5: Jaar 1 | E5: Jaar 2 | F5: Jaar 3 | G5: 4 jaar | H5: 5 jaar | I5: 6 jaar | J5: 7 jaar | K5: 8 jaar | M5: Totaal
D6: 10000 | E6: 10000 | F6: 10000 | G6: 10000 | H6: 10000 | I6: 10000 | J6: 10000 | K6: 10000 | M6: =SUM(D6:K6) -> 80000
D8: Prijs per kilometer voor ROB | M8: Percentuele restwaarde van voertuig na afschrijving | V8: Meerprijs per km voor all season banden | W8: Meerprijs per km voor gewone banden i.c.m. winterbanden | Y8: Gegarandeerde restwaarde na X aantal jaar | AH8: Afschrijving per km per jaar | AQ8: All-In prijs per kilometer
A9: =Kortingspercentages!A6 -> Categorie: Grote elektrische gesloten bestelwagens | D9: 1 jaar | E9: 2 jaar | F9: 3 jaar | G9: 4 jaar | H9: 5 jaar | I9: 6 jaar | J9: 7 jaar | K9: 8 jaar | M9: 1 jaar | N9: 2 jaar | O9: 3 jaar | P9: 4 jaar | Q9: 5 jaar | R9: 6 jaar | S9: 7 jaar | T9: 8 jaar | Y9: 1 jaar | Z9: 2 jaar | AA9: 3 jaar | AB9: 4 jaar | AC9: 5 jaar | AD9: 6 jaar | AE9: 7 jaar | AF9: 8 jaar | AH9: Jaar 1 | AI9: Jaar 2 | AJ9: Jaar 3 | AK9: Jaar 4 | AL9: Jaar 5 | AM9: Jaar 6 | AN9: Jaar 7 | AO9: Jaar 8 | AQ9: Jaar 1 | AR9: Jaar 2 | AS9: Jaar 3 | AT9: Jaar 4 | AU9: Jaar 5 | AV9: Jaar 6 | AW9: Jaar 7 | AX9: Jaar 8 | AY9: Gewogen all-in prijs per kilometer van alle jaargangen | AZ9: Weging categorie | BA9: Gewogen all-in prijs per kilometer van alle jaargangen van betreffende categorie
A10: =Kortingspercentages!$A$5 -> Merk | B10: =Kortingspercentages!$E$5 -> Catalogusprijs minus korting | AP10: Weging van jaren: | AQ10: 0.025 | AR10: 0.05 | AS10: 0.075 | AT10: 0.1 | AU10: 0.15 | AV10: 0.35 | AW10: 0.15 | AX10: 0.1
A11: =Kortingspercentages!A7 -> 0 | B11: =Kortingspercentages!E7 -> 0 | D11: 0 | E11: 0 | F11: 0 | G11: 0 | H11: 0 | I11: 0 | J11: 0 | K11: 0 | M11: 0 | N11: 0 | O11: 0 | P11: 0 | Q11: 0 | R11: 0 | S11: 0 | T11: 0 | V11: 0 | W11: 0 | Y11: =$B11*M11 -> 0 | Z11: =$B11*N11 -> 0 | AA11: =$B11*O11 -> 0 | AB11: =$B11*P11 -> 0 | AC11: =$B11*Q11 -> 0 | AD11: =$B11*R11 -> 0 | AE11: =$B11*S11 -> 0 | AF11: =$B11*T11 -> 0 | AH11: =(B11-Y11)/$D$6 -> 0 | AI11: =(Y11-Z11)/$E$6 -> 0 | AJ11: =(Z11-AA11)/$F$6 -> 0 | AK11: =(AA11-AB11)/$G$6 -> 0 | AL11: =(AB11-AC11)/$H$6 -> 0 | AM11: =(AC11-AD11)/$I$6 -> 0 | AN11: =(AD11-AE11)/$J$6 -> 0 | AO11: =(AE11-AF11)/$K$6 -> 0 | AQ11: =D11+$V$11+$W$11+AH11 -> 0 | AR11: =E11+$V$11+$W$11+AI11 -> 0 | AS11: =F11+$V$11+$W$11+AJ11 -> 0 | AT11: =G11+$V$11+$W$11+AK11 -> 0 | AU11: =H11+$V$11+$W$11+AL11 -> 0 | AV11: =I11+$V$11+$W$11+AM11 -> 0 | AW11: =J11+$V$11+$W$11+AN11 -> 0 | AX11: =K11+$V$11+$W$11+AO11 -> 0
AP12: Gewogen all-in prijs per kilometer in het betreffende jaar | AQ12: =AVERAGE(AQ11:AQ11)*$AQ$10 -> 0 | AR12: =AVERAGE(AR11:AR11)*$AR$10 -> 0 | AS12: =AVERAGE(AS11:AS11)*$AS$10 -> 0 | AT12: =AVERAGE(AT11:AT11)*$AT$10 -> 0 | AU12: =AVERAGE(AU11:AU11)*$AU$10 -> 0 | AV12: =AVERAGE(AV11:AV11)*$AV$10 -> 0 | AW12: =AVERAGE(AW11:AW11)*$AW$10 -> 0 | AX12: =AVERAGE(AX11:AX11)*$AX$10 -> 0 | AY12: =SUM(AQ12:AX12) -> 0 | AZ12: 0.24 | BA12: =AY12*AZ12 -> 0
A14: =Kortingspercentages!A8 -> Categorie: Middelgrote elektrische gesloten bestelwagens | D14: Prijs per kilometer voor ROB | M14: Percentuele restwaarde van voertuig na afschrijving | V14: Meerprijs per KM voor all season banden | W14: Meerprijs per KM voor gewone banden i.c.m. winterbanden | Y14: =$Y$8 -> Gegarandeerde restwaarde na X aantal jaar | AH14: =$AH$8 -> Afschrijving per km per jaar | AQ14: All-In prijs per kilometer
A15: =Kortingspercentages!$A$5 -> Merk | B15: =Kortingspercentages!$E$5 -> Catalogusprijs minus korting | D15: 1 jaar | E15: 2 jaar | F15: 3 jaar | G15: 4 jaar | H15: 5 jaar | I15: 6 jaar | J15: 7 jaar | K15: 8 jaar | M15: 1 jaar | N15: 2 jaar | O15: 3 jaar | P15: 4 jaar | Q15: 5 jaar | R15: 6 jaar | S15: 7 jaar | T15: 8 jaar | Y15: 1 jaar | Z15: 2 jaar | AA15: 3 jaar | AB15: 4 jaar | AC15: 5 jaar | AD15: 6 jaar | AE15: 7 jaar | AF15: 8 jaar | AH15: 1 jaar | AI15: 2 jaar | AJ15: 3 jaar | AK15: 4 jaar | AL15: 5 jaar | AM15: 6 jaar | AN15: 7 jaar | AO15: 8 jaar | AQ15: Jaar 1 | AR15: Jaar 2 | AS15: Jaar 3 | AT15: Jaar 4 | AU15: Jaar 5 | AV15: Jaar 6 | AW15: Jaar 7 | AX15: Jaar 8 | AY15: Gewogen all-in prijs per kilometer van alle jaargangen | AZ15: Weging categorie | BA15: Gewogen all-in prijs per kilometer van alle jaargangen van betreffende categorie
A16: =Kortingspercentages!A9 -> 0 | B16: =Kortingspercentages!E9 -> 0 | D16: 0 | E16: 0 | F16: 0 | G16: 0 | H16: 0 | I16: 0 | J16: 0 | K16: 0 | M16: 0 | N16: 0 | O16: 0 | P16: 0 | Q16: 0 | R16: 0 | S16: 0 | T16: 0 | V16: 0 | W16: 0 | Y16: =$B16*M16 -> 0 | Z16: =$B16*N16 -> 0 | AA16: =$B16*O16 -> 0 | AB16: =$B16*P16 -> 0 | AC16: =$B16*Q16 -> 0 | AD16: =$B16*R16 -> 0 | AE16: =$B16*S16 -> 0 | AF16: =$B16*T16 -> 0 | AH16: =(B16-Y16)/$D$6 -> 0 | AI16: =(Y16-Z16)/$E$6 -> 0 | AJ16: =(Z16-AA16)/$F$6 -> 0 | AK16: =(AA16-AB16)/$G$6 -> 0 | AL16: =(AB16-AC16)/$H$6 -> 0 | AM16: =(AC16-AD16)/$I$6 -> 0 | AN16: =(AD16-AE16)/$J$6 -> 0 | AO16: =(AE16-AF16)/$K$6 -> 0 | AQ16: =D16+$V$16+$W$16+AH16 -> 0 | AR16: =E16+$V$16+$W$16+AI16 -> 0 | AS16: =F16+$V$16+$W$16+AJ16 -> 0 | AT16: =G16+$V$16+$W$16+AK16 -> 0 | AU16: =H16+$V$16+$W$16+AL16 -> 0 | AV16: =I16+$V$16+$W$16+AM16 -> 0 | AW16: =J16+$V$16+$W$16+AN16 -> 0 | AX16: =K16+$V$16+$W$16+AO16 -> 0
AP17: Gewogen all-in prijs per kilometer in het betreffende jaar | AQ17: =AVERAGE(AQ16:AQ16)*$AQ$10 -> 0 | AR17: =AVERAGE(AR16:AR16)*$AR$10 -> 0 | AS17: =AVERAGE(AS16:AS16)*$AS$10 -> 0 | AT17: =AVERAGE(AT16:AT16)*$AT$10 -> 0 | AU17: =AVERAGE(AU16:AU16)*$AU$10 -> 0 | AV17: =AVERAGE(AV16:AV16)*$AV$10 -> 0 | AW17: =AVERAGE(AW16:AW16)*$AW$10 -> 0 | AX17: =AVERAGE(AX16:AX16)*$AX$10 -> 0 | AY17: =SUM(AQ17:AX17) -> 0 | AZ17: 0.31 | BA17: =AY17*AZ17 -> 0
A19: =Kortingspercentages!A10 -> Categorie: Elektrische pick-up bestelwagens | D19: Prijs per kilometer voor ROB | M19: Percentuele restwaarde van voertuig na afschrijving | V19: Meerprijs per KM voor all season banden | W19: Meerprijs per KM voor gewone banden i.c.m. winterbanden | Y19: =$Y$8 -> Gegarandeerde restwaarde na X aantal jaar | AH19: =$AH$8 -> Afschrijving per km per jaar | AQ19: All-In prijs per kilometer
A20: =Kortingspercentages!$A$5 -> Merk | B20: =Kortingspercentages!$E$5 -> Catalogusprijs minus korting | D20: 1 jaar | E20: 2 jaar | F20: 3 jaar | G20: 4 jaar | H20: 5 jaar | I20: 6 jaar | J20: 7 jaar | K20: 8 jaar | M20: 1 jaar | N20: 2 jaar | O20: 3 jaar | P20: 4 jaar | Q20: 5 jaar | R20: 6 jaar | S20: 7 jaar | T20: 8 jaar | Y20: 1 jaar | Z20: 2 jaar | AA20: 3 jaar | AB20: 4 jaar | AC20: 5 jaar | AD20: 6 jaar | AE20: 7 jaar | AF20: 8 jaar | AH20: 1 jaar | AI20: 2 jaar | AJ20: 3 jaar | AK20: 4 jaar | AL20: 5 jaar | AM20: 6 jaar | AN20: 7 jaar | AO20: 8 jaar | AQ20: Jaar 1 | AR20: Jaar 2 | AS20: Jaar 3 | AT20: Jaar 4 | AU20: Jaar 5 | AV20: Jaar 6 | AW20: Jaar 7 | AX20: Jaar 8 | AY20: Gewogen all-in prijs per kilometer van alle jaargangen | AZ20: Weging categorie | BA20: Gewogen all-in prijs per kilometer van alle jaargangen van betreffende categorie
A21: =Kortingspercentages!A11 -> 0 | B21: =Kortingspercentages!E11 -> 0 | D21: 0 | E21: 0 | F21: 0 | G21: 0 | H21: 0 | I21: 0 | J21: 0 | K21: 0 | M21: 0 | N21: 0 | O21: 0 | P21: 0 | Q21: 0 | R21: 0 | S21: 0 | T21: 0 | V21: 0 | W21: 0 | Y21: =$B21*M21 -> 0 | Z21: =$B21*N21 -> 0 | AA21: =$B21*O21 -> 0 | AB21: =$B21*P21 -> 0 | AC21: =$B21*Q21 -> 0 | AD21: =$B21*R21 -> 0 | AE21: =$B21*S21 -> 0 | AF21: =$B21*T21 -> 0 | AH21: =(B21-Y21)/$D$6 -> 0 | AI21: =(Y21-Z21)/$E$6 -> 0 | AJ21: =(Z21-AA21)/$F$6 -> 0 | AK21: =(AA21-AB21)/$G$6 -> 0 | AL21: =(AB21-AC21)/$H$6 -> 0 | AM21: =(AC21-AD21)/$I$6 -> 0 | AN21: =(AD21-AE21)/$J$6 -> 0 | AO21: =(AE21-AF21)/$K$6 -> 0 | AQ21: =D21+$V$21+$W$21+AH21 -> 0 | AR21: =E21+$V$21+$W$21+AI21 -> 0 | AS21: =F21+$V$21+$W$21+AJ21 -> 0 | AT21: =G21+$V$21+$W$21+AK21 -> 0 | AU21: =H21+$V$21+$W$21+AL21 -> 0 | AV21: =I21+$V$21+$W$21+AM21 -> 0 | AW21: =J21+$V$21+$W$21+AN21 -> 0 | AX21: =K21+$V$21+$W$21+AO21 -> 0
AP22: Gewogen all-in prijs per kilometer in het betreffende jaar | AQ22: =AVERAGE(AQ21:AQ21)*$AQ$10 -> 0 | AR22: =AVERAGE(AR21:AR21)*$AR$10 -> 0 | AS22: =AVERAGE(AS21:AS21)*$AS$10 -> 0 | AT22: =AVERAGE(AT21:AT21)*$AT$10 -> 0 | AU22: =AVERAGE(AU21:AU21)*$AU$10 -> 0 | AV22: =AVERAGE(AV21:AV21)*$AV$10 -> 0 | AW22: =AVERAGE(AW21:AW21)*$AW$10 -> 0 | AX22: =AVERAGE(AX21:AX21)*$AX$10 -> 0 | AY22: =SUM(AQ22:AX22) -> 0 | AZ22: 0.25 | BA22: =AY22*AZ22 -> 0
A24: =Kortingspercentages!A12 -> Categorie: Kleine elektrische gesloten bestelwagens | D24: Prijs per kilometer voor ROB | M24: Percentuele restwaarde van voertuig na afschrijving | V24: Meerprijs per KM voor all season banden | W24: Meerprijs per KM voor gewone banden i.c.m. winterbanden | Y24: =$Y$8 -> Gegarandeerde restwaarde na X aantal jaar | AH24: =$AH$8 -> Afschrijving per km per jaar | AQ24: All-In prijs per kilometer
A25: =Kortingspercentages!$A$5 -> Merk | B25: =Kortingspercentages!$E$5 -> Catalogusprijs minus korting | D25: 1 jaar | E25: 2 jaar | F25: 3 jaar | G25: 4 jaar | H25: 5 jaar | I25: 6 jaar | J25: 7 jaar | K25: 8 jaar | M25: 1 jaar | N25: 2 jaar | O25: 3 jaar | P25: 4 jaar | Q25: 5 jaar | R25: 6 jaar | S25: 7 jaar | T25: 8 jaar | Y25: 1 jaar | Z25: 2 jaar | AA25: 3 jaar | AB25: 4 jaar | AC25: 5 jaar | AD25: 6 jaar | AE25: 7 jaar | AF25: 8 jaar | AH25: 1 jaar | AI25: 2 jaar | AJ25: 3 jaar | AK25: 4 jaar | AL25: 5 jaar | AM25: 6 jaar | AN25: 7 jaar | AO25: 8 jaar | AQ25: Jaar 1 | AR25: Jaar 2 | AS25: Jaar 3 | AT25: Jaar 4 | AU25: Jaar 5 | AV25: Jaar 6 | AW25: Jaar 7 | AX25: Jaar 8 | AY25: Gewogen all-in prijs per kilometer van alle jaargangen | AZ25: Weging categorie | BA25: Gewogen all-in prijs per kilometer van alle jaargangen van betreffende categorie
A26: =Kortingspercentages!A13 -> 0 | B26: =Kortingspercentages!E13 -> 0 | D26: 0 | E26: 0 | F26: 0 | G26: 0 | H26: 0 | I26: 0 | J26: 0 | K26: 0 | M26: 0 | N26: 0 | O26: 0 | P26: 0 | Q26: 0 | R26: 0 | S26: 0 | T26: 0 | V26: 0 | W26: 0 | Y26: =$B26*M26 -> 0 | Z26: =$B26*N26 -> 0 | AA26: =$B26*O26 -> 0 | AB26: =$B26*P26 -> 0 | AC26: =$B26*Q26 -> 0 | AD26: =$B26*R26 -> 0 | AE26: =$B26*S26 -> 0 | AF26: =$B26*T26 -> 0 | AH26: =(B26-Y26)/$D$6 -> 0 | AI26: =(Y26-Z26)/$E$6 -> 0 | AJ26: =(Z26-AA26)/$F$6 -> 0 | AK26: =(AA26-AB26)/$G$6 -> 0 | AL26: =(AB26-AC26)/$H$6 -> 0 | AM26: =(AC26-AD26)/$I$6 -> 0 | AN26: =(AD26-AE26)/$J$6 -> 0 | AO26: =(AE26-AF26)/$K$6 -> 0 | AQ26: =D26+$V$26+$W$26+AH26 -> 0 | AR26: =E26+$V$26+$W$26+AI26 -> 0 | AS26: =F26+$V$26+$W$26+AJ26 -> 0 | AT26: =G26+$V$26+$W$26+AK26 -> 0 | AU26: =H26+$V$26+$W$26+AL26 -> 0 | AV26: =I26+$V$26+$W$26+AM26 -> 0 | AW26: =J26+$V$26+$W$26+AN26 -> 0 | AX26: =K26+$V$26+$W$26+AO26 -> 0
AP27: Gewogen all-in prijs per kilometer in het betreffende jaar | AQ27: =AVERAGE(AQ26:AQ26)*$AQ$10 -> 0 | AR27: =AVERAGE(AR26:AR26)*$AR$10 -> 0 | AS27: =AVERAGE(AS26:AS26)*$AS$10 -> 0 | AT27: =AVERAGE(AT26:AT26)*$AT$10 -> 0 | AU27: =AVERAGE(AU26:AU26)*$AU$10 -> 0 | AV27: =AVERAGE(AV26:AV26)*$AV$10 -> 0 | AW27: =AVERAGE(AW26:AW26)*$AW$10 -> 0 | AX27: =AVERAGE(AX26:AX26)*$AX$10 -> 0 | AY27: =SUM(AQ27:AX27) -> 0 | AZ27: 0.2 | BA27: =AY27*AZ27 -> 0
AQ29: Gewogen all-in prijs per kilometer bij kilometrage tot 10.000 km | BA29: =BA12+BA17+BA22+BA27 -> 0

Sheet 10.001 - 20.000
A1: Prijzenblad Cedris Wagenpark: Kopen van voertuigen Perceel 3: koop van elektrische bestelwagens Blad 4/8
A2: > U dient alleen de geel gemarkeerde velden in te vullen. Voeg in dit tabblad van één voertuig per categorie in uw leveringsprogramma de onderstaande gegevens in: - Prijs per kilometer voor ROB voor elk jaar dat het voertuig in gebruik is. - Percentuele restwaarde na elk jaar dat het voertuig in gebruik is genomen. - Meerprijs per kilometer voor het gebruk van all-season banden. - Meerprijs per kilometer voor gewone banden in combinatie met winterbanden (inclusief wisselingen en opslag van de niet in gebruik zijnde banden) Bij het invullen van bovenstaande gegevens dient u rekening te houden met minimaal 10.001 tot maximaal 20.000 km per jaar. > De prijsopgave dient op onderdelen te geschieden in euro's (€) (op 4 decimalen, tenzij anders staat aangegeven) en op onderdelen in percentages (op 4 decimalen). > Er kunnen uitsluitend positieve getallen worden ingevuld. > Aangeboden prijzen zijn all-in (exclusief btw). Er kunnen dus geen andersoortige kosten in rekening worden gebracht, tenzij uitdrukkelijk anders bepaald. > Zie verder de voorschriften in de Aanbestedingsleidraad.
A3: Naam Inschrijver: | D3: ='Overzicht prijzenblad'!B4 -> <naam>
A4: Prijzen en percentages bij een kilometrage van minimaal 10.001 tot maximaal 20.000 km per jaar
A5: Kilometrage per jaar (voor berekening): | D5: Jaar 1 | E5: Jaar 2 | F5: Jaar 3 | G5: 4 jaar | H5: 5 jaar | I5: 6 jaar | J5: 7 jaar | K5: 8 jaar | M5: Totaal
D6: 20000 | E6: 20000 | F6: 20000 | G6: 20000 | H6: 20000 | I6: 20000 | J6: 20000 | K6: 10000 | M6: =SUM(D6:K6) -> 150000
D8: Prijs per kilometer voor ROB | M8: Percentuele restwaarde van voertuig na afschrijving | V8: Meerprijs per km voor all season banden | W8: Meerprijs per km voor gewone banden i.c.m. winterbanden | Y8: Gegarandeerde restwaarde na X aantal jaar | AH8: Afschrijving per km per jaar | AQ8: All-In prijs per kilometer
A9: =Kortingspercentages!A6 -> Categorie: Grote elektrische gesloten bestelwagens | D9: 1 jaar | E9: 2 jaar | F9: 3 jaar | G9: 4 jaar | H9: 5 jaar | I9: 6 jaar | J9: 7 jaar | K9: 8 jaar | M9: 1 jaar | N9: 2 jaar | O9: 3 jaar | P9: 4 jaar | Q9: 5 jaar | R9: 6 jaar | S9: 7 jaar | T9: 8 jaar | Y9: 1 jaar | Z9: 2 jaar | AA9: 3 jaar | AB9: 4 jaar | AC9: 5 jaar | AD9: 6 jaar | AE9: 7 jaar | AF9: 8 jaar | AH9: Jaar 1 | AI9: Jaar 2 | AJ9: Jaar 3 | AK9: Jaar 4 | AL9: Jaar 5 | AM9: Jaar 6 | AN9: Jaar 7 | AO9: Jaar 8 | AQ9: Jaar 1 | AR9: Jaar 2 | AS9: Jaar 3 | AT9: Jaar 4 | AU9: Jaar 5 | AV9: Jaar 6 | AW9: Jaar 7 | AX9: Jaar 8 | AY9: Gewogen all-in prijs per kilometer van alle jaargangen | AZ9: Weging categorie | BA9: Gewogen all-in prijs per kilometer van alle jaargangen van betreffende categorie
A10: =Kortingspercentages!$A$5 -> Merk | B10: =Kortingspercentages!$E$5 -> Catalogusprijs minus korting | AP10: Weging van jaren: | AQ10: 0.025 | AR10: 0.05 | AS10: 0.075 | AT10: 0.1 | AU10: 0.15 | AV10: 0.35 | AW10: 0.15 | AX10: 0.1
A11: =Kortingspercentages!A7 -> 0 | B11: =Kortingspercentages!E7 -> 0 | D11: 0 | E11: 0 | F11: 0 | G11: 0 | H11: 0 | I11: 0 | J11: 0 | K11: 0 | M11: 0 | N11: 0 | O11: 0 | P11: 0 | Q11: 0 | R11: 0 | S11: 0 | T11: 0 | V11: 0 | W11: 0 | Y11: =$B11*M11 -> 0 | Z11: =$B11*N11 -> 0 | AA11: =$B11*O11 -> 0 | AB11: =$B11*P11 -> 0 | AC11: =$B11*Q11 -> 0 | AD11: =$B11*R11 -> 0 | AE11: =$B11*S11 -> 0 | AF11: =$B11*T11 -> 0 | AH11: =(B11-Y11)/$D$6 -> 0 | AI11: =(Y11-Z11)/$E$6 -> 0 | AJ11: =(Z11-AA11)/$F$6 -> 0 | AK11: =(AA11-AB11)/$G$6 -> 0 | AL11: =(AB11-AC11)/$H$6 -> 0 | AM11: =(AC11-AD11)/$I$6 -> 0 | AN11: =(AD11-AE11)/$J$6 -> 0 | AO11: =(AE11-AF11)/$K$6 -> 0 | AQ11: =D11+$V$11+$W$11+AH11 -> 0 | AR11: =E11+$V$11+$W$11+AI11 -> 0 | AS11: =F11+$V$11+$W$11+AJ11 -> 0 | AT11: =G11+$V$11+$W$11+AK11 -> 0 | AU11: =H11+$V$11+$W$11+AL11 -> 0 | AV11: =I11+$V$11+$W$11+AM11 -> 0 | AW11: =J11+$V$11+$W$11+AN11 -> 0 | AX11: =K11+$V$11+$W$11+AO11 -> 0
AP12: Gewogen all-in prijs per kilometer in het betreffende jaar | AQ12: =AVERAGE(AQ11:AQ11)*$AQ$10 -> 0 | AR12: =AVERAGE(AR11:AR11)*$AR$10 -> 0 | AS12: =AVERAGE(AS11:AS11)*$AS$10 -> 0 | AT12: =AVERAGE(AT11:AT11)*$AT$10 -> 0 | AU12: =AVERAGE(AU11:AU11)*$AU$10 -> 0 | AV12: =AVERAGE(AV11:AV11)*$AV$10 -> 0 | AW12: =AVERAGE(AW11:AW11)*$AW$10 -> 0 | AX12: =AVERAGE(AX11:AX11)*$AX$10 -> 0 | AY12: =SUM(AQ12:AX12) -> 0 | AZ12: 0.24 | BA12: =AY12*AZ12 -> 0
A14: =Kortingspercentages!A8 -> Categorie: Middelgrote elektrische gesloten bestelwagens | D14: Prijs per kilometer voor ROB | M14: Percentuele restwaarde van voertuig na afschrijving | V14: Meerprijs per KM voor all season banden | W14: Meerprijs per KM voor gewone banden i.c.m. winterbanden | Y14: =$Y$8 -> Gegarandeerde restwaarde na X aantal jaar | AH14: =$AH$8 -> Afschrijving per km per jaar | AQ14: All-In prijs per kilometer
A15: =Kortingspercentages!$A$5 -> Merk | B15: =Kortingspercentages!$E$5 -> Catalogusprijs minus korting | D15: 1 jaar | E15: 2 jaar | F15: 3 jaar | G15: 4 jaar | H15: 5 jaar | I15: 6 jaar | J15: 7 jaar | K15: 8 jaar | M15: 1 jaar | N15: 2 jaar | O15: 3 jaar | P15: 4 jaar | Q15: 5 jaar | R15: 6 jaar | S15: 7 jaar | T15: 8 jaar | Y15: 1 jaar | Z15: 2 jaar | AA15: 3 jaar | AB15: 4 jaar | AC15: 5 jaar | AD15: 6 jaar | AE15: 7 jaar | AF15: 8 jaar | AH15: 1 jaar | AI15: 2 jaar | AJ15: 3 jaar | AK15: 4 jaar | AL15: 5 jaar | AM15: 6 jaar | AN15: 7 jaar | AO15: 8 jaar | AQ15: Jaar 1 | AR15: Jaar 2 | AS15: Jaar 3 | AT15: Jaar 4 | AU15: Jaar 5 | AV15: Jaar 6 | AW15: Jaar 7 | AX15: Jaar 8 | AY15: Gewogen all-in prijs per kilometer van alle jaargangen | AZ15: Weging categorie | BA15: Gewogen all-in prijs per kilometer van alle jaargangen van betreffende categorie
A16: =Kortingspercentages!A9 -> 0 | B16: =Kortingspercentages!E9 -> 0 | D16: 0 | E16: 0 | F16: 0 | G16: 0 | H16: 0 | I16: 0 | J16: 0 | K16: 0 | M16: 0 | N16: 0 | O16: 0 | P16: 0 | Q16: 0 | R16: 0 | S16: 0 | T16: 0 | V16: 0 | W16: 0 | Y16: =$B16*M16 -> 0 | Z16: =$B16*N16 -> 0 | AA16: =$B16*O16 -> 0 | AB16: =$B16*P16 -> 0 | AC16: =$B16*Q16 -> 0 | AD16: =$B16*R16 -> 0 | AE16: =$B16*S16 -> 0 | AF16: =$B16*T16 -> 0 | AH16: =(B16-Y16)/$D$6 -> 0 | AI16: =(Y16-Z16)/$E$6 -> 0 | AJ16: =(Z16-AA16)/$F$6 -> 0 | AK16: =(AA16-AB16)/$G$6 -> 0 | AL16: =(AB16-AC16)/$H$6 -> 0 | AM16: =(AC16-AD16)/$I$6 -> 0 | AN16: =(AD16-AE16)/$J$6 -> 0 | AO16: =(AE16-AF16)/$K$6 -> 0 | AQ16: =D16+$V$16+$W$16+AH16 -> 0 | AR16: =E16+$V$16+$W$16+AI16 -> 0 | AS16: =F16+$V$16+$W$16+AJ16 -> 0 | AT16: =G16+$V$16+$W$16+AK16 -> 0 | AU16: =H16+$V$16+$W$16+AL16 -> 0 | AV16: =I16+$V$16+$W$16+AM16 -> 0 | AW16: =J16+$V$16+$W$16+AN16 -> 0 | AX16: =K16+$V$16+$W$16+AO16 -> 0
AP17: Gewogen all-in prijs per kilometer in het betreffende jaar | AQ17: =AVERAGE(AQ16:AQ16)*$AQ$10 -> 0 | AR17: =AVERAGE(AR16:AR16)*$AR$10 -> 0 | AS17: =AVERAGE(AS16:AS16)*$AS$10 -> 0 | AT17: =AVERAGE(AT16:AT16)*$AT$10 -> 0 | AU17: =AVERAGE(AU16:AU16)*$AU$10 -> 0 | AV17: =AVERAGE(AV16:AV16)*$AV$10 -> 0 | AW17: =AVERAGE(AW16:AW16)*$AW$10 -> 0 | AX17: =AVERAGE(AX16:AX16)*$AX$10 -> 0 | AY17: =SUM(AQ17:AX17) -> 0 | AZ17: 0.31 | BA17: =AY17*AZ17 -> 0
A19: =Kortingspercentages!A10 -> Categorie: Elektrische pick-up bestelwagens | D19: Prijs per kilometer voor ROB | M19: Percentuele restwaarde van voertuig na afschrijving | V19: Meerprijs per KM voor all season banden | W19: Meerprijs per KM voor gewone banden i.c.m. winterbanden | Y19: =$Y$8 -> Gegarandeerde restwaarde na X aantal jaar | AH19: =$AH$8 -> Afschrijving per km per jaar | AQ19: All-In prijs per kilometer
A20: =Kortingspercentages!$A$5 -> Merk | B20: =Kortingspercentages!$E$5 -> Catalogusprijs minus korting | D20: 1 jaar | E20: 2 jaar | F20: 3 jaar | G20: 4 jaar | H20: 5 jaar | I20: 6 jaar | J20: 7 jaar | K20: 8 jaar | M20: 1 jaar | N20: 2 jaar | O20: 3 jaar | P20: 4 jaar | Q20: 5 jaar | R20: 6 jaar | S20: 7 jaar | T20: 8 jaar | Y20: 1 jaar | Z20: 2 jaar | AA20: 3 jaar | AB20: 4 jaar | AC20: 5 jaar | AD20: 6 jaar | AE20: 7 jaar | AF20: 8 jaar | AH20: 1 jaar | AI20: 2 jaar | AJ20: 3 jaar | AK20: 4 jaar | AL20: 5 jaar | AM20: 6 jaar | AN20: 7 jaar | AO20: 8 jaar | AQ20: Jaar 1 | AR20: Jaar 2 | AS20: Jaar 3 | AT20: Jaar 4 | AU20: Jaar 5 | AV20: Jaar 6 | AW20: Jaar 7 | AX20: Jaar 8 | AY20: Gewogen all-in prijs per kilometer van alle jaargangen | AZ20: Weging categorie | BA20: Gewogen all-in prijs per kilometer van alle jaargangen van betreffende categorie
A21: =Kortingspercentages!A11 -> 0 | B21: =Kortingspercentages!E11 -> 0 | D21: 0 | E21: 0 | F21: 0 | G21: 0 | H21: 0 | I21: 0 | J21: 0 | K21: 0 | M21: 0 | N21: 0 | O21: 0 | P21: 0 | Q21: 0 | R21: 0 | S21: 0 | T21: 0 | V21: 0 | W21: 0 | Y21: =$B21*M21 -> 0 | Z21: =$B21*N21 -> 0 | AA21: =$B21*O21 -> 0 | AB21: =$B21*P21 -> 0 | AC21: =$B21*Q21 -> 0 | AD21: =$B21*R21 -> 0 | AE21: =$B21*S21 -> 0 | AF21: =$B21*T21 -> 0 | AH21: =(B21-Y21)/$D$6 -> 0 | AI21: =(Y21-Z21)/$E$6 -> 0 | AJ21: =(Z21-AA21)/$F$6 -> 0 | AK21: =(AA21-AB21)/$G$6 -> 0 | AL21: =(AB21-AC21)/$H$6 -> 0 | AM21: =(AC21-AD21)/$I$6 -> 0 | AN21: =(AD21-AE21)/$J$6 -> 0 | AO21: =(AE21-AF21)/$K$6 -> 0 | AQ21: =D21+$V$21+$W$21+AH21 -> 0 | AR21: =E21+$V$21+$W$21+AI21 -> 0 | AS21: =F21+$V$21+$W$21+AJ21 -> 0 | AT21: =G21+$V$21+$W$21+AK21 -> 0 | AU21: =H21+$V$21+$W$21+AL21 -> 0 | AV21: =I21+$V$21+$W$21+AM21 -> 0 | AW21: =J21+$V$21+$W$21+AN21 -> 0 | AX21: =K21+$V$21+$W$21+AO21 -> 0
AP22: Gewogen all-in prijs per kilometer in het betreffende jaar | AQ22: =AVERAGE(AQ21:AQ21)*$AQ$10 -> 0 | AR22: =AVERAGE(AR21:AR21)*$AR$10 -> 0 | AS22: =AVERAGE(AS21:AS21)*$AS$10 -> 0 | AT22: =AVERAGE(AT21:AT21)*$AT$10 -> 0 | AU22: =AVERAGE(AU21:AU21)*$AU$10 -> 0 | AV22: =AVERAGE(AV21:AV21)*$AV$10 -> 0 | AW22: =AVERAGE(AW21:AW21)*$AW$10 -> 0 | AX22: =AVERAGE(AX21:AX21)*$AX$10 -> 0 | AY22: =SUM(AQ22:AX22) -> 0 | AZ22: 0.25 | BA22: =AY22*AZ22 -> 0
A24: =Kortingspercentages!A12 -> Categorie: Kleine elektrische gesloten bestelwagens | D24: Prijs per kilometer voor ROB | M24: Percentuele restwaarde van voertuig na afschrijving | V24: Meerprijs per KM voor all season banden | W24: Meerprijs per KM voor gewone banden i.c.m. winterbanden | Y24: =$Y$8 -> Gegarandeerde restwaarde na X aantal jaar | AH24: =$AH$8 -> Afschrijving per km per jaar | AQ24: All-In prijs per kilometer
A25: =Kortingspercentages!$A$5 -> Merk | B25: =Kortingspercentages!$E$5 -> Catalogusprijs minus korting | D25: 1 jaar | E25: 2 jaar | F25: 3 jaar | G25: 4 jaar | H25: 5 jaar | I25: 6 jaar | J25: 7 jaar | K25: 8 jaar | M25: 1 jaar | N25: 2 jaar | O25: 3 jaar | P25: 4 jaar | Q25: 5 jaar | R25: 6 jaar | S25: 7 jaar | T25: 8 jaar | Y25: 1 jaar | Z25: 2 jaar | AA25: 3 jaar | AB25: 4 jaar | AC25: 5 jaar | AD25: 6 jaar | AE25: 7 jaar | AF25: 8 jaar | AH25: 1 jaar | AI25: 2 jaar | AJ25: 3 jaar | AK25: 4 jaar | AL25: 5 jaar | AM25: 6 jaar | AN25: 7 jaar | AO25: 8 jaar | AQ25: Jaar 1 | AR25: Jaar 2 | AS25: Jaar 3 | AT25: Jaar 4 | AU25: Jaar 5 | AV25: Jaar 6 | AW25: Jaar 7 | AX25: Jaar 8 | AY25: Gewogen all-in prijs per kilometer van alle jaargangen | AZ25: Weging categorie | BA25: Gewogen all-in prijs per kilometer van alle jaargangen van betreffende categorie
A26: =Kortingspercentages!A13 -> 0 | B26: =Kortingspercentages!E13 -> 0 | D26: 0 | E26: 0 | F26: 0 | G26: 0 | H26: 0 | I26: 0 | J26: 0 | K26: 0 | M26: 0 | N26: 0 | O26: 0 | P26: 0 | Q26: 0 | R26: 0 | S26: 0 | T26: 0 | V26: 0 | W26: 0 | Y26: =$B26*M26 -> 0 | Z26: =$B26*N26 -> 0 | AA26: =$B26*O26 -> 0 | AB26: =$B26*P26 -> 0 | AC26: =$B26*Q26 -> 0 | AD26: =$B26*R26 -> 0 | AE26: =$B26*S26 -> 0 | AF26: =$B26*T26 -> 0 | AH26: =(B26-Y26)/$D$6 -> 0 | AI26: =(Y26-Z26)/$E$6 -> 0 | AJ26: =(Z26-AA26)/$F$6 -> 0 | AK26: =(AA26-AB26)/$G$6 -> 0 | AL26: =(AB26-AC26)/$H$6 -> 0 | AM26: =(AC26-AD26)/$I$6 -> 0 | AN26: =(AD26-AE26)/$J$6 -> 0 | AO26: =(AE26-AF26)/$K$6 -> 0 | AQ26: =D26+$V$26+$W$26+AH26 -> 0 | AR26: =E26+$V$26+$W$26+AI26 -> 0 | AS26: =F26+$V$26+$W$26+AJ26 -> 0 | AT26: =G26+$V$26+$W$26+AK26 -> 0 | AU26: =H26+$V$26+$W$26+AL26 -> 0 | AV26: =I26+$V$26+$W$26+AM26 -> 0 | AW26: =J26+$V$26+$W$26+AN26 -> 0 | AX26: =K26+$V$26+$W$26+AO26 -> 0
AP27: Gewogen all-in prijs per kilometer in het betreffende jaar | AQ27: =AVERAGE(AQ26:AQ26)*$AQ$10 -> 0 | AR27: =AVERAGE(AR26:AR26)*$AR$10 -> 0 | AS27: =AVERAGE(AS26:AS26)*$AS$10 -> 0 | AT27: =AVERAGE(AT26:AT26)*$AT$10 -> 0 | AU27: =AVERAGE(AU26:AU26)*$AU$10 -> 0 | AV27: =AVERAGE(AV26:AV26)*$AV$10 -> 0 | AW27: =AVERAGE(AW26:AW26)*$AW$10 -> 0 | AX27: =AVERAGE(AX26:AX26)*$AX$10 -> 0 | AY27: =SUM(AQ27:AX27) -> 0 | AZ27: 0.2 | BA27: =AY27*AZ27 -> 0
AQ29: Gewogen all-in prijs per kilometer bij kilometrage van minimaal 10.001 tot maximaal 20.000 km per jaar | BA29: =BA12+BA17+BA22+BA27 -> 0

Sheet 20.001 - 30.000
A1: Prijzenblad Cedris Wagenpark: Kopen van voertuigen Perceel 3: koop van elektrische bestelwagens Blad 5/8
A2: > U dient alleen de geel gemarkeerde velden in te vullen. Voeg in dit tabblad van één voertuig per categorie in uw leveringsprogramma de onderstaande gegevens in: - Prijs per kilometer voor ROB voor elk jaar dat het voertuig in gebruik is. - Percentuele restwaarde na elk jaar dat het voertuig in gebruik is genomen. - Meerprijs per kilometer voor het gebruk van all-season banden. - Meerprijs per kilometer voor gewone banden in combinatie met winterbanden (inclusief wisselingen en opslag van de niet in gebruik zijnde banden) Bij het invullen van bovenstaande gegevens dient u rekening te houden met minimaal 20.001 tot maximaal 30.000 km per jaar. > De prijsopgave dient op onderdelen te geschieden in euro's (€) (op 4 decimalen, tenzij anders staat aangegeven) en op onderdelen in percentages (op 4 decimalen). > Er kunnen uitsluitend positieve getallen worden ingevuld. > Aangeboden prijzen zijn all-in (exclusief btw). Er kunnen dus geen andersoortige kosten in rekening worden gebracht, tenzij uitdrukkelijk anders bepaald. > Zie verder de voorschriften in de Aanbestedingsleidraad.
A3: Naam Inschrijver: | D3: ='Overzicht prijzenblad'!B4 -> <naam>
A4: Prijzen en percentages bij een kilometrage van minimaal 20.001 tot maximaal 30.000 km per jaar
A5: Kilometrage per jaar (voor berekening): | D5: Jaar 1 | E5: Jaar 2 | F5: Jaar 3 | G5: 4 jaar | H5: 5 jaar | J5: Totaal
D6: 30000 | E6: 30000 | F6: 30000 | G6: 30000 | H6: 30000 | J6: =SUM(D6:H6) -> 150000
D8: Prijs per kilometer voor ROB | J8: Percentuele restwaarde van voertuig na afschrijving | P8: Meerprijs per km voor all season banden | Q8: Meerprijs per km voor gewone banden i.c.m. winterbanden | S8: Gegarandeerde restwaarde na X aantal jaar | Y8: Afschrijving per km per jaar | AE8: All-In prijs per kilometer
A9: =Kortingspercentages!A6 -> Categorie: Grote elektrische gesloten bestelwagens | D9: 1 jaar | E9: 2 jaar | F9: 3 jaar | G9: 4 jaar | H9: 5 jaar | J9: 1 jaar | K9: 2 jaar | L9: 3 jaar | M9: 4 jaar | N9: 5 jaar | S9: 1 jaar | T9: 2 jaar | U9: 3 jaar | V9: 4 jaar | W9: 5 jaar | Y9: Jaar 1 | Z9: Jaar 2 | AA9: Jaar 3 | AB9: Jaar 4 | AC9: Jaar 5 | AE9: Jaar 1 | AF9: Jaar 2 | AG9: Jaar 3 | AH9: Jaar 4 | AI9: Jaar 5 | AJ9: Gewogen all-in prijs per kilometer van alle jaargangen | AK9: Weging categorie | AL9: Gewogen all-in prijs per kilometer van alle jaargangen van betreffende categorie
A10: =Kortingspercentages!$A$5 -> Merk | B10: =Kortingspercentages!$E$5 -> Catalogusprijs minus korting | AD10: Weging van jaren: | AE10: 0.05 | AF10: 0.1 | AG10: 0.2 | AH10: 0.25 | AI10: 0.4
A11: =Kortingspercentages!A7 -> 0 | B11: =Kortingspercentages!E7 -> 0 | D11: 0 | E11: 0 | F11: 0 | G11: 0 | H11: 0 | J11: 0 | K11: 0 | L11: 0 | M11: 0 | N11: 0 | P11: 0 | Q11: 0 | S11: =$B11*J11 -> 0 | T11: =$B11*K11 -> 0 | U11: =$B11*L11 -> 0 | V11: =$B11*M11 -> 0 | W11: =$B11*N11 -> 0 | Y11: =(B11-S11)/$D$6 -> 0 | Z11: =(S11-T11)/$E$6 -> 0 | AA11: =(T11-U11)/$F$6 -> 0 | AB11: =(U11-V11)/$G$6 -> 0 | AC11: =(V11-W11)/$H$6 -> 0 | AE11: =D11+$P$11+$Q$11+Y11 -> 0 | AF11: =E11+$P$11+$Q$11+Z11 -> 0 | AG11: =F11+$P$11+$Q$11+AA11 -> 0 | AH11: =G11+$P$11+$Q$11+AB11 -> 0 | AI11: =H11+$P$11+$Q$11+AC11 -> 0
AD12: Gewogen all-in prijs per kilometer in het betreffende jaar | AE12: =AVERAGE(AE11:AE11)*$AE$10 -> 0 | AF12: =AVERAGE(AF11:AF11)*$AF$10 -> 0 | AG12: =AVERAGE(AG11:AG11)*$AG$10 -> 0 | AH12: =AVERAGE(AH11:AH11)*$AH$10 -> 0 | AI12: =AVERAGE(AI11:AI11)*$AI$10 -> 0 | AJ12: =SUM(AE12:AI12) -> 0 | AK12: 0.24 | AL12: =AJ12*AK12 -> 0
A14: =Kortingspercentages!A8 -> Categorie: Middelgrote elektrische gesloten bestelwagens | D14: Prijs per kilometer voor ROB | J14: Percentuele restwaarde van voertuig na afschrijving | P14: Meerprijs per KM voor all season banden | Q14: Meerprijs per KM voor gewone banden i.c.m. winterbanden | S14: =$S$8 -> Gegarandeerde restwaarde na X aantal jaar | Y14: =$Y$8 -> Afschrijving per km per jaar | AE14: All-In prijs per kilometer
A15: =Kortingspercentages!$A$5 -> Merk | B15: =Kortingspercentages!$E$5 -> Catalogusprijs minus korting | D15: 1 jaar | E15: 2 jaar | F15: 3 jaar | G15: 4 jaar | H15: 5 jaar | J15: 1 jaar | K15: 2 jaar | L15: 3 jaar | M15: 4 jaar | N15: 5 jaar | S15: 1 jaar | T15: 2 jaar | U15: 3 jaar | V15: 4 jaar | W15: 5 jaar | Y15: 1 jaar | Z15: 2 jaar | AA15: 3 jaar | AB15: 4 jaar | AC15: 5 jaar | AE15: Jaar 1 | AF15: Jaar 2 | AG15: Jaar 3 | AH15: Jaar 4 | AI15: Jaar 5 | AJ15: Gewogen all-in prijs per kilometer van alle jaargangen | AK15: Weging categorie | AL15: Gewogen all-in prijs per kilometer van alle jaargangen van betreffende categorie
A16: =Kortingspercentages!A9 -> 0 | B16: =Kortingspercentages!E9 -> 0 | D16: 0 | E16: 0 | F16: 0 | G16: 0 | H16: 0 | J16: 0 | K16: 0 | L16: 0 | M16: 0 | N16: 0 | P16: 0 | Q16: 0 | S16: =$B16*J16 -> 0 | T16: =$B16*K16 -> 0 | U16: =$B16*L16 -> 0 | V16: =$B16*M16 -> 0 | W16: =$B16*N16 -> 0 | Y16: =(B16-S16)/$D$6 -> 0 | Z16: =(S16-T16)/$E$6 -> 0 | AA16: =(T16-U16)/$F$6 -> 0 | AB16: =(U16-V16)/$G$6 -> 0 | AC16: =(V16-W16)/$H$6 -> 0 | AE16: =D16+$P$16+$Q$16+Y16 -> 0 | AF16: =E16+$P$16+$Q$16+Z16 -> 0 | AG16: =F16+$P$16+$Q$16+AA16 -> 0 | AH16: =G16+$P$16+$Q$16+AB16 -> 0 | AI16: =H16+$P$16+$Q$16+AC16 -> 0
AD17: Gewogen all-in prijs per kilometer in het betreffende jaar | AE17: =AVERAGE(AE16:AE16)*$AE$10 -> 0 | AF17: =AVERAGE(AF16:AF16)*$AF$10 -> 0 | AG17: =AVERAGE(AG16:AG16)*$AG$10 -> 0 | AH17: =AVERAGE(AH16:AH16)*$AH$10 -> 0 | AI17: =AVERAGE(AI16:AI16)*$AI$10 -> 0 | AJ17: =SUM(AE17:AI17) -> 0 | AK17: 0.31 | AL17: =AJ17*AK17 -> 0
A19: =Kortingspercentages!A10 -> Categorie: Elektrische pick-up bestelwagens | D19: Prijs per kilometer voor ROB | J19: Percentuele restwaarde van voertuig na afschrijving | P19: Meerprijs per KM voor all season banden | Q19: Meerprijs per KM voor gewone banden i.c.m. winterbanden | S19: =$S$8 -> Gegarandeerde restwaarde na X aantal jaar | Y19: =$Y$8 -> Afschrijving per km per jaar | AE19: All-In prijs per kilometer
A20: =Kortingspercentages!$A$5 -> Merk | B20: =Kortingspercentages!$E$5 -> Catalogusprijs minus korting | D20: 1 jaar | E20: 2 jaar | F20: 3 jaar | G20: 4 jaar | H20: 5 jaar | J20: 1 jaar | K20: 2 jaar | L20: 3 jaar | M20: 4 jaar | N20: 5 jaar | S20: 1 jaar | T20: 2 jaar | U20: 3 jaar | V20: 4 jaar | W20: 5 jaar | Y20: 1 jaar | Z20: 2 jaar | AA20: 3 jaar | AB20: 4 jaar | AC20: 5 jaar | AE20: Jaar 1 | AF20: Jaar 2 | AG20: Jaar 3 | AH20: Jaar 4 | AI20: Jaar 5 | AJ20: Gewogen all-in prijs per kilometer van alle jaargangen | AK20: Weging categorie | AL20: Gewogen all-in prijs per kilometer van alle jaargangen van betreffende categorie
A21: =Kortingspercentages!A11 -> 0 | B21: =Kortingspercentages!E11 -> 0 | D21: 0 | E21: 0 | F21: 0 | G21: 0 | H21: 0 | J21: 0 | K21: 0 | L21: 0 | M21: 0 | N21: 0 | P21: 0 | Q21: 0 | S21: =$B21*J21 -> 0 | T21: =$B21*K21 -> 0 | U21: =$B21*L21 -> 0 | V21: =$B21*M21 -> 0 | W21: =$B21*N21 -> 0 | Y21: =(B21-S21)/$D$6 -> 0 | Z21: =(S21-T21)/$E$6 -> 0 | AA21: =(T21-U21)/$F$6 -> 0 | AB21: =(U21-V21)/$G$6 -> 0 | AC21: =(V21-W21)/$H$6 -> 0 | AE21: =D21+$P$21+$Q$21+Y21 -> 0 | AF21: =E21+$P$21+$Q$21+Z21 -> 0 | AG21: =F21+$P$21+$Q$21+AA21 -> 0 | AH21: =G21+$P$21+$Q$21+AB21 -> 0 | AI21: =H21+$P$21+$Q$21+AC21 -> 0
AD22: Gewogen all-in prijs per kilometer in het betreffende jaar | AE22: =AVERAGE(AE21:AE21)*$AE$10 -> 0 | AF22: =AVERAGE(AF21:AF21)*$AF$10 -> 0 | AG22: =AVERAGE(AG21:AG21)*$AG$10 -> 0 | AH22: =AVERAGE(AH21:AH21)*$AH$10 -> 0 | AI22: =AVERAGE(AI21:AI21)*$AI$10 -> 0 | AJ22: =SUM(AE22:AI22) -> 0 | AK22: 0.25 | AL22: =AJ22*AK22 -> 0
A24: =Kortingspercentages!A12 -> Categorie: Kleine elektrische gesloten bestelwagens | D24: Prijs per kilometer voor ROB | J24: Percentuele restwaarde van voertuig na afschrijving | P24: Meerprijs per KM voor all season banden | Q24: Meerprijs per KM voor gewone banden i.c.m. winterbanden | S24: =$S$8 -> Gegarandeerde restwaarde na X aantal jaar | Y24: =$Y$8 -> Afschrijving per km per jaar | AE24: All-In prijs per kilometer
A25: =Kortingspercentages!$A$5 -> Merk | B25: =Kortingspercentages!$E$5 -> Catalogusprijs minus korting | D25: 1 jaar | E25: 2 jaar | F25: 3 jaar | G25: 4 jaar | H25: 5 jaar | J25: 1 jaar | K25: 2 jaar | L25: 3 jaar | M25: 4 jaar | N25: 5 jaar | S25: 1 jaar | T25: 2 jaar | U25: 3 jaar | V25: 4 jaar | W25: 5 jaar | Y25: 1 jaar | Z25: 2 jaar | AA25: 3 jaar | AB25: 4 jaar | AC25: 5 jaar | AE25: Jaar 1 | AF25: Jaar 2 | AG25: Jaar 3 | AH25: Jaar 4 | AI25: Jaar 5 | AJ25: Gewogen all-in prijs per kilometer van alle jaargangen | AK25: Weging categorie | AL25: Gewogen all-in prijs per kilometer van alle jaargangen van betreffende categorie
A26: =Kortingspercentages!A13 -> 0 | B26: =Kortingspercentages!E13 -> 0 | D26: 0 | E26: 0 | F26: 0 | G26: 0 | H26: 0 | J26: 0 | K26: 0 | L26: 0 | M26: 0 | N26: 0 | P26: 0 | Q26: 0 | S26: =$B26*J26 -> 0 | T26: =$B26*K26 -> 0 | U26: =$B26*L26 -> 0 | V26: =$B26*M26 -> 0 | W26: =$B26*N26 -> 0 | Y26: =(B26-S26)/$D$6 -> 0 | Z26: =(S26-T26)/$E$6 -> 0 | AA26: =(T26-U26)/$F$6 -> 0 | AB26: =(U26-V26)/$G$6 -> 0 | AC26: =(V26-W26)/$H$6 -> 0 | AE26: =D26+$P$26+$Q$26+Y26 -> 0 | AF26: =E26+$P$26+$Q$26+Z26 -> 0 | AG26: =F26+$P$26+$Q$26+AA26 -> 0 | AH26: =G26+$P$26+$Q$26+AB26 -> 0 | AI26: =H26+$P$26+$Q$26+AC26 -> 0
AD27: Gewogen all-in prijs per kilometer in het betreffende jaar | AE27: =AVERAGE(AE26:AE26)*$AE$10 -> 0 | AF27: =AVERAGE(AF26:AF26)*$AF$10 -> 0 | AG27: =AVERAGE(AG26:AG26)*$AG$10 -> 0 | AH27: =AVERAGE(AH26:AH26)*$AH$10 -> 0 | AI27: =AVERAGE(AI26:AI26)*$AI$10 -> 0 | AJ27: =SUM(AE27:AI27) -> 0 | AK27: 0.2 | AL27: =AJ27*AK27 -> 0
AE29: Gewogen all-in prijs per kilometer bij kilometrage van minimaal 20.001 tot maximaal 30.000 km per jaar | AL29: =AL12+AL17+AL22+AL27 -> 0

Sheet 30.001 - 40.000
A1: Prijzenblad Cedris Wagenpark: Kopen van voertuigen Perceel 3: koop van elektrische bestelwagens Blad 6/8
A2: > U dient alleen de geel gemarkeerde velden in te vullen. Voeg in dit tabblad van één voertuig per categorie in uw leveringsprogramma de onderstaande gegevens in: - Prijs per kilometer voor ROB voor elk jaar dat het voertuig in gebruik is. - Percentuele restwaarde na elk jaar dat het voertuig in gebruik is genomen. - Meerprijs per kilometer voor het gebruk van all-season banden. - Meerprijs per kilometer voor gewone banden in combinatie met winterbanden (inclusief wisselingen en opslag van de niet in gebruik zijnde banden) Bij het invullen van bovenstaande gegevens dient u rekening te houden met minimaal 30.001 tot maximaal 40.000 km per jaar. > De prijsopgave dient op onderdelen te geschieden in euro's (€) (op 4 decimalen, tenzij anders staat aangegeven) en op onderdelen in percentages (op 4 decimalen). > Er kunnen uitsluitend positieve getallen worden ingevuld. > Aangeboden prijzen zijn all-in (exclusief btw). Er kunnen dus geen andersoortige kosten in rekening worden gebracht, tenzij uitdrukkelijk anders bepaald. > Zie verder de voorschriften in de Aanbestedingsleidraad.
A3: Naam Inschrijver: | D3: ='Overzicht prijzenblad'!B4 -> <naam>
A4: Prijzen en percentages bij een kilometrage van minimaal 30.001 tot maximaal 40.000 km per jaar
A5: Kilometrage per jaar (voor berekening): | D5: Jaar 1 | E5: Jaar 2 | F5: Jaar 3 | G5: 4 jaar | I5: Totaal
D6: 40000 | E6: 40000 | F6: 40000 | G6: 30000 | I6: =SUM(D6:G6) -> 150000
D8: Prijs per kilometer voor ROB | I8: Percentuele restwaarde van voertuig na afschrijving | N8: Meerprijs per km voor all season banden | O8: Meerprijs per km voor gewone banden i.c.m. winterbanden | Q8: Gegarandeerde restwaarde na X aantal jaar | V8: Afschrijving per km per jaar | AA8: All-In prijs per kilometer
A9: =Kortingspercentages!A6 -> Categorie: Grote elektrische gesloten bestelwagens | D9: 1 jaar | E9: 2 jaar | F9: 3 jaar | G9: 4 jaar | I9: 1 jaar | J9: 2 jaar | K9: 3 jaar | L9: 4 jaar | Q9: 1 jaar | R9: 2 jaar | S9: 3 jaar | T9: 4 jaar | V9: Jaar 1 | W9: Jaar 2 | X9: Jaar 3 | Y9: Jaar 4 | AA9: Jaar 1 | AB9: Jaar 2 | AC9: Jaar 3 | AD9: Jaar 4 | AE9: Gewogen all-in prijs per kilometer van alle jaargangen | AF9: Weging categorie | AG9: Gewogen all-in prijs per kilometer van alle jaargangen van betreffende categorie
A10: =Kortingspercentages!$A$5 -> Merk | B10: =Kortingspercentages!$E$5 -> Catalogusprijs minus korting | Z10: Weging van jaren: | AA10: 0.1 | AB10: 0.2 | AC10: 0.3 | AD10: 0.4
A11: =Kortingspercentages!A7 -> 0 | B11: =Kortingspercentages!E7 -> 0 | D11: 0 | E11: 0 | F11: 0 | G11: 0 | I11: 0 | J11: 0 | K11: 0 | L11: 0 | N11: 0 | O11: 0 | Q11: =$B11*I11 -> 0 | R11: =$B11*J11 -> 0 | S11: =$B11*K11 -> 0 | T11: =$B11*L11 -> 0 | V11: =(B11-Q11)/$D$6 -> 0 | W11: =(Q11-R11)/$E$6 -> 0 | X11: =(R11-S11)/$F$6 -> 0 | Y11: =(S11-T11)/$G$6 -> 0 | AA11: =D11+$N$11+$O$11+V11 -> 0 | AB11: =E11+$N$11+$O$11+W11 -> 0 | AC11: =F11+$N$11+$O$11+X11 -> 0 | AD11: =G11+$N$11+$O$11+Y11 -> 0
Z12: Gewogen all-in prijs per kilometer in het betreffende jaar | AA12: =AVERAGE(AA11:AA11)*$AA$10 -> 0 | AB12: =AVERAGE(AB11:AB11)*$AB$10 -> 0 | AC12: =AVERAGE(AC11:AC11)*$AC$10 -> 0 | AD12: =AVERAGE(AD11:AD11)*$AD$10 -> 0 | AE12: =SUM(AA12:AD12) -> 0 | AF12: 0.24 | AG12: =AE12*AF12 -> 0
A14: =Kortingspercentages!A8 -> Categorie: Middelgrote elektrische gesloten bestelwagens | D14: Prijs per kilometer voor ROB | I14: Percentuele restwaarde van voertuig na afschrijving | N14: Meerprijs per KM voor all season banden | O14: Meerprijs per KM voor gewone banden i.c.m. winterbanden | Q14: =$Q$8 -> Gegarandeerde restwaarde na X aantal jaar | V14: =$V$8 -> Afschrijving per km per jaar | AA14: All-In prijs per kilometer
A15: =Kortingspercentages!$A$5 -> Merk | B15: =Kortingspercentages!$E$5 -> Catalogusprijs minus korting | D15: 1 jaar | E15: 2 jaar | F15: 3 jaar | G15: 4 jaar | I15: 1 jaar | J15: 2 jaar | K15: 3 jaar | L15: 4 jaar | Q15: 1 jaar | R15: 2 jaar | S15: 3 jaar | T15: 4 jaar | V15: 1 jaar | W15: 2 jaar | X15: 3 jaar | Y15: 4 jaar | AA15: Jaar 1 | AB15: Jaar 2 | AC15: Jaar 3 | AD15: Jaar 4 | AE15: Gewogen all-in prijs per kilometer van alle jaargangen | AF15: Weging categorie | AG15: Gewogen all-in prijs per kilometer van alle jaargangen van betreffende categorie
A16: =Kortingspercentages!A9 -> 0 | B16: =Kortingspercentages!E9 -> 0 | D16: 0 | E16: 0 | F16: 0 | G16: 0 | I16: 0 | J16: 0 | K16: 0 | L16: 0 | N16: 0 | O16: 0 | Q16: =$B16*I16 -> 0 | R16: =$B16*J16 -> 0 | S16: =$B16*K16 -> 0 | T16: =$B16*L16 -> 0 | V16: =(B16-Q16)/$D$6 -> 0 | W16: =(Q16-R16)/$E$6 -> 0 | X16: =(R16-S16)/$F$6 -> 0 | Y16: =(S16-T16)/$G$6 -> 0 | AA16: =D16+$N$16+$O$16+V16 -> 0 | AB16: =E16+$N$16+$O$16+W16 -> 0 | AC16: =F16+$N$16+$O$16+X16 -> 0 | AD16: =G16+$N$16+$O$16+Y16 -> 0
Z17: Gewogen all-in prijs per kilometer in het betreffende jaar | AA17: =AVERAGE(AA16:AA16)*$AA$10 -> 0 | AB17: =AVERAGE(AB16:AB16)*$AB$10 -> 0 | AC17: =AVERAGE(AC16:AC16)*$AC$10 -> 0 | AD17: =AVERAGE(AD16:AD16)*$AD$10 -> 0 | AE17: =SUM(AA17:AD17) -> 0 | AF17: 0.31 | AG17: =AE17*AF17 -> 0
A19: =Kortingspercentages!A10 -> Categorie: Elektrische pick-up bestelwagens | D19: Prijs per kilometer voor ROB | I19: Percentuele restwaarde van voertuig na afschrijving | N19: Meerprijs per KM voor all season banden | O19: Meerprijs per KM voor gewone banden i.c.m. winterbanden | Q19: =$Q$8 -> Gegarandeerde restwaarde na X aantal jaar | V19: =$V$8 -> Afschrijving per km per jaar | AA19: All-In prijs per kilometer
A20: =Kortingspercentages!$A$5 -> Merk | B20: =Kortingspercentages!$E$5 -> Catalogusprijs minus korting | D20: 1 jaar | E20: 2 jaar | F20: 3 jaar | G20: 4 jaar | I20: 1 jaar | J20: 2 jaar | K20: 3 jaar | L20: 4 jaar | Q20: 1 jaar | R20: 2 jaar | S20: 3 jaar | T20: 4 jaar | V20: 1 jaar | W20: 2 jaar | X20: 3 jaar | Y20: 4 jaar | AA20: Jaar 1 | AB20: Jaar 2 | AC20: Jaar 3 | AD20: Jaar 4 | AE20: Gewogen all-in prijs per kilometer van alle jaargangen | AF20: Weging categorie | AG20: Gewogen all-in prijs per kilometer van alle jaargangen van betreffende categorie
A21: =Kortingspercentages!A11 -> 0 | B21: =Kortingspercentages!E11 -> 0 | D21: 0 | E21: 0 | F21: 0 | G21: 0 | I21: 0 | J21: 0 | K21: 0 | L21: 0 | N21: 0 | O21: 0 | Q21: =$B21*I21 -> 0 | R21: =$B21*J21 -> 0 | S21: =$B21*K21 -> 0 | T21: =$B21*L21 -> 0 | V21: =(B21-Q21)/$D$6 -> 0 | W21: =(Q21-R21)/$E$6 -> 0 | X21: =(R21-S21)/$F$6 -> 0 | Y21: =(S21-T21)/$G$6 -> 0 | AA21: =D21+$N$21+$O$21+V21 -> 0 | AB21: =E21+$N$21+$O$21+W21 -> 0 | AC21: =F21+$N$21+$O$21+X21 -> 0 | AD21: =G21+$N$21+$O$21+Y21 -> 0
Z22: Gewogen all-in prijs per kilometer in het betreffende jaar | AA22: =AVERAGE(AA21:AA21)*$AA$10 -> 0 | AB22: =AVERAGE(AB21:AB21)*$AB$10 -> 0 | AC22: =AVERAGE(AC21:AC21)*$AC$10 -> 0 | AD22: =AVERAGE(AD21:AD21)*$AD$10 -> 0 | AE22: =SUM(AA22:AD22) -> 0 | AF22: 0.25 | AG22: =AE22*AF22 -> 0
A24: =Kortingspercentages!A12 -> Categorie: Kleine elektrische gesloten bestelwagens | D24: Prijs per kilometer voor ROB | I24: Percentuele restwaarde van voertuig na afschrijving | N24: Meerprijs per KM voor all season banden | O24: Meerprijs per KM voor gewone banden i.c.m. winterbanden | Q24: =$Q$8 -> Gegarandeerde restwaarde na X aantal jaar | V24: =$V$8 -> Afschrijving per km per jaar | AA24: All-In prijs per kilometer
A25: =Kortingspercentages!$A$5 -> Merk | B25: =Kortingspercentages!$E$5 -> Catalogusprijs minus korting | D25: 1 jaar | E25: 2 jaar | F25: 3 jaar | G25: 4 jaar | I25: 1 jaar | J25: 2 jaar | K25: 3 jaar | L25: 4 jaar | Q25: 1 jaar | R25: 2 jaar | S25: 3 jaar | T25: 4 jaar | V25: 1 jaar | W25: 2 jaar | X25: 3 jaar | Y25: 4 jaar | AA25: Jaar 1 | AB25: Jaar 2 | AC25: Jaar 3 | AD25: Jaar 4 | AE25: Gewogen all-in prijs per kilometer van alle jaargangen | AF25: Weging categorie | AG25: Gewogen all-in prijs per kilometer van alle jaargangen van betreffende categorie
A26: =Kortingspercentages!A13 -> 0 | B26: =Kortingspercentages!E13 -> 0 | D26: 0 | E26: 0 | F26: 0 | G26: 0 | I26: 0 | J26: 0 | K26: 0 | L26: 0 | N26: 0 | O26: 0 | Q26: =$B26*I26 -> 0 | R26: =$B26*J26 -> 0 | S26: =$B26*K26 -> 0 | T26: =$B26*L26 -> 0 | V26: =(B26-Q26)/$D$6 -> 0 | W26: =(Q26-R26)/$E$6 -> 0 | X26: =(R26-S26)/$F$6 -> 0 | Y26: =(S26-T26)/$G$6 -> 0 | AA26: =D26+$N$26+$O$26+V26 -> 0 | AB26: =E26+$N$26+$O$26+W26 -> 0 | AC26: =F26+$N$26+$O$26+X26 -> 0 | AD26: =G26+$N$26+$O$26+Y26 -> 0
Z27: Gewogen all-in prijs per kilometer in het betreffende jaar | AA27: =AVERAGE(AA26:AA26)*$AA$10 -> 0 | AB27: =AVERAGE(AB26:AB26)*$AB$10 -> 0 | AC27: =AVERAGE(AC26:AC26)*$AC$10 -> 0 | AD27: =AVERAGE(AD26:AD26)*$AD$10 -> 0 | AE27: =SUM(AA27:AD27) -> 0 | AF27: 0.2 | AG27: =AE27*AF27 -> 0
AA29: Gewogen all-in prijs per kilometer bij kilometrage van minimaal 30.001 tot maximaal 40.000 km per jaar | AG29: =AG12+AG17+AG22+AG27 -> 0

Sheet 40.001 - 50.000
A1: Prijzenblad Cedris Wagenpark: Kopen van voertuigen Perceel 3: koop van elektrische bestelwagens Blad 7/8
A2: > U dient alleen de geel gemarkeerde velden in te vullen. Voeg in dit tabblad van één voertuig per categorie in uw leveringsprogramma de onderstaande gegevens in: - Prijs per kilometer voor ROB voor elk jaar dat het voertuig in gebruik is. - Percentuele restwaarde na elk jaar dat het voertuig in gebruik is genomen. - Meerprijs per kilometer voor het gebruk van all-season banden. - Meerprijs per kilometer voor gewone banden in combinatie met winterbanden (inclusief wisselingen en opslag van de niet in gebruik zijnde banden) Bij het invullen van bovenstaande gegevens dient u rekening te houden met minimaal 40.001 tot maximaal 50.000 km per jaar. > De prijsopgave dient op onderdelen te geschieden in euro's (€) (op 4 decimalen, tenzij anders staat aangegeven) en op onderdelen in percentages (op 4 decimalen). > Er kunnen uitsluitend positieve getallen worden ingevuld. > Aangeboden prijzen zijn all-in (exclusief btw). Er kunnen dus geen andersoortige kosten in rekening worden gebracht, tenzij uitdrukkelijk anders bepaald. > Zie verder de voorschriften in de Aanbestedingsleidraad.
A3: Naam Inschrijver: | D3: ='Overzicht prijzenblad'!B4 -> <naam>
A4: Prijzen en percentages bij een kilometrage van minimaal 40.001 tot maximaal 50.000 km per jaar
A5: Kilometrage per jaar (voor berekening): | D5: Jaar 1 | E5: Jaar 2 | F5: Jaar 3 | H5: Totaal
D6: 50000 | E6: 50000 | F6: 50000 | H6: =SUM(D6:F6) -> 150000
D8: Prijs per kilometer voor ROB | H8: Percentuele restwaarde van voertuig na afschrijving | L8: Meerprijs per km voor all season banden | M8: Meerprijs per km voor gewone banden i.c.m. winterbanden | O8: Gegarandeerde restwaarde na X aantal jaar | S8: Afschrijving per km per jaar | W8: All-In prijs per kilometer
A9: =Kortingspercentages!A6 -> Categorie: Grote elektrische gesloten bestelwagens | D9: 1 jaar | E9: 2 jaar | F9: 3 jaar | H9: 1 jaar | I9: 2 jaar | J9: 3 jaar | O9: 1 jaar | P9: 2 jaar | Q9: 3 jaar | S9: Jaar 1 | T9: Jaar 2 | U9: Jaar 3 | W9: Jaar 1 | X9: Jaar 2 | Y9: Jaar 3 | Z9: Gewogen all-in prijs per kilometer van alle jaargangen | AA9: Weging categorie | AB9: Gewogen all-in prijs per kilometer van alle jaargangen van betreffende categorie
A10: =Kortingspercentages!$A$5 -> Merk | B10: =Kortingspercentages!$E$5 -> Catalogusprijs minus korting | V10: Weging van jaren: | W10: 0.15 | X10: 0.35 | Y10: 0.5
A11: =Kortingspercentages!A7 -> 0 | B11: =Kortingspercentages!E7 -> 0 | D11: 0 | E11: 0 | F11: 0 | H11: 0 | I11: 0 | J11: 0 | L11: 0 | M11: 0 | O11: =$B11*H11 -> 0 | P11: =$B11*I11 -> 0 | Q11: =$B11*J11 -> 0 | S11: =(B11-O11)/$D$6 -> 0 | T11: =(O11-P11)/$E$6 -> 0 | U11: =(P11-Q11)/$F$6 -> 0 | W11: =D11+$L$11+$M$11+S11 -> 0 | X11: =E11+$L$11+$M$11+T11 -> 0 | Y11: =F11+$L$11+$M$11+U11 -> 0
V12: Gewogen all-in prijs per kilometer in het betreffende jaar | W12: =AVERAGE(W11:W11)*$W$10 -> 0 | X12: =AVERAGE(X11:X11)*$X$10 -> 0 | Y12: =AVERAGE(Y11:Y11)*$Y$10 -> 0 | Z12: =SUM(W12:Y12) -> 0 | AA12: 0.24 | AB12: =Z12*AA12 -> 0
A14: =Kortingspercentages!A8 -> Categorie: Middelgrote elektrische gesloten bestelwagens | D14: Prijs per kilometer voor ROB | H14: Percentuele restwaarde van voertuig na afschrijving | L14: Meerprijs per KM voor all season banden | M14: Meerprijs per KM voor gewone banden i.c.m. winterbanden | O14: =$O$8 -> Gegarandeerde restwaarde na X aantal jaar | S14: =$S$8 -> Afschrijving per km per jaar | W14: All-In prijs per kilometer
A15: =Kortingspercentages!$A$5 -> Merk | B15: =Kortingspercentages!$E$5 -> Catalogusprijs minus korting | D15: 1 jaar | E15: 2 jaar | F15: 3 jaar | H15: 1 jaar | I15: 2 jaar | J15: 3 jaar | O15: 1 jaar | P15: 2 jaar | Q15: 3 jaar | S15: 1 jaar | T15: 2 jaar | U15: 3 jaar | W15: Jaar 1 | X15: Jaar 2 | Y15: Jaar 3 | Z15: Gewogen all-in prijs per kilometer van alle jaargangen | AA15: Weging categorie | AB15: Gewogen all-in prijs per kilometer van alle jaargangen van betreffende categorie
A16: =Kortingspercentages!A9 -> 0 | B16: =Kortingspercentages!E9 -> 0 | D16: 0 | E16: 0 | F16: 0 | H16: 0 | I16: 0 | J16: 0 | L16: 0 | M16: 0 | O16: =$B16*H16 -> 0 | P16: =$B16*I16 -> 0 | Q16: =$B16*J16 -> 0 | S16: =(B16-O16)/$D$6 -> 0 | T16: =(O16-P16)/$E$6 -> 0 | U16: =(P16-Q16)/$F$6 -> 0 | W16: =D16+$L$16+$M$16+S16 -> 0 | X16: =E16+$L$16+$M$16+T16 -> 0 | Y16: =F16+$L$16+$M$16+U16 -> 0
V17: Gewogen all-in prijs per kilometer in het betreffende jaar | W17: =AVERAGE(W16:W16)*$W$10 -> 0 | X17: =AVERAGE(X16:X16)*$X$10 -> 0 | Y17: =AVERAGE(Y16:Y16)*$Y$10 -> 0 | Z17: =SUM(W17:Y17) -> 0 | AA17: 0.31 | AB17: =Z17*AA17 -> 0
A19: =Kortingspercentages!A10 -> Categorie: Elektrische pick-up bestelwagens | D19: Prijs per kilometer voor ROB | H19: Percentuele restwaarde van voertuig na afschrijving | L19: Meerprijs per KM voor all season banden | M19: Meerprijs per KM voor gewone banden i.c.m. winterbanden | O19: =$O$8 -> Gegarandeerde restwaarde na X aantal jaar | S19: =$S$8 -> Afschrijving per km per jaar | W19: All-In prijs per kilometer
A20: =Kortingspercentages!$A$5 -> Merk | B20: =Kortingspercentages!$E$5 -> Catalogusprijs minus korting | D20: 1 jaar | E20: 2 jaar | F20: 3 jaar | H20: 1 jaar | I20: 2 jaar | J20: 3 jaar | O20: 1 jaar | P20: 2 jaar | Q20: 3 jaar | S20: 1 jaar | T20: 2 jaar | U20: 3 jaar | W20: Jaar 1 | X20: Jaar 2 | Y20: Jaar 3 | Z20: Gewogen all-in prijs per kilometer van alle jaargangen | AA20: Weging categorie | AB20: Gewogen all-in prijs per kilometer van alle jaargangen van betreffende categorie
A21: =Kortingspercentages!A11 -> 0 | B21: =Kortingspercentages!E11 -> 0 | D21: 0 | E21: 0 | F21: 0 | H21: 0 | I21: 0 | J21: 0 | L21: 0 | M21: 0 | O21: =$B21*H21 -> 0 | P21: =$B21*I21 -> 0 | Q21: =$B21*J21 -> 0 | S21: =(B21-O21)/$D$6 -> 0 | T21: =(O21-P21)/$E$6 -> 0 | U21: =(P21-Q21)/$F$6 -> 0 | W21: =D21+$L$21+$M$21+S21 -> 0 | X21: =E21+$L$21+$M$21+T21 -> 0 | Y21: =F21+$L$21+$M$21+U21 -> 0
V22: Gewogen all-in prijs per kilometer in het betreffende jaar | W22: =AVERAGE(W21:W21)*$W$10 -> 0 | X22: =AVERAGE(X21:X21)*$X$10 -> 0 | Y22: =AVERAGE(Y21:Y21)*$Y$10 -> 0 | Z22: =SUM(W22:Y22) -> 0 | AA22: 0.25 | AB22: =Z22*AA22 -> 0
A24: =Kortingspercentages!A12 -> Categorie: Kleine elektrische gesloten bestelwagens | D24: Prijs per kilometer voor ROB | H24: Percentuele restwaarde van voertuig na afschrijving | L24: Meerprijs per KM voor all season banden | M24: Meerprijs per KM voor gewone banden i.c.m. winterbanden | O24: =$O$8 -> Gegarandeerde restwaarde na X aantal jaar | S24: =$S$8 -> Afschrijving per km per jaar | W24: All-In prijs per kilometer
A25: =Kortingspercentages!$A$5 -> Merk | B25: =Kortingspercentages!$E$5 -> Catalogusprijs minus korting | D25: 1 jaar | E25: 2 jaar | F25: 3 jaar | H25: 1 jaar | I25: 2 jaar | J25: 3 jaar | O25: 1 jaar | P25: 2 jaar | Q25: 3 jaar | S25: 1 jaar | T25: 2 jaar | U25: 3 jaar | W25: Jaar 1 | X25: Jaar 2 | Y25: Jaar 3 | Z25: Gewogen all-in prijs per kilometer van alle jaargangen | AA25: Weging categorie | AB25: Gewogen all-in prijs per kilometer van alle jaargangen van betreffende categorie
A26: =Kortingspercentages!A13 -> 0 | B26: =Kortingspercentages!E13 -> 0 | D26: 0 | E26: 0 | F26: 0 | H26: 0 | I26: 0 | J26: 0 | L26: 0 | M26: 0 | O26: =$B26*H26 -> 0 | P26: =$B26*I26 -> 0 | Q26: =$B26*J26 -> 0 | S26: =(B26-O26)/$D$6 -> 0 | T26: =(O26-P26)/$E$6 -> 0 | U26: =(P26-Q26)/$F$6 -> 0 | W26: =D26+$L$26+$M$26+S26 -> 0 | X26: =E26+$L$26+$M$26+T26 -> 0 | Y26: =F26+$L$26+$M$26+U26 -> 0
V27: Gewogen all-in prijs per kilometer in het betreffende jaar | W27: =AVERAGE(W26:W26)*$W$10 -> 0 | X27: =AVERAGE(X26:X26)*$X$10 -> 0 | Y27: =AVERAGE(Y26:Y26)*$Y$10 -> 0 | Z27: =SUM(W27:Y27) -> 0 | AA27: 0.2 | AB27: =Z27*AA27 -> 0
W29: Gewogen all-in prijs per kilometer bij kilometrage van minimaal 40.001 tot maximaal 50.000 km per jaar | AB29: =AB12+AB17+AB22+AB27 -> 0

Sheet Vanaf 50.001
A1: Prijzenblad Cedris Wagenpark: Kopen van voertuigen Perceel 3: koop van elektrische bestelwagens Blad 8/8
A2: > U dient alleen de geel gemarkeerde velden in te vullen. Voeg in dit tabblad van één voertuig per categorie in uw leveringsprogramma de onderstaande gegevens in: - Prijs per kilometer voor ROB voor elk jaar dat het voertuig in gebruik is. - Percentuele restwaarde na elk jaar dat het voertuig in gebruik is genomen. - Meerprijs per kilometer voor het gebruk van all-season banden. - Meerprijs per kilometer voor gewone banden in combinatie met winterbanden (inclusief wisselingen en opslag van de niet in gebruik zijnde banden) Bij het invullen van bovenstaande gegevens dient u rekening te houden met minimaal 50.001 km per jaar. > De prijsopgave dient op onderdelen te geschieden in euro's (€) (op 4 decimalen, tenzij anders staat aangegeven) en op onderdelen in percentages (op 4 decimalen). > Er kunnen uitsluitend positieve getallen worden ingevuld. > Aangeboden prijzen zijn all-in (exclusief btw). Er kunnen dus geen andersoortige kosten in rekening worden gebracht, tenzij uitdrukkelijk anders bepaald. > Zie verder de voorschriften in de Aanbestedingsleidraad.
A3: Naam Inschrijver: | D3: ='Overzicht prijzenblad'!B4 -> <naam>
A4: Prijzen en percentages bij een kilometrage van minimaal 50.001 km per jaar
A5: Kilometrage per jaar (voor berekening): | D5: Jaar 1 | E5: Jaar 2 | F5: Jaar 3 | H5: Totaal
D6: 55000 | E6: 55000 | F6: 40000 | H6: =SUM(D6:F6) -> 150000
D8: Prijs per kilometer voor ROB | H8: Percentuele restwaarde van voertuig na afschrijving | L8: Meerprijs per km voor all season banden | M8: Meerprijs per km voor gewone banden i.c.m. winterbanden | O8: Gegarandeerde restwaarde na X aantal jaar | S8: Afschrijving per km per jaar | W8: All-In prijs per kilometer
A9: =Kortingspercentages!A6 -> Categorie: Grote elektrische gesloten bestelwagens | D9: 1 jaar | E9: 2 jaar | F9: 3 jaar | H9: 1 jaar | I9: 2 jaar | J9: 3 jaar | O9: 1 jaar | P9: 2 jaar | Q9: 3 jaar | S9: Jaar 1 | T9: Jaar 2 | U9: Jaar 3 | W9: Jaar 1 | X9: Jaar 2 | Y9: Jaar 3 | Z9: Gewogen all-in prijs per kilometer van alle jaargangen | AA9: Weging categorie | AB9: Gewogen all-in prijs per kilometer van alle jaargangen van betreffende categorie
A10: =Kortingspercentages!$A$5 -> Merk | B10: =Kortingspercentages!$E$5 -> Catalogusprijs minus korting | V10: Weging van jaren: | W10: 0.15 | X10: 0.35 | Y10: 0.5
A11: =Kortingspercentages!A7 -> 0 | B11: =Kortingspercentages!E7 -> 0 | D11: 0 | E11: 0 | F11: 0 | H11: 0 | I11: 0 | J11: 0 | L11: 0 | M11: 0 | O11: =$B11*H11 -> 0 | P11: =$B11*I11 -> 0 | Q11: =$B11*J11 -> 0 | S11: =(B11-O11)/$D$6 -> 0 | T11: =(O11-P11)/$E$6 -> 0 | U11: =(P11-Q11)/$F$6 -> 0 | W11: =D11+$L$11+$M$11+S11 -> 0 | X11: =E11+$L$11+$M$11+T11 -> 0 | Y11: =F11+$L$11+$M$11+U11 -> 0
V12: Gewogen all-in prijs per kilometer in het betreffende jaar | W12: =AVERAGE(W11:W11)*$W$10 -> 0 | X12: =AVERAGE(X11:X11)*$X$10 -> 0 | Y12: =AVERAGE(Y11:Y11)*$Y$10 -> 0 | Z12: =SUM(W12:Y12) -> 0 | AA12: 0.24 | AB12: =Z12*AA12 -> 0
A14: =Kortingspercentages!A8 -> Categorie: Middelgrote elektrische gesloten bestelwagens | D14: Prijs per kilometer voor ROB | H14: Percentuele restwaarde van voertuig na afschrijving | L14: Meerprijs per KM voor all season banden | M14: Meerprijs per KM voor gewone banden i.c.m. winterbanden | O14: =$O$8 -> Gegarandeerde restwaarde na X aantal jaar | S14: =$S$8 -> Afschrijving per km per jaar | W14: All-In prijs per kilometer
A15: =Kortingspercentages!$A$5 -> Merk | B15: =Kortingspercentages!$E$5 -> Catalogusprijs minus korting | D15: 1 jaar | E15: 2 jaar | F15: 3 jaar | H15: 1 jaar | I15: 2 jaar | J15: 3 jaar | O15: 1 jaar | P15: 2 jaar | Q15: 3 jaar | S15: 1 jaar | T15: 2 jaar | U15: 3 jaar | W15: Jaar 1 | X15: Jaar 2 | Y15: Jaar 3 | Z15: Gewogen all-in prijs per kilometer van alle jaargangen | AA15: Weging categorie | AB15: Gewogen all-in prijs per kilometer van alle jaargangen van betreffende categorie
A16: =Kortingspercentages!A9 -> 0 | B16: =Kortingspercentages!E9 -> 0 | D16: 0 | E16: 0 | F16: 0 | H16: 0 | I16: 0 | J16: 0 | L16: 0 | M16: 0 | O16: =$B16*H16 -> 0 | P16: =$B16*I16 -> 0 | Q16: =$B16*J16 -> 0 | S16: =(B16-O16)/$D$6 -> 0 | T16: =(O16-P16)/$E$6 -> 0 | U16: =(P16-Q16)/$F$6 -> 0 | W16: =D16+$L$16+$M$16+S16 -> 0 | X16: =E16+$L$16+$M$16+T16 -> 0 | Y16: =F16+$L$16+$M$16+U16 -> 0
V17: Gewogen all-in prijs per kilometer in het betreffende jaar | W17: =AVERAGE(W16:W16)*$W$10 -> 0 | X17: =AVERAGE(X16:X16)*$X$10 -> 0 | Y17: =AVERAGE(Y16:Y16)*$Y$10 -> 0 | Z17: =SUM(W17:Y17) -> 0 | AA17: 0.31 | AB17: =Z17*AA17 -> 0
A19: =Kortingspercentages!A10 -> Categorie: Elektrische pick-up bestelwagens | D19: Prijs per kilometer voor ROB | H19: Percentuele restwaarde van voertuig na afschrijving | L19: Meerprijs per KM voor all season banden | M19: Meerprijs per KM voor gewone banden i.c.m. winterbanden | O19: =$O$8 -> Gegarandeerde restwaarde na X aantal jaar | S19: =$S$8 -> Afschrijving per km per jaar | W19: All-In prijs per kilometer
A20: =Kortingspercentages!$A$5 -> Merk | B20: =Kortingspercentages!$E$5 -> Catalogusprijs minus korting | D20: 1 jaar | E20: 2 jaar | F20: 3 jaar | H20: 1 jaar | I20: 2 jaar | J20: 3 jaar | O20: 1 jaar | P20: 2 jaar | Q20: 3 jaar | S20: 1 jaar | T20: 2 jaar | U20: 3 jaar | W20: Jaar 1 | X20: Jaar 2 | Y20: Jaar 3 | Z20: Gewogen all-in prijs per kilometer van alle jaargangen | AA20: Weging categorie | AB20: Gewogen all-in prijs per kilometer van alle jaargangen van betreffende categorie
A21: =Kortingspercentages!A11 -> 0 | B21: =Kortingspercentages!E11 -> 0 | D21: 0 | E21: 0 | F21: 0 | H21: 0 | I21: 0 | J21: 0 | L21: 0 | M21: 0 | O21: =$B21*H21 -> 0 | P21: =$B21*I21 -> 0 | Q21: =$B21*J21 -> 0 | S21: =(B21-O21)/$D$6 -> 0 | T21: =(O21-P21)/$E$6 -> 0 | U21: =(P21-Q21)/$F$6 -> 0 | W21: =D21+$L$21+$M$21+S21 -> 0 | X21: =E21+$L$21+$M$21+T21 -> 0 | Y21: =F21+$L$21+$M$21+U21 -> 0
V22: Gewogen all-in prijs per kilometer in het betreffende jaar | W22: =AVERAGE(W21:W21)*$W$10 -> 0 | X22: =AVERAGE(X21:X21)*$X$10 -> 0 | Y22: =AVERAGE(Y21:Y21)*$Y$10 -> 0 | Z22: =SUM(W22:Y22) -> 0 | AA22: 0.25 | AB22: =Z22*AA22 -> 0
A24: =Kortingspercentages!A12 -> Categorie: Kleine elektrische gesloten bestelwagens | D24: Prijs per kilometer voor ROB | H24: Percentuele restwaarde van voertuig na afschrijving | L24: Meerprijs per KM voor all season banden | M24: Meerprijs per KM voor gewone banden i.c.m. winterbanden | O24: =$O$8 -> Gegarandeerde restwaarde na X aantal jaar | S24: =$S$8 -> Afschrijving per km per jaar | W24: All-In prijs per kilometer
A25: =Kortingspercentages!$A$5 -> Merk | B25: =Kortingspercentages!$E$5 -> Catalogusprijs minus korting | D25: 1 jaar | E25: 2 jaar | F25: 3 jaar | H25: 1 jaar | I25: 2 jaar | J25: 3 jaar | O25: 1 jaar | P25: 2 jaar | Q25: 3 jaar | S25: 1 jaar | T25: 2 jaar | U25: 3 jaar | W25: Jaar 1 | X25: Jaar 2 | Y25: Jaar 3 | Z25: Gewogen all-in prijs per kilometer van alle jaargangen | AA25: Weging categorie | AB25: Gewogen all-in prijs per kilometer van alle jaargangen van betreffende categorie
A26: =Kortingspercentages!A13 -> 0 | B26: =Kortingspercentages!E13 -> 0 | D26: 0 | E26: 0 | F26: 0 | H26: 0 | I26: 0 | J26: 0 | L26: 0 | M26: 0 | O26: =$B26*H26 -> 0 | P26: =$B26*I26 -> 0 | Q26: =$B26*J26 -> 0 | S26: =(B26-O26)/$D$6 -> 0 | T26: =(O26-P26)/$E$6 -> 0 | U26: =(P26-Q26)/$F$6 -> 0 | W26: =D26+$L$26+$M$26+S26 -> 0 | X26: =E26+$L$26+$M$26+T26 -> 0 | Y26: =F26+$L$26+$M$26+U26 -> 0
V27: Gewogen all-in prijs per kilometer in het betreffende jaar | W27: =AVERAGE(W26:W26)*$W$10 -> 0 | X27: =AVERAGE(X26:X26)*$X$10 -> 0 | Y27: =AVERAGE(Y26:Y26)*$Y$10 -> 0 | Z27: =SUM(W27:Y27) -> 0 | AA27: 0.2 | AB27: =Z27*AA27 -> 0
W29: Gewogen all-in prijs per kilometer bij kilometrage van minimaal 50.001 km per jaar | AB29: =AB12+AB17+AB22+AB27 -> 0
