Workbook

Sheet Basisgegevens Werkprogramma
A1: opdrachtgever | B1: KNAW, Hubrecht Instituut
A2: adres | B2: Uppsalalaan 8
A3: plaats | B3: Utrecht
A5: programma's
A6: nr. | B6: categorie | C6: omschrijving
A7: 1.0 | B7: administratieve ruimten | C7: kantoor en zitkamer
A8: 1.1 | B8: administratieve ruimten | C8: vergaderruimte
A9: 2.0 | B9: verkeersruimten | C9: entrée
A10: 2.1 | B10: verkeersruimten | C10: gang en hal
A11: 2.2 | B11: verkeersruimten | C11: lift
A12: 2.3 | B12: verkeersruimten | C12: trappenhuis
A13: 2.4 | B13: verkeersruimten | C13: kleedruimte
A14: 2.5 | B14: verkeersruimten | C14: opslagruimte en apparatuurkamer
A15: 3.0 | B15: werkruimten | C15: laboratorium algemeen
A16: 3.1 | B16: werkruimten | C16: laboratorium bijzonder (ML1-ML2-BSL2-BSL3)
A17: 3.2 | B17: werkruimten | C17: laboratorium radioactiviteit
... A25: 6.0 | B25: behandelruimten | C25: EHBO ruimte
A26: bijzondere programma's
A27: nr. | B27: categorie | C27: omschrijving
A28: 7.0 | B28: dierengebied | C28: knaagdieren
A29: 7.1 | B29: dierengebied | C29: wasstraat
A30: 7.2 | B30: dierengebied | C30: toilet
A31: 7.3 | B31: dierengebied | C31: douche

Sheet 1.0 kantoor en zitkamer
A1: opdrachtgever | B1: ='Basisgegevens Werkprogramma'!B1 -> KNAW, Hubrecht Instituut
A2: adres | B2: ='Basisgegevens Werkprogramma'!B2&" - "&'Basisgegevens Werkprogramma'!B3 -> Uppsalalaan 8 - Utrecht
A4: programmanummer | B4: 1.0
A5: categorie | B5: =VLOOKUP(B4,'Basisgegevens Werkprogramma'!$A$7:$C$31,2,FALSE) -> administratieve ruimten
A6: omschrijving | B6: =VLOOKUP(B4,'Basisgegevens Werkprogramma'!A7:C31,3,FALSE) -> kantoor en zitkamer
A7: frequentie | B7: =A10 -> Dagelijks
A8: bijzonderheden
A10: Dagelijks
A11: element | B11: onderdeel | C11: handeling | D11: freq
A12: afval-/prullenbak | C12: ledigen en zonodig plastic zak vervangen | D12: 255
A14: 2 x per week
A15: element | B15: onderdeel | C15: handeling | D15: freq
A16: bijzettafel | B16: bovenzijde | C16: stof, vlek en vingertast verwijderen | D16: 104
A17: bureau/tafel | B17: bovenzijde | C17: stof, vlek en vingertast verwijderen | D17: 104
A18: deur/-post | B18: geheel | C18: stof, vlek en vingertast verwijderen | D18: 104
A19: kast laag | B19: bovenzijde | C19: stof, vlek en vingertast verwijderen | D19: 104
A20: telefoon | B20: geheel | C20: stof, vlek en vingertast verwijderen | D20: 104
A22: Wekelijks
A23: element | B23: onderdeel | C23: handeling | D23: freq
A24: armatuur/bureaulamp | B24: tot reikhoogte | C24: stof, vlek en vingertast verwijderen | D24: 52
A25: brandblusapparatuur | B25: geheel | C25: stof, vlek en vingertast verwijderen | D25: 52
A26: kapstok | B26: geheel | C26: stof, vlek en vingertast verwijderen | D26: 52
A27: lichtschakelaar/contact | B27: geheel | C27: stof, vlek en vingertast verwijderen | D27: 52
A28: plint/kabelgoot | B28: geheel | C28: stof, vlek en vingertast verwijderen | D28: 52
A29: rand en richel | B29: tot reikhoogte | C29: stof, vlek en vingertast verwijderen | D29: 52
A30: separatieglas | B30: tot reikhoogte | C30: stof, vlek en vingertast verwijderen | D30: 52
A31: stoel, bank of kruk | B31: geheel | C31: stof, vlek en vingertast verwijderen | D31: 52
A32: vensterbank | B32: geheel | C32: stof, vlek en vingertast verwijderen | D32: 52
A33: verwarmingselement | B33: boven- en voorzijde | C33: stof, vlek en vingertast verwijderen | D33: 52
A34: vloer tapijt/steen ruw | B34: geheel | C34: stofzuigen en vlekverwijderen | D34: 52
A35: vloer tapijt/steen ruw | B35: plaatselijk | C35: stofzuigen en vlekverwijderen | D35: 52
... A37: vloer lino/pvc/steen vlak | B37: geheel | C37: stofzuigen en vlekverwijderen | D37: 52
A39: Maandelijks
A40: element | B40: onderdeel | C40: handeling | D40: freq
A41: afval-/prullenbak | B41: buitenzijde | C41: stof, vlek en vingertast verwijderen | D41: 12
A42: deur/-post | B42: geheel | C42: nat reinigen | D42: 12
A43: kast hoog | B43: bovenzijde | C43: stof, vlek en vingertast verwijderen | D43: 12
A44: stoel, bank of kruk | B44: geheel | C44: nat reinigen/stofzuigen | D44: 12
A45: ventilatierooster | B45: buitenzijde | C45: stof vrij maken | D45: 12
A46: bureau/tafel | B46: verticale zijden | C46: stof, vlek en vingertast verwijderen | D46: 12
...

Sheet 1.1 vergaderruimte
A1: opdrachtgever | B1: ='Basisgegevens Werkprogramma'!B1 -> KNAW, Hubrecht Instituut
A2: adres | B2: ='Basisgegevens Werkprogramma'!B2&" - "&'Basisgegevens Werkprogramma'!B3 -> Uppsalalaan 8 - Utrecht
A4: programmanummer | B4: 1.1
A5: categorie | B5: =VLOOKUP(B4,'Basisgegevens Werkprogramma'!$A$7:$C$31,2,FALSE) -> administratieve ruimten
A6: omschrijving | B6: =VLOOKUP(B4,'Basisgegevens Werkprogramma'!A7:C31,3,FALSE) -> vergaderruimte
A7: frequentie | B7: =A10 -> Dagelijks
A8: bijzonderheden
A10: Dagelijks
A11: element | B11: onderdeel | C11: handeling | D11: freq
A12: afval-/prullenbak | C12: ledigen en zonodig plastic zak vervangen | D12: 255
A13: bijzettafel | B13: bovenzijde | C13: stof, vlek en vingertast verwijderen | D13: 255
A14: bureau/tafel | B14: bovenzijde | C14: stof, vlek en vingertast verwijderen | D14: 255
A15: deur/-post | B15: geheel | C15: stof, vlek en vingertast verwijderen | D15: 255
A16: kast laag | B16: bovenzijde | C16: stof, vlek en vingertast verwijderen | D16: 255
A17: telefoon | B17: geheel | C17: stof, vlek en vingertast verwijderen | D17: 255
A18: vloer tapijt/steen ruw | B18: plaatselijk | C18: stofzuigen en vlekverwijderen | D18: 204
A19: vloer lino/pvc/steen vlak | B19: geheel | C19: wissen en vlekverwijderen | D19: 204
A21: Wekelijks
A22: element | B22: onderdeel | C22: handeling | D22: freq
A23: armatuur/bureaulamp | B23: tot reikhoogte | C23: stof, vlek en vingertast verwijderen | D23: 52
A24: brandblusapparatuur | B24: geheel | C24: stof, vlek en vingertast verwijderen | D24: 52
A25: kapstok | B25: geheel | C25: stof, vlek en vingertast verwijderen | D25: 52
A26: lichtschakelaar/contact | B26: geheel | C26: stof, vlek en vingertast verwijderen | D26: 52
A27: plint/kabelgoot | B27: geheel | C27: stof, vlek en vingertast verwijderen | D27: 52
A28: rand en richel | B28: tot reikhoogte | C28: stof, vlek en vingertast verwijderen | D28: 52
A29: separatieglas | B29: tot reikhoogte | C29: stof, vlek en vingertast verwijderen | D29: 52
A30: stoel, bank of kruk | B30: geheel | C30: stof, vlek en vingertast verwijderen | D30: 52
A31: vensterbank | B31: geheel | C31: stof, vlek en vingertast verwijderen | D31: 52
A32: verwarmingselement | B32: boven- en voorzijde | C32: stof, vlek en vingertast verwijderen | D32: 52
A33: vloer tapijt/steen ruw | B33: geheel | C33: stofzuigen en vlekverwijderen | D33: 52
A34: vloer lino/pvc/steen vlak | B34: geheel | C34: stofzuigen en vlekverwijderen | D34: 52
A36: Maandelijks
A37: element | B37: onderdeel | C37: handeling | D37: freq
A38: afval-/prullenbak | B38: buitenzijde | C38: stof, vlek en vingertast verwijderen | D38: 12
A39: deur/-post | B39: geheel | C39: nat reinigen | D39: 12
A40: kast hoog | B40: bovenzijde | C40: stof, vlek en vingertast verwijderen | D40: 12
A41: stoel, bank of kruk | B41: geheel | C41: nat reinigen/stofzuigen | D41: 12
A42: ventilatierooster | B42: buitenzijde | C42: stof vrij maken | D42: 12
A43: bureau/tafel | B43: verticale zijden | C43: stof, vlek en vingertast verwijderen | D43: 12
A44: kast laag | B44: verticale zijden | C44: stof, vlek en vingertast verwijderen | D44: 12
...

Sheet 2.0 entrée
A1: opdrachtgever | B1: ='Basisgegevens Werkprogramma'!B1 -> KNAW, Hubrecht Instituut
A2: adres | B2: ='Basisgegevens Werkprogramma'!B2&" - "&'Basisgegevens Werkprogramma'!B3 -> Uppsalalaan 8 - Utrecht
A4: programmanummer | B4: 2.0
A5: categorie | B5: =VLOOKUP(B4,'Basisgegevens Werkprogramma'!$A$7:$C$31,2,FALSE) -> verkeersruimten
A6: omschrijving | B6: =VLOOKUP(B4,'Basisgegevens Werkprogramma'!A7:C31,3,FALSE) -> entrée
A7: frequentie | B7: =A10 -> Dagelijks
A8: bijzonderheden
A10: Dagelijks
A11: element | B11: onderdeel | C11: handeling | D11: freq
A12: afval-/prullenbak | C12: ledigen en zonodig plastic zak vervangen | D12: 255
A13: afval-/prullenbak | B13: buitenzijde | C13: stof, vlek en vingertast verwijderen | D13: 255
A14: balie | B14: boven- en voorzijde | C14: stof, vlek en vingertast verwijderen | D14: 255
A15: balie glas | B15: geheel | C15: vlek en vingertast verwijderen | D15: 255
A16: bedieningspaneel | B16: geheel | C16: stof, vlek en vingertast verwijderen | D16: 255
A17: bijzettafel | B17: bovenzijde | C17: stof, vlek en vingertast verwijderen | D17: 255
A18: deur/-post | B18: geheel | C18: stof, vlek en vingertast verwijderen | D18: 255
A19: separatieglas | B19: tot reikhoogte | C19: stof, vlek en vingertast verwijderen | D19: 255
A20: telefoon | B20: geheel | C20: stof, vlek en vingertast verwijderen | D20: 255
A21: vloer lino/pvc/steen vlak | B21: geheel | C21: wissen en vlekverwijderen | D21: 255
A22: vloer tapijt/steen ruw/inloopmat | B22: geheel | C22: stofzuigen en vlekverwijderen | D22: 255
A23: bordes buiten | B23: geheel | C23: vegen | D23: 255
A25: Wekelijks
A26: element | B26: onderdeel | C26: handeling | D26: freq
A27: brandblusapparatuur | B27: geheel | C27: stof, vlek en vingertast verwijderen | D27: 52
A28: glasdeur/-post | B28: geheel | C28: wassen | D28: 52
A29: balie glas | B29: geheel | C29: wassen | D29: 52
A30: kapstok | B30: geheel | C30: stof, vlek en vingertast verwijderen | D30: 52
A31: lichtschakelaar/contact | B31: geheel | C31: stof, vlek en vingertast verwijderen | D31: 52
A32: plantenbak | B32: buitenzijde | C32: stof, vlek en vingertast verwijderen | D32: 52
A33: plint/kabelgoot | B33: geheel | C33: stof, vlek en vingertast verwijderen | D33: 52
A34: rand en richel | B34: tot reikhoogte | C34: stof, vlek en vingertast verwijderen | D34: 52
A35: stoel, bank of kruk | B35: geheel | C35: stof, vlek en vingertast verwijderen | D35: 52
A36: vensterbank | B36: geheel | C36: stof, vlek en vingertast verwijderen | D36: 52
A37: verlichtingsarmatuur | B37: tot reikhoogte | C37: stof, vlek en vingertast verwijderen | D37: 52
A38: verwarmingselement | B38: boven- en voorzijde | C38: stof, vlek en vingertast verwijderen | D38: 52
... A40: bordes buiten | B40: geheel | C40: schrobben | D40: 52
A42: Periodiek
A43: element | B43: onderdeel | C43: handeling | D43: freq
A44: afval-/prullenbak | B44: binnen- en buitenzijde | C44: nat reinigen | D44: 6
A45: balie | B45: geheel | C45: nat reinigen | D45: 6
...

Sheet 2.1 gang en hal
A1: opdrachtgever | B1: ='Basisgegevens Werkprogramma'!B1 -> KNAW, Hubrecht Instituut
A2: adres | B2: ='Basisgegevens Werkprogramma'!B2&" - "&'Basisgegevens Werkprogramma'!B3 -> Uppsalalaan 8 - Utrecht
A4: programmanummer | B4: 2.1
A5: categorie | B5: =VLOOKUP(B4,'Basisgegevens Werkprogramma'!$A$7:$C$31,2,FALSE) -> verkeersruimten
A6: omschrijving | B6: =VLOOKUP(B4,'Basisgegevens Werkprogramma'!A7:C31,3,FALSE) -> gang en hal
A7: frequentie | B7: =A10 -> Dagelijks
A8: bijzonderheden
A10: Dagelijks
A11: element | B11: onderdeel | C11: handeling | D11: freq
A12: afval-/prullenbak | C12: ledigen en zonodig plastic zak vervangen | D12: 255
A13: afval-/prullenbak | B13: buitenzijde | C13: stof, vlek en vingertast verwijderen | D13: 255
A14: bijzettafel | B14: bovenzijde | C14: stof, vlek en vingertast verwijderen | D14: 255
A15: deur/-post | B15: geheel | C15: stof, vlek en vingertast verwijderen | D15: 255
A16: kast laag | B16: bovenzijde | C16: stof, vlek en vingertast verwijderen | D16: 255
A17: telefoon | B17: geheel | C17: stof, vlek en vingertast verwijderen | D17: 255
A18: vloer lino/pvc/steen vlak | B18: geheel | C18: wissen en vlekverwijderen | D18: 255
A19: vloer tapijt/steen ruw | B19: plaatselijk | C19: stofzuigen en vlekverwijderen | D19: 255
A21: Wekelijks
A22: element | B22: onderdeel | C22: handeling | D22: freq
A23: brandblusapparatuur | B23: geheel | C23: stof, vlek en vingertast verwijderen | D23: 52
A24: kapstok | B24: geheel | C24: stof, vlek en vingertast verwijderen | D24: 52
A25: lichtschakelaar/contact | B25: geheel | C25: stof, vlek en vingertast verwijderen | D25: 52
A26: leuning | B26: geheel | C26: stof, vlek en vingertast verwijderen | D26: 52
A27: plint/kabelgoot | B27: geheel | C27: stof, vlek en vingertast verwijderen | D27: 52
A28: rand en richel | B28: tot reikhoogte | C28: stof, vlek en vingertast verwijderen | D28: 52
A29: kast hoog | B29: verticale zijden | C29: stof, vlek en vingertast verwijderen | D29: 52
A30: kast laag | B30: verticale zijden | C30: stof, vlek en vingertast verwijderen | D30: 52
A31: separatieglas | B31: tot reikhoogte | C31: stof, vlek en vingertast verwijderen | D31: 52
A32: stoel, bank of kruk | B32: geheel | C32: stof, vlek en vingertast verwijderen | D32: 52
A33: vensterbank | B33: geheel | C33: stof, vlek en vingertast verwijderen | D33: 52
A34: verlichtingsarmatuur | B34: tot reikhoogte | C34: stof, vlek en vingertast verwijderen | D34: 52
... A36: vloer tapijt /steen ruw | B36: geheel | C36: stofzuigen en vlekverwijderen | D36: 52
A38: Maandelijks
A39: element | B39: onderdeel | C39: handeling | D39: freq
A40: deur/-post | B40: geheel | C40: nat reinigen | D40: 12
A41: kast hoog | B41: bovenzijde | C41: stof, vlek en vingertast verwijderen | D41: 12
A42: stoel, bank of kruk | B42: geheel | C42: nat reinigen/stofzuigen | D42: 12
A43: ventilatierooster | B43: buitenzijde | C43: stof vrij maken | D43: 12
A44: vloer lino | B44: geheel | C44: sprayen | D44: 12
A45: vloer steen/pvc | B45: geheel | C45: schrobben | D45: 12
...

Sheet 2.2 lift
A1: opdrachtgever | B1: ='Basisgegevens Werkprogramma'!B1 -> KNAW, Hubrecht Instituut
A2: adres | B2: ='Basisgegevens Werkprogramma'!B2&" - "&'Basisgegevens Werkprogramma'!B3 -> Uppsalalaan 8 - Utrecht
A4: programmanummer | B4: 2.2
A5: categorie | B5: =VLOOKUP(B4,'Basisgegevens Werkprogramma'!$A$7:$C$31,2,FALSE) -> verkeersruimten
A6: omschrijving | B6: =VLOOKUP(B4,'Basisgegevens Werkprogramma'!A7:C31,3,FALSE) -> lift
A7: frequentie | B7: =A10 -> Dagelijks
A8: bijzonderheden | B8: RVS deur/-posten en wanden nabehandelen met een staal reinigings-/conserveringsmiddel
A10: Dagelijks
A11: element | B11: onderdeel | C11: handeling | D11: freq
A12: bedieningspaneel | B12: geheel | C12: stof, vlek en vingertast verwijderen | D12: 255
A13: deur/-post | B13: geheel | C13: stof, vlek en vingertast verwijderen | D13: 255
A14: leuning | B14: geheel | C14: stof, vlek en vingertast verwijderen | D14: 255
A15: spiegel | B15: geheel | C15: stof, vlek en vingertast verwijderen | D15: 255
A16: vloer lino/pvc/steen/metaal | B16: geheel | C16: moppen | D16: 255
A18: Wekelijks
A19: element | B19: onderdeel | C19: handeling | D19: freq
A20: liftgoot | B20: geheel | C20: uitzuigen | D20: 52
A21: rand en richel | B21: geheel | C21: stof, vlek en vingertast verwijderen | D21: 52
A22: telefoon | B22: geheel | C22: stof, vlek en vingertast verwijderen | D22: 52
A23: vloer lino/pvc/steen/metaal | B23: geheel | C23: moppen | D23: 52
A24: wand afwasbaar | B24: tot reikhoogte | C24: stof, vlek en vingertast verwijderen | D24: 52
A26: Maandelijks
A27: element | B27: onderdeel | C27: handeling | D27: freq
A28: deur/-post* | B28: geheel | C28: nat reinigen | D28: 12
A29: ventilatierooster | B29: buitenzijde | C29: stofvrij maken | D29: 12
A30: verlichtingsarmatuur | B30: geheel | C30: stof, vlek en vingertast verwijderen | D30: 12
A31: vloer lino | B31: geheel | C31: sprayen | D31: 12
A32: vloer steen/metaal/pvc | B32: geheel | C32: schrobben | D32: 12
A33: wand afwasbaar* | B33: geheel | C33: nat reinigen | D33: 12

Sheet 2.3 trappenhuis
A1: opdrachtgever | B1: ='Basisgegevens Werkprogramma'!B1 -> KNAW, Hubrecht Instituut
A2: adres | B2: ='Basisgegevens Werkprogramma'!B2&" - "&'Basisgegevens Werkprogramma'!B3 -> Uppsalalaan 8 - Utrecht
A4: programmanummer | B4: 2.3
A5: categorie | B5: =VLOOKUP(B4,'Basisgegevens Werkprogramma'!$A$7:$C$31,2,FALSE) -> verkeersruimten
A6: omschrijving | B6: =VLOOKUP(B4,'Basisgegevens Werkprogramma'!A7:C31,3,FALSE) -> trappenhuis
A7: frequentie | B7: =A10 -> Dagelijks
A8: bijzonderheden
A10: Dagelijks
A11: element | B11: onderdeel | C11: handeling | D11: freq
A12: deur/-post | B12: geheel | C12: stof, vlek en vingertast verwijderen | D12: 255
A13: leuning | B13: geheel | C13: stof, vlek en vingertast verwijderen | D13: 255
A14: vloer lino/pvc/steen vlak | B14: geheel | C14: wissen en vlekverwijderen | D14: 255
A15: vloer tapijt/steen ruw | B15: plaatselijk | C15: stofzuigen en vlekverwijderen | D15: 255
A17: Wekelijks
A18: element | B18: onderdeel | C18: handeling | D18: freq
A19: lichtschakelaar/contact | B19: geheel | C19: stof, vlek en vingertast verwijderen | D19: 52
A20: plint/kabelgoot | B20: geheel | C20: stof, vlek en vingertast verwijderen | D20: 52
A21: rand en richel | B21: tot reikhoogte | C21: stof, vlek en vingertast verwijderen | D21: 52
A22: separatieglas | B22: tot reikhoogte | C22: stof, vlek en vingertast verwijderen | D22: 52
A23: vensterbank | B23: geheel | C23: stof, vlek en vingertast verwijderen | D23: 52
A24: verlichtingsarmatuur | B24: tot reikhoogte | C24: stof, vlek en vingertast verwijderen | D24: 52
A25: verwarmingselement | B25: boven- en voorzijde | C25: stof, vlek en vingertast verwijderen | D25: 52
A26: vloer tapijt/steen ruw | B26: geheel | C26: stofzuigen en vlekverwijderen | D26: 52
A28: Maandelijks
A29: element | B29: onderdeel | C29: handeling | D29: freq
A30: deur/-post | B30: geheel | C30: nat reinigen | D30: 12
A31: leuning | B31: geheel | C31: nat reinigen | D31: 12
A32: ventilatierooster | B32: buitenzijde | C32: stof vrij maken | D32: 12
A33: vloer lino | B33: geheel | C33: sprayen | D33: 12
A35: Periodiek
A36: element | B36: onderdeel | C36: handeling | D36: freq
A37: verwarmingselement | B37: geheel | C37: nat reinigen | D37: 4
A38: vloer steen/pvc | B38: geheel | C38: schrobben | D38: 4

Sheet 2.4 kleedruimte
A1: opdrachtgever | B1: ='Basisgegevens Werkprogramma'!B1 -> KNAW, Hubrecht Instituut
A2: adres | B2: ='Basisgegevens Werkprogramma'!B2&" - "&'Basisgegevens Werkprogramma'!B3 -> Uppsalalaan 8 - Utrecht
A4: programmanummer | B4: 2.4
A5: categorie | B5: =VLOOKUP(B4,'Basisgegevens Werkprogramma'!$A$7:$C$31,2,FALSE) -> verkeersruimten
A6: omschrijving | B6: =VLOOKUP(B4,'Basisgegevens Werkprogramma'!A7:C31,3,FALSE) -> kleedruimte
A7: frequentie | B7: =A10 -> Dagelijks
A8: bijzonderheden
A10: Dagelijks
A11: element | B11: onderdeel | C11: handeling | D11: freq
A12: afval-/prullenbak | C12: ledigen en zonodig plastic zak vervangen | D12: 255
A13: deur/-post | B13: geheel | C13: stof, vlek en vingertast verwijderen | D13: 255
A14: handdoekautomaat | B14: buitenzijde | C14: stof, vlek en vingertast verwijderen | D14: 255
A15: handdoekautomaat | C15: handdoek bijvullen/verwisselen | D15: 255
A16: planchet | B16: geheel | C16: stof, vlek en vingertast verwijderen | D16: 255
A17: spiegel | B17: geheel | C17: stof, vlek en vingertast verwijderen | D17: 255
A18: vloer lino/pvc/steen vlak | B18: geheel | C18: wissen en vlekverwijderen | D18: 255
A19: wand afwasbaar | B19: tot reikhoogte | C19: stof, vlek en vingertast verwijderen | D19: 255
A20: wastafel | B20: geheel | C20: nat reinigen | D20: 255
A21: zeepdispenser | B21: buitenzijde | C21: stof, vlek en vingertast verwijderen | D21: 255
A22: zeepdispenser | C22: bijvullen | D22: 255
A24: Wekelijks
A25: element | B25: onderdeel | C25: handeling | D25: freq
A26: afval-/prullenbak | B26: buitenzijde | C26: stof, vlek en vingertast verwijderen | D26: 52
A27: kapstok | B27: geheel | C27: stof, vlek en vingertast verwijderen | D27: 52
A28: kast hoog | B28: verticale zijden | C28: stof, vlek en vingertast verwijderen | D28: 52
A29: lichtschakelaar/contact | B29: geheel | C29: stof, vlek en vingertast verwijderen | D29: 52
A30: plint/kabelgoot | B30: geheel | C30: stof, vlek en vingertast verwijderen | D30: 52
A31: rand en richel | B31: tot reikhoogte | C31: stof, vlek en vingertast verwijderen | D31: 52
A32: stoel, bank of kruk | B32: geheel | C32: stof, vlek en vingertast verwijderen | D32: 52
A33: vensterbank | B33: geheel | C33: stof, vlek en vingertast verwijderen | D33: 52
A34: verlichtingsarmatuur | B34: tot reikhoogte | C34: stof, vlek en vingertast verwijderen | D34: 52
A35: verwarmingselement | B35: boven- en voorzijde | C35: stof, vlek en vingertast verwijderen | D35: 52
A36: vloer lino/pvc | B36: geheel | C36: moppen | D36: 52
A38: Periodiek
A39: element | B39: onderdeel | C39: handeling | D39: freq
A40: afval-/prullenbak | B40: binnen- en buitenzijde | C40: nat reinigen | D40: 6
A41: kapstok | B41: geheel | C41: nat reinigen | D41: 6
A42: kast hoog | B42: buitenzijde | C42: nat reinigen | D42: 6
A43: verwarmingselement | B43: geheel | C43: nat reinigen | D43: 6
A44: wand afwasbaar | B44: geheel | C44: nat reinigen | D44: 6
...

Sheet 2.5 opslagrmt & apparatuurkmr
A1: opdrachtgever | B1: ='Basisgegevens Werkprogramma'!B1 -> KNAW, Hubrecht Instituut
A2: adres | B2: ='Basisgegevens Werkprogramma'!B2&" - "&'Basisgegevens Werkprogramma'!B3 -> Uppsalalaan 8 - Utrecht
A4: programmanummer | B4: 2.5
A5: categorie | B5: =VLOOKUP(B4,'Basisgegevens Werkprogramma'!$A$7:$C$31,2,FALSE) -> verkeersruimten
A6: omschrijving | B6: =VLOOKUP(B4,'Basisgegevens Werkprogramma'!A7:C31,3,FALSE) -> opslagruimte en apparatuurkamer
A7: frequentie | B7: =A10 -> Wekelijks
A8: bijzonderheden
A10: Wekelijks
A11: element | B11: onderdeel | C11: handeling | D11: freq
A12: afval-/prullenbak | C12: ledigen en zonodig plastic zak vervangen | D12: 52
A13: afval-/prullenbak | B13: buitenzijde | C13: stof, vlek en vingertast verwijderen | D13: 52
A14: brandblusapparatuur | B14: geheel | C14: stof, vlek en vingertast verwijderen | D14: 52
A15: deur/-post | B15: geheel | C15: stof, vlek en vingertast verwijderen | D15: 52
A16: kast hoog | B16: voorzijde | C16: stof, vlek en vingertast verwijderen | D16: 52
A17: kast laag | B17: boven- en voorzijde | C17: stof, vlek en vingertast verwijderen | D17: 52
A18: lichtschakelaar/contact | B18: geheel | C18: stof, vlek en vingertast verwijderen | D18: 52
A19: plint/kabelgoot | B19: geheel | C19: stof, vlek en vingertast verwijderen | D19: 52
A20: rand en richel | B20: tot reikhoogte | C20: stof, vlek en vingertast verwijderen | D20: 52
A21: separatieglas | B21: tot reikhoogte | C21: stof, vlek en vingertast verwijderen | D21: 52
A22: tafel | B22: bovenzijde | C22: stof, vlek en vingertast verwijderen | D22: 52
A23: vloer lino/pvc | B23: geheel | C23: wissen en vlekverwijderen | D23: 52
A24: vloer tapijt /steen ruw | B24: geheel | C24: stofzuigen en vlekverwijderen | D24: 52
A26: Periodiek
A27: element | B27: onderdeel | C27: handeling | D27: freq
A28: afval-/prullenbak | B28: binnen- en buitenzijde | C28: nat reinigen | D28: 4
A29: deur/-post | B29: geheel | C29: nat reinigen | D29: 4
A30: kast hoog | B30: buitenzijde | C30: nat reinigen | D30: 4
A31: kast laag | B31: buitenzijde | C31: nat reinigen | D31: 4
A32: tafel | B32: geheel | C32: nat reinigen | D32: 4
A33: vensterbank | B33: geheel | C33: nat reinigen | D33: 4
A34: ventilatierooster | B34: buitenzijde | C34: stof vrij maken | D34: 4
A35: verwarmingselement | B35: geheel | C35: nat reinigen | D35: 4
A36: vloer lino | B36: geheel | C36: sprayen | D36: 6
A37: vloer steen/pvc | B37: geheel | C37: schrobben | D37: 6

Sheet 3.0 laboratorium algemeen
A1: opdrachtgever | B1: ='Basisgegevens Werkprogramma'!B1 -> KNAW, Hubrecht Instituut
A2: adres | B2: ='Basisgegevens Werkprogramma'!B2&" - "&'Basisgegevens Werkprogramma'!B3 -> Uppsalalaan 8 - Utrecht
A4: programmanummer | B4: 3.0
A5: categorie | B5: =VLOOKUP(B4,'Basisgegevens Werkprogramma'!$A$7:$C$31,2,FALSE) -> werkruimten
A6: omschrijving | B6: =VLOOKUP(B4,'Basisgegevens Werkprogramma'!A7:C31,3,FALSE) -> laboratorium algemeen
A7: frequentie | B7: =A10 -> Dagelijks
A8: bijzonderheden
A10: Dagelijks
A11: element | B11: onderdeel | C11: handeling | D11: freq
A12: aanrecht-keukenblok | B12: boven- en verticale zijden | C12: stof, vlek en vingertast verwijderen | D12: 255
A13: alcoholdispenser | B13: buitenzijde | C13: nat reinigen | D13: 255
A14: afval-/prullenbak | C14: ledigen en zonodig plastic zak vervangen | D14: 255
A15: afval-/prullenbak | B15: buitenzijde | C15: stof, vlek en vingertast verwijderen | D15: 255
A16: deur/-post | B16: geheel | C16: stof, vlek en vingertast verwijderen | D16: 255
A17: handdoekautomaat | B17: buitenzijde | C17: stof, vlek en vingertast verwijderen | D17: 255
A18: tafel/bijzettafel | B18: bovenzijde | C18: stof, vlek en vingertast verwijderen | D18: 255
A19: telefoon | B19: geheel | C19: stof, vlek en vingertast verwijderen | D19: 255
A20: vloer hard | B20: geheel | C20: wissen en vlekverwijderen | D20: 255
A21: wand afwasbaar | B21: tot reikhoogte | C21: stof, vlek en vingertast verwijderen | D21: 255
A22: wastafel | B22: geheel | C22: reinigen | D22: 255
A23: zeepdispenser | B23: buitenzijde | C23: stof, vlek en vingertast verwijderen | D23: 255
A24: zeepdispenser | C24: bijvullen | D24: 255
A26: Maandelijks
A27: element | B27: onderdeel | C27: handeling | D27: freq
A28: afval-/prullenbak | B28: buitenzijde | C28: stof, vlek en vingertast verwijderen | D28: 12
A29: brandblusapparatuur | B29: geheel | C29: stof, vlek en vingertast verwijderen | D29: 12
A30: kapstok | B30: geheel | C30: stof, vlek en vingertast verwijderen | D30: 12
A31: kast hoog | B31: verticale zijden | C31: stof, vlek en vingertast verwijderen | D31: 12
A32: kast laag | B32: boven- en voorzijde | C32: stof, vlek en vingertast verwijderen | D32: 12
A33: lichtschakelaar/contact | B33: geheel | C33: stof, vlek en vingertast verwijderen | D33: 12
A34: plint/kabelgoot | B34: geheel | C34: stof, vlek en vingertast verwijderen | D34: 12
A35: rand en richel | B35: tot reikhoogte | C35: stof, vlek en vingertast verwijderen | D35: 12
A36: separatieglas | B36: tot reikhoogte | C36: vlekverwijderen | D36: 12
A37: stoel, bank of kruk | B37: geheel | C37: stof, vlek en vingertast verwijderen | D37: 12
A38: verwarmingselement | B38: boven- en voorzijde | C38: stof, vlek en vingertast verwijderen | D38: 12
A39: zuurkast | B39: buitenzijde | C39: stof, vlek en vingertast verwijderen | D39: 12
... A43: vloer hard | B43: geheel | C43: moppen | D43: 12
A45: Periodiek
A46: element | B46: onderdeel | C46: handeling | D46: freq
A47: afval-/prullenbak | B47: binnen- en buitenzijde | C47: reinigen | D47: 6
...

Sheet 3.1 laboratorium bijzonder
A1: opdrachtgever | B1: ='Basisgegevens Werkprogramma'!B1 -> KNAW, Hubrecht Instituut
A2: adres | B2: ='Basisgegevens Werkprogramma'!B2&" - "&'Basisgegevens Werkprogramma'!B3 -> Uppsalalaan 8 - Utrecht
A4: programmanummer | B4: 3.1
A5: categorie | B5: =VLOOKUP(B4,'Basisgegevens Werkprogramma'!$A$7:$C$31,2,FALSE) -> werkruimten
A6: omschrijving | B6: =VLOOKUP(B4,'Basisgegevens Werkprogramma'!A7:C31,3,FALSE) -> laboratorium bijzonder (ML1-ML2-BSL2-BSL3)
A7: frequentie | B7: 2 x per week op dinsdag en vrijdag
A8: bijzonderheden | B8: Zie bijgevoegd protocol. Op 1 dag wissen en vlekverwijderen, op de andere dag moppen in combinatie met overige werkzaamheden.
A10: Dagelijks
A11: element | B11: onderdeel | C11: handeling | D11: freq
A12: vloer hard | B12: geheel | C12: moppen met desinfectans | D12: 52
A13: vloer hard | B13: geheel | C13: wissen en vlekverwijderen | D13: 52
A14: handdoekautomaat | B14: buitenzijde | C14: stof, vlek en vingertast verwijderen | D14: 52
A15: wastafel | B15: geheel | C15: reinigen | D15: 52
A16: zeepdispenser | B16: buitenzijde | C16: stof, vlek en vingertast verwijderen | D16: 52
A17: zeepdispenser | C17: bijvullen | D17: 52
A19: Periodiek
A20: element | B20: onderdeel | C20: handeling | D20: freq
A21: vloer steen/pvc | B21: geheel | C21: schrobben | D21: 12
A22: vloer lino | B22: geheel | C22: sprayen | D22: 12

Sheet 3.2 laboratorium RA
A1: opdrachtgever | B1: ='Basisgegevens Werkprogramma'!B1 -> KNAW, Hubrecht Instituut
A2: adres | B2: ='Basisgegevens Werkprogramma'!B2&" - "&'Basisgegevens Werkprogramma'!B3 -> Uppsalalaan 8 - Utrecht
A4: programmanummer | B4: 3.2
A5: categorie | B5: =VLOOKUP(B4,'Basisgegevens Werkprogramma'!$A$7:$C$31,2,FALSE) -> werkruimten
A6: omschrijving | B6: =VLOOKUP(B4,'Basisgegevens Werkprogramma'!A7:C31,3,FALSE) -> laboratorium radioactiviteit
A7: frequentie | B7: =A12 -> Maandelijks
A8: bijzonderheden | B8: Uitvoering werkzaamheden alleen in overleg met stralingsdeskundige!
B9: Zie protocol RA-laboratorium.
B10: Ruimtenummers A1.33-A1.35-A1.39-A1.41-A1.43 plus gang
A12: Maandelijks
A13: element | B13: onderdeel | C13: handeling | D13: freq
A14: wastafel | B14: geheel | C14: reinigen | D14: 12
A15: zeepdispenser | B15: buitenzijde | C15: stof, vlek en vingertast verwijderen | D15: 12
A16: zeepdispenser | C16: bijvullen | D16: 12
A17: deur/-post | B17: geheel | C17: reinigen | D17: 12
A18: vloer hard | B18: geheel | C18: moppen | D18: 12
A19: vloer hard | B19: geheel | C19: wissen | D19: 12
A21: Periodiek
A22: element | B22: onderdeel | C22: handeling | D22: freq
A23: vloer steen/pvc | B23: geheel | C23: schrobben | D23: 6
A24: vloer lino | B24: geheel | C24: sprayen | D24: 6

Sheet 3.3 lyofielruimte
A1: opdrachtgever | B1: ='Basisgegevens Werkprogramma'!B1 -> KNAW, Hubrecht Instituut
A2: adres | B2: ='Basisgegevens Werkprogramma'!B2&" - "&'Basisgegevens Werkprogramma'!B3 -> Uppsalalaan 8 - Utrecht
A4: programmanummer | B4: 3.3
A5: categorie | B5: =VLOOKUP(B4,'Basisgegevens Werkprogramma'!$A$7:$C$31,2,FALSE) -> werkruimten
A6: omschrijving | B6: =VLOOKUP(B4,'Basisgegevens Werkprogramma'!A7:C31,3,FALSE) -> laboratorium lyofielruimte
A7: frequentie | B7: =A12 -> Dagelijks
A8: bijzonderheden | B8: Voorafgaand aan het moppen moet er gestofzuigd worden ivm mogelijke glasresten op de vloer
A10: ruimtenummers | B10: C0.40 en C.042
A12: Dagelijks
A13: element | B13: onderdeel | C13: handeling | D13: freq
A14: afval-/prullenbak | C14: ledigen en zonodig plastic zak vervangen | D14: 255
A15: afval-/prullenbak | B15: buitenzijde | C15: stof, vlek en vingertast verwijderen | D15: 255
A16: aanrecht-keukenblok | B16: boven- en verticale zijden | C16: stof, vlek en vingertast verwijderen | D16: 255
A17: alcoholdispenser | B17: buitenzijde | C17: nat reinigen | D17: 255
A18: alcoholdispenser | C18: bijvullen | D18: 255
A19: bureau/tafel | B19: boven- en voorzijde | C19: stof, vlek en vingertast verwijderen | D19: 255
A20: deur/-post | B20: geheel | C20: stof, vlek en vingertast verwijderen | D20: 255
A21: handdoekautomaat | B21: buitenzijde | C21: stof, vlek en vingertast verwijderen | D21: 255
A22: handdoekautomaat | C22: handdoek bijvullen/verwisselen | D22: 255
A23: kast hoog | B23: verticale zijden | C23: stof, vlek en vingertast verwijderen | D23: 255
A24: kast laag | B24: boven- en voorzijde | C24: stof, vlek en vingertast verwijderen | D24: 255
A25: telefoon | B25: geheel | C25: stof, vlek en vingertast verwijderen | D25: 255
A26: vloer lino/pvc/ steen vlak | B26: geheel | C26: wissen | D26: 152
A27: wand afwasbaar | B27: tot reikhoogte | C27: stof, vlek en vingertast verwijderen | D27: 255
A28: wastafel | B28: geheel | C28: nat reinigen | D28: 255
A29: zeepdispenser | B29: buitenzijde | C29: stof, vlek en vingertast verwijderen | D29: 255
A30: zeepdispenser | C30: bijvullen | D30: 255
A32: 2 x per week
A33: element | B33: onderdeel | C33: handeling | D33: freq
A34: vloer lino/pvc/steen vlak | B34: geheel | C34: stofzuigen | D34: 104
A35: vloer lino/pvc/steen vlak | B35: geheel | C35: moppen | D35: 104
A37: Wekelijks
A38: element | B38: onderdeel | C38: handeling | D38: freq
A39: lichtschakelaar/contact | B39: geheel | C39: stof, vlek en vingertast verwijderen | D39: 52
A40: plint/kabelgoot | B40: geheel | C40: stof, vlek en vingertast verwijderen | D40: 52
A41: rand en richel | B41: tot reikhoogte | C41: stof, vlek en vingertast verwijderen | D41: 52
A42: separatieglas | B42: tot reikhoogte | C42: stof, vlek en vingertast verwijderen | D42: 52
A43: vensterbank | B43: geheel | C43: stof, vlek en vingertast verwijderen | D43: 52
A44: verwarmingselement | B44: boven- en voorzijde | C44: stof, vlek en vingertast verwijderen | D44: 52
A47: Periodiek
...

Sheet 3.4 mediabereiding
A1: opdrachtgever | B1: ='Basisgegevens Werkprogramma'!B1 -> KNAW, Hubrecht Instituut
A2: adres | B2: ='Basisgegevens Werkprogramma'!B2&" - "&'Basisgegevens Werkprogramma'!B3 -> Uppsalalaan 8 - Utrecht
A4: programmanummer | B4: 3.4
A5: categorie | B5: =VLOOKUP(B4,'Basisgegevens Werkprogramma'!$A$7:$C$31,2,FALSE) -> werkruimten
A6: omschrijving | B6: =VLOOKUP(B4,'Basisgegevens Werkprogramma'!A7:C31,3,FALSE) -> mediabereiding
A7: frequentie | B7: =A12 -> Dagelijks
A8: bijzonderheden | B8: Voorafgaand aan het moppen moet er gestofzuigd worden ivm mogelijke glasresten op de vloer
A10: ruimtenummers | B10: C0.025-0.27-0.31-0.35-0.35a
A12: Dagelijks
A13: element | B13: onderdeel | C13: handeling | D13: freq
A14: afval-/prullenbak | C14: ledigen en zonodig plastic zak vervangen | D14: 255
A15: afval-/prullenbak | B15: buitenzijde | C15: stof, vlek en vingertast verwijderen | D15: 255
A16: aanrecht-keukenblok | B16: boven- en verticale zijden | C16: stof, vlek en vingertast verwijderen | D16: 255
A17: alcoholdispenser | B17: buitenzijde | C17: nat reinigen | D17: 255
A18: alcoholdispenser | C18: bijvullen | D18: 255
A19: bureau/tafel | B19: boven- en voorzijde | C19: stof, vlek en vingertast verwijderen | D19: 255
A20: deur/-post | B20: geheel | C20: stof, vlek en vingertast verwijderen | D20: 255
A21: handdoekautomaat | B21: buitenzijde | C21: stof, vlek en vingertast verwijderen | D21: 255
A22: handdoekautomaat | C22: handdoek bijvullen/verwisselen | D22: 255
A23: kast hoog | B23: verticale zijden | C23: stof, vlek en vingertast verwijderen | D23: 255
A24: kast laag | B24: boven- en voorzijde | C24: stof, vlek en vingertast verwijderen | D24: 255
A25: telefoon | B25: geheel | C25: stof, vlek en vingertast verwijderen | D25: 255
A26: vloer lino/pvc/ steen vlak | B26: geheel | C26: wissen | D26: 152
A27: wand afwasbaar | B27: tot reikhoogte | C27: stof, vlek en vingertast verwijderen | D27: 255
A28: wastafel | B28: geheel | C28: nat reinigen | D28: 255
A29: zeepdispenser | B29: buitenzijde | C29: stof, vlek en vingertast verwijderen | D29: 255
A30: zeepdispenser | C30: bijvullen | D30: 255
A32: 2 x per week
A33: element | B33: onderdeel | C33: handeling | D33: freq
A34: vloer lino/pvc/steen vlak | B34: geheel | C34: stofzuigen | D34: 104
A35: vloer lino/pvc/steen vlak | B35: geheel | C35: moppen | D35: 104
A37: Wekelijks
A38: element | B38: onderdeel | C38: handeling | D38: freq
A39: lichtschakelaar/contact | B39: geheel | C39: stof, vlek en vingertast verwijderen | D39: 52
A40: plint/kabelgoot | B40: geheel | C40: stof, vlek en vingertast verwijderen | D40: 52
A41: rand en richel | B41: tot reikhoogte | C41: stof, vlek en vingertast verwijderen | D41: 52
A42: separatieglas | B42: tot reikhoogte | C42: stof, vlek en vingertast verwijderen | D42: 52
A43: vensterbank | B43: geheel | C43: stof, vlek en vingertast verwijderen | D43: 52
A44: verwarmingselement | B44: boven- en voorzijde | C44: stof, vlek en vingertast verwijderen | D44: 52
A46: Periodiek
...

Sheet 4.0 toilet
A1: opdrachtgever | B1: ='Basisgegevens Werkprogramma'!B1 -> KNAW, Hubrecht Instituut
A2: adres | B2: ='Basisgegevens Werkprogramma'!B2&" - "&'Basisgegevens Werkprogramma'!B3 -> Uppsalalaan 8 - Utrecht
A4: programmanummer | B4: 4.0
A5: categorie | B5: =VLOOKUP(B4,'Basisgegevens Werkprogramma'!$A$7:$C$31,2,FALSE) -> sanitaire ruimten
A6: omschrijving | B6: =VLOOKUP(B4,'Basisgegevens Werkprogramma'!A7:C31,3,FALSE) -> toilet
A7: frequentie | B7: =A10 -> Dagelijks
A8: bijzonderheden
A10: Dagelijks
A11: element | B11: onderdeel | C11: handeling | D11: freq
A12: afval-/prullenbak | C12: ledigen en zonodig plastic zak vervangen | D12: 255
A13: afval-/prullenbak | B13: buitenzijde | C13: stof, vlek en vingertast verwijderen | D13: 255
A14: borstelhouder | B14: geheel | C14: nat reinigen | D14: 255
A15: deur/-post | B15: geheel | C15: stof, vlek en vingertast verwijderen | D15: 255
A16: doorspoelinstallatie | B16: geheel | C16: nat reinigen | D16: 255
A17: handdoekautomaat | B17: buitenzijde | C17: stof, vlek en vingertast verwijderen | D17: 255
A18: handdoekautomaat | C18: handdoek bijvullen/verwisselen | D18: 255
A19: lichtschakelaar/contact | B19: geheel | C19: stof, vlek en vingertast verwijderen | D19: 255
A20: leuning | B20: geheel | C20: stof, vlek en vingertast verwijderen | D20: 255
A21: planchet | B21: geheel | C21: nat reinigen | D21: 255
A22: schaam- of tussenschot | B22: geheel | C22: nat reinigen | D22: 255
A23: spiegel | B23: geheel | C23: stof, vlek en vingertast verwijderen | D23: 255
A24: toilet incl. toebehoren | B24: geheel | C24: nat reinigen | D24: 255
A25: toiletrolhouder | B25: buitenzijde | C25: stof, vlek en vingertast verwijderen | D25: 255
A26: toiletrolhouder | C26: bijvullen | D26: 255
A27: urinoir | B27: geheel | C27: nat reinigen | D27: 255
A28: vloer | B28: geheel | C28: moppen | D28: 255
A29: wand afwasbaar | B29: tot reikhoogte | C29: stof, vlek en vingertast verwijderen | D29: 255
A30: wastafel | B30: geheel | C30: nat reinigen | D30: 255
A31: zeepdispenser | B31: buitenzijde | C31: stof, vlek en vingertast verwijderen | D31: 255
A32: zeepdispenser | C32: bijvullen | D32: 255
A33: luchtverfrisser | C33: bijvullen | D33: 255
A34: maandverband zakje | C34: bijvullen | D34: 255
A35: prullenbak maandverband | C35: ledigen en zonodig plastic zak vervangen | D35: 255
A37: Wekelijks
A38: element | B38: onderdeel | C38: handeling | D38: freq
A39: rand en richel | B39: tot reikhoogte | C39: stof, vlek en vingertast verwijderen | D39: 52
A40: vensterbank | B40: geheel | C40: stof, vlek en vingertast verwijderen | D40: 52
A41: verlichtingsarmatuur | B41: tot reikhoogte | C41: stof, vlek en vingertast verwijderen | D41: 52
A42: verwarmingselement | B42: boven- en voorzijde | C42: stof, vlek en vingertast verwijderen | D42: 52
A43: toilet | C43: ontkalken | D43: 52
...

Sheet 4.1 douche
A1: opdrachtgever | B1: ='Basisgegevens Werkprogramma'!B1 -> KNAW, Hubrecht Instituut
A2: adres | B2: ='Basisgegevens Werkprogramma'!B2&" - "&'Basisgegevens Werkprogramma'!B3 -> Uppsalalaan 8 - Utrecht
A4: programmanummer | B4: 4.1
A5: categorie | B5: =VLOOKUP(B4,'Basisgegevens Werkprogramma'!$A$7:$C$31,2,FALSE) -> sanitaire ruimten
A6: omschrijving | B6: =VLOOKUP(B4,'Basisgegevens Werkprogramma'!A7:C31,3,FALSE) -> douche
A7: frequentie | B7: =A10 -> Dagelijks
A8: bijzonderheden
A10: Dagelijks
A11: element | B11: onderdeel | C11: handeling | D11: freq
A12: afval-/prullenbak | C12: ledigen en zonodig plastic zak vervangen | D12: 255
A13: afval-/prullenbak | B13: buitenzijde | C13: stof, vlek en vingertast verwijderen | D13: 255
A14: deur/-post | B14: geheel | C14: stof, vlek en vingertast verwijderen | D14: 255
A15: douche-installatie | B15: geheel | C15: nat reinigen | D15: 255
A16: handdoekautomaat | B16: buitenzijde | C16: stof, vlek en vingertast verwijderen | D16: 255
A17: handdoekautomaat | C17: handdoek bijvullen/verwisselen | D17: 255
A18: lichtschakelaar/contact | B18: geheel | C18: stof, vlek en vingertast verwijderen | D18: 255
A19: leuning | B19: geheel | C19: stof, vlek en vingertast verwijderen | D19: 255
A20: planchet | B20: geheel | C20: nat reinigen | D20: 255
A21: spiegel | B21: geheel | C21: stof, vlek en vingertast verwijderen | D21: 255
A22: stoel/kruk | B22: geheel | C22: nat reinigen | D22: 255
A23: vloer | B23: geheel | C23: moppen | D23: 255
A24: wand afwasbaar | B24: tot reikhoogte | C24: stof, vlek en vingertast verwijderen | D24: 255
A25: wastafel | B25: geheel | C25: nat reinigen | D25: 255
A26: zeepdispenser | B26: buitenzijde | C26: stof, vlek en vingertast verwijderen | D26: 255
A27: zeepdispenser | C27: bijvullen | D27: 255
A29: Wekelijks
A30: element | B30: onderdeel | C30: handeling | D30: freq
A31: gordijnrails | B31: geheel | C31: stof, vlek en vingertast verwijderen | D31: 52
A32: rand en richel | B32: tot reikhoogte | C32: stof, vlek en vingertast verwijderen | D32: 52
A33: vensterbank | B33: geheel | C33: stof, vlek en vingertast verwijderen | D33: 52
A34: verlichtingsarmatuur | B34: tot reikhoogte | C34: stof, vlek en vingertast verwijderen | D34: 52
A35: verwarmingselement | B35: boven- en voorzijde | C35: stof, vlek en vingertast verwijderen | D35: 52
A36: glazen douchewand | B36: geheel | C36: nat reinigen | D36: 52
A38: Periodiek
A39: element | B39: onderdeel | C39: handeling | D39: freq
A40: afval-/prullenbak | B40: binnen- en buitenzijde | C40: nat reinigen | D40: 6
A41: deur/-post | B41: geheel | C41: nat reinigen | D41: 6
A42: ventilatierooster | B42: geheel | C42: stofvrij maken | D42: 6
A43: verwarmingselement | B43: geheel | C43: nat reinigen | D43: 6
A44: vloer | B44: geheel | C44: schrobben | D44: 6
...

Sheet 4.2 toilet 2 x daags
A1: opdrachtgever | B1: ='Basisgegevens Werkprogramma'!B1 -> KNAW, Hubrecht Instituut
A2: adres | B2: ='Basisgegevens Werkprogramma'!B2&" - "&'Basisgegevens Werkprogramma'!B3 -> Uppsalalaan 8 - Utrecht
A4: programmanummer | B4: 4.2
A5: categorie | B5: =VLOOKUP(B4,'Basisgegevens Werkprogramma'!$A$7:$C$31,2,FALSE) -> sanitaire ruimten
A6: omschrijving | B6: =VLOOKUP(B4,'Basisgegevens Werkprogramma'!A7:C31,3,FALSE) -> toilet 2 x daags
A7: frequentie | B7: =A10 -> Dagelijks
A8: bijzonderheden | B8: van toepassing op toiletruimtes in kelder en begane grond Hubrecht (gebouw A en E)
A10: Dagelijks
A11: element | B11: onderdeel | C11: handeling | D11: freq
A12: afval-/prullenbak | C12: ledigen en zonodig plastic zak vervangen | D12: 510
A13: afval-/prullenbak | B13: buitenzijde | C13: stof, vlek en vingertast verwijderen | D13: 510
A14: borstelhouder | B14: geheel | C14: nat reinigen | D14: 255
A15: deur/-post | B15: geheel | C15: stof, vlek en vingertast verwijderen | D15: 510
A16: doorspoelinstallatie | B16: geheel | C16: nat reinigen | D16: 510
A17: handdoekautomaat | B17: buitenzijde | C17: stof, vlek en vingertast verwijderen | D17: 510
A18: handdoekautomaat | C18: handdoek bijvullen/verwisselen | D18: 510
A19: lichtschakelaar/contact | B19: geheel | C19: stof, vlek en vingertast verwijderen | D19: 255
A20: leuning | B20: geheel | C20: stof, vlek en vingertast verwijderen | D20: 510
A21: planchet | B21: geheel | C21: nat reinigen | D21: 255
A22: schaam- of tussenschot | B22: geheel | C22: nat reinigen | D22: 510
A23: spiegel | B23: geheel | C23: stof, vlek en vingertast verwijderen | D23: 510
A24: toilet incl. toebehoren | B24: geheel | C24: nat reinigen | D24: 510
A25: toiletrolhouder | B25: buitenzijde | C25: stof, vlek en vingertast verwijderen | D25: 510
A26: toiletrolhouder | C26: bijvullen | D26: 510
A27: urinoir | B27: geheel | C27: nat reinigen | D27: 510
A28: vloer | B28: geheel | C28: moppen | D28: 510
A29: wand afwasbaar | B29: tot reikhoogte | C29: stof, vlek en vingertast verwijderen | D29: 255
A30: wastafel | B30: geheel | C30: nat reinigen | D30: 510
A31: zeepdispenser | B31: buitenzijde | C31: stof, vlek en vingertast verwijderen | D31: 510
A32: zeepdispenser | C32: bijvullen | D32: 510
A33: luchtverfrisser | C33: bijvullen | D33: 255
A34: maandverband zakjes | C34: bijvullen | D34: 255
A35: prullenbak maandverband | C35: ledigen en zonodig plastic zak vervangen | D35: 255
A37: Wekelijks
A38: element | B38: onderdeel | C38: handeling | D38: freq
A39: rand en richel | B39: tot reikhoogte | C39: stof, vlek en vingertast verwijderen | D39: 52
A40: vensterbank | B40: geheel | C40: stof, vlek en vingertast verwijderen | D40: 52
A41: verlichtingsarmatuur | B41: tot reikhoogte | C41: stof, vlek en vingertast verwijderen | D41: 52
A42: verwarmingselement | B42: boven- en voorzijde | C42: stof, vlek en vingertast verwijderen | D42: 52
A43: toilet | C43: ontkalken | D43: 52
...

Sheet 5.0 restaurant
A1: opdrachtgever | B1: ='Basisgegevens Werkprogramma'!B1 -> KNAW, Hubrecht Instituut
A2: adres | B2: ='Basisgegevens Werkprogramma'!B2&" - "&'Basisgegevens Werkprogramma'!B3 -> Uppsalalaan 8 - Utrecht
A4: programmanummer | B4: 5.0
A5: categorie | B5: =VLOOKUP(B4,'Basisgegevens Werkprogramma'!$A$7:$C$31,2,FALSE) -> restauratieve ruimten
A6: omschrijving | B6: =VLOOKUP(B4,'Basisgegevens Werkprogramma'!A7:C31,3,FALSE) -> restaurant
A7: frequentie | B7: =A10 -> Dagelijks
A8: bijzonderheden
A10: Dagelijks
A11: element | B11: onderdeel | C11: handeling | D11: freq
A12: afval-/prullenbak | C12: ledigen en zonodig plastic zak vervangen | D12: 255
A13: bijzettafel | B13: bovenzijde | C13: stof, vlek en vingertast verwijderen | D13: 255
A14: stoel, bank of kruk | B14: geheel | C14: stof, vlek en vingertast verwijderen | D14: 255
A15: tafel | B15: bovenzijde | C15: stof, vlek en vingertast verwijderen | D15: 255
A16: deur/-post | B16: geheel | C16: stof, vlek en vingertast verwijderen | D16: 255
A17: kast laag | B17: bovenzijde | C17: stof, vlek en vingertast verwijderen | D17: 255
A18: telefoon | B18: geheel | C18: stof, vlek en vingertast verwijderen | D18: 255
A19: vloer lino/pvc/steen vlak | B19: geheel | C19: wissen en vlekverwijderen | D19: 255
A20: vloer lino/pvc/steen vlak | B20: plaatselijk | C20: moppen | D20: 204
A21: vloer hout | B21: geheel | C21: wissen en vlekverwijderen | D21: 255
A23: Wekelijks
A24: element | B24: onderdeel | C24: handeling | D24: freq
A25: armatuur/bureaulamp | B25: tot reikhoogte | C25: stof, vlek en vingertast verwijderen | D25: 52
A26: brandblusapparatuur | B26: geheel | C26: stof, vlek en vingertast verwijderen | D26: 52
A27: kapstok | B27: geheel | C27: stof, vlek en vingertast verwijderen | D27: 52
A28: lichtschakelaar/contact | B28: geheel | C28: stof, vlek en vingertast verwijderen | D28: 52
A29: plint/kabelgoot | B29: geheel | C29: stof, vlek en vingertast verwijderen | D29: 52
A30: rand en richel | B30: tot reikhoogte | C30: stof, vlek en vingertast verwijderen | D30: 52
A31: separatieglas | B31: tot reikhoogte | C31: stof, vlek en vingertast verwijderen | D31: 52
A32: vensterbank | B32: geheel | C32: stof, vlek en vingertast verwijderen | D32: 52
A33: verwarmingselement | B33: boven- en voorzijde | C33: stof, vlek en vingertast verwijderen | D33: 52
A34: vloer lino/pvc/steen vlak | B34: geheel | C34: moppen | D34: 52
A35: vloer hout | B35: geheel | C35: moppen | D35: 52
A36: projectiewand | B36: geheel | C36: reinigen | D36: 52
A38: Maandelijks
A39: element | B39: onderdeel | C39: handeling | D39: freq
A40: afval-/prullenbak | B40: buitenzijde | C40: stof, vlek en vingertast verwijderen | D40: 12
A41: deur/-post | B41: geheel | C41: nat reinigen | D41: 12
A42: kast hoog | B42: bovenzijde | C42: stof, vlek en vingertast verwijderen | D42: 12
A43: stoel, bank of kruk | B43: geheel | C43: nat reinigen/stofzuigen | D43: 12
A44: ventilatierooster | B44: buitenzijde | C44: stof vrij maken | D44: 12
...

Sheet 5.1 pantry en coffeecorner
A1: opdrachtgever | B1: ='Basisgegevens Werkprogramma'!B1 -> KNAW, Hubrecht Instituut
A2: adres | B2: ='Basisgegevens Werkprogramma'!B2&" - "&'Basisgegevens Werkprogramma'!B3 -> Uppsalalaan 8 - Utrecht
A4: programmanummer | B4: 5.1
A5: categorie | B5: =VLOOKUP(B4,'Basisgegevens Werkprogramma'!$A$7:$C$31,2,FALSE) -> restauratieve ruimten
A6: omschrijving | B6: =VLOOKUP(B4,'Basisgegevens Werkprogramma'!A7:C31,3,FALSE) -> pantry en koffiecorner
A7: frequentie | B7: =A10 -> Dagelijks
A8: bijzonderheden
A10: Dagelijks
A11: element | B11: onderdeel | C11: handeling | D11: freq
A12: afval-/prullenbak | C12: ledigen en zonodig plastic zak vervangen | D12: 255
A13: afval-/prullenbak | B13: buitenzijde | C13: stof, vlek en vingertast verwijderen | D13: 255
A14: aanrecht-keukenblok | B14: boven- en verticale zijden | C14: stof, vlek en vingertast verwijderen | D14: 255
A15: bijzettafel | B15: bovenzijde | C15: stof, vlek en vingertast verwijderen | D15: 255
A16: deur/-post | B16: geheel | C16: stof, vlek en vingertast verwijderen | D16: 255
A17: kast hoog | B17: verticale zijden | C17: stof, vlek en vingertast verwijderen | D17: 255
A18: kast laag | B18: boven- en voorzijde | C18: stof, vlek en vingertast verwijderen | D18: 255
A19: vloer lino/pvc/steen vlak | B19: geheel | C19: wissen | D19: 255
A20: vloer lino/pvc/steen vlak | B20: geheel | C20: moppen | D20: 255
A21: wand afwasbaar | B21: tot reikhoogte | C21: stof, vlek en vingertast verwijderen | D21: 255
A23: Wekelijks
A24: element | B24: onderdeel | C24: handeling | D24: freq
A25: brandblusapparatuur | B25: geheel | C25: stof, vlek en vingertast verwijderen | D25: 52
A26: lichtschakelaar/contact | B26: geheel | C26: stof, vlek en vingertast verwijderen | D26: 52
A27: plint/kabelgoot | B27: geheel | C27: stof, vlek en vingertast verwijderen | D27: 52
A28: rand en richel | B28: tot reikhoogte | C28: stof, vlek en vingertast verwijderen | D28: 52
A29: separatieglas | B29: tot reikhoogte | C29: stof, vlek en vingertast verwijderen | D29: 52
A30: stoel, bank of kruk | B30: geheel | C30: stof, vlek en vingertast verwijderen | D30: 52
A31: vensterbank | B31: geheel | C31: stof, vlek en vingertast verwijderen | D31: 52
A32: verlichtingsarmatuur | B32: tot reikhoogte | C32: stof, vlek en vingertast verwijderen | D32: 52
A33: verwarmingselement | B33: boven- en voorzijde | C33: stof, vlek en vingertast verwijderen | D33: 52
A35: Maandelijks
A36: element | B36: onderdeel | C36: handeling | D36: freq
A37: aanrecht-keukenblok | B37: buitenzijde | C37: nat reinigen | D37: 12
A38: deur/-post | B38: geheel | C38: nat reinigen | D38: 12
A39: kast hoog | B39: bovenzijde | C39: stof, vlek en vingertast verwijderen | D39: 12
A40: stoel, bank of kruk | B40: geheel | C40: nat reinigen/stofzuigen | D40: 12
A41: ventilatierooster | B41: geheel | C41: stof vrij maken | D41: 12
A42: vloer lino | B42: geheel | C42: sprayen | D42: 12
A43: vloer steen/pvc | B43: geheel | C43: schrobben | D43: 12
A44: wand afwasbaar | B44: geheel | C44: nat reinigen | D44: 12
...

Sheet 6.0 EHBO ruimte
A1: opdrachtgever | B1: ='Basisgegevens Werkprogramma'!B1 -> KNAW, Hubrecht Instituut
A2: adres | B2: ='Basisgegevens Werkprogramma'!B2&" - "&'Basisgegevens Werkprogramma'!B3 -> Uppsalalaan 8 - Utrecht
A4: programmanummer | B4: 6.0
A5: categorie | B5: =VLOOKUP(B4,'Basisgegevens Werkprogramma'!$A$7:$C$31,2,FALSE) -> behandelruimten
A6: omschrijving | B6: =VLOOKUP(B4,'Basisgegevens Werkprogramma'!A7:C31,3,FALSE) -> EHBO ruimte
A7: frequentie | B7: =A10 -> Wekelijks
A8: bijzonderheden
A10: Wekelijks
A11: element | B11: onderdeel | C11: handeling | D11: freq
A12: aanrecht-keukenblok | B12: boven- en verticale zijden | C12: stof, vlek en vingertast verwijderen | D12: 40
A13: afval-/prullenbak | C13: ledigen en zonodig plastic zak vervangen | D13: 52
A14: afval-/prullenbak | B14: buitenzijde | C14: stof, vlek en vingertast verwijderen | D14: 52
A15: behandelbed | B15: geheel | C15: stof, vlek en vingertast verwijderen | D15: 40
A16: deur/-post | B16: geheel | C16: stof, vlek en vingertast verwijderen | D16: 40
A17: handdoekautomaat | B17: buitenzijde | C17: stof, vlek en vingertast verwijderen | D17: 52
A18: handdoekautomaat | C18: handdoek bijvullen/verwisselen | D18: 52
A19: spiegel | B19: geheel | C19: stof, vlek en vingertast verwijderen | D19: 52
A20: tafel/bijzettafel | B20: bovenzijde | C20: stof, vlek en vingertast verwijderen | D20: 52
A21: telefoon | B21: geheel | C21: stof, vlek en vingertast verwijderen | D21: 52
A22: vensterbank | B22: geheel | C22: stof, vlek en vingertast verwijderen | D22: 52
A23: vloer lino/pvc/steen | B23: geheel | C23: wissen en vlekverwijderen | D23: 52
A24: wand afwasbaar | B24: tot reikhoogte | C24: stof, vlek en vingertast verwijderen | D24: 52
A25: wastafel | B25: geheel | C25: nat reinigen | D25: 52
A26: zeepdispenser | B26: buitenzijde | C26: stof, vlek en vingertast verwijderen | D26: 52
A27: zeepdispenser | C27: bijvullen | D27: 52
A28: kast hoog | B28: verticale zijden | C28: stof, vlek en vingertast verwijderen | D28: 52
A29: kast laag | B29: boven- en voorzijde | C29: stof, vlek en vingertast verwijderen | D29: 52
A30: lichtschakelaar/contact | B30: geheel | C30: stof, vlek en vingertast verwijderen | D30: 52
A31: plint/kabelgoot | B31: geheel | C31: stof, vlek en vingertast verwijderen | D31: 52
A32: rand en richel | B32: tot reikhoogte | C32: stof, vlek en vingertast verwijderen | D32: 52
A33: separatieglas | B33: tot reikhoogte | C33: stof, vlek en vingertast verwijderen | D33: 52
A34: stoel, bank of kruk | B34: geheel | C34: stof, vlek en vingertast verwijderen | D34: 40
A35: verlichtingsarmatuur | B35: tot reikhoogte | C35: stof, vlek en vingertast verwijderen | D35: 52
A36: verwarmingselement | B36: boven- en voorzijde | C36: stof, vlek en vingertast verwijderen | D36: 52
A37: vloer lino/pvc/steen | B37: geheel | C37: moppen | D37: 52
A39: Maandelijks
A40: element | B40: onderdeel | C40: handeling | D40: freq
A41: aanrecht-keukenblok | B41: buitenzijde | C41: nat reinigen | D41: 12
A42: behandelbed | B42: geheel | C42: nat reinigen | D42: 12
A43: deur/-post | B43: geheel | C43: nat reinigen | D43: 12
...

Sheet 7.0 dierengebied-knaagdieren
A1: opdrachtgever | B1: ='Basisgegevens Werkprogramma'!B1 -> KNAW, Hubrecht Instituut
A2: adres | B2: ='Basisgegevens Werkprogramma'!B2&" - "&'Basisgegevens Werkprogramma'!B3 -> Uppsalalaan 8 - Utrecht
A4: programmanummer | B4: 7.0
A5: categorie | B5: =VLOOKUP(B4,'Basisgegevens Werkprogramma'!$A$7:$C$31,2,FALSE) -> dierengebied
A6: omschrijving | B6: =VLOOKUP(B4,'Basisgegevens Werkprogramma'!A7:C31,3,FALSE) -> knaagdieren
A7: frequentie | B7: =A12 -> Dagelijks
A8: bijzonderheden | B8: Zie protocol dierengebied.
B9: Separate werkwagen met materialen en middelen. Deze mag het dierengebied NIET verlaten.
B10: De specifiek aangegeven reinigingsmiddelen worden vanuit het Hubrecht Instituut aangeleverd.
A12: Dagelijks
A13: ruimten | B13: element | C13: onderdeel | D13: handeling | E13: te gebruiken middelen | F13: freq
A14: laboratorium, sluis | B14: wastafel | C14: geheel | D14: reinigen | E14: shureclean | F14: 255
A15: sluis | B15: vensterbank | C15: geheel | D15: stof, vlek en vingertast verwijderen | E15: speciale doekjes | F15: 255
A16: alle (buitenzijde - gangzijde dierenstal) | B16: deurklink | C16: geheel | D16: reinigen en desinfecteren | E16: alcohol | F16: 255
A17: alle (buitenzijde - gangzijde dierenstal) | B17: deur/-post | C17: geheel | D17: reinigen | F17: 255
A19: 2 x per week
A20: ruimten | B20: element | C20: onderdeel | D20: handeling | E20: te gebruiken middelen | F20: freq
A21: personensluis | B21: schoenrek | C21: geheel | D21: reinigen | F21: 104
A22: personensluis | B22: kapstok | C22: geheel | D22: reinigen | F22: 104
A24: Wekelijks
A25: ruimten | B25: element | C25: onderdeel | D25: handeling | E25: te gebruiken middelen | F25: freq
A26: alle verkeersruimten | B26: putjes | C26: geheel | D26: reinigen en desinfecteren | E26: Virkon S, 1% oplossing | F26: 255
A27: alle verkeersruimten en labruimten | B27: harde vloeren | C27: geheel | D27: stofzuigen | F27: 52
A28: alle verkeersruimten en labruimten | B28: harde vloeren | C28: geheel | D28: moppen en desinfecteren | E28: Virkon S, 1% oplossing | F28: 104
A29: laboratorium, sluis en gang | B29: verwarmingselement | C29: boven-, voor- en achterzijde | D29: stof, vlek en vingertast verwijderen | F29: 52
A30: laboratorium | B30: vensterbank | C30: geheel | D30: stof, vlek en vingertast verwijderen | E30: speciale doekjes | F30: 52
A31: B.043 - B0.66 rackwasher/dumpstation | B31: harde vloeren | C31: geheel | D31: reinigen en desinfecteren | E31: Virkon S, 1% oplossing | F31: 104
A33: Maandelijks
A34: ruimten | B34: element | C34: onderdeel | D34: handeling | E34: te gebruiken middelen | F34: freq
A35: alle m.u.v. dierkamer | B35: ventilatieroosters | C35: geheel | D35: stofvrij maken (ragen) | F35: 24
A36: gangen | B36: kasten hoog | C36: geheel | D36: stof, vlek en vingertast verwijderen | E36: speciale doekjes | F36: 24
A37: gangen | B37: brandblusapparatuur | C37: geheel | D37: stof, vlek en vingertast verwijderen | F37: 24
A39: Periodiek
A40: ruimten | B40: element | C40: onderdeel | D40: handeling | E40: te gebruiken middelen | F40: freq
A41: alle m.u.v. dierkamer | B41: muren | C41: geheel | D41: stofvrij maken (ragen) | F41: 4
A42: alle m.u.v. dierkamer | B42: plafonds | C42: geheel | D42: stofvrij maken (ragen) | F42: 4
A43: gangen | B43: RVS stootplaten | C43: geheel | D43: reinigen | E43: RVS reiniger | F43: 4
A44: vloer pvc/lino | B44: harde vloer | C44: geheel | D44: sprayen | F44: 2

Sheet 7.1 dierengebied-wasstraat
A1: opdrachtgever | B1: ='Basisgegevens Werkprogramma'!B1 -> KNAW, Hubrecht Instituut
A2: adres | B2: ='Basisgegevens Werkprogramma'!B2&" - "&'Basisgegevens Werkprogramma'!B3 -> Uppsalalaan 8 - Utrecht
A4: programmanummer | B4: 7.1
A5: categorie | B5: =VLOOKUP(B4,'Basisgegevens Werkprogramma'!$A$7:$C$31,2,FALSE) -> dierengebied
A6: omschrijving | B6: =VLOOKUP(B4,'Basisgegevens Werkprogramma'!A7:C31,3,FALSE) -> wasstraat
A7: frequentie | B7: =A12 -> Wekelijks
A8: bijzonderheden | B8: Zie protocol dierengebied.
B9: Separate werkwagen met materialen en middelen. Deze mag het dierengebied NIET verlaten.
B10: De specifiek aangegeven reinigingsmiddelen worden vanuit het Hubrecht Instituut aangeleverd.
A12: Wekelijks
A13: ruimten | B13: element | C13: onderdeel | D13: handeling | E13: te gebruiken middelen | F13: freq
A14: alle verkeersruimten | B14: putjes | C14: geheel | D14: reinigen en desinfecteren | E14: Virkon S, 1% oplossing | F14: 52
A15: verkeersruimten B0.41-B0.40-B0.03-B0.01 | B15: harde vloeren | C15: geheel | D15: moppen en desinfecteren | E15: Virkon S, 1% oplossing | F15: 52
A17: Periodiek
A18: ruimten | B18: element | C18: onderdeel | D18: handeling | E18: te gebruiken middelen | F18: freq
A19: servicegebied B0.04 | B19: flessenapparaat | C19: plaatwerk geheel | D19: reinigen en ontkalken | E19: shureclean | F19: 4
A20: servicegebied dierenzijde B0.43 | B20: rackwasher | C20: plaatwerk geheel | D20: reinigen | E20: RVS reiniger | F20: 4
A21: alle m.u.v. dierkamer | B21: muren | C21: geheel | D21: stofvrij maken (ragen) | F21: 4
A22: alle m.u.v. dierkamer | B22: plafonds | C22: geheel | D22: stofvrij maken (ragen) | F22: 4

Sheet 7.2 dierengebied-toilet
A1: opdrachtgever | B1: ='Basisgegevens Werkprogramma'!B1 -> KNAW, Hubrecht Instituut
A2: adres | B2: ='Basisgegevens Werkprogramma'!B2&" - "&'Basisgegevens Werkprogramma'!B3 -> Uppsalalaan 8 - Utrecht
A4: programmanummer | B4: 7.2
A5: categorie | B5: =VLOOKUP(B4,'Basisgegevens Werkprogramma'!$A$7:$C$31,2,FALSE) -> dierengebied
A6: omschrijving | B6: =VLOOKUP(B4,'Basisgegevens Werkprogramma'!A7:C31,3,FALSE) -> toilet
A7: frequentie | B7: =A13 -> Dagelijks
A8: bijzonderheden | B8: Zie protocol dierengebied.
B9: Separate werkwagen met materialen en middelen. Deze mag het dierengebied NIET verlaten.
B10: Gebruik maken van Shureclean reinigingsmiddel - aan te leveren vanuit het Hubrecht Instituut.
B11: Schrobben niet machinaal
A13: Dagelijks
A14: element | B14: onderdeel | C14: handeling | D14: freq
A15: afval-/prullenbak | C15: ledigen en zonodig plastic zak vervangen | D15: 255
A16: afval-/prullenbak | B16: buitenzijde | C16: stof, vlek en vingertast verwijderen | D16: 255
A17: borstelhouder | B17: geheel | C17: nat reinigen | D17: 255
A18: deur/-post | B18: geheel | C18: stof, vlek en vingertast verwijderen | D18: 255
A19: doorspoelinstallatie | B19: geheel | C19: nat reinigen | D19: 255
A20: handdoekautomaat | B20: buitenzijde | C20: stof, vlek en vingertast verwijderen | D20: 255
A21: handdoekautomaat | C21: handdoek bijvullen/verwisselen | D21: 255
A22: lichtschakelaar/contact | B22: geheel | C22: stof, vlek en vingertast verwijderen | D22: 255
A23: leuning | B23: geheel | C23: stof, vlek en vingertast verwijderen | D23: 255
A24: planchet | B24: geheel | C24: nat reinigen | D24: 255
A25: schaam- of tussenschot | B25: geheel | C25: nat reinigen | D25: 255
A26: spiegel | B26: geheel | C26: stof, vlek en vingertast verwijderen | D26: 255
A27: toilet incl. toebehoren | B27: geheel | C27: nat reinigen | D27: 255
