Workbook

Sheet Inschrijfprijs
B1: Bijlage 08 - Prijzenblad Cliëntvolgsysteem AGZ
B3: Inschrijfprijs | C3: ='TCO per jaar'!O13 -> 0
B5: Plafondbedrag | C5: =C11+C12+C13+C14+C15+C16+C17+C18+'Overige kosten'!Q11 -> 0 | D5: Let op: Het plafondbedrag mag niet hoger zijn dan € 700.000
B7: U mag geen wijzigingen aanbrengen aan dit blad.
B8: Vul de geelgekleurde velden in op de overige sheets
B10: Opbouw
B11: ='TCO per jaar'!C4 -> Licenties / gebruiksrecht Ssteem | C11: ='TCO per jaar'!O4 -> 0
B12: ='TCO per jaar'!C5 -> Procesanalyse (eenmalig) | C12: ='TCO per jaar'!O5 -> 0
B13: ='TCO per jaar'!C6 -> Implementatie- en configuratie (eenmalig) | C13: ='TCO per jaar'!O6 -> 0
B14: ='TCO per jaar'!C7 -> Migratie (eenmalig) | C14: ='TCO per jaar'!O7 -> 0
B15: ='TCO per jaar'!C8 -> Kosten voor helpdesk en ondersteuning | C15: ='TCO per jaar'!O8 -> 0
B16: ='TCO per jaar'!C9 -> Onderhouds- en doorontwikkelingskosten | C16: ='TCO per jaar'!O9 -> 0
B17: ='TCO per jaar'!C10 -> Hosting | C17: ='TCO per jaar'!O10 -> 0
B18: ='TCO per jaar'!C11 -> Opleidingskosten (eenmalig) | C18: ='TCO per jaar'!O11 -> 0
B19: ='TCO per jaar'!C12 -> Overige kosten (nader specificeren op laatste sheet) | C19: ='TCO per jaar'!O12 -> 0
B21: Bij het invullen van het prijzenblad gelden de volgende uitgangspunten: * De prijzen (uitgedrukt in Euro's) zijn all-in en exclusief BTW. * U dient de opmaak van dit prijzenblad (dit bestand) intact te laten. Wanneer de opmaak van het document gewijzigd wordt, kan uw inschrijving niet worden meegenomen en wordt uw inschrijving terzijde gelegd. * De specificaties zijn uitgewerkt in de onderliggende tabbladen. * U kunt geen andere kosten dan de genoemde kosten in rekening brengen. * Indien door aanpassingen van Inschrijver kosten wel gespecificeerd zijn, maar uit de berekening van de Inschrijfprijs gevallen zijn dan kan Inschrijver deze kosten niet in rekening brengen.

Sheet TCO per jaar
B2: Totaalkosten per jaar
B3: Nr | C3: Prijs elementen | D3: Kosten jaar 1 | E3: Kosten jaar 2 | F3: Kosten jaar 3 | G3: TCO eerste drie jaar | H3: Kosten jaar 4 | I3: Kosten jaar 5 | J3: Kosten jaar 6 | K3: Kosten jaar 7 | L3: Kosten jaar 8 | M3: Kosten jaar 9 | N3: Kosten jaar 10 | O3: TCO contract
B4: 1 | C4: Licenties / gebruiksrecht Ssteem | D4: 0 | E4: 0 | F4: 0 | G4: =SUM(D4:F4) -> 0 | H4: 0 | I4: 0 | J4: 0 | K4: 0 | L4: 0 | M4: 0 | N4: 0 | O4: =SUM(G4:N4) -> 0
B5: 2 | C5: Procesanalyse (eenmalig) | D5: 0 | G5: =D5 -> 0 | O5: =G5 -> 0
B6: 3 | C6: Implementatie- en configuratie (eenmalig) | D6: 0 | G6: =D6 -> 0 | O6: =G6 -> 0
B7: 4 | C7: Migratie (eenmalig) | D7: 0 | G7: =D7 -> 0 | O7: =G7 -> 0
B8: 5 | C8: Kosten voor helpdesk en ondersteuning | D8: 0 | E8: 0 | F8: 0 | G8: =SUM(D8:F8) -> 0 | H8: 0 | I8: 0 | J8: 0 | K8: 0 | L8: 0 | M8: 0 | N8: 0 | O8: =SUM(G8:N8) -> 0
B9: 6 | C9: Onderhouds- en doorontwikkelingskosten | D9: 0 | E9: 0 | F9: 0 | G9: =SUM(D9:F9) -> 0 | H9: 0 | I9: 0 | J9: 0 | K9: 0 | L9: 0 | M9: 0 | N9: 0 | O9: =SUM(G9:N9) -> 0
B10: 7 | C10: Hosting | D10: 0 | E10: 0 | F10: 0 | G10: =SUM(D10:F10) -> 0 | H10: 0 | I10: 0 | J10: 0 | K10: 0 | L10: 0 | M10: 0 | N10: 0 | O10: =SUM(G10:N10) -> 0
B11: 8 | C11: Opleidingskosten (eenmalig) | D11: 0 | G11: =D11 -> 0 | O11: =G11 -> 0
B12: 9 | C12: Overige kosten (nader specificeren op laatste sheet) | D12: ='Overige kosten'!E11 -> 0 | E12: ='Overige kosten'!F11 -> 0 | F12: ='Overige kosten'!G11 -> 0 | G12: ='Overige kosten'!H11 -> 0 | H12: ='Overige kosten'!I11 -> 0 | I12: ='Overige kosten'!J11 -> 0 | J12: ='Overige kosten'!K11 -> 0 | K12: ='Overige kosten'!L11 -> 0 | ... N12: ='Overige kosten'!O11 -> 0 | O12: =SUM(G12:N12) -> 0
C13: Totale kosten | D13: =SUM(D4:D12) -> 0 | E13: =SUM(E4:E12) -> 0 | F13: =SUM(F4:F12) -> 0 | G13: =SUM(G4:G12) -> 0 | H13: =SUM(H4:H12) -> 0 | I13: =SUM(I4:I12) -> 0 | J13: =SUM(J4:J12) -> 0 | K13: =SUM(K4:K12) -> 0 | ... O13: =SUM(O4:O12) -> 0
B16: * U vult alleen de geelgekleurde velden in. * De lichtblauwe cellen komen uit de sheet 'Overige kosten' en worden hier dus niet ingevuld. * Prijzen en tarieven zijn all-in en exclusief BTW. * U kunt geen andere kosten dan de genoemde kosten in rekening brengen. * Bij Opleidingskosten vult u enkel de opleidingskosten van alle gebruikers tijdens de implementatie/productiename in. Opleidingen voor nieuwe medewerkers na acceptatie in productie vinden plaats volgens de kosten zoals gespecificeerd op tabblad Trainingen.

Sheet Overige kosten
B2: Nader specificatie overige kosten
B3: Nr | C3: Omschrijving overige kosten | D3: Type kosten (Eis of Wens) | E3: Kosten jaar 1 | F3: Kosten jaar 2 | G3: Kosten jaar 3 | H3: TCO eerste drie jaar | I3: Kosten jaar 4 | J3: Kosten jaar 5 | K3: Kosten jaar 6 | L3: Kosten jaar 7 | M3: Kosten jaar 8 | N3: Kosten jaar 9 | O3: Kosten jaar 10 | P3: TCO contract | Q3: TCO eisen
B4: O-1 | E4: 0 | F4: 0 | G4: 0 | H4: =SUM(E4:G4) -> 0 | I4: 0 | J4: 0 | K4: 0 | L4: 0 | M4: 0 | N4: 0 | O4: 0 | P4: =SUM(H4:O4) -> 0 | Q4: =IF(D4="E",P4,0) -> 0
B5: O-2 | E5: 0 | F5: 0 | G5: 0 | H5: =SUM(E5:G5) -> 0 | I5: 0 | J5: 0 | K5: 0 | L5: 0 | M5: 0 | N5: 0 | O5: 0 | P5: =SUM(H5:O5) -> 0 | Q5: =IF(D5="E",P5,0) -> 0
B6: O-3 | E6: 0 | F6: 0 | G6: 0 | H6: =SUM(E6:G6) -> 0 | I6: 0 | J6: 0 | K6: 0 | L6: 0 | M6: 0 | N6: 0 | O6: 0 | P6: =SUM(H6:O6) -> 0 | Q6: =IF(D6="E",P6,0) -> 0
B7: O-4 | E7: 0 | F7: 0 | G7: 0 | H7: =SUM(E7:G7) -> 0 | I7: 0 | J7: 0 | K7: 0 | L7: 0 | M7: 0 | N7: 0 | O7: 0 | P7: =SUM(H7:O7) -> 0 | Q7: =IF(D7="E",P7,0) -> 0
B8: O-5 | E8: 0 | F8: 0 | G8: 0 | H8: =SUM(E8:G8) -> 0 | I8: 0 | J8: 0 | K8: 0 | L8: 0 | M8: 0 | N8: 0 | O8: 0 | P8: =SUM(H8:O8) -> 0 | Q8: =IF(D8="E",P8,0) -> 0
B9: O-6 | E9: 0 | F9: 0 | G9: 0 | H9: =SUM(E9:G9) -> 0 | I9: 0 | J9: 0 | K9: 0 | L9: 0 | M9: 0 | N9: 0 | O9: 0 | P9: =SUM(H9:O9) -> 0 | Q9: =IF(D9="E",P9,0) -> 0
B10: O-7 | E10: 0 | F10: 0 | G10: 0 | H10: =SUM(E10:G10) -> 0 | I10: 0 | J10: 0 | K10: 0 | L10: 0 | M10: 0 | N10: 0 | O10: 0 | P10: =SUM(H10:O10) -> 0 | Q10: =IF(D10="E",P10,0) -> 0
C11: Totale kosten | E11: =SUM(E4:OFFSET(E11,-1,,)) -> 0 | F11: =SUM(F4:OFFSET(F11,-1,,)) -> 0 | G11: =SUM(G4:OFFSET(G11,-1,,)) -> 0 | H11: =SUM(H4:OFFSET(H11,-1,,)) -> 0 | I11: =SUM(I4:OFFSET(I11,-1,,)) -> 0 | J11: =SUM(J4:OFFSET(J11,-1,,)) -> 0 | K11: =SUM(K4:OFFSET(K11,-1,,)) -> 0 | L11: =SUM(L4:OFFSET(L11,-1,,)) -> 0 | ... Q11: =SUM(Q4:OFFSET(Q11,-1,,)) -> 0
B14: Leganda type kosten
B15: E | C15: Deze kosten zijn voor het invullen van een Eis (en tellen wel mee voor het plafondbedrag)
B16: W | C16: Deze kosten zijn voor het invullen van een Wens (en tellen niet mee voor het plafondbedrag)
B18: * U vult alleen de geelgearceerde velden in. * U kunt extra geel gearceerde rijen toevoegen indien nodig maar geen andere aanpassingen maken. Bij het toevoegen van rijen moet de nummering doorgevoerd worden. Controleer dat de formules correct blijven werken. * Prijzen en tarieven zijn all-in en exclusief BTW. * U kunt geen andere kosten dan de genoemde kosten in rekening brengen.

Sheet Opbouw structurele kosten
B2: Opbouw structurele kosten
B3: * Vul in dit tabblad in hoe de kostenopbouw van uw Systeem in elkaar zit. Zodat de VGGM inzicht heeft in de kosten van groei/krimp. Wees hierin zo compleet mogelijk zodat ook sterke groei/krimp inzichtelijk is. Bijvoorbeeld hoe de staffels in elkaar zitten.
B4: Nr | C4: Omschrijving structurele kosten | D4: Bedrag
B5: K-1 | D5: 0
B6: K-2 | D6: 0
B7: K-3 | D7: 0
B8: K-4 | D8: 0
B9: K-5 | D9: 0
B10: K-6 | D10: 0
B11: K-7 | D11: 0
B12: K-8 | D12: 0
B13: K-9 | D13: 0
B14: K-10 | D14: 0
B15: K-11 | D15: 0
B16: K-12 | D16: 0
... B18: K-14 | D18: 0
B20: * U vult alleen de geelgearceerde velden in. * U kunt extra geel gearceerde rijen toevoegen indien nodig maar geen andere aanpassingen maken. Bij het toevoegen van rijen moet de nummering doorgevoerd worden. * Prijzen en tarieven zijn all-in en exclusief BTW. * U kunt geen andere kosten dan de genoemde kosten in rekening brengen.

Sheet Uurtarieven
B2: Opbouw uurtarieven (project-)medewerkers Inschrijver
B3: * Vul in dit tabblad in hoe de uurtarieven van uw medewerkers zijn. Zodat de VGGM inzicht heeft in de kosten bij wijzigingen.
B4: Nr | C4: Rol | D4: Uurtarief
B5: U-1 | D5: 0
B6: U-2 | D6: 0
B7: U-3 | D7: 0
B8: U-4 | D8: 0
B9: U-5 | D9: 0
B10: U-6 | D10: 0
B11: U-7 | D11: 0
B12: U-8 | D12: 0
B13: U-9 | D13: 0
B14: U-10 | D14: 0
B15: U-11 | D15: 0
B16: U-12 | D16: 0
... B18: U-14 | D18: 0
B20: * U vult alleen de geelgearceerde velden in. * U kunt extra geel gearceerde rijen toevoegen indien nodig maar geen andere aanpassingen maken. Bij het toevoegen van rijen moet de nummering doorgevoerd worden. * Prijzen en tarieven zijn all-in en exclusief BTW. * U kunt geen andere kosten dan de genoemde kosten in rekening brengen.

Sheet Trainingen
B2: Kosten traingingen
B3: * Vul in dit tabblad in wat de trainingskosten zijn. Zodat de VGGM inzicht heeft in de kosten bij personele wijzigingen en de opbouw van deze post.
B4: Nr | C4: Training | D4: Tarief
B5: T-1 | C5: Training Functioneel Beheerder | D5: 0
B6: T-2 | C6: Training Record Manager | D6: 0
B7: T-3 | C7: Training Intaker | D7: 0
B8: T-4 | C8: Training Procesregisseur | D8: 0
B9: T-5 | C9: Training Behandelaar | D9: 0
B10: T-6 | C10: Training Ambtenaar BRP | D10: 0
B12: * U vult alleen de geelgearceerde velden in. * Indien er geen kosten zijn voor een traing, vul dan bij het bedrag 0,01 in. * De training vinden plaats in het werkgebied van de VGGM. * Prijzen en tarieven zijn all-in en exclusief BTW. * U kunt geen andere kosten dan de genoemde kosten in rekening brengen. * In de TCO per jaar neemt u alleen de initiele training van alle gebruikers op, vandaar dat dit een aanmalige post is.

Sheet Extra mogelijkheden
B2: Prijzen extra mogelijkheden
B3: * Vul in dit tabblad in wat de kosten zijn voor de benoemde extra mogelijkheden.
B4: Nr | C4: Omschrijving extra mogelijkheid | D4: Bedrag
B5: E-1 | C5: Kosten Bloktijden support (extra t.o.v. Kantoortijden) | D5: 0
B6: E-2 | C6: Kosten 24x7 support (extra t.o.v. Kantoortijden) | D6: 0
B7: E-3 | C7: Kosten Cloud Escrow | D7: 0
B8: E-4 | D8: 0
B9: E-5 | D9: 0
B10: E-6 | D10: 0
B11: E-7 | D11: 0
B12: E-8 | D12: 0
B13: E-9 | D13: 0
B14: E-10 | D14: 0
B16: * U vult alleen de geelgearceerde velden in. * U kunt extra geel gearceerde rijen toevoegen indien nodig maar geen andere aanpassingen maken. Bij het toevoegen van rijen moet de nummering doorgevoerd worden. * Indien er geen meerkosten zijn aan een optie, vul dan bij het bedrag 0,01 in. * Prijzen en tarieven zijn all-in en exclusief BTW. * De bedragen in dit tabblad zijn optioneel; Opdrachtgever besluit tot afname. * Inschrijver is verplicht "Kosten Bloktijden support", "Kosten 24x7 support" en "Kosten Cloud Escrow" op te nemen. Mochten hier extra regels voor nodig zijn dan kunnen die gebruikt worden.
