Workbook
Name _58.x: '[1]per techieksoort en NL-fsb'!$C$45
Name _NEN3140: #REF!
Name _NEN3140: #REF!
Name _NEN3140: #REF!
Name Aandeel: #REF!
Name Aandeel: #REF!
Name Aandeel: #REF!
Name Activiteit: #REF!
Name Activiteit: #REF!
Name Activiteit: #REF!
Name Afdrukbereik_MI: [2]begroting!$B$9:$V$145
Name Afdruktitels_MI: [2]begroting!$A$4:$IV$8
Name ant: [2]begroting!$H$9:$H$144
Name artikel: [2]begroting!$C$1
Name Aspect: #REF!
Name Aspect: #REF!
Name Aspect: #REF!
Name Begin: #REF!
Name Begin: #REF!
Name Begin: #REF!
Name Beheerpercentage: '[3]CALC. Productie Maarheeze'!$AG$6
Name Behr: #REF!
Name Behr: #REF!
Name Behr: #REF!
Name Belang: #REF!
Name Belang: #REF!
Name Belang: #REF!
Name Belang1: #REF!
Name Belang1: #REF!
Name Belang1: #REF!
Name Belang2: #REF!
Name Belang2: #REF!
Name Belang2: #REF!
Name BeTa: [2]Calculatie!$D$94:$E$99
Name bewerkingsadvies: #REF!
Name bewerkingsadvies: #REF!
Name bewerkingsadvies: #REF!
Name bewerkingsadvies2: #REF!
Name bewerkingsadvies2: #REF!
Name bewerkingsadvies2: #REF!
Name Bldg: [4]validation!#REF!
Name Bldg: [4]validation!#REF!
Name Bldg: [4]validation!#REF!
Name bouwjaar: [2]Calculatie!$C$344:$C$346
Name BT_Tarief: #REF!
Name BT_Tarief: #REF!
Name BT_Tarief: #REF!
Name Cap: [2]begroting!$F$1
Name CB_Tarief: #REF!
Name CB_Tarief: #REF!
Name CB_Tarief: #REF!
Name CB_Wevo_Tarief: [5]VC!$F$8
Name CE_Tarief: #REF!
Name CE_Tarief: #REF!
Name CE_Tarief: #REF!
Name CF: [6]Calculatie!$R$5
Name CM_CE_Tarief: [5]VC!$G$8
Name CM_Tarief: #REF!
Name CM_Tarief: #REF!
Name CM_Tarief: #REF!

Sheet Inv-Conditie-MJB
F1: Datum | H1: : | I1: 43831
F2: Inspectie-type | H2: : | I2: SIMJB-Update 2021
F3: Klantnaam | H3: : | I3: Houtplein Provincie Noord Holland Update 2021 Def
F4: Hoofdfunctieplaats | H4: : | I4: 2012DE01
F5: Uitgevoerd door | H5: :
F6: Projectnummer | H6: : | I6: 5001004151
F7: Versie | H7: : | I7: V3.0
A8: Inventarisblad | D8: Startjaar: | E8: 2022 | F8: 10 | G8: jaar | H8: Index | I8: 2% | Y8: Conditiemeting | AZ8: Meerjarenbudgettering
AB9: 1e gebrek | AJ9: 2e gebrek | AR9: 3e gebrek | AZ9: Kosten in € excl. BTW
A10: Volgnr | B10: Gebouw | C10: Adres | D10: Plaats | E10: Functieplaats | F10: Bouwdeel | G10: Bouwlaag | H10: Ruimte | I10: Klantspecifiek Equipmentnr | J10: Installatienr. Klant | K10: SAP Referentie equipementnummer | L10: Aantal | M10: Eenheid | N10: Installatiebenaming | O10: Elementcode | P10: Elementbenaming | Q10: Bouwjaar | R10: Fabrikant | S10: Type | T10: Vermogen/capaciteit | U10: Dimensie | V10: Overige kenmerken | W10: Componentfunctie | X10: Opmerkingen | Y10: Theoretische Levensduur NEN 2767 | Z10: Gemeten Conditie | AA10: "Gewenste" Conditie | AB10: Ernst | AC10: Intensiteit | AD10: Omvang | AE10: Risicowaarde | AF10: Functioneel Aspect | AG10: Functionele Prioriteit | AH10: Bewerkingsadvies | AI10: Kosten | AJ10: Ernst | AK10: Intensiteit | AL10: Omvang | AM10: Risicowaarde | AN10: Functioneel Aspect | AO10: Functionele Prioriteit | AP10: Bewerkingsadvies | AQ10: Kosten | AR10: Ernst | AS10: Intensiteit | AT10: Omvang | AU10: Risicowaarde | AV10: Functioneel Aspect | AW10: Functionele Prioriteit | AX10: Bewerkingsadvies | AY10: Kosten | AZ10: 2022 | BA10: 2023 | BB10: 2024 | BC10: 2025 | BD10: 2026 | BE10: 2027 | BF10: 2028 | BG10: 2029 | BH10: 2030 | BI10: 2031 | BJ10: Totaalkosten
A11: 155 | B11: Houtplein | C11: Houtplein 33 | D11: Haarlem | E11: 2012HR01 | H11: Brommer stalling 0.6 | I11: 155 | L11: 1 | M11: Stuks | N11: Schuifdeur | O11: 313200 | P11: Schuifdeuren | Q11: 2012 | R11: Tormax | V11: Deurnr: 1998-026 | W11: t.b.v. begane grond brommerstalling buiten. | Y11: 15 | Z11: 2 | AA11: 3 | AB11: G | AC11: B | AD11: 100 | AI11: 0,00 | BF11: 10158.287 | BJ11: 10158.287
A12: 165 | B12: Houtplein | C12: Houtplein 33 | D12: Haarlem | E12: 2012HR01 | H12: begane grond | I12: 165 | L12: 1 | M12: Stuks | N12: Rol / Overhead deur elektrisch | O12: 313200 | P12: Schuifdeuren | Q12: 2012 | R12: Crawford | W12: t.b.v. begane grond expeditie. | Y12: 15 | Z12: 2 | AA12: 3 | AB12: G | AC12: B | AD12: 100 | AI12: 0,00 | BF12: 10158.287 | BJ12: 10158.287
A13: 164 | B13: Houtplein | C13: Houtplein 33 | D13: Haarlem | E13: 2012HR01 | H13: Containerruimte 0.2 | I13: 164 | L13: 1 | M13: Stuks | N13: Vouwdeur (elektrisch) | O13: 313200 | P13: Schuifdeuren | Q13: 2012 | R13: Crawford | S13: CC/M9 | V13: Deurnr: 1376429 | W13: t.b.v. begane grond container ruimte los gebouw | Y13: 15 | Z13: 2 | AA13: 3 | AB13: G | AC13: B | AD13: 100 | AI13: 0,00 | BB13: 9384.6868 | BJ13: 9384.6868
A14: 162 | B14: Houtplein | C14: Houtplein 33 | D14: Haarlem | E14: 2012HR01 | H14: begane grond | I14: 162 | L14: 5 | M14: Stuks | N14: Speedlane | O14: 313400 | P14: Tourniquets | Q14: 2012 | R14: Cominfo | Y14: 15 | Z14: 2 | AA14: 3 | AB14: G | AC14: B | AD14: 100 | AI14: 0,00 | BF14: 143411.11 | BJ14: 143411.11
A15: 98 | B15: Houtplein | C15: Houtplein 33 | D15: Haarlem | E15: 2012HR01 | H15: dak | I15: 98 | L15: 636 | M15: Stuks | N15: Zonwering (elektrisch) | O15: 318700 | P15: Algemeen | Q15: 2012 | R15: Dunker | S15: Buitenjaloezien | V15: Elektrisch | W15: t.b.v. zonweringsvoorziening | Y15: 20 | Z15: 1 | AA15: 3 | AI15: 0,00
A16: 225 | B16: Houtplein | C16: Houtplein 33 | D16: Haarlem | E16: 2012HR01 | H16: WKO ruimte | I16: 225 | L16: 1 | M16: Stuks | N16: TSA | O16: 513110 | P16: Tegenstroomapparaten | Q16: 2012 | R16: Sondex | S16: S86IG10 | Y16: 25 | Z16: 1 | AA16: 3
A17: 224 | B17: Houtplein | C17: Houtplein 33 | D17: Haarlem | E17: 2012HR01 | H17: WKO ruimte | I17: 224 | L17: 1 | M17: Stuks | N17: TSA | O17: 513110 | P17: Tegenstroomapparaten | Q17: 2012 | R17: Sondex | S17: S86IS10 | Y17: 25 | Z17: 2 | AA17: 3 | AB17: E | AC17: G | AD17: 8 | AE17: 4 | AF17: 4 | AG17: 3 | AH17: 6 | AI17: 750,00 | AZ17: 795.906 | BJ17: 795.906
A18: 99 | B18: Houtplein | C18: Houtplein 33 | D18: Haarlem | E18: 2012HR01 | H18: Terrein | I18: 99 | L18: 1 | M18: Stuks | N18: warme bron pomp | O18: 513130 | P18: Bodemopslag warmte | Q18: 2012 | R18: Melotte | Y18: 20 | Z18: 1 | AA18: 3 | AZ18: 5836.644 | BB18: 6072.4444 | BD18: 6317.7712 | BF18: 6573.0091 | BH18: 6838.5587 | BJ18: 31638.427
A19: 204 | B19: Houtplein | C19: Houtplein 33 | D19: Haarlem | E19: 2012HR01 | H19: -1.02 | I19: 204 | L19: 1 | M19: Stuks | N19: Warmtepomp | O19: 515100 | P19: Warmtepompen algemeen | Q19: 2012 | R19: Stiebel Eltron | S19: WPL 13/18/23/33/1 | V19: Stek nr.:? | Y19: 20 | Z19: 1 | AA19: 3
A20: 226 | B20: Houtplein | C20: Houtplein 33 | D20: Haarlem | E20: 2012HR01 | H20: WKO ruimte | I20: 226 | L20: 1 | M20: Stuks | N20: Warmtepomp | O20: 515100 | P20: Warmtepompen algemeen | Q20: 2012 | R20: Bion Bauhaus AG | S20: Swissheat Titan WW808/8 | V20: 8x16kg R417a 808kw | Y20: 20 | Z20: 1 | AA20: 3
A21: 199 | B21: Houtplein | C21: Houtplein 33 | D21: Haarlem | E21: 2012HR01 | H21: dak | I21: 199 | L21: 19168 | M21: BVO | N21: Hemelwater afvoer | O21: 521110 | P21: Leidingen hwa binnen | Q21: 2012 | Y21: 30 | Z21: 2 | AA21: 3 | AB21: G | AC21: E | AD21: 10 | AE21: 8 | AF21: 7 | AG21: 2 | AH21: 6 | AI21: 250,00 | AZ21: 265.302 | BJ21: 265.302
A22: 100 | B22: Houtplein | C22: Houtplein 33 | D22: Haarlem | E22: 2012HR01 | H22: diverse | I22: 100 | L22: 19168 | M22: BVO | N22: fecalien leidingen | O22: 522110 | P22: Leidingen afvoer fecaliën | Q22: 2012 | R22: PE | Y22: 30 | Z22: 1 | AA22: 3
A23: 101 | B23: Houtplein | C23: Houtplein 33 | D23: Haarlem | E23: 2012HR01 | H23: Terrein | I23: 101 | L23: 1 | M23: Stuks | N23: vetvangput | O23: 523200 | P23: Vetafscheider, excl. legen en stortkosten | Q23: 1985 | Y23: 25 | Z23: 3 | AA23: 3 | BF23: 9560.7405 | BJ23: 9560.7405
A24: 102 | B24: Houtplein | C24: Houtplein 33 | D24: Haarlem | E24: 2012HR01 | H24: algemeen | I24: 102 | L24: 19168 | M24: BVO | N24: water leiding incl. appendage | O24: 531000 | P24: Leidingen drinkwaterinstallatie | Q24: 2012 | Y24: 30 | Z24: 1 | AA24: 3
A25: 205 | B25: Houtplein | C25: Houtplein 33 | D25: Haarlem | E25: 2012HR01 | H25: -1.02 | I25: 205 | L25: 19168 | M25: BVO | N25: Leidingnet Drinkwater | O25: 531000 | P25: Leidingen drinkwaterinstallatie | Q25: 2012 | R25: Raminex | W25: t.b.v. drinkwaterleidingnet | Y25: 30 | Z25: 1 | AA25: 3 | AB25: S | AC25: G | AD25: 2 | AE25: 3 | AF25: 3 | AG25: 3 | AH25: 6 | AI25: 500,00
A26: 166 | B26: Houtplein | C26: Houtplein 33 | D26: Haarlem | E26: 2012HR01 | H26: 0.07 Hydrofoorruimte | I26: 166 | L26: 1 | M26: Stuks | N26: Hydrofoor installatie | O26: 531400 | P26: Drukverhogingsinstallaties drinkwater | Q26: 2012 | R26: Duivelaar | S26: HU2 DPVME6/5B | V26: Installnr: 2097026 voorien van 2 pompen | W26: t.b.v. drukverhoging drinkwater | Y26: 20 | Z26: 2 | AA26: 3 | AB26: S | AC26: G | AD26: 2 | AE26: 3 | AF26: 3 | AG26: 3 | AH26: 6 | AI26: 500,00 | AJ26: E | AK26: G | AL26: 1 | AM26: 4 | AN26: 4 | AO26: 3 | AP26: 6 | AQ26: 150,00 | AR26: S | AS26: E | AT26: 2 | AU26: 6 | AV26: 4 | AW26: 1 | AX26: 6 | AY26: 250,00 | AZ26: 955.0872 | BE26: 5858.2969 | BJ26: 6813.3841
A27: 167 | B27: Houtplein | C27: Houtplein 33 | D27: Haarlem | E27: 2012HR01 | H27: 0.07 Hydrofoorruimte | I27: 167 | L27: 1 | M27: Stuks | N27: Expansievat | O27: 531400 | P27: Drukverhogingsinstallaties drinkwater | Q27: 2012 | R27: Reflex | S27: 100l | V27: 12M082890007 | Y27: 15 | Z27: 2 | AA27: 3 | AB27: G | AC27: B | AD27: 100 | AI27: 0,00 | BF27: 1278.749 | BJ27: 1278.749
A28: 207 | B28: Houtplein | C28: Houtplein 33 | D28: Haarlem | E28: 2012HR01 | H28: -1.02 | I28: 207 | L28: 1 | M28: Stuks | N28: Circulatiepomp | O28: 532020 | P28: Pompen , warm-tapwaterinstallaties | Q28: 2012 | R28: grundfos | S28: ups 26/60/160 | Y28: 15 | Z28: 2 | AA28: 3 | BF28: 2987.7314 | BJ28: 2987.7314
A29: 206 | B29: Houtplein | C29: Houtplein 33 | D29: Haarlem | E29: 2012HR01 | H29: -1.02 | I29: 206 | L29: 1 | M29: Stuks | N29: Circulatiepomp | O29: 532020 | P29: Pompen , warm-tapwaterinstallaties | Q29: 2012 | R29: Wilo | S29: stratos para 25/1 | Y29: 15 | Z29: 2 | AA29: 3 | AB29: G | AC29: B | AD29: 100 | AI29: 0,00 | BF29: 2987.7314 | BJ29: 2987.7314
A30: 103 | B30: Houtplein | C30: Houtplein 33 | D30: Haarlem | E30: 2012HR01 | H30: algemeen | I30: 103 | L30: 1 | M30: Stuks | N30: Boiler (elektrische) | O30: 532120 | P30: Voorraadboilers elektrisch | Q30: 2012 | R30: Daalderop | S30: Close-up | T30: 10 | U30: Liter | W30: t.b.v. opwekking warm tapwater | Y30: 20 | Z30: 1 | AA30: 3
A31: 208 | B31: Houtplein | C31: Houtplein 33 | D31: Haarlem | E31: 2012HR01 | H31: -1.02 | I31: 208 | L31: 1 | M31: Stuks | N31: Boiler (elektrische) | O31: 532120 | P31: Voorraadboilers elektrisch | Q31: 2012 | R31: Stiebel Eltron | S31: FCR 21/120 | W31: t.b.v. opwekking warm tapwater | Y31: 20 | Z31: 1 | AA31: 3
A32: 209 | B32: Houtplein | C32: Houtplein 33 | D32: Haarlem | E32: 2012HR01 | H32: -1.02 | I32: 209 | L32: 1 | M32: Stuks | N32: Boiler (elektrische) | O32: 532120 | P32: Voorraadboilers elektrisch | Q32: 2012 | R32: Stiebel Eltron | S32: ? | W32: t.b.v. opwekking warm tapwater keuken | Y32: 20 | Z32: 2 | AA32: 3 | AB32: S | AC32: G | AD32: 2 | AE32: 3 | AF32: 3 | AG32: 3 | AH32: 6 | AI32: 250,00 | AJ32: S | AK32: G | AL32: 2 | AM32: 4 | AN32: 4 | AO32: 3 | AP32: 6 | AQ32: 150,00 | AR32: S | AS32: G | AT32: 2 | AU32: 4 | AV32: 4 | AW32: 3 | AX32: 6 | AY32: 150,00 | AZ32: 583.6644 | BJ32: 583.6644
A33: 1 | B33: Houtplein | C33: Houtplein 33 | D33: Haarlem | E33: 2012HR01 | H33: 1.21 | I33: 1 | L33: 1 | M33: Stuks | N33: Boiler (elektrische) | O33: 532120 | P33: Voorraadboilers elektrisch | Q33: 2012 | R33: Daalderop | S33: Close-up | T33: 15 | U33: Liter | W33: t.b.v. opwekking warm tapwater | Y33: 20 | Z33: 1 | AA33: 3
A34: 169 | B34: Houtplein | C34: Houtplein 33 | D34: Haarlem | E34: 2012HR01 | H34: 0.13 | I34: 169 | L34: 1 | M34: Stuks | N34: Boiler (elektrische) | O34: 532120 | P34: Voorraadboilers elektrisch | Q34: 2012 | R34: Daalderop | S34: Close-up | T34: 15 | U34: Liter | W34: t.b.v. opwekking warm tapwater | Y34: 20 | Z34: 1 | AA34: 3
A35: 170 | B35: Houtplein | C35: Houtplein 33 | D35: Haarlem | E35: 2012HR01 | H35: Fietsenstalling | I35: 170 | L35: 1 | M35: Stuks | N35: Boiler (elektrische) | O35: 532200 | P35: Voorraadboilers indirect verwarmd | Q35: 2012 | R35: Daalderop | S35: 80 liter (o7.14.18.049) | T35: 80 | U35: Liter | W35: t.b.v. opwekking warm tapwater | Y35: 20 | Z35: 1 | AA35: 3
A36: 210 | B36: Houtplein | C36: Houtplein 33 | D36: Haarlem | E36: 2012HR01 | H36: -1.06 | I36: 210 | L36: 1 | M36: Stuks | N36: Split unit | O36: 551200 | P36: Algemeen | Q36: 2012 | R36: mitsubischi electric | S36: Pac 1F011B-E | Y36: 20 | Z36: 1 | AA36: 3 | AZ36: 159.1812 | BJ36: 159.1812
A37: 4 | B37: Houtplein | C37: Houtplein 33 | D37: Haarlem | E37: 2012HR01 | H37: 1.22 | I37: 4 | L37: 1 | M37: Stuks | N37: Split unit | O37: 551200 | P37: Algemeen | Q37: 2012 | R37: LG | V37: 1,2 kg R410a | Y37: 20 | Z37: 1 | AA37: 3 | AI37: 0,00
A38: 2 | B38: Houtplein | C38: Houtplein 33 | D38: Haarlem | E38: 2012HR01 | H38: 1.03 | I38: 2 | L38: 1 | M38: Stuks | N38: Split unit | O38: 551200 | P38: Algemeen | Q38: 2012 | R38: LG | Y38: 20 | Z38: 1 | AA38: 3
A39: 51 | B39: Houtplein | C39: Houtplein 33 | D39: Haarlem | E39: 2012HR01 | H39: dak / hoog | I39: 51 | L39: 2 | M39: Stuks | N39: Split unit | O39: 551200 | P39: Algemeen | Q39: 2012 | R39: LG | S39: S09AQU UBO | V39: 0,9 kg / R410a | Y39: 15 | Z39: 3 | AA39: 3 | AB39: G | AC39: B | AD39: 82 | AI39: 0,00 | AJ39: E | AK39: G | AL39: 18 | AM39: 4 | AN39: 4 | AO39: 3 | AP39: 6 | AQ39: 500,00 | BF39: 6453.4999 | BJ39: 6453.4999
A40: 3 | B40: Houtplein | C40: Houtplein 33 | D40: Haarlem | E40: 2012HR01 | H40: 1 | I40: 3 | L40: 1 | M40: Stuks | N40: Split unit | O40: 551200 | P40: Algemeen | Q40: 2012 | R40: LG | Y40: 20 | Z40: 1 | AA40: 3
A41: 5 | B41: Houtplein | C41: Houtplein 33 | D41: Haarlem | E41: 2012HR01 | H41: 1.27 | I41: 5 | L41: 1 | M41: Stuks | N41: Split unit | O41: 551200 | P41: Algemeen | Q41: 2012 | R41: LG | Y41: 20 | Z41: 1 | AA41: 3
A42: 37 | B42: Houtplein | C42: Houtplein 33 | D42: Haarlem | E42: 2012HR01 | H42: 4.38 | I42: 37 | L42: 1 | M42: Stuks | N42: Split unit | O42: 551200 | P42: Algemeen | Q42: 2012 | R42: LG | Y42: 15 | Z42: 2 | AA42: 3 | AB42: G | AC42: B | AD42: 100 | AI42: 0,00 | BF42: 3226.7499 | BJ42: 3226.7499
A43: 173 | B43: Houtplein | C43: Houtplein 33 | D43: Haarlem | E43: 2012HR01 | H43: MER / Fac. dienst | I43: 173 | L43: 2 | M43: Stuks | N43: Split unit | O43: 551200 | P43: Algemeen | Q43: 2012 | R43: LG | S43: S24AQU UCO | V43: 0,9 kg / R410a | Y43: 20 | Z43: 1 | AA43: 3
A44: 38 | B44: Houtplein | C44: Houtplein 33 | D44: Haarlem | E44: 2012HR01 | H44: 4 | I44: 38 | L44: 1 | M44: Stuks | N44: Split unit | O44: 551200 | P44: Algemeen | Q44: 2012 | R44: LG | Y44: 15 | Z44: 2 | AA44: 3 | AB44: G | AC44: B | AD44: 100 | AI44: 0,00 | BF44: 3226.7499 | BJ44: 3226.7499
A45: 172 | B45: Houtplein | C45: Houtplein 33 | D45: Haarlem | E45: 2012HR01 | H45: 0.05 | I45: 172 | L45: 1 | M45: Stuks | N45: Split unit | O45: 551200 | P45: Algemeen | Q45: 2012 | R45: LG | S45: E24SQ | V45: 2,3 Kg R410A | Y45: 20 | Z45: 2 | AA45: 3
A46: 248 | B46: Houtplein | C46: Houtplein 33 | D46: Haarlem | E46: 2012HR01 | H46: dak | I46: 248 | L46: 2 | M46: Stuks | N46: Split unit | O46: 551200 | P46: Algemeen | Q46: 2012 | R46: LG | S46: E09SQU UBO | V46: 1,2 / R410 | Y46: 15 | Z46: 2 | AA46: 3 | BF46: 6453.4999 | BJ46: 6453.4999
A47: 50 | B47: Houtplein | C47: Houtplein 33 | D47: Haarlem | E47: 2012HR01 | H47: dak | I47: 50 | L47: 2 | M47: Stuks | N47: Split unit | O47: 551200 | P47: Algemeen | Q47: 2012 | R47: LG | S47: SQ9AQU UBO | V47: 0,9 / R410 | Y47: 15 | Z47: 3 | AA47: 3 | AB47: G | AC47: B | AD47: 82 | AI47: 0,00 | AJ47: E | AK47: G | AL47: 18 | AM47: 4 | AN47: 4 | AO47: 3 | AP47: 6 | AQ47: 500,00 | BF47: 6453.4999 | BJ47: 6453.4999
A48: 52 | B48: Houtplein | C48: Houtplein 33 | D48: Haarlem | E48: 2012HR01 | H48: dak / hoog | I48: 52 | L48: 2 | M48: Stuks | N48: Split unit | O48: 551200 | P48: Algemeen | Q48: 2012 | R48: LG | S48: E09SQU UBO | V48: 1,2 kg / R410a | Y48: 15 | Z48: 2 | AA48: 3 | AB48: G | AC48: B | AD48: 100 | AI48: 0,00 | BF48: 6453.4999 | BJ48: 6453.4999
A49: 171 | B49: Houtplein | C49: Houtplein 33 | D49: Haarlem | E49: 2012HR01 | H49: 0.06 | I49: 171 | L49: 1 | M49: Stuks | N49: Split unit | O49: 551200 | P49: Algemeen | Q49: 2012 | R49: LG | S49: E24SQ | V49: 1,2 Kg R410A | Y49: 20 | Z49: 2 | AA49: 3
A50: 227 | B50: Houtplein | C50: Houtplein 33 | D50: Haarlem | E50: 2012HR01 | H50: WKO ruimte | I50: 227 | L50: 1 | M50: Stuks | N50: Pneumatex | O50: 552000 | P50: Algemeen | Q50: 2012 | R50: Statico | S50: S4 140,6 | Y50: 15 | Z50: 2 | AA50: 3 | BF50: 1792.6389 | BJ50: 1792.6389
A51: 53 | B51: Houtplein | C51: Houtplein 33 | D51: Haarlem | E51: 2012HR01 | H51: dak | I51: 53 | L51: 4 | M51: Stuks | N51: Dry cooler | O51: 552050 | P51: Dry cooler | Q51: 2012 | R51: Alfa Lava | S51: VDDS808Cy74 | V51: L | Y51: 10 | Z51: 4 | AA51: 3 | AZ51: 11673.288 | BJ51: 11673.288
A52: 104 | B52: Houtplein | C52: Houtplein 33 | D52: Haarlem | E52: 2012HR01 | H52: Terrein | I52: 104 | L52: 1 | M52: Stuks | N52: koude bron pomp 2 | O52: 552320 | P52: Bodemopslag koude | Q52: 2019 | R52: Mellotte | Y52: 20 | Z52: 1 | AA52: 3 | AZ52: 5836.644 | BB52: 6072.4444 | BD52: 6317.7712 | BF52: 6573.0091 | BH52: 6838.5587 | BJ52: 31638.427
A53: 228 | B53: Houtplein | C53: Houtplein 33 | D53: Haarlem | E53: 2012HR01 | H53: WKO ruimte | I53: 228 | L53: 10 | M53: Stuks | N53: Verdeler / verzamelaar GKW incl. appendage | O53: 553120 | P53: Leidingen gekoeld water | Q53: 2012 | S53: staal | Y53: 30 | Z53: 3 | AA53: 3 | AZ53: 5306.04 | BJ53: 5306.04
A54: 105 | B54: Houtplein | C54: Houtplein 33 | D54: Haarlem | E54: 2012HR01 | H54: diverse | I54: 105 | L54: 19168 | M54: BVO | N54: Leiding werk GKW incl. appendage | O54: 553120 | P54: Leidingen gekoeld water | Q54: 2012 | Y54: 30 | Z54: 2 | AA54: 3 | AB54: E | AC54: B | AD54: 2 | AE54: 4 | AF54: 4 | AG54: 3 | AH54: 9 | AI54: 450,00 | AJ54: E | AK54: G | AL54: 2 | AM54: 4 | AN54: 4 | AO54: 3 | AP54: 6 | AQ54: 1.500,00 | AZ54: 2069.3556 | BJ54: 2069.3556
A55: 54 | B55: Houtplein | C55: Houtplein 33 | D55: Haarlem | E55: 2012HR01 | H55: 5.01 | I55: 54 | L55: 1 | M55: Stuks | N55: Verdeler / verzamelaar GKW/CV incl appendage | O55: 553130 | P55: Verdeler/verzamelaar gekoeld water | Q55: 2012 | S55: staal | Y55: 30 | Z55: 1 | AA55: 3
A56: 56 | B56: Houtplein | C56: Houtplein 33 | D56: Haarlem | E56: 2012HR01 | H56: 5.12 | I56: 56 | L56: 2 | M56: Stuks | N56: Verdeler / verzamelaar GKW/CV incl appendage | O56: 553130 | P56: Verdeler/verzamelaar gekoeld water | Q56: 2012 | S56: staal | Y56: 30 | Z56: 1 | AA56: 3
A57: 55 | B57: Houtplein | C57: Houtplein 33 | D57: Haarlem | E57: 2012HR01 | H57: 5.15 | I57: 55 | L57: 1 | M57: Stuks | N57: Verdeler / verzamelaar GKW/CV incl appendage | O57: 553130 | P57: Verdeler/verzamelaar gekoeld water | Q57: 2012 | S57: staal | Y57: 30 | Z57: 1 | AA57: 3
A58: 106 | B58: Houtplein | C58: Houtplein 33 | D58: Haarlem | E58: 2012HR01 | H58: diverse | I58: 106 | L58: 19168 | M58: BVO | N58: koelplafon incl appendages | O58: 553140 | P58: Bijzondere appendages gekoeld water, overstort/ontluchter | Q58: 2012 | Y58: 20 | Z58: 1 | AA58: 3
A59: 229 | B59: Houtplein | C59: Houtplein 33 | D59: Haarlem | E59: 2012HR01 | H59: WKO ruimte | I59: 229 | L59: 4 | M59: Stuks | N59: Fundatie pomp incl. frequentie regelaar | O59: 553160 | P59: Fundatiepompen gekoeld water | Q59: 2012 | R59: KSB | S59: Etanorm Pumpdrive | Y59: 20 | Z59: 3 | AA59: 3 | AB59: E | AC59: G | AD59: 1 | AE59: 4 | AF59: 4 | AG59: 3 | AH59: 6 | AI59: 150,00 | AJ59: E | AK59: G | AL59: 10 | AM59: 3 | AN59: 3 | AO59: 3 | AP59: 6 | AQ59: 2.500,00 | AZ59: 2812.2012 | BJ59: 2812.2012
A60: 230 | B60: Houtplein | C60: Houtplein 33 | D60: Haarlem | E60: 2012HR01 | H60: WKO ruimte | I60: 230 | L60: 5 | M60: Stuks | N60: Fundatie pomp incl. frequentie regelaar | O60: 553160 | P60: Fundatiepompen gekoeld water | Q60: 2012 | R60: KSB | S60: Etanorm Pumpdrive | Y60: 20 | Z60: 1 | AA60: 3
A61: 231 | B61: Houtplein | C61: Houtplein 33 | D61: Haarlem | E61: 2012HR01 | H61: WKO ruimte | I61: 231 | L61: 1 | M61: Stuks | N61: Flamco aut.vulinstal. | O61: 561000 | P61: Algemeen | Q61: 2012 | R61: Flamcomat | S61: 150L | Y61: 20 | Z61: 1 | AA61: 3 | AB61: S | AC61: G | AD61: 2 | AE61: 4 | AF61: 4 | AG61: 3 | AH61: 6 | AI61: 150,00 | AZ61: 159.1812 | BJ61: 159.1812
A62: 107 | B62: Houtplein | C62: Houtplein 33 | D62: Haarlem | E62: 2012HR01 | H62: algemeen | I62: 107 | L62: 19168 | M62: BVO | N62: Leidingwerk CV installatie incl. appendage | O62: 561010 | P62: Leidingen cv,-installatie, kunststof / metaal | Q62: 2012 | R62: Econ | Y62: 30 | Z62: 1 | AA62: 3
A63: 6 | B63: Houtplein | C63: Houtplein 33 | D63: Haarlem | E63: 2012HR01 | H63: Amfitheater | I63: 6 | L63: 1 | M63: Stuks | N63: Verdeler / verzamelaar CV incl. appendage | O63: 561010 | P63: Leidingen cv,-installatie, kunststof / metaal | Q63: 2012 | S63: staal | Y63: 30 | Z63: 1 | AA63: 3
A64: 174 | B64: Houtplein | C64: Houtplein 33 | D64: Haarlem | E64: 2012HR01 | H64: 0.07 Hydrofoorruimte | I64: 174 | L64: 1 | M64: Stuks | N64: Verdeler / verzamelaar CV incl. appendage | O64: 561020 | P64: Verdeler/verzamelaar cv-installatie | Q64: 2012 | S64: staal | Y64: 30 | Z64: 1 | AA64: 3
A65: 175 | B65: Houtplein | C65: Houtplein 33 | D65: Haarlem | E65: 2012HR01 | H65: Schacht tegenover 0.34B | I65: 175 | L65: 1 | M65: Stuks | N65: Verdeler / verzamelaar CV incl. appendage | O65: 561020 | P65: Verdeler/verzamelaar cv-installatie | Q65: 2012 | S65: 10 groepen / staal | W65: t.b.v. vloerverwarming | Y65: 30 | Z65: 3 | AA65: 3 | AB65: S | AC65: E | AD65: 5 | AE65: 4 | AF65: 4 | AG65: 3 | AH65: 6 | AI65: 1.500,00 | AJ65: S | AK65: E | AL65: 4 | AM65: 4 | AN65: 4 | AO65: 3 | AP65: 6 | AQ65: 500,00 | AZ65: 2122.416 | BJ65: 2122.416
A66: 234 | B66: Houtplein | C66: Houtplein 33 | D66: Haarlem | E66: 2012HR01 | H66: WKO ruimte | I66: 234 | L66: 5 | M66: Stuks | N66: Verdeler / verzamelaar CV incl. appendage | O66: 561020 | P66: Verdeler/verzamelaar cv-installatie | Q66: 2012 | S66: staal | Y66: 30 | Z66: 1 | AA66: 3
A67: 211 | B67: Houtplein | C67: Houtplein 33 | D67: Haarlem | E67: 2012HR01 | H67: -1.02 | I67: 211 | L67: 2 | M67: Stuks | N67: Expansievat | O67: 561030 | P67: Expansievoorzieningen cv-installatie, drukvat | Q67: 2012 | R67: Flamco | S67: 12 / 0,5 | Y67: 15 | Z67: 2 | AA67: 3 | AB67: G | AC67: B | AD67: 100 | AI67: 0,00 | BF67: 1386.3074 | BJ67: 1386.3074
A68: 71 | B68: Houtplein | C68: Houtplein 33 | D68: Haarlem | E68: 2012HR01 | H68: 5.15 | I68: 71 | L68: 1 | M68: Stuks | N68: Expansievat | O68: 561030 | P68: Expansievoorzieningen cv-installatie, drukvat | Q68: 2012 | R68: Flamco | S68: 140/1,0 | Y68: 15 | Z68: 2 | AA68: 3 | BF68: 1792.6389 | BJ68: 1792.6389
A69: 235 | B69: Houtplein | C69: Houtplein 33 | D69: Haarlem | E69: 2012HR01 | H69: WKO ruimte | I69: 235 | L69: 1 | M69: Stuks | N69: Pneumatex | O69: 561030 | P69: Expansievoorzieningen cv-installatie, drukvat | Q69: 2012 | R69: Statico | S69: S4 140,6 | Y69: 15 | Z69: 2 | AA69: 3 | AB69: G | AC69: B | AD69: 100 | AI69: 0,00 | BF69: 1792.6389 | BJ69: 1792.6389
A70: 7 | B70: Houtplein | C70: Houtplein 33 | D70: Haarlem | E70: 2012HR01 | H70: Amfitheater | I70: 7 | L70: 1 | M70: Stuks | N70: Circulatiepomp | O70: 561040 | P70: Circulatiepompen warmtedistributie | Q70: 2012 | R70: KSB | S70: Rio C25 | Y70: 15 | Z70: 2 | AA70: 3 | AB70: G | AC70: B | AD70: 100 | AI70: 0,00 | BF70: 2987.7314 | BJ70: 2987.7314
A71: 57 | B71: Houtplein | C71: Houtplein 33 | D71: Haarlem | E71: 2012HR01 | H71: 5.01 | I71: 57 | L71: 1 | M71: Stuks | N71: Circulatiepomp | O71: 561040 | P71: Circulatiepompen warmtedistributie | Q71: 2012 | R71: KSB | S71: Rio 50-70D | Y71: 15 | Z71: 2 | AA71: 3 | AB71: G | AC71: B | AD71: 100 | AI71: 0,00 | BF71: 2987.7314 | BJ71: 2987.7314
A72: 58 | B72: Houtplein | C72: Houtplein 33 | D72: Haarlem | E72: 2012HR01 | H72: 5.15 | I72: 58 | L72: 1 | M72: Stuks | N72: Circulatiepomp | O72: 561040 | P72: Circulatiepompen warmtedistributie | Q72: 2012 | R72: KSB | S72: Rio 50-70D | Y72: 15 | Z72: 2 | AA72: 3 | AB72: G | AC72: B | AD72: 100 | AI72: 0,00 | BF72: 2987.7314 | BJ72: 2987.7314
A73: 177 | B73: Houtplein | C73: Houtplein 33 | D73: Haarlem | E73: 2012HR01 | H73: Schacht tegenover 0.34B | I73: 177 | L73: 1 | M73: Stuks | N73: Circulatiepomp | O73: 561040 | P73: Circulatiepompen warmtedistributie | Q73: 2012 | R73: KSB | S73: Rio C25/25 | Y73: 15 | Z73: 2 | AA73: 3 | AB73: G | AC73: B | AD73: 100 | AI73: 0,00 | BF73: 2987.7314 | BJ73: 2987.7314
A74: 61 | B74: Houtplein | C74: Houtplein 33 | D74: Haarlem | E74: 2012HR01 | H74: 5.14 | I74: 61 | L74: 1 | M74: Stuks | N74: Circulatiepomp | O74: 561040 | P74: Circulatiepompen warmtedistributie | Q74: 2012 | R74: KSB | S74: Rio 50-70D | Y74: 15 | Z74: 2 | AA74: 3 | AB74: G | AC74: B | AD74: 100 | AI74: 0,00 | BF74: 2987.7314 | BJ74: 2987.7314
A75: 59 | B75: Houtplein | C75: Houtplein 33 | D75: Haarlem | E75: 2012HR01 | H75: 5.15 | I75: 59 | L75: 1 | M75: Stuks | N75: Circulatiepomp | O75: 561040 | P75: Circulatiepompen warmtedistributie | Q75: 2012 | R75: KSB | S75: EN60034 | Y75: 15 | Z75: 2 | AA75: 3 | AB75: G | AC75: B | AD75: 100 | AI75: 0,00 | BF75: 2987.7314 | BJ75: 2987.7314
A76: 60 | B76: Houtplein | C76: Houtplein 33 | D76: Haarlem | E76: 2012HR01 | H76: 5.12 | I76: 60 | L76: 1 | M76: Stuks | N76: Circulatiepomp | O76: 561040 | P76: Circulatiepompen warmtedistributie | Q76: 2012 | R76: KSB | S76: Rio 50-70D | Y76: 15 | Z76: 2 | AA76: 3 | AB76: G | AC76: B | AD76: 100 | AI76: 0,00 | BF76: 2987.7314 | BJ76: 2987.7314
A77: 176 | B77: Houtplein | C77: Houtplein 33 | D77: Haarlem | E77: 2012HR01 | H77: 0.07 Hydrofoorruimte | I77: 176 | L77: 1 | M77: Stuks | N77: Circulatiepomp | O77: 561040 | P77: Circulatiepompen warmtedistributie | Q77: 2012 | R77: KSB | S77: Rio C25 | Y77: 15 | Z77: 2 | AA77: 3 | AB77: G | AC77: B | AD77: 100 | AI77: 0,00 | BF77: 2987.7314 | BJ77: 2987.7314
A78: 8 | B78: Houtplein | C78: Houtplein 33 | D78: Haarlem | E78: 2012HR01 | H78: Amfitheater | I78: 8 | L78: 2 | M78: Stuks | N78: Regelklep incl. Stelmotor | O78: 561060 | P78: Regelkleppen + stelmotoren warmtedistributie | Q78: 2012 | R78: Belimo | S78: LR24A | Y78: 15 | Z78: 2 | AA78: 3 | AB78: G | AC78: B | AD78: 100 | AI78: 0,00 | BF78: 6692.5184 | BJ78: 6692.5184
A79: 178 | B79: Houtplein | C79: Houtplein 33 | D79: Haarlem | E79: 2012HR01 | H79: 0.07 Hydrofoorruimte | I79: 178 | L79: 1 | M79: Stuks | N79: Regelklep incl. Stelmotor | O79: 561060 | P79: Regelkleppen + stelmotoren warmtedistributie | Q79: 2012 | R79: Danfoss | S79: AB-QM | Y79: 15 | Z79: 2 | AA79: 3 | AB79: G | AC79: B | AD79: 100 | AI79: 0,00 | BF79: 3346.2592 | BJ79: 3346.2592
A80: 232 | B80: Houtplein | C80: Houtplein 33 | D80: Haarlem | E80: 2012HR01 | H80: WKO ruimte | I80: 232 | L80: 1 | M80: Stuks | N80: Afsluiter incl. Stelmotor | O80: 561060 | P80: Regelkleppen + stelmotoren warmtedistributie | Q80: 2012 | R80: Econosto | S80: EL 150/50 M20 | Y80: 15 | Z80: 2 | AA80: 3 | AB80: G | AC80: B | AD80: 100 | AI80: 0,00 | BF80: 3346.2592 | BJ80: 3346.2592
A81: 66 | B81: Houtplein | C81: Houtplein 33 | D81: Haarlem | E81: 2012HR01 | H81: 5.15 | I81: 66 | L81: 1 | M81: Stuks | N81: Regelklep incl. Stelmotor | O81: 561060 | P81: Regelkleppen + stelmotoren warmtedistributie | Q81: 2012 | R81: Belimo | S81: AVY24-MFT | Y81: 15 | Z81: 2 | AA81: 3 | AB81: G | AC81: B | AD81: 100 | AI81: 0,00 | BF81: 3346.2592 | BJ81: 3346.2592
A82: 68 | B82: Houtplein | C82: Houtplein 33 | D82: Haarlem | E82: 2012HR01 | H82: 5.12 | I82: 68 | L82: 2 | M82: Stuks | N82: Regelklep incl. Stelmotor | O82: 561060 | P82: Regelkleppen + stelmotoren warmtedistributie | Q82: 2012 | R82: Danfoss | S82: AME 435 QM | Y82: 15 | Z82: 2 | AA82: 3 | AB82: G | AC82: B | AD82: 100 | AI82: 0,00 | BF82: 6692.5184 | BJ82: 6692.5184
A83: 237 | B83: Houtplein | C83: Houtplein 33 | D83: Haarlem | E83: 2012HR01 | H83: WKO ruimte | I83: 237 | L83: 2 | M83: Stuks | N83: Regelklep incl. Stelmotor | O83: 561060 | P83: Regelkleppen + stelmotoren warmtedistributie | Q83: 2012 | R83: Belimo | S83: SRF24AS25 | Y83: 15 | Z83: 2 | AA83: 3 | AB83: G | AC83: B | AD83: 100 | AI83: 0,00 | BF83: 6692.5184 | BJ83: 6692.5184
A84: 180 | B84: Houtplein | C84: Houtplein 33 | D84: Haarlem | E84: 2012HR01 | H84: Schacht tegenover 0.34B | I84: 180 | L84: 1 | M84: Stuks | N84: Regelklep incl. Stelmotor | O84: 561060 | P84: Regelkleppen + stelmotoren warmtedistributie | Q84: 2012 | R84: Danfoss | S84: ABQM | Y84: 15 | Z84: 2 | AA84: 3 | AB84: G | AC84: B | AD84: 100 | AI84: 0,00 | BF84: 3346.2592 | BJ84: 3346.2592
A85: 63 | B85: Houtplein | C85: Houtplein 33 | D85: Haarlem | E85: 2012HR01 | H85: 5.01 | I85: 63 | L85: 2 | M85: Stuks | N85: Regelklep incl. Stelmotor | O85: 561060 | P85: Regelkleppen + stelmotoren warmtedistributie | Q85: 2012 | R85: Danfoss | S85: AME 435 QM | Y85: 15 | Z85: 2 | AA85: 3 | AB85: G | AC85: B | AD85: 100 | AI85: 0,00 | BF85: 6692.5184 | BJ85: 6692.5184
A86: 70 | B86: Houtplein | C86: Houtplein 33 | D86: Haarlem | E86: 2012HR01 | H86: 5.14 | I86: 70 | L86: 1 | M86: Stuks | N86: Regelklep incl. Stelmotor | O86: 561060 | P86: Regelkleppen + stelmotoren warmtedistributie | Q86: 2012 | R86: Siemens | S86: SQL83 | Y86: 15 | Z86: 2 | AA86: 3 | AB86: G | AC86: B | AD86: 100 | AI86: 0,00 | BF86: 3346.2592 | BJ86: 3346.2592
A87: 9 | B87: Houtplein | C87: Houtplein 33 | D87: Haarlem | E87: 2012HR01 | H87: Amfitheater | I87: 9 | L87: 1 | M87: Stuks | N87: Regelklep incl. Stelmotor | O87: 561060 | P87: Regelkleppen + stelmotoren warmtedistributie | Q87: 2012 | R87: Danfoss | S87: ABQM | Y87: 15 | Z87: 2 | AA87: 3 | AB87: G | AC87: B | AD87: 100 | AI87: 0,00 | BF87: 3346.2592 | BJ87: 3346.2592
A88: 179 | B88: Houtplein | C88: Houtplein 33 | D88: Haarlem | E88: 2012HR01 | H88: Schacht tegenover 0.34B | I88: 179 | L88: 2 | M88: Stuks | N88: Regelklep incl. Stelmotor | O88: 561060 | P88: Regelkleppen + stelmotoren warmtedistributie | Q88: 2012 | R88: Belimo | S88: LR 24 A | Y88: 15 | Z88: 2 | AA88: 3 | AB88: G | AC88: B | AD88: 100 | AI88: 0,00 | BF88: 6692.5184 | BJ88: 6692.5184
A89: 65 | B89: Houtplein | C89: Houtplein 33 | D89: Haarlem | E89: 2012HR01 | H89: 5.15 | I89: 65 | L89: 2 | M89: Stuks | N89: Regelklep incl. Stelmotor | O89: 561060 | P89: Regelkleppen + stelmotoren warmtedistributie | Q89: 2012 | R89: Danfoss | S89: AME 435 QM | Y89: 15 | Z89: 2 | AA89: 3 | AB89: G | AC89: B | AD89: 100 | AI89: 0,00 | BF89: 6692.5184 | BJ89: 6692.5184
A90: 67 | B90: Houtplein | C90: Houtplein 33 | D90: Haarlem | E90: 2012HR01 | H90: dak | I90: 67 | L90: 2 | M90: Stuks | N90: Regelklep incl. Stelmotor | O90: 561060 | P90: Regelkleppen + stelmotoren warmtedistributie | Q90: 2012 | R90: Belimo | S90: SY1-230-31 | Y90: 15 | Z90: 2 | AA90: 3 | AB90: G | AC90: B | AD90: 100 | AI90: 0,00 | BF90: 6692.5184 | BJ90: 6692.5184
A91: 69 | B91: Houtplein | C91: Houtplein 33 | D91: Haarlem | E91: 2012HR01 | H91: 5.14 | I91: 69 | L91: 2 | M91: Stuks | N91: Regelklep incl. Stelmotor | O91: 561060 | P91: Regelkleppen + stelmotoren warmtedistributie | Q91: 2012 | R91: Danfoss | S91: AME 435 QM | Y91: 15 | Z91: 2 | AA91: 3 | AB91: G | AC91: B | AD91: 100 | AI91: 0,00 | BF91: 6692.5184 | BJ91: 6692.5184
A92: 236 | B92: Houtplein | C92: Houtplein 33 | D92: Haarlem | E92: 2012HR01 | H92: WKO ruimte | I92: 236 | L92: 2 | M92: Stuks | N92: Regelklep incl. Stelmotor | O92: 561060 | P92: Regelkleppen + stelmotoren warmtedistributie | Q92: 2012 | R92: Belimo | S92: AVY24-MFT | Y92: 15 | Z92: 2 | AA92: 3 | AB92: G | AC92: B | AD92: 100 | AI92: 0,00 | BF92: 6692.5184 | BJ92: 6692.5184
A93: 238 | B93: Houtplein | C93: Houtplein 33 | D93: Haarlem | E93: 2012HR01 | H93: WKO ruimte | I93: 238 | L93: 1 | M93: Stuks | N93: Regelklep incl. Stelmotor | O93: 561060 | P93: Regelkleppen + stelmotoren warmtedistributie | Q93: 2012 | R93: Belimo | S93: 24ASR | Y93: 15 | Z93: 2 | AA93: 3 | AB93: G | AC93: B | AD93: 100 | AI93: 0,00 | BF93: 3346.2592 | BJ93: 3346.2592
A94: 62 | B94: Houtplein | C94: Houtplein 33 | D94: Haarlem | E94: 2012HR01 | H94: 5.01 | I94: 62 | L94: 1 | M94: Stuks | N94: Regelklep incl. Stelmotor | O94: 561060 | P94: Regelkleppen + stelmotoren warmtedistributie | Q94: 2012 | R94: Siemens | S94: SQL83 | Y94: 15 | Z94: 2 | AA94: 3 | AB94: G | AC94: B | AD94: 100 | AI94: 0,00 | BF94: 3346.2592 | BJ94: 3346.2592
A95: 64 | B95: Houtplein | C95: Houtplein 33 | D95: Haarlem | E95: 2012HR01 | H95: 5.15 | I95: 64 | L95: 1 | M95: Stuks | N95: Regelklep incl. Stelmotor | O95: 561060 | P95: Regelkleppen + stelmotoren warmtedistributie | Q95: 2012 | R95: Siemens | S95: SQL83 | Y95: 15 | Z95: 2 | AA95: 3 | AB95: G | AC95: B | AD95: 100 | AI95: 0,00 | BF95: 3346.2592 | BJ95: 3346.2592
A96: 233 | B96: Houtplein | C96: Houtplein 33 | D96: Haarlem | E96: 2012HR01 | H96: WKO ruimte | I96: 233 | L96: 1 | M96: Stuks | N96: Afsluiter incl. Stelmotor | O96: 561060 | P96: Regelkleppen + stelmotoren warmtedistributie | Q96: 2012 | R96: Econosto | S96: EL 55/50 M20 | Y96: 15 | Z96: 2 | AA96: 3 | AB96: G | AC96: B | AD96: 100 | AI96: 0,00 | BF96: 3346.2592 | BJ96: 3346.2592
A97: 255 | B97: Houtplein | C97: Houtplein 33 | D97: Haarlem | E97: 2012HR01 | H97: -1.06 | I97: 255 | L97: 2 | M97: Stuks | N97: Ventilatie ruimte -1.06 | O97: 572100 | P97: Algemeen | Q97: 2016 | R97: Ostberg | V97: 1.21 m3/s | Z97: 1 | AA97: 3
A98: 75 | B98: Houtplein | C98: Houtplein 33 | D98: Haarlem | E98: 2012HR01 | H98: 5.12 | I98: 75 | L98: 1 | M98: Stuks | N98: Luchtbehandeling | O98: 577000 | P98: Algemeen | Q98: 2012 | R98: carrier | S98: 39 HQ | Y98: 25 | Z98: 1 | AA98: 3
A99: 76 | B99: Houtplein | C99: Houtplein 33 | D99: Haarlem | E99: 2012HR01 | H99: 5.12 | I99: 76 | L99: 1 | M99: Stuks | N99: Luchtbehandeling | O99: 577000 | P99: Algemeen | Q99: 2012 | R99: carrier | S99: 39 HQ 16-08 | Y99: 25 | Z99: 1 | AA99: 3
A100: 72 | B100: Houtplein | C100: Houtplein 33 | D100: Haarlem | E100: 2012HR01 | H100: 5.01 | I100: 72 | L100: 1 | M100: Stuks | N100: Luchtbehandeling | O100: 577000 | P100: Algemeen | Q100: 2012 | R100: carrier | S100: 39 HQ 14.08 | Y100: 25 | Z100: 1 | AA100: 3
...

Sheet Opm Conditie
E1: Datum | F1: : | G1: ='Inv-Conditie-MJB'!I1 -> 43831
E2: Inspectie-type | F2: : | G2: ='Inv-Conditie-MJB'!I2 -> SIMJB-Update 2021
E3: Klantnaam | F3: : | G3: ='Inv-Conditie-MJB'!I3 -> Houtplein Provincie Noord Holland Update 2021 Def
E4: Hoofdfunctieplaats | F4: : | G4: ='Inv-Conditie-MJB'!I4 -> 2012DE01
E5: Uitgevoerd door | F5: : | G5: ='Inv-Conditie-MJB'!I5 -> 0
E6: Projectnummer | F6: : | G6: ='Inv-Conditie-MJB'!I6 -> 5001004151
E7: Versie | F7: : | G7: ='Inv-Conditie-MJB'!I7 -> V3.0
A8: Opmerkingenblad conditiemeting
D9: Opmerkingen algemeen en opmerkingen gebreken
A10: Volgnr | B10: Klantspecifiek Equipmentnr | C10: Gebreknr | H10: Kosten in € excl. BTW | I10: Foto (zie fotoblad) | J10: Opmerkingen overleg Strukton-Provincie 11-10-2021
A12: 224 | B12: 224 | C12: 1 | D12: Corrosie De bouten van de TSA zijn zwaar gecorrodeerd. Geadviseerd wordt de bouten te vervangen en de corrosie te verwjderen | H12: 750,00 | I12: Foto | J12: Actieplan Corrosie en isolatieherstel
A13: 199 | B13: 199 | C13: 1 | D13: Loszittende isolatiedelen De isolatie van de afvoerleiding in de hal (-1) is los. Geadviseerd wordt de isolatie te herstellen | H13: 250,00 | I13: Foto | J13: Actieplan Corrosie en isolatieherstel
A14: 205 | B14: 205 | C14: 1 | D14: Lekkage aan aansluiting leidingverbinding en/of verbinding appendages In de hydrofoorruimte begane grond ruimte 0.07 zijn lekkage sporen waargenomen op het leidingwerk tegenover de hydrofoor. Geadviseerd wordt de lekkage te verhelpen en het leidingwerk opnieuw te isoleren. | H14: 500,00 | I14: Foto | J14: Actieplan Corrosie en isolatieherstel
A15: 166 | B15: 166 | C15: 1 | D15: Lekkage waterzijdige aansluiting Het reduceerventiel van de drukverhogingsinstallatie vertoond lekkage. Geadviseerd word de lekkage te verhelpen. | H15: 500,00 | I15: Foto | J15: Actieplan Corrosie en isolatieherstel
A16: 166 | B16: 166 | C16: 2 | D16: Corrosie De pompvoet vertoond corrosie. Geadviseerd wordt de corrosie te verwijderen en het materiaal te conserveren. | H16: 150,00 | I16: Foto | J16: Actieplan Corrosie en isolatieherstel
A17: 166 | B17: 166 | C17: 3 | D17: Loszittende en/of beschadigde isolatie De isolatie is los van de koudwater groepen. Geadviseerd wordt de isolatie te herstellen. | H17: 250,00 | I17: Foto | J17: Actieplan Corrosie en isolatieherstel
A18: 209 | B18: 209 | C18: 1 | D18: Lekkage op waterzijdige aansluitingen via flenzen of koppelingen De boiler aansluiting vertoond lekkaesporen. Geadviseerd wordt de lekkage van de boiler aansluiting te herstellen door deze opnieuw te verpakken | H18: 250,00 | I18: Foto | J18: Actieplan Corrosie en isolatieherstel
A19: 209 | B19: 209 | C19: 2 | D19: Lekkage op waterzijdige aansluitingen via flenzen of koppelingen De koudwater inlaatcombinatie van de boiler is dicht gekalkt. Geadviseerd wordt de inlaatcombinatie te vervangen. | H19: 150,00 | I19: Foto | J19: Actieplan Corrosie en isolatieherstel
A20: 209 | B20: 209 | C20: 3 | D20: Lekkage op waterzijdige aansluitingen via flenzen of koppelingen De automatische ontluchter op de boiler vertoont lekkagesporen. Geadviseerd wordt de ontluchter te vervangen. | H20: 150,00 | I20: Foto | J20: Actieplan Corrosie en isolatieherstel
A21: 51 | B21: 51 | C21: 2 | D21: Afbrokkelen van lamel De lamellen van de condensor brokkelen af. Geadviseerd wordt de lammellen op te kammen en een beschermende coating aan te brengen | H21: 500,00 | I21: Foto | J21: MJOB 2022/offertetrajecten/Actie provincie
A22: 50 | B22: 50 | C22: 2 | D22: Afbrokkelen van lamel De lammellen van de condensor brokkelen af. Geadviseerd wordt de lammellen te voorzien van een beschermende coating | H22: 500,00 | I22: Foto | J22: MJOB 2022/offertetrajecten/Actie provincie
A23: 105 | B23: 105 | C23: 1 | D23: Corrosie in de WKO ruimte is tussen de beide TSA's de isolatie van de GKW leiding voor +/- 1mtr geimplodeerd wat duid op onderliggende corrosie. Geadviseerd wordt om specialistisch onderzoek te verrichten naar de staat van de leiding | H23: 450,00 | I23: Foto | J23: Actieplan Corrosie en isolatieherstel
A24: 105 | B24: 105 | C24: 2 | D24: Corrosie Er is corrosie geconstateerd aan de change over klep van de LBK in de technische ruimte 5.01. Geadviseerd wordt de corrosie te verwijderen en het materiaal te conserveren en te isoleren. | H24: 1.500,00 | J24: Actieplan Corrosie en isolatieherstel
A25: 229 | B25: 229 | C25: 1 | D25: Corrosie Er is corrosie waarnomen op de voetplaat van Fundatiepomp1 (vooraan). Geadviseerd wordt de corrosie te verwijderen en het materiaal te conserveren. | H25: 150,00 | I25: Foto | J25: Actieplan Corrosie en isolatieherstel
A26: 229 | B26: 229 | C26: 2 | D26: Overmatige geluidproductie van pomp De lagers van de Fundatiepomp II (middelste) zijn versleten. Geadviseerd wordt de lagers te vervangen. | H26: 2.500,00 | I26: Foto | J26: Inmiddels actie op uitgezet i.s.m. KSB
A27: 231 | B27: 231 | C27: 1 | D27: Waterzijdige lekkage van aansluiting Er zijn sporen van lekkage aangetroffen op de keerklep t.b.v. de vulinstallatie. Geadviseerd wordt de aansluiting te herstellen. | H27: 150,00 | I27: Foto | J27: Actieplan Corrosie en isolatieherstel
A28: 175 | B28: 175 | C28: 1 | D28: Lekkage aan appendage zoals afsluiter De regelklep van de vloerverwarming lekt. Geadviseerd wordt de lekkage te verhelpen en de corrosie te verwijderen. | H28: 1.500,00 | I28: Foto | J28: Actieplan Corrosie en isolatieherstel
A29: 175 | B29: 175 | C29: 2 | D29: Lekkage aan aansluiting leidingverbinding en/of verbinding appendages Er is een lekkage geconstateerd op de verdeler aan de afsluiter t.b.v. toevoer rechter 5 groepen. | H29: 500,00 | I29: Foto | J29: Actieplan Corrosie en isolatieherstel
A30: 24 | B30: 24 | C30: 1 | D30: Defecte brandwerende doorvoering op plaats van compartimentering De brandwerende doorvoer onder de verdeelinrichting is doorgestoken met bekabeling en niet brandwerend afgedicht. Geadviseerd wordt de doorvoer weer brandwerend af te dichten. | H30: 250,00 | I30: Foto
A31: Nieuw | B31: Nieuw | C31: 1 | D31: Beschadigde beschermkappen en roosters Er zijn 5 armaturen waarvan de beschermkappen defect zijn. Geadviseerd wordt om 5 armaturen te vervangen. | H31: 2.500,00 | I31: Foto | J31: MJOB 2022/offertetrajecten/Actie provincie
A32: 15 | B32: 15 | C32: 2 | D32: Beschadigde beschermkap of rooster Noodverlichting (pictogram) bordje is afgebroken in technische ruimte 5.12. | H32: 250,00 | I32: Foto | J32: Hersteld middels Storing
A33: 138 | B33: 138 | C33: 2 | D33: Defect toestel of onderdeel Tijdens de inspectie is geconstateerd dat het pictogram niet meer aanwezig is van het de noodverlichting in de technische ruimte 5.15 | H33: 250,00 | I33: Foto | J33: Hersteld middels Storing
A34: 244 | B34: 244 | C34: 2 | D34: storing in centrale De noodverlichtingcentral geeft storing. Geadviseerd wordt om specialistisch onderzoek te verrichten naar de oorzaak van het probleem. | H34: 500,00 | I34: Foto
A35: 254 | B35: 254 | C35: 2 | D35: Niet aangesloten veldapparatuur De monitor van het energiesysteem geeft geen informatie weer. Geadviseerd wordt onderzoek te verrichten naar de oorzaak van het probleem. | H35: 800,00 | I35: Foto
A36: 21 | B36: 21 | C36: 2 | D36: Vervangende onderdelen niet meer verkrijgbaar waardoor functie wordt bedreigd De Priva HX regeling wordt door de leverancier ondersteund tot 2027. Geadviseerd wordt om voortijdig de regeling te vervangen om de bedrijfszekerheid te kunnen waarborgen. | H36: 0,00 | J36: MJOB 2022/offertetrajecten/Actie provincie
A37: 23 | B37: 23 | C37: 2 | D37: Vervangende onderdelen niet meer verkrijgbaar waardoor functie wordt bedreigd De Priva HX regeling wordt door de leverancier ondersteund tot 2027. Geadviseerd wordt om voortijdig de regeling te vervangen om de bedrijfszekerheid te kunnen waarborgen. | H37: 0,00 | J37: MJOB 2022/offertetrajecten/Actie provincie
A38: 89 | B38: 89 | C38: 1 | D38: In- en uitwendige vervuiling Het filter van de toevoerventilator regelkast is vervuild. Geadviseerd wordt het filter te vervangen. | H38: 150,00 | I38: Foto | J38: Wordt meegenomen tijdens vervanging filters LBK

Sheet Opm MJB
E1: Datum | F1: : | G1: ='Inv-Conditie-MJB'!I1 -> 43831
E2: Inspectie-type | F2: : | G2: ='Inv-Conditie-MJB'!I2 -> SIMJB-Update 2021
E3: Klantnaam | F3: : | G3: ='Inv-Conditie-MJB'!I3 -> Houtplein Provincie Noord Holland Update 2021 Def
E4: Hoofdfunctieplaats | F4: : | G4: ='Inv-Conditie-MJB'!I4 -> 2012DE01
E5: Uitgevoerd door | F5: : | G5: ='Inv-Conditie-MJB'!I5 -> 0
E6: Projectnummer | F6: : | G6: ='Inv-Conditie-MJB'!I6 -> 5001004151
E7: Versie | F7: : | G7: ='Inv-Conditie-MJB'!I7 -> V3.0
A8: Opmerkingenblad MJB
D9: Opmerkingen
A10: Volgnr | B10: Klantspecifiek Equipmentnr | C10: Planjaar | H10: Kosten in € excl. BTW
A12: 155 | B12: 155 | C12: 2028 | D12: Integrale vervanging Schuifdeur buiten elektrisch_x000D_ | H12: 10158.287
A13: 165 | B13: 165 | C13: 2028 | D13: Integrale vervanging Schuifdeur buiten elektrisch_x000D_ | H13: 10158.287
A14: 164 | B14: 164 | C14: 2024 | D14: Integrale vervanging Schuifdeur binnen elektrisch_x000D_ | H14: 9384.6868
A15: 162 | B15: 162 | C15: 2028 | D15: Integrale vervanging Tourniquet binnen elektrisch_x000D_ | H15: 143411.11
A16: 224 | B16: 224 | C16: 2022 | D16: Verhelpen gebrekenlijst n.a.v. NEN2767 - Corrosie | H16: 795.906
A17: 99 | B17: 99 | C17: 2022 | D17: Partieel onderhoud | H17: 5836.644
A18: 99 | B18: 99 | C18: 2024 | D18: Partieel onderhoud | H18: 6072.4444
A19: 99 | B19: 99 | C19: 2026 | D19: Partieel onderhoud | H19: 6317.7712
A20: 99 | B20: 99 | C20: 2028 | D20: Partieel onderhoud | H20: 6573.0091
A21: 99 | B21: 99 | C21: 2030 | D21: Partieel onderhoud | H21: 6838.5587
A22: 199 | B22: 199 | C22: 2022 | D22: Verhelpen gebrekenlijst n.a.v. NEN2767 - Loszittende isolatiedelen | H22: 265.302
A23: 101 | B23: 101 | C23: 2028 | D23: Integrale vervanging Uitgangspunt: Verwijderen en afvoeren vetafscheider. Uitgaande van nieuw aan te brengen vetafscheider, incl. aansluiten en graafwerkzaamheden. Merk: KTN, Type: VA-A-480-V-ND, Inhoud (vetverzamelvermogen): 157 ltr.:_x000D_ | H23: 9560.7405
... A201: 97 | B201: 97 | C201: 2028 | D201: Integrale vervanging Vervangen centrale | H201: 26889.583

Sheet Foto
C1: Datum | E1: : | F1: ='Inv-Conditie-MJB'!I1 -> 43831
C2: Inspectie-type | E2: : | F2: ='Inv-Conditie-MJB'!I2 -> SIMJB-Update 2021
C3: Klantnaam | E3: : | F3: ='Inv-Conditie-MJB'!I3 -> Houtplein Provincie Noord Holland Update 2021 Def
C4: Hoofdfunctieplaats | E4: : | F4: ='Inv-Conditie-MJB'!I4 -> 2012DE01
C5: Uitgevoerd door | E5: : | F5: ='Inv-Conditie-MJB'!I5 -> 0
C6: Projectnummer | E6: : | F6: ='Inv-Conditie-MJB'!I6 -> 5001004151
C7: Versie | E7: : | F7: ='Inv-Conditie-MJB'!I7 -> V3.0
A8: Fotoblad
B11: Volgnr. 1 - Corrosie | F11: Volgnr. 1 - Loszittende isolatiedelen
B12: 224 - p1110685.jpg | F12: 199 - p1110619.jpg
B15: Volgnr. 1 - Lekkage aan aansluiting leidingverbinding en/of verbinding appendages | F15: Volgnr. 1 - Lekkage waterzijdige aansluiting
B16: 205 - p1110567.jpg | F16: 166 - p1110564 (1).jpg
B19: Volgnr. 2 - Corrosie | F19: Volgnr. 3 - Loszittende en/of beschadigde isolatie
B20: 166 - p1110572.jpg | F20: 166 - p1120403.jpg
B23: Volgnr. 1 - Lekkage op waterzijdige aansluitingen via flenzen of koppelingen | F23: Volgnr. 2 - Lekkage op waterzijdige aansluitingen via flenzen of koppelingen
B24: 209 - p1110610.jpg | F24: 209 - p1110613.jpg
B27: Volgnr. 3 - Lekkage op waterzijdige aansluitingen via flenzen of koppelingen | F27: Volgnr. 2 - Afbrokkelen van lamel
B28: 209 - p1120480.jpg | F28: 51 - p1110394.jpg
B31: Volgnr. 2 - Afbrokkelen van lamel | F31: Volgnr. 1 - Corrosie
B32: 50 - p1110324.jpg | F32: 105 - p1110686.jpg
... B56: 254 - p1120427.jpg | F56: 89 - p1110339.jpg

Sheet MJB totaal
F1: Datum | H1: : | I1: ='Inv-Conditie-MJB'!I1 -> 43831
F2: Inspectie-type | H2: : | I2: ='Inv-Conditie-MJB'!I2 -> SIMJB-Update 2021
F3: Klantnaam | H3: : | I3: ='Inv-Conditie-MJB'!I3 -> Houtplein Provincie Noord Holland Update 2021 Def
F4: Hoofdfunctieplaats | H4: : | I4: ='Inv-Conditie-MJB'!I4 -> 2012DE01
F5: Uitgevoerd door | H5: : | I5: ='Inv-Conditie-MJB'!I5 -> 0
F6: Projectnummer | H6: : | I6: ='Inv-Conditie-MJB'!I6 -> 5001004151
F7: Versie | H7: : | I7: ='Inv-Conditie-MJB'!I7 -> V3.0
A8: Meerjarenbudgettering totaal kosten in € excl. BTW per gebouw per NLSFB codering | H8: Startjaar: | I8: 2022 | J8: 10 | K8: jaar | L8: Index | M8: 2%
A9: Gebouw | B9: Omschrijving | M9: Totaalkosten
A10: Hoofdelement | B10: omschrijving | C10: 2022 | D10: 2023 | E10: 2024 | F10: 2025 | G10: 2026 | H10: 2027 | I10: 2028 | J10: 2029 | K10: 2030 | L10: 2031
A12: 2012HR01 | B12: Houtplein | C12: 244741.1 | D12: 3463.7829 | E12: 165997.44 | F12: 8468.7414 | G12: 26649.507 | H12: 186358.28 | I12: 707876.04 | J12: 10970.95 | K12: 23897.654 | L12: 4058.3737 | M12: 1382481.9
A13: 31 | B13: Buitenwandopeningen | E13: 9384.6868 | I13: 163727.68 | M13: 173112.37
A14: 51 | B14: Warmteopwekking | C14: 6632.55 | E14: 6072.4444 | G14: 6317.7712 | I14: 6573.0091 | K14: 6838.5587 | M14: 32434.333
A15: 52 | B15: Afvoeren | C15: 265.302 | I15: 9560.7405 | M15: 9826.0425
A16: 53 | B16: Water | C16: 1538.7516 | H16: 5858.2969 | I16: 7254.2119 | M16: 14651.26
A17: 55 | B17: Koude-opwekking en distributie | C17: 27856.71 | E17: 6072.4444 | G17: 6317.7712 | I17: 40633.147 | K17: 6838.5587 | M17: 87718.632
A18: 56 | B18: Warmtedistributie | C18: 2281.5972 | I18: 122568.69 | M18: 124850.29
A19: 57 | B19: Luchtbehandeling | C19: 1220.3892 | H19: 7615.786 | M19: 8836.1752
A20: 58 | B20: Regeling klimaat en sanitair | C20: 193882.7 | I20: 39199.036 | M20: 233081.74
A21: 61 | B21: Centrale elektrotechnische voorzieningen | E21: 4416.3232 | J21: 4875.9777 | M21: 9292.3009
A22: 63 | B22: Verlichting | C22: 530.604 | E22: 20590.003 | F22: 6216.4166 | H22: 12571.905 | I22: 77010.57 | K22: 6863.4262 | M22: 123782.92
A23: 64 | B23: Communicatie | E23: 18769.374 | I23: 8963.1943 | M23: 27732.568
A24: 65 | B24: Beveiliging | C24: 7242.7446 | D24: 1298.9186 | E24: 12365.705 | G24: 804.07997 | H24: 157968.98 | I24: 128711.47 | J24: 3656.9833 | K24: 870.36202 | L24: 1521.8902 | M24: 314441.13
A25: 66 | B25: Transport | I25: 33462.592 | M25: 33462.592
A26: 67 | B26: Gebouwbeheersvoorzieningen | C26: 1167.3288 | E26: 86118.303 | G26: 10912.514 | M26: 98198.145
A27: 73 | B27: Vaste keukenvoorzieningen | I27: 31371.18 | M27: 31371.18
A28: 74 | B28: Vaste sanitaire voorzieningen | C28: 2122.416 | D28: 2164.8643 | E28: 2208.1616 | F28: 2252.3248 | G28: 2297.3713 | H28: 2343.3188 | I28: 2390.1851 | J28: 2437.9888 | K28: 2486.7486 | L28: 2536.4836 | M28: 23239.863
A29: 75 | B29: Vaste onderhoudsvoorzieningen | I29: 9560.7405 | M29: 9560.7405
A30: 90 | B30: Terrein | I30: 26889.583 | M30: 26889.583
A31: totaal | C31: 244741.1 | D31: 3463.7829 | E31: 165997.44 | F31: 8468.7414 | G31: 26649.507 | H31: 186358.28 | I31: 707876.04 | J31: 10970.95 | K31: 23897.654 | L31: 4058.3737 | M31: 1382481.9

Sheet Beoordeling 2767
C1: Datum | D1: : | E1: ='Inv-Conditie-MJB'!I1 -> 43831
C2: Inspectie-type | D2: : | E2: ='Inv-Conditie-MJB'!I2 -> SIMJB-Update 2021
C3: Klantnaam | D3: : | E3: ='Inv-Conditie-MJB'!I3 -> Houtplein Provincie Noord Holland Update 2021 Def
C4: Hoofdfunctieplaats | D4: : | E4: ='Inv-Conditie-MJB'!I4 -> 2012DE01
C5: Uitgevoerd door | D5: : | E5: ='Inv-Conditie-MJB'!I5 -> 0
C6: Projectnummer | D6: : | E6: ='Inv-Conditie-MJB'!I6 -> 5001004151
C7: Versie | D7: : | E7: ='Inv-Conditie-MJB'!I7 -> V3.0
A8: Beoordelingkriteria NEN 2767
B10: Tabel 1 Conditiescore
B11: Conditiescore
B12: 1 | C12: Uitstekend
B13: 2 | C13: Goed
B14: 3 | C14: Redelijk
B15: 4 | C15: Matig
B16: 5 | C16: Slecht
B17: 6 | C17: Zeer slecht
B19: Tabel 2 Ernst
B20: Ernst
B21: E | C21: Ernstige gebreken
B22: S | C22: Serieuze gebreken
B23: G | C23: Geringe gebreken
B25: Tabel 3 Intensiteit
B26: Intensiteit
B27: B | C27: Beginstadium
B28: G | C28: Gevorderd stadium
B29: E | C29: Eindstadium
B31: Tabel 4 Omvang
B32: Omvang
B33: <2% | C33: Incidenteel
B34: 2-10% | C34: Plaatselijk
B35: 10-30% | C35: Regelmatig
B36: 30-70% | C36: Aanzienlijk
B37: >= 70% | C37: Algemeen
B39: Tabel 5 AP Matrix
B40: Functioneel Aspect/ - Prioriteit matrix
B41: Risicowaarde | C41: 9 | D41: 8 | E41: 7 | F41: 6 | G41: 5 | H41: 4 | I41: 3 | J41: 2 | K41: 1
B42: Aspect
C43: laag | F43: Prioriteit | K43: hoog
B45: 1. Veiligheid / gezondheid | I45: 1 | J45: 2 | K45: 3
B46: 2. Cultuur historische waarde | H46: 1 | I46: 2 | J46: 3
B47: 3. Gebruiks- / bedrijfsproces afnemer | G47: 1 | H47: 2 | I47: 3
B48: 4. Technische vervnolgschade | F48: 1 | G48: 2 | H48: 3
B49: 5. Toename klachten onderhoud | E49: 1 | F49: 2 | G49: 3
B50: 6. Beleving esthetica | D50: 1 | E50: 2 | F50: 3
B51: 7. Technisch functioneel | C51: 1 | D51: 2 | E51: 3
B53: Tabel 6 Bewerkingsadvies
B54: Bewerkingscode [BW] | D54: Bewerkingscode [BW]
B55: - | C55: Niet van toepassing | D55: 5 | E55: Slopen/verwijderen
B56: 0 | C56: Onbekend/niet te bepalen | D56: 6 | E56: Reparatie lokale defecten
B57: 1 | C57: Integrale vervanging/ renovatie/modificatie | D57: 7 | E57: Vervangen onderdelen/afwerkingen
B58: 2 | C58: Vervolgsysteem/ hergebruik/revisie | D58: 8 | E58: Bijstellen/naregelen/nalopen/keuring
B59: 3 | C59: Toevoegen nieuwe elementen/ uitbreiding | D59: 9 | E59: Specialistisch onderzoek
B60: 4 | C60: Technisch reinigen/doorspuiten/ schoonmaken | D60: E | E60: Elders opgenomen

Sheet Kleuren wijzer
B2: Gele cellen niet bewerken
B3: Niet gekleurde cellen invullen
