Workbook
Name _58.x: '[1]per techieksoort en NL-fsb'!$C$45
Name _NEN3140: #REF!
Name _NEN3140: #REF!
Name _NEN3140: #REF!
Name Aandeel: #REF!
Name Aandeel: #REF!
Name Aandeel: #REF!
Name Activiteit: #REF!
Name Activiteit: #REF!
Name Activiteit: #REF!
Name Afdrukbereik_MI: [2]begroting!$B$9:$V$145
Name Afdruktitels_MI: [2]begroting!$A$4:$IV$8
Name ant: [2]begroting!$H$9:$H$144
Name artikel: [2]begroting!$C$1
Name Aspect: #REF!
Name Aspect: #REF!
Name Aspect: #REF!
Name Begin: #REF!
Name Begin: #REF!
Name Begin: #REF!
Name Beheerpercentage: '[3]CALC. Productie Maarheeze'!$AG$6
Name Behr: #REF!
Name Behr: #REF!
Name Behr: #REF!
Name Belang: #REF!
Name Belang: #REF!
Name Belang: #REF!
Name Belang1: #REF!
Name Belang1: #REF!
Name Belang1: #REF!
Name Belang2: #REF!
Name Belang2: #REF!
Name Belang2: #REF!
Name BeTa: [2]Calculatie!$D$94:$E$99
Name bewerkingsadvies: #REF!
Name bewerkingsadvies: #REF!
Name bewerkingsadvies: #REF!
Name bewerkingsadvies2: #REF!
Name bewerkingsadvies2: #REF!
Name bewerkingsadvies2: #REF!
Name Bldg: [4]validation!#REF!
Name Bldg: [4]validation!#REF!
Name Bldg: [4]validation!#REF!
Name bouwjaar: [2]Calculatie!$C$344:$C$346
Name BT_Tarief: #REF!
Name BT_Tarief: #REF!
Name BT_Tarief: #REF!
Name Cap: [2]begroting!$F$1
Name CB_Tarief: #REF!
Name CB_Tarief: #REF!
Name CB_Tarief: #REF!
Name CB_Wevo_Tarief: [5]VC!$F$8
Name CE_Tarief: #REF!
Name CE_Tarief: #REF!
Name CE_Tarief: #REF!
Name CF: [6]Calculatie!$R$5
Name CM_CE_Tarief: [5]VC!$G$8
Name CM_Tarief: #REF!
Name CM_Tarief: #REF!
Name CM_Tarief: #REF!

Sheet Inv-Conditie-MJB
F1: Datum | H1: : | I1: 43831
F2: Inspectie-type | H2: : | I2: SIMJB-Update 2021
F3: Klantnaam | H3: : | I3: Houtplein Provincie Noord Holland Update 2021 Def
F4: Hoofdfunctieplaats | H4: : | I4: 2012DE01
F5: Uitgevoerd door | H5: :
F6: Projectnummer | H6: : | I6: 5001004151
F7: Versie | H7: : | I7: V3.0
A8: Inventarisblad | D8: Startjaar: | E8: 2022 | F8: 10 | G8: jaar | H8: Index | I8: 2% | Y8: Conditiemeting | AZ8: Meerjarenbudgettering
AB9: 1e gebrek | AJ9: 2e gebrek | AR9: 3e gebrek | AZ9: Kosten in € excl. BTW
A10: Volgnr | B10: Gebouw | C10: Adres | D10: Plaats | E10: Functieplaats | F10: Bouwdeel | G10: Bouwlaag | H10: Ruimte | I10: Klantspecifiek Equipmentnr | J10: Installatienr. Klant | K10: SAP Referentie equipementnummer | L10: Aantal | M10: Eenheid | N10: Installatiebenaming | O10: Elementcode | P10: Elementbenaming | Q10: Bouwjaar | R10: Fabrikant | S10: Type | T10: Vermogen/capaciteit | U10: Dimensie | V10: Overige kenmerken | W10: Componentfunctie | X10: Opmerkingen | Y10: Theoretische Levensduur NEN 2767 | Z10: Gemeten Conditie | AA10: "Gewenste" Conditie | AB10: Ernst | AC10: Intensiteit | AD10: Omvang | AE10: Risicowaarde | AF10: Functioneel Aspect | AG10: Functionele Prioriteit | AH10: Bewerkingsadvies | AI10: Kosten | AJ10: Ernst | AK10: Intensiteit | AL10: Omvang | AM10: Risicowaarde | AN10: Functioneel Aspect | AO10: Functionele Prioriteit | AP10: Bewerkingsadvies | AQ10: Kosten | AR10: Ernst | AS10: Intensiteit | AT10: Omvang | AU10: Risicowaarde | AV10: Functioneel Aspect | AW10: Functionele Prioriteit | AX10: Bewerkingsadvies | AY10: Kosten | AZ10: 2022 | BA10: 2023 | BB10: 2024 | BC10: 2025 | BD10: 2026 | BE10: 2027 | BF10: 2028 | BG10: 2029 | BH10: 2030 | BI10: 2031 | BJ10: Totaalkosten
A11: 155 | B11: Houtplein | C11: Houtplein 33 | D11: Haarlem | E11: 2012HR01 | H11: Brommer stalling 0.6 | I11: 155 | L11: 1 | M11: Stuks | N11: Schuifdeur | O11: 313200 | P11: Schuifdeuren | Q11: 2012 | R11: Tormax | V11: Deurnr: 1998-026 | W11: t.b.v. begane grond brommerstalling buiten. | Y11: 15 | Z11: 2 | AA11: 3 | AB11: G | AC11: B | AD11: 100 | AI11: 0,00 | BF11: 10158.287 | BJ11: 10158.287
A12: 165 | B12: Houtplein | C12: Houtplein 33 | D12: Haarlem | E12: 2012HR01 | H12: begane grond | I12: 165 | L12: 1 | M12: Stuks | N12: Rol / Overhead deur elektrisch | O12: 313200 | P12: Schuifdeuren | Q12: 2012 | R12: Crawford | W12: t.b.v. begane grond expeditie. | Y12: 15 | Z12: 2 | AA12: 3 | AB12: G | AC12: B | AD12: 100 | AI12: 0,00 | BF12: 10158.287 | BJ12: 10158.287
A13: 164 | B13: Houtplein | C13: Houtplein 33 | D13: Haarlem | E13: 2012HR01 | H13: Containerruimte 0.2 | I13: 164 | L13: 1 | M13: Stuks | N13: Vouwdeur (elektrisch) | O13: 313200 | P13: Schuifdeuren | Q13: 2012 | R13: Crawford | S13: CC/M9 | V13: Deurnr: 1376429 | W13: t.b.v. begane grond container ruimte los gebouw | Y13: 15 | Z13: 2 | AA13: 3 | AB13: G | AC13: B | AD13: 100 | AI13: 0,00 | BB13: 9384.6868 | BJ13: 9384.6868
A14: 162 | B14: Houtplein | C14: Houtplein 33 | D14: Haarlem | E14: 2012HR01 | H14: begane grond | I14: 162 | L14: 5 | M14: Stuks | N14: Speedlane | O14: 313400 | P14: Tourniquets | Q14: 2012 | R14: Cominfo | Y14: 15 | Z14: 2 | AA14: 3 | AB14: G | AC14: B | AD14: 100 | AI14: 0,00 | BF14: 143411.11 | BJ14: 143411.11
A15: 98 | B15: Houtplein | C15: Houtplein 33 | D15: Haarlem | E15: 2012HR01 | H15: dak | I15: 98 | L15: 636 | M15: Stuks | N15: Zonwering (elektrisch) | O15: 318700 | P15: Algemeen | Q15: 2012 | R15: Dunker | S15: Buitenjaloezien | V15: Elektrisch | W15: t.b.v. zonweringsvoorziening | Y15: 20 | Z15: 1 | AA15: 3 | AI15: 0,00
A16: 225 | B16: Houtplein | C16: Houtplein 33 | D16: Haarlem | E16: 2012HR01 | H16: WKO ruimte | I16: 225 | L16: 1 | M16: Stuks | N16: TSA | O16: 513110 | P16: Tegenstroomapparaten | Q16: 2012 | R16: Sondex | S16: S86IG10 | Y16: 25 | Z16: 1 | AA16: 3
A17: 224 | B17: Houtplein | C17: Houtplein 33 | D17: Haarlem | E17: 2012HR01 | H17: WKO ruimte | I17: 224 | L17: 1 | M17: Stuks | N17: TSA | O17: 513110 | P17: Tegenstroomapparaten | Q17: 2012 | R17: Sondex | S17: S86IS10 | Y17: 25 | Z17: 2 | AA17: 3 | AB17: E | AC17: G | AD17: 8 | AE17: 4 | AF17: 4 | AG17: 3 | AH17: 6 | AI17: 750,00 | AZ17: 795.906 | BJ17: 795.906
A18: 99 | B18: Houtplein | C18: Houtplein 33 | D18: Haarlem | E18: 2012HR01 | H18: Terrein | I18: 99 | L18: 1 | M18: Stuks | N18: warme bron pomp | O18: 513130 | P18: Bodemopslag warmte | Q18: 2012 | R18: Melotte | Y18: 20 | Z18: 1 | AA18: 3 | AZ18: 5836.644 | BB18: 6072.4444 | BD18: 6317.7712 | BF18: 6573.0091 | BH18: 6838.5587 | BJ18: 31638.427
A19: 204 | B19: Houtplein | C19: Houtplein 33 | D19: Haarlem | E19: 2012HR01 | H19: -1.02 | I19: 204 | L19: 1 | M19: Stuks | N19: Warmtepomp | O19: 515100 | P19: Warmtepompen algemeen | Q19: 2012 | R19: Stiebel Eltron | S19: WPL 13/18/23/33/1 | V19: Stek nr.:? | Y19: 20 | Z19: 1 | AA19: 3
A20: 226 | B20: Houtplein | C20: Houtplein 33 | D20: Haarlem | E20: 2012HR01 | H20: WKO ruimte | I20: 226 | L20: 1 | M20: Stuks | N20: Warmtepomp | O20: 515100 | P20: Warmtepompen algemeen | Q20: 2012 | R20: Bion Bauhaus AG | S20: Swissheat Titan WW808/8 | V20: 8x16kg R417a 808kw | Y20: 20 | Z20: 1 | AA20: 3
A21: 199 | B21: Houtplein | C21: Houtplein 33 | D21: Haarlem | E21: 2012HR01 | H21: dak | I21: 199 | L21: 19168 | M21: BVO | N21: Hemelwater afvoer | O21: 521110 | P21: Leidingen hwa binnen | Q21: 2012 | Y21: 30 | Z21: 2 | AA21: 3 | AB21: G | AC21: E | AD21: 10 | AE21: 8 | AF21: 7 | AG21: 2 | AH21: 6 | AI21: 250,00 | AZ21: 265.302 | BJ21: 265.302
A22: 100 | B22: Houtplein | C22: Houtplein 33 | D22: Haarlem | E22: 2012HR01 | H22: diverse | I22: 100 | L22: 19168 | M22: BVO | N22: fecalien leidingen | O22: 522110 | P22: Leidingen afvoer fecaliën | Q22: 2012 | R22: PE | Y22: 30 | Z22: 1 | AA22: 3
A23: 101 | B23: Houtplein | C23: Houtplein 33 | D23: Haarlem | E23: 2012HR01 | H23: Terrein | I23: 101 | L23: 1 | M23: Stuks | N23: vetvangput | O23: 523200 | P23: Vetafscheider, excl. legen en stortkosten | Q23: 1985 | Y23: 25 | Z23: 3 | AA23: 3 | BF23: 9560.7405 | BJ23: 9560.7405
A24: 102 | B24: Houtplein | C24: Houtplein 33 | D24: Haarlem | E24: 2012HR01 | H24: algemeen | I24: 102 | L24: 19168 | M24: BVO | N24: water leiding incl. appendage | O24: 531000 | P24: Leidingen drinkwaterinstallatie | Q24: 2012 | Y24: 30 | Z24: 1 | AA24: 3
A25: 205 | B25: Houtplein | C25: Houtplein 33 | D25: Haarlem | E25: 2012HR01 | H25: -1.02 | I25: 205 | L25: 19168 | M25: BVO | N25: Leidingnet Drinkwater | O25: 531000 | P25: Leidingen drinkwaterinstallatie | Q25: 2012 | R25: Raminex | W25: t.b.v. drinkwaterleidingnet | Y25: 30 | Z25: 1 | AA25: 3 | AB25: S | AC25: G | AD25: 2 | AE25: 3 | AF25: 3 | AG25: 3 | AH25: 6 | AI25: 500,00
A26: 166 | B26: Houtplein | C26: Houtplein 33 | D26: Haarlem | E26: 2012HR01 | H26: 0.07 Hydrofoorruimte | I26: 166 | L26: 1 | M26: Stuks | N26: Hydrofoor installatie | O26: 531400 | P26: Drukverhogingsinstallaties drinkwater | Q26: 2012 | R26: Duivelaar | S26: HU2 DPVME6/5B | V26: Installnr: 2097026 voorien van 2 pompen | W26: t.b.v. drukverhoging drinkwater | Y26: 20 | Z26: 2 | AA26: 3 | AB26: S | AC26: G | AD26: 2 | AE26: 3 | AF26: 3 | AG26: 3 | AH26: 6 | AI26: 500,00 | AJ26: E | AK26: G | AL26: 1 | AM26: 4 | AN26: 4 | AO26: 3 | AP26: 6 | AQ26: 150,00 | AR26: S | AS26: E | AT26: 2 | AU26: 6 | AV26: 4 | AW26: 1 | AX26: 6 | AY26: 250,00 | AZ26: 955.0872 | BE26: 5858.2969 | BJ26: 6813.3841
A27: 167 | B27: Houtplein | C27: Houtplein 33 | D27: Haarlem | E27: 2012HR01 | H27: 0.07 Hydrofoorruimte | I27: 167 | L27: 1 | M27: Stuks | N27: Expansievat | O27: 531400 | P27: Drukverhogingsinstallaties drinkwater | Q27: 2012 | R27: Reflex | S27: 100l | V27: 12M082890007 | Y27: 15 | Z27: 2 | AA27: 3 | AB27: G | AC27: B | AD27: 100 | AI27: 0,00 | BF27: 1278.749 | BJ27: 1278.749
A28: 207 | B28: Houtplein | C28: Houtplein 33 | D28: Haarlem | E28: 2012HR01 | H28: -1.02 | I28: 207 | L28: 1 | M28: Stuks | N28: Circulatiepomp | O28: 532020 | P28: Pompen , warm-tapwaterinstallaties | Q28: 2012 | R28: grundfos | S28: ups 26/60/160 | Y28: 15 | Z28: 2 | AA28: 3 | BF28: 2987.7314 | BJ28: 2987.7314
A29: 206 | B29: Houtplein | C29: Houtplein 33 | D29: Haarlem | E29: 2012HR01 | H29: -1.02 | I29: 206 | L29: 1 | M29: Stuks | N29: Circulatiepomp | O29: 532020 | P29: Pompen , warm-tapwaterinstallaties | Q29: 2012 | R29: Wilo | S29: stratos para 25/1 | Y29: 15 | Z29: 2 | AA29: 3 | AB29: G | AC29: B | AD29: 100 | AI29: 0,00 | BF29: 2987.7314 | BJ29: 2987.7314
A30: 103 | B30: Houtplein | C30: Houtplein 33 | D30: Haarlem | E30: 2012HR01 | H30: algemeen | I30: 103 | L30: 1 | M30: Stuks | N30: Boiler (elektrische) | O30: 532120 | P30: Voorraadboilers elektrisch | Q30: 2012 | R30: Daalderop | S30: Close-up | T30: 10 | U30: Liter | W30: t.b.v. opwekking warm tapwater | Y30: 20 | Z30: 1 | AA30: 3
A31: 208 | B31: Houtplein | C31: Houtplein 33 | D31: Haarlem | E31: 2012HR01 | H31: -1.02 | I31: 208 | L31: 1 | M31: Stuks | N31: Boiler (elektrische) | O31: 532120 | P31: Voorraadboilers elektrisch | Q31: 2012 | R31: Stiebel Eltron | S31: FCR 21/120 | W31: t.b.v. opwekking warm tapwater | Y31: 20 | Z31: 1 | AA31: 3
A32: 209 | B32: Houtplein | C32: Houtplein 33 | D32: Haarlem | E32: 2012HR01 | H32: -1.02 | I32: 209 | L32: 1 | M32: Stuks | N32: Boiler (elektrische) | O32: 532120 | P32: Voorraadboilers elektrisch | Q32: 2012 | R32: Stiebel Eltron | S32: ? | W32: t.b.v. opwekking warm tapwater keuken | Y32: 20 | Z32: 2 | AA32: 3 | AB32: S | AC32: G | AD32: 2 | AE32: 3 | AF32: 3 | AG32: 3 | AH32: 6 | AI32: 250,00 | AJ32: S | AK32: G | AL32: 2 | AM32: 4 | AN32: 4 | AO32: 3 | AP32: 6 | AQ32: 150,00 | AR32: S | AS32: G | AT32: 2 | AU32: 4 | AV32: 4 | AW32: 3 | AX32: 6 | AY32: 150,00 | AZ32: 583.6644 | BJ32: 583.6644
A33: 1 | B33: Houtplein | C33: Houtplein 33 | D33: Haarlem | E33: 2012HR01 | H33: 1.21 | I33: 1 | L33: 1 | M33: Stuks | N33: Boiler (elektrische) | O33: 532120 | P33: Voorraadboilers elektrisch | Q33: 2012 | R33: Daalderop | S33: Close-up | T33: 15 | U33: Liter | W33: t.b.v. opwekking warm tapwater | Y33: 20 | Z33: 1 | AA33: 3
A34: 169 | B34: Houtplein | C34: Houtplein 33 | D34: Haarlem | E34: 2012HR01 | H34: 0.13 | I34: 169 | L34: 1 | M34: Stuks | N34: Boiler (elektrische) | O34: 532120 | P34: Voorraadboilers elektrisch | Q34: 2012 | R34: Daalderop | S34: Close-up | T34: 15 | U34: Liter | W34: t.b.v. opwekking warm tapwater | Y34: 20 | Z34: 1 | AA34: 3
A35: 170 | B35: Houtplein | C35: Houtplein 33 | D35: Haarlem | E35: 2012HR01 | H35: Fietsenstalling | I35: 170 | L35: 1 | M35: Stuks | N35: Boiler (elektrische) | O35: 532200 | P35: Voorraadboilers indirect verwarmd | Q35: 2012 | R35: Daalderop | S35: 80 liter (o7.14.18.049) | T35: 80 | U35: Liter | W35: t.b.v. opwekking warm tapwater | Y35: 20 | Z35: 1 | AA35: 3
A36: 210 | B36: Houtplein | C36: Houtplein 33 | D36: Haarlem | E36: 2012HR01 | H36: -1.06 | I36: 210 | L36: 1 | M36: Stuks | N36: Split unit | O36: 551200 | P36: Algemeen | Q36: 2012 | R36: mitsubischi electric | S36: Pac 1F011B-E | Y36: 20 | Z36: 1 | AA36: 3 | AZ36: 159.1812 | BJ36: 159.1812
A37: 4 | B37: Houtplein | C37: Houtplein 33 | D37: Haarlem | E37: 2012HR01 | H37: 1.22 | I37: 4 | L37: 1 | M37: Stuks | N37: Split unit | O37: 551200 | P37: Algemeen | Q37: 2012 | R37: LG | V37: 1,2 kg R410a | Y37: 20 | Z37: 1 | AA37: 3 | AI37: 0,00
A38: 2 | B38: Houtplein | C38: Houtplein 33 | D38: Haarlem | E38: 2012HR01 | H38: 1.03 | I38: 2 | L38: 1 | M38: Stuks | N38: Split unit | O38: 551200 | P38: Algemeen | Q38: 2012 | R38: LG | Y38: 20 | Z38: 1 | AA38: 3
A39: 51 | B39: Houtplein | C39: Houtplein 33 | D39: Haarlem | E39: 2012HR01 | H39: dak / hoog | I39: 51 | L39: 2 | M39: Stuks | N39: Split unit | O39: 551200 | P39: Algemeen | Q39: 2012 | R39: LG | S39: S09AQU UBO | V39: 0,9 kg / R410a | Y39: 15 | Z39: 3 | AA39: 3 | AB39: G | AC39: B | AD39: 82 | AI39: 0,00 | AJ39: E | AK39: G | AL39: 18 | AM39: 4 | AN39: 4 | AO39: 3 | AP39: 6 | AQ39: 500,00 | BF39: 6453.4999 | BJ39: 6453.4999
A40: 3 | B40: Houtplein | C40: Houtplein 33 | D40: Haarlem | E40: 2012HR01 | H40: 1 | I40: 3 | L40: 1 | M40: Stuks | N40: Split unit | O40: 551200 | P40: Algemeen | Q40: 2012 | R40: LG | Y40: 20 | Z40: 1 | AA40: 3
...

Sheet Opm Conditie
E1: Datum | F1: : | G1: ='Inv-Conditie-MJB'!I1 -> 43831
E2: Inspectie-type | F2: : | G2: ='Inv-Conditie-MJB'!I2 -> SIMJB-Update 2021
E3: Klantnaam | F3: : | G3: ='Inv-Conditie-MJB'!I3 -> Houtplein Provincie Noord Holland Update 2021 Def
E4: Hoofdfunctieplaats | F4: : | G4: ='Inv-Conditie-MJB'!I4 -> 2012DE01
E5: Uitgevoerd door | F5: : | G5: ='Inv-Conditie-MJB'!I5 -> 0
E6: Projectnummer | F6: : | G6: ='Inv-Conditie-MJB'!I6 -> 5001004151
E7: Versie | F7: : | G7: ='Inv-Conditie-MJB'!I7 -> V3.0
A8: Opmerkingenblad conditiemeting
D9: Opmerkingen algemeen en opmerkingen gebreken
A10: Volgnr | B10: Klantspecifiek Equipmentnr | C10: Gebreknr | H10: Kosten in € excl. BTW | I10: Foto (zie fotoblad) | J10: Opmerkingen overleg Strukton-Provincie 11-10-2021
A12: 224 | B12: 224 | C12: 1 | D12: Corrosie De bouten van de TSA zijn zwaar gecorrodeerd. Geadviseerd wordt de bouten te vervangen en de corrosie te verwjderen | H12: 750,00 | I12: Foto | J12: Actieplan Corrosie en isolatieherstel
A13: 199 | B13: 199 | C13: 1 | D13: Loszittende isolatiedelen De isolatie van de afvoerleiding in de hal (-1) is los. Geadviseerd wordt de isolatie te herstellen | H13: 250,00 | I13: Foto | J13: Actieplan Corrosie en isolatieherstel
A14: 205 | B14: 205 | C14: 1 | D14: Lekkage aan aansluiting leidingverbinding en/of verbinding appendages In de hydrofoorruimte begane grond ruimte 0.07 zijn lekkage sporen waargenomen op het leidingwerk tegenover de hydrofoor. Geadviseerd wordt de lekkage te verhelpen en het leidingwerk opnieuw te isoleren. | H14: 500,00 | I14: Foto | J14: Actieplan Corrosie en isolatieherstel
A15: 166 | B15: 166 | C15: 1 | D15: Lekkage waterzijdige aansluiting Het reduceerventiel van de drukverhogingsinstallatie vertoond lekkage. Geadviseerd word de lekkage te verhelpen. | H15: 500,00 | I15: Foto | J15: Actieplan Corrosie en isolatieherstel
A16: 166 | B16: 166 | C16: 2 | D16: Corrosie De pompvoet vertoond corrosie. Geadviseerd wordt de corrosie te verwijderen en het materiaal te conserveren. | H16: 150,00 | I16: Foto | J16: Actieplan Corrosie en isolatieherstel
A17: 166 | B17: 166 | C17: 3 | D17: Loszittende en/of beschadigde isolatie De isolatie is los van de koudwater groepen. Geadviseerd wordt de isolatie te herstellen. | H17: 250,00 | I17: Foto | J17: Actieplan Corrosie en isolatieherstel
A18: 209 | B18: 209 | C18: 1 | D18: Lekkage op waterzijdige aansluitingen via flenzen of koppelingen De boiler aansluiting vertoond lekkaesporen. Geadviseerd wordt de lekkage van de boiler aansluiting te herstellen door deze opnieuw te verpakken | H18: 250,00 | I18: Foto | J18: Actieplan Corrosie en isolatieherstel
A19: 209 | B19: 209 | C19: 2 | D19: Lekkage op waterzijdige aansluitingen via flenzen of koppelingen De koudwater inlaatcombinatie van de boiler is dicht gekalkt. Geadviseerd wordt de inlaatcombinatie te vervangen. | H19: 150,00 | I19: Foto | J19: Actieplan Corrosie en isolatieherstel
A20: 209 | B20: 209 | C20: 3 | D20: Lekkage op waterzijdige aansluitingen via flenzen of koppelingen De automatische ontluchter op de boiler vertoont lekkagesporen. Geadviseerd wordt de ontluchter te vervangen. | H20: 150,00 | I20: Foto | J20: Actieplan Corrosie en isolatieherstel
A21: 51 | B21: 51 | C21: 2 | D21: Afbrokkelen van lamel De lamellen van de condensor brokkelen af. Geadviseerd wordt de lammellen op te kammen en een beschermende coating aan te brengen | H21: 500,00 | I21: Foto | J21: MJOB 2022/offertetrajecten/Actie provincie
A22: 50 | B22: 50 | C22: 2 | D22: Afbrokkelen van lamel De lammellen van de condensor brokkelen af. Geadviseerd wordt de lammellen te voorzien van een beschermende coating | H22: 500,00 | I22: Foto | J22: MJOB 2022/offertetrajecten/Actie provincie
A23: 105 | B23: 105 | C23: 1 | D23: Corrosie in de WKO ruimte is tussen de beide TSA's de isolatie van de GKW leiding voor +/- 1mtr geimplodeerd wat duid op onderliggende corrosie. Geadviseerd wordt om specialistisch onderzoek te verrichten naar de staat van de leiding | H23: 450,00 | I23: Foto | J23: Actieplan Corrosie en isolatieherstel
A24: 105 | B24: 105 | C24: 2 | D24: Corrosie Er is corrosie geconstateerd aan de change over klep van de LBK in de technische ruimte 5.01. Geadviseerd wordt de corrosie te verwijderen en het materiaal te conserveren en te isoleren. | H24: 1.500,00 | J24: Actieplan Corrosie en isolatieherstel
A25: 229 | B25: 229 | C25: 1 | D25: Corrosie Er is corrosie waarnomen op de voetplaat van Fundatiepomp1 (vooraan). Geadviseerd wordt de corrosie te verwijderen en het materiaal te conserveren. | H25: 150,00 | I25: Foto | J25: Actieplan Corrosie en isolatieherstel
A26: 229 | B26: 229 | C26: 2 | D26: Overmatige geluidproductie van pomp De lagers van de Fundatiepomp II (middelste) zijn versleten. Geadviseerd wordt de lagers te vervangen. | H26: 2.500,00 | I26: Foto | J26: Inmiddels actie op uitgezet i.s.m. KSB
A27: 231 | B27: 231 | C27: 1 | D27: Waterzijdige lekkage van aansluiting Er zijn sporen van lekkage aangetroffen op de keerklep t.b.v. de vulinstallatie. Geadviseerd wordt de aansluiting te herstellen. | H27: 150,00 | I27: Foto | J27: Actieplan Corrosie en isolatieherstel
A28: 175 | B28: 175 | C28: 1 | D28: Lekkage aan appendage zoals afsluiter De regelklep van de vloerverwarming lekt. Geadviseerd wordt de lekkage te verhelpen en de corrosie te verwijderen. | H28: 1.500,00 | I28: Foto | J28: Actieplan Corrosie en isolatieherstel
A29: 175 | B29: 175 | C29: 2 | D29: Lekkage aan aansluiting leidingverbinding en/of verbinding appendages Er is een lekkage geconstateerd op de verdeler aan de afsluiter t.b.v. toevoer rechter 5 groepen. | H29: 500,00 | I29: Foto | J29: Actieplan Corrosie en isolatieherstel
A30: 24 | B30: 24 | C30: 1 | D30: Defecte brandwerende doorvoering op plaats van compartimentering De brandwerende doorvoer onder de verdeelinrichting is doorgestoken met bekabeling en niet brandwerend afgedicht. Geadviseerd wordt de doorvoer weer brandwerend af te dichten. | H30: 250,00 | I30: Foto
A31: Nieuw | B31: Nieuw | C31: 1 | D31: Beschadigde beschermkappen en roosters Er zijn 5 armaturen waarvan de beschermkappen defect zijn. Geadviseerd wordt om 5 armaturen te vervangen. | H31: 2.500,00 | I31: Foto | J31: MJOB 2022/offertetrajecten/Actie provincie
A32: 15 | B32: 15 | C32: 2 | D32: Beschadigde beschermkap of rooster Noodverlichting (pictogram) bordje is afgebroken in technische ruimte 5.12. | H32: 250,00 | I32: Foto | J32: Hersteld middels Storing
A33: 138 | B33: 138 | C33: 2 | D33: Defect toestel of onderdeel Tijdens de inspectie is geconstateerd dat het pictogram niet meer aanwezig is van het de noodverlichting in de technische ruimte 5.15 | H33: 250,00 | I33: Foto | J33: Hersteld middels Storing
A34: 244 | B34: 244 | C34: 2 | D34: storing in centrale De noodverlichtingcentral geeft storing. Geadviseerd wordt om specialistisch onderzoek te verrichten naar de oorzaak van het probleem. | H34: 500,00 | I34: Foto
A35: 254 | B35: 254 | C35: 2 | D35: Niet aangesloten veldapparatuur De monitor van het energiesysteem geeft geen informatie weer. Geadviseerd wordt onderzoek te verrichten naar de oorzaak van het probleem. | H35: 800,00 | I35: Foto
A36: 21 | B36: 21 | C36: 2 | D36: Vervangende onderdelen niet meer verkrijgbaar waardoor functie wordt bedreigd De Priva HX regeling wordt door de leverancier ondersteund tot 2027. Geadviseerd wordt om voortijdig de regeling te vervangen om de bedrijfszekerheid te kunnen waarborgen. | H36: 0,00 | J36: MJOB 2022/offertetrajecten/Actie provincie
A37: 23 | B37: 23 | C37: 2 | D37: Vervangende onderdelen niet meer verkrijgbaar waardoor functie wordt bedreigd De Priva HX regeling wordt door de leverancier ondersteund tot 2027. Geadviseerd wordt om voortijdig de regeling te vervangen om de bedrijfszekerheid te kunnen waarborgen. | H37: 0,00 | J37: MJOB 2022/offertetrajecten/Actie provincie
A38: 89 | B38: 89 | C38: 1 | D38: In- en uitwendige vervuiling Het filter van de toevoerventilator regelkast is vervuild. Geadviseerd wordt het filter te vervangen. | H38: 150,00 | I38: Foto | J38: Wordt meegenomen tijdens vervanging filters LBK

Sheet Opm MJB
E1: Datum | F1: : | G1: ='Inv-Conditie-MJB'!I1 -> 43831
E2: Inspectie-type | F2: : | G2: ='Inv-Conditie-MJB'!I2 -> SIMJB-Update 2021
E3: Klantnaam | F3: : | G3: ='Inv-Conditie-MJB'!I3 -> Houtplein Provincie Noord Holland Update 2021 Def
E4: Hoofdfunctieplaats | F4: : | G4: ='Inv-Conditie-MJB'!I4 -> 2012DE01
E5: Uitgevoerd door | F5: : | G5: ='Inv-Conditie-MJB'!I5 -> 0
E6: Projectnummer | F6: : | G6: ='Inv-Conditie-MJB'!I6 -> 5001004151
E7: Versie | F7: : | G7: ='Inv-Conditie-MJB'!I7 -> V3.0
A8: Opmerkingenblad MJB
D9: Opmerkingen
A10: Volgnr | B10: Klantspecifiek Equipmentnr | C10: Planjaar | H10: Kosten in € excl. BTW
A12: 155 | B12: 155 | C12: 2028 | D12: Integrale vervanging Schuifdeur buiten elektrisch_x000D_ | H12: 10158.287
A13: 165 | B13: 165 | C13: 2028 | D13: Integrale vervanging Schuifdeur buiten elektrisch_x000D_ | H13: 10158.287
A14: 164 | B14: 164 | C14: 2024 | D14: Integrale vervanging Schuifdeur binnen elektrisch_x000D_ | H14: 9384.6868
A15: 162 | B15: 162 | C15: 2028 | D15: Integrale vervanging Tourniquet binnen elektrisch_x000D_ | H15: 143411.11
A16: 224 | B16: 224 | C16: 2022 | D16: Verhelpen gebrekenlijst n.a.v. NEN2767 - Corrosie | H16: 795.906
A17: 99 | B17: 99 | C17: 2022 | D17: Partieel onderhoud | H17: 5836.644
A18: 99 | B18: 99 | C18: 2024 | D18: Partieel onderhoud | H18: 6072.4444
A19: 99 | B19: 99 | C19: 2026 | D19: Partieel onderhoud | H19: 6317.7712
A20: 99 | B20: 99 | C20: 2028 | D20: Partieel onderhoud | H20: 6573.0091
A21: 99 | B21: 99 | C21: 2030 | D21: Partieel onderhoud | H21: 6838.5587
A22: 199 | B22: 199 | C22: 2022 | D22: Verhelpen gebrekenlijst n.a.v. NEN2767 - Loszittende isolatiedelen | H22: 265.302
A23: 101 | B23: 101 | C23: 2028 | D23: Integrale vervanging Uitgangspunt: Verwijderen en afvoeren vetafscheider. Uitgaande van nieuw aan te brengen vetafscheider, incl. aansluiten en graafwerkzaamheden. Merk: KTN, Type: VA-A-480-V-ND, Inhoud (vetverzamelvermogen): 157 ltr.:_x000D_ | H23: 9560.7405
... A201: 97 | B201: 97 | C201: 2028 | D201: Integrale vervanging Vervangen centrale | H201: 26889.583

Sheet Foto
C1: Datum | E1: : | F1: ='Inv-Conditie-MJB'!I1 -> 43831
C2: Inspectie-type | E2: : | F2: ='Inv-Conditie-MJB'!I2 -> SIMJB-Update 2021
C3: Klantnaam | E3: : | F3: ='Inv-Conditie-MJB'!I3 -> Houtplein Provincie Noord Holland Update 2021 Def
C4: Hoofdfunctieplaats | E4: : | F4: ='Inv-Conditie-MJB'!I4 -> 2012DE01
C5: Uitgevoerd door | E5: : | F5: ='Inv-Conditie-MJB'!I5 -> 0
C6: Projectnummer | E6: : | F6: ='Inv-Conditie-MJB'!I6 -> 5001004151
C7: Versie | E7: : | F7: ='Inv-Conditie-MJB'!I7 -> V3.0
A8: Fotoblad
B11: Volgnr. 1 - Corrosie | F11: Volgnr. 1 - Loszittende isolatiedelen
B12: 224 - p1110685.jpg | F12: 199 - p1110619.jpg
B15: Volgnr. 1 - Lekkage aan aansluiting leidingverbinding en/of verbinding appendages | F15: Volgnr. 1 - Lekkage waterzijdige aansluiting
B16: 205 - p1110567.jpg | F16: 166 - p1110564 (1).jpg
B19: Volgnr. 2 - Corrosie | F19: Volgnr. 3 - Loszittende en/of beschadigde isolatie
B20: 166 - p1110572.jpg | F20: 166 - p1120403.jpg
B23: Volgnr. 1 - Lekkage op waterzijdige aansluitingen via flenzen of koppelingen | F23: Volgnr. 2 - Lekkage op waterzijdige aansluitingen via flenzen of koppelingen
B24: 209 - p1110610.jpg | F24: 209 - p1110613.jpg
B27: Volgnr. 3 - Lekkage op waterzijdige aansluitingen via flenzen of koppelingen | F27: Volgnr. 2 - Afbrokkelen van lamel
B28: 209 - p1120480.jpg | F28: 51 - p1110394.jpg
B31: Volgnr. 2 - Afbrokkelen van lamel | F31: Volgnr. 1 - Corrosie
B32: 50 - p1110324.jpg | F32: 105 - p1110686.jpg
... B56: 254 - p1120427.jpg | F56: 89 - p1110339.jpg

Sheet MJB totaal
F1: Datum | H1: : | I1: ='Inv-Conditie-MJB'!I1 -> 43831
F2: Inspectie-type | H2: : | I2: ='Inv-Conditie-MJB'!I2 -> SIMJB-Update 2021
F3: Klantnaam | H3: : | I3: ='Inv-Conditie-MJB'!I3 -> Houtplein Provincie Noord Holland Update 2021 Def
F4: Hoofdfunctieplaats | H4: : | I4: ='Inv-Conditie-MJB'!I4 -> 2012DE01
F5: Uitgevoerd door | H5: : | I5: ='Inv-Conditie-MJB'!I5 -> 0
F6: Projectnummer | H6: : | I6: ='Inv-Conditie-MJB'!I6 -> 5001004151
F7: Versie | H7: : | I7: ='Inv-Conditie-MJB'!I7 -> V3.0
A8: Meerjarenbudgettering totaal kosten in € excl. BTW per gebouw per NLSFB codering | H8: Startjaar: | I8: 2022 | J8: 10 | K8: jaar | L8: Index | M8: 2%
A9: Gebouw | B9: Omschrijving | M9: Totaalkosten
A10: Hoofdelement | B10: omschrijving | C10: 2022 | D10: 2023 | E10: 2024 | F10: 2025 | G10: 2026 | H10: 2027 | I10: 2028 | J10: 2029 | K10: 2030 | L10: 2031
A12: 2012HR01 | B12: Houtplein | C12: 244741.1 | D12: 3463.7829 | E12: 165997.44 | F12: 8468.7414 | G12: 26649.507 | H12: 186358.28 | I12: 707876.04 | J12: 10970.95 | K12: 23897.654 | L12: 4058.3737 | M12: 1382481.9
A13: 31 | B13: Buitenwandopeningen | E13: 9384.6868 | I13: 163727.68 | M13: 173112.37
A14: 51 | B14: Warmteopwekking | C14: 6632.55 | E14: 6072.4444 | G14: 6317.7712 | I14: 6573.0091 | K14: 6838.5587 | M14: 32434.333
A15: 52 | B15: Afvoeren | C15: 265.302 | I15: 9560.7405 | M15: 9826.0425
A16: 53 | B16: Water | C16: 1538.7516 | H16: 5858.2969 | I16: 7254.2119 | M16: 14651.26
A17: 55 | B17: Koude-opwekking en distributie | C17: 27856.71 | E17: 6072.4444 | G17: 6317.7712 | I17: 40633.147 | K17: 6838.5587 | M17: 87718.632
A18: 56 | B18: Warmtedistributie | C18: 2281.5972 | I18: 122568.69 | M18: 124850.29
A19: 57 | B19: Luchtbehandeling | C19: 1220.3892 | H19: 7615.786 | M19: 8836.1752
A20: 58 | B20: Regeling klimaat en sanitair | C20: 193882.7 | I20: 39199.036 | M20: 233081.74
A21: 61 | B21: Centrale elektrotechnische voorzieningen | E21: 4416.3232 | J21: 4875.9777 | M21: 9292.3009
A22: 63 | B22: Verlichting | C22: 530.604 | E22: 20590.003 | F22: 6216.4166 | H22: 12571.905 | I22: 77010.57 | K22: 6863.4262 | M22: 123782.92
A23: 64 | B23: Communicatie | E23: 18769.374 | I23: 8963.1943 | M23: 27732.568
A24: 65 | B24: Beveiliging | C24: 7242.7446 | D24: 1298.9186 | E24: 12365.705 | G24: 804.07997 | H24: 157968.98 | I24: 128711.47 | J24: 3656.9833 | K24: 870.36202 | L24: 1521.8902 | M24: 314441.13
A25: 66 | B25: Transport | I25: 33462.592 | M25: 33462.592
A26: 67 | B26: Gebouwbeheersvoorzieningen | C26: 1167.3288 | E26: 86118.303 | G26: 10912.514 | M26: 98198.145
A27: 73 | B27: Vaste keukenvoorzieningen | I27: 31371.18 | M27: 31371.18
A28: 74 | B28: Vaste sanitaire voorzieningen | C28: 2122.416 | D28: 2164.8643 | E28: 2208.1616 | F28: 2252.3248 | G28: 2297.3713 | H28: 2343.3188 | I28: 2390.1851 | J28: 2437.9888 | K28: 2486.7486 | L28: 2536.4836 | M28: 23239.863
A29: 75 | B29: Vaste onderhoudsvoorzieningen | I29: 9560.7405 | M29: 9560.7405
A30: 90 | B30: Terrein | I30: 26889.583 | M30: 26889.583
A31: totaal | C31: 244741.1 | D31: 3463.7829 | E31: 165997.44 | F31: 8468.7414 | G31: 26649.507 | H31: 186358.28 | I31: 707876.04 | J31: 10970.95 | K31: 23897.654 | L31: 4058.3737 | M31: 1382481.9

Sheet Beoordeling 2767
C1: Datum | D1: : | E1: ='Inv-Conditie-MJB'!I1 -> 43831
C2: Inspectie-type | D2: : | E2: ='Inv-Conditie-MJB'!I2 -> SIMJB-Update 2021
C3: Klantnaam | D3: : | E3: ='Inv-Conditie-MJB'!I3 -> Houtplein Provincie Noord Holland Update 2021 Def
C4: Hoofdfunctieplaats | D4: : | E4: ='Inv-Conditie-MJB'!I4 -> 2012DE01
C5: Uitgevoerd door | D5: : | E5: ='Inv-Conditie-MJB'!I5 -> 0
C6: Projectnummer | D6: : | E6: ='Inv-Conditie-MJB'!I6 -> 5001004151
C7: Versie | D7: : | E7: ='Inv-Conditie-MJB'!I7 -> V3.0
A8: Beoordelingkriteria NEN 2767
B10: Tabel 1 Conditiescore
B11: Conditiescore
B12: 1 | C12: Uitstekend
B13: 2 | C13: Goed
B14: 3 | C14: Redelijk
B15: 4 | C15: Matig
B16: 5 | C16: Slecht
B17: 6 | C17: Zeer slecht
B19: Tabel 2 Ernst
B20: Ernst
B21: E | C21: Ernstige gebreken
B22: S | C22: Serieuze gebreken
B23: G | C23: Geringe gebreken
B25: Tabel 3 Intensiteit
B26: Intensiteit
B27: B | C27: Beginstadium
B28: G | C28: Gevorderd stadium
B29: E | C29: Eindstadium
B31: Tabel 4 Omvang
B32: Omvang
B33: <2% | C33: Incidenteel
B34: 2-10% | C34: Plaatselijk
B35: 10-30% | C35: Regelmatig
B36: 30-70% | C36: Aanzienlijk
B37: >= 70% | C37: Algemeen
B39: Tabel 5 AP Matrix
B40: Functioneel Aspect/ - Prioriteit matrix
B41: Risicowaarde | C41: 9 | D41: 8 | E41: 7 | F41: 6 | G41: 5 | H41: 4 | I41: 3 | J41: 2 | K41: 1
B42: Aspect
C43: laag | F43: Prioriteit | K43: hoog
B45: 1. Veiligheid / gezondheid | I45: 1 | J45: 2 | K45: 3
B46: 2. Cultuur historische waarde | H46: 1 | I46: 2 | J46: 3
...

Sheet Kleuren wijzer
B2: Gele cellen niet bewerken
B3: Niet gekleurde cellen invullen
