Workbook

Sheet Opdrachten
A1: Inkoopordernummer SAD | B1: Hoofdopdracht/uitbreiding | C1: Inkoopordernummer van hoofdopdracht indien uitbreiding | D1: Soort opdracht | E1: Adviesgebied | F1: Naam opdrachtgever | G1: Divisie opdrachtgever | H1: Titel offerte | I1: Offertebedrag in € (excl. BTW) | J1: Opdrachtstatus | K1: Jaartal van afronding opdracht | L1: Social Return uitgevoerd ("ja" of "nee") | M1: Opdracht volledig afgerond inclusief Social Return
L2: Nee | M2: =VLOOKUP(Tabel2[[#This Row],[Social Return uitgevoerd ("ja" of "nee")]],'Drop Down Menu'!$G$2:$H$4,2,0) -> ý
L3: Nee | M3: =VLOOKUP(Tabel2[[#This Row],[Social Return uitgevoerd ("ja" of "nee")]],'Drop Down Menu'!$G$2:$H$4,2,0) -> ý
L4: Nee | M4: =VLOOKUP(Tabel2[[#This Row],[Social Return uitgevoerd ("ja" of "nee")]],'Drop Down Menu'!$G$2:$H$4,2,0) -> ý
L5: Nee | M5: =VLOOKUP(Tabel2[[#This Row],[Social Return uitgevoerd ("ja" of "nee")]],'Drop Down Menu'!$G$2:$H$4,2,0) -> ý
L6: Nee | M6: =VLOOKUP(Tabel2[[#This Row],[Social Return uitgevoerd ("ja" of "nee")]],'Drop Down Menu'!$G$2:$H$4,2,0) -> ý
L7: Nee | M7: =VLOOKUP(Tabel2[[#This Row],[Social Return uitgevoerd ("ja" of "nee")]],'Drop Down Menu'!$G$2:$H$4,2,0) -> ý
L8: Nee | M8: =VLOOKUP(Tabel2[[#This Row],[Social Return uitgevoerd ("ja" of "nee")]],'Drop Down Menu'!$G$2:$H$4,2,0) -> ý
L9: Nee | M9: =VLOOKUP(Tabel2[[#This Row],[Social Return uitgevoerd ("ja" of "nee")]],'Drop Down Menu'!$G$2:$H$4,2,0) -> ý
L10: Nee | M10: =VLOOKUP(Tabel2[[#This Row],[Social Return uitgevoerd ("ja" of "nee")]],'Drop Down Menu'!$G$2:$H$4,2,0) -> ý
L11: Nee | M11: =VLOOKUP(Tabel2[[#This Row],[Social Return uitgevoerd ("ja" of "nee")]],'Drop Down Menu'!$G$2:$H$4,2,0) -> ý
L12: Nee | M12: =VLOOKUP(Tabel2[[#This Row],[Social Return uitgevoerd ("ja" of "nee")]],'Drop Down Menu'!$G$2:$H$4,2,0) -> ý
L13: Nee | M13: =VLOOKUP(Tabel2[[#This Row],[Social Return uitgevoerd ("ja" of "nee")]],'Drop Down Menu'!$G$2:$H$4,2,0) -> ý
... L200: Nee | M200: =VLOOKUP(Tabel2[[#This Row],[Social Return uitgevoerd ("ja" of "nee")]],'Drop Down Menu'!$G$2:$H$4,2,0) -> ý

Sheet Nadere opdrachten
B2: Periode | C2: Aantal uitgebrachte one-pagers | D2: Aantal uitgebrachte offertes | E2: Aantal gegunde opdrachten
B3: Q4-2022
B4: Q1-2023
B5: Q2-2023
B6: Q3-2023
B7: Q4-2023
B8: Q1-2024
B9: Q2-2024
B10: Q3-2024
B11: Q4-2024
B12: Q1-2025
B13: Q2-2025
B14: Q3-2025
... B19: Q4-2026
B20: Totaal | C20: =SUBTOTAL(109,Tabel22[Aantal uitgebrachte one-pagers]) -> 0 | D20: =SUBTOTAL(109,Tabel22[Aantal uitgebrachte offertes]) -> 0 | E20: =SUBTOTAL(109,Tabel22[Aantal gegunde opdrachten]) -> 0
B21: Gemiddeld | C21: =AVERAGE(Tabel22[Aantal uitgebrachte one-pagers]) -> #DIV/0! | D21: =AVERAGE(Tabel22[Aantal uitgebrachte offertes]) -> #DIV/0! | E21: =AVERAGE(Tabel22[Aantal gegunde opdrachten]) -> #DIV/0!

Sheet Klachten
B2: Omschrijving klacht | C2: Betreffende inkoopordernummer SAD | D2: Oplossing van de klacht

Sheet Drop Down Menu
A1: Hoofdopdracht/Uitbreiding | B1: Adviesgebied | C1: Soort opdracht | D1: Divisie | E1: Opdrachtstatus | F1: Jaartal
A2: Hoofdopdracht | B2: 1. Strategische IV vraagstukken waaronder digitale strategie, sourcing/hostingstrategie en portfoliomanagement | C2: Inspanningsverplichting | D2: Accountantsdienst | E2: Afgerond | F2: 2023 | G2: Ja | H2: =CHAR(254) -> þ
A3: Uitbreiding | B3: 2. Organisatieontwerp en inrichting waaronder governance, implementatie en in- of outsourcing | C3: Resultaatverplichting | D3: Bestuurzaken | E3: Lopend | F3: 2024 | G3: Nee | H3: =CHAR(253) -> ý
B4: 3. Kwaliteit- en risicomanagement waaronder informatiebeveiliging | D4: Bezwaar en Beroep | F4: 2025 | H4: =CHAR(253) -> ý
B5: 4. Inrichting dienstverlening | D5: BKWI | F5: 2026
B6: 5. Innovatie, waaronder proces-, IV- en beleidsinnovatie | D6: C-ICT | F6: 2027
B7: 6. Data analytics waaronder customer en business intelligence | D7: Communicatie | F7: 2028
B8: 7. HRM waaronder personeelsontwikkeling, competentiemanagement, beloningsstrategie, leiderschapsvraagstukken, duurzame inzetbaarheid | D8: Facilitair Bedrijf
B9: 8. Verandermanagement | D9: Financieel Economische Zaken
B10: 9. Positionering, public relations en samenwerking | D10: Gegevensdiensten
B11: 10. Fiscaal, juridisch en financieel-economisch | D11: Handhaving
B12: 11. Benchmarking | D12: Human Resources Management
B13: 12. Sociaal medische vraagstukken | D13: Klant & Service
D14: Sociaal Medische Zaken
D15: Strategie, Beleid en Kenniscentrum
D16: Uitkeren
D17: WERKbedrijf
