Workbook

Sheet KCC input
A1: Taal | B1: NL | F1: Bevat formule in de cel eronder om door te kopieren
A2: Schema-ID | B2: KCC | F2: Validatie lengte categorie omschrijving >40
A3: Naam | B3: KCC Contactregistratie
A4: Omschrijving | B4: KCC Contactregistratie | F4: Nieuw
A5: [Status] | B5: Concept | F5: Wijziging | K5: NIET | L5: NIET | M5: NIET | N5: NIET
A6: [Gewijzigd op] | B6: 15.11.2021 | F6: Verwijderen | K6: INVULLEN | L6: INVULLEN | M6: INVULLEN | N6: INVULLEN
A7: [Gewijzigd om] | B7: 0.40972222 | K7: WORDT | L7: WORDT | M7: WORDT | N7: WORDT | O7: NIET INVULLEN
A8: [Gewijzigd door] | B8: LOODEB | K8: DOOR | L8: DOOR | M8: DOOR | N8: DOOR | O8: WORDT
K9: IT GEVULD | L9: IT GEVULD | M9: IT GEVULD | N9: IT GEVULD | O9: AFGELEID
A10: Niveau1Categorie-ID | B10: Niveau1 Omschrijving | C10: Niveau2Categorie-ID | D10: Niveau2 Omschrijving | E10: Niveau3Categorie-ID | F10: Niveau3 Omschrijving | G10: Niveau4Categorie-ID | H10: Naam categorie | I10: Volgorde | J10: Opmerking | K10: Catalog | L10: Code group | M10: Code | N10: Niveau ID | O10: Categorie lengte
A11: ZA_XXXXX | B11: =IF(LEFT(A11,2)="ZA",H11,B10) | D11: =IF(LEFT(C11,2)="ZA",H11,IF(LEFT(A11,2)="ZA","",D10)) | F11: =IF(LEFT(E11,2)="ZA",H11,IF(LEFT(A11,2)="ZA","",IF(LEFT(C11,2)="ZA","",F10))) | L11: =_xlfn.IFNA(VLOOKUP(B11,Codegroepen!$A:$B,2,FALSE),"") | N11: =_xlfn.CONCAT(A11,C11,E11,G11) -> ZA_XXXXX | O11: =LEN(H11) -> 0
A12: ZA_00001 | B12: =IF(LEFT(A12,2)="ZA",H12,B11) -> BGT Algemeen | D12: =IF(LEFT(C12,2)="ZA",H12,IF(LEFT(A12,2)="ZA","",D11)) | F12: =IF(LEFT(E12,2)="ZA",H12,IF(LEFT(A12,2)="ZA","",IF(LEFT(C12,2)="ZA","",F11))) | H12: BGT Algemeen | I12: 0012 | K12: A1 | L12: =_xlfn.IFNA(VLOOKUP(B12,Codegroepen!$A:$B,2,FALSE),"") -> ZKC023 | M12: Z001 | N12: =_xlfn.CONCAT(A12,C12,E12,G12) -> ZA_00001 | O12: =LEN(H12) -> 12
B13: =IF(LEFT(A13,2)="ZA",H13,B12) -> BGT Algemeen | C13: ZA_00002 | D13: =IF(LEFT(C13,2)="ZA",H13,IF(LEFT(A13,2)="ZA","",D12)) -> Bestellen (aanmelden/ autorisatie) | F13: =IF(LEFT(E13,2)="ZA",H13,IF(LEFT(A13,2)="ZA","",IF(LEFT(C13,2)="ZA","",F12))) | H13: Bestellen (aanmelden/ autorisatie) | K13: A1 | L13: =_xlfn.IFNA(VLOOKUP(B13,Codegroepen!$A:$B,2,FALSE),"") -> ZKC023 | M13: Z002 | N13: =_xlfn.CONCAT(A13,C13,E13,G13) -> ZA_00002 | O13: =LEN(H13) -> 34
B14: =IF(LEFT(A14,2)="ZA",H14,B13) -> BGT Algemeen | D14: =IF(LEFT(C14,2)="ZA",H14,IF(LEFT(A14,2)="ZA","",D13)) -> Bestellen (aanmelden/ autorisatie) | E14: ZA_00003 | F14: =IF(LEFT(E14,2)="ZA",H14,IF(LEFT(A14,2)="ZA","",IF(LEFT(C14,2)="ZA","",F13))) -> Ik wil me aanmelden voor | H14: Ik wil me aanmelden voor | K14: A1 | L14: =_xlfn.IFNA(VLOOKUP(B14,Codegroepen!$A:$B,2,FALSE),"") -> ZKC023 | M14: Z003 | N14: =_xlfn.CONCAT(A14,C14,E14,G14) -> ZA_00003 | O14: =LEN(H14) -> 24
B15: =IF(LEFT(A15,2)="ZA",H15,B14) -> BGT Algemeen | D15: =IF(LEFT(C15,2)="ZA",H15,IF(LEFT(A15,2)="ZA","",D14)) -> Bestellen (aanmelden/ autorisatie) | F15: =IF(LEFT(E15,2)="ZA",H15,IF(LEFT(A15,2)="ZA","",IF(LEFT(C15,2)="ZA","",F14))) -> Ik wil me aanmelden voor | G15: ZA_00004 | H15: BRAVO | K15: A1 | L15: =_xlfn.IFNA(VLOOKUP(B15,Codegroepen!$A:$B,2,FALSE),"") -> ZKC023 | M15: Z004 | N15: =_xlfn.CONCAT(A15,C15,E15,G15) -> ZA_00004 | O15: =LEN(H15) -> 5
B16: =IF(LEFT(A16,2)="ZA",H16,B15) -> BGT Algemeen | D16: =IF(LEFT(C16,2)="ZA",H16,IF(LEFT(A16,2)="ZA","",D15)) -> Bestellen (aanmelden/ autorisatie) | F16: =IF(LEFT(E16,2)="ZA",H16,IF(LEFT(A16,2)="ZA","",IF(LEFT(C16,2)="ZA","",F15))) -> Ik wil me aanmelden voor | G16: ZA_00005 | H16: MMS | K16: A1 | L16: =_xlfn.IFNA(VLOOKUP(B16,Codegroepen!$A:$B,2,FALSE),"") -> ZKC023 | M16: Z005 | N16: =_xlfn.CONCAT(A16,C16,E16,G16) -> ZA_00005 | O16: =LEN(H16) -> 3
B17: =IF(LEFT(A17,2)="ZA",H17,B16) -> BGT Algemeen | D17: =IF(LEFT(C17,2)="ZA",H17,IF(LEFT(A17,2)="ZA","",D16)) -> Bestellen (aanmelden/ autorisatie) | F17: =IF(LEFT(E17,2)="ZA",H17,IF(LEFT(A17,2)="ZA","",IF(LEFT(C17,2)="ZA","",F16))) -> Ik wil me aanmelden voor | G17: ZA_01960 | H17: LV BGT controle service | K17: A1 | L17: =_xlfn.IFNA(VLOOKUP(B17,Codegroepen!$A:$B,2,FALSE),"") -> ZKC023 | M17: Z059 | N17: =_xlfn.CONCAT(A17,C17,E17,G17) -> ZA_01960 | O17: =LEN(H17) -> 23
B18: =IF(LEFT(A18,2)="ZA",H18,B17) -> BGT Algemeen | D18: =IF(LEFT(C18,2)="ZA",H18,IF(LEFT(A18,2)="ZA","",D17)) -> Bestellen (aanmelden/ autorisatie) | F18: =IF(LEFT(E18,2)="ZA",H18,IF(LEFT(A18,2)="ZA","",IF(LEFT(C18,2)="ZA","",F17))) -> Ik wil me aanmelden voor | G18: ZA_02782 | H18: Terugmelden | K18: A1 | L18: =_xlfn.IFNA(VLOOKUP(B18,Codegroepen!$A:$B,2,FALSE),"") -> ZKC023 | M18: Z065 | N18: =_xlfn.CONCAT(A18,C18,E18,G18) -> ZA_02782 | O18: =LEN(H18) -> 11
B19: =IF(LEFT(A19,2)="ZA",H19,B18) -> BGT Algemeen | D19: =IF(LEFT(C19,2)="ZA",H19,IF(LEFT(A19,2)="ZA","",D18)) -> Bestellen (aanmelden/ autorisatie) | F19: =IF(LEFT(E19,2)="ZA",H19,IF(LEFT(A19,2)="ZA","",IF(LEFT(C19,2)="ZA","",F18))) -> Ik wil me aanmelden voor | G19: ZA_02783 | H19: Abonnementen | K19: A1 | L19: =_xlfn.IFNA(VLOOKUP(B19,Codegroepen!$A:$B,2,FALSE),"") -> ZKC023 | M19: Z066 | N19: =_xlfn.CONCAT(A19,C19,E19,G19) -> ZA_02783 | O19: =LEN(H19) -> 12
B20: =IF(LEFT(A20,2)="ZA",H20,B19) -> BGT Algemeen | D20: =IF(LEFT(C20,2)="ZA",H20,IF(LEFT(A20,2)="ZA","",D19)) -> Bestellen (aanmelden/ autorisatie) | F20: =IF(LEFT(E20,2)="ZA",H20,IF(LEFT(A20,2)="ZA","",IF(LEFT(C20,2)="ZA","",F19))) -> Ik wil me aanmelden voor | G20: ZA_02784 | H20: Machtigingen | K20: A1 | L20: =_xlfn.IFNA(VLOOKUP(B20,Codegroepen!$A:$B,2,FALSE),"") -> ZKC023 | M20: Z067 | N20: =_xlfn.CONCAT(A20,C20,E20,G20) -> ZA_02784 | O20: =LEN(H20) -> 12
B21: =IF(LEFT(A21,2)="ZA",H21,B20) -> BGT Algemeen | C21: ZA_00006 | D21: =IF(LEFT(C21,2)="ZA",H21,IF(LEFT(A21,2)="ZA","",D20)) -> Bestellen (wijzigen autorisatie) | F21: =IF(LEFT(E21,2)="ZA",H21,IF(LEFT(A21,2)="ZA","",IF(LEFT(C21,2)="ZA","",F20))) | H21: Bestellen (wijzigen autorisatie) | K21: A1 | L21: =_xlfn.IFNA(VLOOKUP(B21,Codegroepen!$A:$B,2,FALSE),"") -> ZKC023 | M21: Z006 | N21: =_xlfn.CONCAT(A21,C21,E21,G21) -> ZA_00006 | O21: =LEN(H21) -> 32
B22: =IF(LEFT(A22,2)="ZA",H22,B21) -> BGT Algemeen | D22: =IF(LEFT(C22,2)="ZA",H22,IF(LEFT(A22,2)="ZA","",D21)) -> Bestellen (wijzigen autorisatie) | E22: ZA_00007 | F22: =IF(LEFT(E22,2)="ZA",H22,IF(LEFT(A22,2)="ZA","",IF(LEFT(C22,2)="ZA","",F21))) -> Ik wil mijn toegang wijzigen | H22: Ik wil mijn toegang wijzigen | K22: A1 | L22: =_xlfn.IFNA(VLOOKUP(B22,Codegroepen!$A:$B,2,FALSE),"") -> ZKC023 | M22: Z007 | N22: =_xlfn.CONCAT(A22,C22,E22,G22) -> ZA_00007 | O22: =LEN(H22) -> 28
B23: =IF(LEFT(A23,2)="ZA",H23,B22) -> BGT Algemeen | D23: =IF(LEFT(C23,2)="ZA",H23,IF(LEFT(A23,2)="ZA","",D22)) -> Bestellen (wijzigen autorisatie) | F23: =IF(LEFT(E23,2)="ZA",H23,IF(LEFT(A23,2)="ZA","",IF(LEFT(C23,2)="ZA","",F22))) -> Ik wil mijn toegang wijzigen | G23: ZA_02785 | H23: Rol gebruiker wijzigen | K23: A1 | L23: =_xlfn.IFNA(VLOOKUP(B23,Codegroepen!$A:$B,2,FALSE),"") -> ZKC023 | M23: Z068 | N23: =_xlfn.CONCAT(A23,C23,E23,G23) -> ZA_02785 | O23: =LEN(H23) -> 22
B24: =IF(LEFT(A24,2)="ZA",H24,B23) -> BGT Algemeen | D24: =IF(LEFT(C24,2)="ZA",H24,IF(LEFT(A24,2)="ZA","",D23)) -> Bestellen (wijzigen autorisatie) | F24: =IF(LEFT(E24,2)="ZA",H24,IF(LEFT(A24,2)="ZA","",IF(LEFT(C24,2)="ZA","",F23))) -> Ik wil mijn toegang wijzigen | G24: ZA_02786 | H24: Wachtwoord resetten | K24: A1 | L24: =_xlfn.IFNA(VLOOKUP(B24,Codegroepen!$A:$B,2,FALSE),"") -> ZKC023 | M24: Z069 | N24: =_xlfn.CONCAT(A24,C24,E24,G24) -> ZA_02786 | O24: =LEN(H24) -> 19
B25: =IF(LEFT(A25,2)="ZA",H25,B24) -> BGT Algemeen | D25: =IF(LEFT(C25,2)="ZA",H25,IF(LEFT(A25,2)="ZA","",D24)) -> Bestellen (wijzigen autorisatie) | F25: =IF(LEFT(E25,2)="ZA",H25,IF(LEFT(A25,2)="ZA","",IF(LEFT(C25,2)="ZA","",F24))) -> Ik wil mijn toegang wijzigen | G25: ZA_02787 | H25: Machtigingen | K25: A1 | L25: =_xlfn.IFNA(VLOOKUP(B25,Codegroepen!$A:$B,2,FALSE),"") -> ZKC023 | M25: Z070 | N25: =_xlfn.CONCAT(A25,C25,E25,G25) -> ZA_02787 | O25: =LEN(H25) -> 12
B26: =IF(LEFT(A26,2)="ZA",H26,B25) -> BGT Algemeen | D26: =IF(LEFT(C26,2)="ZA",H26,IF(LEFT(A26,2)="ZA","",D25)) -> Bestellen (wijzigen autorisatie) | F26: =IF(LEFT(E26,2)="ZA",H26,IF(LEFT(A26,2)="ZA","",IF(LEFT(C26,2)="ZA","",F25))) -> Ik wil mijn toegang wijzigen | G26: ZA_02788 | H26: Abonnementen | K26: A1 | L26: =_xlfn.IFNA(VLOOKUP(B26,Codegroepen!$A:$B,2,FALSE),"") -> ZKC023 | M26: Z071 | N26: =_xlfn.CONCAT(A26,C26,E26,G26) -> ZA_02788 | O26: =LEN(H26) -> 12
B27: =IF(LEFT(A27,2)="ZA",H27,B26) -> BGT Algemeen | D27: =IF(LEFT(C27,2)="ZA",H27,IF(LEFT(A27,2)="ZA","",D26)) -> Bestellen (wijzigen autorisatie) | F27: =IF(LEFT(E27,2)="ZA",H27,IF(LEFT(A27,2)="ZA","",IF(LEFT(C27,2)="ZA","",F26))) -> Ik wil mijn toegang wijzigen | G27: ZA_02789 | H27: Terugmelden | K27: A1 | L27: =_xlfn.IFNA(VLOOKUP(B27,Codegroepen!$A:$B,2,FALSE),"") -> ZKC023 | M27: Z072 | N27: =_xlfn.CONCAT(A27,C27,E27,G27) -> ZA_02789 | O27: =LEN(H27) -> 11
B28: =IF(LEFT(A28,2)="ZA",H28,B27) -> BGT Algemeen | C28: ZA_00010 | D28: =IF(LEFT(C28,2)="ZA",H28,IF(LEFT(A28,2)="ZA","",D27)) -> Oriënteren | F28: =IF(LEFT(E28,2)="ZA",H28,IF(LEFT(A28,2)="ZA","",IF(LEFT(C28,2)="ZA","",F27))) | H28: Oriënteren | K28: A1 | L28: =_xlfn.IFNA(VLOOKUP(B28,Codegroepen!$A:$B,2,FALSE),"") -> ZKC023 | M28: Z010 | N28: =_xlfn.CONCAT(A28,C28,E28,G28) -> ZA_00010 | O28: =LEN(H28) -> 10
B29: =IF(LEFT(A29,2)="ZA",H29,B28) -> BGT Algemeen | D29: =IF(LEFT(C29,2)="ZA",H29,IF(LEFT(A29,2)="ZA","",D28)) -> Oriënteren | E29: ZA_00011 | F29: =IF(LEFT(E29,2)="ZA",H29,IF(LEFT(A29,2)="ZA","",IF(LEFT(C29,2)="ZA","",F28))) -> Ik heb een vraag | H29: Ik heb een vraag | K29: A1 | L29: =_xlfn.IFNA(VLOOKUP(B29,Codegroepen!$A:$B,2,FALSE),"") -> ZKC023 | M29: Z011 | N29: =_xlfn.CONCAT(A29,C29,E29,G29) -> ZA_00011 | O29: =LEN(H29) -> 16
B30: =IF(LEFT(A30,2)="ZA",H30,B29) -> BGT Algemeen | D30: =IF(LEFT(C30,2)="ZA",H30,IF(LEFT(A30,2)="ZA","",D29)) -> Oriënteren | F30: =IF(LEFT(E30,2)="ZA",H30,IF(LEFT(A30,2)="ZA","",IF(LEFT(C30,2)="ZA","",F29))) -> Ik heb een vraag | G30: ZA_00012 | H30: BGT | K30: A1 | L30: =_xlfn.IFNA(VLOOKUP(B30,Codegroepen!$A:$B,2,FALSE),"") -> ZKC023 | M30: Z012 | N30: =_xlfn.CONCAT(A30,C30,E30,G30) -> ZA_00012 | O30: =LEN(H30) -> 3
B31: =IF(LEFT(A31,2)="ZA",H31,B30) -> BGT Algemeen | C31: ZA_00013 | D31: =IF(LEFT(C31,2)="ZA",H31,IF(LEFT(A31,2)="ZA","",D30)) -> Gebruiken | F31: =IF(LEFT(E31,2)="ZA",H31,IF(LEFT(A31,2)="ZA","",IF(LEFT(C31,2)="ZA","",F30))) | H31: Gebruiken | K31: A1 | L31: =_xlfn.IFNA(VLOOKUP(B31,Codegroepen!$A:$B,2,FALSE),"") -> ZKC023 | M31: Z013 | N31: =_xlfn.CONCAT(A31,C31,E31,G31) -> ZA_00013 | O31: =LEN(H31) -> 9
B32: =IF(LEFT(A32,2)="ZA",H32,B31) -> BGT Algemeen | D32: =IF(LEFT(C32,2)="ZA",H32,IF(LEFT(A32,2)="ZA","",D31)) -> Gebruiken | E32: ZA_00014 | F32: =IF(LEFT(E32,2)="ZA",H32,IF(LEFT(A32,2)="ZA","",IF(LEFT(C32,2)="ZA","",F31))) -> Ik heb een vraag | H32: Ik heb een vraag | K32: A1 | L32: =_xlfn.IFNA(VLOOKUP(B32,Codegroepen!$A:$B,2,FALSE),"") -> ZKC023 | M32: Z014 | N32: =_xlfn.CONCAT(A32,C32,E32,G32) -> ZA_00014 | O32: =LEN(H32) -> 16
B33: =IF(LEFT(A33,2)="ZA",H33,B32) -> BGT Algemeen | D33: =IF(LEFT(C33,2)="ZA",H33,IF(LEFT(A33,2)="ZA","",D32)) -> Gebruiken | F33: =IF(LEFT(E33,2)="ZA",H33,IF(LEFT(A33,2)="ZA","",IF(LEFT(C33,2)="ZA","",F32))) -> Ik heb een vraag | G33: ZA_00015 | H33: BRAVO | K33: A1 | L33: =_xlfn.IFNA(VLOOKUP(B33,Codegroepen!$A:$B,2,FALSE),"") -> ZKC023 | M33: Z015 | N33: =_xlfn.CONCAT(A33,C33,E33,G33) -> ZA_00015 | O33: =LEN(H33) -> 5
B34: =IF(LEFT(A34,2)="ZA",H34,B33) -> BGT Algemeen | D34: =IF(LEFT(C34,2)="ZA",H34,IF(LEFT(A34,2)="ZA","",D33)) -> Gebruiken | F34: =IF(LEFT(E34,2)="ZA",H34,IF(LEFT(A34,2)="ZA","",IF(LEFT(C34,2)="ZA","",F33))) -> Ik heb een vraag | G34: ZA_00016 | H34: Controle service LV | K34: A1 | L34: =_xlfn.IFNA(VLOOKUP(B34,Codegroepen!$A:$B,2,FALSE),"") -> ZKC023 | M34: Z016 | N34: =_xlfn.CONCAT(A34,C34,E34,G34) -> ZA_00016 | O34: =LEN(H34) -> 19
B35: =IF(LEFT(A35,2)="ZA",H35,B34) -> BGT Algemeen | D35: =IF(LEFT(C35,2)="ZA",H35,IF(LEFT(A35,2)="ZA","",D34)) -> Gebruiken | F35: =IF(LEFT(E35,2)="ZA",H35,IF(LEFT(A35,2)="ZA","",IF(LEFT(C35,2)="ZA","",F34))) -> Ik heb een vraag | G35: ZA_00017 | H35: ETO LV | K35: A1 | L35: =_xlfn.IFNA(VLOOKUP(B35,Codegroepen!$A:$B,2,FALSE),"") -> ZKC023 | M35: Z017 | N35: =_xlfn.CONCAT(A35,C35,E35,G35) -> ZA_00017 | O35: =LEN(H35) -> 6
B36: =IF(LEFT(A36,2)="ZA",H36,B35) -> BGT Algemeen | D36: =IF(LEFT(C36,2)="ZA",H36,IF(LEFT(A36,2)="ZA","",D35)) -> Gebruiken | F36: =IF(LEFT(E36,2)="ZA",H36,IF(LEFT(A36,2)="ZA","",IF(LEFT(C36,2)="ZA","",F35))) -> Ik heb een vraag | G36: ZA_00018 | H36: Kwaliteitsdashboard | K36: A1 | L36: =_xlfn.IFNA(VLOOKUP(B36,Codegroepen!$A:$B,2,FALSE),"") -> ZKC023 | M36: Z018 | N36: =_xlfn.CONCAT(A36,C36,E36,G36) -> ZA_00018 | O36: =LEN(H36) -> 19
B37: =IF(LEFT(A37,2)="ZA",H37,B36) -> BGT Algemeen | D37: =IF(LEFT(C37,2)="ZA",H37,IF(LEFT(A37,2)="ZA","",D36)) -> Gebruiken | F37: =IF(LEFT(E37,2)="ZA",H37,IF(LEFT(A37,2)="ZA","",IF(LEFT(C37,2)="ZA","",F36))) -> Ik heb een vraag | G37: ZA_00019 | H37: MMS | K37: A1 | L37: =_xlfn.IFNA(VLOOKUP(B37,Codegroepen!$A:$B,2,FALSE),"") -> ZKC023 | M37: Z019 | N37: =_xlfn.CONCAT(A37,C37,E37,G37) -> ZA_00019 | O37: =LEN(H37) -> 3
B38: =IF(LEFT(A38,2)="ZA",H38,B37) -> BGT Algemeen | D38: =IF(LEFT(C38,2)="ZA",H38,IF(LEFT(A38,2)="ZA","",D37)) -> Gebruiken | F38: =IF(LEFT(E38,2)="ZA",H38,IF(LEFT(A38,2)="ZA","",IF(LEFT(C38,2)="ZA","",F37))) -> Ik heb een vraag | G38: ZA_00020 | H38: Registratieservice LV | K38: A1 | L38: =_xlfn.IFNA(VLOOKUP(B38,Codegroepen!$A:$B,2,FALSE),"") -> ZKC023 | M38: Z020 | N38: =_xlfn.CONCAT(A38,C38,E38,G38) -> ZA_00020 | O38: =LEN(H38) -> 21
B39: =IF(LEFT(A39,2)="ZA",H39,B38) -> BGT Algemeen | D39: =IF(LEFT(C39,2)="ZA",H39,IF(LEFT(A39,2)="ZA","",D38)) -> Gebruiken | F39: =IF(LEFT(E39,2)="ZA",H39,IF(LEFT(A39,2)="ZA","",IF(LEFT(C39,2)="ZA","",F38))) -> Ik heb een vraag | G39: ZA_00021 | H39: Verbeter de Kaart | K39: A1 | L39: =_xlfn.IFNA(VLOOKUP(B39,Codegroepen!$A:$B,2,FALSE),"") -> ZKC023 | M39: Z021 | N39: =_xlfn.CONCAT(A39,C39,E39,G39) -> ZA_00021 | O39: =LEN(H39) -> 17
B40: =IF(LEFT(A40,2)="ZA",H40,B39) -> BGT Algemeen | D40: =IF(LEFT(C40,2)="ZA",H40,IF(LEFT(A40,2)="ZA","",D39)) -> Gebruiken | F40: =IF(LEFT(E40,2)="ZA",H40,IF(LEFT(A40,2)="ZA","",IF(LEFT(C40,2)="ZA","",F39))) -> Ik heb een vraag | G40: ZA_00022 | H40: Wet- en regelgeving | K40: A1 | L40: =_xlfn.IFNA(VLOOKUP(B40,Codegroepen!$A:$B,2,FALSE),"") -> ZKC023 | M40: Z022 | N40: =_xlfn.CONCAT(A40,C40,E40,G40) -> ZA_00022 | O40: =LEN(H40) -> 19
...

Sheet Blad1
A1: Niveau1 Omschrijving | B1: Niveau2 Omschrijving | C1: Niveau3 Omschrijving | D1: Naam categorie
A2: BGT Algemeen | D2: BGT Algemeen
A3: BGT Algemeen | B3: Bestellen (aanmelden/ autorisatie) | D3: Bestellen (aanmelden/ autorisatie)
A4: BGT Algemeen | B4: Bestellen (aanmelden/ autorisatie) | C4: Ik wil me aanmelden voor | D4: Ik wil me aanmelden voor
A5: BGT Algemeen | B5: Bestellen (aanmelden/ autorisatie) | C5: Ik wil me aanmelden voor | D5: BRAVO
A6: BGT Algemeen | B6: Bestellen (aanmelden/ autorisatie) | C6: Ik wil me aanmelden voor | D6: MMS
A7: BGT Algemeen | B7: Bestellen (aanmelden/ autorisatie) | C7: Ik wil me aanmelden voor | D7: LV BGT controle service
A8: BGT Algemeen | B8: Bestellen (aanmelden/ autorisatie) | C8: Ik wil me aanmelden voor | D8: Terugmelden
A9: BGT Algemeen | B9: Bestellen (aanmelden/ autorisatie) | C9: Ik wil me aanmelden voor | D9: Abonnementen
A10: BGT Algemeen | B10: Bestellen (aanmelden/ autorisatie) | C10: Ik wil me aanmelden voor | D10: Machtigingen
A11: BGT Algemeen | B11: Bestellen (wijzigen autorisatie) | D11: Bestellen (wijzigen autorisatie)
A12: BGT Algemeen | B12: Bestellen (wijzigen autorisatie) | C12: Ik wil mijn toegang wijzigen | D12: Ik wil mijn toegang wijzigen
A13: BGT Algemeen | B13: Bestellen (wijzigen autorisatie) | C13: Ik wil mijn toegang wijzigen | D13: Rol gebruiker wijzigen
A14: BGT Algemeen | B14: Bestellen (wijzigen autorisatie) | C14: Ik wil mijn toegang wijzigen | D14: Wachtwoord resetten
A15: BGT Algemeen | B15: Bestellen (wijzigen autorisatie) | C15: Ik wil mijn toegang wijzigen | D15: Machtigingen
A16: BGT Algemeen | B16: Bestellen (wijzigen autorisatie) | C16: Ik wil mijn toegang wijzigen | D16: Abonnementen
A17: BGT Algemeen | B17: Bestellen (wijzigen autorisatie) | C17: Ik wil mijn toegang wijzigen | D17: Terugmelden
A18: BGT Algemeen | B18: Oriënteren | D18: Oriënteren
A19: BGT Algemeen | B19: Oriënteren | C19: Ik heb een vraag | D19: Ik heb een vraag
A20: BGT Algemeen | B20: Oriënteren | C20: Ik heb een vraag | D20: BGT
A21: BGT Algemeen | B21: Gebruiken | D21: Gebruiken
A22: BGT Algemeen | B22: Gebruiken | C22: Ik heb een vraag | D22: Ik heb een vraag
A23: BGT Algemeen | B23: Gebruiken | C23: Ik heb een vraag | D23: BRAVO
A24: BGT Algemeen | B24: Gebruiken | C24: Ik heb een vraag | D24: Controle service LV
A25: BGT Algemeen | B25: Gebruiken | C25: Ik heb een vraag | D25: ETO LV
A26: BGT Algemeen | B26: Gebruiken | C26: Ik heb een vraag | D26: Kwaliteitsdashboard
A27: BGT Algemeen | B27: Gebruiken | C27: Ik heb een vraag | D27: MMS
A28: BGT Algemeen | B28: Gebruiken | C28: Ik heb een vraag | D28: Registratieservice LV
A29: BGT Algemeen | B29: Gebruiken | C29: Ik heb een vraag | D29: Verbeter de Kaart
A30: BGT Algemeen | B30: Gebruiken | C30: Ik heb een vraag | D30: Wet- en regelgeving
A31: BGT Algemeen | B31: Gebruiken | C31: Ik heb een vraag | D31: Klantadministratie
A32: BGT Algemeen | B32: Gebruiken | C32: Ik heb een vraag | D32: LV BGT
A33: BGT Algemeen | B33: Gebruiken | C33: Ik heb een vraag | D33: Automatisch berichtenverkeer
... A66: BGT Algemeen | B66: Gebruiken | C66: Ik zou graag in de toekomst willen | D66: Wet- en regelgeving
A67: BGT Algemeen | B67: Doorverbinden | D67: Doorverbinden
A68: BGT Algemeen | B68: Doorverbinden | C68: Backoffice | D68: Backoffice
A69: BGT Algemeen | B69: Doorverbinden | C69: Backoffice | D69: /
A70: BGT Algemeen | B70: Doorverbinden | C70: GM | D70: GM
A71: BGT Algemeen | B71: Doorverbinden | C71: GM | D71: /
A72: BGT Algemeen | B72: Doorverbinden | C72: IR | D72: IR
...

Sheet KCC IT
A1: Taal | B1: ='KCC input'!B1 -> NL
A2: Schema-ID | B2: ='KCC input'!B2 -> KCC
A3: Naam | B3: ='KCC input'!B3 -> KCC Contactregistratie
A4: Omschrijving | B4: ='KCC input'!B4 -> KCC Contactregistratie
A5: [Status] | B5: ='KCC input'!B5 -> Concept
A6: [Gewijzigd op] | B6: ='KCC input'!B6 -> 15.11.2021
A7: [Gewijzigd om] | B7: ='KCC input'!B7 -> 0.40972222
A8: [Gewijzigd door] | B8: ='KCC input'!B8 -> LOODEB
A10: Niveau1Categorie-ID | B10: Niveau2Categorie-ID | C10: Niveau3Categorie-ID | D10: Niveau4Categorie-ID | E10: Naam categorie | F10: Omschr. categorie | G10: Categorie code | H10: Volgorde | I10: Catalog | J10: Code group | K10: Code | L10: Opmerking
A11: =IF(LEFT('KCC input'!A12,2)="ZA",'KCC input'!A12,"") -> ZA_00001 | B11: =IF(LEFT('KCC input'!C12,2)="ZA",'KCC input'!C12,"") | C11: =IF(LEFT('KCC input'!E12,2)="ZA",'KCC input'!E12,"") | D11: =IF(LEFT('KCC input'!G12,2)="ZA",'KCC input'!G12,"") | E11: =IF('KCC input'!H12=0,"",'KCC input'!H12) -> BGT Algemeen | F11: =IF('KCC input'!H12=0,"",'KCC input'!H12) -> BGT Algemeen | G11: =CONCATENATE(I11,J11,REPT(" ",8-LEN(J11)),K11) -> A1ZKC023 Z001 | H11: =IF('KCC input'!I12=0,"",'KCC input'!I12) -> 0012 | I11: =IF('KCC input'!K12=0,"",'KCC input'!K12) -> A1 | J11: =IF('KCC input'!L12=0,"",'KCC input'!L12) -> ZKC023 | K11: =IF('KCC input'!M12=0,"",'KCC input'!M12) -> Z001
A12: =IF(LEFT('KCC input'!A13,2)="ZA",'KCC input'!A13,"") | B12: =IF(LEFT('KCC input'!C13,2)="ZA",'KCC input'!C13,"") -> ZA_00002 | C12: =IF(LEFT('KCC input'!E13,2)="ZA",'KCC input'!E13,"") | D12: =IF(LEFT('KCC input'!G13,2)="ZA",'KCC input'!G13,"") | E12: =IF('KCC input'!H13=0,"",'KCC input'!H13) -> Bestellen (aanmelden/ autorisatie) | F12: =IF('KCC input'!H13=0,"",'KCC input'!H13) -> Bestellen (aanmelden/ autorisatie) | G12: =CONCATENATE(I12,J12,REPT(" ",8-LEN(J12)),K12) -> A1ZKC023 Z002 | H12: =IF('KCC input'!I13=0,"",'KCC input'!I13) | I12: =IF('KCC input'!K13=0,"",'KCC input'!K13) -> A1 | J12: =IF('KCC input'!L13=0,"",'KCC input'!L13) -> ZKC023 | K12: =IF('KCC input'!M13=0,"",'KCC input'!M13) -> Z002
A13: =IF(LEFT('KCC input'!A14,2)="ZA",'KCC input'!A14,"") | B13: =IF(LEFT('KCC input'!C14,2)="ZA",'KCC input'!C14,"") | C13: =IF(LEFT('KCC input'!E14,2)="ZA",'KCC input'!E14,"") -> ZA_00003 | D13: =IF(LEFT('KCC input'!G14,2)="ZA",'KCC input'!G14,"") | E13: =IF('KCC input'!H14=0,"",'KCC input'!H14) -> Ik wil me aanmelden voor | F13: =IF('KCC input'!H14=0,"",'KCC input'!H14) -> Ik wil me aanmelden voor | G13: =CONCATENATE(I13,J13,REPT(" ",8-LEN(J13)),K13) -> A1ZKC023 Z003 | H13: =IF('KCC input'!I14=0,"",'KCC input'!I14) | I13: =IF('KCC input'!K14=0,"",'KCC input'!K14) -> A1 | J13: =IF('KCC input'!L14=0,"",'KCC input'!L14) -> ZKC023 | K13: =IF('KCC input'!M14=0,"",'KCC input'!M14) -> Z003
A14: =IF(LEFT('KCC input'!A15,2)="ZA",'KCC input'!A15,"") | B14: =IF(LEFT('KCC input'!C15,2)="ZA",'KCC input'!C15,"") | C14: =IF(LEFT('KCC input'!E15,2)="ZA",'KCC input'!E15,"") | D14: =IF(LEFT('KCC input'!G15,2)="ZA",'KCC input'!G15,"") -> ZA_00004 | E14: =IF('KCC input'!H15=0,"",'KCC input'!H15) -> BRAVO | F14: =IF('KCC input'!H15=0,"",'KCC input'!H15) -> BRAVO | G14: =CONCATENATE(I14,J14,REPT(" ",8-LEN(J14)),K14) -> A1ZKC023 Z004 | H14: =IF('KCC input'!I15=0,"",'KCC input'!I15) | I14: =IF('KCC input'!K15=0,"",'KCC input'!K15) -> A1 | J14: =IF('KCC input'!L15=0,"",'KCC input'!L15) -> ZKC023 | K14: =IF('KCC input'!M15=0,"",'KCC input'!M15) -> Z004
A15: =IF(LEFT('KCC input'!A16,2)="ZA",'KCC input'!A16,"") | B15: =IF(LEFT('KCC input'!C16,2)="ZA",'KCC input'!C16,"") | C15: =IF(LEFT('KCC input'!E16,2)="ZA",'KCC input'!E16,"") | D15: =IF(LEFT('KCC input'!G16,2)="ZA",'KCC input'!G16,"") -> ZA_00005 | E15: =IF('KCC input'!H16=0,"",'KCC input'!H16) -> MMS | F15: =IF('KCC input'!H16=0,"",'KCC input'!H16) -> MMS | G15: =CONCATENATE(I15,J15,REPT(" ",8-LEN(J15)),K15) -> A1ZKC023 Z005 | H15: =IF('KCC input'!I16=0,"",'KCC input'!I16) | I15: =IF('KCC input'!K16=0,"",'KCC input'!K16) -> A1 | J15: =IF('KCC input'!L16=0,"",'KCC input'!L16) -> ZKC023 | K15: =IF('KCC input'!M16=0,"",'KCC input'!M16) -> Z005
A16: =IF(LEFT('KCC input'!A17,2)="ZA",'KCC input'!A17,"") | B16: =IF(LEFT('KCC input'!C17,2)="ZA",'KCC input'!C17,"") | C16: =IF(LEFT('KCC input'!E17,2)="ZA",'KCC input'!E17,"") | D16: =IF(LEFT('KCC input'!G17,2)="ZA",'KCC input'!G17,"") -> ZA_01960 | E16: =IF('KCC input'!H17=0,"",'KCC input'!H17) -> LV BGT controle service | F16: =IF('KCC input'!H17=0,"",'KCC input'!H17) -> LV BGT controle service | G16: =CONCATENATE(I16,J16,REPT(" ",8-LEN(J16)),K16) -> A1ZKC023 Z059 | H16: =IF('KCC input'!I17=0,"",'KCC input'!I17) | I16: =IF('KCC input'!K17=0,"",'KCC input'!K17) -> A1 | J16: =IF('KCC input'!L17=0,"",'KCC input'!L17) -> ZKC023 | K16: =IF('KCC input'!M17=0,"",'KCC input'!M17) -> Z059
A17: =IF(LEFT('KCC input'!A18,2)="ZA",'KCC input'!A18,"") | B17: =IF(LEFT('KCC input'!C18,2)="ZA",'KCC input'!C18,"") | C17: =IF(LEFT('KCC input'!E18,2)="ZA",'KCC input'!E18,"") | D17: =IF(LEFT('KCC input'!G18,2)="ZA",'KCC input'!G18,"") -> ZA_02782 | E17: =IF('KCC input'!H18=0,"",'KCC input'!H18) -> Terugmelden | F17: =IF('KCC input'!H18=0,"",'KCC input'!H18) -> Terugmelden | G17: =CONCATENATE(I17,J17,REPT(" ",8-LEN(J17)),K17) -> A1ZKC023 Z065 | H17: =IF('KCC input'!I18=0,"",'KCC input'!I18) | I17: =IF('KCC input'!K18=0,"",'KCC input'!K18) -> A1 | J17: =IF('KCC input'!L18=0,"",'KCC input'!L18) -> ZKC023 | K17: =IF('KCC input'!M18=0,"",'KCC input'!M18) -> Z065
A18: =IF(LEFT('KCC input'!A19,2)="ZA",'KCC input'!A19,"") | B18: =IF(LEFT('KCC input'!C19,2)="ZA",'KCC input'!C19,"") | C18: =IF(LEFT('KCC input'!E19,2)="ZA",'KCC input'!E19,"") | D18: =IF(LEFT('KCC input'!G19,2)="ZA",'KCC input'!G19,"") -> ZA_02783 | E18: =IF('KCC input'!H19=0,"",'KCC input'!H19) -> Abonnementen | F18: =IF('KCC input'!H19=0,"",'KCC input'!H19) -> Abonnementen | G18: =CONCATENATE(I18,J18,REPT(" ",8-LEN(J18)),K18) -> A1ZKC023 Z066 | H18: =IF('KCC input'!I19=0,"",'KCC input'!I19) | I18: =IF('KCC input'!K19=0,"",'KCC input'!K19) -> A1 | J18: =IF('KCC input'!L19=0,"",'KCC input'!L19) -> ZKC023 | K18: =IF('KCC input'!M19=0,"",'KCC input'!M19) -> Z066
A19: =IF(LEFT('KCC input'!A20,2)="ZA",'KCC input'!A20,"") | B19: =IF(LEFT('KCC input'!C20,2)="ZA",'KCC input'!C20,"") | C19: =IF(LEFT('KCC input'!E20,2)="ZA",'KCC input'!E20,"") | D19: =IF(LEFT('KCC input'!G20,2)="ZA",'KCC input'!G20,"") -> ZA_02784 | E19: =IF('KCC input'!H20=0,"",'KCC input'!H20) -> Machtigingen | F19: =IF('KCC input'!H20=0,"",'KCC input'!H20) -> Machtigingen | G19: =CONCATENATE(I19,J19,REPT(" ",8-LEN(J19)),K19) -> A1ZKC023 Z067 | H19: =IF('KCC input'!I20=0,"",'KCC input'!I20) | I19: =IF('KCC input'!K20=0,"",'KCC input'!K20) -> A1 | J19: =IF('KCC input'!L20=0,"",'KCC input'!L20) -> ZKC023 | K19: =IF('KCC input'!M20=0,"",'KCC input'!M20) -> Z067
A20: =IF(LEFT('KCC input'!A21,2)="ZA",'KCC input'!A21,"") | B20: =IF(LEFT('KCC input'!C21,2)="ZA",'KCC input'!C21,"") -> ZA_00006 | C20: =IF(LEFT('KCC input'!E21,2)="ZA",'KCC input'!E21,"") | D20: =IF(LEFT('KCC input'!G21,2)="ZA",'KCC input'!G21,"") | E20: =IF('KCC input'!H21=0,"",'KCC input'!H21) -> Bestellen (wijzigen autorisatie) | F20: =IF('KCC input'!H21=0,"",'KCC input'!H21) -> Bestellen (wijzigen autorisatie) | G20: =CONCATENATE(I20,J20,REPT(" ",8-LEN(J20)),K20) -> A1ZKC023 Z006 | H20: =IF('KCC input'!I21=0,"",'KCC input'!I21) | I20: =IF('KCC input'!K21=0,"",'KCC input'!K21) -> A1 | J20: =IF('KCC input'!L21=0,"",'KCC input'!L21) -> ZKC023 | K20: =IF('KCC input'!M21=0,"",'KCC input'!M21) -> Z006
A21: =IF(LEFT('KCC input'!A22,2)="ZA",'KCC input'!A22,"") | B21: =IF(LEFT('KCC input'!C22,2)="ZA",'KCC input'!C22,"") | C21: =IF(LEFT('KCC input'!E22,2)="ZA",'KCC input'!E22,"") -> ZA_00007 | D21: =IF(LEFT('KCC input'!G22,2)="ZA",'KCC input'!G22,"") | E21: =IF('KCC input'!H22=0,"",'KCC input'!H22) -> Ik wil mijn toegang wijzigen | F21: =IF('KCC input'!H22=0,"",'KCC input'!H22) -> Ik wil mijn toegang wijzigen | G21: =CONCATENATE(I21,J21,REPT(" ",8-LEN(J21)),K21) -> A1ZKC023 Z007 | H21: =IF('KCC input'!I22=0,"",'KCC input'!I22) | I21: =IF('KCC input'!K22=0,"",'KCC input'!K22) -> A1 | J21: =IF('KCC input'!L22=0,"",'KCC input'!L22) -> ZKC023 | K21: =IF('KCC input'!M22=0,"",'KCC input'!M22) -> Z007
A22: =IF(LEFT('KCC input'!A23,2)="ZA",'KCC input'!A23,"") | B22: =IF(LEFT('KCC input'!C23,2)="ZA",'KCC input'!C23,"") | C22: =IF(LEFT('KCC input'!E23,2)="ZA",'KCC input'!E23,"") | D22: =IF(LEFT('KCC input'!G23,2)="ZA",'KCC input'!G23,"") -> ZA_02785 | E22: =IF('KCC input'!H23=0,"",'KCC input'!H23) -> Rol gebruiker wijzigen | F22: =IF('KCC input'!H23=0,"",'KCC input'!H23) -> Rol gebruiker wijzigen | G22: =CONCATENATE(I22,J22,REPT(" ",8-LEN(J22)),K22) -> A1ZKC023 Z068 | H22: =IF('KCC input'!I23=0,"",'KCC input'!I23) | I22: =IF('KCC input'!K23=0,"",'KCC input'!K23) -> A1 | J22: =IF('KCC input'!L23=0,"",'KCC input'!L23) -> ZKC023 | K22: =IF('KCC input'!M23=0,"",'KCC input'!M23) -> Z068
... A2347: =IF(LEFT('KCC input'!A2348,2)="ZA",'KCC input'!A2348,"") | B2347: =IF(LEFT('KCC input'!C2348,2)="ZA",'KCC input'!C2348,"") | C2347: =IF(LEFT('KCC input'!E2348,2)="ZA",'KCC input'!E2348,"") | D2347: =IF(LEFT('KCC input'!G2348,2)="ZA",'KCC input'!G2348,"") | E2347: =IF('KCC input'!H2348=0,"",'KCC input'!H2348) | F2347: =IF('KCC input'!H2348=0,"",'KCC input'!H2348) | G2347: =CONCATENATE(I2347,J2347,REPT(" ",8-LEN(J2347)),K2347) | H2347: =IF('KCC input'!I2348=0,"",'KCC input'!I2348) | I2347: =IF('KCC input'!K2348=0,"",'KCC input'!K2348) | J2347: =IF('KCC input'!L2348=0,"",'KCC input'!L2348) | K2347: =IF('KCC input'!M2348=0,"",'KCC input'!M2348)

Sheet Codegroepen
A1: Omschrijving | B1: Code | G1: IMG | H1: Codegroep | I1: Omschrijving
A2: WGP | B2: ZKC001 | H2: ZKC001 | I2: WGP
A3: GMA | B3: ZKC002 | H3: ZKC002 | I3: GMA
A4: IR | B4: ZKC007 | H4: ZKC007 | I4: IR
A5: GM | B5: ZKC011 | H5: ZKC011 | I5: GM
A6: R&A | B6: ZKC012 | H6: ZKC012 | I6: R&A
A7: Administratief | B7: ZKC016 | H7: ZKC016 | I7: Administratief
A8: Debiteurenbeheer | B8: ZKC017 | H8: ZKC017 | I8: Debiteurenbeheer
A9: LG | B9: ZKC018 | H9: ZKC018 | I9: LG
A10: Zakelijke markt | B10: ZKC019 | H10: ZKC019 | I10: Zakelijke Markt
A11: BRK | B11: ZKC021 | H11: ZKC021 | I11: BRK
A12: BRT | B12: ZKC022 | H12: ZKC022 | I12: BRT
A13: BGT Algemeen | B13: ZKC023 | H13: ZKC023 | I13: BGT
... A26: BRK Notificaties | B26: ZKC037 | H26: ZKC037 | I26: BRK Notificaties
