Workbook

Sheet KCC input
A1: Taal | B1: NL | F1: Bevat formule in de cel eronder om door te kopieren
A2: Schema-ID | B2: KCC | F2: Validatie lengte categorie omschrijving >40
A3: Naam | B3: KCC Contactregistratie
A4: Omschrijving | B4: KCC Contactregistratie | F4: Nieuw
A5: [Status] | B5: Concept | F5: Wijziging | K5: NIET | L5: NIET | M5: NIET | N5: NIET
A6: [Gewijzigd op] | B6: 15.11.2021 | F6: Verwijderen | K6: INVULLEN | L6: INVULLEN | M6: INVULLEN | N6: INVULLEN
A7: [Gewijzigd om] | B7: 0.40972222 | K7: WORDT | L7: WORDT | M7: WORDT | N7: WORDT | O7: NIET INVULLEN
A8: [Gewijzigd door] | B8: LOODEB | K8: DOOR | L8: DOOR | M8: DOOR | N8: DOOR | O8: WORDT
K9: IT GEVULD | L9: IT GEVULD | M9: IT GEVULD | N9: IT GEVULD | O9: AFGELEID
A10: Niveau1Categorie-ID | B10: Niveau1 Omschrijving | C10: Niveau2Categorie-ID | D10: Niveau2 Omschrijving | E10: Niveau3Categorie-ID | F10: Niveau3 Omschrijving | G10: Niveau4Categorie-ID | H10: Naam categorie | I10: Volgorde | J10: Opmerking | K10: Catalog | L10: Code group | M10: Code | N10: Niveau ID | O10: Categorie lengte
A11: ZA_XXXXX | B11: =IF(LEFT(A11,2)="ZA",H11,B10) | D11: =IF(LEFT(C11,2)="ZA",H11,IF(LEFT(A11,2)="ZA","",D10)) | F11: =IF(LEFT(E11,2)="ZA",H11,IF(LEFT(A11,2)="ZA","",IF(LEFT(C11,2)="ZA","",F10))) | L11: =_xlfn.IFNA(VLOOKUP(B11,Codegroepen!$A:$B,2,FALSE),"") | N11: =_xlfn.CONCAT(A11,C11,E11,G11) -> ZA_XXXXX | O11: =LEN(H11) -> 0
A12: ZA_00001 | B12: =IF(LEFT(A12,2)="ZA",H12,B11) -> BGT Algemeen | D12: =IF(LEFT(C12,2)="ZA",H12,IF(LEFT(A12,2)="ZA","",D11)) | F12: =IF(LEFT(E12,2)="ZA",H12,IF(LEFT(A12,2)="ZA","",IF(LEFT(C12,2)="ZA","",F11))) | H12: BGT Algemeen | I12: 0012 | K12: A1 | L12: =_xlfn.IFNA(VLOOKUP(B12,Codegroepen!$A:$B,2,FALSE),"") -> ZKC023 | M12: Z001 | N12: =_xlfn.CONCAT(A12,C12,E12,G12) -> ZA_00001 | O12: =LEN(H12) -> 12
B13: =IF(LEFT(A13,2)="ZA",H13,B12) -> BGT Algemeen | C13: ZA_00002 | D13: =IF(LEFT(C13,2)="ZA",H13,IF(LEFT(A13,2)="ZA","",D12)) -> Bestellen (aanmelden/ autorisatie) | F13: =IF(LEFT(E13,2)="ZA",H13,IF(LEFT(A13,2)="ZA","",IF(LEFT(C13,2)="ZA","",F12))) | H13: Bestellen (aanmelden/ autorisatie) | K13: A1 | L13: =_xlfn.IFNA(VLOOKUP(B13,Codegroepen!$A:$B,2,FALSE),"") -> ZKC023 | M13: Z002 | N13: =_xlfn.CONCAT(A13,C13,E13,G13) -> ZA_00002 | O13: =LEN(H13) -> 34
B14: =IF(LEFT(A14,2)="ZA",H14,B13) -> BGT Algemeen | D14: =IF(LEFT(C14,2)="ZA",H14,IF(LEFT(A14,2)="ZA","",D13)) -> Bestellen (aanmelden/ autorisatie) | E14: ZA_00003 | F14: =IF(LEFT(E14,2)="ZA",H14,IF(LEFT(A14,2)="ZA","",IF(LEFT(C14,2)="ZA","",F13))) -> Ik wil me aanmelden voor | H14: Ik wil me aanmelden voor | K14: A1 | L14: =_xlfn.IFNA(VLOOKUP(B14,Codegroepen!$A:$B,2,FALSE),"") -> ZKC023 | M14: Z003 | N14: =_xlfn.CONCAT(A14,C14,E14,G14) -> ZA_00003 | O14: =LEN(H14) -> 24
B15: =IF(LEFT(A15,2)="ZA",H15,B14) -> BGT Algemeen | D15: =IF(LEFT(C15,2)="ZA",H15,IF(LEFT(A15,2)="ZA","",D14)) -> Bestellen (aanmelden/ autorisatie) | F15: =IF(LEFT(E15,2)="ZA",H15,IF(LEFT(A15,2)="ZA","",IF(LEFT(C15,2)="ZA","",F14))) -> Ik wil me aanmelden voor | G15: ZA_00004 | H15: BRAVO | K15: A1 | L15: =_xlfn.IFNA(VLOOKUP(B15,Codegroepen!$A:$B,2,FALSE),"") -> ZKC023 | M15: Z004 | N15: =_xlfn.CONCAT(A15,C15,E15,G15) -> ZA_00004 | O15: =LEN(H15) -> 5
B16: =IF(LEFT(A16,2)="ZA",H16,B15) -> BGT Algemeen | D16: =IF(LEFT(C16,2)="ZA",H16,IF(LEFT(A16,2)="ZA","",D15)) -> Bestellen (aanmelden/ autorisatie) | F16: =IF(LEFT(E16,2)="ZA",H16,IF(LEFT(A16,2)="ZA","",IF(LEFT(C16,2)="ZA","",F15))) -> Ik wil me aanmelden voor | G16: ZA_00005 | H16: MMS | K16: A1 | L16: =_xlfn.IFNA(VLOOKUP(B16,Codegroepen!$A:$B,2,FALSE),"") -> ZKC023 | M16: Z005 | N16: =_xlfn.CONCAT(A16,C16,E16,G16) -> ZA_00005 | O16: =LEN(H16) -> 3
B17: =IF(LEFT(A17,2)="ZA",H17,B16) -> BGT Algemeen | D17: =IF(LEFT(C17,2)="ZA",H17,IF(LEFT(A17,2)="ZA","",D16)) -> Bestellen (aanmelden/ autorisatie) | F17: =IF(LEFT(E17,2)="ZA",H17,IF(LEFT(A17,2)="ZA","",IF(LEFT(C17,2)="ZA","",F16))) -> Ik wil me aanmelden voor | G17: ZA_01960 | H17: LV BGT controle service | K17: A1 | L17: =_xlfn.IFNA(VLOOKUP(B17,Codegroepen!$A:$B,2,FALSE),"") -> ZKC023 | M17: Z059 | N17: =_xlfn.CONCAT(A17,C17,E17,G17) -> ZA_01960 | O17: =LEN(H17) -> 23
B18: =IF(LEFT(A18,2)="ZA",H18,B17) -> BGT Algemeen | D18: =IF(LEFT(C18,2)="ZA",H18,IF(LEFT(A18,2)="ZA","",D17)) -> Bestellen (aanmelden/ autorisatie) | F18: =IF(LEFT(E18,2)="ZA",H18,IF(LEFT(A18,2)="ZA","",IF(LEFT(C18,2)="ZA","",F17))) -> Ik wil me aanmelden voor | G18: ZA_02782 | H18: Terugmelden | K18: A1 | L18: =_xlfn.IFNA(VLOOKUP(B18,Codegroepen!$A:$B,2,FALSE),"") -> ZKC023 | M18: Z065 | N18: =_xlfn.CONCAT(A18,C18,E18,G18) -> ZA_02782 | O18: =LEN(H18) -> 11
B19: =IF(LEFT(A19,2)="ZA",H19,B18) -> BGT Algemeen | D19: =IF(LEFT(C19,2)="ZA",H19,IF(LEFT(A19,2)="ZA","",D18)) -> Bestellen (aanmelden/ autorisatie) | F19: =IF(LEFT(E19,2)="ZA",H19,IF(LEFT(A19,2)="ZA","",IF(LEFT(C19,2)="ZA","",F18))) -> Ik wil me aanmelden voor | G19: ZA_02783 | H19: Abonnementen | K19: A1 | L19: =_xlfn.IFNA(VLOOKUP(B19,Codegroepen!$A:$B,2,FALSE),"") -> ZKC023 | M19: Z066 | N19: =_xlfn.CONCAT(A19,C19,E19,G19) -> ZA_02783 | O19: =LEN(H19) -> 12
B20: =IF(LEFT(A20,2)="ZA",H20,B19) -> BGT Algemeen | D20: =IF(LEFT(C20,2)="ZA",H20,IF(LEFT(A20,2)="ZA","",D19)) -> Bestellen (aanmelden/ autorisatie) | F20: =IF(LEFT(E20,2)="ZA",H20,IF(LEFT(A20,2)="ZA","",IF(LEFT(C20,2)="ZA","",F19))) -> Ik wil me aanmelden voor | G20: ZA_02784 | H20: Machtigingen | K20: A1 | L20: =_xlfn.IFNA(VLOOKUP(B20,Codegroepen!$A:$B,2,FALSE),"") -> ZKC023 | M20: Z067 | N20: =_xlfn.CONCAT(A20,C20,E20,G20) -> ZA_02784 | O20: =LEN(H20) -> 12
B21: =IF(LEFT(A21,2)="ZA",H21,B20) -> BGT Algemeen | C21: ZA_00006 | D21: =IF(LEFT(C21,2)="ZA",H21,IF(LEFT(A21,2)="ZA","",D20)) -> Bestellen (wijzigen autorisatie) | F21: =IF(LEFT(E21,2)="ZA",H21,IF(LEFT(A21,2)="ZA","",IF(LEFT(C21,2)="ZA","",F20))) | H21: Bestellen (wijzigen autorisatie) | K21: A1 | L21: =_xlfn.IFNA(VLOOKUP(B21,Codegroepen!$A:$B,2,FALSE),"") -> ZKC023 | M21: Z006 | N21: =_xlfn.CONCAT(A21,C21,E21,G21) -> ZA_00006 | O21: =LEN(H21) -> 32
B22: =IF(LEFT(A22,2)="ZA",H22,B21) -> BGT Algemeen | D22: =IF(LEFT(C22,2)="ZA",H22,IF(LEFT(A22,2)="ZA","",D21)) -> Bestellen (wijzigen autorisatie) | E22: ZA_00007 | F22: =IF(LEFT(E22,2)="ZA",H22,IF(LEFT(A22,2)="ZA","",IF(LEFT(C22,2)="ZA","",F21))) -> Ik wil mijn toegang wijzigen | H22: Ik wil mijn toegang wijzigen | K22: A1 | L22: =_xlfn.IFNA(VLOOKUP(B22,Codegroepen!$A:$B,2,FALSE),"") -> ZKC023 | M22: Z007 | N22: =_xlfn.CONCAT(A22,C22,E22,G22) -> ZA_00007 | O22: =LEN(H22) -> 28
B23: =IF(LEFT(A23,2)="ZA",H23,B22) -> BGT Algemeen | D23: =IF(LEFT(C23,2)="ZA",H23,IF(LEFT(A23,2)="ZA","",D22)) -> Bestellen (wijzigen autorisatie) | F23: =IF(LEFT(E23,2)="ZA",H23,IF(LEFT(A23,2)="ZA","",IF(LEFT(C23,2)="ZA","",F22))) -> Ik wil mijn toegang wijzigen | G23: ZA_02785 | H23: Rol gebruiker wijzigen | K23: A1 | L23: =_xlfn.IFNA(VLOOKUP(B23,Codegroepen!$A:$B,2,FALSE),"") -> ZKC023 | M23: Z068 | N23: =_xlfn.CONCAT(A23,C23,E23,G23) -> ZA_02785 | O23: =LEN(H23) -> 22
B24: =IF(LEFT(A24,2)="ZA",H24,B23) -> BGT Algemeen | D24: =IF(LEFT(C24,2)="ZA",H24,IF(LEFT(A24,2)="ZA","",D23)) -> Bestellen (wijzigen autorisatie) | F24: =IF(LEFT(E24,2)="ZA",H24,IF(LEFT(A24,2)="ZA","",IF(LEFT(C24,2)="ZA","",F23))) -> Ik wil mijn toegang wijzigen | G24: ZA_02786 | H24: Wachtwoord resetten | K24: A1 | L24: =_xlfn.IFNA(VLOOKUP(B24,Codegroepen!$A:$B,2,FALSE),"") -> ZKC023 | M24: Z069 | N24: =_xlfn.CONCAT(A24,C24,E24,G24) -> ZA_02786 | O24: =LEN(H24) -> 19
B25: =IF(LEFT(A25,2)="ZA",H25,B24) -> BGT Algemeen | D25: =IF(LEFT(C25,2)="ZA",H25,IF(LEFT(A25,2)="ZA","",D24)) -> Bestellen (wijzigen autorisatie) | F25: =IF(LEFT(E25,2)="ZA",H25,IF(LEFT(A25,2)="ZA","",IF(LEFT(C25,2)="ZA","",F24))) -> Ik wil mijn toegang wijzigen | G25: ZA_02787 | H25: Machtigingen | K25: A1 | L25: =_xlfn.IFNA(VLOOKUP(B25,Codegroepen!$A:$B,2,FALSE),"") -> ZKC023 | M25: Z070 | N25: =_xlfn.CONCAT(A25,C25,E25,G25) -> ZA_02787 | O25: =LEN(H25) -> 12
B26: =IF(LEFT(A26,2)="ZA",H26,B25) -> BGT Algemeen | D26: =IF(LEFT(C26,2)="ZA",H26,IF(LEFT(A26,2)="ZA","",D25)) -> Bestellen (wijzigen autorisatie) | F26: =IF(LEFT(E26,2)="ZA",H26,IF(LEFT(A26,2)="ZA","",IF(LEFT(C26,2)="ZA","",F25))) -> Ik wil mijn toegang wijzigen | G26: ZA_02788 | H26: Abonnementen | K26: A1 | L26: =_xlfn.IFNA(VLOOKUP(B26,Codegroepen!$A:$B,2,FALSE),"") -> ZKC023 | M26: Z071 | N26: =_xlfn.CONCAT(A26,C26,E26,G26) -> ZA_02788 | O26: =LEN(H26) -> 12
B27: =IF(LEFT(A27,2)="ZA",H27,B26) -> BGT Algemeen | D27: =IF(LEFT(C27,2)="ZA",H27,IF(LEFT(A27,2)="ZA","",D26)) -> Bestellen (wijzigen autorisatie) | F27: =IF(LEFT(E27,2)="ZA",H27,IF(LEFT(A27,2)="ZA","",IF(LEFT(C27,2)="ZA","",F26))) -> Ik wil mijn toegang wijzigen | G27: ZA_02789 | H27: Terugmelden | K27: A1 | L27: =_xlfn.IFNA(VLOOKUP(B27,Codegroepen!$A:$B,2,FALSE),"") -> ZKC023 | M27: Z072 | N27: =_xlfn.CONCAT(A27,C27,E27,G27) -> ZA_02789 | O27: =LEN(H27) -> 11
B28: =IF(LEFT(A28,2)="ZA",H28,B27) -> BGT Algemeen | C28: ZA_00010 | D28: =IF(LEFT(C28,2)="ZA",H28,IF(LEFT(A28,2)="ZA","",D27)) -> Oriënteren | F28: =IF(LEFT(E28,2)="ZA",H28,IF(LEFT(A28,2)="ZA","",IF(LEFT(C28,2)="ZA","",F27))) | H28: Oriënteren | K28: A1 | L28: =_xlfn.IFNA(VLOOKUP(B28,Codegroepen!$A:$B,2,FALSE),"") -> ZKC023 | M28: Z010 | N28: =_xlfn.CONCAT(A28,C28,E28,G28) -> ZA_00010 | O28: =LEN(H28) -> 10
B29: =IF(LEFT(A29,2)="ZA",H29,B28) -> BGT Algemeen | D29: =IF(LEFT(C29,2)="ZA",H29,IF(LEFT(A29,2)="ZA","",D28)) -> Oriënteren | E29: ZA_00011 | F29: =IF(LEFT(E29,2)="ZA",H29,IF(LEFT(A29,2)="ZA","",IF(LEFT(C29,2)="ZA","",F28))) -> Ik heb een vraag | H29: Ik heb een vraag | K29: A1 | L29: =_xlfn.IFNA(VLOOKUP(B29,Codegroepen!$A:$B,2,FALSE),"") -> ZKC023 | M29: Z011 | N29: =_xlfn.CONCAT(A29,C29,E29,G29) -> ZA_00011 | O29: =LEN(H29) -> 16
B30: =IF(LEFT(A30,2)="ZA",H30,B29) -> BGT Algemeen | D30: =IF(LEFT(C30,2)="ZA",H30,IF(LEFT(A30,2)="ZA","",D29)) -> Oriënteren | F30: =IF(LEFT(E30,2)="ZA",H30,IF(LEFT(A30,2)="ZA","",IF(LEFT(C30,2)="ZA","",F29))) -> Ik heb een vraag | G30: ZA_00012 | H30: BGT | K30: A1 | L30: =_xlfn.IFNA(VLOOKUP(B30,Codegroepen!$A:$B,2,FALSE),"") -> ZKC023 | M30: Z012 | N30: =_xlfn.CONCAT(A30,C30,E30,G30) -> ZA_00012 | O30: =LEN(H30) -> 3
B31: =IF(LEFT(A31,2)="ZA",H31,B30) -> BGT Algemeen | C31: ZA_00013 | D31: =IF(LEFT(C31,2)="ZA",H31,IF(LEFT(A31,2)="ZA","",D30)) -> Gebruiken | F31: =IF(LEFT(E31,2)="ZA",H31,IF(LEFT(A31,2)="ZA","",IF(LEFT(C31,2)="ZA","",F30))) | H31: Gebruiken | K31: A1 | L31: =_xlfn.IFNA(VLOOKUP(B31,Codegroepen!$A:$B,2,FALSE),"") -> ZKC023 | M31: Z013 | N31: =_xlfn.CONCAT(A31,C31,E31,G31) -> ZA_00013 | O31: =LEN(H31) -> 9
B32: =IF(LEFT(A32,2)="ZA",H32,B31) -> BGT Algemeen | D32: =IF(LEFT(C32,2)="ZA",H32,IF(LEFT(A32,2)="ZA","",D31)) -> Gebruiken | E32: ZA_00014 | F32: =IF(LEFT(E32,2)="ZA",H32,IF(LEFT(A32,2)="ZA","",IF(LEFT(C32,2)="ZA","",F31))) -> Ik heb een vraag | H32: Ik heb een vraag | K32: A1 | L32: =_xlfn.IFNA(VLOOKUP(B32,Codegroepen!$A:$B,2,FALSE),"") -> ZKC023 | M32: Z014 | N32: =_xlfn.CONCAT(A32,C32,E32,G32) -> ZA_00014 | O32: =LEN(H32) -> 16
B33: =IF(LEFT(A33,2)="ZA",H33,B32) -> BGT Algemeen | D33: =IF(LEFT(C33,2)="ZA",H33,IF(LEFT(A33,2)="ZA","",D32)) -> Gebruiken | F33: =IF(LEFT(E33,2)="ZA",H33,IF(LEFT(A33,2)="ZA","",IF(LEFT(C33,2)="ZA","",F32))) -> Ik heb een vraag | G33: ZA_00015 | H33: BRAVO | K33: A1 | L33: =_xlfn.IFNA(VLOOKUP(B33,Codegroepen!$A:$B,2,FALSE),"") -> ZKC023 | M33: Z015 | N33: =_xlfn.CONCAT(A33,C33,E33,G33) -> ZA_00015 | O33: =LEN(H33) -> 5
B34: =IF(LEFT(A34,2)="ZA",H34,B33) -> BGT Algemeen | D34: =IF(LEFT(C34,2)="ZA",H34,IF(LEFT(A34,2)="ZA","",D33)) -> Gebruiken | F34: =IF(LEFT(E34,2)="ZA",H34,IF(LEFT(A34,2)="ZA","",IF(LEFT(C34,2)="ZA","",F33))) -> Ik heb een vraag | G34: ZA_00016 | H34: Controle service LV | K34: A1 | L34: =_xlfn.IFNA(VLOOKUP(B34,Codegroepen!$A:$B,2,FALSE),"") -> ZKC023 | M34: Z016 | N34: =_xlfn.CONCAT(A34,C34,E34,G34) -> ZA_00016 | O34: =LEN(H34) -> 19
B35: =IF(LEFT(A35,2)="ZA",H35,B34) -> BGT Algemeen | D35: =IF(LEFT(C35,2)="ZA",H35,IF(LEFT(A35,2)="ZA","",D34)) -> Gebruiken | F35: =IF(LEFT(E35,2)="ZA",H35,IF(LEFT(A35,2)="ZA","",IF(LEFT(C35,2)="ZA","",F34))) -> Ik heb een vraag | G35: ZA_00017 | H35: ETO LV | K35: A1 | L35: =_xlfn.IFNA(VLOOKUP(B35,Codegroepen!$A:$B,2,FALSE),"") -> ZKC023 | M35: Z017 | N35: =_xlfn.CONCAT(A35,C35,E35,G35) -> ZA_00017 | O35: =LEN(H35) -> 6
B36: =IF(LEFT(A36,2)="ZA",H36,B35) -> BGT Algemeen | D36: =IF(LEFT(C36,2)="ZA",H36,IF(LEFT(A36,2)="ZA","",D35)) -> Gebruiken | F36: =IF(LEFT(E36,2)="ZA",H36,IF(LEFT(A36,2)="ZA","",IF(LEFT(C36,2)="ZA","",F35))) -> Ik heb een vraag | G36: ZA_00018 | H36: Kwaliteitsdashboard | K36: A1 | L36: =_xlfn.IFNA(VLOOKUP(B36,Codegroepen!$A:$B,2,FALSE),"") -> ZKC023 | M36: Z018 | N36: =_xlfn.CONCAT(A36,C36,E36,G36) -> ZA_00018 | O36: =LEN(H36) -> 19
B37: =IF(LEFT(A37,2)="ZA",H37,B36) -> BGT Algemeen | D37: =IF(LEFT(C37,2)="ZA",H37,IF(LEFT(A37,2)="ZA","",D36)) -> Gebruiken | F37: =IF(LEFT(E37,2)="ZA",H37,IF(LEFT(A37,2)="ZA","",IF(LEFT(C37,2)="ZA","",F36))) -> Ik heb een vraag | G37: ZA_00019 | H37: MMS | K37: A1 | L37: =_xlfn.IFNA(VLOOKUP(B37,Codegroepen!$A:$B,2,FALSE),"") -> ZKC023 | M37: Z019 | N37: =_xlfn.CONCAT(A37,C37,E37,G37) -> ZA_00019 | O37: =LEN(H37) -> 3
B38: =IF(LEFT(A38,2)="ZA",H38,B37) -> BGT Algemeen | D38: =IF(LEFT(C38,2)="ZA",H38,IF(LEFT(A38,2)="ZA","",D37)) -> Gebruiken | F38: =IF(LEFT(E38,2)="ZA",H38,IF(LEFT(A38,2)="ZA","",IF(LEFT(C38,2)="ZA","",F37))) -> Ik heb een vraag | G38: ZA_00020 | H38: Registratieservice LV | K38: A1 | L38: =_xlfn.IFNA(VLOOKUP(B38,Codegroepen!$A:$B,2,FALSE),"") -> ZKC023 | M38: Z020 | N38: =_xlfn.CONCAT(A38,C38,E38,G38) -> ZA_00020 | O38: =LEN(H38) -> 21
B39: =IF(LEFT(A39,2)="ZA",H39,B38) -> BGT Algemeen | D39: =IF(LEFT(C39,2)="ZA",H39,IF(LEFT(A39,2)="ZA","",D38)) -> Gebruiken | F39: =IF(LEFT(E39,2)="ZA",H39,IF(LEFT(A39,2)="ZA","",IF(LEFT(C39,2)="ZA","",F38))) -> Ik heb een vraag | G39: ZA_00021 | H39: Verbeter de Kaart | K39: A1 | L39: =_xlfn.IFNA(VLOOKUP(B39,Codegroepen!$A:$B,2,FALSE),"") -> ZKC023 | M39: Z021 | N39: =_xlfn.CONCAT(A39,C39,E39,G39) -> ZA_00021 | O39: =LEN(H39) -> 17
B40: =IF(LEFT(A40,2)="ZA",H40,B39) -> BGT Algemeen | D40: =IF(LEFT(C40,2)="ZA",H40,IF(LEFT(A40,2)="ZA","",D39)) -> Gebruiken | F40: =IF(LEFT(E40,2)="ZA",H40,IF(LEFT(A40,2)="ZA","",IF(LEFT(C40,2)="ZA","",F39))) -> Ik heb een vraag | G40: ZA_00022 | H40: Wet- en regelgeving | K40: A1 | L40: =_xlfn.IFNA(VLOOKUP(B40,Codegroepen!$A:$B,2,FALSE),"") -> ZKC023 | M40: Z022 | N40: =_xlfn.CONCAT(A40,C40,E40,G40) -> ZA_00022 | O40: =LEN(H40) -> 19
B41: =IF(LEFT(A41,2)="ZA",H41,B40) -> BGT Algemeen | D41: =IF(LEFT(C41,2)="ZA",H41,IF(LEFT(A41,2)="ZA","",D40)) -> Gebruiken | F41: =IF(LEFT(E41,2)="ZA",H41,IF(LEFT(A41,2)="ZA","",IF(LEFT(C41,2)="ZA","",F40))) -> Ik heb een vraag | G41: ZA_00023 | H41: Klantadministratie | K41: A1 | L41: =_xlfn.IFNA(VLOOKUP(B41,Codegroepen!$A:$B,2,FALSE),"") -> ZKC023 | M41: Z045 | N41: =_xlfn.CONCAT(A41,C41,E41,G41) -> ZA_00023 | O41: =LEN(H41) -> 18
B42: =IF(LEFT(A42,2)="ZA",H42,B41) -> BGT Algemeen | D42: =IF(LEFT(C42,2)="ZA",H42,IF(LEFT(A42,2)="ZA","",D41)) -> Gebruiken | F42: =IF(LEFT(E42,2)="ZA",H42,IF(LEFT(A42,2)="ZA","",IF(LEFT(C42,2)="ZA","",F41))) -> Ik heb een vraag | G42: ZA_02153 | H42: LV BGT | K42: A1 | L42: =_xlfn.IFNA(VLOOKUP(B42,Codegroepen!$A:$B,2,FALSE),"") -> ZKC023 | M42: Z060 | N42: =_xlfn.CONCAT(A42,C42,E42,G42) -> ZA_02153 | O42: =LEN(H42) -> 6
B43: =IF(LEFT(A43,2)="ZA",H43,B42) -> BGT Algemeen | D43: =IF(LEFT(C43,2)="ZA",H43,IF(LEFT(A43,2)="ZA","",D42)) -> Gebruiken | F43: =IF(LEFT(E43,2)="ZA",H43,IF(LEFT(A43,2)="ZA","",IF(LEFT(C43,2)="ZA","",F42))) -> Ik heb een vraag | G43: ZA_02154 | H43: Automatisch berichtenverkeer | K43: A1 | L43: =_xlfn.IFNA(VLOOKUP(B43,Codegroepen!$A:$B,2,FALSE),"") -> ZKC023 | M43: Z061 | N43: =_xlfn.CONCAT(A43,C43,E43,G43) -> ZA_02154 | O43: =LEN(H43) -> 28
B44: =IF(LEFT(A44,2)="ZA",H44,B43) -> BGT Algemeen | D44: =IF(LEFT(C44,2)="ZA",H44,IF(LEFT(A44,2)="ZA","",D43)) -> Gebruiken | F44: =IF(LEFT(E44,2)="ZA",H44,IF(LEFT(A44,2)="ZA","",IF(LEFT(C44,2)="ZA","",F43))) -> Ik heb een vraag | G44: ZA_02155 | H44: BRAVO K-portaal | K44: A1 | L44: =_xlfn.IFNA(VLOOKUP(B44,Codegroepen!$A:$B,2,FALSE),"") -> ZKC023 | M44: Z062 | N44: =_xlfn.CONCAT(A44,C44,E44,G44) -> ZA_02155 | O44: =LEN(H44) -> 15
... B49: =IF(LEFT(A49,2)="ZA",H49,B48) -> BGT Algemeen | D49: =IF(LEFT(C49,2)="ZA",H49,IF(LEFT(A49,2)="ZA","",D48)) -> Gebruiken | F49: =IF(LEFT(E49,2)="ZA",H49,IF(LEFT(A49,2)="ZA","",IF(LEFT(C49,2)="ZA","",F48))) -> Ik heb een vraag | G49: ZA_02792 | H49: Machtigingen | K49: A1 | L49: =_xlfn.IFNA(VLOOKUP(B49,Codegroepen!$A:$B,2,FALSE),"") -> ZKC023 | M49: Z075 | N49: =_xlfn.CONCAT(A49,C49,E49,G49) -> ZA_02792 | O49: =LEN(H49) -> 12
B50: =IF(LEFT(A50,2)="ZA",H50,B49) -> BGT Algemeen | D50: =IF(LEFT(C50,2)="ZA",H50,IF(LEFT(A50,2)="ZA","",D49)) -> Gebruiken | E50: ZA_02793 | F50: =IF(LEFT(E50,2)="ZA",H50,IF(LEFT(A50,2)="ZA","",IF(LEFT(C50,2)="ZA","",F49))) -> Mailing | H50: Mailing | K50: A1 | L50: =_xlfn.IFNA(VLOOKUP(B50,Codegroepen!$A:$B,2,FALSE),"") -> ZKC023 | M50: Z076 | N50: =_xlfn.CONCAT(A50,C50,E50,G50) -> ZA_02793 | O50: =LEN(H50) -> 7
B51: =IF(LEFT(A51,2)="ZA",H51,B50) -> BGT Algemeen | D51: =IF(LEFT(C51,2)="ZA",H51,IF(LEFT(A51,2)="ZA","",D50)) -> Gebruiken | F51: =IF(LEFT(E51,2)="ZA",H51,IF(LEFT(A51,2)="ZA","",IF(LEFT(C51,2)="ZA","",F50))) -> Mailing | G51: ZA_02794 | H51: Service bericht | K51: A1 | L51: =_xlfn.IFNA(VLOOKUP(B51,Codegroepen!$A:$B,2,FALSE),"") -> ZKC023 | M51: Z077 | N51: =_xlfn.CONCAT(A51,C51,E51,G51) -> ZA_02794 | O51: =LEN(H51) -> 15
B52: =IF(LEFT(A52,2)="ZA",H52,B51) -> BGT Algemeen | D52: =IF(LEFT(C52,2)="ZA",H52,IF(LEFT(A52,2)="ZA","",D51)) -> Gebruiken | F52: =IF(LEFT(E52,2)="ZA",H52,IF(LEFT(A52,2)="ZA","",IF(LEFT(C52,2)="ZA","",F51))) -> Mailing | G52: ZA_02795 | H52: Mailing algemeen | K52: A1 | L52: =_xlfn.IFNA(VLOOKUP(B52,Codegroepen!$A:$B,2,FALSE),"") -> ZKC023 | M52: Z078 | N52: =_xlfn.CONCAT(A52,C52,E52,G52) -> ZA_02795 | O52: =LEN(H52) -> 16
B53: =IF(LEFT(A53,2)="ZA",H53,B52) -> BGT Algemeen | D53: =IF(LEFT(C53,2)="ZA",H53,IF(LEFT(A53,2)="ZA","",D52)) -> Gebruiken | E53: ZA_00024 | F53: =IF(LEFT(E53,2)="ZA",H53,IF(LEFT(A53,2)="ZA","",IF(LEFT(C53,2)="ZA","",F52))) -> Ik heb een verstoring | H53: Ik heb een verstoring | K53: A1 | L53: =_xlfn.IFNA(VLOOKUP(B53,Codegroepen!$A:$B,2,FALSE),"") -> ZKC023 | M53: Z023 | N53: =_xlfn.CONCAT(A53,C53,E53,G53) -> ZA_00024 | O53: =LEN(H53) -> 21
B54: =IF(LEFT(A54,2)="ZA",H54,B53) -> BGT Algemeen | D54: =IF(LEFT(C54,2)="ZA",H54,IF(LEFT(A54,2)="ZA","",D53)) -> Gebruiken | F54: =IF(LEFT(E54,2)="ZA",H54,IF(LEFT(A54,2)="ZA","",IF(LEFT(C54,2)="ZA","",F53))) -> Ik heb een verstoring | G54: ZA_02796 | H54: Terugmelden | K54: A1 | L54: =_xlfn.IFNA(VLOOKUP(B54,Codegroepen!$A:$B,2,FALSE),"") -> ZKC023 | M54: Z079 | N54: =_xlfn.CONCAT(A54,C54,E54,G54) -> ZA_02796 | O54: =LEN(H54) -> 11
B55: =IF(LEFT(A55,2)="ZA",H55,B54) -> BGT Algemeen | D55: =IF(LEFT(C55,2)="ZA",H55,IF(LEFT(A55,2)="ZA","",D54)) -> Gebruiken | F55: =IF(LEFT(E55,2)="ZA",H55,IF(LEFT(A55,2)="ZA","",IF(LEFT(C55,2)="ZA","",F54))) -> Ik heb een verstoring | G55: ZA_00025 | H55: LV-BGT | K55: A1 | L55: =_xlfn.IFNA(VLOOKUP(B55,Codegroepen!$A:$B,2,FALSE),"") -> ZKC023 | M55: Z024 | N55: =_xlfn.CONCAT(A55,C55,E55,G55) -> ZA_00025 | O55: =LEN(H55) -> 6
B56: =IF(LEFT(A56,2)="ZA",H56,B55) -> BGT Algemeen | D56: =IF(LEFT(C56,2)="ZA",H56,IF(LEFT(A56,2)="ZA","",D55)) -> Gebruiken | F56: =IF(LEFT(E56,2)="ZA",H56,IF(LEFT(A56,2)="ZA","",IF(LEFT(C56,2)="ZA","",F55))) -> Ik heb een verstoring | G56: ZA_02797 | H56: Abonnementen | K56: A1 | L56: =_xlfn.IFNA(VLOOKUP(B56,Codegroepen!$A:$B,2,FALSE),"") -> ZKC023 | M56: Z080 | N56: =_xlfn.CONCAT(A56,C56,E56,G56) -> ZA_02797 | O56: =LEN(H56) -> 12
B57: =IF(LEFT(A57,2)="ZA",H57,B56) -> BGT Algemeen | D57: =IF(LEFT(C57,2)="ZA",H57,IF(LEFT(A57,2)="ZA","",D56)) -> Gebruiken | E57: ZA_00027 | F57: =IF(LEFT(E57,2)="ZA",H57,IF(LEFT(A57,2)="ZA","",IF(LEFT(C57,2)="ZA","",F56))) -> Kadaster heeft een verstoring | H57: Kadaster heeft een verstoring | K57: A1 | L57: =_xlfn.IFNA(VLOOKUP(B57,Codegroepen!$A:$B,2,FALSE),"") -> ZKC023 | M57: Z026 | N57: =_xlfn.CONCAT(A57,C57,E57,G57) -> ZA_00027 | O57: =LEN(H57) -> 29
B58: =IF(LEFT(A58,2)="ZA",H58,B57) -> BGT Algemeen | D58: =IF(LEFT(C58,2)="ZA",H58,IF(LEFT(A58,2)="ZA","",D57)) -> Gebruiken | F58: =IF(LEFT(E58,2)="ZA",H58,IF(LEFT(A58,2)="ZA","",IF(LEFT(C58,2)="ZA","",F57))) -> Kadaster heeft een verstoring | G58: ZA_02798 | H58: Terugmelden | K58: A1 | L58: =_xlfn.IFNA(VLOOKUP(B58,Codegroepen!$A:$B,2,FALSE),"") -> ZKC023 | M58: Z081 | N58: =_xlfn.CONCAT(A58,C58,E58,G58) -> ZA_02798 | O58: =LEN(H58) -> 11
B59: =IF(LEFT(A59,2)="ZA",H59,B58) -> BGT Algemeen | D59: =IF(LEFT(C59,2)="ZA",H59,IF(LEFT(A59,2)="ZA","",D58)) -> Gebruiken | F59: =IF(LEFT(E59,2)="ZA",H59,IF(LEFT(A59,2)="ZA","",IF(LEFT(C59,2)="ZA","",F58))) -> Kadaster heeft een verstoring | G59: ZA_00028 | H59: Controle service LV | K59: A1 | L59: =_xlfn.IFNA(VLOOKUP(B59,Codegroepen!$A:$B,2,FALSE),"") -> ZKC023 | M59: Z027 | N59: =_xlfn.CONCAT(A59,C59,E59,G59) -> ZA_00028 | O59: =LEN(H59) -> 19
B60: =IF(LEFT(A60,2)="ZA",H60,B59) -> BGT Algemeen | D60: =IF(LEFT(C60,2)="ZA",H60,IF(LEFT(A60,2)="ZA","",D59)) -> Gebruiken | F60: =IF(LEFT(E60,2)="ZA",H60,IF(LEFT(A60,2)="ZA","",IF(LEFT(C60,2)="ZA","",F59))) -> Kadaster heeft een verstoring | G60: ZA_00029 | H60: ETO LV | K60: A1 | L60: =_xlfn.IFNA(VLOOKUP(B60,Codegroepen!$A:$B,2,FALSE),"") -> ZKC023 | M60: Z028 | N60: =_xlfn.CONCAT(A60,C60,E60,G60) -> ZA_00029 | O60: =LEN(H60) -> 6
B61: =IF(LEFT(A61,2)="ZA",H61,B60) -> BGT Algemeen | D61: =IF(LEFT(C61,2)="ZA",H61,IF(LEFT(A61,2)="ZA","",D60)) -> Gebruiken | F61: =IF(LEFT(E61,2)="ZA",H61,IF(LEFT(A61,2)="ZA","",IF(LEFT(C61,2)="ZA","",F60))) -> Kadaster heeft een verstoring | G61: ZA_00030 | H61: Kwaliteitsdashboard | K61: A1 | L61: =_xlfn.IFNA(VLOOKUP(B61,Codegroepen!$A:$B,2,FALSE),"") -> ZKC023 | M61: Z029 | N61: =_xlfn.CONCAT(A61,C61,E61,G61) -> ZA_00030 | O61: =LEN(H61) -> 19
B62: =IF(LEFT(A62,2)="ZA",H62,B61) -> BGT Algemeen | D62: =IF(LEFT(C62,2)="ZA",H62,IF(LEFT(A62,2)="ZA","",D61)) -> Gebruiken | F62: =IF(LEFT(E62,2)="ZA",H62,IF(LEFT(A62,2)="ZA","",IF(LEFT(C62,2)="ZA","",F61))) -> Kadaster heeft een verstoring | G62: ZA_00031 | H62: Registratieservice LV | K62: A1 | L62: =_xlfn.IFNA(VLOOKUP(B62,Codegroepen!$A:$B,2,FALSE),"") -> ZKC023 | M62: Z030 | N62: =_xlfn.CONCAT(A62,C62,E62,G62) -> ZA_00031 | O62: =LEN(H62) -> 21
B63: =IF(LEFT(A63,2)="ZA",H63,B62) -> BGT Algemeen | D63: =IF(LEFT(C63,2)="ZA",H63,IF(LEFT(A63,2)="ZA","",D62)) -> Gebruiken | F63: =IF(LEFT(E63,2)="ZA",H63,IF(LEFT(A63,2)="ZA","",IF(LEFT(C63,2)="ZA","",F62))) -> Kadaster heeft een verstoring | G63: ZA_00032 | H63: Verbeter de Kaart | K63: A1 | L63: =_xlfn.IFNA(VLOOKUP(B63,Codegroepen!$A:$B,2,FALSE),"") -> ZKC023 | M63: Z031 | N63: =_xlfn.CONCAT(A63,C63,E63,G63) -> ZA_00032 | O63: =LEN(H63) -> 17
B64: =IF(LEFT(A64,2)="ZA",H64,B63) -> BGT Algemeen | D64: =IF(LEFT(C64,2)="ZA",H64,IF(LEFT(A64,2)="ZA","",D63)) -> Gebruiken | F64: =IF(LEFT(E64,2)="ZA",H64,IF(LEFT(A64,2)="ZA","",IF(LEFT(C64,2)="ZA","",F63))) -> Kadaster heeft een verstoring | G64: ZA_00034 | H64: BRAVO | K64: A1 | L64: =_xlfn.IFNA(VLOOKUP(B64,Codegroepen!$A:$B,2,FALSE),"") -> ZKC023 | M64: Z033 | N64: =_xlfn.CONCAT(A64,C64,E64,G64) -> ZA_00034 | O64: =LEN(H64) -> 5
B65: =IF(LEFT(A65,2)="ZA",H65,B64) -> BGT Algemeen | D65: =IF(LEFT(C65,2)="ZA",H65,IF(LEFT(A65,2)="ZA","",D64)) -> Gebruiken | F65: =IF(LEFT(E65,2)="ZA",H65,IF(LEFT(A65,2)="ZA","",IF(LEFT(C65,2)="ZA","",F64))) -> Kadaster heeft een verstoring | G65: ZA_00035 | H65: MMS | K65: A1 | L65: =_xlfn.IFNA(VLOOKUP(B65,Codegroepen!$A:$B,2,FALSE),"") -> ZKC023 | M65: Z034 | N65: =_xlfn.CONCAT(A65,C65,E65,G65) -> ZA_00035 | O65: =LEN(H65) -> 3
B66: =IF(LEFT(A66,2)="ZA",H66,B65) -> BGT Algemeen | D66: =IF(LEFT(C66,2)="ZA",H66,IF(LEFT(A66,2)="ZA","",D65)) -> Gebruiken | F66: =IF(LEFT(E66,2)="ZA",H66,IF(LEFT(A66,2)="ZA","",IF(LEFT(C66,2)="ZA","",F65))) -> Kadaster heeft een verstoring | G66: ZA_02799 | H66: Abonnementen | K66: A1 | L66: =_xlfn.IFNA(VLOOKUP(B66,Codegroepen!$A:$B,2,FALSE),"") -> ZKC023 | M66: Z082 | N66: =_xlfn.CONCAT(A66,C66,E66,G66) -> ZA_02799 | O66: =LEN(H66) -> 12
B67: =IF(LEFT(A67,2)="ZA",H67,B66) -> BGT Algemeen | D67: =IF(LEFT(C67,2)="ZA",H67,IF(LEFT(A67,2)="ZA","",D66)) -> Gebruiken | E67: ZA_00036 | F67: =IF(LEFT(E67,2)="ZA",H67,IF(LEFT(A67,2)="ZA","",IF(LEFT(C67,2)="ZA","",F66))) -> Ik zou graag in de toekomst willen | H67: Ik zou graag in de toekomst willen | K67: A1 | L67: =_xlfn.IFNA(VLOOKUP(B67,Codegroepen!$A:$B,2,FALSE),"") -> ZKC023 | M67: Z035 | N67: =_xlfn.CONCAT(A67,C67,E67,G67) -> ZA_00036 | O67: =LEN(H67) -> 34
B68: =IF(LEFT(A68,2)="ZA",H68,B67) -> BGT Algemeen | D68: =IF(LEFT(C68,2)="ZA",H68,IF(LEFT(A68,2)="ZA","",D67)) -> Gebruiken | F68: =IF(LEFT(E68,2)="ZA",H68,IF(LEFT(A68,2)="ZA","",IF(LEFT(C68,2)="ZA","",F67))) -> Ik zou graag in de toekomst willen | G68: ZA_00037 | H68: BRAVO | K68: A1 | L68: =_xlfn.IFNA(VLOOKUP(B68,Codegroepen!$A:$B,2,FALSE),"") -> ZKC023 | M68: Z036 | N68: =_xlfn.CONCAT(A68,C68,E68,G68) -> ZA_00037 | O68: =LEN(H68) -> 5
B69: =IF(LEFT(A69,2)="ZA",H69,B68) -> BGT Algemeen | D69: =IF(LEFT(C69,2)="ZA",H69,IF(LEFT(A69,2)="ZA","",D68)) -> Gebruiken | F69: =IF(LEFT(E69,2)="ZA",H69,IF(LEFT(A69,2)="ZA","",IF(LEFT(C69,2)="ZA","",F68))) -> Ik zou graag in de toekomst willen | G69: ZA_00038 | H69: Controle service LV | K69: A1 | L69: =_xlfn.IFNA(VLOOKUP(B69,Codegroepen!$A:$B,2,FALSE),"") -> ZKC023 | M69: Z037 | N69: =_xlfn.CONCAT(A69,C69,E69,G69) -> ZA_00038 | O69: =LEN(H69) -> 19
B70: =IF(LEFT(A70,2)="ZA",H70,B69) -> BGT Algemeen | D70: =IF(LEFT(C70,2)="ZA",H70,IF(LEFT(A70,2)="ZA","",D69)) -> Gebruiken | F70: =IF(LEFT(E70,2)="ZA",H70,IF(LEFT(A70,2)="ZA","",IF(LEFT(C70,2)="ZA","",F69))) -> Ik zou graag in de toekomst willen | G70: ZA_00039 | H70: ETO LV | K70: A1 | L70: =_xlfn.IFNA(VLOOKUP(B70,Codegroepen!$A:$B,2,FALSE),"") -> ZKC023 | M70: Z038 | N70: =_xlfn.CONCAT(A70,C70,E70,G70) -> ZA_00039 | O70: =LEN(H70) -> 6
B71: =IF(LEFT(A71,2)="ZA",H71,B70) -> BGT Algemeen | D71: =IF(LEFT(C71,2)="ZA",H71,IF(LEFT(A71,2)="ZA","",D70)) -> Gebruiken | F71: =IF(LEFT(E71,2)="ZA",H71,IF(LEFT(A71,2)="ZA","",IF(LEFT(C71,2)="ZA","",F70))) -> Ik zou graag in de toekomst willen | G71: ZA_00040 | H71: Kwaliteitsdashboard | K71: A1 | L71: =_xlfn.IFNA(VLOOKUP(B71,Codegroepen!$A:$B,2,FALSE),"") -> ZKC023 | M71: Z039 | N71: =_xlfn.CONCAT(A71,C71,E71,G71) -> ZA_00040 | O71: =LEN(H71) -> 19
B72: =IF(LEFT(A72,2)="ZA",H72,B71) -> BGT Algemeen | D72: =IF(LEFT(C72,2)="ZA",H72,IF(LEFT(A72,2)="ZA","",D71)) -> Gebruiken | F72: =IF(LEFT(E72,2)="ZA",H72,IF(LEFT(A72,2)="ZA","",IF(LEFT(C72,2)="ZA","",F71))) -> Ik zou graag in de toekomst willen | G72: ZA_00041 | H72: MMS | K72: A1 | L72: =_xlfn.IFNA(VLOOKUP(B72,Codegroepen!$A:$B,2,FALSE),"") -> ZKC023 | M72: Z040 | N72: =_xlfn.CONCAT(A72,C72,E72,G72) -> ZA_00041 | O72: =LEN(H72) -> 3
B73: =IF(LEFT(A73,2)="ZA",H73,B72) -> BGT Algemeen | D73: =IF(LEFT(C73,2)="ZA",H73,IF(LEFT(A73,2)="ZA","",D72)) -> Gebruiken | F73: =IF(LEFT(E73,2)="ZA",H73,IF(LEFT(A73,2)="ZA","",IF(LEFT(C73,2)="ZA","",F72))) -> Ik zou graag in de toekomst willen | G73: ZA_00042 | H73: Registratieservice LV | K73: A1 | L73: =_xlfn.IFNA(VLOOKUP(B73,Codegroepen!$A:$B,2,FALSE),"") -> ZKC023 | M73: Z041 | N73: =_xlfn.CONCAT(A73,C73,E73,G73) -> ZA_00042 | O73: =LEN(H73) -> 21
B74: =IF(LEFT(A74,2)="ZA",H74,B73) -> BGT Algemeen | D74: =IF(LEFT(C74,2)="ZA",H74,IF(LEFT(A74,2)="ZA","",D73)) -> Gebruiken | F74: =IF(LEFT(E74,2)="ZA",H74,IF(LEFT(A74,2)="ZA","",IF(LEFT(C74,2)="ZA","",F73))) -> Ik zou graag in de toekomst willen | G74: ZA_00043 | H74: Verbeter de Kaart | K74: A1 | L74: =_xlfn.IFNA(VLOOKUP(B74,Codegroepen!$A:$B,2,FALSE),"") -> ZKC023 | M74: Z042 | N74: =_xlfn.CONCAT(A74,C74,E74,G74) -> ZA_00043 | O74: =LEN(H74) -> 17
B75: =IF(LEFT(A75,2)="ZA",H75,B74) -> BGT Algemeen | D75: =IF(LEFT(C75,2)="ZA",H75,IF(LEFT(A75,2)="ZA","",D74)) -> Gebruiken | F75: =IF(LEFT(E75,2)="ZA",H75,IF(LEFT(A75,2)="ZA","",IF(LEFT(C75,2)="ZA","",F74))) -> Ik zou graag in de toekomst willen | G75: ZA_02800 | H75: Abonnementen | K75: A1 | L75: =_xlfn.IFNA(VLOOKUP(B75,Codegroepen!$A:$B,2,FALSE),"") -> ZKC023 | M75: Z083 | N75: =_xlfn.CONCAT(A75,C75,E75,G75) -> ZA_02800 | O75: =LEN(H75) -> 12
B76: =IF(LEFT(A76,2)="ZA",H76,B75) -> BGT Algemeen | D76: =IF(LEFT(C76,2)="ZA",H76,IF(LEFT(A76,2)="ZA","",D75)) -> Gebruiken | F76: =IF(LEFT(E76,2)="ZA",H76,IF(LEFT(A76,2)="ZA","",IF(LEFT(C76,2)="ZA","",F75))) -> Ik zou graag in de toekomst willen | G76: ZA_00044 | H76: Wet- en regelgeving | K76: A1 | L76: =_xlfn.IFNA(VLOOKUP(B76,Codegroepen!$A:$B,2,FALSE),"") -> ZKC023 | M76: Z043 | N76: =_xlfn.CONCAT(A76,C76,E76,G76) -> ZA_00044 | O76: =LEN(H76) -> 19
B77: =IF(LEFT(A77,2)="ZA",H77,B76) -> BGT Algemeen | C77: ZA_00045 | D77: =IF(LEFT(C77,2)="ZA",H77,IF(LEFT(A77,2)="ZA","",D76)) -> Doorverbinden | F77: =IF(LEFT(E77,2)="ZA",H77,IF(LEFT(A77,2)="ZA","",IF(LEFT(C77,2)="ZA","",F76))) | H77: Doorverbinden | K77: A1 | L77: =_xlfn.IFNA(VLOOKUP(B77,Codegroepen!$A:$B,2,FALSE),"") -> ZKC023 | M77: Z046 | N77: =_xlfn.CONCAT(A77,C77,E77,G77) -> ZA_00045 | O77: =LEN(H77) -> 13
B78: =IF(LEFT(A78,2)="ZA",H78,B77) -> BGT Algemeen | D78: =IF(LEFT(C78,2)="ZA",H78,IF(LEFT(A78,2)="ZA","",D77)) -> Doorverbinden | E78: ZA_00046 | F78: =IF(LEFT(E78,2)="ZA",H78,IF(LEFT(A78,2)="ZA","",IF(LEFT(C78,2)="ZA","",F77))) -> Backoffice | H78: Backoffice | K78: A1 | L78: =_xlfn.IFNA(VLOOKUP(B78,Codegroepen!$A:$B,2,FALSE),"") -> ZKC023 | M78: Z047 | N78: =_xlfn.CONCAT(A78,C78,E78,G78) -> ZA_00046 | O78: =LEN(H78) -> 10
B79: =IF(LEFT(A79,2)="ZA",H79,B78) -> BGT Algemeen | D79: =IF(LEFT(C79,2)="ZA",H79,IF(LEFT(A79,2)="ZA","",D78)) -> Doorverbinden | F79: =IF(LEFT(E79,2)="ZA",H79,IF(LEFT(A79,2)="ZA","",IF(LEFT(C79,2)="ZA","",F78))) -> Backoffice | G79: ZA_00047 | H79: / | K79: A1 | L79: =_xlfn.IFNA(VLOOKUP(B79,Codegroepen!$A:$B,2,FALSE),"") -> ZKC023 | M79: Z048 | N79: =_xlfn.CONCAT(A79,C79,E79,G79) -> ZA_00047 | O79: =LEN(H79) -> 1
B80: =IF(LEFT(A80,2)="ZA",H80,B79) -> BGT Algemeen | D80: =IF(LEFT(C80,2)="ZA",H80,IF(LEFT(A80,2)="ZA","",D79)) -> Doorverbinden | E80: ZA_00048 | F80: =IF(LEFT(E80,2)="ZA",H80,IF(LEFT(A80,2)="ZA","",IF(LEFT(C80,2)="ZA","",F79))) -> GM | H80: GM | K80: A1 | L80: =_xlfn.IFNA(VLOOKUP(B80,Codegroepen!$A:$B,2,FALSE),"") -> ZKC023 | M80: Z049 | N80: =_xlfn.CONCAT(A80,C80,E80,G80) -> ZA_00048 | O80: =LEN(H80) -> 2
B81: =IF(LEFT(A81,2)="ZA",H81,B80) -> BGT Algemeen | D81: =IF(LEFT(C81,2)="ZA",H81,IF(LEFT(A81,2)="ZA","",D80)) -> Doorverbinden | F81: =IF(LEFT(E81,2)="ZA",H81,IF(LEFT(A81,2)="ZA","",IF(LEFT(C81,2)="ZA","",F80))) -> GM | G81: ZA_00049 | H81: / | K81: A1 | L81: =_xlfn.IFNA(VLOOKUP(B81,Codegroepen!$A:$B,2,FALSE),"") -> ZKC023 | M81: Z050 | N81: =_xlfn.CONCAT(A81,C81,E81,G81) -> ZA_00049 | O81: =LEN(H81) -> 1
B82: =IF(LEFT(A82,2)="ZA",H82,B81) -> BGT Algemeen | D82: =IF(LEFT(C82,2)="ZA",H82,IF(LEFT(A82,2)="ZA","",D81)) -> Doorverbinden | E82: ZA_00050 | F82: =IF(LEFT(E82,2)="ZA",H82,IF(LEFT(A82,2)="ZA","",IF(LEFT(C82,2)="ZA","",F81))) -> IR | H82: IR | K82: A1 | L82: =_xlfn.IFNA(VLOOKUP(B82,Codegroepen!$A:$B,2,FALSE),"") -> ZKC023 | M82: Z051 | N82: =_xlfn.CONCAT(A82,C82,E82,G82) -> ZA_00050 | O82: =LEN(H82) -> 2
B83: =IF(LEFT(A83,2)="ZA",H83,B82) -> BGT Algemeen | D83: =IF(LEFT(C83,2)="ZA",H83,IF(LEFT(A83,2)="ZA","",D82)) -> Doorverbinden | F83: =IF(LEFT(E83,2)="ZA",H83,IF(LEFT(A83,2)="ZA","",IF(LEFT(C83,2)="ZA","",F82))) -> IR | G83: ZA_00051 | H83: / | K83: A1 | L83: =_xlfn.IFNA(VLOOKUP(B83,Codegroepen!$A:$B,2,FALSE),"") -> ZKC023 | M83: Z052 | N83: =_xlfn.CONCAT(A83,C83,E83,G83) -> ZA_00051 | O83: =LEN(H83) -> 1
B84: =IF(LEFT(A84,2)="ZA",H84,B83) -> BGT Algemeen | D84: =IF(LEFT(C84,2)="ZA",H84,IF(LEFT(A84,2)="ZA","",D83)) -> Doorverbinden | E84: ZA_00052 | F84: =IF(LEFT(E84,2)="ZA",H84,IF(LEFT(A84,2)="ZA","",IF(LEFT(C84,2)="ZA","",F83))) -> LV | H84: LV | K84: A1 | L84: =_xlfn.IFNA(VLOOKUP(B84,Codegroepen!$A:$B,2,FALSE),"") -> ZKC023 | M84: Z053 | N84: =_xlfn.CONCAT(A84,C84,E84,G84) -> ZA_00052 | O84: =LEN(H84) -> 2
B85: =IF(LEFT(A85,2)="ZA",H85,B84) -> BGT Algemeen | D85: =IF(LEFT(C85,2)="ZA",H85,IF(LEFT(A85,2)="ZA","",D84)) -> Doorverbinden | F85: =IF(LEFT(E85,2)="ZA",H85,IF(LEFT(A85,2)="ZA","",IF(LEFT(C85,2)="ZA","",F84))) -> LV | G85: ZA_00053 | H85: / | K85: A1 | L85: =_xlfn.IFNA(VLOOKUP(B85,Codegroepen!$A:$B,2,FALSE),"") -> ZKC023 | M85: Z054 | N85: =_xlfn.CONCAT(A85,C85,E85,G85) -> ZA_00053 | O85: =LEN(H85) -> 1
B86: =IF(LEFT(A86,2)="ZA",H86,B85) -> BGT Algemeen | D86: =IF(LEFT(C86,2)="ZA",H86,IF(LEFT(A86,2)="ZA","",D85)) -> Doorverbinden | E86: ZA_00054 | F86: =IF(LEFT(E86,2)="ZA",H86,IF(LEFT(A86,2)="ZA","",IF(LEFT(C86,2)="ZA","",F85))) -> SVB | H86: SVB | K86: A1 | L86: =_xlfn.IFNA(VLOOKUP(B86,Codegroepen!$A:$B,2,FALSE),"") -> ZKC023 | M86: Z055 | N86: =_xlfn.CONCAT(A86,C86,E86,G86) -> ZA_00054 | O86: =LEN(H86) -> 3
B87: =IF(LEFT(A87,2)="ZA",H87,B86) -> BGT Algemeen | D87: =IF(LEFT(C87,2)="ZA",H87,IF(LEFT(A87,2)="ZA","",D86)) -> Doorverbinden | F87: =IF(LEFT(E87,2)="ZA",H87,IF(LEFT(A87,2)="ZA","",IF(LEFT(C87,2)="ZA","",F86))) -> SVB | G87: ZA_00055 | H87: / | K87: A1 | L87: =_xlfn.IFNA(VLOOKUP(B87,Codegroepen!$A:$B,2,FALSE),"") -> ZKC023 | M87: Z056 | N87: =_xlfn.CONCAT(A87,C87,E87,G87) -> ZA_00055 | O87: =LEN(H87) -> 1
B88: =IF(LEFT(A88,2)="ZA",H88,B87) -> BGT Algemeen | D88: =IF(LEFT(C88,2)="ZA",H88,IF(LEFT(A88,2)="ZA","",D87)) -> Doorverbinden | E88: ZA_00056 | F88: =IF(LEFT(E88,2)="ZA",H88,IF(LEFT(A88,2)="ZA","",IF(LEFT(C88,2)="ZA","",F87))) -> WGP | H88: WGP | K88: A1 | L88: =_xlfn.IFNA(VLOOKUP(B88,Codegroepen!$A:$B,2,FALSE),"") -> ZKC023 | M88: Z057 | N88: =_xlfn.CONCAT(A88,C88,E88,G88) -> ZA_00056 | O88: =LEN(H88) -> 3
B89: =IF(LEFT(A89,2)="ZA",H89,B88) -> BGT Algemeen | D89: =IF(LEFT(C89,2)="ZA",H89,IF(LEFT(A89,2)="ZA","",D88)) -> Doorverbinden | F89: =IF(LEFT(E89,2)="ZA",H89,IF(LEFT(A89,2)="ZA","",IF(LEFT(C89,2)="ZA","",F88))) -> WGP | G89: ZA_00057 | H89: / | K89: A1 | L89: =_xlfn.IFNA(VLOOKUP(B89,Codegroepen!$A:$B,2,FALSE),"") -> ZKC023 | M89: Z058 | N89: =_xlfn.CONCAT(A89,C89,E89,G89) -> ZA_00057 | O89: =LEN(H89) -> 1
A90: ZA_00058 | B90: =IF(LEFT(A90,2)="ZA",H90,B89) -> WOZ | D90: =IF(LEFT(C90,2)="ZA",H90,IF(LEFT(A90,2)="ZA","",D89)) | F90: =IF(LEFT(E90,2)="ZA",H90,IF(LEFT(A90,2)="ZA","",IF(LEFT(C90,2)="ZA","",F89))) | H90: WOZ | I90: 0005 | K90: A1 | L90: =_xlfn.IFNA(VLOOKUP(B90,Codegroepen!$A:$B,2,FALSE),"") -> ZKC025 | M90: Z001 | N90: =_xlfn.CONCAT(A90,C90,E90,G90) -> ZA_00058 | O90: =LEN(H90) -> 3
B91: =IF(LEFT(A91,2)="ZA",H91,B90) -> WOZ | C91: ZA_00059 | D91: =IF(LEFT(C91,2)="ZA",H91,IF(LEFT(A91,2)="ZA","",D90)) -> Bestellen (aanmelden/ autorisatie) | F91: =IF(LEFT(E91,2)="ZA",H91,IF(LEFT(A91,2)="ZA","",IF(LEFT(C91,2)="ZA","",F90))) | H91: Bestellen (aanmelden/ autorisatie) | K91: A1 | L91: =_xlfn.IFNA(VLOOKUP(B91,Codegroepen!$A:$B,2,FALSE),"") -> ZKC025 | M91: Z002 | N91: =_xlfn.CONCAT(A91,C91,E91,G91) -> ZA_00059 | O91: =LEN(H91) -> 34
B92: =IF(LEFT(A92,2)="ZA",H92,B91) -> WOZ | D92: =IF(LEFT(C92,2)="ZA",H92,IF(LEFT(A92,2)="ZA","",D91)) -> Bestellen (aanmelden/ autorisatie) | E92: ZA_00060 | F92: =IF(LEFT(E92,2)="ZA",H92,IF(LEFT(A92,2)="ZA","",IF(LEFT(C92,2)="ZA","",F91))) -> Ik wil me aanmelden voor | H92: Ik wil me aanmelden voor | K92: A1 | L92: =_xlfn.IFNA(VLOOKUP(B92,Codegroepen!$A:$B,2,FALSE),"") -> ZKC025 | M92: Z003 | N92: =_xlfn.CONCAT(A92,C92,E92,G92) -> ZA_00060 | O92: =LEN(H92) -> 24
B93: =IF(LEFT(A93,2)="ZA",H93,B92) -> WOZ | D93: =IF(LEFT(C93,2)="ZA",H93,IF(LEFT(A93,2)="ZA","",D92)) -> Bestellen (aanmelden/ autorisatie) | F93: =IF(LEFT(E93,2)="ZA",H93,IF(LEFT(A93,2)="ZA","",IF(LEFT(C93,2)="ZA","",F92))) -> Ik wil me aanmelden voor | G93: ZA_00061 | H93: Bevraging App (Mijn Kadaster) | K93: A1 | L93: =_xlfn.IFNA(VLOOKUP(B93,Codegroepen!$A:$B,2,FALSE),"") -> ZKC025 | M93: Z004 | N93: =_xlfn.CONCAT(A93,C93,E93,G93) -> ZA_00061 | O93: =LEN(H93) -> 29
B94: =IF(LEFT(A94,2)="ZA",H94,B93) -> WOZ | D94: =IF(LEFT(C94,2)="ZA",H94,IF(LEFT(A94,2)="ZA","",D93)) -> Bestellen (aanmelden/ autorisatie) | F94: =IF(LEFT(E94,2)="ZA",H94,IF(LEFT(A94,2)="ZA","",IF(LEFT(C94,2)="ZA","",F93))) -> Ik wil me aanmelden voor | G94: ZA_00063 | H94: Digilevering | K94: A1 | L94: =_xlfn.IFNA(VLOOKUP(B94,Codegroepen!$A:$B,2,FALSE),"") -> ZKC025 | M94: Z006 | N94: =_xlfn.CONCAT(A94,C94,E94,G94) -> ZA_00063 | O94: =LEN(H94) -> 12
B95: =IF(LEFT(A95,2)="ZA",H95,B94) -> WOZ | D95: =IF(LEFT(C95,2)="ZA",H95,IF(LEFT(A95,2)="ZA","",D94)) -> Bestellen (aanmelden/ autorisatie) | F95: =IF(LEFT(E95,2)="ZA",H95,IF(LEFT(A95,2)="ZA","",IF(LEFT(C95,2)="ZA","",F94))) -> Ik wil me aanmelden voor | G95: ZA_00064 | H95: WOZ Terugmeldingen | K95: A1 | L95: =_xlfn.IFNA(VLOOKUP(B95,Codegroepen!$A:$B,2,FALSE),"") -> ZKC025 | M95: Z007 | N95: =_xlfn.CONCAT(A95,C95,E95,G95) -> ZA_00064 | O95: =LEN(H95) -> 18
B96: =IF(LEFT(A96,2)="ZA",H96,B95) -> WOZ | D96: =IF(LEFT(C96,2)="ZA",H96,IF(LEFT(A96,2)="ZA","",D95)) -> Bestellen (aanmelden/ autorisatie) | F96: =IF(LEFT(E96,2)="ZA",H96,IF(LEFT(A96,2)="ZA","",IF(LEFT(C96,2)="ZA","",F95))) -> Ik wil me aanmelden voor | G96: ZA_00065 | H96: Individuele Bevraging | K96: A1 | L96: =_xlfn.IFNA(VLOOKUP(B96,Codegroepen!$A:$B,2,FALSE),"") -> ZKC025 | M96: Z008 | N96: =_xlfn.CONCAT(A96,C96,E96,G96) -> ZA_00065 | O96: =LEN(H96) -> 21
B97: =IF(LEFT(A97,2)="ZA",H97,B96) -> WOZ | D97: =IF(LEFT(C97,2)="ZA",H97,IF(LEFT(A97,2)="ZA","",D96)) -> Bestellen (aanmelden/ autorisatie) | F97: =IF(LEFT(E97,2)="ZA",H97,IF(LEFT(A97,2)="ZA","",IF(LEFT(C97,2)="ZA","",F96))) -> Ik wil me aanmelden voor | G97: ZA_00066 | H97: Externe testomgeving (ETO) bronhouders | K97: A1 | L97: =_xlfn.IFNA(VLOOKUP(B97,Codegroepen!$A:$B,2,FALSE),"") -> ZKC025 | M97: Z009 | N97: =_xlfn.CONCAT(A97,C97,E97,G97) -> ZA_00066 | O97: =LEN(H97) -> 38
B98: =IF(LEFT(A98,2)="ZA",H98,B97) -> WOZ | D98: =IF(LEFT(C98,2)="ZA",H98,IF(LEFT(A98,2)="ZA","",D97)) -> Bestellen (aanmelden/ autorisatie) | F98: =IF(LEFT(E98,2)="ZA",H98,IF(LEFT(A98,2)="ZA","",IF(LEFT(C98,2)="ZA","",F97))) -> Ik wil me aanmelden voor | G98: ZA_00067 | H98: Externe testomgeving (ETO) leveranciers | K98: A1 | L98: =_xlfn.IFNA(VLOOKUP(B98,Codegroepen!$A:$B,2,FALSE),"") -> ZKC025 | M98: Z010 | N98: =_xlfn.CONCAT(A98,C98,E98,G98) -> ZA_00067 | O98: =LEN(H98) -> 39
B99: =IF(LEFT(A99,2)="ZA",H99,B98) -> WOZ | D99: =IF(LEFT(C99,2)="ZA",H99,IF(LEFT(A99,2)="ZA","",D98)) -> Bestellen (aanmelden/ autorisatie) | F99: =IF(LEFT(E99,2)="ZA",H99,IF(LEFT(A99,2)="ZA","",IF(LEFT(C99,2)="ZA","",F98))) -> Ik wil me aanmelden voor | G99: ZA_02801 | H99: WOZ API huidige bevragingen | K99: A1 | L99: =_xlfn.IFNA(VLOOKUP(B99,Codegroepen!$A:$B,2,FALSE),"") -> ZKC025 | M99: Z120 | N99: =_xlfn.CONCAT(A99,C99,E99,G99) -> ZA_02801 | O99: =LEN(H99) -> 27
B100: =IF(LEFT(A100,2)="ZA",H100,B99) -> WOZ | D100: =IF(LEFT(C100,2)="ZA",H100,IF(LEFT(A100,2)="ZA","",D99)) -> Bestellen (aanmelden/ autorisatie) | F100: =IF(LEFT(E100,2)="ZA",H100,IF(LEFT(A100,2)="ZA","",IF(LEFT(C100,2)="ZA","",F99))) -> Ik wil me aanmelden voor | G100: ZA_00068 | H100: Massale Bevraging | K100: A1 | L100: =_xlfn.IFNA(VLOOKUP(B100,Codegroepen!$A:$B,2,FALSE),"") -> ZKC025 | M100: Z011 | N100: =_xlfn.CONCAT(A100,C100,E100,G100) -> ZA_00068 | O100: =LEN(H100) -> 17
B101: =IF(LEFT(A101,2)="ZA",H101,B100) -> WOZ | D101: =IF(LEFT(C101,2)="ZA",H101,IF(LEFT(A101,2)="ZA","",D100)) -> Bestellen (aanmelden/ autorisatie) | F101: =IF(LEFT(E101,2)="ZA",H101,IF(LEFT(A101,2)="ZA","",IF(LEFT(C101,2)="ZA","",F100))) -> Ik wil me aanmelden voor | G101: ZA_00069 | H101: Rapportage App (Mijn Kadaster) | K101: A1 | L101: =_xlfn.IFNA(VLOOKUP(B101,Codegroepen!$A:$B,2,FALSE),"") -> ZKC025 | M101: Z012 | N101: =_xlfn.CONCAT(A101,C101,E101,G101) -> ZA_00069 | O101: =LEN(H101) -> 30
B102: =IF(LEFT(A102,2)="ZA",H102,B101) -> WOZ | D102: =IF(LEFT(C102,2)="ZA",H102,IF(LEFT(A102,2)="ZA","",D101)) -> Bestellen (aanmelden/ autorisatie) | F102: =IF(LEFT(E102,2)="ZA",H102,IF(LEFT(A102,2)="ZA","",IF(LEFT(C102,2)="ZA","",F101))) -> Ik wil me aanmelden voor | G102: ZA_02156 | H102: GIS-Maatwerk | K102: A1 | L102: =_xlfn.IFNA(VLOOKUP(B102,Codegroepen!$A:$B,2,FALSE),"") -> ZKC025 | M102: Z107 | N102: =_xlfn.CONCAT(A102,C102,E102,G102) -> ZA_02156 | O102: =LEN(H102) -> 12
B103: =IF(LEFT(A103,2)="ZA",H103,B102) -> WOZ | C103: ZA_00070 | D103: =IF(LEFT(C103,2)="ZA",H103,IF(LEFT(A103,2)="ZA","",D102)) -> Bestellen (wijzigen autorisatie) | F103: =IF(LEFT(E103,2)="ZA",H103,IF(LEFT(A103,2)="ZA","",IF(LEFT(C103,2)="ZA","",F102))) | H103: Bestellen (wijzigen autorisatie) | K103: A1 | L103: =_xlfn.IFNA(VLOOKUP(B103,Codegroepen!$A:$B,2,FALSE),"") -> ZKC025 | M103: Z013 | N103: =_xlfn.CONCAT(A103,C103,E103,G103) -> ZA_00070 | O103: =LEN(H103) -> 32
B104: =IF(LEFT(A104,2)="ZA",H104,B103) -> WOZ | D104: =IF(LEFT(C104,2)="ZA",H104,IF(LEFT(A104,2)="ZA","",D103)) -> Bestellen (wijzigen autorisatie) | E104: ZA_00071 | F104: =IF(LEFT(E104,2)="ZA",H104,IF(LEFT(A104,2)="ZA","",IF(LEFT(C104,2)="ZA","",F103))) -> Ik wil mijn toegang wijzigen | H104: Ik wil mijn toegang wijzigen | K104: A1 | L104: =_xlfn.IFNA(VLOOKUP(B104,Codegroepen!$A:$B,2,FALSE),"") -> ZKC025 | M104: Z014 | N104: =_xlfn.CONCAT(A104,C104,E104,G104) -> ZA_00071 | O104: =LEN(H104) -> 28
...

Sheet Blad1
A1: Niveau1 Omschrijving | B1: Niveau2 Omschrijving | C1: Niveau3 Omschrijving | D1: Naam categorie
A2: BGT Algemeen | D2: BGT Algemeen
A3: BGT Algemeen | B3: Bestellen (aanmelden/ autorisatie) | D3: Bestellen (aanmelden/ autorisatie)
A4: BGT Algemeen | B4: Bestellen (aanmelden/ autorisatie) | C4: Ik wil me aanmelden voor | D4: Ik wil me aanmelden voor
A5: BGT Algemeen | B5: Bestellen (aanmelden/ autorisatie) | C5: Ik wil me aanmelden voor | D5: BRAVO
A6: BGT Algemeen | B6: Bestellen (aanmelden/ autorisatie) | C6: Ik wil me aanmelden voor | D6: MMS
A7: BGT Algemeen | B7: Bestellen (aanmelden/ autorisatie) | C7: Ik wil me aanmelden voor | D7: LV BGT controle service
A8: BGT Algemeen | B8: Bestellen (aanmelden/ autorisatie) | C8: Ik wil me aanmelden voor | D8: Terugmelden
A9: BGT Algemeen | B9: Bestellen (aanmelden/ autorisatie) | C9: Ik wil me aanmelden voor | D9: Abonnementen
A10: BGT Algemeen | B10: Bestellen (aanmelden/ autorisatie) | C10: Ik wil me aanmelden voor | D10: Machtigingen
A11: BGT Algemeen | B11: Bestellen (wijzigen autorisatie) | D11: Bestellen (wijzigen autorisatie)
A12: BGT Algemeen | B12: Bestellen (wijzigen autorisatie) | C12: Ik wil mijn toegang wijzigen | D12: Ik wil mijn toegang wijzigen
A13: BGT Algemeen | B13: Bestellen (wijzigen autorisatie) | C13: Ik wil mijn toegang wijzigen | D13: Rol gebruiker wijzigen
A14: BGT Algemeen | B14: Bestellen (wijzigen autorisatie) | C14: Ik wil mijn toegang wijzigen | D14: Wachtwoord resetten
A15: BGT Algemeen | B15: Bestellen (wijzigen autorisatie) | C15: Ik wil mijn toegang wijzigen | D15: Machtigingen
A16: BGT Algemeen | B16: Bestellen (wijzigen autorisatie) | C16: Ik wil mijn toegang wijzigen | D16: Abonnementen
A17: BGT Algemeen | B17: Bestellen (wijzigen autorisatie) | C17: Ik wil mijn toegang wijzigen | D17: Terugmelden
A18: BGT Algemeen | B18: Oriënteren | D18: Oriënteren
A19: BGT Algemeen | B19: Oriënteren | C19: Ik heb een vraag | D19: Ik heb een vraag
A20: BGT Algemeen | B20: Oriënteren | C20: Ik heb een vraag | D20: BGT
A21: BGT Algemeen | B21: Gebruiken | D21: Gebruiken
A22: BGT Algemeen | B22: Gebruiken | C22: Ik heb een vraag | D22: Ik heb een vraag
A23: BGT Algemeen | B23: Gebruiken | C23: Ik heb een vraag | D23: BRAVO
A24: BGT Algemeen | B24: Gebruiken | C24: Ik heb een vraag | D24: Controle service LV
A25: BGT Algemeen | B25: Gebruiken | C25: Ik heb een vraag | D25: ETO LV
A26: BGT Algemeen | B26: Gebruiken | C26: Ik heb een vraag | D26: Kwaliteitsdashboard
A27: BGT Algemeen | B27: Gebruiken | C27: Ik heb een vraag | D27: MMS
A28: BGT Algemeen | B28: Gebruiken | C28: Ik heb een vraag | D28: Registratieservice LV
A29: BGT Algemeen | B29: Gebruiken | C29: Ik heb een vraag | D29: Verbeter de Kaart
A30: BGT Algemeen | B30: Gebruiken | C30: Ik heb een vraag | D30: Wet- en regelgeving
A31: BGT Algemeen | B31: Gebruiken | C31: Ik heb een vraag | D31: Klantadministratie
A32: BGT Algemeen | B32: Gebruiken | C32: Ik heb een vraag | D32: LV BGT
A33: BGT Algemeen | B33: Gebruiken | C33: Ik heb een vraag | D33: Automatisch berichtenverkeer
... A66: BGT Algemeen | B66: Gebruiken | C66: Ik zou graag in de toekomst willen | D66: Wet- en regelgeving
A67: BGT Algemeen | B67: Doorverbinden | D67: Doorverbinden
A68: BGT Algemeen | B68: Doorverbinden | C68: Backoffice | D68: Backoffice
A69: BGT Algemeen | B69: Doorverbinden | C69: Backoffice | D69: /
A70: BGT Algemeen | B70: Doorverbinden | C70: GM | D70: GM
A71: BGT Algemeen | B71: Doorverbinden | C71: GM | D71: /
A72: BGT Algemeen | B72: Doorverbinden | C72: IR | D72: IR
A73: BGT Algemeen | B73: Doorverbinden | C73: IR | D73: /
A74: BGT Algemeen | B74: Doorverbinden | C74: LV | D74: LV
A75: BGT Algemeen | B75: Doorverbinden | C75: LV | D75: /
A76: BGT Algemeen | B76: Doorverbinden | C76: SVB | D76: SVB
A77: BGT Algemeen | B77: Doorverbinden | C77: SVB | D77: /
A78: BGT Algemeen | B78: Doorverbinden | C78: WGP | D78: WGP
A79: BGT Algemeen | B79: Doorverbinden | C79: WGP | D79: /
A80: WOZ | D80: WOZ
A81: WOZ | B81: Bestellen (aanmelden/ autorisatie) | D81: Bestellen (aanmelden/ autorisatie)
A82: WOZ | B82: Bestellen (aanmelden/ autorisatie) | C82: Ik wil me aanmelden voor | D82: Ik wil me aanmelden voor
A83: WOZ | B83: Bestellen (aanmelden/ autorisatie) | C83: Ik wil me aanmelden voor | D83: Bevraging App (Mijn Kadaster)
A84: WOZ | B84: Bestellen (aanmelden/ autorisatie) | C84: Ik wil me aanmelden voor | D84: Digilevering
A85: WOZ | B85: Bestellen (aanmelden/ autorisatie) | C85: Ik wil me aanmelden voor | D85: WOZ Terugmeldingen
A86: WOZ | B86: Bestellen (aanmelden/ autorisatie) | C86: Ik wil me aanmelden voor | D86: Individuele Bevraging
A87: WOZ | B87: Bestellen (aanmelden/ autorisatie) | C87: Ik wil me aanmelden voor | D87: Externe testomgeving (ETO) bronhouders
A88: WOZ | B88: Bestellen (aanmelden/ autorisatie) | C88: Ik wil me aanmelden voor | D88: Externe testomgeving (ETO) leveranciers
A89: WOZ | B89: Bestellen (aanmelden/ autorisatie) | C89: Ik wil me aanmelden voor | D89: WOZ API huidige bevragingen
A90: WOZ | B90: Bestellen (aanmelden/ autorisatie) | C90: Ik wil me aanmelden voor | D90: Massale Bevraging
A91: WOZ | B91: Bestellen (aanmelden/ autorisatie) | C91: Ik wil me aanmelden voor | D91: Rapportage App (Mijn Kadaster)
A92: WOZ | B92: Bestellen (aanmelden/ autorisatie) | C92: Ik wil me aanmelden voor | D92: GIS-Maatwerk
A93: WOZ | B93: Bestellen (wijzigen autorisatie) | D93: Bestellen (wijzigen autorisatie)
A94: WOZ | B94: Bestellen (wijzigen autorisatie) | C94: Ik wil mijn toegang wijzigen | D94: Ik wil mijn toegang wijzigen
A95: WOZ | B95: Bestellen (wijzigen autorisatie) | C95: Ik wil mijn toegang wijzigen | D95: Bevraging App (Mijn Kadaster)
A96: WOZ | B96: Bestellen (wijzigen autorisatie) | C96: Ik wil mijn toegang wijzigen | D96: Digilevering
A97: WOZ | B97: Bestellen (wijzigen autorisatie) | C97: Ik wil mijn toegang wijzigen | D97: WOZ Terugmeldingen
A98: WOZ | B98: Bestellen (wijzigen autorisatie) | C98: Ik wil mijn toegang wijzigen | D98: Individuele Bevraging
A99: WOZ | B99: Bestellen (wijzigen autorisatie) | C99: Ik wil mijn toegang wijzigen | D99: Externe testomgeving (ETO) bronhouders
A100: WOZ | B100: Bestellen (wijzigen autorisatie) | C100: Ik wil mijn toegang wijzigen | D100: Externe testomgeving (ETO) leveranciers
A101: WOZ | B101: Bestellen (wijzigen autorisatie) | C101: Ik wil mijn toegang wijzigen | D101: WOZ API huidige bevragingen
A102: WOZ | B102: Bestellen (wijzigen autorisatie) | C102: Ik wil mijn toegang wijzigen | D102: Massale Bevraging
A103: WOZ | B103: Bestellen (wijzigen autorisatie) | C103: Ik wil mijn toegang wijzigen | D103: Mutatieverwerking bronhouders
A104: WOZ | B104: Bestellen (wijzigen autorisatie) | C104: Ik wil mijn toegang wijzigen | D104: Rapportage App (Mijn Kadaster)
A105: WOZ | B105: Gebruiken | D105: Gebruiken
A106: WOZ | B106: Gebruiken | C106: Ik heb een verstoring | D106: Ik heb een verstoring
A107: WOZ | B107: Gebruiken | C107: Ik heb een verstoring | D107: Bevraging App (Mijn Kadaster)
A108: WOZ | B108: Gebruiken | C108: Ik heb een verstoring | D108: Digilevering
A109: WOZ | B109: Gebruiken | C109: Ik heb een verstoring | D109: WOZ Terugmeldingen
A110: WOZ | B110: Gebruiken | C110: Ik heb een verstoring | D110: Individuele Bevraging
A111: WOZ | B111: Gebruiken | C111: Ik heb een verstoring | D111: Externe testomgeving (ETO) bronhouders
A112: WOZ | B112: Gebruiken | C112: Ik heb een verstoring | D112: Externe testomgeving (ETO) leveranciers
A113: WOZ | B113: Gebruiken | C113: Ik heb een verstoring | D113: (PKIO) certificaat
A114: WOZ | B114: Gebruiken | C114: Ik heb een verstoring | D114: WOZ API huidige bevragingen
A115: WOZ | B115: Gebruiken | C115: Ik heb een verstoring | D115: Massale Bevraging
A116: WOZ | B116: Gebruiken | C116: Ik heb een verstoring | D116: Klassiek StUF WOZ 2 bestand
A117: WOZ | B117: Gebruiken | C117: Ik heb een verstoring | D117: Mutatieverwerking bronhouders
... A169: WOZ | B169: Gebruiken | C169: Ik zou graag in de toekomst willen | D169: GIS-Maatwerk
A170: WOZ | B170: Oriënteren | D170: Oriënteren
A171: WOZ | B171: Oriënteren | C171: Ik heb een vraag | D171: Ik heb een vraag
A172: WOZ | B172: Oriënteren | C172: Ik heb een vraag | D172: Bevraging App (Mijn Kadaster)
A173: WOZ | B173: Oriënteren | C173: Ik heb een vraag | D173: Digilevering
A174: WOZ | B174: Oriënteren | C174: Ik heb een vraag | D174: WOZ Terugmeldingen
A175: WOZ | B175: Oriënteren | C175: Ik heb een vraag | D175: Individuele Bevraging
A176: WOZ | B176: Oriënteren | C176: Ik heb een vraag | D176: Externe testomgeving (ETO) bronhouders
A177: WOZ | B177: Oriënteren | C177: Ik heb een vraag | D177: Externe testomgeving (ETO) leveranciers
A178: WOZ | B178: Oriënteren | C178: Ik heb een vraag | D178: (PKIO) certificaat
A179: WOZ | B179: Oriënteren | C179: Ik heb een vraag | D179: WOZ API huidige bevragingen
A180: WOZ | B180: Oriënteren | C180: Ik heb een vraag | D180: Massale Bevraging
A181: WOZ | B181: Oriënteren | C181: Ik heb een vraag | D181: Rapportage App (Mijn Kadaster)
A182: WOZ | B182: Oriënteren | C182: Ik heb een vraag | D182: WOZ Waardeloket
... A187: WOZ | B187: Oriënteren | C187: Doorverwijzen naar bronhouder | D187: Mijn Overheid
...

Sheet KCC IT
A1: Taal | B1: ='KCC input'!B1 -> NL
A2: Schema-ID | B2: ='KCC input'!B2 -> KCC
A3: Naam | B3: ='KCC input'!B3 -> KCC Contactregistratie
A4: Omschrijving | B4: ='KCC input'!B4 -> KCC Contactregistratie
A5: [Status] | B5: ='KCC input'!B5 -> Concept
A6: [Gewijzigd op] | B6: ='KCC input'!B6 -> 15.11.2021
A7: [Gewijzigd om] | B7: ='KCC input'!B7 -> 0.40972222
A8: [Gewijzigd door] | B8: ='KCC input'!B8 -> LOODEB
A10: Niveau1Categorie-ID | B10: Niveau2Categorie-ID | C10: Niveau3Categorie-ID | D10: Niveau4Categorie-ID | E10: Naam categorie | F10: Omschr. categorie | G10: Categorie code | H10: Volgorde | I10: Catalog | J10: Code group | K10: Code | L10: Opmerking
A11: =IF(LEFT('KCC input'!A12,2)="ZA",'KCC input'!A12,"") -> ZA_00001 | B11: =IF(LEFT('KCC input'!C12,2)="ZA",'KCC input'!C12,"") | C11: =IF(LEFT('KCC input'!E12,2)="ZA",'KCC input'!E12,"") | D11: =IF(LEFT('KCC input'!G12,2)="ZA",'KCC input'!G12,"") | E11: =IF('KCC input'!H12=0,"",'KCC input'!H12) -> BGT Algemeen | F11: =IF('KCC input'!H12=0,"",'KCC input'!H12) -> BGT Algemeen | G11: =CONCATENATE(I11,J11,REPT(" ",8-LEN(J11)),K11) -> A1ZKC023 Z001 | H11: =IF('KCC input'!I12=0,"",'KCC input'!I12) -> 0012 | I11: =IF('KCC input'!K12=0,"",'KCC input'!K12) -> A1 | J11: =IF('KCC input'!L12=0,"",'KCC input'!L12) -> ZKC023 | K11: =IF('KCC input'!M12=0,"",'KCC input'!M12) -> Z001
A12: =IF(LEFT('KCC input'!A13,2)="ZA",'KCC input'!A13,"") | B12: =IF(LEFT('KCC input'!C13,2)="ZA",'KCC input'!C13,"") -> ZA_00002 | C12: =IF(LEFT('KCC input'!E13,2)="ZA",'KCC input'!E13,"") | D12: =IF(LEFT('KCC input'!G13,2)="ZA",'KCC input'!G13,"") | E12: =IF('KCC input'!H13=0,"",'KCC input'!H13) -> Bestellen (aanmelden/ autorisatie) | F12: =IF('KCC input'!H13=0,"",'KCC input'!H13) -> Bestellen (aanmelden/ autorisatie) | G12: =CONCATENATE(I12,J12,REPT(" ",8-LEN(J12)),K12) -> A1ZKC023 Z002 | H12: =IF('KCC input'!I13=0,"",'KCC input'!I13) | I12: =IF('KCC input'!K13=0,"",'KCC input'!K13) -> A1 | J12: =IF('KCC input'!L13=0,"",'KCC input'!L13) -> ZKC023 | K12: =IF('KCC input'!M13=0,"",'KCC input'!M13) -> Z002
A13: =IF(LEFT('KCC input'!A14,2)="ZA",'KCC input'!A14,"") | B13: =IF(LEFT('KCC input'!C14,2)="ZA",'KCC input'!C14,"") | C13: =IF(LEFT('KCC input'!E14,2)="ZA",'KCC input'!E14,"") -> ZA_00003 | D13: =IF(LEFT('KCC input'!G14,2)="ZA",'KCC input'!G14,"") | E13: =IF('KCC input'!H14=0,"",'KCC input'!H14) -> Ik wil me aanmelden voor | F13: =IF('KCC input'!H14=0,"",'KCC input'!H14) -> Ik wil me aanmelden voor | G13: =CONCATENATE(I13,J13,REPT(" ",8-LEN(J13)),K13) -> A1ZKC023 Z003 | H13: =IF('KCC input'!I14=0,"",'KCC input'!I14) | I13: =IF('KCC input'!K14=0,"",'KCC input'!K14) -> A1 | J13: =IF('KCC input'!L14=0,"",'KCC input'!L14) -> ZKC023 | K13: =IF('KCC input'!M14=0,"",'KCC input'!M14) -> Z003
A14: =IF(LEFT('KCC input'!A15,2)="ZA",'KCC input'!A15,"") | B14: =IF(LEFT('KCC input'!C15,2)="ZA",'KCC input'!C15,"") | C14: =IF(LEFT('KCC input'!E15,2)="ZA",'KCC input'!E15,"") | D14: =IF(LEFT('KCC input'!G15,2)="ZA",'KCC input'!G15,"") -> ZA_00004 | E14: =IF('KCC input'!H15=0,"",'KCC input'!H15) -> BRAVO | F14: =IF('KCC input'!H15=0,"",'KCC input'!H15) -> BRAVO | G14: =CONCATENATE(I14,J14,REPT(" ",8-LEN(J14)),K14) -> A1ZKC023 Z004 | H14: =IF('KCC input'!I15=0,"",'KCC input'!I15) | I14: =IF('KCC input'!K15=0,"",'KCC input'!K15) -> A1 | J14: =IF('KCC input'!L15=0,"",'KCC input'!L15) -> ZKC023 | K14: =IF('KCC input'!M15=0,"",'KCC input'!M15) -> Z004
A15: =IF(LEFT('KCC input'!A16,2)="ZA",'KCC input'!A16,"") | B15: =IF(LEFT('KCC input'!C16,2)="ZA",'KCC input'!C16,"") | C15: =IF(LEFT('KCC input'!E16,2)="ZA",'KCC input'!E16,"") | D15: =IF(LEFT('KCC input'!G16,2)="ZA",'KCC input'!G16,"") -> ZA_00005 | E15: =IF('KCC input'!H16=0,"",'KCC input'!H16) -> MMS | F15: =IF('KCC input'!H16=0,"",'KCC input'!H16) -> MMS | G15: =CONCATENATE(I15,J15,REPT(" ",8-LEN(J15)),K15) -> A1ZKC023 Z005 | H15: =IF('KCC input'!I16=0,"",'KCC input'!I16) | I15: =IF('KCC input'!K16=0,"",'KCC input'!K16) -> A1 | J15: =IF('KCC input'!L16=0,"",'KCC input'!L16) -> ZKC023 | K15: =IF('KCC input'!M16=0,"",'KCC input'!M16) -> Z005
A16: =IF(LEFT('KCC input'!A17,2)="ZA",'KCC input'!A17,"") | B16: =IF(LEFT('KCC input'!C17,2)="ZA",'KCC input'!C17,"") | C16: =IF(LEFT('KCC input'!E17,2)="ZA",'KCC input'!E17,"") | D16: =IF(LEFT('KCC input'!G17,2)="ZA",'KCC input'!G17,"") -> ZA_01960 | E16: =IF('KCC input'!H17=0,"",'KCC input'!H17) -> LV BGT controle service | F16: =IF('KCC input'!H17=0,"",'KCC input'!H17) -> LV BGT controle service | G16: =CONCATENATE(I16,J16,REPT(" ",8-LEN(J16)),K16) -> A1ZKC023 Z059 | H16: =IF('KCC input'!I17=0,"",'KCC input'!I17) | I16: =IF('KCC input'!K17=0,"",'KCC input'!K17) -> A1 | J16: =IF('KCC input'!L17=0,"",'KCC input'!L17) -> ZKC023 | K16: =IF('KCC input'!M17=0,"",'KCC input'!M17) -> Z059
A17: =IF(LEFT('KCC input'!A18,2)="ZA",'KCC input'!A18,"") | B17: =IF(LEFT('KCC input'!C18,2)="ZA",'KCC input'!C18,"") | C17: =IF(LEFT('KCC input'!E18,2)="ZA",'KCC input'!E18,"") | D17: =IF(LEFT('KCC input'!G18,2)="ZA",'KCC input'!G18,"") -> ZA_02782 | E17: =IF('KCC input'!H18=0,"",'KCC input'!H18) -> Terugmelden | F17: =IF('KCC input'!H18=0,"",'KCC input'!H18) -> Terugmelden | G17: =CONCATENATE(I17,J17,REPT(" ",8-LEN(J17)),K17) -> A1ZKC023 Z065 | H17: =IF('KCC input'!I18=0,"",'KCC input'!I18) | I17: =IF('KCC input'!K18=0,"",'KCC input'!K18) -> A1 | J17: =IF('KCC input'!L18=0,"",'KCC input'!L18) -> ZKC023 | K17: =IF('KCC input'!M18=0,"",'KCC input'!M18) -> Z065
A18: =IF(LEFT('KCC input'!A19,2)="ZA",'KCC input'!A19,"") | B18: =IF(LEFT('KCC input'!C19,2)="ZA",'KCC input'!C19,"") | C18: =IF(LEFT('KCC input'!E19,2)="ZA",'KCC input'!E19,"") | D18: =IF(LEFT('KCC input'!G19,2)="ZA",'KCC input'!G19,"") -> ZA_02783 | E18: =IF('KCC input'!H19=0,"",'KCC input'!H19) -> Abonnementen | F18: =IF('KCC input'!H19=0,"",'KCC input'!H19) -> Abonnementen | G18: =CONCATENATE(I18,J18,REPT(" ",8-LEN(J18)),K18) -> A1ZKC023 Z066 | H18: =IF('KCC input'!I19=0,"",'KCC input'!I19) | I18: =IF('KCC input'!K19=0,"",'KCC input'!K19) -> A1 | J18: =IF('KCC input'!L19=0,"",'KCC input'!L19) -> ZKC023 | K18: =IF('KCC input'!M19=0,"",'KCC input'!M19) -> Z066
A19: =IF(LEFT('KCC input'!A20,2)="ZA",'KCC input'!A20,"") | B19: =IF(LEFT('KCC input'!C20,2)="ZA",'KCC input'!C20,"") | C19: =IF(LEFT('KCC input'!E20,2)="ZA",'KCC input'!E20,"") | D19: =IF(LEFT('KCC input'!G20,2)="ZA",'KCC input'!G20,"") -> ZA_02784 | E19: =IF('KCC input'!H20=0,"",'KCC input'!H20) -> Machtigingen | F19: =IF('KCC input'!H20=0,"",'KCC input'!H20) -> Machtigingen | G19: =CONCATENATE(I19,J19,REPT(" ",8-LEN(J19)),K19) -> A1ZKC023 Z067 | H19: =IF('KCC input'!I20=0,"",'KCC input'!I20) | I19: =IF('KCC input'!K20=0,"",'KCC input'!K20) -> A1 | J19: =IF('KCC input'!L20=0,"",'KCC input'!L20) -> ZKC023 | K19: =IF('KCC input'!M20=0,"",'KCC input'!M20) -> Z067
A20: =IF(LEFT('KCC input'!A21,2)="ZA",'KCC input'!A21,"") | B20: =IF(LEFT('KCC input'!C21,2)="ZA",'KCC input'!C21,"") -> ZA_00006 | C20: =IF(LEFT('KCC input'!E21,2)="ZA",'KCC input'!E21,"") | D20: =IF(LEFT('KCC input'!G21,2)="ZA",'KCC input'!G21,"") | E20: =IF('KCC input'!H21=0,"",'KCC input'!H21) -> Bestellen (wijzigen autorisatie) | F20: =IF('KCC input'!H21=0,"",'KCC input'!H21) -> Bestellen (wijzigen autorisatie) | G20: =CONCATENATE(I20,J20,REPT(" ",8-LEN(J20)),K20) -> A1ZKC023 Z006 | H20: =IF('KCC input'!I21=0,"",'KCC input'!I21) | I20: =IF('KCC input'!K21=0,"",'KCC input'!K21) -> A1 | J20: =IF('KCC input'!L21=0,"",'KCC input'!L21) -> ZKC023 | K20: =IF('KCC input'!M21=0,"",'KCC input'!M21) -> Z006
A21: =IF(LEFT('KCC input'!A22,2)="ZA",'KCC input'!A22,"") | B21: =IF(LEFT('KCC input'!C22,2)="ZA",'KCC input'!C22,"") | C21: =IF(LEFT('KCC input'!E22,2)="ZA",'KCC input'!E22,"") -> ZA_00007 | D21: =IF(LEFT('KCC input'!G22,2)="ZA",'KCC input'!G22,"") | E21: =IF('KCC input'!H22=0,"",'KCC input'!H22) -> Ik wil mijn toegang wijzigen | F21: =IF('KCC input'!H22=0,"",'KCC input'!H22) -> Ik wil mijn toegang wijzigen | G21: =CONCATENATE(I21,J21,REPT(" ",8-LEN(J21)),K21) -> A1ZKC023 Z007 | H21: =IF('KCC input'!I22=0,"",'KCC input'!I22) | I21: =IF('KCC input'!K22=0,"",'KCC input'!K22) -> A1 | J21: =IF('KCC input'!L22=0,"",'KCC input'!L22) -> ZKC023 | K21: =IF('KCC input'!M22=0,"",'KCC input'!M22) -> Z007
A22: =IF(LEFT('KCC input'!A23,2)="ZA",'KCC input'!A23,"") | B22: =IF(LEFT('KCC input'!C23,2)="ZA",'KCC input'!C23,"") | C22: =IF(LEFT('KCC input'!E23,2)="ZA",'KCC input'!E23,"") | D22: =IF(LEFT('KCC input'!G23,2)="ZA",'KCC input'!G23,"") -> ZA_02785 | E22: =IF('KCC input'!H23=0,"",'KCC input'!H23) -> Rol gebruiker wijzigen | F22: =IF('KCC input'!H23=0,"",'KCC input'!H23) -> Rol gebruiker wijzigen | G22: =CONCATENATE(I22,J22,REPT(" ",8-LEN(J22)),K22) -> A1ZKC023 Z068 | H22: =IF('KCC input'!I23=0,"",'KCC input'!I23) | I22: =IF('KCC input'!K23=0,"",'KCC input'!K23) -> A1 | J22: =IF('KCC input'!L23=0,"",'KCC input'!L23) -> ZKC023 | K22: =IF('KCC input'!M23=0,"",'KCC input'!M23) -> Z068
... A2347: =IF(LEFT('KCC input'!A2348,2)="ZA",'KCC input'!A2348,"") | B2347: =IF(LEFT('KCC input'!C2348,2)="ZA",'KCC input'!C2348,"") | C2347: =IF(LEFT('KCC input'!E2348,2)="ZA",'KCC input'!E2348,"") | D2347: =IF(LEFT('KCC input'!G2348,2)="ZA",'KCC input'!G2348,"") | E2347: =IF('KCC input'!H2348=0,"",'KCC input'!H2348) | F2347: =IF('KCC input'!H2348=0,"",'KCC input'!H2348) | G2347: =CONCATENATE(I2347,J2347,REPT(" ",8-LEN(J2347)),K2347) | H2347: =IF('KCC input'!I2348=0,"",'KCC input'!I2348) | I2347: =IF('KCC input'!K2348=0,"",'KCC input'!K2348) | J2347: =IF('KCC input'!L2348=0,"",'KCC input'!L2348) | K2347: =IF('KCC input'!M2348=0,"",'KCC input'!M2348)

Sheet Codegroepen
A1: Omschrijving | B1: Code | G1: IMG | H1: Codegroep | I1: Omschrijving
A2: WGP | B2: ZKC001 | H2: ZKC001 | I2: WGP
A3: GMA | B3: ZKC002 | H3: ZKC002 | I3: GMA
A4: IR | B4: ZKC007 | H4: ZKC007 | I4: IR
A5: GM | B5: ZKC011 | H5: ZKC011 | I5: GM
A6: R&A | B6: ZKC012 | H6: ZKC012 | I6: R&A
A7: Administratief | B7: ZKC016 | H7: ZKC016 | I7: Administratief
A8: Debiteurenbeheer | B8: ZKC017 | H8: ZKC017 | I8: Debiteurenbeheer
A9: LG | B9: ZKC018 | H9: ZKC018 | I9: LG
A10: Zakelijke markt | B10: ZKC019 | H10: ZKC019 | I10: Zakelijke Markt
A11: BRK | B11: ZKC021 | H11: ZKC021 | I11: BRK
A12: BRT | B12: ZKC022 | H12: ZKC022 | I12: BRT
A13: BGT Algemeen | B13: ZKC023 | H13: ZKC023 | I13: BGT
... A26: BRK Notificaties | B26: ZKC037 | H26: ZKC037 | I26: BRK Notificaties
