Workbook

Sheet Voorblad
B2: Tabblad: Voorblad
B3: Europese openbare aanbesteding Assetinformatiesysteem
B4: Kenmerk gemeente: 2021-SB-043 / TenderNed kenmerk: 355683
B5: Naam Inschrijvende partij:
B6: Datum:
B7: Naam tekenbevoegde:
B8: Handtekening:

Sheet Instructie
B2: Tabblad: Instructie
B3: =Voorblad!B3 -> Europese openbare aanbesteding Assetinformatiesysteem
B4: Nr. | C4: Invulinstructie
B5: 1 | C5: Inschrijver dient uitsluitend de geel gearceerde cellen te voorzien van de gevraagde informatie. Om de werking van het prijzenblad te laten zien staat er nu fictief 1,00 euro of het getal 1 in. Dit kan Inschrijver zelf aanpassen.
B6: 2 | C6: De in te vullen bedragen zijn gebaseerd op de in de Offerteaanvraag vermelde informatie.
B7: 3 | C7: Inschrijvers dienen alle gevraagde prijzen volledig in te vullen met gebruikmaking van dit prijzenblad. Dit prijzenblad dient Inschrijver rechtsgeldig te ondertekenen.
B8: 4 | C8: De prijzen dienen te voldoen aan de Eisen gesteld in de Offerteaanvraag, zie paragraaf 4.19 [Eisen met betrekking tot prijzen]. | H8: juiste paragraaf vermelden
B9: 5 | C9: De prijsopgave dient in Euro’s en exclusief BTW te geschieden.
B10: 6 | C10: Het indienen van negatieve prijzen, prijzen onder de onderdrempel of boven de bovendrempel (per prijsitem, indien van toepassing) is niet toegestaan op straffe van uitsluiting. Zie tabblad [Totale kosten].
B11: 7 | C11: De opgegeven prijzen dienen op maximaal twee cijfers achter de komma te worden afgerond.
B12: 8 | C12: Abnormaal lage prijzen kunnen door Opdrachtgever gecontroleerd/nagevraagd worden. Conform artikel 2.116 Aw kan de Inschrijving ongeldig worden verklaard.
B13: 9 | C13: Het verkeerd interpreteren van het Prijzenblad komt voor verantwoordelijkheid van Inschrijver. Vragen omtrent dit Prijzenblad kunnen gesteld worden, conform de mogelijkheden die staan beschreven in de Offerteaanvraag.
B14: 10 | C14: Het aanbrengen van wijzigingen of het doen van aanvullingen (tenzij Opdrachtgever expliciet hier toestemming voor heeft gegeven) in het Prijzenblad leidt tot ongeldigverklaring van uw Inschrijving en derhalve tot uitsluiting.
B15: 11 | C15: Het niet volledig invullen van deze Bijlage kan tot ongeldigverklaring van uw Inschrijving en derhalve tot uitsluiting leiden.
B16: Toelichting tabbladen
B17: 12 | C17: Tabblad [Voorblad]: Inschrijver dient zijn naam, de datum van Inschrijving, de naam van de tekenbevoegde in te vullen in het tabblad 'Voorblad' en hier een rechtsgeldige handtekening te plaatsen.
B18: 13 | C18: Tabblad [Instructie]: Dit tabblad, in dit tabblad wordt een algemene toelichting en een toelichting op de verschillende onderdelen per tabblad benoemd.
B19: 14 | C19: Tabblad [Eenmalige kosten]: in dit tabblad zijn de eenmalige kosten opgenomen.
B20: 15 | C20: Tabblad [Structurele kosten]: in dit tabblad zijn de variabele kosten opgenomen.
B21: 16 | C21: Tabblad [Additionele kosten]: in dit tabblad zijn verschillende functieprofielen opgenomen, waarbij de Inschrijver per functieprofiel een uurtarief dient op te geven. De uurtarieven gaan uit van een fictief aantal uren (voor de weging). Inschrijver kan hier geen rechten aan ontlenen.
B22: 17 | C22: Tabblad [Totaal]: dit tabblad wordt automatisch gevuld, Inschrijver hoeft deze niet te vullen.

Sheet Eenmalige kosten
B2: Tabblad Eenmalige kosten
B3: =Voorblad!B3 -> Europese openbare aanbesteding Assetinformatiesysteem
B4: =Voorblad!B4 -> Kenmerk gemeente: 2021-SB-043 / TenderNed kenmerk: 355683
B5: =Voorblad!B5 -> Naam Inschrijvende partij:
B6: Naam Inschrijver: | C6: =Voorblad!C8 -> 0
B8: Prijsitem 1 Project- en implementatiekosten | C8: Bedrag excl. BTW
B9: Toelichting: Gebruiksklaar opleveren van de Integrale beheeromgeving. Dit betekent op hoofdlijnen de aanschaf, implementatie, doorontwikkeling en gebruiksrecht van een Assetinformatiesysteem. U dient dit Prijsitem af te prijzen met inachtneming van paragraaf 3.1.1 van de Offerteaanvraag. | C9: 1
B10: Subtotaal prijsitem 1 | C10: =C9 -> 1
B12: Prijsitem 2 Opleidingen | C12: Bedrag excl. BTW
B13: Toelichting: Zie paragraaf 3.1.1. Dit betekent op hoofdlijnen: • Opleiding voor gebruikers • Opleiding voor functioneel beheerders • Opleiding voor plannen en begroten • Opleiding voor mobiele gebruikers • Opleiding voor raadplegers U dient dit Prijsitem af te prijzen, met in achtneming van paragraaf 3.1.1 van de Offerteaanvraag. | C13: 1
B14: Subtotaal prijsitem 2 | C14: 1
B16: Prijsitem 3 Koppelingen | C16: Bedrag excl. BTW
B17: Toelichting:
B18: 3a. Gegevensuitwisseling tussen Beheersysteem en Geovoorziening Toelichting: zie Offerteaanvraag paragraaf 3.1 en EIS nrs: 38 en 87. | C18: 1
B19: 3b. Gegevensuitwisseling tussen Beheersysteem en ontwerpomgeving, revisieverwerking conform NLCS Toelichting: zie Offerteaanvraag paragraaf 3.1 en EIS nrs: 79 en 86 | C19: 1
B20: 3c. Gegevensuitwisseling tussen Beheersysteem en zaakysteem, archiefbeheer en documentmanagement Toelichting: zie Offerteaanvraag paragraaf 3.1 en EIS nrs: 89, 199, 649, 650 en 655 | C20: 1
B21: 3d. Gegevensuitwisseling tussen Beheersysteem en Interne portalen (ArcGIS, FME, Neuron Stroomlijn, Tableau, Geoserver en Mobiliteit informatiesysteem Toelichting: zie Offerteaanvraag paragraaf 3.1 EIS nr. 644 | C21: 1
B22: 3e. Gegevensuitwisseling tussen Beheersysteem en het meldingensysteem Signalen Toelichting: zie Offerteaanvraag paragraaf 3.1 EIS nr. 668 | C22: 1
B23: 3f. Gegevensuitwisseling tussen Beheersysteem en Externe applicatie WRIS voor het beheer van Water. Toelichting: zie Offerteaanvraag paragraaf 3.1 EIS nr. 674 | C23: 1
B24: 3g. Gegevensuitwisseling tussen Beheersysteem en Externe applicatie Luminizer voor beheer van Verlichtingen Toelichting: zie Offerteaanvraag paragraaf 3.1 EIS nr. 647 | C24: 1
B25: 3h. Gegevensuitwisseling tussen Beheersysteem en Externe applicatie Key2Begraven voor het beheer van Graven Toelichting: zie Offerteaanvraag paragraaf 3.1 EIS nr. 644 en 656 | C25: 1
B26: 3i. Gegevensuitwisseling tussen Beheersysteem en het Gemalenbeheersysteem Toelichting: zie Offerteaanvraag paragraaf 3.1 EIS nr. 663 | C26: 1
B27: 3j. Gegevensuitwisseling tussen Beheersysteem en landelijke omgeving voor de registratie van sensoren SENSRnet Toelichting: zie Offerteaanvraag paragraaf 3.1 EIS nr. 678 | C27: 1
B28: 3k. Gegevensuitwisseling tussen Beheersysteem en Externe applicatie Jewel voor afvalinzameling. Toelichting: zie Offerteaanvraag paragraaf 3.1 EIS nr. 671 | C28: 1
B29: 3l. Gegevensuitwisseling tussen Beheersysteem en de externe applicatie Kikker voor Rioolbeheer Toelichting: zie Offerteaanvraag paragraaf 3.1 EIS nr. 675 | C29: 1
... B34: 3q. Gegevensuitwisseling tussen Beheersysteem en de Basisregistratie Ondergrond (BRO) Toelichting: zie Offerteaanvraag paragraaf 3.1 EIS nr. 73 | C34: 1
B35: Subtotaal prijsitem 3 | C35: =SUM(C18:C34) -> 17
B36: TOTAAL EENMALIGE KOSTEN EXCL. BTW (Optelsom van subtotaal prijsitem 1 t/m subtotaal prijsitem 3. | C36: =C10+C14+C35 -> 19

Sheet Structurele kosten
B2: Tabblad Structurele kosten
B3: =Voorblad!B3 -> Europese openbare aanbesteding Assetinformatiesysteem
B4: =Voorblad!B4 -> Kenmerk gemeente: 2021-SB-043 / TenderNed kenmerk: 355683
B5: =Voorblad!B5 -> Naam Inschrijvende partij:
B6: Naam Inschrijver: | G6: =Voorblad!C8 -> 0
B8: Prijsitem 4 Structurele kosten Integrale beheeromgeving | C8: Jaar 1 excl. BTW | D8: Jaar 2 excl. BTW | E8: Jaar 3 excl. BTW | F8: Jaar 4 excl. BTW | G8: Jaar 5 excl. BTW | H8: Jaar 6 excl. BTW | I8: Jaar 7 excl. BTW | J8: Jaar 8 excl. BTW | K8: Jaar 9 excl. BTW | L8: Jaar 10 excl. BTW | M8: Bedrag excl. BTW
B9: Toelichting: Deze kosten zijn incl. software/licenties en beheer en onderhoud van de Integrale beheeromgeving (incl. support, hostingskosten, instructie gebruikers). | C9: 1 | D9: 1 | E9: 1 | F9: 1 | G9: 1 | H9: 1 | I9: 1 | J9: 1 | K9: 1 | L9: 1 | M9: =SUM(C9:L9) -> 10
B10: Subtotaal prijsitem 4 | M10: =M9 -> 10
B12: Prijsitem 5 Structurele kosten koppelingen | C12: Prijs/ maand excl. BTW | D12: Maanden | M12: Bedrag excl. BTW
B13: Toelichting: Dit betreft de maandelijkse kosten voor het beheer en onderhoud van de koppeligen welke staan gespecificeerd in tabblad eenmalige kosten. | C13: 1 | D13: 120 | M13: =C13*D13 -> 120
B14: Subtotaal prijsitem 5 | M14: =M13 -> 120
B15: TOTAAL STRUCTURELE KOSTEN LOOPTIJD 120 MAANDEN EXCL. BTW (Optelsom van subtotaal prijsitem 4 t/m subtotaal prijsitem 5). | M15: =M10+M14 -> 130

Sheet Additionele kosten
B2: Tabblad Additionele kosten
B3: =Voorblad!B3 -> Europese openbare aanbesteding Assetinformatiesysteem
B4: =Voorblad!B4 -> Kenmerk gemeente: 2021-SB-043 / TenderNed kenmerk: 355683
B5: =Voorblad!B5 -> Naam Inschrijvende partij:
B6: Naam Inschrijver: | C6: =Voorblad!C8 -> 0
B8: Prijsitem 6 Dienstverlening | C8: Aantal fictieve uren | D8: Uurtarief excl. BTW | E8: Totale fictieve kosten, looptijd 120 maanden, excl. BTW (TCO)
B9: Toelichting: Bij elke functie gaat het om senior functieprofielen (meer dan 5 jaar relevante werkervaring). Onderstaande uurtarieven zijn van toepassing op mogelijk toekomstig meerwerk voor bijvoorbeeld koppelingen welke op termijn gerealiseerd dienen te worden/ verdere doorontwikkeling. Het aantal fictieve uren zijn zoals het woord al zegt 'fictief, het aantal uur kan meer of minder worden (werken als wegingsfactor voor de TCO-berekening voor de looptijd van 120 maanden) . Prijsplafond max. € 125,00 excl. BTW per uur voor onderstaande functieprofielen.
B10: 6a. Consultant | C10: 400 | D10: 1 | E10: =C10*D10 -> 400
B11: 6b. Projectleider | C11: 200 | D11: 1 | E11: =C11*D11 -> 200
B12: 6c. Adviseur | C12: 200 | D12: 1 | E12: =C12*D12 -> 200
B13: Subtotaal prijsitem 6 | E13: =SUM(E10:E12) -> 800
B14: TOTAAL FICTIEVE ADDITIONELE KOSTEN EXCL. BTW | E14: =E13 -> 800

Sheet Totale kosten
B2: Tabblad Totale kosten
B3: =Voorblad!B3 -> Europese openbare aanbesteding Assetinformatiesysteem
B4: =Voorblad!B4 -> Kenmerk gemeente: 2021-SB-043 / TenderNed kenmerk: 355683
B5: =Voorblad!B5 -> Naam Inschrijvende partij:
B6: Naam Inschrijver: | C6: =Voorblad!C8 -> 0
B8: Prijsitem | C8: Type kosten | D8: Totale kosten, looptijd 120 maanden, excl. BTW (TCO)
B9: ='Eenmalige kosten'!B8 -> Prijsitem 1 Project- en implementatiekosten | C9: Eenmalige kosten | D9: ='Eenmalige kosten'!C10 -> 1
B10: ='Eenmalige kosten'!B12 -> Prijsitem 2 Opleidingen | C10: Eenmalige kosten | D10: ='Eenmalige kosten'!C14 -> 1
B11: ='Eenmalige kosten'!B16 -> Prijsitem 3 Koppelingen | C11: Eenmalige kosten | D11: ='Eenmalige kosten'!C35 -> 17
B12: ='Structurele kosten'!B8 -> Prijsitem 4 Structurele kosten Integrale beheeromgeving | C12: Structurele kosten | D12: ='Structurele kosten'!M10 -> 10
B13: ='Structurele kosten'!B12 -> Prijsitem 5 Structurele kosten koppelingen | C13: Structurele kosten | D13: ='Structurele kosten'!M14 -> 120
D14: =SUM(D9:D13) -> 149 | E14: 1400000 | F14: Prijsplafond (som van prijsitems 1 t/m 5)
E15: 900000 | F15: Onderdrempel (som van prijsitems 1 t/m 5)
B16: ='Additionele kosten'!B8 -> Prijsitem 6 Dienstverlening | C16: Additionele kosten | D16: ='Additionele kosten'!E14 -> 800 | E16: 50000 | F16: Prijsplafond prijsitems 6
B17: Inschrijfprijs | D17: =D14+D16 -> 949 | E17: =E14+E16 -> 1450000
