Workbook

Sheet Abonnementen
A1: Prijzenblad Vaste- en Mobiele Telefonie
A2: Invulinstructie
A3: Hieronder dient u de prijselementen op te geven conform de voorschriften uit het Beschrijvend document met Bijlagen. Gelieve de gele cellen in te vullen van beiden tabbladen. De totaalprijs wordt automatisch berekend.
A4: Het is niet toegestaan om negatieve dan wel nulbedragen in te vullen op straffe van uitsluiting van deze aanbesteding, tenzij de nulbedragen aannemelijk gemaakt kunnen worden door Inschrijver.
A6: Mobiele abonnementen
A7: Type | B7: Aantal | C7: Netto kosten per maand | D7: Netto maandbedrag | E7: TCO Totaal (48x netto maandbedrag)
A8: Spraak only abonnement | B8: 11 | D8: =C8*B8 -> 0 | E8: =(D8*48) -> 0
A9: Spraak-data abonnement | B9: =1252+3300 -> 4552 | D9: =C9*B9 -> 0 | E9: =(D9*48) -> 0
A10: Data only abonnement | B10: 40 | D10: =C10*B10 -> 0 | E10: =(D10*48) -> 0
A12: koppeling vast-mobiel
A13: Type | B13: Aantal | C13: kosten eenmalig | D13: kosten per maand | E13: TCO Totaal (eenmalige kosten + 48x maandbedrag)
A14: vast- mobiel koppeling | B14: 2 | C14: 0 | D14: 0 | E14: =C14+(D14*48) -> 0
A16: Vaste infrastructuur
A17: Type | B17: Aantal | C17: kosten eenmalig | D17: kosten per maand | E17: TCO Totaal (eenmalige kosten + 48x maandbedrag)
A18: Hoofdlocatie | B18: 1 | C18: 0 | D18: 0 | E18: =C18+(D18*48) -> 0
A19: Secundaire locatie | B19: 1 | C19: 0 | D19: 0 | E19: =C19+(D19*48) -> 0
A20: Nummerblokken | B20: 1 | C20: 0 | D20: 0 | E20: =C20+(D20*48) -> 0
A22: Migratie
A23: Type | B23: kosten eenmalig | E23: Totaal
A24: Migratie | B24: 0 | E24: =B24 -> 0
A26: Service management en beheer
A27: Type | B27: kosten eenmalig | C27: kosten per maand | E27: TCO Totaal (eenmalige kosten + 48x maandbedrag)
A28: beheer en beheerportal | B28: 0 | C28: 0 | E28: =B28+(C28*48) -> 0
A30: Verbruikskosten*
A31: Type | D31: kosten per jaar | E31: TCO Totaal (4 x jaarbedrag)
A32: verbruikskosten vast | D32: ='Jaarlijks belprofiel'!K53 -> 0 | E32: =(D32*4) -> 0
A33: verbruikskosten mobiel | D33: ='Jaarlijks belprofiel'!K47 -> 0 | E33: =(D33*4) -> 0
A34: * Verbruikskosten worden berekend op basis van de gegevens in tab 2 en 3
C38: Totaal TCO | E38: =E8+E9+E10+E14+E18+E19+E20+E24+E28+E32+E33 -> 0
A41: Voor akkoord:
A42: Organisatie:
A44: Naam:
A46: Functie:
A48: Datum:
A50: Handtekening:

Sheet Jaarlijks belprofiel
B1: Jaarlijks belprofiel HR (obv 1.292 abonnementen) | C1: Aantal gesprekken | D1: Aantal seconden | E1: Aantal minuten | F1: Nr Kbytes | G1: Nr MB | H1: Nr Units | I1: Starttarief | J1: Tarief p/min. | K1: Bedrag excl BTW
A2: Vanf mobiel | B2: Vaste nummers | C2: 60012 | D2: 13994588 | E2: =D2/60 -> 233243.13 | K2: =C2*I2+E2*J2 -> 0
B3: Groepsgesprek mobiel-mobiel | C3: 57784 | D3: 14775148 | E3: =D3/60 -> 246252.47 | K3: =C3*I3+E3*J3 -> 0
B4: Groepsgesprek mobiel-vast | C4: 44340 | D4: 2692392 | E4: =D4/60 -> 44873.2 | K4: =C4*I4+E4*J4 -> 0
B5: Zelfde provider nummers | D5: 436 | E5: =D5/60 -> 7.2666667 | K5: =C5*I5+E5*J5 -> 0
B6: Overige mobiele nummers | C6: 206788 | D6: 49533972 | E6: =D6/60 -> 825566.2 | K6: =C6*I6+E6*J6 -> 0
B7: Servicenummers | C7: 1884 | D7: 926244 | E7: =D7/60 -> 15437.4 | K7: =C7*I7+E7*J7 -> 0
B8: Klantenservice | C8: 36 | D8: 21568 | E8: =D8/60 -> 359.46667 | K8: =C8*I8+E8*J8 -> 0
B9: Bellen naar het buitenland (EU) | C9: 2116 | D9: 582608 | E9: =D9/60 -> 9710.1333 | K9: =C9*I9+E9*J9 -> 0
B10: Bellen in het buitenland (EU) | C10: 7568 | D10: 1397988 | E10: =D10/60 -> 23299.8 | K10: =C10*I10+E10*J10 -> 0
B11: Gebeld worden in het buitenland (EU) | C11: 3252 | D11: 680016 | E11: =D11/60 -> 11333.6 | K11: =C11*I11+E11*J11 -> 0
B12: SMS-berichten | H12: 14860 | K12: =H12*I12 -> 0
B13: SMS-diensten | H13: 20 | K13: =H13*I13 -> 0
B14: Berichten verstuurd in het buitenland (EU) | H14: 424 | K14: =H14*I14 -> 0
B15: Berichten verstuurd naar het buitenland (EU) | H15: 688 | K15: =H15*I15 -> 0
B16: Diensten mobiel internet | H16: 224 | K16: =H16*I16 -> 0
B17: Internet | F17: 35201426160 | G17: =F17/1000 -> 35201426 | K17: =C17*I17+E17*J17 -> 0
B18: Internet in het buitenland (EU) | F18: 2988386148 | G18: =F18/1000 -> 2988386.1 | K18: =C18*I18+E18*J18 -> 0
B19: Subtotaal | C19: =SUM(C2:C18) -> 383780 | D19: =SUM(D2:D18) -> 84604960 | E19: =SUM(E2:E18) -> 1410082.7 | F19: =SUM(F2:F18) -> 38189812308 | G19: =SUM(G2:G18) -> 38189812 | H19: =SUM(H2:H18) -> 16216 | I19: =SUM(I2:I18) -> 0 | J19: =SUM(J2:J18) -> 0 | K19: =SUM(K2:K18) -> 0
A20: Vanaf vast | B20: Vast naar vaste nummers | C20: 21324 | D20: 7314692 | E20: =D20/60 -> 121911.53 | K20: =C20*I20+E20*J20 -> 0
B21: Vast naar Gebruikersgroep | C21: 28336 | D21: 5245056 | E21: =D21/60 -> 87417.6 | K21: =C21*I21+E21*J21 -> 0
B22: Vast naar overige mobiele nummers | C22: 15452 | D22: 1802776 | E22: =D22/60 -> 30046.267 | K22: =C22*I22+E22*J22 -> 0
B23: Vast naar servicenummers | C23: 36 | D23: 20348 | E23: =D23/60 -> 339.13333 | K23: =C23*I23+E23*J23 -> 0
B24: Vast naar internationale nummers (EU) | C24: 56 | D24: 21520 | E24: =D24/60 -> 358.66667 | K24: =C24*I24+E24*J24 -> 0
B25: Subtotaal | C25: =SUM(C20:C24) -> 65204 | D25: =SUM(D20:D24) -> 14404392 | E25: =SUM(E20:E24) -> 240073.2 | F25: =SUM(F20:F24) -> 0 | G25: =SUM(G20:G24) -> 0 | H25: =SUM(H20:H24) -> 0 | I25: =SUM(I20:I24) -> 0 | J25: =SUM(J20:J24) -> 0 | K25: =SUM(K20:K24) -> 0
B26: Eindtotaal | C26: =C19+C25 -> 448984 | D26: =D19+D25 -> 99009352 | E26: =E19+E25 -> 1650155.9 | F26: =F19+F25 -> 38189812308 | G26: =G19+G25 -> 38189812 | H26: =H19+H25 -> 16216 | I26: =I19+I25 -> 0 | J26: =J19+J25 -> 0 | K26: =K19+K25 -> 0
B29: Jaarlijks belprofiel HR obv 4.592 abonnementen | C29: Aantal gesprekken | D29: Aantal seconden | E29: Aantal minuten | F29: Nr Kbytes | G29: Nr MB | H29: Nr Units | I29: Starttarief | J29: Tarief p/min. | K29: Bedrag excl BTW
A30: Vanf mobiel | B30: Vaste nummers | C30: =C2/1292*(Abonnementen!$B$9+Abonnementen!$B$10) -> 213293.42 | D30: =D2/1292*(Abonnementen!$B$9+Abonnementen!$B$10) -> 49739279 | E30: =E2/1292*(Abonnementen!$B$9+Abonnementen!$B$10) -> 828987.98 | K30: =C30*I30+E30*J30 -> 0
B31: Groepsgesprek mobiel-mobiel | C31: =C3/1292*(Abonnementen!$B$9+Abonnementen!$B$10) -> 205374.71 | D31: =D3/1252*4552 -> 53719228 | E31: =E3/1292*(Abonnementen!$B$9+Abonnementen!$B$10) -> 875225.49 | K31: =C31*I31+E31*J31 -> 0
B32: Groepsgesprek mobiel-vast | C32: =C4/1292*(Abonnementen!$B$9+Abonnementen!$B$10) -> 157592.32 | D32: =D4/1252*4552 -> 9788952.4 | E32: =E4/1292*(Abonnementen!$B$9+Abonnementen!$B$10) -> 159487.41 | K32: =C32*I32+E32*J32 -> 0
B33: Zelfde provider nummers | C33: =C5/1292*(Abonnementen!$B$9+Abonnementen!$B$10) -> 0 | D33: =D5/1252*4552 -> 1585.2013 | E33: =E5/1292*(Abonnementen!$B$9+Abonnementen!$B$10) -> 25.827038 | K33: =C33*I33+E33*J33 -> 0
B34: Overige mobiele nummers | C34: =C6/1292*(Abonnementen!$B$9+Abonnementen!$B$10) -> 734961.68 | D34: =D6/1252*4552 -> 1.8009476e+08 | E34: =E6/1292*(Abonnementen!$B$9+Abonnementen!$B$10) -> 2934210.5 | K34: =C34*I34+E34*J34 -> 0
B35: Servicenummers | C35: =C7/1292*(Abonnementen!$B$9+Abonnementen!$B$10) -> 6696.0743 | D35: =D7/1252*4552 -> 3367622 | E35: =E7/1292*(Abonnementen!$B$9+Abonnementen!$B$10) -> 54867.292 | K35: =C35*I35+E35*J35 -> 0
B36: Klantenservice | C36: =C8/1292*(Abonnementen!$B$9+Abonnementen!$B$10) -> 127.95046 | D36: =D8/1252*4552 -> 78416.562 | E36: =E8/1292*(Abonnementen!$B$9+Abonnementen!$B$10) -> 1277.6091 | K36: =C36*I36+E36*J36 -> 0
B37: Bellen naar het buitenland (EU) | C37: =C9/1292*(Abonnementen!$B$9+Abonnementen!$B$10) -> 7520.644 | D37: =D9/1252*4552 -> 2118236.1 | E37: =E9/1292*(Abonnementen!$B$9+Abonnementen!$B$10) -> 34511.557 | K37: =C37*I37+E37*J37 -> 0
B38: Bellen in het buitenland (EU) | C38: =C10/1292*(Abonnementen!$B$9+Abonnementen!$B$10) -> 26898.031 | D38: =D10/1252*4552 -> 5082780.7 | E38: =E10/1292*(Abonnementen!$B$9+Abonnementen!$B$10) -> 82811.673 | K38: =C38*I38+E38*J38 -> 0
B39: Gebeld worden in het buitenland (EU) | C39: =C11/1292*(Abonnementen!$B$9+Abonnementen!$B$10) -> 11558.192 | D39: =D11/1252*4552 -> 2472390.4 | E39: =E11/1292*(Abonnementen!$B$9+Abonnementen!$B$10) -> 40281.65 | K39: =C39*I39+E39*J39 -> 0
B40: SMS-berichten | H40: =H12/1292*(Abonnementen!$B$9+Abonnementen!$B$10) -> 52815.108 | K40: =H40*I40 -> 0
B41: SMS-diensten | H41: =H13/1292*(Abonnementen!$B$9+Abonnementen!$B$10) -> 71.083591 | K41: =H41*I41 -> 0
B42: Berichten verstuurd in het buitenland (EU) | H42: =H14/1292*(Abonnementen!$B$9+Abonnementen!$B$10) -> 1506.9721 | K42: =H42*I42 -> 0
B43: Berichten verstuurd naar het buitenland (EU) | H43: =H15/1292*(Abonnementen!$B$9+Abonnementen!$B$10) -> 2445.2755 | K43: =H43*I43 -> 0
B44: Diensten mobiel internet | H44: =H16/1292*(Abonnementen!$B$9+Abonnementen!$B$10) -> 796.13622 | K44: =H44*I44 -> 0
B45: Internet | F45: =F17/1292*(Abonnementen!$B$9+Abonnementen!$B$10) -> 1.2511219e+11 | G45: =G17/1292*(Abonnementen!$B$9+Abonnementen!$B$10) -> 1.2511219e+08 | K45: =C45*I45+E45*J45 -> 0
B46: Internet in het buitenland (EU) | F46: =F18/1292*(Abonnementen!$B$9+Abonnementen!$B$10) -> 1.0621261e+10 | G46: =G18/1292*(Abonnementen!$B$9+Abonnementen!$B$10) -> 10621261 | K46: =C46*I46+E46*J46 -> 0
B47: Subtotaal | C47: =SUM(C30:C46) -> 1364023 | D47: =SUM(D30:D46) -> 3.0646325e+08 | E47: =SUM(E30:E46) -> 5011687 | F47: =SUM(F30:F46) -> 1.3573345e+11 | G47: =SUM(G30:G46) -> 1.3573345e+08 | H47: =SUM(H30:H46) -> 57634.576 | I47: =SUM(I30:I46) -> 0 | J47: =SUM(J30:J46) -> 0 | K47: =SUM(K30:K46) -> 0
A48: Vanaf vast | B48: Vast naar vaste nummers | C48: =C20/1292*(Abonnementen!$B$9+Abonnementen!$B$10) -> 75789.325 | D48: =D20/1292*(Abonnementen!$B$9+Abonnementen!$B$10) -> 25997729 | E48: =E20/1292*(Abonnementen!$B$9+Abonnementen!$B$10) -> 433295.48 | K48: =C48*I48+E48*J48 -> 0
B49: Vast naar Gebruikersgroep | C49: =C21/1292*(Abonnementen!$B$9+Abonnementen!$B$10) -> 100711.23 | D49: =D21/1292*(Abonnementen!$B$9+Abonnementen!$B$10) -> 18641871 | E49: =E21/1292*(Abonnementen!$B$9+Abonnementen!$B$10) -> 310697.85 | K49: =C49*I49+E49*J49 -> 0
B50: Vast naar overige mobiele nummers | C50: =C22/1292*(Abonnementen!$B$9+Abonnementen!$B$10) -> 54919.183 | D50: =D22/1292*(Abonnementen!$B$9+Abonnementen!$B$10) -> 6407389.6 | E50: =E22/1292*(Abonnementen!$B$9+Abonnementen!$B$10) -> 106789.83 | K50: =C50*I50+E50*J50 -> 0
B51: Vast naar servicenummers | C51: =C23/1292*(Abonnementen!$B$9+Abonnementen!$B$10) -> 127.95046 | D51: =D23/1292*(Abonnementen!$B$9+Abonnementen!$B$10) -> 72320.446 | E51: =E23/1292*(Abonnementen!$B$9+Abonnementen!$B$10) -> 1205.3408 | K51: =C51*I51+E51*J51 -> 0
B52: Vast naar internationale nummers (EU) | C52: =C24/1292*(Abonnementen!$B$9+Abonnementen!$B$10) -> 199.03406 | D52: =D24/1292*(Abonnementen!$B$9+Abonnementen!$B$10) -> 76485.944 | E52: =E24/1292*(Abonnementen!$B$9+Abonnementen!$B$10) -> 1274.7657 | K52: =C52*I52+E52*J52 -> 0
B53: Subtotaal | C53: =SUM(C48:C52) -> 231746.72 | D53: =SUM(D48:D52) -> 51195796 | E53: =SUM(E48:E52) -> 853263.26 | F53: =SUM(F48:F52) -> 0 | H53: =SUM(H48:H52) -> 0 | I53: =SUM(I48:I52) -> 0 | J53: =SUM(J48:J52) -> 0 | K53: =SUM(K48:K52) -> 0
B54: Eindtotaal | C54: =C47+C53 -> 1595769.8 | D54: =D47+D53 -> 3.5765905e+08 | E54: =E47+E53 -> 5864950.3 | F54: =F47+F53 -> 1.3573345e+11 | H54: =H47+H53 -> 57634.576 | I54: =I47+I53 -> 0 | J54: =J47+J53 -> 0 | K54: =K47+K53 -> 0
